{"text_format":"1","workbook":"xlsx","n_sheets":12,"sheets":["READ ME","1 Geographic Data","2 Soil Texture Calculator","3 Irrigation Schedule","4 Summary","5 How this tool works","Crop Information","Crop Calculation Sheet","General Calculation","Translate","Soil Information-Calculations","Data Validation Sheet"],"not_rendered":{"charts":4,"images":18,"macros":1,"external_links":1,"defined_names":19,"comments":2,"pivot_tables":0},"unopened":[],"bounds":{"document_bytes":16777216,"sheet_cells":100000,"rows_first":2000,"rows_last":500,"rows_between":2000,"halvings":0,"cell_chars":16384,"cell_head_chars":4096},"cells_cut":0,"cells_raw":0,"read":"whole","date_system":"1900"}

{"sheet":"READ ME","index":0,"n_rows":105,"n_cols":7,"rows_kept":105,"cut":false,"hidden":false,"merged":[[81,3,94,9],[96,3,102,9],[104,3,104,5],[62,3,62,4],[62,5,62,9],[63,3,65,4],[63,5,64,9],[65,5,65,7],[66,3,66,4],[66,5,66,7],[59,3,60,4],[59,5,60,9],[61,3,61,4],[61,5,61,7],[68,3,79,9],[57,3,57,9],[46,3,48,5],[46,6,48,9],[58,3,58,4],[58,5,58,6],[55,3,55,9],[10,3,10,5],[10,6,10,8],[36,3,37,5],[36,6,37,9],[40,6,43,9],[40,3,43,5],[12,3,12,9],[17,3,17,9],[19,3,19,9],[26,3,26,9],[33,3,33,9],[24,3,24,9],[20,3,23,9],[38,3,39,5],[38,6,39,9],[27,3,27,9],[28,3,28,9],[29,3,29,9],[30,3,30,9],[31,3,31,9],[52,3,54,9],[44,6,45,9],[44,3,45,5],[49,3,50,5],[49,6,50,9]]}
[]
[]
[]
[]
[]
[]
[]
[]
[]
[]
[null,null,null,{"$f":"Translate!$C$21","v":"Select language"},null,null,"English"]
[]
[null,null,null,{"$f":"Translate!$C$22","v":"Read Me Sheet"}]
[]
[]
[]
[]
[null,null,null,{"$f":"Translate!$C$23","v":"IRRIGATE – Soil Tool"}]
[]
[null,null,null,{"$f":"Translate!$C$24","v":"Introduction"}]
[null,null,null,{"$f":"Translate!$C$25","v":"This tool serves to determine your soil profile and to find an irrigation schedule for a selected crop. \nIt complements the \"SAFEGUARD WATER – Water Requirement Tool\". A further complimentary tool is available under: "}]
[]
[]
[]
[null,null,null,"http://www.fao.org/nr/water/aquastat/climateinfotool/index.stm"]
[]
[null,null,null,{"$f":"Translate!$C$26","v":"Tips & Tricks"}]
[null,null,null,{"$f":"Translate!$C27","v":"● Make sure that macro is always enabled for the proper functioning of this tool  "}]
[null,null,null,{"$f":"Translate!$C28","v":"● Only enter values into white cells"}]
[null,null,null,{"$f":"Translate!$C29","v":"● This tool comprises drop down lists and macros to simplify data entry and results review."}]
[null,null,null,{"$f":"Translate!$C30","v":"● For the multilanguage option to work properly, do NOT delete sheets"}]
[null,null,null,{"$f":"Translate!$C31","v":"● Make sure that this file is always saved as \".xlsm\"    \n"}]
[]
[null,null,null,{"$f":"Translate!$C$32","v":"Overview"}]
[null,null,null,{"$f":"Translate!$C$33","v":"This tool comprises the following sheet:"}]
[]
[null,null,null,{"$f":"Translate!$C$8","v":"1 Geographic Data"},null,null,{"$f":"Translate!$C$34","v":"for adding basic site information and entering climatic data"}]
[]
[null,null,null,{"$f":"Translate!$C$9","v":"2 Soil Texture Calculator"},null,null,{"$f":"Translate!$C$35","v":"for calculation of your soil type"}]
[]
[null,null,null,{"$f":"Translate!$C$10","v":"3 Irrigation Schedule"},null,null,{"$f":"Translate!$C$36","v":"for selecting a crop and planting period; for automatic calculation of water requirement for a single crop; for calculation of an irrigation schedule"}]
[]
[]
[]
[null,null,null,{"$f":"Translate!$C$11","v":"4 Summary"},null,null,{"$f":"Translate!$C$37","v":"Summary of ourputs for irrigation quantity, frequency and water storage requirements"}]
[]
[null,null,null,{"$f":"Translate!$C$12","v":"5 How this tool works"},null,null,{"$f":"Translate!$C$38","v":"for understanding the way this tool works and on which data it is based on"}]
[]
[]
[null,null,null,{"$f":"Translate!$C$13","v":"Crop Information"},null,null,{"$f":"Translate!$C$39","v":"for adjusting and adding the necessary crops information"}]
[]
[]
[null,null,null,{"$f":"Translate!$C$40","v":"This tool is based on the FAO Irrigation and Drainage Paper No. 56. Crop Evapotranspiration (guidelines for computing crop water requirements), available at:"}]
[]
[]
[null,null,null,"http://www.fao.org/3/x0490e/x0490e00.htm"]
[]
[null,null,null,{"$f":"Translate!$C$41","v":"About"}]
[null,null,null,{"$f":"Translate!$C$42","v":"Published by: "},null,{"$f":"Translate!$C$48","v":"GIZ & FAO"}]
[null,null,null,{"$f":"Translate!$C$43","v":"Resposible:"},null,{"$f":"Translate!$C$49","v":"GIZ project Sustainable Energy for Food - Powering Agriculture"}]
[]
[null,null,null,{"$f":"Translate!$C$44","v":"Contact:"},null,"Powering.Agriculture@giz.de"]
[null,null,null,{"$f":"Translate!$C$45","v":"Download link:"},null,"https://energypedia.info/wiki/Toolbox_on_SPIS"]
[null,null,null,{"$f":"Translate!$C$46","v":"About:"},null,{"$f":"Translate!$C$50","v":"Powering Agriculture: An Energy Grand Challenge for Development. Available at:  "}]
[]
[null,null,null,null,null,"https://poweringag.org"]
[null,null,null,{"$f":"Translate!$C$47","v":"Version:"},null,{"$f":"Translate!$C$51","v":" 2.0 (July 2020)"}]
[]
[null,null,null,{"$f":"Translate!$C$52","v":"The Toolbox on Solar Powered Irrigation Systems is made possible through the global initiative Powering Agriculture: An Energy Grand Challenge for Development (PAEGC). In 2012, the United States Agency for International Development (USAID), the Swedish International Development Cooperation Agency (Sida), the German Federal Ministry for Economic Cooperation and Development (BMZ), Duke Energy, and the Overseas Private Investment Cooperation (OPIC) combined resources to create the PAEGC initiative. The objective of PAEGC is to support new and sustainable approaches to accelerate the development and deployment of clean energy solutions for increasing agriculture productivity and/or value for farmers and agribusinesses in developing countries and emerging regions that lack access to reliable, affordable clean energy."}]
[]
[]
[]
[]
[]
[]
[]
[]
[]
[]
[]
[]
[null,null,null,{"$f":"Translate!$C$53","v":"The designations employed and the presentation of material in this information product do not imply the expression of any opinion whatsoever on the part of Deutsche Gesellschaft für Internationale Zusammenarbeit (GIZ) GmbH, Food and Agriculture Organization of the United Nations (FAO) or any of the PAEGC Founding Partners concerning the legal or development status of any country, territory, city or area or of its authorities, or concerning the delimitation of its frontiers or boundaries. The mention of specific companies or products of manufacturers, whether or not these have been patented, does not imply that these have been endorsed or recommended by GIZ, FAO, or any of the PAEGC Founding Partners in preference to others of a similar nature that are not mentioned. The views expressed in this information product are those of the author and do not necessarily reflect the views or policies of GIZ, FAO, or any of the PAEGC Founding Partners."}]
[]
[]
[]
[]
[]
[]
[]
[]
[]
[]
[]
[]
[]
[]
[null,null,null,{"$f":"Translate!$C$54","v":"GIZ, FAO and the PAEGC Founding Partners encourage the use, reproduction and dissemination of material in this information product. Except where otherwise indicated, material may be copied, downloaded and printed for private study, research and teaching purposes, or for use in non-commercial products or services, provided that appropriate acknowledgement of GIZ and FAO as the source and copyright holder is given."}]
[]
[]
[]
[]
[]
[]
[]
[null,null,null,{"$f":"Translate!$C$55","v":"© GIZ and FAO, 2020"}]

{"sheet":"1 Geographic Data","index":1,"n_rows":56,"n_cols":13,"rows_kept":56,"cut":false,"hidden":false,"merged":[[0,0,0,13],[3,0,4,13],[7,1,7,3],[1,0,1,13],[6,6,6,8],[7,6,7,8],[55,0,55,1],[10,1,10,3],[11,1,11,3],[12,1,12,3],[6,1,6,3],[9,1,9,8],[30,0,30,3],[30,4,30,6],[30,7,30,10],[35,4,35,6],[36,3,36,4],[37,3,37,4],[55,2,55,4]]}
["IRRIGATE – Soil Tool"]
["Enter basic rainfall and climatic data for your location."]
[]
["1 GENERAL GEOGRAPHIC INFORMATION"]
[]
[]
["Country","Kenya",null,null,null,"Region"]
["Farm code/name",null,null,null,null,"Date"]
[]
["Name of the farm","Mary"]
["Village"]
["Division"]
["District"]
[]
[]
["Select available climatic data: ¸"]
["Option 1:  "]
["Option 2:  "]
["Option 3:  "]
["Option 4:  "]
[]
[null,{"$f":"TRANSPOSE(Translate!$C$57:$C$68)","v":"January"},"February","March","April","May","June","July","August","September","October","November","December"]
["Mean daily temperature [°C]",25.5,25,24.6,23.8,23.9,23.5,23,23,23.6,23.9,23.6,24]
["Maximum daily temperature [°C]"]
["Minimum daily temperature [°C]"]
["Relative humidity [%]"]
["Wind speed [m/s]"]
["Sunshine [hours]"]
["Reference evapotranspiration [mm/day]"]
["Rainfall [mm/month]",45,33,69.3,142.80000000000001,109.8,38.1,27,21.6,18.3,48.3,97.2,86.1]
["Use to obtain indicative monthly rainfall and climatic data for the site:",null,null,null,"http://www.worldclimate.com",null,null,"http://www.weatherbase.com/"]
[]
[]
["Select geographic location:"]
[null,"Altitude:",null," meter"]
[null,null,null,null,"Hemisphere:"]
[null,"Latitude:",3.33," decimal degree",null,"North"]
[null,"Longitude:",38.549999999999997," decimal degree",null,"East"]
[]
[null,null,null,null,null,null,null,null,"Notes:"]
[]
[]
[]
[]
[]
[]
[]
[]
[]
[]
[]
[]
[]
[]
[]
["Use to identify exact coordinates of the site:",null,"https://www.google.de/maps"]

{"sheet":"2 Soil Texture Calculator","index":2,"n_rows":47,"n_cols":16,"rows_kept":47,"cut":false,"hidden":false,"merged":[[46,12,46,15],[15,1,15,3],[20,1,20,3],[3,0,4,17],[38,1,39,8],[41,1,42,8],[20,4,20,6],[0,0,0,18],[1,0,1,18],[9,1,9,3],[12,1,12,3],[5,13,5,14],[5,15,5,18],[10,6,13,8]]}
["IRRIGATE – Soil Tool"]
["Put in values to determine your soil type"]
[]
["2 TEXTURE CALCULATOR"]
[]
[null,null,null,null,null,null,null,null,null,null,null,null,null,"Farm code/name:",null,{"$f":"'1 Geographic Data'!$B$10","v":"Mary"}]
[]
[]
[]
[null,"Percentage of sand:",null,null,0.15]
[null,null,null,null,null,null,{"$f":"IF(E10+E13>1,\"Please ensure your inputs (percentage of sand, clay, and silt) add up to 100%\",\"\")","v":""}]
[]
[null,"Percentage of clay:",null,null,0.25]
[]
[]
[null,"Percentage of silt:",null,null,{"$f":"IF(1-E10-E13<0,\"\",1-E10-E13)","v":0.6}]
[]
[]
[]
[]
[null,"Soil Texture:",null,null,{"$f":"IFERROR(IF(E10+E13>1,\"\",VLOOKUP(TRUE,'Soil Information-Calculations'!$D$4:$E$15,2,FALSE)),\"Could not determine soil texture\")","v":"SILT LOAM"}]
[]
[]
[]
[]
[]
[]
[]
[null,{"$f":"IFERROR(VLOOKUP(E21,#REF!,1,FALSE) & \" - Characteristics:\",\"\")","v":""}]
[]
[null,null,"Field Capacity (FC):",null,null,{"$f":"IFERROR(VLOOKUP(E21,'Soil Information-Calculations'!$B$23:$D$34,2,FALSE),\"\")","v":31}]
[]
[null,null,"Permanent Wilting Point (PWP):",null,null,{"$f":"IFERROR(VLOOKUP($E$21,'Soil Information-Calculations'!$B$23:$D$34,3,FALSE),\"\")","v":11}]
[]
[]
[]
[null,"Definitions:"]
[]
[null,"Field Capacity is the amount of soil moisture or water content held in the soil after excess water has drained "]
[]
[]
[null,"Permanent wilting point is the minimal point of soil moisture the plant requires not to wilt."]
[]
[]
[]
[]
[null,null,null,null,null,null,null,null,null,null,"Calculator adapted from : ",null,"United States Department of Agriculture"]

{"sheet":"3 Irrigation Schedule","index":3,"n_rows":42,"n_cols":21,"rows_kept":42,"cut":false,"hidden":false,"merged":[[24,19,24,20],[16,8,16,10],[16,11,16,12],[16,13,16,16],[13,1,14,2],[15,19,16,20],[0,0,0,17],[3,0,4,17],[1,0,1,17],[12,1,12,2],[11,1,11,2],[7,5,7,6],[5,8,5,11],[5,13,5,14],[5,15,5,18],[6,4,6,6],[41,1,41,2],[23,0,33,0],[35,12,35,14],[35,2,35,4],[17,1,17,2],[18,8,18,10],[35,5,35,7],[35,9,35,10],[38,1,38,2],[39,1,39,2],[15,0,20,0],[18,1,18,2],[16,4,17,4],[16,6,16,7]]}
["IRRIGATE – Soil Tool"]
["Select crop intended for planting at your location, for automatic indication of water requirements"]
[]
["3 IRRIGATION SCHEDULE"]
[]
[null,null,null,null,null,null,null,null,null,null,null,null,null,"Farm code/name:",null,{"$f":"'1 Geographic Data'!$B$10","v":"Mary"}]
[null,null,null,null,"Conversion factor to 1 ha:"]
[null,"Area measurement unit: ","acre",null,{"$f":"INDEX('Data Validation Sheet'!C1:$C$6,MATCH($C$8,'Data Validation Sheet'!$B$1:$B$6,0))","v":2.47105},{"$f":"C8&\"      =      1  hectar\"","v":"acre      =      1  hectar"}]
[]
[]
[null,null,null,{"$f":"'General Calculation'!D132","v":"March"},{"$f":"'General Calculation'!E132","v":"April"},{"$f":"'General Calculation'!F132","v":"May"},{"$f":"'General Calculation'!G132","v":"June"},{"$f":"'General Calculation'!H132","v":"July"},{"$f":"'General Calculation'!I132","v":"August"},{"$f":"'General Calculation'!J132","v":"September"},{"$f":"'General Calculation'!K132","v":"October"},{"$f":"'General Calculation'!L132","v":"November"},{"$f":"'General Calculation'!M132","v":"December"},{"$f":"'General Calculation'!N132","v":"January"},{"$f":"'General Calculation'!O132","v":"February"}]
[null,{"$f":"'1 Geographic Data'!A23","v":"Mean daily temperature [°C]"},null,{"$f":"'General Calculation'!D126","v":24.6},{"$f":"'General Calculation'!E126","v":23.8},{"$f":"'General Calculation'!F126","v":23.9},{"$f":"'General Calculation'!G126","v":23.5},{"$f":"'General Calculation'!H126","v":23},{"$f":"'General Calculation'!I126","v":23},{"$f":"'General Calculation'!J126","v":23.6},{"$f":"'General Calculation'!K126","v":23.9},{"$f":"'General Calculation'!L126","v":23.6},{"$f":"'General Calculation'!M126","v":24},{"$f":"'General Calculation'!N126","v":25.5},{"$f":"'General Calculation'!O126","v":25},"° C","Above average temperature"]
[null,{"$f":"'1 Geographic Data'!A30","v":"Rainfall [mm/month]"},null,{"$f":"'General Calculation'!D127","v":69.3},{"$f":"'General Calculation'!E127","v":142.80000000000001},{"$f":"'General Calculation'!F127","v":109.8},{"$f":"'General Calculation'!G127","v":38.1},{"$f":"'General Calculation'!H127","v":27},{"$f":"'General Calculation'!I127","v":21.6},{"$f":"'General Calculation'!J127","v":18.3},{"$f":"'General Calculation'!K127","v":48.3},{"$f":"'General Calculation'!L127","v":97.2},{"$f":"'General Calculation'!M127","v":86.1},{"$f":"'General Calculation'!N127","v":45},{"$f":"'General Calculation'!O127","v":33},"mm/month","Above average rainfall"]
[null,{"$f":"'Crop Calculation Sheet'!$H$17 & \"Crop Water Need [mm/month] \"","v":"Maize Crop Water Need [mm/month] "},null,{"$f":"'General Calculation'!D133","v":44.444444444444443},{"$f":"'General Calculation'!E133","v":111.11111111111113},{"$f":"'General Calculation'!F133","v":222.22222222222226},{"$f":"'General Calculation'!G133","v":188.88888888888891},{"$f":"'General Calculation'!H133","v":77.777777777777786},{"$f":"'General Calculation'!I133","v":0},{"$f":"'General Calculation'!J133","v":0},{"$f":"'General Calculation'!K133","v":0},{"$f":"'General Calculation'!L133","v":0},{"$f":"'General Calculation'!M133","v":0},{"$f":"'General Calculation'!N133","v":0},{"$f":"'General Calculation'!O133","v":0},"mm/month"]
[]
["Estimation of crop uptake",null,null,null,null,null,null,null,null,null,null,null,null,null,null,null,null,null,null,"Indicative values for application depths of the various irrigation methods"]
[null,"Crop to be irrigated   ",null,null,{"$f":"\"Area in \"&C8","v":"Area in acre"},null,"Planting date",null,"Irrigation method",null,null,"Irrigation Efficiency",null," Maximum possible irrigation applicatiom "]
[null,null,null,null,null,null,{"$f":"TODAY()","v":"2020-08-04"},null,null,null,null,null,null,null,null,null,null,null,null,"Irrigation method","Application Depth (mm)"]
[null,"Maize (grain - Oct - India (dry, cool))",null,null,1,null,"2020-03-15",null,"Microirrigation: Drip irrigation",null,null,null,{"$f":"IFERROR(VLOOKUP($I$19,'General Calculation'!$B$142:$C$159,2,FALSE)/100,\"\")","v":0.9},null,null,10,"mm",null,null,"Small basins (<200 m2)","40 - 80"]
[null,null,null,null,null,null,null,null,null,null,null,null,null,null,null,null,null,null,null,"Large basins (>500 m2)","80 - 150 "]
[null,null,null,null,null,null,null,null,null,null,null,null,null,null,null,null,null,null,null,"Furrows","30 - 60"]
[null,null,null,null,null,null,null,null,null,null,null,null,null,null,null,null,null,null,null,"Borders","40 - 80 "]
[null,null,null,null,null,null,null,null,null,null,null,null,null,null,null,null,null,null,null,"Sprinkler","30 - 60 "]
["Estimation of soil reservoir",null,null,null,null,null,null,null,null,null,null,null,null,null,null,null,null,null,null,"Drip","10 - 20 "]
[null,"Soil: ","Clay loam",null,null,null,null,null,null,null,null,null,null,null,null,null,null,null,null,"http://www.fao.org/tempref/agl/AGLW/Morini/07_IRRIGATION.pdf"]
[]
[null,"Initial water content (% TAW): ",0.5]
[]
[null,"Field Capacity (FC): ",{"$f":"IFERROR(VLOOKUP($C$25,'Soil Information-Calculations'!$B$23:$D$34,2,FALSE),\"\")","v":36}]
[]
[null,"Permanent Wilting Point (PWP): ",{"$f":"IFERROR(VLOOKUP($C$25,'Soil Information-Calculations'!$B$23:$D$34,3,FALSE),\"\")","v":22}]
[]
[null,"Maximum rooting depth [m]: ",{"$f":"'Crop Calculation Sheet'!$M$28","v":1}]
[]
[]
[null,null,"Irrigation Schedule for",null,null,{"$f":"'Crop Calculation Sheet'!$H$17","v":"Maize "},null,null,"in a",{"$f":"C25","v":"Clay loam"},null,"in",{"$f":"'1 Geographic Data'!$B$7","v":"Kenya"}]
[]
[null,null,null,{"$f":"D11","v":"March"},{"$f":"E11","v":"April"},"May","June","July","August","September","October","November","December","January","February"]
[null,"Irrigation amount (m³):  ",null,{"$f":"'General Calculation'!D134","v":179.86056309845793},{"$f":"'General Calculation'!E134","v":449.65140774614486},{"$f":"'General Calculation'!F134","v":899.30281549228971},{"$f":"'General Calculation'!G134","v":764.40739316844622},{"$f":"'General Calculation'!H134","v":314.75598542230136},{"$f":"'General Calculation'!I134","v":0},{"$f":"'General Calculation'!J134","v":0},{"$f":"'General Calculation'!K134","v":0},{"$f":"'General Calculation'!L134","v":0},{"$f":"'General Calculation'!M134","v":0},{"$f":"'General Calculation'!N134","v":0},{"$f":"'General Calculation'!O134","v":0}]
[null,"Number of irrigation events (number of days):  ",null,{"$f":"'General Calculation'!D137","v":4},{"$f":"'General Calculation'!E137","v":10},{"$f":"'General Calculation'!F137","v":20},{"$f":"'General Calculation'!G137","v":17},{"$f":"'General Calculation'!H137","v":7},{"$f":"'General Calculation'!I137","v":0},{"$f":"'General Calculation'!J137","v":0},{"$f":"'General Calculation'!K137","v":0},{"$f":"'General Calculation'!L137","v":0},{"$f":"'General Calculation'!M137","v":0},{"$f":"'General Calculation'!N137","v":0},{"$f":"'General Calculation'!O137","v":0}]
[]
[null,"Minimum water storage reservoir capacity for an irrigation event [m³]:",null,{"$f":"'General Calculation'!D136","v":44.965140774614483},{"$f":"'General Calculation'!E136","v":44.965140774614483},{"$f":"'General Calculation'!F136","v":44.965140774614483},{"$f":"'General Calculation'!G136","v":44.965140774614483},{"$f":"'General Calculation'!H136","v":44.965140774614483},{"$f":"'General Calculation'!I136","v":0},{"$f":"'General Calculation'!J136","v":0},{"$f":"'General Calculation'!K136","v":0},{"$f":"'General Calculation'!L136","v":0},{"$f":"'General Calculation'!M136","v":0},{"$f":"'General Calculation'!N136","v":0},{"$f":"'General Calculation'!O136","v":0}]

{"sheet":"4 Summary","index":4,"n_rows":18,"n_cols":16,"rows_kept":18,"cut":false,"hidden":false,"merged":[[7,3,7,4],[8,3,8,4],[9,3,9,4],[9,5,9,9],[17,1,17,8],[8,5,8,9],[7,5,7,9],[14,1,15,2],[11,7,11,8],[13,1,13,3],[0,0,0,17],[1,0,1,17],[3,0,4,17],[5,12,5,13],[5,14,5,17]]}
["IRRIGATE – Soil Tool"]
["Summary Sheet of Crop Water Requirements and Livestock Water Requirements"]
[]
["4 Summary for Irrigation Requirements"]
[]
[null,null,null,null,null,null,null,null,null,null,null,null,"Farm code/name:",null,{"$f":"'1 Geographic Data'!$B$10","v":"Mary"}]
[]
[null,"Soil type:",null,{"$f":"'2 Soil Texture Calculator'!E21","v":"SILT LOAM"},null,"from Soil Texture Calculator sheet"]
[null,"Selected soil type:",null,{"$f":"'3 Irrigation Schedule'!C25","v":"Clay loam"},null,"from Irrigation Schedule sheet"]
[null,"Crop root depth:",null,{"$f":"'3 Irrigation Schedule'!C33","v":1},null,"from Irrigation Schedule sheet"]
[]
[null,"Irrigation quantity and number of irrigation events:",null,null,null,null,null,{"$f":"\"Area in \" & '3 Irrigation Schedule'!$C$8 &\": \"","v":"Area in acre: "},null,{"$f":"'3 Irrigation Schedule'!$E$19","v":1}]
[]
[null,"Crop",null,null,{"$f":"'3 Irrigation Schedule'!D38","v":"March"},{"$f":"'3 Irrigation Schedule'!E38","v":"April"},{"$f":"'3 Irrigation Schedule'!F38","v":"May"},{"$f":"'3 Irrigation Schedule'!G38","v":"June"},{"$f":"'3 Irrigation Schedule'!H38","v":"July"},{"$f":"'3 Irrigation Schedule'!I38","v":"August"},{"$f":"'3 Irrigation Schedule'!J38","v":"September"},{"$f":"'3 Irrigation Schedule'!K38","v":"October"},{"$f":"'3 Irrigation Schedule'!L38","v":"November"},{"$f":"'3 Irrigation Schedule'!M38","v":"December"},{"$f":"'3 Irrigation Schedule'!N38","v":"January"},{"$f":"'3 Irrigation Schedule'!O38","v":"February"}]
[null,{"$f":"'Crop Calculation Sheet'!$H$17","v":"Maize "},null,"m3/month",{"$f":"'3 Irrigation Schedule'!D39","v":179.86056309845793},{"$f":"'3 Irrigation Schedule'!E39","v":449.65140774614486},{"$f":"'3 Irrigation Schedule'!F39","v":899.30281549228971},{"$f":"'3 Irrigation Schedule'!G39","v":764.40739316844622},{"$f":"'3 Irrigation Schedule'!H39","v":314.75598542230136},{"$f":"'3 Irrigation Schedule'!I39","v":0},{"$f":"'3 Irrigation Schedule'!J39","v":0},{"$f":"'3 Irrigation Schedule'!K39","v":0},{"$f":"'3 Irrigation Schedule'!L39","v":0},{"$f":"'3 Irrigation Schedule'!M39","v":0},{"$f":"'3 Irrigation Schedule'!N39","v":0},{"$f":"'3 Irrigation Schedule'!O39","v":0}]
[null,null,null,"№ of events",{"$f":"'3 Irrigation Schedule'!D40","v":4},{"$f":"'3 Irrigation Schedule'!E40","v":10},{"$f":"'3 Irrigation Schedule'!F40","v":20},{"$f":"'3 Irrigation Schedule'!G40","v":17},{"$f":"'3 Irrigation Schedule'!H40","v":7},{"$f":"'3 Irrigation Schedule'!I40","v":0},{"$f":"'3 Irrigation Schedule'!J40","v":0},{"$f":"'3 Irrigation Schedule'!K40","v":0},{"$f":"'3 Irrigation Schedule'!L40","v":0},{"$f":"'3 Irrigation Schedule'!M40","v":0},{"$f":"'3 Irrigation Schedule'!N40","v":0},{"$f":"'3 Irrigation Schedule'!O40","v":0}]
[]
[null," Required water storage reservoir capacity for an irrigation event:",null,null,null,null,null,null,null,{"$f":"MAX('3 Irrigation Schedule'!D42:O42)","v":44.965140774614483},"m3"]

{"sheet":"5 How this tool works","index":5,"n_rows":157,"n_cols":45,"rows_kept":157,"cut":false,"hidden":false,"merged":[[62,3,63,51],[0,0,1,52],[101,36,101,50],[20,6,20,15],[21,6,21,10],[21,11,21,15]]}
["How the Soil Tool works"]
[]
[]
[null,null,null,null,null,null,null,null,null,"This tool is based on the Water Requirement Tool. To understand how the water requirement is calculated, please check the  Water Requirement Tool. "]
[]
[null,null,"Overview "]
[]
[null,null,null,null,null,1,null,"The soil type"]
[null,null,null,null,null,2,null,"Determination the soil type"]
[null,null,null,null,null,"3",null,"Calculation of the irrigation schedule"]
[]
[]
[]
[1,null,"The soil type"]
[]
[]
[null,null,null,"The soil type is an important factor in determining how fast and how often irrigation should be scheduled."]
[null,null,null,"Like a sponge, the soil absorbs and holds water, depending on the percentage of the three main components: "]
[]
[null,null,null,null,"Sand"]
[null,null,null,null,"Silt "]
[null,null,null,null,"Clay"]
[]
[null,null,null,"With different percentages of the main components, the soil type changes it's bevavior, as shown in table 2. "]
[]
[]
[]
[null,null,null,null,null,null,null,null,null,null,null,null,null,null,null,null,null,null,null,null,null,null,null,null,null,null,null,null,null,null,null,null,null,null,"Figure 1: Water distribution in different soil types"]
[]
[]
[]
[null,null,null,"Name of the particle",null,null,null,null,null,null,"Size limit in mm",null,null,null,null,null,"Distinguisable with the naked eye"]
[]
[null,null,null,"gravel",null,null,null,null,null,null,"larger than 1",null,null,null,null,null,"obviously"]
[null,null,null,"sand",null,null,null,null,null,null,"1 to 0.5",null,null,null,null,null,"easily"]
[null,null,null,"silt",null,null,null,null,null,null,"0.5 to 0.002",null,null,null,null,null,"barely"]
[null,null,null,"clay",null,null,null,null,null,null,"less than 0.002",null,null,null,null,null,"impossible"]
[]
[null,null,null,"Table 1: Classification of mineral particles, from: ",null,null,null,null,null,null,null,null,null,null,null,"FAO"]
[]
[]
[]
[]
[]
[]
[]
[]
[null,null,null,null,null,null,null,null,null,null,null,null,null,null,null,null,null,null,null,null,null,null,null,null,null,null,null,null,"Table 2: Characteristics of the different soil components, from:",null,null,null,null,null,null,null,null,null,null,null,null,null,null,null,"Michigan State University"]
[]
[]
[]
[]
[]
[]
[]
[]
[]
[]
[]
[2,null,"Determination of the soil type"]
[]
[]
[null,null,null,"The soil type can be determined in the laboratory using a particle size analysis. Sand, silt and clay have different diameters, by sieving them their distribution delivers information about the soil type. "]
[]
[null,null,null,"Another way to determine the soil type is the \"Jar Test\": "]
[null,null,null,1,"Remove soil from the zone to be irrigated"]
[null,null,null,2,"Place the soil sample into the jar and fill it with water"]
[null,null,null,3,"Shake the jar and let it sit for two hours, the particles will settle to the bottom, in their different layers"]
[null,null,null,4,"Measure the total height of all layers, than the height of each layer. "]
[null,null,null,5,"Divide the height of each layer by the total height which gives you the percentage of clay, silt and sand. "]
[]
[]
[null,null,null,"Putting in the obtained percentages of clay, silt and sand, soil texture triangles as seen in Figure 3 show the type of soil you have. "]
[]
[]
[]
[]
[]
[null,null,null,null,null,null,null,null,null,null,null,null,null,null,null,null,null,null,null,null,null,null,null,null,null,null,null,null,null,null,null,null,null,null,null,null,null,null,null,"Figure 2: the Jar Test"]
[]
[]
[]
[]
[]
[]
[]
[]
[]
[]
[]
[]
[]
[]
[]
[]
[null,null,null,null,null,null,null,null,"Figure 3: The Soil Texture Triangle from:",null,null,null,null,null,null,null,null,null,null,"United States Department of Agriculture"]
[]
[]
[]
[3,null,"Calculation of the irrigation schedule"]
[null,"This calculation is based on  the FAO Irrigation and Drainage Paper. No. 56. Crop Evapotranspiration (guidelines for computing crop water requirements), available at:"]
[null,null,null,null,null,null,null,null,null,null,null,null,null,null,null,null,null,null,null,null,null,null,null,null,null,null,null,null,null,null,null,null,null,null,null,null,"http://www.fao.org/docrep/t7202e/t7202e00.htm"]
[]
[]
[]
[]
[]
[]
[]
[]
[]
[]
[]
[]
[null,null,null,"Soil water balance is estimated on a daily basis using the following steps:",null,null,null,null,null,null,null,null,null,null,null,null,null,null,null,null,null,null,null,null,null,null,null,null,null,null,null,null,null,null,null,"Figure 4: Soil water balance components"]
[]
[null,null,null,null,1,"Calculate daily reference evapotranspiration"]
[null,null,null,null,2,"Calculate total available water (TAW) in the root zone considering FC, PWP ad the rooting depth"]
[null,null,null,null,3,"Calculate Readily available water considering the depletion factor;"]
[]
[]
[]
[]
[]
[]
[]
[]
[]
[]
[]
[]
[null,null,null,null,null,null,null,"Table 2: Example for ranges of maximum effective rooting depth and soil water depletion fraction for no stress"]
[]
[null,null,null,null,4,"Calculate water stress coefficient by:"]
[null,null,null,null,5,"Calculate daily soil water balance "]
[null,null,null,null,null,"*","estimating daily root zone depletion "]
[null,null,null,null,null,"*","when the depletion exceeds a certain threshold, it is time to irrigate"]
[null,null,null,null,null,"*","if the maximum possible irrigation method application is lower than RAW, then the threshold is the maximum application for the irrigation system"]
[null,null,null,null,null,"*","else if the maximum possible irrigation method application is greater than RAW, then the threshold is RAW"]
[null,null,null,null,null,"*","these consideration thus, allow irrigation considering the capacity of the irrigation system and avoid at the same time water stress"]
[]
[]
[]
[]
[]
[]
[]
[]
[]
[null,null,null,null,null,null,null,null,null,null,null,null,null,null,null,null,null,null,null,null,null,null,null,"Figure 5: Soil water balance"]
[]
[]
[]
[]
[]
[null,null,null,null,6,"The amount of irrigation water and the irrigation day are determined for the entire crop growth period."]
[null,null,null,null,7,"water storage size is determined by taking into account the greatest amount of water for an irrigation event."]

{"sheet":"Crop Information","index":6,"n_rows":216,"n_cols":14,"rows_kept":216,"cut":false,"hidden":false,"merged":[[4,3,4,7],[4,8,4,10],[4,11,4,12],[4,13,5,13],[1,10,1,12]]}
[]
[null,"This data is based on the FAO Irrigation and Drainage Paper. No. 56. Crop Evapotranspiration (guidelines for computing crop water requirements), available at:",null,null,null,null,null,null,null,null,"http://www.fao.org/3/x0490e/x0490e00.htm"]
[]
[]
[null,null,null,"Crop Growing Period",null,null,null,null,"Crop Factor of the development stages",null,null,"Maximum Root Depth",null,"Depletion Fraction"]
[null,"Crop","#","Initial stage","Crop Development stage","Mid season stage","Late season stage","Total","Initial stage","Mid season stage","Late season stage","Initial","Maximum"]
[null,"none",1]
[null,"Alfalfa (1st cutting cycle - Jan/Apr - USA)",2,10,25,23,10,{"$f":"SUM(D8:G8)","v":68},0.4,1.1000000000000001,1,1.2,1.2,0.55000000000000004]
[null,"Alfalfa (other cutting cycle - Mar/Jun - USA)",3,5,15,10,8,{"$f":"SUM(D9:G9)","v":38},0.4,1.1000000000000001,1,1.2,1.2,0.55000000000000004]
[null,"Alfalfa (seeds - Mar/Jun - USA)",4,5,15,10,8,38,0.4,0.5,0.5,1.2,1.2,0.6]
[null,"Almond (no ground cover - Apr - USA)",5,20,10,130,30,190,0.4,0.9,0.65,1.5,1.5,0.5]
[null,"Artichoke (1st year - Apr - California) ",6,40,40,250,30,360,0.5,1,0.95,0.25,0.9,0.45]
[null,"Artichoke (2nd year - May - cut in May) ",7,20,25,250,30,325,0.5,1,0.95,0.9,0.9,0.45]
[null,"Asparagus (Feb - warm winter)",8,50,30,100,50,230,0.5,0.95,0.3,0.25,1.5,0.45]
[null,"Asparagus (Feb - Mediterranean)",9,90,30,200,45,365,0.5,0.95,0.3,0.25,1.5,0.45]
[null,"Avocado (Jan - Florida, USA)",10,60,60,120,120,360,0.7,0.98,0.7,0.25,1,0.7]
[null,"Banana (1st year - Mar - Mediterranean)",11,120,90,120,60,390,0.5,1.1000000000000001,1,0.3,0.9,0.45]
[null,"Banana (1st year - Mar - subtropical/humid/light to moderate wind)",12,120,90,120,60,390,0.60000000000000009,1,0.8,0.3,0.9,0.45]
[null,"Banana (1st year - Mar - subtropical/tropical)",13,90,165,45,30,330,0.5,1.1000000000000001,1,0.3,0.9,0.45]
[null,"Banana (2nd year - Mar - Mediterranean)",14,120,60,180,5,365,1,1.2,1.1000000000000001,0.9,0.9,0.45]
[null,"Banana (2nd year - Feb - subtropical/tropical)",15,60,60,75,45,240,1,1.2,1.1000000000000001,0.9,0.9,0.45]
[null,"Barley/Oats/Wheat (Nov - central India)",16,15,25,50,30,120,0.3,1.1499999999999999,0.25,0.3,1.1000000000000001,0.55000000000000004]
[null,"Barley/Oats/Wheat (Mar/Apr - 35/45 °L))",17,20,25,60,30,135,0.3,1.1499999999999999,0.25,0.3,1.1000000000000001,0.55000000000000004]
[null,"Barley/Oats/Wheat (Jul - East Africa)",18,15,30,65,40,150,0.3,1.1499999999999999,0.25,0.3,1.1000000000000001,0.55000000000000004]
[null,"Barley/Oats/Wheat (Nov)",19,40,60,60,40,200,0.4,1.1499999999999999,0.3,0.3,1.1000000000000001,0.55000000000000004]
[null,"Barley/Oats/Wheat (Dec - California desert)",20,20,50,60,30,160,0.7,1.1499999999999999,0.3,0.3,1.1000000000000001,0.55000000000000004]
[null,"Beans (dry - May/Jun - central climates)",21,20,30,40,20,110,0.4,1.1499999999999999,0.35,0.3,0.9,0.45]
[null,"Beans (dry - Jun - Pakistan/California)",22,15,25,35,20,95,0.4,1.1499999999999999,0.35,0.3,0.9,0.45]
[null,"Beans (dry - Jun - Idaho)",23,25,25,30,20,100,0.4,1.1499999999999999,0.35,0.3,0.9,0.45]
[null,"Beans (green - Feb/Mar - California/Mediterranean)",24,20,30,30,10,90,0.5,1.05,0.9,0.3,0.7,0.45]
[null,"Beans (green - Aug/Sep - California/Egypt/Lebanon)",25,15,25,25,10,75,0.5,1.05,0.9,0.3,0.7,0.45]
[null,"Beets (table - Apr/May - Mediterranean)",26,15,25,20,10,70,0.5,1.05,0.95,0.25,0.8,0.5]
[null,"Beets (table - Feb/Mar - Mediterranean/Arid)",27,25,30,25,10,90,0.5,1.05,0.95,0.25,0.8,0.5]
[null,"Broccoli  (Sept - California desert)",28,35,45,40,15,135,0.7,1.05,0.95,0.25,0.5,0.45]
[null,"Cabbage (Sept - California desert)",29,40,60,50,15,165,0.7,1.05,0.95,0.25,0.5,0.45]
[null,"Cantaloupe (Jan - California )",30,30,45,35,10,120,0.5,0.85,0.6,0.25,1.2,0.45]
[null,"Cantaloupe (Aug - California )",31,10,60,25,25,120,0.5,0.85,0.6,0.25,1.2,0.45]
[null,"Carrots (Oct/Jan - Arid climate )",32,20,30,30,20,100,0.7,1.05,0.95,0.25,0.8,0.35]
[null,"Carrots (Feb/Mar - Mediterranean )",33,30,40,60,20,150,0.7,1.05,0.95,0.25,0.8,0.35]
[null,"Carrots (Oct -  California desert)",34,30,50,90,30,200,0.7,1.05,0.95,0.25,0.8,0.35]
[null,"Cassava ( 1st year - rainy season - Tropical regions)",35,20,40,90,60,210,0.3,0.8,0.3,0.25,0.8,0.35]
[null,"Cassava ( 2nd year - season - Tropical regions)",36,150,40,110,60,360,0.3,1.1000000000000001,0.5,0.8,0.8,0.4]
[null,"Castor beans (Mar - semiarid climates )",37,25,40,65,50,180,0.35,1.1499999999999999,0.55000000000000004,0.25,1,0.5]
[null,"Castor beans (Nov - Indonesia )",38,20,40,50,25,135,0.35,1.1499999999999999,0.55000000000000004,0.25,1,0.5]
[null,"Cauliflower (Sept - California desert)",39,35,50,40,15,140,0.7,1.05,0.95,0.25,0.7,0.45]
[null,"Celery (Oct- semiarid)",40,25,40,95,20,180,0.7,1.05,1,0.2,0.5,0.2]
[null,"Celery (Apr - Mediterranean)",41,25,40,45,15,125,0.7,1.05,1,0.2,0.5,0.2]
[null,"Celery (Jan - semiarid)",42,30,55,105,20,210,0.7,1.05,1,0.2,0.5,0.2]
[null,"Chilli pepper (Brazil/Tropical)",43,30,15,20,10,75,0.63,1.4,0.86,0.25,0.8,0.3]
[null,"Citrus (no ground cover/70% canopy - Jan - Mediterranean)",44,60,90,120,95,365,0.7,0.65,0.7,1.5,1.5,0.5]
[null,"Citrus (no ground cover/50% canopy - Jan - Mediterranean)",45,60,90,120,95,365,0.65,0.6,0.65,1.3,1.3,0.5]
[null,"Citrus (no ground cover/20% canopy - Jan - Mediterranean)",46,60,90,120,95,365,0.5,0.45,0.55000000000000004,1,1,0.5]
[null,"Citrus (with active ground cover or weeds/70% canopy - Jan - Mediterranean)",47,60,90,120,95,365,0.75,0.7,0.75,1.5,1.5,0.5]
[null,"Citrus (with active ground cover or weeds/50% canopy - Jan - Mediterranean)",48,60,90,120,95,365,0.8,0.8,0.8,1.3,1.3,0.5]
[null,"Citrus (with active ground cover or weeds/20% canopy - Jan - Mediterranean)",49,60,90,120,95,365,0.85,0.85,0.85,1,1,0.5]
[null,"Cotton (Mar/May - Egypt/Pakistan/California)",50,30,50,60,55,195,0.35,1.2,0.6,0.3,1.4,0.65]
[null,"Cotton (Mar - California desert)",51,45,90,45,45,225,0.35,1.2,0.6,0.3,1.4,0.65]
[null,"Cotton (Sept - Yemen )",52,30,50,60,55,195,0.35,1.2,0.6,0.3,1.4,0.65]
[null,"Cotton (Apr - Texas )",53,30,50,55,45,180,0.35,1.2,0.6,0.3,1.4,0.65]
[null,"Cucumber (Jun/Aug - arid region )",54,20,30,40,15,105,0.6,1,0.75,0.25,1,0.5]
[null,"Cucumber (Nov/Feb - arid region )",55,25,35,50,20,130,0.6,1,0.75,0.25,1,0.5]
[null,"Deciduous Orchard (no ground cover/killing frost - Mar - high latitudes)",56,20,70,90,30,210,0.45,0.93,0.68,1.5,1.5,0.5]
[null,"Deciduous Orchard (no ground cover/no frosts - Mar - high latitudes)",57,20,70,90,30,210,0.57999999999999996,0.93,0.7,1.5,1.5,0.5]
[null,"Deciduous Orchard (active ground cover/killing frost - Mar - high latitudes)",58,20,70,90,30,210,0.5,1.18,0.93,1.5,1.5,0.5]
[null,"Deciduous Orchard (active ground cover/no frosts - Mar - high latitudes)",59,20,70,90,30,210,0.8,1.18,0.85,1.5,1.5,0.5]
[null,"Deciduous Orchard (no ground cover/killing frost - Mar - low latitudes)",60,20,70,120,60,270,0.45,0.93,0.68,1.5,1.5,0.5]
[null,"Deciduous Orchard (no ground cover/no frosts - Mar - low latitudes)",61,20,70,120,60,270,0.57999999999999996,0.93,0.7,1.5,1.5,0.5]
[null,"Deciduous Orchard (active ground cover/killing frost - Mar - low latitudes)",62,20,70,120,60,270,0.5,1.18,0.93,1.5,1.5,0.5]
[null,"Deciduous Orchard (active ground cover/no frosts - Mar - low latitudes)",63,20,70,120,60,270,0.8,1.18,0.85,1.5,1.5,0.5]
[null,"Deciduous Orchard (no ground cover/killing frost - Mar - California)",64,30,50,130,30,240,0.45,0.93,0.68,1.5,1.5,0.5]
[null,"Deciduous Orchard (no ground cover/no frosts - Mar - California)",65,30,50,130,30,240,0.57999999999999996,0.93,0.7,1.5,1.5,0.5]
[null,"Deciduous Orchard (active ground cover/killing frost - California)",66,30,50,130,30,240,0.5,1.18,0.93,1.5,1.5,0.5]
[null,"Deciduous Orchard (active ground cover/no frosts - Mar - California)",67,30,50,130,30,{"$f":"SUM(D73:G73)","v":240},0.8,1.18,0.85,1.5,1.5,0.5]
[null,"Eggplant (Oct - arid region)",68,30,40,40,20,130,0.6,1.05,0.9,0.25,1,0.45]
[null,"Eggplant (May/Jun - Mediterranean)",69,30,45,40,25,140,0.6,1.05,0.9,0.25,1,0.45]
[null,"Faba bean, broad bean (May - Europe)",70,15,25,35,15,90,0.5,1.1499999999999999,1.1000000000000001,0.25,1,0.5]
[null,"Faba bean, broad bean (Mar/Apr - Mediterranean)",71,20,30,35,15,100,0.5,1.1499999999999999,1.1000000000000001,0.25,1,0.5]
[null,"Faba bean, broad bean (dry - Nov - Europe)",72,90,45,40,60,235,0.5,1.1499999999999999,1.1000000000000001,0.25,1,0.5]
[null,"Faba bean, broad bean (green - Nov - Europe)",73,90,45,40,0,175,0.5,1.1499999999999999,0.3,0.25,1,0.5]
[null,"Flax (Apr - Europe)",74,25,35,50,40,150,0.35,1.1000000000000001,0.25,0.3,1.2,0.5]
[null,"Flax (Oct - Arizona)",75,30,40,100,50,220,0.35,1.1000000000000001,0.25,0.3,1.2,0.5]
[null,"Grapes (Apr - low latitudes)",76,20,40,120,60,240,0.3,0.85,0.45,1.5,1.5,0.35]
[null,"Grapes (Mar - California)",77,20,50,75,60,205,0.3,0.85,0.45,1.5,1.5,0.35]
[null,"Grapes (May - high latitudes )",78,20,50,90,20,180,0.3,0.85,0.45,1.5,1.5,0.35]
[null,"Grapes (wine - Apr - mid latitudes)",79,30,60,40,80,210,0.3,0.7,0.45,1.5,1.5,0.45]
[null,"Green gram, cowpeas (harvest fresh - Mar -Mediterranean)",80,20,30,30,20,100,0.4,1.05,0.6,0.3,1,0.45]
[null,"Green gram, cowpeas (harvest dry - Mar -Mediterranean)",81,20,30,30,20,100,0.4,1.05,0.35,0.3,1,0.45]
[null,"Groundnut (Dry - West Africa )",82,25,35,45,25,130,0.4,1.1499999999999999,0.6,0.3,0.8,0.45]
[null,"Groundnut (season - high latitudes)",83,35,35,35,35,140,0.4,1.1499999999999999,0.6,0.3,0.8,0.45]
[null,"Groundnut (May/Jun - Mediterranean)",84,35,45,35,25,140,0.4,1.1499999999999999,0.6,0.3,0.8,0.45]
[null,"Hops (Apr - Idaho)",85,25,40,80,10,155,0.3,1.05,0.85,0.3,1,0.5]
[null,"Kale, Rape ",86,20,20,30,50,120,0.7,1,0.95,0.2,0.4,0.5]
[null,"Lentil (Apr - Europe)",87,20,30,60,40,150,0.4,1.1000000000000001,0.3,0.3,0.8,0.5]
[null,"Lentil (Oct/Nov -arid region)",88,25,35,70,40,170,0.4,1.1000000000000001,0.3,0.3,0.8,0.5]
[null,"Lettuce (Apr - Mediterranean)",89,20,30,15,10,75,0.7,1,0.95,0.2,0.5,0.3]
[null,"Lettuce (Nov/Jan - Mediterranean)",90,30,40,25,10,105,0.7,1,0.95,0.2,0.5,0.3]
[null,"Lettuce (Oct/Nov - arid region)",91,25,35,30,10,100,0.7,1,0.95,0.2,0.5,0.3]
[null,"Lettuce (Feb - Mediterranean)",92,35,50,45,10,140,0.7,1,0.95,0.2,0.5,0.3]
[null,"Maize (grain - Apr - East Africa (alt.))",93,30,50,60,40,180,0.3,1.2,0.5,0.3,1,0.55000000000000004]
[null,"Maize (grain - Dec/Jan - arid climate)",94,25,40,45,30,140,0.3,1.2,0.5,0.3,1,0.55000000000000004]
[null,"Maize (grain - Jun - Nigeria (humid))",95,20,35,40,30,125,0.3,1.2,0.5,0.3,1,0.55000000000000004]
[null,"Maize (grain - Oct - India (dry, cool))",96,20,35,40,30,125,0.3,1.2,0.5,0.3,1,0.55000000000000004]
[null,"Maize (grain - Apr - Spain (spring/summer) - California)",97,30,40,50,30,150,0.3,1.2,0.5,0.3,1,0.55000000000000004]
[null,"Maize (grain - Apr - Idaho)",98,30,40,50,50,170,0.3,1.2,0.5,0.3,1,0.55000000000000004]
[null,"Maize (sweet - Mar - Philippines)",99,20,20,30,10,80,0.3,1.1499999999999999,1.05,0.3,1,0.55000000000000004]
[null,"Maize (sweet - May/Jun - Mediterranean)",100,20,25,25,10,80,0.3,1.1499999999999999,1.05,0.3,1,0.55000000000000004]
[null,"Maize (sweet - Oct/Dec - arid climate)",101,20,30,40,10,100,0.3,1.1499999999999999,1.05,0.3,1,0.55000000000000004]
[null,"Maize (sweet - Apr - Idaho)",102,30,30,30,103,193,0.3,1.1499999999999999,1.05,0.3,1,0.55000000000000004]
[null,"Maize (sweet - Jan - California desert)",103,20,40,70,10,140,0.3,1.1499999999999999,1.05,0.3,1,0.55000000000000004]
[null,"Mango (Jun)",104,90,90,90,95,365,0.9,1.1000000000000001,0.9,2,2,0.6]
[null,"Millet (Jun - Pakistan)",105,15,25,40,25,105,0.3,1,0.3,0.3,1.2,0.6]
[null,"Millet (Apr - Central USA)",106,20,30,55,35,140,0.3,1,0.3,0.3,1.2,0.6]
[null,"Okra (sub humid)",107,20,20,40,20,100,0.5,0.95,0.55000000000000004,0.3,0.5,0.5]
[null,"Olives (Mar - Mediterranean)",108,30,90,60,90,270,0.65,0.7,0.7,1.5,1.5,0.65]
[null,"Onion (dry - Apr - Mediterranean)",109,15,25,70,40,150,0.7,1.05,0.75,0.3,0.6,0.3]
[null,"Onion (dry - Oct/Jan - arid region/California)",110,20,35,110,45,210,0.7,1.05,0.75,0.3,0.6,0.3]
[null,"Onion (green - Apr/May - Mediterranean)",111,25,30,10,5,70,0.7,1,1,0.3,0.6,0.3]
[null,"Onion (green - Oct - arid region)",112,20,45,20,10,95,0.7,1,1,0.3,0.6,0.3]
[null,"Onion (green - Mar - California)",113,30,55,55,40,180,0.7,1,1,0.3,0.6,0.3]
[null,"Onion (seed - Sept - California desert)",114,20,45,165,45,275,0.7,1.05,0.8,0.3,0.6,0.3]
[null,"Peas (fresh - May - Europe)",115,15,25,35,15,90,0.5,1.1519999999999999,1.1000000000000001,0.3,1,0.35]
[null,"Peas (fresh - Mar/Apr - Mediterranean)",116,20,30,35,15,100,0.5,1.1519999999999999,1.1000000000000001,0.3,1,0.35]
[null,"Peas (fresh - Apr - Idaho)",117,35,25,30,20,110,0.5,1.1519999999999999,1.1000000000000001,0.3,1,0.35]
[null,"Peas (dry - May - Europe)",118,15,25,35,15,90,0.4,1.1499999999999999,0.3,0.3,1,0.4]
[null,"Peas (dry - Mar/Apr - Mediterranean)",119,20,30,35,15,100,0.4,1.1499999999999999,0.3,0.3,1,0.4]
[null,"Peas (dry - Apr - Idaho)",120,35,25,30,20,110,0.4,1.1499999999999999,0.3,0.3,1,0.4]
[null,"Pigeon peas",121,20,30,30,20,100,0.4,1.05,0.35,0.3,1,0.4]
[null,"Pineapple (bare soil - Hawaii)",122,60,120,600,10,790,0.5,0.3,0.3,0.3,0.6,0.5]
[null,"Pineapple (with grass cover - Hawaii)",123,60,120,600,10,790,0.5,0.5,0.5,0.3,0.6,0.5]
[null,"Pistachios (no ground cover - Feb - Mediterranean)",124,20,60,30,40,150,0.4,1.1000000000000001,0.45,1.2,1.2,0.4]
[null,"Potato (Jan/Nov - semiarid climate)",125,25,30,47,30,132,0.5,1.1499999999999999,0.75,0.25,0.6,0.35]
[null,"Potato (May - Continental Climate )",126,25,30,45,30,130,0.5,1.1499999999999999,0.75,0.25,0.6,0.35]
[null,"Potato (Apr - Europe)",127,30,35,50,30,145,0.5,1.1499999999999999,0.75,0.25,0.6,0.35]
[null,"Potato (Apr/May - Idaho, USA )",128,45,30,70,20,165,0.5,1.1499999999999999,0.75,0.25,0.6,0.35]
[null,"Potato (Dec - California desert)",129,30,35,50,25,140,0.5,1.1499999999999999,0.75,0.25,0.6,0.35]
[null,"Pumpkin, Winter squash (Mar/Aug - Mediterranean)",130,20,30,30,20,100,0.5,1,0.8,0.3,1.2,0.35]
[null,"Pumpkin, Winter squash (Jun - Europe)",131,25,35,35,25,{"$f":"SUM(D137:G137)","v":120},0.5,1,0.8,0.3,1.2,0.35]
[null,"Radish (Mar/Apr - Mediterranean/Europe)",132,5,10,15,5,35,0.7,0.9,0.85,0.2,0.5,0.3]
[null,"Radish (Winter - arid region)",133,10,10,15,5,40,0.7,0.9,0.85,0.2,0.5,0.3]
[null,"Rice (Dec/May - Tropics/Mediterranean)",134,30,30,60,30,150,1.05,1.2,0.75,0.1,0.6,0.2]
[null,"Safflower (Apr - California)",135,20,35,45,25,125,0.35,1.1000000000000001,0.25,0.3,1.2,0.6]
[null,"Safflower (Mar - high latitudes)",136,25,35,55,30,145,0.35,1.1000000000000001,0.25,0.3,1.2,0.6]
[null,"Safflower (Oct/Nov - arid region)",137,35,55,60,40,190,0.35,1.1000000000000001,0.25,0.3,1.2,0.6]
[null,"Sesame (Jun - China)",138,20,30,40,20,110,0.35,1.1000000000000001,0.25,0.3,1.2,0.6]
[null,"Sorghum (grain - May/Jun - USA/Pakistan/Mediterranean)",139,20,35,40,30,125,0.3,1.05,0.55000000000000004,0.3,1.4,0.55000000000000004]
[null,"Sorghum (grain - Mar/Apr - arid region)",140,20,35,45,30,130,0.3,1.05,0.55000000000000004,0.3,1.4,0.55000000000000004]
[null,"Sorghum (sweet - May/Jun - USA/Pakistan/Mediterranean)",141,20,35,40,30,125,0.3,1.2,1.05,0.3,1.4,0.5]
[null,"Sorghum (sweet - Mar/Apr - arid region)",142,20,35,45,30,130,0.3,1.2,1.05,0.3,1.4,0.5]
[null,"Soybeans (Dec - Tropics)",143,15,15,40,15,85,0.4,1.1499999999999999,0.5,0.3,1,0.5]
[null,"Soybeans (May - Central USA)",144,20,32,60,25,137,0.4,1.1499999999999999,0.5,0.3,1,0.5]
[null,"Soybeans (Jun - Japan )",145,20,25,75,30,150,0.4,1.1499999999999999,0.5,0.3,1,0.5]
[null,"Spinach (Apr/Sep/Oct - Mediterranean)",146,20,20,20,5,65,0.7,1,0.95,0.1,0.5,0.2]
[null,"Spinach (Nov - arid region)",147,20,30,40,10,100,0.7,1,0.95,0.1,0.5,0.2]
[null,"Squash, Zucchini (Apr/Dec - Mediterranean/arid region)",148,25,35,25,15,100,0.5,0.95,0.75,0.3,0.8,0.5]
[null,"Squash, Zucchini (May/Jun - Mediterranean/Europe)",149,20,30,25,15,90,0.5,0.95,0.75,0.3,0.8,0.5]
[null,"Sudan (1st cutting cycle - Apr - California desert)",150,25,25,15,10,75,0.5,1,0.95,1,1,0.55000000000000004]
[null,"Sudan (other cutting cycles - Jun -California desert)",151,3,15,12,7,37,0.5,1,0.95,1,1,0.55000000000000004]
[null,"Sugarbeet (Mar - California)",152,30,45,90,15,180,0.35,1.2,0.7,0.3,1,0.6]
[null,"Sugarbeet (Jun - California)",153,25,30,90,10,155,0.35,1.2,0.7,0.3,1,0.6]
[null,"Sugarbeet (Sep - California desert)",154,25,65,100,65,255,0.35,1.2,0.7,0.3,1,0.6]
[null,"Sugarbeet (Apr - Idaho)",155,50,40,50,40,180,0.35,1.2,0.7,0.3,1,0.6]
[null,"Sugarbeet (May - Mediterranean)",156,25,35,50,50,160,0.35,1.2,0.7,0.3,1,0.6]
[null,"Sugarbeet (Nov - Mediterranean)",157,45,75,80,30,230,0.35,1.2,0.7,0.3,1,0.6]
[null,"Sugarbeet (Nov - arid regions)",158,35,60,70,40,205,0.35,1.2,0.7,0.3,1,0.6]
[null,"Sugarcane (ratoon - low latitudes)",159,25,70,135,50,280,0.4,1.25,0.75,1.5,1.5,0.65]
[null,"Sugarcane (ratoon - Tropics)",160,30,50,180,60,320,0.4,1.25,0.75,1.5,1.5,0.65]
[null,"Sugarcane (ratoon - Hawaii)",161,35,105,210,70,420,0.4,1.25,0.75,1.5,1.5,0.65]
[null,"Sugarcane (virgin - low latitudes)",162,35,60,190,120,405,0.4,1.25,0.75,1.5,1.5,0.65]
[null,"Sugarcane (virgin - Tropics)",163,50,70,220,140,480,0.4,1.25,0.75,1.5,1.5,0.65]
[null,"Sugarcane (virgin - Hawaii)",164,75,105,330,210,720,0.4,1.25,0.75,1.5,1.5,0.65]
[null,"Sunflower (Apr/May - Mediterranean/California)",165,25,35,45,25,130,0.35,1.1000000000000001,0.35,0.3,1.3,0.5]
[null,"Sweet melons (May - Mediterranean)",166,25,35,40,20,120,0.5,1.05,0.75,0.3,1,0.4]
[null,"Sweet melons (Mar - California)",167,30,30,50,30,140,0.5,1.05,0.75,0.3,1,0.4]
[null,"Sweet melons (Aug - California desert)",168,15,40,65,15,135,0.5,1.05,0.75,0.3,1,0.4]
[null,"Sweet melons (Dec/Jan - arid region)",169,30,45,65,20,160,0.5,1.05,0.75,0.3,1,0.4]
[null,"Sweet peppers (Apr/Jun - Europe/Mediterranean)",170,28,35,40,20,123,0.6,1.05,0.9,0.25,0.8,0.3]
[null,"Sweet peppers (Oct - arid region)",171,30,40,110,30,210,0.6,1.05,0.9,0.25,0.8,0.3]
[null,"Sweet potato (Apr - Mediterranean)",172,20,30,60,40,150,0.5,1.1499999999999999,0.65,0.3,1,0.65]
[null,"Sweet potato (rainy season - Tropical regions)",173,15,30,50,30,125,0.5,1.1499999999999999,0.65,0.3,1,0.65]
[null,"Tomato (Jan - arid region)",174,30,40,40,25,135,0.6,1.1499999999999999,0.8,0.25,0.8,0.5]
[null,"Tomato (Apr/May - California)",175,35,40,50,30,155,0.6,1.1499999999999999,0.8,0.25,0.8,0.5]
[null,"Tomato (Jan - California desert)",176,25,40,60,30,155,0.6,1.1499999999999999,0.8,0.25,0.8,0.5]
[null,"Tomato (Oct/Nov - arid region)",177,35,45,70,30,180,0.6,1.1499999999999999,0.8,0.25,0.8,0.5]
[null,"Tomato (Apr/May - Mediterranean)",178,30,40,45,30,145,0.6,1.1499999999999999,0.8,0.25,0.8,0.5]
[null,"Walnuts (Apr - Utah)",179,20,10,130,30,190,0.5,1.1000000000000001,0.65,2,2,0.5]
[null,"Water melons (Apr - Italy)",180,20,30,30,30,110,0.4,1,0.75,0.3,1,0.4]
[null,"Water melons (Mat/Aug - Near East (desert))",181,10,20,20,30,80,0.4,1,0.75,0.3,1,0.4]
[null,"Winter Wheat (Dec - California)",182,202,602,70,30,904,0.4,1.1499999999999999,0.35,0.3,1.5,0.55000000000000004]
[null,"Winter Wheat (Nov - Mediterranean)",183,30,140,40,30,240,0.4,1.1499999999999999,0.35,0.3,1.5,0.55000000000000004]
[null,"Winter Wheat (Oct - Idaho)",184,160,75,75,25,335,0.7,1.1499999999999999,0.35,0.3,1.5,0.55000000000000004]
[null,{"$f":"\"New crop\"","v":"New crop"},185,{"$f":"\"Insert value\"","v":"Insert value"},{"$f":"\"Insert value\"","v":"Insert value"},"Insert value","Insert value",0,"Insert value","Insert value","Insert value","Insert value","Insert value","Insert value"]
[null,{"$f":"\"New crop\"","v":"New crop"},186,{"$f":"\"Insert value\"","v":"Insert value"},"Insert value","Insert value","Insert value",0,"Insert value","Insert value","Insert value","Insert value","Insert value","Insert value"]
[null,"New crop",187,"Insert value","Insert value","Insert value","Insert value",0,"Insert value","Insert value","Insert value","Insert value","Insert value","Insert value"]
[null,"New crop",188,"Insert value","Insert value","Insert value","Insert value",0,"Insert value","Insert value","Insert value","Insert value","Insert value","Insert value"]
[null,"New crop",189,"Insert value","Insert value","Insert value","Insert value",0,"Insert value","Insert value","Insert value","Insert value","Insert value","Insert value"]
[null,"New crop",190,"Insert value","Insert value","Insert value","Insert value",0,"Insert value","Insert value","Insert value","Insert value","Insert value","Insert value"]
[null,"New crop",191,"Insert value","Insert value","Insert value","Insert value",0,"Insert value","Insert value","Insert value","Insert value","Insert value","Insert value"]
[null,"New crop",192,"Insert value","Insert value","Insert value","Insert value",0,"Insert value","Insert value","Insert value","Insert value","Insert value","Insert value"]
[null,"New crop",193,"Insert value","Insert value","Insert value","Insert value",0,"Insert value","Insert value","Insert value","Insert value","Insert value","Insert value"]
[null,"New crop",194,"Insert value","Insert value","Insert value","Insert value",0,"Insert value","Insert value","Insert value","Insert value","Insert value","Insert value"]
[null,"New crop",195,"Insert value","Insert value","Insert value","Insert value",{"$f":"SUM(D201:G201)","v":0},"Insert value","Insert value","Insert value","Insert value","Insert value","Insert value"]
[null,"New crop",196,"Insert value","Insert value","Insert value","Insert value",0,"Insert value","Insert value","Insert value","Insert value","Insert value","Insert value"]
[null,"New crop",197,"Insert value","Insert value","Insert value","Insert value",0,"Insert value","Insert value","Insert value","Insert value","Insert value","Insert value"]
[null,"New crop",198,"Insert value","Insert value","Insert value","Insert value",0,"Insert value","Insert value","Insert value","Insert value","Insert value","Insert value"]
[null,"New crop",199,"Insert value","Insert value","Insert value","Insert value",0,"Insert value","Insert value","Insert value","Insert value","Insert value","Insert value"]
[null,"New crop",200,"Insert value","Insert value","Insert value","Insert value",0,"Insert value","Insert value","Insert value","Insert value","Insert value","Insert value"]
[null,"New crop",201,"Insert value","Insert value","Insert value","Insert value",0,{"$f":"\"Insert value\"","v":"Insert value"},"Insert value","Insert value","Insert value","Insert value","Insert value"]
[null,"New crop",202,"Insert value","Insert value","Insert value","Insert value",0,"Insert value","Insert value","Insert value","Insert value","Insert value","Insert value"]
[null,"New crop",203,"Insert value","Insert value","Insert value","Insert value",0,"Insert value","Insert value","Insert value","Insert value","Insert value","Insert value"]
[null,"New crop",204,"Insert value","Insert value","Insert value","Insert value",0,"Insert value","Insert value","Insert value","Insert value","Insert value","Insert value"]
[null,"New crop",205,"Insert value","Insert value","Insert value","Insert value",0,"Insert value","Insert value","Insert value","Insert value","Insert value","Insert value"]
[null,"New crop",206,"Insert value","Insert value","Insert value","Insert value",0,"Insert value","Insert value","Insert value","Insert value","Insert value","Insert value"]
[null,"New crop",207,"Insert value","Insert value","Insert value","Insert value",0,"Insert value","Insert value","Insert value","Insert value","Insert value","Insert value"]
[null,"New crop",208,"Insert value","Insert value","Insert value","Insert value",0,"Insert value","Insert value","Insert value","Insert value","Insert value","Insert value"]
[null,"New crop",209,"Insert value","Insert value","Insert value","Insert value",0,"Insert value","Insert value","Insert value","Insert value","Insert value","Insert value"]
[null,"New crop",210,"Insert value","Insert value","Insert value","Insert value",0,"Insert value","Insert value","Insert value","Insert value","Insert value","Insert value"]

{"sheet":"Crop Calculation Sheet","index":7,"n_rows":1128,"n_cols":22,"rows_kept":1128,"cut":false,"hidden":true,"merged":[[6,11,6,12],[1,1,1,3],[2,1,2,3],[6,1,6,2],[5,1,5,2]]}
[]
[null,"Do not modify"]
[null,"Date format"]
[null,"Year",null,"JJJJ"]
[null,"Month",null,"MMMM"]
[null,"Selected language",null,{"$f":"'READ ME'!$G$11","v":"English"}]
[null,"Selected code",null,{"$f":"VLOOKUP($D$6,$B$9:$C$13,2,FALSE)","v":"[$-409]"},null,null,null,null,"Earliest planting date:",{"$f":"'3 Irrigation Schedule'!$G$19","v":"2020-03-15"},null,"Last simulated date:",null,{"$f":"DATE(YEAR($J$7)+3,MONTH($J$7),0)","v":"2023-02-28"}]
[null,"Language ","Code"]
[null,"English","[$-409]"]
[null,"Français","[$-40C]",null,null,null,null,null,"Month after Planthing",1,2,3,4,5,6,7,8,9,10,11,12]
[null,"Español","[$-C0A]",null,null,null,null,null,"Year",{"$f":"TEXT(DATE(YEAR($J$7),MONTH($J$7),1),$D$7&$D$4)","v":"2020"},{"$f":"TEXT((DATE(YEAR($J$7),MONTH($J$7)+K10-1,1)),$D$7&$D$4)","v":"2020"},"2020","2020","2020","2020","2020","2020","2020","2020","2021","2021"]
[null,"العربية","[$-401]",null,null,null,null,null,"Month of the year",{"$f":"TEXT(DATE(YEAR($J$7),MONTH($J$7),1),$D$7&$D$5)","v":"March"},{"$f":"TEXT(DATE(YEAR($J$7),MONTH($J$7)+K10-1,1),$D$7&$D$5)","v":"April"},"May","June","July","August","September","October","November","December","January","February"]
[null,"Deutsch","[$-407]",null,null,null,null,null,"1st day of the month",{"$f":"(DATE(YEAR($J$7),MONTH($J$7)+J10-1,1))","v":"2020-03-01"},"2020-04-01","2020-05-01","2020-06-01","2020-07-01","2020-08-01","2020-09-01","2020-10-01","2020-11-01","2020-12-01","2021-01-01","2021-02-01"]
[null,null,null,null,null,null,null,null,"Days per month",{"$f":"DAY(DATE(YEAR(J13),MONTH(J13)+1,1)-1)","v":31},{"$f":"DAY(DATE(YEAR(K13),MONTH(K13)+1,1)-1)","v":30},{"$f":"DAY(DATE(YEAR(L13),MONTH(L13)+1,1)-1)","v":31},30,31,31,30,31,30,31,31,28]
[null,null,null,null,null,null,null,null,"Reference Evapotranspiration",{"$f":"VLOOKUP($I$15,'General Calculation'!$C$115:$O$115,MATCH(J12,'General Calculation'!$C$114:$O$114,0))","v":5.2153200000000011},5.3054400000000008,5.3183200000000008,5.2668000000000008,5.2023999999999999,5.2023999999999999,5.2796800000000008,5.1283799999999999,5.091120000000001,5.1408000000000005,5.3271000000000006,5.2650000000000006]
[]
[null,null,"ETo","Eff. Rainfall",null,null,"Crop 1",{"$f":"IFERROR(LEFT($H$24,FIND(\"(\",$H$24)-1),$H$24)","v":"Maize "},"Crop Water Requirement",{"$f":"SUMIFS($L$34:$L$399,$D$34:$D$399,J$11,$E$34:$E$399,J$12)","v":26.59813200000001},99.317836800000009,194.01231359999991,178.42162800000006,60.72934933333331,0,0,0,0,0,0,0]
[null,"Month","mm/day","mm/day",null,null,null,null,"Number of day/month",{"$f":"COUNTIFS($L$34:$L$399,\">0\",$D$34:$D$399,J$11,$E$34:$E$399,J$12)","v":17},30,31,30,17,0,0,0,0,0,0,0]
[null,{"$f":"TRANSPOSE(J12:U12)","v":"March"},{"$f":"TRANSPOSE(J15:U15)","v":5.2153200000000011},{"$f":"TRANSPOSE('General Calculation'!D129:O129)","v":1.0187096774193547},null,null,null,null,"Total Gross Irrigation",{"$f":"SUMIFS($V$34:$V$399,$D$34:$D$399,J$11,$E$34:$E$399,J$12)","v":44.444444444444443},{"$f":"SUMIFS($V$34:$V$399,$D$34:$D$399,K$11,$E$34:$E$399,K$12)","v":111.11111111111113},{"$f":"SUMIFS($V$34:$V$399,$D$34:$D$399,L$11,$E$34:$E$399,L$12)","v":222.22222222222226},188.88888888888891,77.777777777777786,0,0,0,0,0,0,0]
[null,"April",5.3054400000000008,3.0080000000000005,null,null,null,null,"Max Gross Irrigation per event",{"$f":"_xlfn.AGGREGATE(14,3,($D$34:$D$399=J$11)*($E$34:$E$399=J$12)*$V$34:$V$399,1)","v":11.111111111111111},11.111111111111111,11.111111111111111,11.111111111111111,11.111111111111111,0,0,0,0,0,0,0]
[null,"May",5.3183200000000008,2.0593548387096776,null,null,null,null,"Irrigation days",{"$f":"COUNTIFS($V$34:$V$399,\">0\",$D$34:$D$399,J$11,$E$34:$E$399,J$12)","v":4},10,20,17,7,0,0,0,0,0,0,0]
[null,"June",5.2668000000000008,0.42866666666666664]
[null,"July",5.2023999999999999,0.19999999999999998]
[null,"August",5.2023999999999999,9.5483870967741968E-2,null,null,"Crop 1",{"$f":"IF(OR('3 Irrigation Schedule'!$B$19=\"\",'3 Irrigation Schedule'!$B$19=\"none\"),\"\",'3 Irrigation Schedule'!$B$19)","v":"Maize (grain - Oct - India (dry, cool))"},null,null,null,{"$f":"IFERROR(VLOOKUP($H$24,'Crop Information'!$B$7:$C$216,2,FALSE),2)","v":96}]
[null,"September",5.2796800000000008,3.2666666666666684E-2,null,null,null,null,"Date after Sowing"]
[null,"October",5.1283799999999999,0.61225806451612896,null,null,"Crop 1","Days","DAS","From","To","Crop Factor","Root Depth","Depletion"]
[null,"November",5.091120000000001,1.7920000000000003,null,null,"Initial:",{"$f":"IFERROR(INDEX('Crop Information'!$D$7:$D$216,$L$24),NA())","v":20},{"$f":"H27","v":20},{"$f":"$J$7","v":"2020-03-15"},{"$f":"J27+H27-1","v":"2020-04-03"},{"$f":"INDEX('Crop Information'!$I$7:$I$216,$L$24)","v":0.3},{"$f":"INDEX('Crop Information'!$L$7:$L$216,$L$24)","v":0.3},{"$f":"INDEX('Crop Information'!$N$7:$N$216,$L$24)","v":0.55000000000000004}]
[null,"December",5.1408000000000005,1.4477419354838708,null,null,"Development:",{"$f":"IFERROR(INDEX('Crop Information'!$E$7:$E$216,$L$24),NA())","v":35},{"$f":"I27+H28","v":55},{"$f":"K27+1","v":"2020-04-04"},{"$f":"K27+H28","v":"2020-05-08"},{"$f":"\"-\"","v":"-"},{"$f":"INDEX('Crop Information'!$M$7:$M$216,$L$24)","v":1},{"$f":"\"-\"","v":"-"}]
[null,"January",5.3271000000000006,0.54838709677419351,null,null,"Mid season:",{"$f":"IFERROR(INDEX('Crop Information'!$F$7:$F$216,$L$24),NA())","v":40},{"$f":"I28+H29","v":95},{"$f":"K28+1","v":"2020-05-09"},{"$f":"K28+H29","v":"2020-06-17"},{"$f":"INDEX('Crop Information'!$J$7:$J$216,$L$24)","v":1.2},{"$f":"INDEX('Crop Information'!$M$7:$M$216,$L$24)","v":1},{"$f":"\"-\"","v":"-"}]
[null,"February",5.2650000000000006,0.35000000000000003,null,null,"Late season:",{"$f":"IFERROR(INDEX('Crop Information'!$G$7:$G$216,$L$24),NA())","v":30},{"$f":"I29+H30","v":125},{"$f":"K29+1","v":"2020-06-18"},{"$f":"H30+K29","v":"2020-07-17"},{"$f":"INDEX('Crop Information'!$K$7:$K$216,$L$24)","v":0.5},{"$f":"INDEX('Crop Information'!$M$7:$M$216,$L$24)","v":1},{"$f":"\"-\"","v":"-"}]
[null,null,null,null,null,null,"Total growing days:",{"$f":"IFERROR(SUM(H27:H30),NA())","v":125}]
[null,null,null,null,null,null,null,null,null,"mm",null,"mm","m","mm","mm","mm",null,"mm","mm","mm","mm","mm"]
[null,null,null,"Year","Month","Date",null,"DAS","Stage:","ETo ","Kc","ETc","Rooting Depth ","TAW","RAW","Dep. Start","Ks","ETc adj","Dep. End","Threshold","NIR","GIR"]
[null,null,null,{"$f":"IFERROR(TEXT(DATE(YEAR($F34),MONTH($F34),1),$D$7&$D$4),\"\")","v":"2020"},{"$f":"IFERROR(TEXT(DATE(YEAR($F34),MONTH($F34),1),$D$7&$D$5),\"\")","v":"March"},{"$f":"DATE(YEAR($J$7),MONTH($J$7),1)","v":"2020-03-01"},null,{"$f":"IFERROR(IF(OR($F34-$J$27+1<=0,$F34>$K$30),\"\",$F34-$J$27+1),\"\")","v":""},{"$f":"IF(H34=\"\",\"\",IF(H34<=$I$27,\"Initial\",IF(AND(H34>$I$27,H34<=$I$28),\"Development\",IF(AND(H34>$I$28,H34<=$I$29),\"Mid Season\",\"Late Season\"))))","v":""},{"$f":"IFERROR(VLOOKUP($E34,$B$19:$C$30,2,FALSE),\"\")","v":5.2153200000000011},{"$f":"IF(H34=\"\",\"\",IF(H34<=$I$27,$L$27,IF(AND(H34>$I$27,H34<=$I$28),$L$27+((H34-$I$27)/$H$28)*($L$29-$L$27),IF(AND(H34>$I$28,H34<=$I$29),$L$29,$L$29+((H34-$I$29)/$H$30)*($L$30-$L$29)))))","v":""},{"$f":"IFERROR((J34*K34),0)","v":0},{"$f":"IF(H34=\"\",\"\",IF(OR(H34=1,H34<$I$28),$M$27+(($M$28-$M$27)*((H34-1)/($I$28-1))),$M$28))","v":""},{"$f":"IF(OR('3 Irrigation Schedule'!$C$29=\"\",'3 Irrigation Schedule'!$C$31=\"\",H34=\"\"),\"\",(('3 Irrigation Schedule'!$C$29-'3 Irrigation Schedule'!$C$31)/100)*1000*M34)","v":""},{"$f":"IF(H34=\"\",\"\",N34*$N$27)","v":""},{"$f":"IF(H34=\"\",\"\",IF(H34=1,N34*(1-'3 Irrigation Schedule'!$C$27),S33-U33))","v":""},{"$f":"IF(H34=\"\",\"\",IF(P34>O34,(N34-P34)/(N34-O34),1))","v":""},{"$f":"IF(H34=\"\",\"\",L34*Q34)","v":""},{"$f":"IF(H34=\"\",\"\",P34+R34)","v":""},{"$f":"IF(H34=\"\",\"\",IF('3 Irrigation Schedule'!$P$19<O34,'3 Irrigation Schedule'!$P$19,O34))","v":""},{"$f":"IF(H34=\"\",\"\",IF(T34<=S34,T34,0))","v":""},{"$f":"IF(H34=\"\",\"\",U34/'3 Irrigation Schedule'!$M$19)","v":""}]
[null,null,null,"2020","March",{"$f":"IFERROR(IF(F34+1<=$N$7, F34+1,\"\"),\"\")","v":"2020-03-02"},null,{"$f":"IFERROR(IF(OR($F35-$J$27+1<=0,$F35>$K$30),\"\",$F35-$J$27+1),\"\")","v":""},"",5.2153200000000011,"",{"$f":"IFERROR((J35*K35),0)","v":0},{"$f":"IF(H35=\"\",\"\",IF(OR(H35=1,H35<$I$28),$M$27+(($M$28-$M$27)*((H35-1)/($I$28-1))),$M$28))","v":""},{"$f":"IF(OR('3 Irrigation Schedule'!$C$29=\"\",'3 Irrigation Schedule'!$C$31=\"\",H35=\"\"),\"\",(('3 Irrigation Schedule'!$C$29-'3 Irrigation Schedule'!$C$31)/100)*1000*M35)","v":""},{"$f":"IF(H35=\"\",\"\",N35*$N$27)","v":""},{"$f":"IF(H35=\"\",\"\",IF(H35=1,N35*(1-'3 Irrigation Schedule'!$C$27),S34-U34))","v":""},{"$f":"IF(H35=\"\",\"\",IF(P35>O35,(N35-P35)/(N35-O35),1))","v":""},{"$f":"IF(H35=\"\",\"\",L35*Q35)","v":""},{"$f":"IF(H35=\"\",\"\",P35+R35)","v":""},{"$f":"IF(H35=\"\",\"\",IF('3 Irrigation Schedule'!$P$19<O35,'3 Irrigation Schedule'!$P$19,O35))","v":""},{"$f":"IF(H35=\"\",\"\",IF(T35<=S35,T35,0))","v":""},{"$f":"IF(H35=\"\",\"\",U35/'3 Irrigation Schedule'!$M$19)","v":""}]
[null,null,null,"2020","March","2020-03-03",null,"","",5.2153200000000011,"",0,"",{"$f":"IF(OR('3 Irrigation Schedule'!$C$29=\"\",'3 Irrigation Schedule'!$C$31=\"\",H36=\"\"),\"\",(('3 Irrigation Schedule'!$C$29-'3 Irrigation Schedule'!$C$31)/100)*1000*M36)","v":""},"",{"$f":"IF(H36=\"\",\"\",IF(H36=1,N36*(1-'3 Irrigation Schedule'!$C$27),S35-U35))","v":""},"","","",{"$f":"IF(H36=\"\",\"\",IF('3 Irrigation Schedule'!$P$19<O36,'3 Irrigation Schedule'!$P$19,O36))","v":""},"",{"$f":"IF(H36=\"\",\"\",U36/'3 Irrigation Schedule'!$M$19)","v":""}]
[null,null,null,"2020","March","2020-03-04",null,"","",5.2153200000000011,"",0,"",{"$f":"IF(OR('3 Irrigation Schedule'!$C$29=\"\",'3 Irrigation Schedule'!$C$31=\"\",H37=\"\"),\"\",(('3 Irrigation Schedule'!$C$29-'3 Irrigation Schedule'!$C$31)/100)*1000*M37)","v":""},"",{"$f":"IF(H37=\"\",\"\",IF(H37=1,N37*(1-'3 Irrigation Schedule'!$C$27),S36-U36))","v":""},"","","",{"$f":"IF(H37=\"\",\"\",IF('3 Irrigation Schedule'!$P$19<O37,'3 Irrigation Schedule'!$P$19,O37))","v":""},"",{"$f":"IF(H37=\"\",\"\",U37/'3 Irrigation Schedule'!$M$19)","v":""}]
[null,null,null,"2020","March","2020-03-05",null,"","",5.2153200000000011,"",0,"",{"$f":"IF(OR('3 Irrigation Schedule'!$C$29=\"\",'3 Irrigation Schedule'!$C$31=\"\",H38=\"\"),\"\",(('3 Irrigation Schedule'!$C$29-'3 Irrigation Schedule'!$C$31)/100)*1000*M38)","v":""},"",{"$f":"IF(H38=\"\",\"\",IF(H38=1,N38*(1-'3 Irrigation Schedule'!$C$27),S37-U37))","v":""},"","","",{"$f":"IF(H38=\"\",\"\",IF('3 Irrigation Schedule'!$P$19<O38,'3 Irrigation Schedule'!$P$19,O38))","v":""},"",{"$f":"IF(H38=\"\",\"\",U38/'3 Irrigation Schedule'!$M$19)","v":""}]
[null,null,null,"2020","March","2020-03-06",null,"","",5.2153200000000011,"",0,"",{"$f":"IF(OR('3 Irrigation Schedule'!$C$29=\"\",'3 Irrigation Schedule'!$C$31=\"\",H39=\"\"),\"\",(('3 Irrigation Schedule'!$C$29-'3 Irrigation Schedule'!$C$31)/100)*1000*M39)","v":""},"",{"$f":"IF(H39=\"\",\"\",IF(H39=1,N39*(1-'3 Irrigation Schedule'!$C$27),S38-U38))","v":""},"","","",{"$f":"IF(H39=\"\",\"\",IF('3 Irrigation Schedule'!$P$19<O39,'3 Irrigation Schedule'!$P$19,O39))","v":""},"",{"$f":"IF(H39=\"\",\"\",U39/'3 Irrigation Schedule'!$M$19)","v":""}]
[null,null,null,"2020","March","2020-03-07",null,"","",5.2153200000000011,"",0,"",{"$f":"IF(OR('3 Irrigation Schedule'!$C$29=\"\",'3 Irrigation Schedule'!$C$31=\"\",H40=\"\"),\"\",(('3 Irrigation Schedule'!$C$29-'3 Irrigation Schedule'!$C$31)/100)*1000*M40)","v":""},"",{"$f":"IF(H40=\"\",\"\",IF(H40=1,N40*(1-'3 Irrigation Schedule'!$C$27),S39-U39))","v":""},"","","",{"$f":"IF(H40=\"\",\"\",IF('3 Irrigation Schedule'!$P$19<O40,'3 Irrigation Schedule'!$P$19,O40))","v":""},"",{"$f":"IF(H40=\"\",\"\",U40/'3 Irrigation Schedule'!$M$19)","v":""}]
[null,null,null,"2020","March","2020-03-08",null,"","",5.2153200000000011,"",0,"",{"$f":"IF(OR('3 Irrigation Schedule'!$C$29=\"\",'3 Irrigation Schedule'!$C$31=\"\",H41=\"\"),\"\",(('3 Irrigation Schedule'!$C$29-'3 Irrigation Schedule'!$C$31)/100)*1000*M41)","v":""},"",{"$f":"IF(H41=\"\",\"\",IF(H41=1,N41*(1-'3 Irrigation Schedule'!$C$27),S40-U40))","v":""},"","","",{"$f":"IF(H41=\"\",\"\",IF('3 Irrigation Schedule'!$P$19<O41,'3 Irrigation Schedule'!$P$19,O41))","v":""},"",{"$f":"IF(H41=\"\",\"\",U41/'3 Irrigation Schedule'!$M$19)","v":""}]
[null,null,null,"2020","March","2020-03-09",null,"","",5.2153200000000011,"",0,"",{"$f":"IF(OR('3 Irrigation Schedule'!$C$29=\"\",'3 Irrigation Schedule'!$C$31=\"\",H42=\"\"),\"\",(('3 Irrigation Schedule'!$C$29-'3 Irrigation Schedule'!$C$31)/100)*1000*M42)","v":""},"",{"$f":"IF(H42=\"\",\"\",IF(H42=1,N42*(1-'3 Irrigation Schedule'!$C$27),S41-U41))","v":""},"","","",{"$f":"IF(H42=\"\",\"\",IF('3 Irrigation Schedule'!$P$19<O42,'3 Irrigation Schedule'!$P$19,O42))","v":""},"",{"$f":"IF(H42=\"\",\"\",U42/'3 Irrigation Schedule'!$M$19)","v":""}]
[null,null,null,"2020","March","2020-03-10",null,"","",5.2153200000000011,"",0,"",{"$f":"IF(OR('3 Irrigation Schedule'!$C$29=\"\",'3 Irrigation Schedule'!$C$31=\"\",H43=\"\"),\"\",(('3 Irrigation Schedule'!$C$29-'3 Irrigation Schedule'!$C$31)/100)*1000*M43)","v":""},"",{"$f":"IF(H43=\"\",\"\",IF(H43=1,N43*(1-'3 Irrigation Schedule'!$C$27),S42-U42))","v":""},"","","",{"$f":"IF(H43=\"\",\"\",IF('3 Irrigation Schedule'!$P$19<O43,'3 Irrigation Schedule'!$P$19,O43))","v":""},"",{"$f":"IF(H43=\"\",\"\",U43/'3 Irrigation Schedule'!$M$19)","v":""}]
[null,null,null,"2020","March","2020-03-11",null,"","",5.2153200000000011,"",0,"",{"$f":"IF(OR('3 Irrigation Schedule'!$C$29=\"\",'3 Irrigation Schedule'!$C$31=\"\",H44=\"\"),\"\",(('3 Irrigation Schedule'!$C$29-'3 Irrigation Schedule'!$C$31)/100)*1000*M44)","v":""},"",{"$f":"IF(H44=\"\",\"\",IF(H44=1,N44*(1-'3 Irrigation Schedule'!$C$27),S43-U43))","v":""},"","","",{"$f":"IF(H44=\"\",\"\",IF('3 Irrigation Schedule'!$P$19<O44,'3 Irrigation Schedule'!$P$19,O44))","v":""},"",{"$f":"IF(H44=\"\",\"\",U44/'3 Irrigation Schedule'!$M$19)","v":""}]
[null,null,null,"2020","March","2020-03-12",null,"","",5.2153200000000011,"",0,"",{"$f":"IF(OR('3 Irrigation Schedule'!$C$29=\"\",'3 Irrigation Schedule'!$C$31=\"\",H45=\"\"),\"\",(('3 Irrigation Schedule'!$C$29-'3 Irrigation Schedule'!$C$31)/100)*1000*M45)","v":""},"",{"$f":"IF(H45=\"\",\"\",IF(H45=1,N45*(1-'3 Irrigation Schedule'!$C$27),S44-U44))","v":""},"","","",{"$f":"IF(H45=\"\",\"\",IF('3 Irrigation Schedule'!$P$19<O45,'3 Irrigation Schedule'!$P$19,O45))","v":""},"",{"$f":"IF(H45=\"\",\"\",U45/'3 Irrigation Schedule'!$M$19)","v":""}]
[null,null,null,"2020","March","2020-03-13",null,"","",5.2153200000000011,"",0,"",{"$f":"IF(OR('3 Irrigation Schedule'!$C$29=\"\",'3 Irrigation Schedule'!$C$31=\"\",H46=\"\"),\"\",(('3 Irrigation Schedule'!$C$29-'3 Irrigation Schedule'!$C$31)/100)*1000*M46)","v":""},"",{"$f":"IF(H46=\"\",\"\",IF(H46=1,N46*(1-'3 Irrigation Schedule'!$C$27),S45-U45))","v":""},"","","",{"$f":"IF(H46=\"\",\"\",IF('3 Irrigation Schedule'!$P$19<O46,'3 Irrigation Schedule'!$P$19,O46))","v":""},"",{"$f":"IF(H46=\"\",\"\",U46/'3 Irrigation Schedule'!$M$19)","v":""}]
[null,null,null,"2020","March","2020-03-14",null,"","",5.2153200000000011,"",0,"",{"$f":"IF(OR('3 Irrigation Schedule'!$C$29=\"\",'3 Irrigation Schedule'!$C$31=\"\",H47=\"\"),\"\",(('3 Irrigation Schedule'!$C$29-'3 Irrigation Schedule'!$C$31)/100)*1000*M47)","v":""},"",{"$f":"IF(H47=\"\",\"\",IF(H47=1,N47*(1-'3 Irrigation Schedule'!$C$27),S46-U46))","v":""},"","","",{"$f":"IF(H47=\"\",\"\",IF('3 Irrigation Schedule'!$P$19<O47,'3 Irrigation Schedule'!$P$19,O47))","v":""},"",{"$f":"IF(H47=\"\",\"\",U47/'3 Irrigation Schedule'!$M$19)","v":""}]
[null,null,null,"2020","March","2020-03-15",null,1,"Initial",5.2153200000000011,0.3,1.5645960000000003,0.3,{"$f":"IF(OR('3 Irrigation Schedule'!$C$29=\"\",'3 Irrigation Schedule'!$C$31=\"\",H48=\"\"),\"\",(('3 Irrigation Schedule'!$C$29-'3 Irrigation Schedule'!$C$31)/100)*1000*M48)","v":42},23.1,{"$f":"IF(H48=\"\",\"\",IF(H48=1,N48*(1-'3 Irrigation Schedule'!$C$27),S47-U47))","v":21},1,1.5645960000000003,22.564596000000002,{"$f":"IF(H48=\"\",\"\",IF('3 Irrigation Schedule'!$P$19<O48,'3 Irrigation Schedule'!$P$19,O48))","v":10},10,{"$f":"IF(H48=\"\",\"\",U48/'3 Irrigation Schedule'!$M$19)","v":11.111111111111111}]
[null,null,null,"2020","March","2020-03-16",null,2,"Initial",5.2153200000000011,0.3,1.5645960000000003,0.31296296296296294,{"$f":"IF(OR('3 Irrigation Schedule'!$C$29=\"\",'3 Irrigation Schedule'!$C$31=\"\",H49=\"\"),\"\",(('3 Irrigation Schedule'!$C$29-'3 Irrigation Schedule'!$C$31)/100)*1000*M49)","v":43.81481481481481},24.098148148148148,{"$f":"IF(H49=\"\",\"\",IF(H49=1,N49*(1-'3 Irrigation Schedule'!$C$27),S48-U48))","v":12.564596000000002},{"$f":"IF(H49=\"\",\"\",IF(P49>O49,(N49-P49)/(N49-O49),1))","v":1},{"$f":"IF(H49=\"\",\"\",L49*Q49)","v":1.5645960000000003},{"$f":"IF(H49=\"\",\"\",P49+R49)","v":14.129192000000002},{"$f":"IF(H49=\"\",\"\",IF('3 Irrigation Schedule'!$P$19<O49,'3 Irrigation Schedule'!$P$19,O49))","v":10},10,{"$f":"IF(H49=\"\",\"\",U49/'3 Irrigation Schedule'!$M$19)","v":11.111111111111111}]
[null,null,null,"2020","March","2020-03-17",null,3,"Initial",5.2153200000000011,0.3,1.5645960000000003,0.3259259259259259,{"$f":"IF(OR('3 Irrigation Schedule'!$C$29=\"\",'3 Irrigation Schedule'!$C$31=\"\",H50=\"\"),\"\",(('3 Irrigation Schedule'!$C$29-'3 Irrigation Schedule'!$C$31)/100)*1000*M50)","v":45.629629629629626},25.096296296296295,{"$f":"IF(H50=\"\",\"\",IF(H50=1,N50*(1-'3 Irrigation Schedule'!$C$27),S49-U49))","v":4.1291920000000015},1,1.5645960000000003,5.6937880000000014,{"$f":"IF(H50=\"\",\"\",IF('3 Irrigation Schedule'!$P$19<O50,'3 Irrigation Schedule'!$P$19,O50))","v":10},0,{"$f":"IF(H50=\"\",\"\",U50/'3 Irrigation Schedule'!$M$19)","v":0}]
[null,null,null,"2020","March","2020-03-18",null,4,"Initial",5.2153200000000011,0.3,1.5645960000000003,0.33888888888888885,{"$f":"IF(OR('3 Irrigation Schedule'!$C$29=\"\",'3 Irrigation Schedule'!$C$31=\"\",H51=\"\"),\"\",(('3 Irrigation Schedule'!$C$29-'3 Irrigation Schedule'!$C$31)/100)*1000*M51)","v":47.444444444444436},26.094444444444441,{"$f":"IF(H51=\"\",\"\",IF(H51=1,N51*(1-'3 Irrigation Schedule'!$C$27),S50-U50))","v":5.6937880000000014},1,1.5645960000000003,7.2583840000000013,{"$f":"IF(H51=\"\",\"\",IF('3 Irrigation Schedule'!$P$19<O51,'3 Irrigation Schedule'!$P$19,O51))","v":10},0,{"$f":"IF(H51=\"\",\"\",U51/'3 Irrigation Schedule'!$M$19)","v":0}]
[null,null,null,"2020","March","2020-03-19",null,5,"Initial",5.2153200000000011,0.3,1.5645960000000003,0.35185185185185186,{"$f":"IF(OR('3 Irrigation Schedule'!$C$29=\"\",'3 Irrigation Schedule'!$C$31=\"\",H52=\"\"),\"\",(('3 Irrigation Schedule'!$C$29-'3 Irrigation Schedule'!$C$31)/100)*1000*M52)","v":49.25925925925926},27.092592592592595,{"$f":"IF(H52=\"\",\"\",IF(H52=1,N52*(1-'3 Irrigation Schedule'!$C$27),S51-U51))","v":7.2583840000000013},1,1.5645960000000003,8.8229800000000012,{"$f":"IF(H52=\"\",\"\",IF('3 Irrigation Schedule'!$P$19<O52,'3 Irrigation Schedule'!$P$19,O52))","v":10},0,{"$f":"IF(H52=\"\",\"\",U52/'3 Irrigation Schedule'!$M$19)","v":0}]
[null,null,null,"2020","March","2020-03-20",null,6,"Initial",5.2153200000000011,0.3,1.5645960000000003,0.36481481481481481,{"$f":"IF(OR('3 Irrigation Schedule'!$C$29=\"\",'3 Irrigation Schedule'!$C$31=\"\",H53=\"\"),\"\",(('3 Irrigation Schedule'!$C$29-'3 Irrigation Schedule'!$C$31)/100)*1000*M53)","v":51.074074074074076},28.090740740740745,{"$f":"IF(H53=\"\",\"\",IF(H53=1,N53*(1-'3 Irrigation Schedule'!$C$27),S52-U52))","v":8.8229800000000012},1,1.5645960000000003,10.387576000000001,{"$f":"IF(H53=\"\",\"\",IF('3 Irrigation Schedule'!$P$19<O53,'3 Irrigation Schedule'!$P$19,O53))","v":10},10,{"$f":"IF(H53=\"\",\"\",U53/'3 Irrigation Schedule'!$M$19)","v":11.111111111111111}]
[null,null,null,"2020","March","2020-03-21",null,7,"Initial",5.2153200000000011,0.3,1.5645960000000003,0.37777777777777777,{"$f":"IF(OR('3 Irrigation Schedule'!$C$29=\"\",'3 Irrigation Schedule'!$C$31=\"\",H54=\"\"),\"\",(('3 Irrigation Schedule'!$C$29-'3 Irrigation Schedule'!$C$31)/100)*1000*M54)","v":52.888888888888886},29.088888888888889,{"$f":"IF(H54=\"\",\"\",IF(H54=1,N54*(1-'3 Irrigation Schedule'!$C$27),S53-U53))","v":0.38757600000000103},1,1.5645960000000003,1.9521720000000014,{"$f":"IF(H54=\"\",\"\",IF('3 Irrigation Schedule'!$P$19<O54,'3 Irrigation Schedule'!$P$19,O54))","v":10},0,{"$f":"IF(H54=\"\",\"\",U54/'3 Irrigation Schedule'!$M$19)","v":0}]
[null,null,null,"2020","March","2020-03-22",null,8,"Initial",5.2153200000000011,0.3,1.5645960000000003,0.39074074074074072,{"$f":"IF(OR('3 Irrigation Schedule'!$C$29=\"\",'3 Irrigation Schedule'!$C$31=\"\",H55=\"\"),\"\",(('3 Irrigation Schedule'!$C$29-'3 Irrigation Schedule'!$C$31)/100)*1000*M55)","v":54.703703703703702},30.087037037037039,{"$f":"IF(H55=\"\",\"\",IF(H55=1,N55*(1-'3 Irrigation Schedule'!$C$27),S54-U54))","v":1.9521720000000014},1,1.5645960000000003,3.5167680000000017,{"$f":"IF(H55=\"\",\"\",IF('3 Irrigation Schedule'!$P$19<O55,'3 Irrigation Schedule'!$P$19,O55))","v":10},0,{"$f":"IF(H55=\"\",\"\",U55/'3 Irrigation Schedule'!$M$19)","v":0}]
[null,null,null,"2020","March","2020-03-23",null,9,"Initial",5.2153200000000011,0.3,1.5645960000000003,0.40370370370370368,{"$f":"IF(OR('3 Irrigation Schedule'!$C$29=\"\",'3 Irrigation Schedule'!$C$31=\"\",H56=\"\"),\"\",(('3 Irrigation Schedule'!$C$29-'3 Irrigation Schedule'!$C$31)/100)*1000*M56)","v":56.518518518518512},31.085185185185185,{"$f":"IF(H56=\"\",\"\",IF(H56=1,N56*(1-'3 Irrigation Schedule'!$C$27),S55-U55))","v":3.5167680000000017},1,1.5645960000000003,5.0813640000000024,{"$f":"IF(H56=\"\",\"\",IF('3 Irrigation Schedule'!$P$19<O56,'3 Irrigation Schedule'!$P$19,O56))","v":10},0,{"$f":"IF(H56=\"\",\"\",U56/'3 Irrigation Schedule'!$M$19)","v":0}]
[null,null,null,"2020","March","2020-03-24",null,10,"Initial",5.2153200000000011,0.3,1.5645960000000003,0.41666666666666663,{"$f":"IF(OR('3 Irrigation Schedule'!$C$29=\"\",'3 Irrigation Schedule'!$C$31=\"\",H57=\"\"),\"\",(('3 Irrigation Schedule'!$C$29-'3 Irrigation Schedule'!$C$31)/100)*1000*M57)","v":58.333333333333329},32.083333333333336,{"$f":"IF(H57=\"\",\"\",IF(H57=1,N57*(1-'3 Irrigation Schedule'!$C$27),S56-U56))","v":5.0813640000000024},1,1.5645960000000003,6.6459600000000023,{"$f":"IF(H57=\"\",\"\",IF('3 Irrigation Schedule'!$P$19<O57,'3 Irrigation Schedule'!$P$19,O57))","v":10},0,{"$f":"IF(H57=\"\",\"\",U57/'3 Irrigation Schedule'!$M$19)","v":0}]
[null,null,null,"2020","March","2020-03-25",null,11,"Initial",5.2153200000000011,0.3,1.5645960000000003,0.42962962962962958,{"$f":"IF(OR('3 Irrigation Schedule'!$C$29=\"\",'3 Irrigation Schedule'!$C$31=\"\",H58=\"\"),\"\",(('3 Irrigation Schedule'!$C$29-'3 Irrigation Schedule'!$C$31)/100)*1000*M58)","v":60.148148148148138},33.081481481481475,{"$f":"IF(H58=\"\",\"\",IF(H58=1,N58*(1-'3 Irrigation Schedule'!$C$27),S57-U57))","v":6.6459600000000023},1,1.5645960000000003,8.2105560000000022,{"$f":"IF(H58=\"\",\"\",IF('3 Irrigation Schedule'!$P$19<O58,'3 Irrigation Schedule'!$P$19,O58))","v":10},0,{"$f":"IF(H58=\"\",\"\",U58/'3 Irrigation Schedule'!$M$19)","v":0}]
[null,null,null,"2020","March","2020-03-26",null,12,"Initial",5.2153200000000011,0.3,1.5645960000000003,0.44259259259259254,{"$f":"IF(OR('3 Irrigation Schedule'!$C$29=\"\",'3 Irrigation Schedule'!$C$31=\"\",H59=\"\"),\"\",(('3 Irrigation Schedule'!$C$29-'3 Irrigation Schedule'!$C$31)/100)*1000*M59)","v":61.962962962962955},34.079629629629629,{"$f":"IF(H59=\"\",\"\",IF(H59=1,N59*(1-'3 Irrigation Schedule'!$C$27),S58-U58))","v":8.2105560000000022},1,1.5645960000000003,9.7751520000000021,{"$f":"IF(H59=\"\",\"\",IF('3 Irrigation Schedule'!$P$19<O59,'3 Irrigation Schedule'!$P$19,O59))","v":10},0,{"$f":"IF(H59=\"\",\"\",U59/'3 Irrigation Schedule'!$M$19)","v":0}]
[null,null,null,"2020","March","2020-03-27",null,13,"Initial",5.2153200000000011,0.3,1.5645960000000003,0.45555555555555549,{"$f":"IF(OR('3 Irrigation Schedule'!$C$29=\"\",'3 Irrigation Schedule'!$C$31=\"\",H60=\"\"),\"\",(('3 Irrigation Schedule'!$C$29-'3 Irrigation Schedule'!$C$31)/100)*1000*M60)","v":63.777777777777771},35.077777777777776,{"$f":"IF(H60=\"\",\"\",IF(H60=1,N60*(1-'3 Irrigation Schedule'!$C$27),S59-U59))","v":9.7751520000000021},1,1.5645960000000003,11.339748000000002,{"$f":"IF(H60=\"\",\"\",IF('3 Irrigation Schedule'!$P$19<O60,'3 Irrigation Schedule'!$P$19,O60))","v":10},10,{"$f":"IF(H60=\"\",\"\",U60/'3 Irrigation Schedule'!$M$19)","v":11.111111111111111}]
[null,null,null,"2020","March","2020-03-28",null,14,"Initial",5.2153200000000011,0.3,1.5645960000000003,0.4685185185185185,{"$f":"IF(OR('3 Irrigation Schedule'!$C$29=\"\",'3 Irrigation Schedule'!$C$31=\"\",H61=\"\"),\"\",(('3 Irrigation Schedule'!$C$29-'3 Irrigation Schedule'!$C$31)/100)*1000*M61)","v":65.592592592592595},36.07592592592593,{"$f":"IF(H61=\"\",\"\",IF(H61=1,N61*(1-'3 Irrigation Schedule'!$C$27),S60-U60))","v":1.3397480000000019},1,1.5645960000000003,2.9043440000000023,{"$f":"IF(H61=\"\",\"\",IF('3 Irrigation Schedule'!$P$19<O61,'3 Irrigation Schedule'!$P$19,O61))","v":10},0,{"$f":"IF(H61=\"\",\"\",U61/'3 Irrigation Schedule'!$M$19)","v":0}]
[null,null,null,"2020","March","2020-03-29",null,15,"Initial",5.2153200000000011,0.3,1.5645960000000003,0.48148148148148145,{"$f":"IF(OR('3 Irrigation Schedule'!$C$29=\"\",'3 Irrigation Schedule'!$C$31=\"\",H62=\"\"),\"\",(('3 Irrigation Schedule'!$C$29-'3 Irrigation Schedule'!$C$31)/100)*1000*M62)","v":67.407407407407405},37.074074074074076,{"$f":"IF(H62=\"\",\"\",IF(H62=1,N62*(1-'3 Irrigation Schedule'!$C$27),S61-U61))","v":2.9043440000000023},1,1.5645960000000003,4.4689400000000026,{"$f":"IF(H62=\"\",\"\",IF('3 Irrigation Schedule'!$P$19<O62,'3 Irrigation Schedule'!$P$19,O62))","v":10},0,{"$f":"IF(H62=\"\",\"\",U62/'3 Irrigation Schedule'!$M$19)","v":0}]
[null,null,null,"2020","March","2020-03-30",null,16,"Initial",5.2153200000000011,0.3,1.5645960000000003,0.49444444444444446,{"$f":"IF(OR('3 Irrigation Schedule'!$C$29=\"\",'3 Irrigation Schedule'!$C$31=\"\",H63=\"\"),\"\",(('3 Irrigation Schedule'!$C$29-'3 Irrigation Schedule'!$C$31)/100)*1000*M63)","v":69.222222222222229},38.07222222222223,{"$f":"IF(H63=\"\",\"\",IF(H63=1,N63*(1-'3 Irrigation Schedule'!$C$27),S62-U62))","v":4.4689400000000026},1,1.5645960000000003,6.0335360000000033,{"$f":"IF(H63=\"\",\"\",IF('3 Irrigation Schedule'!$P$19<O63,'3 Irrigation Schedule'!$P$19,O63))","v":10},0,{"$f":"IF(H63=\"\",\"\",U63/'3 Irrigation Schedule'!$M$19)","v":0}]
[null,null,null,"2020","March","2020-03-31",null,17,"Initial",5.2153200000000011,0.3,1.5645960000000003,0.50740740740740731,{"$f":"IF(OR('3 Irrigation Schedule'!$C$29=\"\",'3 Irrigation Schedule'!$C$31=\"\",H64=\"\"),\"\",(('3 Irrigation Schedule'!$C$29-'3 Irrigation Schedule'!$C$31)/100)*1000*M64)","v":71.037037037037024},39.07037037037037,{"$f":"IF(H64=\"\",\"\",IF(H64=1,N64*(1-'3 Irrigation Schedule'!$C$27),S63-U63))","v":6.0335360000000033},1,1.5645960000000003,7.5981320000000032,{"$f":"IF(H64=\"\",\"\",IF('3 Irrigation Schedule'!$P$19<O64,'3 Irrigation Schedule'!$P$19,O64))","v":10},0,{"$f":"IF(H64=\"\",\"\",U64/'3 Irrigation Schedule'!$M$19)","v":0}]
[null,null,null,"2020","April","2020-04-01",null,18,"Initial",5.3054400000000008,0.3,1.5916320000000002,0.52037037037037037,{"$f":"IF(OR('3 Irrigation Schedule'!$C$29=\"\",'3 Irrigation Schedule'!$C$31=\"\",H65=\"\"),\"\",(('3 Irrigation Schedule'!$C$29-'3 Irrigation Schedule'!$C$31)/100)*1000*M65)","v":72.851851851851848},40.068518518518516,{"$f":"IF(H65=\"\",\"\",IF(H65=1,N65*(1-'3 Irrigation Schedule'!$C$27),S64-U64))","v":7.5981320000000032},1,1.5916320000000002,9.1897640000000038,{"$f":"IF(H65=\"\",\"\",IF('3 Irrigation Schedule'!$P$19<O65,'3 Irrigation Schedule'!$P$19,O65))","v":10},0,{"$f":"IF(H65=\"\",\"\",U65/'3 Irrigation Schedule'!$M$19)","v":0}]
[null,null,null,"2020","April","2020-04-02",null,19,"Initial",5.3054400000000008,0.3,1.5916320000000002,0.53333333333333333,{"$f":"IF(OR('3 Irrigation Schedule'!$C$29=\"\",'3 Irrigation Schedule'!$C$31=\"\",H66=\"\"),\"\",(('3 Irrigation Schedule'!$C$29-'3 Irrigation Schedule'!$C$31)/100)*1000*M66)","v":74.666666666666671},41.06666666666667,{"$f":"IF(H66=\"\",\"\",IF(H66=1,N66*(1-'3 Irrigation Schedule'!$C$27),S65-U65))","v":9.1897640000000038},1,1.5916320000000002,10.781396000000004,{"$f":"IF(H66=\"\",\"\",IF('3 Irrigation Schedule'!$P$19<O66,'3 Irrigation Schedule'!$P$19,O66))","v":10},10,{"$f":"IF(H66=\"\",\"\",U66/'3 Irrigation Schedule'!$M$19)","v":11.111111111111111}]
[null,null,null,"2020","April","2020-04-03",null,20,"Initial",5.3054400000000008,0.3,1.5916320000000002,0.54629629629629628,{"$f":"IF(OR('3 Irrigation Schedule'!$C$29=\"\",'3 Irrigation Schedule'!$C$31=\"\",H67=\"\"),\"\",(('3 Irrigation Schedule'!$C$29-'3 Irrigation Schedule'!$C$31)/100)*1000*M67)","v":76.481481481481481},42.064814814814817,{"$f":"IF(H67=\"\",\"\",IF(H67=1,N67*(1-'3 Irrigation Schedule'!$C$27),S66-U66))","v":0.78139600000000442},1,1.5916320000000002,2.3730280000000046,{"$f":"IF(H67=\"\",\"\",IF('3 Irrigation Schedule'!$P$19<O67,'3 Irrigation Schedule'!$P$19,O67))","v":10},0,{"$f":"IF(H67=\"\",\"\",U67/'3 Irrigation Schedule'!$M$19)","v":0}]
[null,null,null,"2020","April","2020-04-04",null,21,"Development",5.3054400000000008,0.32571428571428568,1.7280576000000001,0.55925925925925923,{"$f":"IF(OR('3 Irrigation Schedule'!$C$29=\"\",'3 Irrigation Schedule'!$C$31=\"\",H68=\"\"),\"\",(('3 Irrigation Schedule'!$C$29-'3 Irrigation Schedule'!$C$31)/100)*1000*M68)","v":78.296296296296291},43.062962962962963,{"$f":"IF(H68=\"\",\"\",IF(H68=1,N68*(1-'3 Irrigation Schedule'!$C$27),S67-U67))","v":2.3730280000000046},1,1.7280576000000001,4.1010856000000047,{"$f":"IF(H68=\"\",\"\",IF('3 Irrigation Schedule'!$P$19<O68,'3 Irrigation Schedule'!$P$19,O68))","v":10},0,{"$f":"IF(H68=\"\",\"\",U68/'3 Irrigation Schedule'!$M$19)","v":0}]
[null,null,null,"2020","April","2020-04-05",null,22,"Development",5.3054400000000008,0.35142857142857142,1.8644832000000002,0.57222222222222219,{"$f":"IF(OR('3 Irrigation Schedule'!$C$29=\"\",'3 Irrigation Schedule'!$C$31=\"\",H69=\"\"),\"\",(('3 Irrigation Schedule'!$C$29-'3 Irrigation Schedule'!$C$31)/100)*1000*M69)","v":80.1111111111111},44.06111111111111,{"$f":"IF(H69=\"\",\"\",IF(H69=1,N69*(1-'3 Irrigation Schedule'!$C$27),S68-U68))","v":4.1010856000000047},1,1.8644832000000002,5.9655688000000051,{"$f":"IF(H69=\"\",\"\",IF('3 Irrigation Schedule'!$P$19<O69,'3 Irrigation Schedule'!$P$19,O69))","v":10},0,{"$f":"IF(H69=\"\",\"\",U69/'3 Irrigation Schedule'!$M$19)","v":0}]
[null,null,null,"2020","April","2020-04-06",null,23,"Development",5.3054400000000008,0.37714285714285711,2.0009087999999999,0.58518518518518514,{"$f":"IF(OR('3 Irrigation Schedule'!$C$29=\"\",'3 Irrigation Schedule'!$C$31=\"\",H70=\"\"),\"\",(('3 Irrigation Schedule'!$C$29-'3 Irrigation Schedule'!$C$31)/100)*1000*M70)","v":81.925925925925924},45.059259259259264,{"$f":"IF(H70=\"\",\"\",IF(H70=1,N70*(1-'3 Irrigation Schedule'!$C$27),S69-U69))","v":5.9655688000000051},1,2.0009087999999999,7.9664776000000046,{"$f":"IF(H70=\"\",\"\",IF('3 Irrigation Schedule'!$P$19<O70,'3 Irrigation Schedule'!$P$19,O70))","v":10},0,{"$f":"IF(H70=\"\",\"\",U70/'3 Irrigation Schedule'!$M$19)","v":0}]
[null,null,null,"2020","April","2020-04-07",null,24,"Development",5.3054400000000008,0.4028571428571428,2.1373343999999999,0.5981481481481481,{"$f":"IF(OR('3 Irrigation Schedule'!$C$29=\"\",'3 Irrigation Schedule'!$C$31=\"\",H71=\"\"),\"\",(('3 Irrigation Schedule'!$C$29-'3 Irrigation Schedule'!$C$31)/100)*1000*M71)","v":83.740740740740733},46.05740740740741,{"$f":"IF(H71=\"\",\"\",IF(H71=1,N71*(1-'3 Irrigation Schedule'!$C$27),S70-U70))","v":7.9664776000000046},1,2.1373343999999999,10.103812000000005,{"$f":"IF(H71=\"\",\"\",IF('3 Irrigation Schedule'!$P$19<O71,'3 Irrigation Schedule'!$P$19,O71))","v":10},10,{"$f":"IF(H71=\"\",\"\",U71/'3 Irrigation Schedule'!$M$19)","v":11.111111111111111}]
[null,null,null,"2020","April","2020-04-08",null,25,"Development",5.3054400000000008,0.42857142857142855,2.2737600000000002,0.61111111111111105,{"$f":"IF(OR('3 Irrigation Schedule'!$C$29=\"\",'3 Irrigation Schedule'!$C$31=\"\",H72=\"\"),\"\",(('3 Irrigation Schedule'!$C$29-'3 Irrigation Schedule'!$C$31)/100)*1000*M72)","v":85.555555555555543},47.05555555555555,{"$f":"IF(H72=\"\",\"\",IF(H72=1,N72*(1-'3 Irrigation Schedule'!$C$27),S71-U71))","v":0.1038120000000049},1,2.2737600000000002,2.3775720000000051,{"$f":"IF(H72=\"\",\"\",IF('3 Irrigation Schedule'!$P$19<O72,'3 Irrigation Schedule'!$P$19,O72))","v":10},0,{"$f":"IF(H72=\"\",\"\",U72/'3 Irrigation Schedule'!$M$19)","v":0}]
[null,null,null,"2020","April","2020-04-09",null,26,"Development",5.3054400000000008,0.45428571428571429,2.4101856000000006,0.624074074074074,{"$f":"IF(OR('3 Irrigation Schedule'!$C$29=\"\",'3 Irrigation Schedule'!$C$31=\"\",H73=\"\"),\"\",(('3 Irrigation Schedule'!$C$29-'3 Irrigation Schedule'!$C$31)/100)*1000*M73)","v":87.370370370370367},48.053703703703704,{"$f":"IF(H73=\"\",\"\",IF(H73=1,N73*(1-'3 Irrigation Schedule'!$C$27),S72-U72))","v":2.3775720000000051},1,2.4101856000000006,4.7877576000000062,{"$f":"IF(H73=\"\",\"\",IF('3 Irrigation Schedule'!$P$19<O73,'3 Irrigation Schedule'!$P$19,O73))","v":10},0,{"$f":"IF(H73=\"\",\"\",U73/'3 Irrigation Schedule'!$M$19)","v":0}]
[null,null,null,"2020","April","2020-04-10",null,27,"Development",5.3054400000000008,0.48,2.5466112000000005,0.63703703703703707,{"$f":"IF(OR('3 Irrigation Schedule'!$C$29=\"\",'3 Irrigation Schedule'!$C$31=\"\",H74=\"\"),\"\",(('3 Irrigation Schedule'!$C$29-'3 Irrigation Schedule'!$C$31)/100)*1000*M74)","v":89.18518518518519},49.051851851851858,{"$f":"IF(H74=\"\",\"\",IF(H74=1,N74*(1-'3 Irrigation Schedule'!$C$27),S73-U73))","v":4.7877576000000062},1,2.5466112000000005,7.3343688000000071,{"$f":"IF(H74=\"\",\"\",IF('3 Irrigation Schedule'!$P$19<O74,'3 Irrigation Schedule'!$P$19,O74))","v":10},0,{"$f":"IF(H74=\"\",\"\",U74/'3 Irrigation Schedule'!$M$19)","v":0}]
[null,null,null,"2020","April","2020-04-11",null,28,"Development",5.3054400000000008,0.50571428571428567,2.6830368,0.64999999999999991,{"$f":"IF(OR('3 Irrigation Schedule'!$C$29=\"\",'3 Irrigation Schedule'!$C$31=\"\",H75=\"\"),\"\",(('3 Irrigation Schedule'!$C$29-'3 Irrigation Schedule'!$C$31)/100)*1000*M75)","v":90.999999999999986},50.05,{"$f":"IF(H75=\"\",\"\",IF(H75=1,N75*(1-'3 Irrigation Schedule'!$C$27),S74-U74))","v":7.3343688000000071},1,2.6830368,10.017405600000007,{"$f":"IF(H75=\"\",\"\",IF('3 Irrigation Schedule'!$P$19<O75,'3 Irrigation Schedule'!$P$19,O75))","v":10},10,{"$f":"IF(H75=\"\",\"\",U75/'3 Irrigation Schedule'!$M$19)","v":11.111111111111111}]
[null,null,null,"2020","April","2020-04-12",null,29,"Development",5.3054400000000008,0.53142857142857136,2.8194623999999999,0.66296296296296298,{"$f":"IF(OR('3 Irrigation Schedule'!$C$29=\"\",'3 Irrigation Schedule'!$C$31=\"\",H76=\"\"),\"\",(('3 Irrigation Schedule'!$C$29-'3 Irrigation Schedule'!$C$31)/100)*1000*M76)","v":92.81481481481481},51.048148148148151,{"$f":"IF(H76=\"\",\"\",IF(H76=1,N76*(1-'3 Irrigation Schedule'!$C$27),S75-U75))","v":1.7405600000007126E-2},1,2.8194623999999999,2.8368680000000071,{"$f":"IF(H76=\"\",\"\",IF('3 Irrigation Schedule'!$P$19<O76,'3 Irrigation Schedule'!$P$19,O76))","v":10},0,{"$f":"IF(H76=\"\",\"\",U76/'3 Irrigation Schedule'!$M$19)","v":0}]
[null,null,null,"2020","April","2020-04-13",null,30,"Development",5.3054400000000008,0.55714285714285716,2.9558880000000007,0.67592592592592593,{"$f":"IF(OR('3 Irrigation Schedule'!$C$29=\"\",'3 Irrigation Schedule'!$C$31=\"\",H77=\"\"),\"\",(('3 Irrigation Schedule'!$C$29-'3 Irrigation Schedule'!$C$31)/100)*1000*M77)","v":94.629629629629633},52.046296296296305,{"$f":"IF(H77=\"\",\"\",IF(H77=1,N77*(1-'3 Irrigation Schedule'!$C$27),S76-U76))","v":2.8368680000000071},1,2.9558880000000007,5.7927560000000078,{"$f":"IF(H77=\"\",\"\",IF('3 Irrigation Schedule'!$P$19<O77,'3 Irrigation Schedule'!$P$19,O77))","v":10},0,{"$f":"IF(H77=\"\",\"\",U77/'3 Irrigation Schedule'!$M$19)","v":0}]
[null,null,null,"2020","April","2020-04-14",null,31,"Development",5.3054400000000008,0.58285714285714274,3.0923135999999998,0.68888888888888888,{"$f":"IF(OR('3 Irrigation Schedule'!$C$29=\"\",'3 Irrigation Schedule'!$C$31=\"\",H78=\"\"),\"\",(('3 Irrigation Schedule'!$C$29-'3 Irrigation Schedule'!$C$31)/100)*1000*M78)","v":96.444444444444443},53.044444444444451,{"$f":"IF(H78=\"\",\"\",IF(H78=1,N78*(1-'3 Irrigation Schedule'!$C$27),S77-U77))","v":5.7927560000000078},1,3.0923135999999998,8.8850696000000084,{"$f":"IF(H78=\"\",\"\",IF('3 Irrigation Schedule'!$P$19<O78,'3 Irrigation Schedule'!$P$19,O78))","v":10},0,{"$f":"IF(H78=\"\",\"\",U78/'3 Irrigation Schedule'!$M$19)","v":0}]
[null,null,null,"2020","April","2020-04-15",null,32,"Development",5.3054400000000008,0.60857142857142854,3.2287392000000001,0.70185185185185184,{"$f":"IF(OR('3 Irrigation Schedule'!$C$29=\"\",'3 Irrigation Schedule'!$C$31=\"\",H79=\"\"),\"\",(('3 Irrigation Schedule'!$C$29-'3 Irrigation Schedule'!$C$31)/100)*1000*M79)","v":98.259259259259252},54.042592592592591,{"$f":"IF(H79=\"\",\"\",IF(H79=1,N79*(1-'3 Irrigation Schedule'!$C$27),S78-U78))","v":8.8850696000000084},1,3.2287392000000001,12.113808800000008,{"$f":"IF(H79=\"\",\"\",IF('3 Irrigation Schedule'!$P$19<O79,'3 Irrigation Schedule'!$P$19,O79))","v":10},10,{"$f":"IF(H79=\"\",\"\",U79/'3 Irrigation Schedule'!$M$19)","v":11.111111111111111}]
[null,null,null,"2020","April","2020-04-16",null,33,"Development",5.3054400000000008,0.63428571428571423,3.3651648000000001,0.71481481481481479,{"$f":"IF(OR('3 Irrigation Schedule'!$C$29=\"\",'3 Irrigation Schedule'!$C$31=\"\",H80=\"\"),\"\",(('3 Irrigation Schedule'!$C$29-'3 Irrigation Schedule'!$C$31)/100)*1000*M80)","v":100.07407407407408},55.040740740740745,{"$f":"IF(H80=\"\",\"\",IF(H80=1,N80*(1-'3 Irrigation Schedule'!$C$27),S79-U79))","v":2.1138088000000081},1,3.3651648000000001,5.4789736000000087,{"$f":"IF(H80=\"\",\"\",IF('3 Irrigation Schedule'!$P$19<O80,'3 Irrigation Schedule'!$P$19,O80))","v":10},0,{"$f":"IF(H80=\"\",\"\",U80/'3 Irrigation Schedule'!$M$19)","v":0}]
[null,null,null,"2020","April","2020-04-17",null,34,"Development",5.3054400000000008,0.65999999999999992,3.5015904,0.72777777777777786,{"$f":"IF(OR('3 Irrigation Schedule'!$C$29=\"\",'3 Irrigation Schedule'!$C$31=\"\",H81=\"\"),\"\",(('3 Irrigation Schedule'!$C$29-'3 Irrigation Schedule'!$C$31)/100)*1000*M81)","v":101.8888888888889},56.038888888888899,{"$f":"IF(H81=\"\",\"\",IF(H81=1,N81*(1-'3 Irrigation Schedule'!$C$27),S80-U80))","v":5.4789736000000087},1,3.5015904,8.9805640000000082,{"$f":"IF(H81=\"\",\"\",IF('3 Irrigation Schedule'!$P$19<O81,'3 Irrigation Schedule'!$P$19,O81))","v":10},0,{"$f":"IF(H81=\"\",\"\",U81/'3 Irrigation Schedule'!$M$19)","v":0}]
[null,null,null,"2020","April","2020-04-18",null,35,"Development",5.3054400000000008,0.68571428571428572,3.6380160000000008,0.7407407407407407,{"$f":"IF(OR('3 Irrigation Schedule'!$C$29=\"\",'3 Irrigation Schedule'!$C$31=\"\",H82=\"\"),\"\",(('3 Irrigation Schedule'!$C$29-'3 Irrigation Schedule'!$C$31)/100)*1000*M82)","v":103.7037037037037},57.037037037037038,{"$f":"IF(H82=\"\",\"\",IF(H82=1,N82*(1-'3 Irrigation Schedule'!$C$27),S81-U81))","v":8.9805640000000082},1,3.6380160000000008,12.618580000000009,{"$f":"IF(H82=\"\",\"\",IF('3 Irrigation Schedule'!$P$19<O82,'3 Irrigation Schedule'!$P$19,O82))","v":10},10,{"$f":"IF(H82=\"\",\"\",U82/'3 Irrigation Schedule'!$M$19)","v":11.111111111111111}]
[null,null,null,"2020","April","2020-04-19",null,36,"Development",5.3054400000000008,0.7114285714285713,3.7744415999999998,0.75370370370370365,{"$f":"IF(OR('3 Irrigation Schedule'!$C$29=\"\",'3 Irrigation Schedule'!$C$31=\"\",H83=\"\"),\"\",(('3 Irrigation Schedule'!$C$29-'3 Irrigation Schedule'!$C$31)/100)*1000*M83)","v":105.5185185185185},58.035185185185185,{"$f":"IF(H83=\"\",\"\",IF(H83=1,N83*(1-'3 Irrigation Schedule'!$C$27),S82-U82))","v":2.6185800000000086},1,3.7744415999999998,6.393021600000008,{"$f":"IF(H83=\"\",\"\",IF('3 Irrigation Schedule'!$P$19<O83,'3 Irrigation Schedule'!$P$19,O83))","v":10},0,{"$f":"IF(H83=\"\",\"\",U83/'3 Irrigation Schedule'!$M$19)","v":0}]
[null,null,null,"2020","April","2020-04-20",null,37,"Development",5.3054400000000008,0.7371428571428571,3.9108672000000002,0.76666666666666661,{"$f":"IF(OR('3 Irrigation Schedule'!$C$29=\"\",'3 Irrigation Schedule'!$C$31=\"\",H84=\"\"),\"\",(('3 Irrigation Schedule'!$C$29-'3 Irrigation Schedule'!$C$31)/100)*1000*M84)","v":107.33333333333333},59.033333333333339,{"$f":"IF(H84=\"\",\"\",IF(H84=1,N84*(1-'3 Irrigation Schedule'!$C$27),S83-U83))","v":6.393021600000008},1,3.9108672000000002,10.303888800000008,{"$f":"IF(H84=\"\",\"\",IF('3 Irrigation Schedule'!$P$19<O84,'3 Irrigation Schedule'!$P$19,O84))","v":10},10,{"$f":"IF(H84=\"\",\"\",U84/'3 Irrigation Schedule'!$M$19)","v":11.111111111111111}]
[null,null,null,"2020","April","2020-04-21",null,38,"Development",5.3054400000000008,0.76285714285714268,4.0472927999999992,0.77962962962962967,{"$f":"IF(OR('3 Irrigation Schedule'!$C$29=\"\",'3 Irrigation Schedule'!$C$31=\"\",H85=\"\"),\"\",(('3 Irrigation Schedule'!$C$29-'3 Irrigation Schedule'!$C$31)/100)*1000*M85)","v":109.14814814814815},60.031481481481485,{"$f":"IF(H85=\"\",\"\",IF(H85=1,N85*(1-'3 Irrigation Schedule'!$C$27),S84-U84))","v":0.30388880000000817},1,4.0472927999999992,4.3511816000000074,{"$f":"IF(H85=\"\",\"\",IF('3 Irrigation Schedule'!$P$19<O85,'3 Irrigation Schedule'!$P$19,O85))","v":10},0,{"$f":"IF(H85=\"\",\"\",U85/'3 Irrigation Schedule'!$M$19)","v":0}]
[null,null,null,"2020","April","2020-04-22",null,39,"Development",5.3054400000000008,0.78857142857142848,4.1837184000000001,0.79259259259259252,{"$f":"IF(OR('3 Irrigation Schedule'!$C$29=\"\",'3 Irrigation Schedule'!$C$31=\"\",H86=\"\"),\"\",(('3 Irrigation Schedule'!$C$29-'3 Irrigation Schedule'!$C$31)/100)*1000*M86)","v":110.96296296296295},61.029629629629625,{"$f":"IF(H86=\"\",\"\",IF(H86=1,N86*(1-'3 Irrigation Schedule'!$C$27),S85-U85))","v":4.3511816000000074},1,4.1837184000000001,8.5349000000000075,{"$f":"IF(H86=\"\",\"\",IF('3 Irrigation Schedule'!$P$19<O86,'3 Irrigation Schedule'!$P$19,O86))","v":10},0,{"$f":"IF(H86=\"\",\"\",U86/'3 Irrigation Schedule'!$M$19)","v":0}]
[null,null,null,"2020","April","2020-04-23",null,40,"Development",5.3054400000000008,0.81428571428571428,4.3201440000000009,0.80555555555555558,{"$f":"IF(OR('3 Irrigation Schedule'!$C$29=\"\",'3 Irrigation Schedule'!$C$31=\"\",H87=\"\"),\"\",(('3 Irrigation Schedule'!$C$29-'3 Irrigation Schedule'!$C$31)/100)*1000*M87)","v":112.77777777777779},62.027777777777786,{"$f":"IF(H87=\"\",\"\",IF(H87=1,N87*(1-'3 Irrigation Schedule'!$C$27),S86-U86))","v":8.5349000000000075},1,4.3201440000000009,12.855044000000008,{"$f":"IF(H87=\"\",\"\",IF('3 Irrigation Schedule'!$P$19<O87,'3 Irrigation Schedule'!$P$19,O87))","v":10},10,{"$f":"IF(H87=\"\",\"\",U87/'3 Irrigation Schedule'!$M$19)","v":11.111111111111111}]
[null,null,null,"2020","April","2020-04-24",null,41,"Development",5.3054400000000008,0.83999999999999986,4.4565695999999999,0.81851851851851842,{"$f":"IF(OR('3 Irrigation Schedule'!$C$29=\"\",'3 Irrigation Schedule'!$C$31=\"\",H88=\"\"),\"\",(('3 Irrigation Schedule'!$C$29-'3 Irrigation Schedule'!$C$31)/100)*1000*M88)","v":114.59259259259258},63.025925925925925,{"$f":"IF(H88=\"\",\"\",IF(H88=1,N88*(1-'3 Irrigation Schedule'!$C$27),S87-U87))","v":2.8550440000000084},1,4.4565695999999999,7.3116136000000083,{"$f":"IF(H88=\"\",\"\",IF('3 Irrigation Schedule'!$P$19<O88,'3 Irrigation Schedule'!$P$19,O88))","v":10},0,{"$f":"IF(H88=\"\",\"\",U88/'3 Irrigation Schedule'!$M$19)","v":0}]
[null,null,null,"2020","April","2020-04-25",null,42,"Development",5.3054400000000008,0.86571428571428566,4.5929952000000007,0.83148148148148149,{"$f":"IF(OR('3 Irrigation Schedule'!$C$29=\"\",'3 Irrigation Schedule'!$C$31=\"\",H89=\"\"),\"\",(('3 Irrigation Schedule'!$C$29-'3 Irrigation Schedule'!$C$31)/100)*1000*M89)","v":116.4074074074074},64.024074074074079,{"$f":"IF(H89=\"\",\"\",IF(H89=1,N89*(1-'3 Irrigation Schedule'!$C$27),S88-U88))","v":7.3116136000000083},1,4.5929952000000007,11.904608800000009,{"$f":"IF(H89=\"\",\"\",IF('3 Irrigation Schedule'!$P$19<O89,'3 Irrigation Schedule'!$P$19,O89))","v":10},10,{"$f":"IF(H89=\"\",\"\",U89/'3 Irrigation Schedule'!$M$19)","v":11.111111111111111}]
[null,null,null,"2020","April","2020-04-26",null,43,"Development",5.3054400000000008,0.89142857142857146,4.7294208000000006,0.84444444444444433,{"$f":"IF(OR('3 Irrigation Schedule'!$C$29=\"\",'3 Irrigation Schedule'!$C$31=\"\",H90=\"\"),\"\",(('3 Irrigation Schedule'!$C$29-'3 Irrigation Schedule'!$C$31)/100)*1000*M90)","v":118.2222222222222},65.022222222222211,{"$f":"IF(H90=\"\",\"\",IF(H90=1,N90*(1-'3 Irrigation Schedule'!$C$27),S89-U89))","v":1.904608800000009},1,4.7294208000000006,6.6340296000000096,{"$f":"IF(H90=\"\",\"\",IF('3 Irrigation Schedule'!$P$19<O90,'3 Irrigation Schedule'!$P$19,O90))","v":10},0,{"$f":"IF(H90=\"\",\"\",U90/'3 Irrigation Schedule'!$M$19)","v":0}]
[null,null,null,"2020","April","2020-04-27",null,44,"Development",5.3054400000000008,0.91714285714285704,4.8658464000000006,0.8574074074074074,{"$f":"IF(OR('3 Irrigation Schedule'!$C$29=\"\",'3 Irrigation Schedule'!$C$31=\"\",H91=\"\"),\"\",(('3 Irrigation Schedule'!$C$29-'3 Irrigation Schedule'!$C$31)/100)*1000*M91)","v":120.03703703703704},66.020370370370372,{"$f":"IF(H91=\"\",\"\",IF(H91=1,N91*(1-'3 Irrigation Schedule'!$C$27),S90-U90))","v":6.6340296000000096},1,4.8658464000000006,11.499876000000011,{"$f":"IF(H91=\"\",\"\",IF('3 Irrigation Schedule'!$P$19<O91,'3 Irrigation Schedule'!$P$19,O91))","v":10},10,{"$f":"IF(H91=\"\",\"\",U91/'3 Irrigation Schedule'!$M$19)","v":11.111111111111111}]
[null,null,null,"2020","April","2020-04-28",null,45,"Development",5.3054400000000008,0.94285714285714284,5.0022720000000005,0.87037037037037024,{"$f":"IF(OR('3 Irrigation Schedule'!$C$29=\"\",'3 Irrigation Schedule'!$C$31=\"\",H92=\"\"),\"\",(('3 Irrigation Schedule'!$C$29-'3 Irrigation Schedule'!$C$31)/100)*1000*M92)","v":121.85185185185183},67.018518518518519,{"$f":"IF(H92=\"\",\"\",IF(H92=1,N92*(1-'3 Irrigation Schedule'!$C$27),S91-U91))","v":1.4998760000000111},1,5.0022720000000005,6.5021480000000116,{"$f":"IF(H92=\"\",\"\",IF('3 Irrigation Schedule'!$P$19<O92,'3 Irrigation Schedule'!$P$19,O92))","v":10},0,{"$f":"IF(H92=\"\",\"\",U92/'3 Irrigation Schedule'!$M$19)","v":0}]
[null,null,null,"2020","April","2020-04-29",null,46,"Development",5.3054400000000008,0.96857142857142842,5.1386975999999995,0.8833333333333333,{"$f":"IF(OR('3 Irrigation Schedule'!$C$29=\"\",'3 Irrigation Schedule'!$C$31=\"\",H93=\"\"),\"\",(('3 Irrigation Schedule'!$C$29-'3 Irrigation Schedule'!$C$31)/100)*1000*M93)","v":123.66666666666666},68.016666666666666,{"$f":"IF(H93=\"\",\"\",IF(H93=1,N93*(1-'3 Irrigation Schedule'!$C$27),S92-U92))","v":6.5021480000000116},1,5.1386975999999995,11.640845600000011,{"$f":"IF(H93=\"\",\"\",IF('3 Irrigation Schedule'!$P$19<O93,'3 Irrigation Schedule'!$P$19,O93))","v":10},10,{"$f":"IF(H93=\"\",\"\",U93/'3 Irrigation Schedule'!$M$19)","v":11.111111111111111}]
[null,null,null,"2020","April","2020-04-30",null,47,"Development",5.3054400000000008,0.99428571428571422,5.2751232000000003,0.89629629629629615,{"$f":"IF(OR('3 Irrigation Schedule'!$C$29=\"\",'3 Irrigation Schedule'!$C$31=\"\",H94=\"\"),\"\",(('3 Irrigation Schedule'!$C$29-'3 Irrigation Schedule'!$C$31)/100)*1000*M94)","v":125.48148148148147},69.014814814814812,{"$f":"IF(H94=\"\",\"\",IF(H94=1,N94*(1-'3 Irrigation Schedule'!$C$27),S93-U93))","v":1.6408456000000111},1,5.2751232000000003,6.9159688000000115,{"$f":"IF(H94=\"\",\"\",IF('3 Irrigation Schedule'!$P$19<O94,'3 Irrigation Schedule'!$P$19,O94))","v":10},0,{"$f":"IF(H94=\"\",\"\",U94/'3 Irrigation Schedule'!$M$19)","v":0}]
[null,null,null,"2020","May","2020-05-01",null,48,"Development",5.3183200000000008,1.02,5.4246864000000006,0.90925925925925921,{"$f":"IF(OR('3 Irrigation Schedule'!$C$29=\"\",'3 Irrigation Schedule'!$C$31=\"\",H95=\"\"),\"\",(('3 Irrigation Schedule'!$C$29-'3 Irrigation Schedule'!$C$31)/100)*1000*M95)","v":127.29629629629629},70.012962962962959,{"$f":"IF(H95=\"\",\"\",IF(H95=1,N95*(1-'3 Irrigation Schedule'!$C$27),S94-U94))","v":6.9159688000000115},1,5.4246864000000006,12.340655200000011,{"$f":"IF(H95=\"\",\"\",IF('3 Irrigation Schedule'!$P$19<O95,'3 Irrigation Schedule'!$P$19,O95))","v":10},10,{"$f":"IF(H95=\"\",\"\",U95/'3 Irrigation Schedule'!$M$19)","v":11.111111111111111}]
[null,null,null,"2020","May","2020-05-02",null,49,"Development",5.3183200000000008,1.0457142857142856,5.5614432000000003,0.92222222222222205,{"$f":"IF(OR('3 Irrigation Schedule'!$C$29=\"\",'3 Irrigation Schedule'!$C$31=\"\",H96=\"\"),\"\",(('3 Irrigation Schedule'!$C$29-'3 Irrigation Schedule'!$C$31)/100)*1000*M96)","v":129.11111111111109},71.011111111111106,{"$f":"IF(H96=\"\",\"\",IF(H96=1,N96*(1-'3 Irrigation Schedule'!$C$27),S95-U95))","v":2.3406552000000111},1,5.5614432000000003,7.9020984000000114,{"$f":"IF(H96=\"\",\"\",IF('3 Irrigation Schedule'!$P$19<O96,'3 Irrigation Schedule'!$P$19,O96))","v":10},0,{"$f":"IF(H96=\"\",\"\",U96/'3 Irrigation Schedule'!$M$19)","v":0}]
[null,null,null,"2020","May","2020-05-03",null,50,"Development",5.3183200000000008,1.0714285714285714,5.6982000000000008,0.93518518518518512,{"$f":"IF(OR('3 Irrigation Schedule'!$C$29=\"\",'3 Irrigation Schedule'!$C$31=\"\",H97=\"\"),\"\",(('3 Irrigation Schedule'!$C$29-'3 Irrigation Schedule'!$C$31)/100)*1000*M97)","v":130.92592592592592},72.009259259259267,{"$f":"IF(H97=\"\",\"\",IF(H97=1,N97*(1-'3 Irrigation Schedule'!$C$27),S96-U96))","v":7.9020984000000114},1,5.6982000000000008,13.600298400000012,{"$f":"IF(H97=\"\",\"\",IF('3 Irrigation Schedule'!$P$19<O97,'3 Irrigation Schedule'!$P$19,O97))","v":10},10,{"$f":"IF(H97=\"\",\"\",U97/'3 Irrigation Schedule'!$M$19)","v":11.111111111111111}]
[null,null,null,{"$f":"IFERROR(TEXT(DATE(YEAR($F98),MONTH($F98),1),$D$7&$D$4),\"\")","v":"2020"},{"$f":"IFERROR(TEXT(DATE(YEAR($F98),MONTH($F98),1),$D$7&$D$5),\"\")","v":"May"},"2020-05-04",null,51,{"$f":"IF(H98=\"\",\"\",IF(H98<=$I$27,\"Initial\",IF(AND(H98>$I$27,H98<=$I$28),\"Development\",IF(AND(H98>$I$28,H98<=$I$29),\"Mid Season\",\"Late Season\"))))","v":"Development"},{"$f":"IFERROR(VLOOKUP($E98,$B$19:$C$30,2,FALSE),\"\")","v":5.3183200000000008},{"$f":"IF(H98=\"\",\"\",IF(H98<=$I$27,$L$27,IF(AND(H98>$I$27,H98<=$I$28),$L$27+((H98-$I$27)/$H$28)*($L$29-$L$27),IF(AND(H98>$I$28,H98<=$I$29),$L$29,$L$29+((H98-$I$29)/$H$30)*($L$30-$L$29)))))","v":1.097142857142857},5.8349567999999996,0.94814814814814818,{"$f":"IF(OR('3 Irrigation Schedule'!$C$29=\"\",'3 Irrigation Schedule'!$C$31=\"\",H98=\"\"),\"\",(('3 Irrigation Schedule'!$C$29-'3 Irrigation Schedule'!$C$31)/100)*1000*M98)","v":132.74074074074073},73.007407407407413,{"$f":"IF(H98=\"\",\"\",IF(H98=1,N98*(1-'3 Irrigation Schedule'!$C$27),S97-U97))","v":3.6002984000000122},1,5.8349567999999996,9.4352552000000109,{"$f":"IF(H98=\"\",\"\",IF('3 Irrigation Schedule'!$P$19<O98,'3 Irrigation Schedule'!$P$19,O98))","v":10},0,{"$f":"IF(H98=\"\",\"\",U98/'3 Irrigation Schedule'!$M$19)","v":0}]
[null,null,null,"2020","May",{"$f":"IFERROR(IF(F98+1<=$N$7, F98+1,\"\"),\"\")","v":"2020-05-05"},null,{"$f":"IFERROR(IF(OR($F99-$J$27+1<=0,$F99>$K$30),\"\",$F99-$J$27+1),\"\")","v":52},"Development",5.3183200000000008,1.1228571428571428,{"$f":"IFERROR((J99*K99),0)","v":5.9717136000000002},{"$f":"IF(H99=\"\",\"\",IF(OR(H99=1,H99<$I$28),$M$27+(($M$28-$M$27)*((H99-1)/($I$28-1))),$M$28))","v":0.96111111111111103},{"$f":"IF(OR('3 Irrigation Schedule'!$C$29=\"\",'3 Irrigation Schedule'!$C$31=\"\",H99=\"\"),\"\",(('3 Irrigation Schedule'!$C$29-'3 Irrigation Schedule'!$C$31)/100)*1000*M99)","v":134.55555555555554},{"$f":"IF(H99=\"\",\"\",N99*$N$27)","v":74.00555555555556},{"$f":"IF(H99=\"\",\"\",IF(H99=1,N99*(1-'3 Irrigation Schedule'!$C$27),S98-U98))","v":9.4352552000000109},1,5.9717136000000002,15.406968800000012,{"$f":"IF(H99=\"\",\"\",IF('3 Irrigation Schedule'!$P$19<O99,'3 Irrigation Schedule'!$P$19,O99))","v":10},{"$f":"IF(H99=\"\",\"\",IF(T99<=S99,T99,0))","v":10},{"$f":"IF(H99=\"\",\"\",U99/'3 Irrigation Schedule'!$M$19)","v":11.111111111111111}]
[null,null,null,"2020","May","2020-05-06",null,53,"Development",5.3183200000000008,1.1485714285714284,6.1084703999999999,0.97407407407407409,{"$f":"IF(OR('3 Irrigation Schedule'!$C$29=\"\",'3 Irrigation Schedule'!$C$31=\"\",H100=\"\"),\"\",(('3 Irrigation Schedule'!$C$29-'3 Irrigation Schedule'!$C$31)/100)*1000*M100)","v":136.37037037037038},75.003703703703721,{"$f":"IF(H100=\"\",\"\",IF(H100=1,N100*(1-'3 Irrigation Schedule'!$C$27),S99-U99))","v":5.406968800000012},1,6.1084703999999999,11.515439200000012,{"$f":"IF(H100=\"\",\"\",IF('3 Irrigation Schedule'!$P$19<O100,'3 Irrigation Schedule'!$P$19,O100))","v":10},10,{"$f":"IF(H100=\"\",\"\",U100/'3 Irrigation Schedule'!$M$19)","v":11.111111111111111}]
[null,null,null,"2020","May","2020-05-07",null,54,"Development",5.3183200000000008,1.1742857142857142,6.2452272000000004,0.98703703703703694,{"$f":"IF(OR('3 Irrigation Schedule'!$C$29=\"\",'3 Irrigation Schedule'!$C$31=\"\",H101=\"\"),\"\",(('3 Irrigation Schedule'!$C$29-'3 Irrigation Schedule'!$C$31)/100)*1000*M101)","v":138.18518518518516},76.001851851851839,{"$f":"IF(H101=\"\",\"\",IF(H101=1,N101*(1-'3 Irrigation Schedule'!$C$27),S100-U100))","v":1.5154392000000119},1,6.2452272000000004,7.7606664000000123,{"$f":"IF(H101=\"\",\"\",IF('3 Irrigation Schedule'!$P$19<O101,'3 Irrigation Schedule'!$P$19,O101))","v":10},0,{"$f":"IF(H101=\"\",\"\",U101/'3 Irrigation Schedule'!$M$19)","v":0}]
[null,null,null,"2020","May","2020-05-08",null,55,"Development",5.3183200000000008,1.2,6.381984000000001,1,{"$f":"IF(OR('3 Irrigation Schedule'!$C$29=\"\",'3 Irrigation Schedule'!$C$31=\"\",H102=\"\"),\"\",(('3 Irrigation Schedule'!$C$29-'3 Irrigation Schedule'!$C$31)/100)*1000*M102)","v":140},77,{"$f":"IF(H102=\"\",\"\",IF(H102=1,N102*(1-'3 Irrigation Schedule'!$C$27),S101-U101))","v":7.7606664000000123},1,6.381984000000001,14.142650400000013,{"$f":"IF(H102=\"\",\"\",IF('3 Irrigation Schedule'!$P$19<O102,'3 Irrigation Schedule'!$P$19,O102))","v":10},10,{"$f":"IF(H102=\"\",\"\",U102/'3 Irrigation Schedule'!$M$19)","v":11.111111111111111}]
[null,null,null,"2020","May","2020-05-09",null,56,"Mid Season",5.3183200000000008,1.2,6.381984000000001,1,{"$f":"IF(OR('3 Irrigation Schedule'!$C$29=\"\",'3 Irrigation Schedule'!$C$31=\"\",H103=\"\"),\"\",(('3 Irrigation Schedule'!$C$29-'3 Irrigation Schedule'!$C$31)/100)*1000*M103)","v":140},77,{"$f":"IF(H103=\"\",\"\",IF(H103=1,N103*(1-'3 Irrigation Schedule'!$C$27),S102-U102))","v":4.1426504000000133},1,6.381984000000001,10.524634400000014,{"$f":"IF(H103=\"\",\"\",IF('3 Irrigation Schedule'!$P$19<O103,'3 Irrigation Schedule'!$P$19,O103))","v":10},10,{"$f":"IF(H103=\"\",\"\",U103/'3 Irrigation Schedule'!$M$19)","v":11.111111111111111}]
[null,null,null,"2020","May","2020-05-10",null,57,"Mid Season",5.3183200000000008,1.2,6.381984000000001,1,{"$f":"IF(OR('3 Irrigation Schedule'!$C$29=\"\",'3 Irrigation Schedule'!$C$31=\"\",H104=\"\"),\"\",(('3 Irrigation Schedule'!$C$29-'3 Irrigation Schedule'!$C$31)/100)*1000*M104)","v":140},77,{"$f":"IF(H104=\"\",\"\",IF(H104=1,N104*(1-'3 Irrigation Schedule'!$C$27),S103-U103))","v":0.52463440000001427},1,6.381984000000001,6.9066184000000153,{"$f":"IF(H104=\"\",\"\",IF('3 Irrigation Schedule'!$P$19<O104,'3 Irrigation Schedule'!$P$19,O104))","v":10},0,{"$f":"IF(H104=\"\",\"\",U104/'3 Irrigation Schedule'!$M$19)","v":0}]
[null,null,null,"2020","May","2020-05-11",null,58,"Mid Season",5.3183200000000008,1.2,6.381984000000001,1,{"$f":"IF(OR('3 Irrigation Schedule'!$C$29=\"\",'3 Irrigation Schedule'!$C$31=\"\",H105=\"\"),\"\",(('3 Irrigation Schedule'!$C$29-'3 Irrigation Schedule'!$C$31)/100)*1000*M105)","v":140},77,{"$f":"IF(H105=\"\",\"\",IF(H105=1,N105*(1-'3 Irrigation Schedule'!$C$27),S104-U104))","v":6.9066184000000153},1,6.381984000000001,13.288602400000016,{"$f":"IF(H105=\"\",\"\",IF('3 Irrigation Schedule'!$P$19<O105,'3 Irrigation Schedule'!$P$19,O105))","v":10},10,{"$f":"IF(H105=\"\",\"\",U105/'3 Irrigation Schedule'!$M$19)","v":11.111111111111111}]
[null,null,null,"2020","May","2020-05-12",null,59,"Mid Season",5.3183200000000008,1.2,6.381984000000001,1,{"$f":"IF(OR('3 Irrigation Schedule'!$C$29=\"\",'3 Irrigation Schedule'!$C$31=\"\",H106=\"\"),\"\",(('3 Irrigation Schedule'!$C$29-'3 Irrigation Schedule'!$C$31)/100)*1000*M106)","v":140},77,{"$f":"IF(H106=\"\",\"\",IF(H106=1,N106*(1-'3 Irrigation Schedule'!$C$27),S105-U105))","v":3.2886024000000162},1,6.381984000000001,9.6705864000000172,{"$f":"IF(H106=\"\",\"\",IF('3 Irrigation Schedule'!$P$19<O106,'3 Irrigation Schedule'!$P$19,O106))","v":10},0,{"$f":"IF(H106=\"\",\"\",U106/'3 Irrigation Schedule'!$M$19)","v":0}]
[null,null,null,"2020","May","2020-05-13",null,60,"Mid Season",5.3183200000000008,1.2,6.381984000000001,1,{"$f":"IF(OR('3 Irrigation Schedule'!$C$29=\"\",'3 Irrigation Schedule'!$C$31=\"\",H107=\"\"),\"\",(('3 Irrigation Schedule'!$C$29-'3 Irrigation Schedule'!$C$31)/100)*1000*M107)","v":140},77,{"$f":"IF(H107=\"\",\"\",IF(H107=1,N107*(1-'3 Irrigation Schedule'!$C$27),S106-U106))","v":9.6705864000000172},1,6.381984000000001,16.052570400000018,{"$f":"IF(H107=\"\",\"\",IF('3 Irrigation Schedule'!$P$19<O107,'3 Irrigation Schedule'!$P$19,O107))","v":10},10,{"$f":"IF(H107=\"\",\"\",U107/'3 Irrigation Schedule'!$M$19)","v":11.111111111111111}]
[null,null,null,"2020","May","2020-05-14",null,61,"Mid Season",5.3183200000000008,1.2,6.381984000000001,1,{"$f":"IF(OR('3 Irrigation Schedule'!$C$29=\"\",'3 Irrigation Schedule'!$C$31=\"\",H108=\"\"),\"\",(('3 Irrigation Schedule'!$C$29-'3 Irrigation Schedule'!$C$31)/100)*1000*M108)","v":140},77,{"$f":"IF(H108=\"\",\"\",IF(H108=1,N108*(1-'3 Irrigation Schedule'!$C$27),S107-U107))","v":6.0525704000000182},1,6.381984000000001,12.434554400000019,{"$f":"IF(H108=\"\",\"\",IF('3 Irrigation Schedule'!$P$19<O108,'3 Irrigation Schedule'!$P$19,O108))","v":10},10,{"$f":"IF(H108=\"\",\"\",U108/'3 Irrigation Schedule'!$M$19)","v":11.111111111111111}]
[null,null,null,"2020","May","2020-05-15",null,62,"Mid Season",5.3183200000000008,1.2,6.381984000000001,1,{"$f":"IF(OR('3 Irrigation Schedule'!$C$29=\"\",'3 Irrigation Schedule'!$C$31=\"\",H109=\"\"),\"\",(('3 Irrigation Schedule'!$C$29-'3 Irrigation Schedule'!$C$31)/100)*1000*M109)","v":140},77,{"$f":"IF(H109=\"\",\"\",IF(H109=1,N109*(1-'3 Irrigation Schedule'!$C$27),S108-U108))","v":2.4345544000000192},1,6.381984000000001,8.8165384000000202,{"$f":"IF(H109=\"\",\"\",IF('3 Irrigation Schedule'!$P$19<O109,'3 Irrigation Schedule'!$P$19,O109))","v":10},0,{"$f":"IF(H109=\"\",\"\",U109/'3 Irrigation Schedule'!$M$19)","v":0}]
[null,null,null,"2020","May","2020-05-16",null,63,"Mid Season",5.3183200000000008,1.2,6.381984000000001,1,{"$f":"IF(OR('3 Irrigation Schedule'!$C$29=\"\",'3 Irrigation Schedule'!$C$31=\"\",H110=\"\"),\"\",(('3 Irrigation Schedule'!$C$29-'3 Irrigation Schedule'!$C$31)/100)*1000*M110)","v":140},77,{"$f":"IF(H110=\"\",\"\",IF(H110=1,N110*(1-'3 Irrigation Schedule'!$C$27),S109-U109))","v":8.8165384000000202},1,6.381984000000001,15.198522400000021,{"$f":"IF(H110=\"\",\"\",IF('3 Irrigation Schedule'!$P$19<O110,'3 Irrigation Schedule'!$P$19,O110))","v":10},10,{"$f":"IF(H110=\"\",\"\",U110/'3 Irrigation Schedule'!$M$19)","v":11.111111111111111}]
[null,null,null,"2020","May","2020-05-17",null,64,"Mid Season",5.3183200000000008,1.2,6.381984000000001,1,{"$f":"IF(OR('3 Irrigation Schedule'!$C$29=\"\",'3 Irrigation Schedule'!$C$31=\"\",H111=\"\"),\"\",(('3 Irrigation Schedule'!$C$29-'3 Irrigation Schedule'!$C$31)/100)*1000*M111)","v":140},77,{"$f":"IF(H111=\"\",\"\",IF(H111=1,N111*(1-'3 Irrigation Schedule'!$C$27),S110-U110))","v":5.1985224000000212},1,6.381984000000001,11.580506400000022,{"$f":"IF(H111=\"\",\"\",IF('3 Irrigation Schedule'!$P$19<O111,'3 Irrigation Schedule'!$P$19,O111))","v":10},10,{"$f":"IF(H111=\"\",\"\",U111/'3 Irrigation Schedule'!$M$19)","v":11.111111111111111}]
[null,null,null,"2020","May","2020-05-18",null,65,"Mid Season",5.3183200000000008,1.2,6.381984000000001,1,{"$f":"IF(OR('3 Irrigation Schedule'!$C$29=\"\",'3 Irrigation Schedule'!$C$31=\"\",H112=\"\"),\"\",(('3 Irrigation Schedule'!$C$29-'3 Irrigation Schedule'!$C$31)/100)*1000*M112)","v":140},77,{"$f":"IF(H112=\"\",\"\",IF(H112=1,N112*(1-'3 Irrigation Schedule'!$C$27),S111-U111))","v":1.5805064000000222},1,6.381984000000001,7.9624904000000232,{"$f":"IF(H112=\"\",\"\",IF('3 Irrigation Schedule'!$P$19<O112,'3 Irrigation Schedule'!$P$19,O112))","v":10},0,{"$f":"IF(H112=\"\",\"\",U112/'3 Irrigation Schedule'!$M$19)","v":0}]
[null,null,null,"2020","May","2020-05-19",null,66,"Mid Season",5.3183200000000008,1.2,6.381984000000001,1,{"$f":"IF(OR('3 Irrigation Schedule'!$C$29=\"\",'3 Irrigation Schedule'!$C$31=\"\",H113=\"\"),\"\",(('3 Irrigation Schedule'!$C$29-'3 Irrigation Schedule'!$C$31)/100)*1000*M113)","v":140},77,{"$f":"IF(H113=\"\",\"\",IF(H113=1,N113*(1-'3 Irrigation Schedule'!$C$27),S112-U112))","v":7.9624904000000232},{"$f":"IF(H113=\"\",\"\",IF(P113>O113,(N113-P113)/(N113-O113),1))","v":1},{"$f":"IF(H113=\"\",\"\",L113*Q113)","v":6.381984000000001},{"$f":"IF(H113=\"\",\"\",P113+R113)","v":14.344474400000024},{"$f":"IF(H113=\"\",\"\",IF('3 Irrigation Schedule'!$P$19<O113,'3 Irrigation Schedule'!$P$19,O113))","v":10},10,{"$f":"IF(H113=\"\",\"\",U113/'3 Irrigation Schedule'!$M$19)","v":11.111111111111111}]
[null,null,null,"2020","May","2020-05-20",null,67,"Mid Season",5.3183200000000008,1.2,6.381984000000001,1,{"$f":"IF(OR('3 Irrigation Schedule'!$C$29=\"\",'3 Irrigation Schedule'!$C$31=\"\",H114=\"\"),\"\",(('3 Irrigation Schedule'!$C$29-'3 Irrigation Schedule'!$C$31)/100)*1000*M114)","v":140},77,{"$f":"IF(H114=\"\",\"\",IF(H114=1,N114*(1-'3 Irrigation Schedule'!$C$27),S113-U113))","v":4.3444744000000242},1,6.381984000000001,10.726458400000025,{"$f":"IF(H114=\"\",\"\",IF('3 Irrigation Schedule'!$P$19<O114,'3 Irrigation Schedule'!$P$19,O114))","v":10},10,{"$f":"IF(H114=\"\",\"\",U114/'3 Irrigation Schedule'!$M$19)","v":11.111111111111111}]
[null,null,null,"2020","May","2020-05-21",null,68,"Mid Season",5.3183200000000008,1.2,6.381984000000001,1,{"$f":"IF(OR('3 Irrigation Schedule'!$C$29=\"\",'3 Irrigation Schedule'!$C$31=\"\",H115=\"\"),\"\",(('3 Irrigation Schedule'!$C$29-'3 Irrigation Schedule'!$C$31)/100)*1000*M115)","v":140},77,{"$f":"IF(H115=\"\",\"\",IF(H115=1,N115*(1-'3 Irrigation Schedule'!$C$27),S114-U114))","v":0.72645840000002515},1,6.381984000000001,7.1084424000000261,{"$f":"IF(H115=\"\",\"\",IF('3 Irrigation Schedule'!$P$19<O115,'3 Irrigation Schedule'!$P$19,O115))","v":10},0,{"$f":"IF(H115=\"\",\"\",U115/'3 Irrigation Schedule'!$M$19)","v":0}]
[null,null,null,"2020","May","2020-05-22",null,69,"Mid Season",5.3183200000000008,1.2,6.381984000000001,1,{"$f":"IF(OR('3 Irrigation Schedule'!$C$29=\"\",'3 Irrigation Schedule'!$C$31=\"\",H116=\"\"),\"\",(('3 Irrigation Schedule'!$C$29-'3 Irrigation Schedule'!$C$31)/100)*1000*M116)","v":140},77,{"$f":"IF(H116=\"\",\"\",IF(H116=1,N116*(1-'3 Irrigation Schedule'!$C$27),S115-U115))","v":7.1084424000000261},1,6.381984000000001,13.490426400000027,{"$f":"IF(H116=\"\",\"\",IF('3 Irrigation Schedule'!$P$19<O116,'3 Irrigation Schedule'!$P$19,O116))","v":10},10,{"$f":"IF(H116=\"\",\"\",U116/'3 Irrigation Schedule'!$M$19)","v":11.111111111111111}]
[null,null,null,"2020","May","2020-05-23",null,70,"Mid Season",5.3183200000000008,1.2,6.381984000000001,1,{"$f":"IF(OR('3 Irrigation Schedule'!$C$29=\"\",'3 Irrigation Schedule'!$C$31=\"\",H117=\"\"),\"\",(('3 Irrigation Schedule'!$C$29-'3 Irrigation Schedule'!$C$31)/100)*1000*M117)","v":140},77,{"$f":"IF(H117=\"\",\"\",IF(H117=1,N117*(1-'3 Irrigation Schedule'!$C$27),S116-U116))","v":3.4904264000000271},1,6.381984000000001,9.8724104000000281,{"$f":"IF(H117=\"\",\"\",IF('3 Irrigation Schedule'!$P$19<O117,'3 Irrigation Schedule'!$P$19,O117))","v":10},0,{"$f":"IF(H117=\"\",\"\",U117/'3 Irrigation Schedule'!$M$19)","v":0}]
[null,null,null,"2020","May","2020-05-24",null,71,"Mid Season",5.3183200000000008,1.2,6.381984000000001,1,{"$f":"IF(OR('3 Irrigation Schedule'!$C$29=\"\",'3 Irrigation Schedule'!$C$31=\"\",H118=\"\"),\"\",(('3 Irrigation Schedule'!$C$29-'3 Irrigation Schedule'!$C$31)/100)*1000*M118)","v":140},77,{"$f":"IF(H118=\"\",\"\",IF(H118=1,N118*(1-'3 Irrigation Schedule'!$C$27),S117-U117))","v":9.8724104000000281},1,6.381984000000001,16.254394400000031,{"$f":"IF(H118=\"\",\"\",IF('3 Irrigation Schedule'!$P$19<O118,'3 Irrigation Schedule'!$P$19,O118))","v":10},10,{"$f":"IF(H118=\"\",\"\",U118/'3 Irrigation Schedule'!$M$19)","v":11.111111111111111}]
[null,null,null,"2020","May","2020-05-25",null,72,"Mid Season",5.3183200000000008,1.2,6.381984000000001,1,{"$f":"IF(OR('3 Irrigation Schedule'!$C$29=\"\",'3 Irrigation Schedule'!$C$31=\"\",H119=\"\"),\"\",(('3 Irrigation Schedule'!$C$29-'3 Irrigation Schedule'!$C$31)/100)*1000*M119)","v":140},77,{"$f":"IF(H119=\"\",\"\",IF(H119=1,N119*(1-'3 Irrigation Schedule'!$C$27),S118-U118))","v":6.2543944000000309},1,6.381984000000001,12.636378400000032,{"$f":"IF(H119=\"\",\"\",IF('3 Irrigation Schedule'!$P$19<O119,'3 Irrigation Schedule'!$P$19,O119))","v":10},10,{"$f":"IF(H119=\"\",\"\",U119/'3 Irrigation Schedule'!$M$19)","v":11.111111111111111}]
[null,null,null,"2020","May","2020-05-26",null,73,"Mid Season",5.3183200000000008,1.2,6.381984000000001,1,{"$f":"IF(OR('3 Irrigation Schedule'!$C$29=\"\",'3 Irrigation Schedule'!$C$31=\"\",H120=\"\"),\"\",(('3 Irrigation Schedule'!$C$29-'3 Irrigation Schedule'!$C$31)/100)*1000*M120)","v":140},77,{"$f":"IF(H120=\"\",\"\",IF(H120=1,N120*(1-'3 Irrigation Schedule'!$C$27),S119-U119))","v":2.6363784000000319},1,6.381984000000001,9.0183624000000329,{"$f":"IF(H120=\"\",\"\",IF('3 Irrigation Schedule'!$P$19<O120,'3 Irrigation Schedule'!$P$19,O120))","v":10},0,{"$f":"IF(H120=\"\",\"\",U120/'3 Irrigation Schedule'!$M$19)","v":0}]
[null,null,null,"2020","May","2020-05-27",null,74,"Mid Season",5.3183200000000008,1.2,6.381984000000001,1,{"$f":"IF(OR('3 Irrigation Schedule'!$C$29=\"\",'3 Irrigation Schedule'!$C$31=\"\",H121=\"\"),\"\",(('3 Irrigation Schedule'!$C$29-'3 Irrigation Schedule'!$C$31)/100)*1000*M121)","v":140},77,{"$f":"IF(H121=\"\",\"\",IF(H121=1,N121*(1-'3 Irrigation Schedule'!$C$27),S120-U120))","v":9.0183624000000329},1,6.381984000000001,15.400346400000034,{"$f":"IF(H121=\"\",\"\",IF('3 Irrigation Schedule'!$P$19<O121,'3 Irrigation Schedule'!$P$19,O121))","v":10},10,{"$f":"IF(H121=\"\",\"\",U121/'3 Irrigation Schedule'!$M$19)","v":11.111111111111111}]
[null,null,null,"2020","May","2020-05-28",null,75,"Mid Season",5.3183200000000008,1.2,6.381984000000001,1,{"$f":"IF(OR('3 Irrigation Schedule'!$C$29=\"\",'3 Irrigation Schedule'!$C$31=\"\",H122=\"\"),\"\",(('3 Irrigation Schedule'!$C$29-'3 Irrigation Schedule'!$C$31)/100)*1000*M122)","v":140},77,{"$f":"IF(H122=\"\",\"\",IF(H122=1,N122*(1-'3 Irrigation Schedule'!$C$27),S121-U121))","v":5.4003464000000339},1,6.381984000000001,11.782330400000035,{"$f":"IF(H122=\"\",\"\",IF('3 Irrigation Schedule'!$P$19<O122,'3 Irrigation Schedule'!$P$19,O122))","v":10},10,{"$f":"IF(H122=\"\",\"\",U122/'3 Irrigation Schedule'!$M$19)","v":11.111111111111111}]
[null,null,null,"2020","May","2020-05-29",null,76,"Mid Season",5.3183200000000008,1.2,6.381984000000001,1,{"$f":"IF(OR('3 Irrigation Schedule'!$C$29=\"\",'3 Irrigation Schedule'!$C$31=\"\",H123=\"\"),\"\",(('3 Irrigation Schedule'!$C$29-'3 Irrigation Schedule'!$C$31)/100)*1000*M123)","v":140},77,{"$f":"IF(H123=\"\",\"\",IF(H123=1,N123*(1-'3 Irrigation Schedule'!$C$27),S122-U122))","v":1.7823304000000348},1,6.381984000000001,8.1643144000000358,{"$f":"IF(H123=\"\",\"\",IF('3 Irrigation Schedule'!$P$19<O123,'3 Irrigation Schedule'!$P$19,O123))","v":10},0,{"$f":"IF(H123=\"\",\"\",U123/'3 Irrigation Schedule'!$M$19)","v":0}]
[null,null,null,"2020","May","2020-05-30",null,77,"Mid Season",5.3183200000000008,1.2,6.381984000000001,1,{"$f":"IF(OR('3 Irrigation Schedule'!$C$29=\"\",'3 Irrigation Schedule'!$C$31=\"\",H124=\"\"),\"\",(('3 Irrigation Schedule'!$C$29-'3 Irrigation Schedule'!$C$31)/100)*1000*M124)","v":140},77,{"$f":"IF(H124=\"\",\"\",IF(H124=1,N124*(1-'3 Irrigation Schedule'!$C$27),S123-U123))","v":8.1643144000000358},1,6.381984000000001,14.546298400000037,{"$f":"IF(H124=\"\",\"\",IF('3 Irrigation Schedule'!$P$19<O124,'3 Irrigation Schedule'!$P$19,O124))","v":10},10,{"$f":"IF(H124=\"\",\"\",U124/'3 Irrigation Schedule'!$M$19)","v":11.111111111111111}]
[null,null,null,"2020","May","2020-05-31",null,78,"Mid Season",5.3183200000000008,1.2,6.381984000000001,1,{"$f":"IF(OR('3 Irrigation Schedule'!$C$29=\"\",'3 Irrigation Schedule'!$C$31=\"\",H125=\"\"),\"\",(('3 Irrigation Schedule'!$C$29-'3 Irrigation Schedule'!$C$31)/100)*1000*M125)","v":140},77,{"$f":"IF(H125=\"\",\"\",IF(H125=1,N125*(1-'3 Irrigation Schedule'!$C$27),S124-U124))","v":4.5462984000000368},1,6.381984000000001,10.928282400000038,{"$f":"IF(H125=\"\",\"\",IF('3 Irrigation Schedule'!$P$19<O125,'3 Irrigation Schedule'!$P$19,O125))","v":10},10,{"$f":"IF(H125=\"\",\"\",U125/'3 Irrigation Schedule'!$M$19)","v":11.111111111111111}]
[null,null,null,"2020","June","2020-06-01",null,79,"Mid Season",5.2668000000000008,1.2,6.3201600000000004,1,{"$f":"IF(OR('3 Irrigation Schedule'!$C$29=\"\",'3 Irrigation Schedule'!$C$31=\"\",H126=\"\"),\"\",(('3 Irrigation Schedule'!$C$29-'3 Irrigation Schedule'!$C$31)/100)*1000*M126)","v":140},77,{"$f":"IF(H126=\"\",\"\",IF(H126=1,N126*(1-'3 Irrigation Schedule'!$C$27),S125-U125))","v":0.92828240000003781},1,6.3201600000000004,7.2484424000000383,{"$f":"IF(H126=\"\",\"\",IF('3 Irrigation Schedule'!$P$19<O126,'3 Irrigation Schedule'!$P$19,O126))","v":10},0,{"$f":"IF(H126=\"\",\"\",U126/'3 Irrigation Schedule'!$M$19)","v":0}]
[null,null,null,"2020","June","2020-06-02",null,80,"Mid Season",5.2668000000000008,1.2,6.3201600000000004,1,{"$f":"IF(OR('3 Irrigation Schedule'!$C$29=\"\",'3 Irrigation Schedule'!$C$31=\"\",H127=\"\"),\"\",(('3 Irrigation Schedule'!$C$29-'3 Irrigation Schedule'!$C$31)/100)*1000*M127)","v":140},77,{"$f":"IF(H127=\"\",\"\",IF(H127=1,N127*(1-'3 Irrigation Schedule'!$C$27),S126-U126))","v":7.2484424000000383},1,6.3201600000000004,13.568602400000039,{"$f":"IF(H127=\"\",\"\",IF('3 Irrigation Schedule'!$P$19<O127,'3 Irrigation Schedule'!$P$19,O127))","v":10},10,{"$f":"IF(H127=\"\",\"\",U127/'3 Irrigation Schedule'!$M$19)","v":11.111111111111111}]
[null,null,null,"2020","June","2020-06-03",null,81,"Mid Season",5.2668000000000008,1.2,6.3201600000000004,1,{"$f":"IF(OR('3 Irrigation Schedule'!$C$29=\"\",'3 Irrigation Schedule'!$C$31=\"\",H128=\"\"),\"\",(('3 Irrigation Schedule'!$C$29-'3 Irrigation Schedule'!$C$31)/100)*1000*M128)","v":140},77,{"$f":"IF(H128=\"\",\"\",IF(H128=1,N128*(1-'3 Irrigation Schedule'!$C$27),S127-U127))","v":3.5686024000000387},1,6.3201600000000004,9.88876240000004,{"$f":"IF(H128=\"\",\"\",IF('3 Irrigation Schedule'!$P$19<O128,'3 Irrigation Schedule'!$P$19,O128))","v":10},0,{"$f":"IF(H128=\"\",\"\",U128/'3 Irrigation Schedule'!$M$19)","v":0}]
[null,null,null,"2020","June","2020-06-04",null,82,"Mid Season",5.2668000000000008,1.2,6.3201600000000004,1,{"$f":"IF(OR('3 Irrigation Schedule'!$C$29=\"\",'3 Irrigation Schedule'!$C$31=\"\",H129=\"\"),\"\",(('3 Irrigation Schedule'!$C$29-'3 Irrigation Schedule'!$C$31)/100)*1000*M129)","v":140},77,{"$f":"IF(H129=\"\",\"\",IF(H129=1,N129*(1-'3 Irrigation Schedule'!$C$27),S128-U128))","v":9.88876240000004},1,6.3201600000000004,16.208922400000041,{"$f":"IF(H129=\"\",\"\",IF('3 Irrigation Schedule'!$P$19<O129,'3 Irrigation Schedule'!$P$19,O129))","v":10},10,{"$f":"IF(H129=\"\",\"\",U129/'3 Irrigation Schedule'!$M$19)","v":11.111111111111111}]
[null,null,null,"2020","June","2020-06-05",null,83,"Mid Season",5.2668000000000008,1.2,6.3201600000000004,1,{"$f":"IF(OR('3 Irrigation Schedule'!$C$29=\"\",'3 Irrigation Schedule'!$C$31=\"\",H130=\"\"),\"\",(('3 Irrigation Schedule'!$C$29-'3 Irrigation Schedule'!$C$31)/100)*1000*M130)","v":140},77,{"$f":"IF(H130=\"\",\"\",IF(H130=1,N130*(1-'3 Irrigation Schedule'!$C$27),S129-U129))","v":6.2089224000000414},1,6.3201600000000004,12.529082400000043,{"$f":"IF(H130=\"\",\"\",IF('3 Irrigation Schedule'!$P$19<O130,'3 Irrigation Schedule'!$P$19,O130))","v":10},10,{"$f":"IF(H130=\"\",\"\",U130/'3 Irrigation Schedule'!$M$19)","v":11.111111111111111}]
[null,null,null,"2020","June","2020-06-06",null,84,"Mid Season",5.2668000000000008,1.2,6.3201600000000004,1,{"$f":"IF(OR('3 Irrigation Schedule'!$C$29=\"\",'3 Irrigation Schedule'!$C$31=\"\",H131=\"\"),\"\",(('3 Irrigation Schedule'!$C$29-'3 Irrigation Schedule'!$C$31)/100)*1000*M131)","v":140},77,{"$f":"IF(H131=\"\",\"\",IF(H131=1,N131*(1-'3 Irrigation Schedule'!$C$27),S130-U130))","v":2.5290824000000427},1,6.3201600000000004,8.849242400000044,{"$f":"IF(H131=\"\",\"\",IF('3 Irrigation Schedule'!$P$19<O131,'3 Irrigation Schedule'!$P$19,O131))","v":10},0,{"$f":"IF(H131=\"\",\"\",U131/'3 Irrigation Schedule'!$M$19)","v":0}]
[null,null,null,"2020","June","2020-06-07",null,85,"Mid Season",5.2668000000000008,1.2,6.3201600000000004,1,{"$f":"IF(OR('3 Irrigation Schedule'!$C$29=\"\",'3 Irrigation Schedule'!$C$31=\"\",H132=\"\"),\"\",(('3 Irrigation Schedule'!$C$29-'3 Irrigation Schedule'!$C$31)/100)*1000*M132)","v":140},77,{"$f":"IF(H132=\"\",\"\",IF(H132=1,N132*(1-'3 Irrigation Schedule'!$C$27),S131-U131))","v":8.849242400000044},1,6.3201600000000004,15.169402400000045,{"$f":"IF(H132=\"\",\"\",IF('3 Irrigation Schedule'!$P$19<O132,'3 Irrigation Schedule'!$P$19,O132))","v":10},10,{"$f":"IF(H132=\"\",\"\",U132/'3 Irrigation Schedule'!$M$19)","v":11.111111111111111}]
[null,null,null,"2020","June","2020-06-08",null,86,"Mid Season",5.2668000000000008,1.2,6.3201600000000004,1,{"$f":"IF(OR('3 Irrigation Schedule'!$C$29=\"\",'3 Irrigation Schedule'!$C$31=\"\",H133=\"\"),\"\",(('3 Irrigation Schedule'!$C$29-'3 Irrigation Schedule'!$C$31)/100)*1000*M133)","v":140},77,{"$f":"IF(H133=\"\",\"\",IF(H133=1,N133*(1-'3 Irrigation Schedule'!$C$27),S132-U132))","v":5.1694024000000454},1,6.3201600000000004,11.489562400000047,{"$f":"IF(H133=\"\",\"\",IF('3 Irrigation Schedule'!$P$19<O133,'3 Irrigation Schedule'!$P$19,O133))","v":10},10,{"$f":"IF(H133=\"\",\"\",U133/'3 Irrigation Schedule'!$M$19)","v":11.111111111111111}]
[null,null,null,"2020","June","2020-06-09",null,87,"Mid Season",5.2668000000000008,1.2,6.3201600000000004,1,{"$f":"IF(OR('3 Irrigation Schedule'!$C$29=\"\",'3 Irrigation Schedule'!$C$31=\"\",H134=\"\"),\"\",(('3 Irrigation Schedule'!$C$29-'3 Irrigation Schedule'!$C$31)/100)*1000*M134)","v":140},77,{"$f":"IF(H134=\"\",\"\",IF(H134=1,N134*(1-'3 Irrigation Schedule'!$C$27),S133-U133))","v":1.4895624000000467},1,6.3201600000000004,7.8097224000000471,{"$f":"IF(H134=\"\",\"\",IF('3 Irrigation Schedule'!$P$19<O134,'3 Irrigation Schedule'!$P$19,O134))","v":10},0,{"$f":"IF(H134=\"\",\"\",U134/'3 Irrigation Schedule'!$M$19)","v":0}]
[null,null,null,"2020","June","2020-06-10",null,88,"Mid Season",5.2668000000000008,1.2,6.3201600000000004,1,{"$f":"IF(OR('3 Irrigation Schedule'!$C$29=\"\",'3 Irrigation Schedule'!$C$31=\"\",H135=\"\"),\"\",(('3 Irrigation Schedule'!$C$29-'3 Irrigation Schedule'!$C$31)/100)*1000*M135)","v":140},77,{"$f":"IF(H135=\"\",\"\",IF(H135=1,N135*(1-'3 Irrigation Schedule'!$C$27),S134-U134))","v":7.8097224000000471},1,6.3201600000000004,14.129882400000048,{"$f":"IF(H135=\"\",\"\",IF('3 Irrigation Schedule'!$P$19<O135,'3 Irrigation Schedule'!$P$19,O135))","v":10},10,{"$f":"IF(H135=\"\",\"\",U135/'3 Irrigation Schedule'!$M$19)","v":11.111111111111111}]
[null,null,null,"2020","June","2020-06-11",null,89,"Mid Season",5.2668000000000008,1.2,6.3201600000000004,1,{"$f":"IF(OR('3 Irrigation Schedule'!$C$29=\"\",'3 Irrigation Schedule'!$C$31=\"\",H136=\"\"),\"\",(('3 Irrigation Schedule'!$C$29-'3 Irrigation Schedule'!$C$31)/100)*1000*M136)","v":140},77,{"$f":"IF(H136=\"\",\"\",IF(H136=1,N136*(1-'3 Irrigation Schedule'!$C$27),S135-U135))","v":4.1298824000000476},1,6.3201600000000004,10.450042400000047,{"$f":"IF(H136=\"\",\"\",IF('3 Irrigation Schedule'!$P$19<O136,'3 Irrigation Schedule'!$P$19,O136))","v":10},10,{"$f":"IF(H136=\"\",\"\",U136/'3 Irrigation Schedule'!$M$19)","v":11.111111111111111}]
[null,null,null,"2020","June","2020-06-12",null,90,"Mid Season",5.2668000000000008,1.2,6.3201600000000004,1,{"$f":"IF(OR('3 Irrigation Schedule'!$C$29=\"\",'3 Irrigation Schedule'!$C$31=\"\",H137=\"\"),\"\",(('3 Irrigation Schedule'!$C$29-'3 Irrigation Schedule'!$C$31)/100)*1000*M137)","v":140},77,{"$f":"IF(H137=\"\",\"\",IF(H137=1,N137*(1-'3 Irrigation Schedule'!$C$27),S136-U136))","v":0.45004240000004714},1,6.3201600000000004,6.7702024000000476,{"$f":"IF(H137=\"\",\"\",IF('3 Irrigation Schedule'!$P$19<O137,'3 Irrigation Schedule'!$P$19,O137))","v":10},0,{"$f":"IF(H137=\"\",\"\",U137/'3 Irrigation Schedule'!$M$19)","v":0}]
[null,null,null,"2020","June","2020-06-13",null,91,"Mid Season",5.2668000000000008,1.2,6.3201600000000004,1,{"$f":"IF(OR('3 Irrigation Schedule'!$C$29=\"\",'3 Irrigation Schedule'!$C$31=\"\",H138=\"\"),\"\",(('3 Irrigation Schedule'!$C$29-'3 Irrigation Schedule'!$C$31)/100)*1000*M138)","v":140},77,{"$f":"IF(H138=\"\",\"\",IF(H138=1,N138*(1-'3 Irrigation Schedule'!$C$27),S137-U137))","v":6.7702024000000476},1,6.3201600000000004,13.090362400000048,{"$f":"IF(H138=\"\",\"\",IF('3 Irrigation Schedule'!$P$19<O138,'3 Irrigation Schedule'!$P$19,O138))","v":10},10,{"$f":"IF(H138=\"\",\"\",U138/'3 Irrigation Schedule'!$M$19)","v":11.111111111111111}]
[null,null,null,"2020","June","2020-06-14",null,92,"Mid Season",5.2668000000000008,1.2,6.3201600000000004,1,{"$f":"IF(OR('3 Irrigation Schedule'!$C$29=\"\",'3 Irrigation Schedule'!$C$31=\"\",H139=\"\"),\"\",(('3 Irrigation Schedule'!$C$29-'3 Irrigation Schedule'!$C$31)/100)*1000*M139)","v":140},77,{"$f":"IF(H139=\"\",\"\",IF(H139=1,N139*(1-'3 Irrigation Schedule'!$C$27),S138-U138))","v":3.090362400000048},1,6.3201600000000004,9.4105224000000476,{"$f":"IF(H139=\"\",\"\",IF('3 Irrigation Schedule'!$P$19<O139,'3 Irrigation Schedule'!$P$19,O139))","v":10},0,{"$f":"IF(H139=\"\",\"\",U139/'3 Irrigation Schedule'!$M$19)","v":0}]
[null,null,null,"2020","June","2020-06-15",null,93,"Mid Season",5.2668000000000008,1.2,6.3201600000000004,1,{"$f":"IF(OR('3 Irrigation Schedule'!$C$29=\"\",'3 Irrigation Schedule'!$C$31=\"\",H140=\"\"),\"\",(('3 Irrigation Schedule'!$C$29-'3 Irrigation Schedule'!$C$31)/100)*1000*M140)","v":140},77,{"$f":"IF(H140=\"\",\"\",IF(H140=1,N140*(1-'3 Irrigation Schedule'!$C$27),S139-U139))","v":9.4105224000000476},1,6.3201600000000004,15.730682400000049,{"$f":"IF(H140=\"\",\"\",IF('3 Irrigation Schedule'!$P$19<O140,'3 Irrigation Schedule'!$P$19,O140))","v":10},10,{"$f":"IF(H140=\"\",\"\",U140/'3 Irrigation Schedule'!$M$19)","v":11.111111111111111}]
[null,null,null,"2020","June","2020-06-16",null,94,"Mid Season",5.2668000000000008,1.2,6.3201600000000004,1,{"$f":"IF(OR('3 Irrigation Schedule'!$C$29=\"\",'3 Irrigation Schedule'!$C$31=\"\",H141=\"\"),\"\",(('3 Irrigation Schedule'!$C$29-'3 Irrigation Schedule'!$C$31)/100)*1000*M141)","v":140},77,{"$f":"IF(H141=\"\",\"\",IF(H141=1,N141*(1-'3 Irrigation Schedule'!$C$27),S140-U140))","v":5.7306824000000489},1,6.3201600000000004,12.05084240000005,{"$f":"IF(H141=\"\",\"\",IF('3 Irrigation Schedule'!$P$19<O141,'3 Irrigation Schedule'!$P$19,O141))","v":10},10,{"$f":"IF(H141=\"\",\"\",U141/'3 Irrigation Schedule'!$M$19)","v":11.111111111111111}]
[null,null,null,"2020","June","2020-06-17",null,95,"Mid Season",5.2668000000000008,1.2,6.3201600000000004,1,{"$f":"IF(OR('3 Irrigation Schedule'!$C$29=\"\",'3 Irrigation Schedule'!$C$31=\"\",H142=\"\"),\"\",(('3 Irrigation Schedule'!$C$29-'3 Irrigation Schedule'!$C$31)/100)*1000*M142)","v":140},77,{"$f":"IF(H142=\"\",\"\",IF(H142=1,N142*(1-'3 Irrigation Schedule'!$C$27),S141-U141))","v":2.0508424000000502},1,6.3201600000000004,8.3710024000000516,{"$f":"IF(H142=\"\",\"\",IF('3 Irrigation Schedule'!$P$19<O142,'3 Irrigation Schedule'!$P$19,O142))","v":10},0,{"$f":"IF(H142=\"\",\"\",U142/'3 Irrigation Schedule'!$M$19)","v":0}]
[null,null,null,"2020","June","2020-06-18",null,96,"Late Season",5.2668000000000008,1.1766666666666665,6.1972680000000002,1,{"$f":"IF(OR('3 Irrigation Schedule'!$C$29=\"\",'3 Irrigation Schedule'!$C$31=\"\",H143=\"\"),\"\",(('3 Irrigation Schedule'!$C$29-'3 Irrigation Schedule'!$C$31)/100)*1000*M143)","v":140},77,{"$f":"IF(H143=\"\",\"\",IF(H143=1,N143*(1-'3 Irrigation Schedule'!$C$27),S142-U142))","v":8.3710024000000516},1,6.1972680000000002,14.568270400000053,{"$f":"IF(H143=\"\",\"\",IF('3 Irrigation Schedule'!$P$19<O143,'3 Irrigation Schedule'!$P$19,O143))","v":10},10,{"$f":"IF(H143=\"\",\"\",U143/'3 Irrigation Schedule'!$M$19)","v":11.111111111111111}]
[null,null,null,"2020","June","2020-06-19",null,97,"Late Season",5.2668000000000008,1.1533333333333333,6.0743760000000009,1,{"$f":"IF(OR('3 Irrigation Schedule'!$C$29=\"\",'3 Irrigation Schedule'!$C$31=\"\",H144=\"\"),\"\",(('3 Irrigation Schedule'!$C$29-'3 Irrigation Schedule'!$C$31)/100)*1000*M144)","v":140},77,{"$f":"IF(H144=\"\",\"\",IF(H144=1,N144*(1-'3 Irrigation Schedule'!$C$27),S143-U143))","v":4.5682704000000527},1,6.0743760000000009,10.642646400000054,{"$f":"IF(H144=\"\",\"\",IF('3 Irrigation Schedule'!$P$19<O144,'3 Irrigation Schedule'!$P$19,O144))","v":10},10,{"$f":"IF(H144=\"\",\"\",U144/'3 Irrigation Schedule'!$M$19)","v":11.111111111111111}]
[null,null,null,"2020","June","2020-06-20",null,98,"Late Season",5.2668000000000008,1.1299999999999999,5.9514840000000007,1,{"$f":"IF(OR('3 Irrigation Schedule'!$C$29=\"\",'3 Irrigation Schedule'!$C$31=\"\",H145=\"\"),\"\",(('3 Irrigation Schedule'!$C$29-'3 Irrigation Schedule'!$C$31)/100)*1000*M145)","v":140},77,{"$f":"IF(H145=\"\",\"\",IF(H145=1,N145*(1-'3 Irrigation Schedule'!$C$27),S144-U144))","v":0.64264640000005357},1,5.9514840000000007,6.5941304000000542,{"$f":"IF(H145=\"\",\"\",IF('3 Irrigation Schedule'!$P$19<O145,'3 Irrigation Schedule'!$P$19,O145))","v":10},0,{"$f":"IF(H145=\"\",\"\",U145/'3 Irrigation Schedule'!$M$19)","v":0}]
[null,null,null,"2020","June","2020-06-21",null,99,"Late Season",5.2668000000000008,1.1066666666666667,5.8285920000000013,1,{"$f":"IF(OR('3 Irrigation Schedule'!$C$29=\"\",'3 Irrigation Schedule'!$C$31=\"\",H146=\"\"),\"\",(('3 Irrigation Schedule'!$C$29-'3 Irrigation Schedule'!$C$31)/100)*1000*M146)","v":140},77,{"$f":"IF(H146=\"\",\"\",IF(H146=1,N146*(1-'3 Irrigation Schedule'!$C$27),S145-U145))","v":6.5941304000000542},1,5.8285920000000013,12.422722400000055,{"$f":"IF(H146=\"\",\"\",IF('3 Irrigation Schedule'!$P$19<O146,'3 Irrigation Schedule'!$P$19,O146))","v":10},10,{"$f":"IF(H146=\"\",\"\",U146/'3 Irrigation Schedule'!$M$19)","v":11.111111111111111}]
[null,null,null,"2020","June","2020-06-22",null,100,"Late Season",5.2668000000000008,1.0833333333333333,5.7057000000000002,1,{"$f":"IF(OR('3 Irrigation Schedule'!$C$29=\"\",'3 Irrigation Schedule'!$C$31=\"\",H147=\"\"),\"\",(('3 Irrigation Schedule'!$C$29-'3 Irrigation Schedule'!$C$31)/100)*1000*M147)","v":140},77,{"$f":"IF(H147=\"\",\"\",IF(H147=1,N147*(1-'3 Irrigation Schedule'!$C$27),S146-U146))","v":2.4227224000000547},1,5.7057000000000002,8.1284224000000549,{"$f":"IF(H147=\"\",\"\",IF('3 Irrigation Schedule'!$P$19<O147,'3 Irrigation Schedule'!$P$19,O147))","v":10},0,{"$f":"IF(H147=\"\",\"\",U147/'3 Irrigation Schedule'!$M$19)","v":0}]
[null,null,null,"2020","June","2020-06-23",null,101,"Late Season",5.2668000000000008,1.06,5.5828080000000009,1,{"$f":"IF(OR('3 Irrigation Schedule'!$C$29=\"\",'3 Irrigation Schedule'!$C$31=\"\",H148=\"\"),\"\",(('3 Irrigation Schedule'!$C$29-'3 Irrigation Schedule'!$C$31)/100)*1000*M148)","v":140},77,{"$f":"IF(H148=\"\",\"\",IF(H148=1,N148*(1-'3 Irrigation Schedule'!$C$27),S147-U147))","v":8.1284224000000549},1,5.5828080000000009,13.711230400000055,{"$f":"IF(H148=\"\",\"\",IF('3 Irrigation Schedule'!$P$19<O148,'3 Irrigation Schedule'!$P$19,O148))","v":10},10,{"$f":"IF(H148=\"\",\"\",U148/'3 Irrigation Schedule'!$M$19)","v":11.111111111111111}]
[null,null,null,"2020","June","2020-06-24",null,102,"Late Season",5.2668000000000008,1.0366666666666666,5.4599160000000007,1,{"$f":"IF(OR('3 Irrigation Schedule'!$C$29=\"\",'3 Irrigation Schedule'!$C$31=\"\",H149=\"\"),\"\",(('3 Irrigation Schedule'!$C$29-'3 Irrigation Schedule'!$C$31)/100)*1000*M149)","v":140},77,{"$f":"IF(H149=\"\",\"\",IF(H149=1,N149*(1-'3 Irrigation Schedule'!$C$27),S148-U148))","v":3.7112304000000549},1,5.4599160000000007,9.1711464000000547,{"$f":"IF(H149=\"\",\"\",IF('3 Irrigation Schedule'!$P$19<O149,'3 Irrigation Schedule'!$P$19,O149))","v":10},0,{"$f":"IF(H149=\"\",\"\",U149/'3 Irrigation Schedule'!$M$19)","v":0}]
[null,null,null,"2020","June","2020-06-25",null,103,"Late Season",5.2668000000000008,1.0133333333333332,5.3370240000000004,1,{"$f":"IF(OR('3 Irrigation Schedule'!$C$29=\"\",'3 Irrigation Schedule'!$C$31=\"\",H150=\"\"),\"\",(('3 Irrigation Schedule'!$C$29-'3 Irrigation Schedule'!$C$31)/100)*1000*M150)","v":140},77,{"$f":"IF(H150=\"\",\"\",IF(H150=1,N150*(1-'3 Irrigation Schedule'!$C$27),S149-U149))","v":9.1711464000000547},1,5.3370240000000004,14.508170400000054,{"$f":"IF(H150=\"\",\"\",IF('3 Irrigation Schedule'!$P$19<O150,'3 Irrigation Schedule'!$P$19,O150))","v":10},10,{"$f":"IF(H150=\"\",\"\",U150/'3 Irrigation Schedule'!$M$19)","v":11.111111111111111}]
[null,null,null,"2020","June","2020-06-26",null,104,"Late Season",5.2668000000000008,0.99,5.2141320000000011,1,{"$f":"IF(OR('3 Irrigation Schedule'!$C$29=\"\",'3 Irrigation Schedule'!$C$31=\"\",H151=\"\"),\"\",(('3 Irrigation Schedule'!$C$29-'3 Irrigation Schedule'!$C$31)/100)*1000*M151)","v":140},77,{"$f":"IF(H151=\"\",\"\",IF(H151=1,N151*(1-'3 Irrigation Schedule'!$C$27),S150-U150))","v":4.5081704000000542},1,5.2141320000000011,9.7223024000000553,{"$f":"IF(H151=\"\",\"\",IF('3 Irrigation Schedule'!$P$19<O151,'3 Irrigation Schedule'!$P$19,O151))","v":10},0,{"$f":"IF(H151=\"\",\"\",U151/'3 Irrigation Schedule'!$M$19)","v":0}]
[null,null,null,"2020","June","2020-06-27",null,105,"Late Season",5.2668000000000008,0.96666666666666667,5.0912400000000009,1,{"$f":"IF(OR('3 Irrigation Schedule'!$C$29=\"\",'3 Irrigation Schedule'!$C$31=\"\",H152=\"\"),\"\",(('3 Irrigation Schedule'!$C$29-'3 Irrigation Schedule'!$C$31)/100)*1000*M152)","v":140},77,{"$f":"IF(H152=\"\",\"\",IF(H152=1,N152*(1-'3 Irrigation Schedule'!$C$27),S151-U151))","v":9.7223024000000553},1,5.0912400000000009,14.813542400000056,{"$f":"IF(H152=\"\",\"\",IF('3 Irrigation Schedule'!$P$19<O152,'3 Irrigation Schedule'!$P$19,O152))","v":10},10,{"$f":"IF(H152=\"\",\"\",U152/'3 Irrigation Schedule'!$M$19)","v":11.111111111111111}]
[null,null,null,"2020","June","2020-06-28",null,106,"Late Season",5.2668000000000008,0.94333333333333336,4.9683480000000007,1,{"$f":"IF(OR('3 Irrigation Schedule'!$C$29=\"\",'3 Irrigation Schedule'!$C$31=\"\",H153=\"\"),\"\",(('3 Irrigation Schedule'!$C$29-'3 Irrigation Schedule'!$C$31)/100)*1000*M153)","v":140},77,{"$f":"IF(H153=\"\",\"\",IF(H153=1,N153*(1-'3 Irrigation Schedule'!$C$27),S152-U152))","v":4.8135424000000562},1,4.9683480000000007,9.7818904000000568,{"$f":"IF(H153=\"\",\"\",IF('3 Irrigation Schedule'!$P$19<O153,'3 Irrigation Schedule'!$P$19,O153))","v":10},0,{"$f":"IF(H153=\"\",\"\",U153/'3 Irrigation Schedule'!$M$19)","v":0}]
[null,null,null,"2020","June","2020-06-29",null,107,"Late Season",5.2668000000000008,0.91999999999999993,4.8454560000000004,1,{"$f":"IF(OR('3 Irrigation Schedule'!$C$29=\"\",'3 Irrigation Schedule'!$C$31=\"\",H154=\"\"),\"\",(('3 Irrigation Schedule'!$C$29-'3 Irrigation Schedule'!$C$31)/100)*1000*M154)","v":140},77,{"$f":"IF(H154=\"\",\"\",IF(H154=1,N154*(1-'3 Irrigation Schedule'!$C$27),S153-U153))","v":9.7818904000000568},1,4.8454560000000004,14.627346400000057,{"$f":"IF(H154=\"\",\"\",IF('3 Irrigation Schedule'!$P$19<O154,'3 Irrigation Schedule'!$P$19,O154))","v":10},10,{"$f":"IF(H154=\"\",\"\",U154/'3 Irrigation Schedule'!$M$19)","v":11.111111111111111}]
[null,null,null,"2020","June","2020-06-30",null,108,"Late Season",5.2668000000000008,0.89666666666666661,4.7225640000000002,1,{"$f":"IF(OR('3 Irrigation Schedule'!$C$29=\"\",'3 Irrigation Schedule'!$C$31=\"\",H155=\"\"),\"\",(('3 Irrigation Schedule'!$C$29-'3 Irrigation Schedule'!$C$31)/100)*1000*M155)","v":140},77,{"$f":"IF(H155=\"\",\"\",IF(H155=1,N155*(1-'3 Irrigation Schedule'!$C$27),S154-U154))","v":4.6273464000000573},1,4.7225640000000002,9.3499104000000575,{"$f":"IF(H155=\"\",\"\",IF('3 Irrigation Schedule'!$P$19<O155,'3 Irrigation Schedule'!$P$19,O155))","v":10},0,{"$f":"IF(H155=\"\",\"\",U155/'3 Irrigation Schedule'!$M$19)","v":0}]
[null,null,null,"2020","July","2020-07-01",null,109,"Late Season",5.2023999999999999,0.87333333333333329,4.5434293333333331,1,{"$f":"IF(OR('3 Irrigation Schedule'!$C$29=\"\",'3 Irrigation Schedule'!$C$31=\"\",H156=\"\"),\"\",(('3 Irrigation Schedule'!$C$29-'3 Irrigation Schedule'!$C$31)/100)*1000*M156)","v":140},77,{"$f":"IF(H156=\"\",\"\",IF(H156=1,N156*(1-'3 Irrigation Schedule'!$C$27),S155-U155))","v":9.3499104000000575},1,4.5434293333333331,13.893339733333391,{"$f":"IF(H156=\"\",\"\",IF('3 Irrigation Schedule'!$P$19<O156,'3 Irrigation Schedule'!$P$19,O156))","v":10},10,{"$f":"IF(H156=\"\",\"\",U156/'3 Irrigation Schedule'!$M$19)","v":11.111111111111111}]
[null,null,null,"2020","July","2020-07-02",null,110,"Late Season",5.2023999999999999,0.85,4.42204,1,{"$f":"IF(OR('3 Irrigation Schedule'!$C$29=\"\",'3 Irrigation Schedule'!$C$31=\"\",H157=\"\"),\"\",(('3 Irrigation Schedule'!$C$29-'3 Irrigation Schedule'!$C$31)/100)*1000*M157)","v":140},77,{"$f":"IF(H157=\"\",\"\",IF(H157=1,N157*(1-'3 Irrigation Schedule'!$C$27),S156-U156))","v":3.8933397333333915},1,4.42204,8.3153797333333905,{"$f":"IF(H157=\"\",\"\",IF('3 Irrigation Schedule'!$P$19<O157,'3 Irrigation Schedule'!$P$19,O157))","v":10},0,{"$f":"IF(H157=\"\",\"\",U157/'3 Irrigation Schedule'!$M$19)","v":0}]
[null,null,null,"2020","July","2020-07-03",null,111,"Late Season",5.2023999999999999,0.82666666666666666,4.3006506666666668,1,{"$f":"IF(OR('3 Irrigation Schedule'!$C$29=\"\",'3 Irrigation Schedule'!$C$31=\"\",H158=\"\"),\"\",(('3 Irrigation Schedule'!$C$29-'3 Irrigation Schedule'!$C$31)/100)*1000*M158)","v":140},77,{"$f":"IF(H158=\"\",\"\",IF(H158=1,N158*(1-'3 Irrigation Schedule'!$C$27),S157-U157))","v":8.3153797333333905},1,4.3006506666666668,12.616030400000056,{"$f":"IF(H158=\"\",\"\",IF('3 Irrigation Schedule'!$P$19<O158,'3 Irrigation Schedule'!$P$19,O158))","v":10},10,{"$f":"IF(H158=\"\",\"\",U158/'3 Irrigation Schedule'!$M$19)","v":11.111111111111111}]
[null,null,null,"2020","July","2020-07-04",null,112,"Late Season",5.2023999999999999,0.80333333333333334,4.1792613333333337,1,{"$f":"IF(OR('3 Irrigation Schedule'!$C$29=\"\",'3 Irrigation Schedule'!$C$31=\"\",H159=\"\"),\"\",(('3 Irrigation Schedule'!$C$29-'3 Irrigation Schedule'!$C$31)/100)*1000*M159)","v":140},77,{"$f":"IF(H159=\"\",\"\",IF(H159=1,N159*(1-'3 Irrigation Schedule'!$C$27),S158-U158))","v":2.6160304000000565},1,4.1792613333333337,6.7952917333333902,{"$f":"IF(H159=\"\",\"\",IF('3 Irrigation Schedule'!$P$19<O159,'3 Irrigation Schedule'!$P$19,O159))","v":10},0,{"$f":"IF(H159=\"\",\"\",U159/'3 Irrigation Schedule'!$M$19)","v":0}]
[null,null,null,"2020","July","2020-07-05",null,113,"Late Season",5.2023999999999999,0.78,4.0578719999999997,1,{"$f":"IF(OR('3 Irrigation Schedule'!$C$29=\"\",'3 Irrigation Schedule'!$C$31=\"\",H160=\"\"),\"\",(('3 Irrigation Schedule'!$C$29-'3 Irrigation Schedule'!$C$31)/100)*1000*M160)","v":140},77,{"$f":"IF(H160=\"\",\"\",IF(H160=1,N160*(1-'3 Irrigation Schedule'!$C$27),S159-U159))","v":6.7952917333333902},1,4.0578719999999997,10.853163733333389,{"$f":"IF(H160=\"\",\"\",IF('3 Irrigation Schedule'!$P$19<O160,'3 Irrigation Schedule'!$P$19,O160))","v":10},10,{"$f":"IF(H160=\"\",\"\",U160/'3 Irrigation Schedule'!$M$19)","v":11.111111111111111}]
[null,null,null,"2020","July","2020-07-06",null,114,"Late Season",5.2023999999999999,0.7566666666666666,3.9364826666666661,1,{"$f":"IF(OR('3 Irrigation Schedule'!$C$29=\"\",'3 Irrigation Schedule'!$C$31=\"\",H161=\"\"),\"\",(('3 Irrigation Schedule'!$C$29-'3 Irrigation Schedule'!$C$31)/100)*1000*M161)","v":140},77,{"$f":"IF(H161=\"\",\"\",IF(H161=1,N161*(1-'3 Irrigation Schedule'!$C$27),S160-U160))","v":0.85316373333338902},1,3.9364826666666661,4.7896464000000556,{"$f":"IF(H161=\"\",\"\",IF('3 Irrigation Schedule'!$P$19<O161,'3 Irrigation Schedule'!$P$19,O161))","v":10},0,{"$f":"IF(H161=\"\",\"\",U161/'3 Irrigation Schedule'!$M$19)","v":0}]
[null,null,null,{"$f":"IFERROR(TEXT(DATE(YEAR($F162),MONTH($F162),1),$D$7&$D$4),\"\")","v":"2020"},{"$f":"IFERROR(TEXT(DATE(YEAR($F162),MONTH($F162),1),$D$7&$D$5),\"\")","v":"July"},"2020-07-07",null,115,{"$f":"IF(H162=\"\",\"\",IF(H162<=$I$27,\"Initial\",IF(AND(H162>$I$27,H162<=$I$28),\"Development\",IF(AND(H162>$I$28,H162<=$I$29),\"Mid Season\",\"Late Season\"))))","v":"Late Season"},{"$f":"IFERROR(VLOOKUP($E162,$B$19:$C$30,2,FALSE),\"\")","v":5.2023999999999999},{"$f":"IF(H162=\"\",\"\",IF(H162<=$I$27,$L$27,IF(AND(H162>$I$27,H162<=$I$28),$L$27+((H162-$I$27)/$H$28)*($L$29-$L$27),IF(AND(H162>$I$28,H162<=$I$29),$L$29,$L$29+((H162-$I$29)/$H$30)*($L$30-$L$29)))))","v":0.73333333333333339},3.8150933333333334,1,{"$f":"IF(OR('3 Irrigation Schedule'!$C$29=\"\",'3 Irrigation Schedule'!$C$31=\"\",H162=\"\"),\"\",(('3 Irrigation Schedule'!$C$29-'3 Irrigation Schedule'!$C$31)/100)*1000*M162)","v":140},77,{"$f":"IF(H162=\"\",\"\",IF(H162=1,N162*(1-'3 Irrigation Schedule'!$C$27),S161-U161))","v":4.7896464000000556},1,3.8150933333333334,8.604739733333389,{"$f":"IF(H162=\"\",\"\",IF('3 Irrigation Schedule'!$P$19<O162,'3 Irrigation Schedule'!$P$19,O162))","v":10},0,{"$f":"IF(H162=\"\",\"\",U162/'3 Irrigation Schedule'!$M$19)","v":0}]
[null,null,null,"2020","July",{"$f":"IFERROR(IF(F162+1<=$N$7, F162+1,\"\"),\"\")","v":"2020-07-08"},null,{"$f":"IFERROR(IF(OR($F163-$J$27+1<=0,$F163>$K$30),\"\",$F163-$J$27+1),\"\")","v":116},"Late Season",5.2023999999999999,0.71,{"$f":"IFERROR((J163*K163),0)","v":3.6937039999999999},{"$f":"IF(H163=\"\",\"\",IF(OR(H163=1,H163<$I$28),$M$27+(($M$28-$M$27)*((H163-1)/($I$28-1))),$M$28))","v":1},{"$f":"IF(OR('3 Irrigation Schedule'!$C$29=\"\",'3 Irrigation Schedule'!$C$31=\"\",H163=\"\"),\"\",(('3 Irrigation Schedule'!$C$29-'3 Irrigation Schedule'!$C$31)/100)*1000*M163)","v":140},{"$f":"IF(H163=\"\",\"\",N163*$N$27)","v":77},{"$f":"IF(H163=\"\",\"\",IF(H163=1,N163*(1-'3 Irrigation Schedule'!$C$27),S162-U162))","v":8.604739733333389},1,3.6937039999999999,12.298443733333389,{"$f":"IF(H163=\"\",\"\",IF('3 Irrigation Schedule'!$P$19<O163,'3 Irrigation Schedule'!$P$19,O163))","v":10},{"$f":"IF(H163=\"\",\"\",IF(T163<=S163,T163,0))","v":10},{"$f":"IF(H163=\"\",\"\",U163/'3 Irrigation Schedule'!$M$19)","v":11.111111111111111}]
[null,null,null,"2020","July","2020-07-09",null,117,"Late Season",5.2023999999999999,0.68666666666666665,3.5723146666666663,1,{"$f":"IF(OR('3 Irrigation Schedule'!$C$29=\"\",'3 Irrigation Schedule'!$C$31=\"\",H164=\"\"),\"\",(('3 Irrigation Schedule'!$C$29-'3 Irrigation Schedule'!$C$31)/100)*1000*M164)","v":140},77,{"$f":"IF(H164=\"\",\"\",IF(H164=1,N164*(1-'3 Irrigation Schedule'!$C$27),S163-U163))","v":2.2984437333333894},1,3.5723146666666663,5.8707584000000557,{"$f":"IF(H164=\"\",\"\",IF('3 Irrigation Schedule'!$P$19<O164,'3 Irrigation Schedule'!$P$19,O164))","v":10},0,{"$f":"IF(H164=\"\",\"\",U164/'3 Irrigation Schedule'!$M$19)","v":0}]
[null,null,null,"2020","July","2020-07-10",null,118,"Late Season",5.2023999999999999,0.66333333333333333,3.4509253333333332,1,{"$f":"IF(OR('3 Irrigation Schedule'!$C$29=\"\",'3 Irrigation Schedule'!$C$31=\"\",H165=\"\"),\"\",(('3 Irrigation Schedule'!$C$29-'3 Irrigation Schedule'!$C$31)/100)*1000*M165)","v":140},77,{"$f":"IF(H165=\"\",\"\",IF(H165=1,N165*(1-'3 Irrigation Schedule'!$C$27),S164-U164))","v":5.8707584000000557},1,3.4509253333333332,9.3216837333333888,{"$f":"IF(H165=\"\",\"\",IF('3 Irrigation Schedule'!$P$19<O165,'3 Irrigation Schedule'!$P$19,O165))","v":10},0,{"$f":"IF(H165=\"\",\"\",U165/'3 Irrigation Schedule'!$M$19)","v":0}]
[null,null,null,"2020","July","2020-07-11",null,119,"Late Season",5.2023999999999999,0.64,3.3295360000000001,1,{"$f":"IF(OR('3 Irrigation Schedule'!$C$29=\"\",'3 Irrigation Schedule'!$C$31=\"\",H166=\"\"),\"\",(('3 Irrigation Schedule'!$C$29-'3 Irrigation Schedule'!$C$31)/100)*1000*M166)","v":140},77,{"$f":"IF(H166=\"\",\"\",IF(H166=1,N166*(1-'3 Irrigation Schedule'!$C$27),S165-U165))","v":9.3216837333333888},1,3.3295360000000001,12.651219733333388,{"$f":"IF(H166=\"\",\"\",IF('3 Irrigation Schedule'!$P$19<O166,'3 Irrigation Schedule'!$P$19,O166))","v":10},10,{"$f":"IF(H166=\"\",\"\",U166/'3 Irrigation Schedule'!$M$19)","v":11.111111111111111}]
[null,null,null,"2020","July","2020-07-12",null,120,"Late Season",5.2023999999999999,0.61666666666666659,3.208146666666666,1,{"$f":"IF(OR('3 Irrigation Schedule'!$C$29=\"\",'3 Irrigation Schedule'!$C$31=\"\",H167=\"\"),\"\",(('3 Irrigation Schedule'!$C$29-'3 Irrigation Schedule'!$C$31)/100)*1000*M167)","v":140},77,{"$f":"IF(H167=\"\",\"\",IF(H167=1,N167*(1-'3 Irrigation Schedule'!$C$27),S166-U166))","v":2.651219733333388},1,3.208146666666666,5.859366400000054,{"$f":"IF(H167=\"\",\"\",IF('3 Irrigation Schedule'!$P$19<O167,'3 Irrigation Schedule'!$P$19,O167))","v":10},0,{"$f":"IF(H167=\"\",\"\",U167/'3 Irrigation Schedule'!$M$19)","v":0}]
[null,null,null,"2020","July","2020-07-13",null,121,"Late Season",5.2023999999999999,0.59333333333333327,3.0867573333333329,1,{"$f":"IF(OR('3 Irrigation Schedule'!$C$29=\"\",'3 Irrigation Schedule'!$C$31=\"\",H168=\"\"),\"\",(('3 Irrigation Schedule'!$C$29-'3 Irrigation Schedule'!$C$31)/100)*1000*M168)","v":140},77,{"$f":"IF(H168=\"\",\"\",IF(H168=1,N168*(1-'3 Irrigation Schedule'!$C$27),S167-U167))","v":5.859366400000054},1,3.0867573333333329,8.946123733333387,{"$f":"IF(H168=\"\",\"\",IF('3 Irrigation Schedule'!$P$19<O168,'3 Irrigation Schedule'!$P$19,O168))","v":10},0,{"$f":"IF(H168=\"\",\"\",U168/'3 Irrigation Schedule'!$M$19)","v":0}]
[null,null,null,"2020","July","2020-07-14",null,122,"Late Season",5.2023999999999999,0.56999999999999995,2.9653679999999998,1,{"$f":"IF(OR('3 Irrigation Schedule'!$C$29=\"\",'3 Irrigation Schedule'!$C$31=\"\",H169=\"\"),\"\",(('3 Irrigation Schedule'!$C$29-'3 Irrigation Schedule'!$C$31)/100)*1000*M169)","v":140},77,{"$f":"IF(H169=\"\",\"\",IF(H169=1,N169*(1-'3 Irrigation Schedule'!$C$27),S168-U168))","v":8.946123733333387},1,2.9653679999999998,11.911491733333387,{"$f":"IF(H169=\"\",\"\",IF('3 Irrigation Schedule'!$P$19<O169,'3 Irrigation Schedule'!$P$19,O169))","v":10},10,{"$f":"IF(H169=\"\",\"\",U169/'3 Irrigation Schedule'!$M$19)","v":11.111111111111111}]
[null,null,null,"2020","July","2020-07-15",null,123,"Late Season",5.2023999999999999,0.54666666666666663,2.8439786666666667,1,{"$f":"IF(OR('3 Irrigation Schedule'!$C$29=\"\",'3 Irrigation Schedule'!$C$31=\"\",H170=\"\"),\"\",(('3 Irrigation Schedule'!$C$29-'3 Irrigation Schedule'!$C$31)/100)*1000*M170)","v":140},77,{"$f":"IF(H170=\"\",\"\",IF(H170=1,N170*(1-'3 Irrigation Schedule'!$C$27),S169-U169))","v":1.9114917333333867},1,2.8439786666666667,4.7554704000000534,{"$f":"IF(H170=\"\",\"\",IF('3 Irrigation Schedule'!$P$19<O170,'3 Irrigation Schedule'!$P$19,O170))","v":10},0,{"$f":"IF(H170=\"\",\"\",U170/'3 Irrigation Schedule'!$M$19)","v":0}]
[null,null,null,"2020","July","2020-07-16",null,124,"Late Season",5.2023999999999999,0.52333333333333332,2.7225893333333331,1,{"$f":"IF(OR('3 Irrigation Schedule'!$C$29=\"\",'3 Irrigation Schedule'!$C$31=\"\",H171=\"\"),\"\",(('3 Irrigation Schedule'!$C$29-'3 Irrigation Schedule'!$C$31)/100)*1000*M171)","v":140},77,{"$f":"IF(H171=\"\",\"\",IF(H171=1,N171*(1-'3 Irrigation Schedule'!$C$27),S170-U170))","v":4.7554704000000534},1,2.7225893333333331,7.4780597333333869,{"$f":"IF(H171=\"\",\"\",IF('3 Irrigation Schedule'!$P$19<O171,'3 Irrigation Schedule'!$P$19,O171))","v":10},0,{"$f":"IF(H171=\"\",\"\",U171/'3 Irrigation Schedule'!$M$19)","v":0}]
[null,null,null,"2020","July","2020-07-17",null,125,"Late Season",5.2023999999999999,0.5,2.6012,1,{"$f":"IF(OR('3 Irrigation Schedule'!$C$29=\"\",'3 Irrigation Schedule'!$C$31=\"\",H172=\"\"),\"\",(('3 Irrigation Schedule'!$C$29-'3 Irrigation Schedule'!$C$31)/100)*1000*M172)","v":140},77,{"$f":"IF(H172=\"\",\"\",IF(H172=1,N172*(1-'3 Irrigation Schedule'!$C$27),S171-U171))","v":7.4780597333333869},1,2.6012,10.079259733333387,{"$f":"IF(H172=\"\",\"\",IF('3 Irrigation Schedule'!$P$19<O172,'3 Irrigation Schedule'!$P$19,O172))","v":10},10,{"$f":"IF(H172=\"\",\"\",U172/'3 Irrigation Schedule'!$M$19)","v":11.111111111111111}]
[null,null,null,"2020","July","2020-07-18",null,"","",5.2023999999999999,"",0,"",{"$f":"IF(OR('3 Irrigation Schedule'!$C$29=\"\",'3 Irrigation Schedule'!$C$31=\"\",H173=\"\"),\"\",(('3 Irrigation Schedule'!$C$29-'3 Irrigation Schedule'!$C$31)/100)*1000*M173)","v":""},"",{"$f":"IF(H173=\"\",\"\",IF(H173=1,N173*(1-'3 Irrigation Schedule'!$C$27),S172-U172))","v":""},"","","",{"$f":"IF(H173=\"\",\"\",IF('3 Irrigation Schedule'!$P$19<O173,'3 Irrigation Schedule'!$P$19,O173))","v":""},"",{"$f":"IF(H173=\"\",\"\",U173/'3 Irrigation Schedule'!$M$19)","v":""}]
[null,null,null,"2020","July","2020-07-19",null,"","",5.2023999999999999,"",0,"",{"$f":"IF(OR('3 Irrigation Schedule'!$C$29=\"\",'3 Irrigation Schedule'!$C$31=\"\",H174=\"\"),\"\",(('3 Irrigation Schedule'!$C$29-'3 Irrigation Schedule'!$C$31)/100)*1000*M174)","v":""},"",{"$f":"IF(H174=\"\",\"\",IF(H174=1,N174*(1-'3 Irrigation Schedule'!$C$27),S173-U173))","v":""},"","","",{"$f":"IF(H174=\"\",\"\",IF('3 Irrigation Schedule'!$P$19<O174,'3 Irrigation Schedule'!$P$19,O174))","v":""},"",{"$f":"IF(H174=\"\",\"\",U174/'3 Irrigation Schedule'!$M$19)","v":""}]
[null,null,null,"2020","July","2020-07-20",null,"","",5.2023999999999999,"",0,"",{"$f":"IF(OR('3 Irrigation Schedule'!$C$29=\"\",'3 Irrigation Schedule'!$C$31=\"\",H175=\"\"),\"\",(('3 Irrigation Schedule'!$C$29-'3 Irrigation Schedule'!$C$31)/100)*1000*M175)","v":""},"",{"$f":"IF(H175=\"\",\"\",IF(H175=1,N175*(1-'3 Irrigation Schedule'!$C$27),S174-U174))","v":""},"","","",{"$f":"IF(H175=\"\",\"\",IF('3 Irrigation Schedule'!$P$19<O175,'3 Irrigation Schedule'!$P$19,O175))","v":""},"",{"$f":"IF(H175=\"\",\"\",U175/'3 Irrigation Schedule'!$M$19)","v":""}]
[null,null,null,"2020","July","2020-07-21",null,"","",5.2023999999999999,"",0,"",{"$f":"IF(OR('3 Irrigation Schedule'!$C$29=\"\",'3 Irrigation Schedule'!$C$31=\"\",H176=\"\"),\"\",(('3 Irrigation Schedule'!$C$29-'3 Irrigation Schedule'!$C$31)/100)*1000*M176)","v":""},"",{"$f":"IF(H176=\"\",\"\",IF(H176=1,N176*(1-'3 Irrigation Schedule'!$C$27),S175-U175))","v":""},"","","",{"$f":"IF(H176=\"\",\"\",IF('3 Irrigation Schedule'!$P$19<O176,'3 Irrigation Schedule'!$P$19,O176))","v":""},"",{"$f":"IF(H176=\"\",\"\",U176/'3 Irrigation Schedule'!$M$19)","v":""}]
[null,null,null,"2020","July","2020-07-22",null,"","",5.2023999999999999,"",0,"",{"$f":"IF(OR('3 Irrigation Schedule'!$C$29=\"\",'3 Irrigation Schedule'!$C$31=\"\",H177=\"\"),\"\",(('3 Irrigation Schedule'!$C$29-'3 Irrigation Schedule'!$C$31)/100)*1000*M177)","v":""},"",{"$f":"IF(H177=\"\",\"\",IF(H177=1,N177*(1-'3 Irrigation Schedule'!$C$27),S176-U176))","v":""},{"$f":"IF(H177=\"\",\"\",IF(P177>O177,(N177-P177)/(N177-O177),1))","v":""},{"$f":"IF(H177=\"\",\"\",L177*Q177)","v":""},{"$f":"IF(H177=\"\",\"\",P177+R177)","v":""},{"$f":"IF(H177=\"\",\"\",IF('3 Irrigation Schedule'!$P$19<O177,'3 Irrigation Schedule'!$P$19,O177))","v":""},"",{"$f":"IF(H177=\"\",\"\",U177/'3 Irrigation Schedule'!$M$19)","v":""}]
[null,null,null,"2020","July","2020-07-23",null,"","",5.2023999999999999,"",0,"",{"$f":"IF(OR('3 Irrigation Schedule'!$C$29=\"\",'3 Irrigation Schedule'!$C$31=\"\",H178=\"\"),\"\",(('3 Irrigation Schedule'!$C$29-'3 Irrigation Schedule'!$C$31)/100)*1000*M178)","v":""},"",{"$f":"IF(H178=\"\",\"\",IF(H178=1,N178*(1-'3 Irrigation Schedule'!$C$27),S177-U177))","v":""},"","","",{"$f":"IF(H178=\"\",\"\",IF('3 Irrigation Schedule'!$P$19<O178,'3 Irrigation Schedule'!$P$19,O178))","v":""},"",{"$f":"IF(H178=\"\",\"\",U178/'3 Irrigation Schedule'!$M$19)","v":""}]
[null,null,null,"2020","July","2020-07-24",null,"","",5.2023999999999999,"",0,"",{"$f":"IF(OR('3 Irrigation Schedule'!$C$29=\"\",'3 Irrigation Schedule'!$C$31=\"\",H179=\"\"),\"\",(('3 Irrigation Schedule'!$C$29-'3 Irrigation Schedule'!$C$31)/100)*1000*M179)","v":""},"",{"$f":"IF(H179=\"\",\"\",IF(H179=1,N179*(1-'3 Irrigation Schedule'!$C$27),S178-U178))","v":""},"","","",{"$f":"IF(H179=\"\",\"\",IF('3 Irrigation Schedule'!$P$19<O179,'3 Irrigation Schedule'!$P$19,O179))","v":""},"",{"$f":"IF(H179=\"\",\"\",U179/'3 Irrigation Schedule'!$M$19)","v":""}]
[null,null,null,"2020","July","2020-07-25",null,"","",5.2023999999999999,"",0,"",{"$f":"IF(OR('3 Irrigation Schedule'!$C$29=\"\",'3 Irrigation Schedule'!$C$31=\"\",H180=\"\"),\"\",(('3 Irrigation Schedule'!$C$29-'3 Irrigation Schedule'!$C$31)/100)*1000*M180)","v":""},"",{"$f":"IF(H180=\"\",\"\",IF(H180=1,N180*(1-'3 Irrigation Schedule'!$C$27),S179-U179))","v":""},"","","",{"$f":"IF(H180=\"\",\"\",IF('3 Irrigation Schedule'!$P$19<O180,'3 Irrigation Schedule'!$P$19,O180))","v":""},"",{"$f":"IF(H180=\"\",\"\",U180/'3 Irrigation Schedule'!$M$19)","v":""}]
[null,null,null,"2020","July","2020-07-26",null,"","",5.2023999999999999,"",0,"",{"$f":"IF(OR('3 Irrigation Schedule'!$C$29=\"\",'3 Irrigation Schedule'!$C$31=\"\",H181=\"\"),\"\",(('3 Irrigation Schedule'!$C$29-'3 Irrigation Schedule'!$C$31)/100)*1000*M181)","v":""},"",{"$f":"IF(H181=\"\",\"\",IF(H181=1,N181*(1-'3 Irrigation Schedule'!$C$27),S180-U180))","v":""},"","","",{"$f":"IF(H181=\"\",\"\",IF('3 Irrigation Schedule'!$P$19<O181,'3 Irrigation Schedule'!$P$19,O181))","v":""},"",{"$f":"IF(H181=\"\",\"\",U181/'3 Irrigation Schedule'!$M$19)","v":""}]
[null,null,null,"2020","July","2020-07-27",null,"","",5.2023999999999999,"",0,"",{"$f":"IF(OR('3 Irrigation Schedule'!$C$29=\"\",'3 Irrigation Schedule'!$C$31=\"\",H182=\"\"),\"\",(('3 Irrigation Schedule'!$C$29-'3 Irrigation Schedule'!$C$31)/100)*1000*M182)","v":""},"",{"$f":"IF(H182=\"\",\"\",IF(H182=1,N182*(1-'3 Irrigation Schedule'!$C$27),S181-U181))","v":""},"","","",{"$f":"IF(H182=\"\",\"\",IF('3 Irrigation Schedule'!$P$19<O182,'3 Irrigation Schedule'!$P$19,O182))","v":""},"",{"$f":"IF(H182=\"\",\"\",U182/'3 Irrigation Schedule'!$M$19)","v":""}]
[null,null,null,"2020","July","2020-07-28",null,"","",5.2023999999999999,"",0,"",{"$f":"IF(OR('3 Irrigation Schedule'!$C$29=\"\",'3 Irrigation Schedule'!$C$31=\"\",H183=\"\"),\"\",(('3 Irrigation Schedule'!$C$29-'3 Irrigation Schedule'!$C$31)/100)*1000*M183)","v":""},"",{"$f":"IF(H183=\"\",\"\",IF(H183=1,N183*(1-'3 Irrigation Schedule'!$C$27),S182-U182))","v":""},"","","",{"$f":"IF(H183=\"\",\"\",IF('3 Irrigation Schedule'!$P$19<O183,'3 Irrigation Schedule'!$P$19,O183))","v":""},"",{"$f":"IF(H183=\"\",\"\",U183/'3 Irrigation Schedule'!$M$19)","v":""}]
[null,null,null,"2020","July","2020-07-29",null,"","",5.2023999999999999,"",0,"",{"$f":"IF(OR('3 Irrigation Schedule'!$C$29=\"\",'3 Irrigation Schedule'!$C$31=\"\",H184=\"\"),\"\",(('3 Irrigation Schedule'!$C$29-'3 Irrigation Schedule'!$C$31)/100)*1000*M184)","v":""},"",{"$f":"IF(H184=\"\",\"\",IF(H184=1,N184*(1-'3 Irrigation Schedule'!$C$27),S183-U183))","v":""},"","","",{"$f":"IF(H184=\"\",\"\",IF('3 Irrigation Schedule'!$P$19<O184,'3 Irrigation Schedule'!$P$19,O184))","v":""},"",{"$f":"IF(H184=\"\",\"\",U184/'3 Irrigation Schedule'!$M$19)","v":""}]
[null,null,null,"2020","July","2020-07-30",null,"","",5.2023999999999999,"",0,"",{"$f":"IF(OR('3 Irrigation Schedule'!$C$29=\"\",'3 Irrigation Schedule'!$C$31=\"\",H185=\"\"),\"\",(('3 Irrigation Schedule'!$C$29-'3 Irrigation Schedule'!$C$31)/100)*1000*M185)","v":""},"",{"$f":"IF(H185=\"\",\"\",IF(H185=1,N185*(1-'3 Irrigation Schedule'!$C$27),S184-U184))","v":""},"","","",{"$f":"IF(H185=\"\",\"\",IF('3 Irrigation Schedule'!$P$19<O185,'3 Irrigation Schedule'!$P$19,O185))","v":""},"",{"$f":"IF(H185=\"\",\"\",U185/'3 Irrigation Schedule'!$M$19)","v":""}]
[null,null,null,"2020","July","2020-07-31",null,"","",5.2023999999999999,"",0,"",{"$f":"IF(OR('3 Irrigation Schedule'!$C$29=\"\",'3 Irrigation Schedule'!$C$31=\"\",H186=\"\"),\"\",(('3 Irrigation Schedule'!$C$29-'3 Irrigation Schedule'!$C$31)/100)*1000*M186)","v":""},"",{"$f":"IF(H186=\"\",\"\",IF(H186=1,N186*(1-'3 Irrigation Schedule'!$C$27),S185-U185))","v":""},"","","",{"$f":"IF(H186=\"\",\"\",IF('3 Irrigation Schedule'!$P$19<O186,'3 Irrigation Schedule'!$P$19,O186))","v":""},"",{"$f":"IF(H186=\"\",\"\",U186/'3 Irrigation Schedule'!$M$19)","v":""}]
[null,null,null,"2020","August","2020-08-01",null,"","",5.2023999999999999,"",0,"",{"$f":"IF(OR('3 Irrigation Schedule'!$C$29=\"\",'3 Irrigation Schedule'!$C$31=\"\",H187=\"\"),\"\",(('3 Irrigation Schedule'!$C$29-'3 Irrigation Schedule'!$C$31)/100)*1000*M187)","v":""},"",{"$f":"IF(H187=\"\",\"\",IF(H187=1,N187*(1-'3 Irrigation Schedule'!$C$27),S186-U186))","v":""},"","","",{"$f":"IF(H187=\"\",\"\",IF('3 Irrigation Schedule'!$P$19<O187,'3 Irrigation Schedule'!$P$19,O187))","v":""},"",{"$f":"IF(H187=\"\",\"\",U187/'3 Irrigation Schedule'!$M$19)","v":""}]
[null,null,null,"2020","August","2020-08-02",null,"","",5.2023999999999999,"",0,"",{"$f":"IF(OR('3 Irrigation Schedule'!$C$29=\"\",'3 Irrigation Schedule'!$C$31=\"\",H188=\"\"),\"\",(('3 Irrigation Schedule'!$C$29-'3 Irrigation Schedule'!$C$31)/100)*1000*M188)","v":""},"",{"$f":"IF(H188=\"\",\"\",IF(H188=1,N188*(1-'3 Irrigation Schedule'!$C$27),S187-U187))","v":""},"","","",{"$f":"IF(H188=\"\",\"\",IF('3 Irrigation Schedule'!$P$19<O188,'3 Irrigation Schedule'!$P$19,O188))","v":""},"",{"$f":"IF(H188=\"\",\"\",U188/'3 Irrigation Schedule'!$M$19)","v":""}]
[null,null,null,"2020","August","2020-08-03",null,"","",5.2023999999999999,"",0,"",{"$f":"IF(OR('3 Irrigation Schedule'!$C$29=\"\",'3 Irrigation Schedule'!$C$31=\"\",H189=\"\"),\"\",(('3 Irrigation Schedule'!$C$29-'3 Irrigation Schedule'!$C$31)/100)*1000*M189)","v":""},"",{"$f":"IF(H189=\"\",\"\",IF(H189=1,N189*(1-'3 Irrigation Schedule'!$C$27),S188-U188))","v":""},"","","",{"$f":"IF(H189=\"\",\"\",IF('3 Irrigation Schedule'!$P$19<O189,'3 Irrigation Schedule'!$P$19,O189))","v":""},"",{"$f":"IF(H189=\"\",\"\",U189/'3 Irrigation Schedule'!$M$19)","v":""}]
[null,null,null,"2020","August","2020-08-04",null,"","",5.2023999999999999,"",0,"",{"$f":"IF(OR('3 Irrigation Schedule'!$C$29=\"\",'3 Irrigation Schedule'!$C$31=\"\",H190=\"\"),\"\",(('3 Irrigation Schedule'!$C$29-'3 Irrigation Schedule'!$C$31)/100)*1000*M190)","v":""},"",{"$f":"IF(H190=\"\",\"\",IF(H190=1,N190*(1-'3 Irrigation Schedule'!$C$27),S189-U189))","v":""},"","","",{"$f":"IF(H190=\"\",\"\",IF('3 Irrigation Schedule'!$P$19<O190,'3 Irrigation Schedule'!$P$19,O190))","v":""},"",{"$f":"IF(H190=\"\",\"\",U190/'3 Irrigation Schedule'!$M$19)","v":""}]
[null,null,null,"2020","August","2020-08-05",null,"","",5.2023999999999999,"",0,"",{"$f":"IF(OR('3 Irrigation Schedule'!$C$29=\"\",'3 Irrigation Schedule'!$C$31=\"\",H191=\"\"),\"\",(('3 Irrigation Schedule'!$C$29-'3 Irrigation Schedule'!$C$31)/100)*1000*M191)","v":""},"",{"$f":"IF(H191=\"\",\"\",IF(H191=1,N191*(1-'3 Irrigation Schedule'!$C$27),S190-U190))","v":""},"","","",{"$f":"IF(H191=\"\",\"\",IF('3 Irrigation Schedule'!$P$19<O191,'3 Irrigation Schedule'!$P$19,O191))","v":""},"",{"$f":"IF(H191=\"\",\"\",U191/'3 Irrigation Schedule'!$M$19)","v":""}]
[null,null,null,"2020","August","2020-08-06",null,"","",5.2023999999999999,"",0,"",{"$f":"IF(OR('3 Irrigation Schedule'!$C$29=\"\",'3 Irrigation Schedule'!$C$31=\"\",H192=\"\"),\"\",(('3 Irrigation Schedule'!$C$29-'3 Irrigation Schedule'!$C$31)/100)*1000*M192)","v":""},"",{"$f":"IF(H192=\"\",\"\",IF(H192=1,N192*(1-'3 Irrigation Schedule'!$C$27),S191-U191))","v":""},"","","",{"$f":"IF(H192=\"\",\"\",IF('3 Irrigation Schedule'!$P$19<O192,'3 Irrigation Schedule'!$P$19,O192))","v":""},"",{"$f":"IF(H192=\"\",\"\",U192/'3 Irrigation Schedule'!$M$19)","v":""}]
[null,null,null,"2020","August","2020-08-07",null,"","",5.2023999999999999,"",0,"",{"$f":"IF(OR('3 Irrigation Schedule'!$C$29=\"\",'3 Irrigation Schedule'!$C$31=\"\",H193=\"\"),\"\",(('3 Irrigation Schedule'!$C$29-'3 Irrigation Schedule'!$C$31)/100)*1000*M193)","v":""},"",{"$f":"IF(H193=\"\",\"\",IF(H193=1,N193*(1-'3 Irrigation Schedule'!$C$27),S192-U192))","v":""},"","","",{"$f":"IF(H193=\"\",\"\",IF('3 Irrigation Schedule'!$P$19<O193,'3 Irrigation Schedule'!$P$19,O193))","v":""},"",{"$f":"IF(H193=\"\",\"\",U193/'3 Irrigation Schedule'!$M$19)","v":""}]
[null,null,null,"2020","August","2020-08-08",null,"","",5.2023999999999999,"",0,"",{"$f":"IF(OR('3 Irrigation Schedule'!$C$29=\"\",'3 Irrigation Schedule'!$C$31=\"\",H194=\"\"),\"\",(('3 Irrigation Schedule'!$C$29-'3 Irrigation Schedule'!$C$31)/100)*1000*M194)","v":""},"",{"$f":"IF(H194=\"\",\"\",IF(H194=1,N194*(1-'3 Irrigation Schedule'!$C$27),S193-U193))","v":""},"","","",{"$f":"IF(H194=\"\",\"\",IF('3 Irrigation Schedule'!$P$19<O194,'3 Irrigation Schedule'!$P$19,O194))","v":""},"",{"$f":"IF(H194=\"\",\"\",U194/'3 Irrigation Schedule'!$M$19)","v":""}]
[null,null,null,"2020","August","2020-08-09",null,"","",5.2023999999999999,"",0,"",{"$f":"IF(OR('3 Irrigation Schedule'!$C$29=\"\",'3 Irrigation Schedule'!$C$31=\"\",H195=\"\"),\"\",(('3 Irrigation Schedule'!$C$29-'3 Irrigation Schedule'!$C$31)/100)*1000*M195)","v":""},"",{"$f":"IF(H195=\"\",\"\",IF(H195=1,N195*(1-'3 Irrigation Schedule'!$C$27),S194-U194))","v":""},"","","",{"$f":"IF(H195=\"\",\"\",IF('3 Irrigation Schedule'!$P$19<O195,'3 Irrigation Schedule'!$P$19,O195))","v":""},"",{"$f":"IF(H195=\"\",\"\",U195/'3 Irrigation Schedule'!$M$19)","v":""}]
[null,null,null,"2020","August","2020-08-10",null,"","",5.2023999999999999,"",0,"",{"$f":"IF(OR('3 Irrigation Schedule'!$C$29=\"\",'3 Irrigation Schedule'!$C$31=\"\",H196=\"\"),\"\",(('3 Irrigation Schedule'!$C$29-'3 Irrigation Schedule'!$C$31)/100)*1000*M196)","v":""},"",{"$f":"IF(H196=\"\",\"\",IF(H196=1,N196*(1-'3 Irrigation Schedule'!$C$27),S195-U195))","v":""},"","","",{"$f":"IF(H196=\"\",\"\",IF('3 Irrigation Schedule'!$P$19<O196,'3 Irrigation Schedule'!$P$19,O196))","v":""},"",{"$f":"IF(H196=\"\",\"\",U196/'3 Irrigation Schedule'!$M$19)","v":""}]
[null,null,null,"2020","August","2020-08-11",null,"","",5.2023999999999999,"",0,"",{"$f":"IF(OR('3 Irrigation Schedule'!$C$29=\"\",'3 Irrigation Schedule'!$C$31=\"\",H197=\"\"),\"\",(('3 Irrigation Schedule'!$C$29-'3 Irrigation Schedule'!$C$31)/100)*1000*M197)","v":""},"",{"$f":"IF(H197=\"\",\"\",IF(H197=1,N197*(1-'3 Irrigation Schedule'!$C$27),S196-U196))","v":""},"","","",{"$f":"IF(H197=\"\",\"\",IF('3 Irrigation Schedule'!$P$19<O197,'3 Irrigation Schedule'!$P$19,O197))","v":""},"",{"$f":"IF(H197=\"\",\"\",U197/'3 Irrigation Schedule'!$M$19)","v":""}]
[null,null,null,"2020","August","2020-08-12",null,"","",5.2023999999999999,"",0,"",{"$f":"IF(OR('3 Irrigation Schedule'!$C$29=\"\",'3 Irrigation Schedule'!$C$31=\"\",H198=\"\"),\"\",(('3 Irrigation Schedule'!$C$29-'3 Irrigation Schedule'!$C$31)/100)*1000*M198)","v":""},"",{"$f":"IF(H198=\"\",\"\",IF(H198=1,N198*(1-'3 Irrigation Schedule'!$C$27),S197-U197))","v":""},"","","",{"$f":"IF(H198=\"\",\"\",IF('3 Irrigation Schedule'!$P$19<O198,'3 Irrigation Schedule'!$P$19,O198))","v":""},"",{"$f":"IF(H198=\"\",\"\",U198/'3 Irrigation Schedule'!$M$19)","v":""}]
[null,null,null,"2020","August","2020-08-13",null,"","",5.2023999999999999,"",0,"",{"$f":"IF(OR('3 Irrigation Schedule'!$C$29=\"\",'3 Irrigation Schedule'!$C$31=\"\",H199=\"\"),\"\",(('3 Irrigation Schedule'!$C$29-'3 Irrigation Schedule'!$C$31)/100)*1000*M199)","v":""},"",{"$f":"IF(H199=\"\",\"\",IF(H199=1,N199*(1-'3 Irrigation Schedule'!$C$27),S198-U198))","v":""},"","","",{"$f":"IF(H199=\"\",\"\",IF('3 Irrigation Schedule'!$P$19<O199,'3 Irrigation Schedule'!$P$19,O199))","v":""},"",{"$f":"IF(H199=\"\",\"\",U199/'3 Irrigation Schedule'!$M$19)","v":""}]
[null,null,null,"2020","August","2020-08-14",null,"","",5.2023999999999999,"",0,"",{"$f":"IF(OR('3 Irrigation Schedule'!$C$29=\"\",'3 Irrigation Schedule'!$C$31=\"\",H200=\"\"),\"\",(('3 Irrigation Schedule'!$C$29-'3 Irrigation Schedule'!$C$31)/100)*1000*M200)","v":""},"",{"$f":"IF(H200=\"\",\"\",IF(H200=1,N200*(1-'3 Irrigation Schedule'!$C$27),S199-U199))","v":""},"","","",{"$f":"IF(H200=\"\",\"\",IF('3 Irrigation Schedule'!$P$19<O200,'3 Irrigation Schedule'!$P$19,O200))","v":""},"",{"$f":"IF(H200=\"\",\"\",U200/'3 Irrigation Schedule'!$M$19)","v":""}]
[null,null,null,"2020","August","2020-08-15",null,"","",5.2023999999999999,"",0,"",{"$f":"IF(OR('3 Irrigation Schedule'!$C$29=\"\",'3 Irrigation Schedule'!$C$31=\"\",H201=\"\"),\"\",(('3 Irrigation Schedule'!$C$29-'3 Irrigation Schedule'!$C$31)/100)*1000*M201)","v":""},"",{"$f":"IF(H201=\"\",\"\",IF(H201=1,N201*(1-'3 Irrigation Schedule'!$C$27),S200-U200))","v":""},"","","",{"$f":"IF(H201=\"\",\"\",IF('3 Irrigation Schedule'!$P$19<O201,'3 Irrigation Schedule'!$P$19,O201))","v":""},"",{"$f":"IF(H201=\"\",\"\",U201/'3 Irrigation Schedule'!$M$19)","v":""}]
[null,null,null,"2020","August","2020-08-16",null,"","",5.2023999999999999,"",0,"",{"$f":"IF(OR('3 Irrigation Schedule'!$C$29=\"\",'3 Irrigation Schedule'!$C$31=\"\",H202=\"\"),\"\",(('3 Irrigation Schedule'!$C$29-'3 Irrigation Schedule'!$C$31)/100)*1000*M202)","v":""},"",{"$f":"IF(H202=\"\",\"\",IF(H202=1,N202*(1-'3 Irrigation Schedule'!$C$27),S201-U201))","v":""},"","","",{"$f":"IF(H202=\"\",\"\",IF('3 Irrigation Schedule'!$P$19<O202,'3 Irrigation Schedule'!$P$19,O202))","v":""},"",{"$f":"IF(H202=\"\",\"\",U202/'3 Irrigation Schedule'!$M$19)","v":""}]
[null,null,null,"2020","August","2020-08-17",null,"","",5.2023999999999999,"",0,"",{"$f":"IF(OR('3 Irrigation Schedule'!$C$29=\"\",'3 Irrigation Schedule'!$C$31=\"\",H203=\"\"),\"\",(('3 Irrigation Schedule'!$C$29-'3 Irrigation Schedule'!$C$31)/100)*1000*M203)","v":""},"",{"$f":"IF(H203=\"\",\"\",IF(H203=1,N203*(1-'3 Irrigation Schedule'!$C$27),S202-U202))","v":""},"","","",{"$f":"IF(H203=\"\",\"\",IF('3 Irrigation Schedule'!$P$19<O203,'3 Irrigation Schedule'!$P$19,O203))","v":""},"",{"$f":"IF(H203=\"\",\"\",U203/'3 Irrigation Schedule'!$M$19)","v":""}]
[null,null,null,"2020","August","2020-08-18",null,"","",5.2023999999999999,"",0,"",{"$f":"IF(OR('3 Irrigation Schedule'!$C$29=\"\",'3 Irrigation Schedule'!$C$31=\"\",H204=\"\"),\"\",(('3 Irrigation Schedule'!$C$29-'3 Irrigation Schedule'!$C$31)/100)*1000*M204)","v":""},"",{"$f":"IF(H204=\"\",\"\",IF(H204=1,N204*(1-'3 Irrigation Schedule'!$C$27),S203-U203))","v":""},"","","",{"$f":"IF(H204=\"\",\"\",IF('3 Irrigation Schedule'!$P$19<O204,'3 Irrigation Schedule'!$P$19,O204))","v":""},"",{"$f":"IF(H204=\"\",\"\",U204/'3 Irrigation Schedule'!$M$19)","v":""}]
[null,null,null,"2020","August","2020-08-19",null,"","",5.2023999999999999,"",0,"",{"$f":"IF(OR('3 Irrigation Schedule'!$C$29=\"\",'3 Irrigation Schedule'!$C$31=\"\",H205=\"\"),\"\",(('3 Irrigation Schedule'!$C$29-'3 Irrigation Schedule'!$C$31)/100)*1000*M205)","v":""},"",{"$f":"IF(H205=\"\",\"\",IF(H205=1,N205*(1-'3 Irrigation Schedule'!$C$27),S204-U204))","v":""},"","","",{"$f":"IF(H205=\"\",\"\",IF('3 Irrigation Schedule'!$P$19<O205,'3 Irrigation Schedule'!$P$19,O205))","v":""},"",{"$f":"IF(H205=\"\",\"\",U205/'3 Irrigation Schedule'!$M$19)","v":""}]
[null,null,null,"2020","August","2020-08-20",null,"","",5.2023999999999999,"",0,"",{"$f":"IF(OR('3 Irrigation Schedule'!$C$29=\"\",'3 Irrigation Schedule'!$C$31=\"\",H206=\"\"),\"\",(('3 Irrigation Schedule'!$C$29-'3 Irrigation Schedule'!$C$31)/100)*1000*M206)","v":""},"",{"$f":"IF(H206=\"\",\"\",IF(H206=1,N206*(1-'3 Irrigation Schedule'!$C$27),S205-U205))","v":""},"","","",{"$f":"IF(H206=\"\",\"\",IF('3 Irrigation Schedule'!$P$19<O206,'3 Irrigation Schedule'!$P$19,O206))","v":""},"",{"$f":"IF(H206=\"\",\"\",U206/'3 Irrigation Schedule'!$M$19)","v":""}]
[null,null,null,"2020","August","2020-08-21",null,"","",5.2023999999999999,"",0,"",{"$f":"IF(OR('3 Irrigation Schedule'!$C$29=\"\",'3 Irrigation Schedule'!$C$31=\"\",H207=\"\"),\"\",(('3 Irrigation Schedule'!$C$29-'3 Irrigation Schedule'!$C$31)/100)*1000*M207)","v":""},"",{"$f":"IF(H207=\"\",\"\",IF(H207=1,N207*(1-'3 Irrigation Schedule'!$C$27),S206-U206))","v":""},"","","",{"$f":"IF(H207=\"\",\"\",IF('3 Irrigation Schedule'!$P$19<O207,'3 Irrigation Schedule'!$P$19,O207))","v":""},"",{"$f":"IF(H207=\"\",\"\",U207/'3 Irrigation Schedule'!$M$19)","v":""}]
[null,null,null,"2020","August","2020-08-22",null,"","",5.2023999999999999,"",0,"",{"$f":"IF(OR('3 Irrigation Schedule'!$C$29=\"\",'3 Irrigation Schedule'!$C$31=\"\",H208=\"\"),\"\",(('3 Irrigation Schedule'!$C$29-'3 Irrigation Schedule'!$C$31)/100)*1000*M208)","v":""},"",{"$f":"IF(H208=\"\",\"\",IF(H208=1,N208*(1-'3 Irrigation Schedule'!$C$27),S207-U207))","v":""},"","","",{"$f":"IF(H208=\"\",\"\",IF('3 Irrigation Schedule'!$P$19<O208,'3 Irrigation Schedule'!$P$19,O208))","v":""},"",{"$f":"IF(H208=\"\",\"\",U208/'3 Irrigation Schedule'!$M$19)","v":""}]
[null,null,null,"2020","August","2020-08-23",null,"","",5.2023999999999999,"",0,"",{"$f":"IF(OR('3 Irrigation Schedule'!$C$29=\"\",'3 Irrigation Schedule'!$C$31=\"\",H209=\"\"),\"\",(('3 Irrigation Schedule'!$C$29-'3 Irrigation Schedule'!$C$31)/100)*1000*M209)","v":""},"",{"$f":"IF(H209=\"\",\"\",IF(H209=1,N209*(1-'3 Irrigation Schedule'!$C$27),S208-U208))","v":""},"","","",{"$f":"IF(H209=\"\",\"\",IF('3 Irrigation Schedule'!$P$19<O209,'3 Irrigation Schedule'!$P$19,O209))","v":""},"",{"$f":"IF(H209=\"\",\"\",U209/'3 Irrigation Schedule'!$M$19)","v":""}]
[null,null,null,"2020","August","2020-08-24",null,"","",5.2023999999999999,"",0,"",{"$f":"IF(OR('3 Irrigation Schedule'!$C$29=\"\",'3 Irrigation Schedule'!$C$31=\"\",H210=\"\"),\"\",(('3 Irrigation Schedule'!$C$29-'3 Irrigation Schedule'!$C$31)/100)*1000*M210)","v":""},"",{"$f":"IF(H210=\"\",\"\",IF(H210=1,N210*(1-'3 Irrigation Schedule'!$C$27),S209-U209))","v":""},"","","",{"$f":"IF(H210=\"\",\"\",IF('3 Irrigation Schedule'!$P$19<O210,'3 Irrigation Schedule'!$P$19,O210))","v":""},"",{"$f":"IF(H210=\"\",\"\",U210/'3 Irrigation Schedule'!$M$19)","v":""}]
[null,null,null,"2020","August","2020-08-25",null,"","",5.2023999999999999,"",0,"",{"$f":"IF(OR('3 Irrigation Schedule'!$C$29=\"\",'3 Irrigation Schedule'!$C$31=\"\",H211=\"\"),\"\",(('3 Irrigation Schedule'!$C$29-'3 Irrigation Schedule'!$C$31)/100)*1000*M211)","v":""},"",{"$f":"IF(H211=\"\",\"\",IF(H211=1,N211*(1-'3 Irrigation Schedule'!$C$27),S210-U210))","v":""},"","","",{"$f":"IF(H211=\"\",\"\",IF('3 Irrigation Schedule'!$P$19<O211,'3 Irrigation Schedule'!$P$19,O211))","v":""},"",{"$f":"IF(H211=\"\",\"\",U211/'3 Irrigation Schedule'!$M$19)","v":""}]
[null,null,null,"2020","August","2020-08-26",null,"","",5.2023999999999999,"",0,"",{"$f":"IF(OR('3 Irrigation Schedule'!$C$29=\"\",'3 Irrigation Schedule'!$C$31=\"\",H212=\"\"),\"\",(('3 Irrigation Schedule'!$C$29-'3 Irrigation Schedule'!$C$31)/100)*1000*M212)","v":""},"",{"$f":"IF(H212=\"\",\"\",IF(H212=1,N212*(1-'3 Irrigation Schedule'!$C$27),S211-U211))","v":""},"","","",{"$f":"IF(H212=\"\",\"\",IF('3 Irrigation Schedule'!$P$19<O212,'3 Irrigation Schedule'!$P$19,O212))","v":""},"",{"$f":"IF(H212=\"\",\"\",U212/'3 Irrigation Schedule'!$M$19)","v":""}]
[null,null,null,"2020","August","2020-08-27",null,"","",5.2023999999999999,"",0,"",{"$f":"IF(OR('3 Irrigation Schedule'!$C$29=\"\",'3 Irrigation Schedule'!$C$31=\"\",H213=\"\"),\"\",(('3 Irrigation Schedule'!$C$29-'3 Irrigation Schedule'!$C$31)/100)*1000*M213)","v":""},"",{"$f":"IF(H213=\"\",\"\",IF(H213=1,N213*(1-'3 Irrigation Schedule'!$C$27),S212-U212))","v":""},"","","",{"$f":"IF(H213=\"\",\"\",IF('3 Irrigation Schedule'!$P$19<O213,'3 Irrigation Schedule'!$P$19,O213))","v":""},"",{"$f":"IF(H213=\"\",\"\",U213/'3 Irrigation Schedule'!$M$19)","v":""}]
[null,null,null,"2020","August","2020-08-28",null,"","",5.2023999999999999,"",0,"",{"$f":"IF(OR('3 Irrigation Schedule'!$C$29=\"\",'3 Irrigation Schedule'!$C$31=\"\",H214=\"\"),\"\",(('3 Irrigation Schedule'!$C$29-'3 Irrigation Schedule'!$C$31)/100)*1000*M214)","v":""},"",{"$f":"IF(H214=\"\",\"\",IF(H214=1,N214*(1-'3 Irrigation Schedule'!$C$27),S213-U213))","v":""},"","","",{"$f":"IF(H214=\"\",\"\",IF('3 Irrigation Schedule'!$P$19<O214,'3 Irrigation Schedule'!$P$19,O214))","v":""},"",{"$f":"IF(H214=\"\",\"\",U214/'3 Irrigation Schedule'!$M$19)","v":""}]
[null,null,null,"2020","August","2020-08-29",null,"","",5.2023999999999999,"",0,"",{"$f":"IF(OR('3 Irrigation Schedule'!$C$29=\"\",'3 Irrigation Schedule'!$C$31=\"\",H215=\"\"),\"\",(('3 Irrigation Schedule'!$C$29-'3 Irrigation Schedule'!$C$31)/100)*1000*M215)","v":""},"",{"$f":"IF(H215=\"\",\"\",IF(H215=1,N215*(1-'3 Irrigation Schedule'!$C$27),S214-U214))","v":""},"","","",{"$f":"IF(H215=\"\",\"\",IF('3 Irrigation Schedule'!$P$19<O215,'3 Irrigation Schedule'!$P$19,O215))","v":""},"",{"$f":"IF(H215=\"\",\"\",U215/'3 Irrigation Schedule'!$M$19)","v":""}]
[null,null,null,"2020","August","2020-08-30",null,"","",5.2023999999999999,"",0,"",{"$f":"IF(OR('3 Irrigation Schedule'!$C$29=\"\",'3 Irrigation Schedule'!$C$31=\"\",H216=\"\"),\"\",(('3 Irrigation Schedule'!$C$29-'3 Irrigation Schedule'!$C$31)/100)*1000*M216)","v":""},"",{"$f":"IF(H216=\"\",\"\",IF(H216=1,N216*(1-'3 Irrigation Schedule'!$C$27),S215-U215))","v":""},"","","",{"$f":"IF(H216=\"\",\"\",IF('3 Irrigation Schedule'!$P$19<O216,'3 Irrigation Schedule'!$P$19,O216))","v":""},"",{"$f":"IF(H216=\"\",\"\",U216/'3 Irrigation Schedule'!$M$19)","v":""}]
[null,null,null,"2020","August","2020-08-31",null,"","",5.2023999999999999,"",0,"",{"$f":"IF(OR('3 Irrigation Schedule'!$C$29=\"\",'3 Irrigation Schedule'!$C$31=\"\",H217=\"\"),\"\",(('3 Irrigation Schedule'!$C$29-'3 Irrigation Schedule'!$C$31)/100)*1000*M217)","v":""},"",{"$f":"IF(H217=\"\",\"\",IF(H217=1,N217*(1-'3 Irrigation Schedule'!$C$27),S216-U216))","v":""},"","","",{"$f":"IF(H217=\"\",\"\",IF('3 Irrigation Schedule'!$P$19<O217,'3 Irrigation Schedule'!$P$19,O217))","v":""},"",{"$f":"IF(H217=\"\",\"\",U217/'3 Irrigation Schedule'!$M$19)","v":""}]
[null,null,null,"2020","September","2020-09-01",null,"","",5.2796800000000008,"",0,"",{"$f":"IF(OR('3 Irrigation Schedule'!$C$29=\"\",'3 Irrigation Schedule'!$C$31=\"\",H218=\"\"),\"\",(('3 Irrigation Schedule'!$C$29-'3 Irrigation Schedule'!$C$31)/100)*1000*M218)","v":""},"",{"$f":"IF(H218=\"\",\"\",IF(H218=1,N218*(1-'3 Irrigation Schedule'!$C$27),S217-U217))","v":""},"","","",{"$f":"IF(H218=\"\",\"\",IF('3 Irrigation Schedule'!$P$19<O218,'3 Irrigation Schedule'!$P$19,O218))","v":""},"",{"$f":"IF(H218=\"\",\"\",U218/'3 Irrigation Schedule'!$M$19)","v":""}]
[null,null,null,"2020","September","2020-09-02",null,"","",5.2796800000000008,"",0,"",{"$f":"IF(OR('3 Irrigation Schedule'!$C$29=\"\",'3 Irrigation Schedule'!$C$31=\"\",H219=\"\"),\"\",(('3 Irrigation Schedule'!$C$29-'3 Irrigation Schedule'!$C$31)/100)*1000*M219)","v":""},"",{"$f":"IF(H219=\"\",\"\",IF(H219=1,N219*(1-'3 Irrigation Schedule'!$C$27),S218-U218))","v":""},"","","",{"$f":"IF(H219=\"\",\"\",IF('3 Irrigation Schedule'!$P$19<O219,'3 Irrigation Schedule'!$P$19,O219))","v":""},"",{"$f":"IF(H219=\"\",\"\",U219/'3 Irrigation Schedule'!$M$19)","v":""}]
[null,null,null,"2020","September","2020-09-03",null,"","",5.2796800000000008,"",0,"",{"$f":"IF(OR('3 Irrigation Schedule'!$C$29=\"\",'3 Irrigation Schedule'!$C$31=\"\",H220=\"\"),\"\",(('3 Irrigation Schedule'!$C$29-'3 Irrigation Schedule'!$C$31)/100)*1000*M220)","v":""},"",{"$f":"IF(H220=\"\",\"\",IF(H220=1,N220*(1-'3 Irrigation Schedule'!$C$27),S219-U219))","v":""},"","","",{"$f":"IF(H220=\"\",\"\",IF('3 Irrigation Schedule'!$P$19<O220,'3 Irrigation Schedule'!$P$19,O220))","v":""},"",{"$f":"IF(H220=\"\",\"\",U220/'3 Irrigation Schedule'!$M$19)","v":""}]
[null,null,null,"2020","September","2020-09-04",null,"","",5.2796800000000008,"",0,"",{"$f":"IF(OR('3 Irrigation Schedule'!$C$29=\"\",'3 Irrigation Schedule'!$C$31=\"\",H221=\"\"),\"\",(('3 Irrigation Schedule'!$C$29-'3 Irrigation Schedule'!$C$31)/100)*1000*M221)","v":""},"",{"$f":"IF(H221=\"\",\"\",IF(H221=1,N221*(1-'3 Irrigation Schedule'!$C$27),S220-U220))","v":""},"","","",{"$f":"IF(H221=\"\",\"\",IF('3 Irrigation Schedule'!$P$19<O221,'3 Irrigation Schedule'!$P$19,O221))","v":""},"",{"$f":"IF(H221=\"\",\"\",U221/'3 Irrigation Schedule'!$M$19)","v":""}]
[null,null,null,"2020","September","2020-09-05",null,"","",5.2796800000000008,"",0,"",{"$f":"IF(OR('3 Irrigation Schedule'!$C$29=\"\",'3 Irrigation Schedule'!$C$31=\"\",H222=\"\"),\"\",(('3 Irrigation Schedule'!$C$29-'3 Irrigation Schedule'!$C$31)/100)*1000*M222)","v":""},"",{"$f":"IF(H222=\"\",\"\",IF(H222=1,N222*(1-'3 Irrigation Schedule'!$C$27),S221-U221))","v":""},"","","",{"$f":"IF(H222=\"\",\"\",IF('3 Irrigation Schedule'!$P$19<O222,'3 Irrigation Schedule'!$P$19,O222))","v":""},"",{"$f":"IF(H222=\"\",\"\",U222/'3 Irrigation Schedule'!$M$19)","v":""}]
[null,null,null,"2020","September","2020-09-06",null,"","",5.2796800000000008,"",0,"",{"$f":"IF(OR('3 Irrigation Schedule'!$C$29=\"\",'3 Irrigation Schedule'!$C$31=\"\",H223=\"\"),\"\",(('3 Irrigation Schedule'!$C$29-'3 Irrigation Schedule'!$C$31)/100)*1000*M223)","v":""},"",{"$f":"IF(H223=\"\",\"\",IF(H223=1,N223*(1-'3 Irrigation Schedule'!$C$27),S222-U222))","v":""},"","","",{"$f":"IF(H223=\"\",\"\",IF('3 Irrigation Schedule'!$P$19<O223,'3 Irrigation Schedule'!$P$19,O223))","v":""},"",{"$f":"IF(H223=\"\",\"\",U223/'3 Irrigation Schedule'!$M$19)","v":""}]
[null,null,null,"2020","September","2020-09-07",null,"","",5.2796800000000008,"",0,"",{"$f":"IF(OR('3 Irrigation Schedule'!$C$29=\"\",'3 Irrigation Schedule'!$C$31=\"\",H224=\"\"),\"\",(('3 Irrigation Schedule'!$C$29-'3 Irrigation Schedule'!$C$31)/100)*1000*M224)","v":""},"",{"$f":"IF(H224=\"\",\"\",IF(H224=1,N224*(1-'3 Irrigation Schedule'!$C$27),S223-U223))","v":""},"","","",{"$f":"IF(H224=\"\",\"\",IF('3 Irrigation Schedule'!$P$19<O224,'3 Irrigation Schedule'!$P$19,O224))","v":""},"",{"$f":"IF(H224=\"\",\"\",U224/'3 Irrigation Schedule'!$M$19)","v":""}]
[null,null,null,"2020","September","2020-09-08",null,"","",5.2796800000000008,"",0,"",{"$f":"IF(OR('3 Irrigation Schedule'!$C$29=\"\",'3 Irrigation Schedule'!$C$31=\"\",H225=\"\"),\"\",(('3 Irrigation Schedule'!$C$29-'3 Irrigation Schedule'!$C$31)/100)*1000*M225)","v":""},"",{"$f":"IF(H225=\"\",\"\",IF(H225=1,N225*(1-'3 Irrigation Schedule'!$C$27),S224-U224))","v":""},"","","",{"$f":"IF(H225=\"\",\"\",IF('3 Irrigation Schedule'!$P$19<O225,'3 Irrigation Schedule'!$P$19,O225))","v":""},"",{"$f":"IF(H225=\"\",\"\",U225/'3 Irrigation Schedule'!$M$19)","v":""}]
[null,null,null,{"$f":"IFERROR(TEXT(DATE(YEAR($F226),MONTH($F226),1),$D$7&$D$4),\"\")","v":"2020"},{"$f":"IFERROR(TEXT(DATE(YEAR($F226),MONTH($F226),1),$D$7&$D$5),\"\")","v":"September"},"2020-09-09",null,"",{"$f":"IF(H226=\"\",\"\",IF(H226<=$I$27,\"Initial\",IF(AND(H226>$I$27,H226<=$I$28),\"Development\",IF(AND(H226>$I$28,H226<=$I$29),\"Mid Season\",\"Late Season\"))))","v":""},{"$f":"IFERROR(VLOOKUP($E226,$B$19:$C$30,2,FALSE),\"\")","v":5.2796800000000008},{"$f":"IF(H226=\"\",\"\",IF(H226<=$I$27,$L$27,IF(AND(H226>$I$27,H226<=$I$28),$L$27+((H226-$I$27)/$H$28)*($L$29-$L$27),IF(AND(H226>$I$28,H226<=$I$29),$L$29,$L$29+((H226-$I$29)/$H$30)*($L$30-$L$29)))))","v":""},0,"",{"$f":"IF(OR('3 Irrigation Schedule'!$C$29=\"\",'3 Irrigation Schedule'!$C$31=\"\",H226=\"\"),\"\",(('3 Irrigation Schedule'!$C$29-'3 Irrigation Schedule'!$C$31)/100)*1000*M226)","v":""},"",{"$f":"IF(H226=\"\",\"\",IF(H226=1,N226*(1-'3 Irrigation Schedule'!$C$27),S225-U225))","v":""},"","","",{"$f":"IF(H226=\"\",\"\",IF('3 Irrigation Schedule'!$P$19<O226,'3 Irrigation Schedule'!$P$19,O226))","v":""},"",{"$f":"IF(H226=\"\",\"\",U226/'3 Irrigation Schedule'!$M$19)","v":""}]
[null,null,null,"2020","September",{"$f":"IFERROR(IF(F226+1<=$N$7, F226+1,\"\"),\"\")","v":"2020-09-10"},null,{"$f":"IFERROR(IF(OR($F227-$J$27+1<=0,$F227>$K$30),\"\",$F227-$J$27+1),\"\")","v":""},"",5.2796800000000008,"",{"$f":"IFERROR((J227*K227),0)","v":0},{"$f":"IF(H227=\"\",\"\",IF(OR(H227=1,H227<$I$28),$M$27+(($M$28-$M$27)*((H227-1)/($I$28-1))),$M$28))","v":""},{"$f":"IF(OR('3 Irrigation Schedule'!$C$29=\"\",'3 Irrigation Schedule'!$C$31=\"\",H227=\"\"),\"\",(('3 Irrigation Schedule'!$C$29-'3 Irrigation Schedule'!$C$31)/100)*1000*M227)","v":""},{"$f":"IF(H227=\"\",\"\",N227*$N$27)","v":""},{"$f":"IF(H227=\"\",\"\",IF(H227=1,N227*(1-'3 Irrigation Schedule'!$C$27),S226-U226))","v":""},"","","",{"$f":"IF(H227=\"\",\"\",IF('3 Irrigation Schedule'!$P$19<O227,'3 Irrigation Schedule'!$P$19,O227))","v":""},{"$f":"IF(H227=\"\",\"\",IF(T227<=S227,T227,0))","v":""},{"$f":"IF(H227=\"\",\"\",U227/'3 Irrigation Schedule'!$M$19)","v":""}]
[null,null,null,"2020","September","2020-09-11",null,"","",5.2796800000000008,"",0,"",{"$f":"IF(OR('3 Irrigation Schedule'!$C$29=\"\",'3 Irrigation Schedule'!$C$31=\"\",H228=\"\"),\"\",(('3 Irrigation Schedule'!$C$29-'3 Irrigation Schedule'!$C$31)/100)*1000*M228)","v":""},"",{"$f":"IF(H228=\"\",\"\",IF(H228=1,N228*(1-'3 Irrigation Schedule'!$C$27),S227-U227))","v":""},"","","",{"$f":"IF(H228=\"\",\"\",IF('3 Irrigation Schedule'!$P$19<O228,'3 Irrigation Schedule'!$P$19,O228))","v":""},"",{"$f":"IF(H228=\"\",\"\",U228/'3 Irrigation Schedule'!$M$19)","v":""}]
[null,null,null,"2020","September","2020-09-12",null,"","",5.2796800000000008,"",0,"",{"$f":"IF(OR('3 Irrigation Schedule'!$C$29=\"\",'3 Irrigation Schedule'!$C$31=\"\",H229=\"\"),\"\",(('3 Irrigation Schedule'!$C$29-'3 Irrigation Schedule'!$C$31)/100)*1000*M229)","v":""},"",{"$f":"IF(H229=\"\",\"\",IF(H229=1,N229*(1-'3 Irrigation Schedule'!$C$27),S228-U228))","v":""},"","","",{"$f":"IF(H229=\"\",\"\",IF('3 Irrigation Schedule'!$P$19<O229,'3 Irrigation Schedule'!$P$19,O229))","v":""},"",{"$f":"IF(H229=\"\",\"\",U229/'3 Irrigation Schedule'!$M$19)","v":""}]
[null,null,null,"2020","September","2020-09-13",null,"","",5.2796800000000008,"",0,"",{"$f":"IF(OR('3 Irrigation Schedule'!$C$29=\"\",'3 Irrigation Schedule'!$C$31=\"\",H230=\"\"),\"\",(('3 Irrigation Schedule'!$C$29-'3 Irrigation Schedule'!$C$31)/100)*1000*M230)","v":""},"",{"$f":"IF(H230=\"\",\"\",IF(H230=1,N230*(1-'3 Irrigation Schedule'!$C$27),S229-U229))","v":""},"","","",{"$f":"IF(H230=\"\",\"\",IF('3 Irrigation Schedule'!$P$19<O230,'3 Irrigation Schedule'!$P$19,O230))","v":""},"",{"$f":"IF(H230=\"\",\"\",U230/'3 Irrigation Schedule'!$M$19)","v":""}]
[null,null,null,"2020","September","2020-09-14",null,"","",5.2796800000000008,"",0,"",{"$f":"IF(OR('3 Irrigation Schedule'!$C$29=\"\",'3 Irrigation Schedule'!$C$31=\"\",H231=\"\"),\"\",(('3 Irrigation Schedule'!$C$29-'3 Irrigation Schedule'!$C$31)/100)*1000*M231)","v":""},"",{"$f":"IF(H231=\"\",\"\",IF(H231=1,N231*(1-'3 Irrigation Schedule'!$C$27),S230-U230))","v":""},"","","",{"$f":"IF(H231=\"\",\"\",IF('3 Irrigation Schedule'!$P$19<O231,'3 Irrigation Schedule'!$P$19,O231))","v":""},"",{"$f":"IF(H231=\"\",\"\",U231/'3 Irrigation Schedule'!$M$19)","v":""}]
[null,null,null,"2020","September","2020-09-15",null,"","",5.2796800000000008,"",0,"",{"$f":"IF(OR('3 Irrigation Schedule'!$C$29=\"\",'3 Irrigation Schedule'!$C$31=\"\",H232=\"\"),\"\",(('3 Irrigation Schedule'!$C$29-'3 Irrigation Schedule'!$C$31)/100)*1000*M232)","v":""},"",{"$f":"IF(H232=\"\",\"\",IF(H232=1,N232*(1-'3 Irrigation Schedule'!$C$27),S231-U231))","v":""},"","","",{"$f":"IF(H232=\"\",\"\",IF('3 Irrigation Schedule'!$P$19<O232,'3 Irrigation Schedule'!$P$19,O232))","v":""},"",{"$f":"IF(H232=\"\",\"\",U232/'3 Irrigation Schedule'!$M$19)","v":""}]
[null,null,null,"2020","September","2020-09-16",null,"","",5.2796800000000008,"",0,"",{"$f":"IF(OR('3 Irrigation Schedule'!$C$29=\"\",'3 Irrigation Schedule'!$C$31=\"\",H233=\"\"),\"\",(('3 Irrigation Schedule'!$C$29-'3 Irrigation Schedule'!$C$31)/100)*1000*M233)","v":""},"",{"$f":"IF(H233=\"\",\"\",IF(H233=1,N233*(1-'3 Irrigation Schedule'!$C$27),S232-U232))","v":""},"","","",{"$f":"IF(H233=\"\",\"\",IF('3 Irrigation Schedule'!$P$19<O233,'3 Irrigation Schedule'!$P$19,O233))","v":""},"",{"$f":"IF(H233=\"\",\"\",U233/'3 Irrigation Schedule'!$M$19)","v":""}]
[null,null,null,"2020","September","2020-09-17",null,"","",5.2796800000000008,"",0,"",{"$f":"IF(OR('3 Irrigation Schedule'!$C$29=\"\",'3 Irrigation Schedule'!$C$31=\"\",H234=\"\"),\"\",(('3 Irrigation Schedule'!$C$29-'3 Irrigation Schedule'!$C$31)/100)*1000*M234)","v":""},"",{"$f":"IF(H234=\"\",\"\",IF(H234=1,N234*(1-'3 Irrigation Schedule'!$C$27),S233-U233))","v":""},"","","",{"$f":"IF(H234=\"\",\"\",IF('3 Irrigation Schedule'!$P$19<O234,'3 Irrigation Schedule'!$P$19,O234))","v":""},"",{"$f":"IF(H234=\"\",\"\",U234/'3 Irrigation Schedule'!$M$19)","v":""}]
[null,null,null,"2020","September","2020-09-18",null,"","",5.2796800000000008,"",0,"",{"$f":"IF(OR('3 Irrigation Schedule'!$C$29=\"\",'3 Irrigation Schedule'!$C$31=\"\",H235=\"\"),\"\",(('3 Irrigation Schedule'!$C$29-'3 Irrigation Schedule'!$C$31)/100)*1000*M235)","v":""},"",{"$f":"IF(H235=\"\",\"\",IF(H235=1,N235*(1-'3 Irrigation Schedule'!$C$27),S234-U234))","v":""},"","","",{"$f":"IF(H235=\"\",\"\",IF('3 Irrigation Schedule'!$P$19<O235,'3 Irrigation Schedule'!$P$19,O235))","v":""},"",{"$f":"IF(H235=\"\",\"\",U235/'3 Irrigation Schedule'!$M$19)","v":""}]
[null,null,null,"2020","September","2020-09-19",null,"","",5.2796800000000008,"",0,"",{"$f":"IF(OR('3 Irrigation Schedule'!$C$29=\"\",'3 Irrigation Schedule'!$C$31=\"\",H236=\"\"),\"\",(('3 Irrigation Schedule'!$C$29-'3 Irrigation Schedule'!$C$31)/100)*1000*M236)","v":""},"",{"$f":"IF(H236=\"\",\"\",IF(H236=1,N236*(1-'3 Irrigation Schedule'!$C$27),S235-U235))","v":""},"","","",{"$f":"IF(H236=\"\",\"\",IF('3 Irrigation Schedule'!$P$19<O236,'3 Irrigation Schedule'!$P$19,O236))","v":""},"",{"$f":"IF(H236=\"\",\"\",U236/'3 Irrigation Schedule'!$M$19)","v":""}]
[null,null,null,"2020","September","2020-09-20",null,"","",5.2796800000000008,"",0,"",{"$f":"IF(OR('3 Irrigation Schedule'!$C$29=\"\",'3 Irrigation Schedule'!$C$31=\"\",H237=\"\"),\"\",(('3 Irrigation Schedule'!$C$29-'3 Irrigation Schedule'!$C$31)/100)*1000*M237)","v":""},"",{"$f":"IF(H237=\"\",\"\",IF(H237=1,N237*(1-'3 Irrigation Schedule'!$C$27),S236-U236))","v":""},"","","",{"$f":"IF(H237=\"\",\"\",IF('3 Irrigation Schedule'!$P$19<O237,'3 Irrigation Schedule'!$P$19,O237))","v":""},"",{"$f":"IF(H237=\"\",\"\",U237/'3 Irrigation Schedule'!$M$19)","v":""}]
[null,null,null,"2020","September","2020-09-21",null,"","",5.2796800000000008,"",0,"",{"$f":"IF(OR('3 Irrigation Schedule'!$C$29=\"\",'3 Irrigation Schedule'!$C$31=\"\",H238=\"\"),\"\",(('3 Irrigation Schedule'!$C$29-'3 Irrigation Schedule'!$C$31)/100)*1000*M238)","v":""},"",{"$f":"IF(H238=\"\",\"\",IF(H238=1,N238*(1-'3 Irrigation Schedule'!$C$27),S237-U237))","v":""},"","","",{"$f":"IF(H238=\"\",\"\",IF('3 Irrigation Schedule'!$P$19<O238,'3 Irrigation Schedule'!$P$19,O238))","v":""},"",{"$f":"IF(H238=\"\",\"\",U238/'3 Irrigation Schedule'!$M$19)","v":""}]
[null,null,null,"2020","September","2020-09-22",null,"","",5.2796800000000008,"",0,"",{"$f":"IF(OR('3 Irrigation Schedule'!$C$29=\"\",'3 Irrigation Schedule'!$C$31=\"\",H239=\"\"),\"\",(('3 Irrigation Schedule'!$C$29-'3 Irrigation Schedule'!$C$31)/100)*1000*M239)","v":""},"",{"$f":"IF(H239=\"\",\"\",IF(H239=1,N239*(1-'3 Irrigation Schedule'!$C$27),S238-U238))","v":""},"","","",{"$f":"IF(H239=\"\",\"\",IF('3 Irrigation Schedule'!$P$19<O239,'3 Irrigation Schedule'!$P$19,O239))","v":""},"",{"$f":"IF(H239=\"\",\"\",U239/'3 Irrigation Schedule'!$M$19)","v":""}]
[null,null,null,"2020","September","2020-09-23",null,"","",5.2796800000000008,"",0,"",{"$f":"IF(OR('3 Irrigation Schedule'!$C$29=\"\",'3 Irrigation Schedule'!$C$31=\"\",H240=\"\"),\"\",(('3 Irrigation Schedule'!$C$29-'3 Irrigation Schedule'!$C$31)/100)*1000*M240)","v":""},"",{"$f":"IF(H240=\"\",\"\",IF(H240=1,N240*(1-'3 Irrigation Schedule'!$C$27),S239-U239))","v":""},"","","",{"$f":"IF(H240=\"\",\"\",IF('3 Irrigation Schedule'!$P$19<O240,'3 Irrigation Schedule'!$P$19,O240))","v":""},"",{"$f":"IF(H240=\"\",\"\",U240/'3 Irrigation Schedule'!$M$19)","v":""}]
[null,null,null,"2020","September","2020-09-24",null,"","",5.2796800000000008,"",0,"",{"$f":"IF(OR('3 Irrigation Schedule'!$C$29=\"\",'3 Irrigation Schedule'!$C$31=\"\",H241=\"\"),\"\",(('3 Irrigation Schedule'!$C$29-'3 Irrigation Schedule'!$C$31)/100)*1000*M241)","v":""},"",{"$f":"IF(H241=\"\",\"\",IF(H241=1,N241*(1-'3 Irrigation Schedule'!$C$27),S240-U240))","v":""},{"$f":"IF(H241=\"\",\"\",IF(P241>O241,(N241-P241)/(N241-O241),1))","v":""},{"$f":"IF(H241=\"\",\"\",L241*Q241)","v":""},{"$f":"IF(H241=\"\",\"\",P241+R241)","v":""},{"$f":"IF(H241=\"\",\"\",IF('3 Irrigation Schedule'!$P$19<O241,'3 Irrigation Schedule'!$P$19,O241))","v":""},"",{"$f":"IF(H241=\"\",\"\",U241/'3 Irrigation Schedule'!$M$19)","v":""}]
[null,null,null,"2020","September","2020-09-25",null,"","",5.2796800000000008,"",0,"",{"$f":"IF(OR('3 Irrigation Schedule'!$C$29=\"\",'3 Irrigation Schedule'!$C$31=\"\",H242=\"\"),\"\",(('3 Irrigation Schedule'!$C$29-'3 Irrigation Schedule'!$C$31)/100)*1000*M242)","v":""},"",{"$f":"IF(H242=\"\",\"\",IF(H242=1,N242*(1-'3 Irrigation Schedule'!$C$27),S241-U241))","v":""},"","","",{"$f":"IF(H242=\"\",\"\",IF('3 Irrigation Schedule'!$P$19<O242,'3 Irrigation Schedule'!$P$19,O242))","v":""},"",{"$f":"IF(H242=\"\",\"\",U242/'3 Irrigation Schedule'!$M$19)","v":""}]
[null,null,null,"2020","September","2020-09-26",null,"","",5.2796800000000008,"",0,"",{"$f":"IF(OR('3 Irrigation Schedule'!$C$29=\"\",'3 Irrigation Schedule'!$C$31=\"\",H243=\"\"),\"\",(('3 Irrigation Schedule'!$C$29-'3 Irrigation Schedule'!$C$31)/100)*1000*M243)","v":""},"",{"$f":"IF(H243=\"\",\"\",IF(H243=1,N243*(1-'3 Irrigation Schedule'!$C$27),S242-U242))","v":""},"","","",{"$f":"IF(H243=\"\",\"\",IF('3 Irrigation Schedule'!$P$19<O243,'3 Irrigation Schedule'!$P$19,O243))","v":""},"",{"$f":"IF(H243=\"\",\"\",U243/'3 Irrigation Schedule'!$M$19)","v":""}]
[null,null,null,"2020","September","2020-09-27",null,"","",5.2796800000000008,"",0,"",{"$f":"IF(OR('3 Irrigation Schedule'!$C$29=\"\",'3 Irrigation Schedule'!$C$31=\"\",H244=\"\"),\"\",(('3 Irrigation Schedule'!$C$29-'3 Irrigation Schedule'!$C$31)/100)*1000*M244)","v":""},"",{"$f":"IF(H244=\"\",\"\",IF(H244=1,N244*(1-'3 Irrigation Schedule'!$C$27),S243-U243))","v":""},"","","",{"$f":"IF(H244=\"\",\"\",IF('3 Irrigation Schedule'!$P$19<O244,'3 Irrigation Schedule'!$P$19,O244))","v":""},"",{"$f":"IF(H244=\"\",\"\",U244/'3 Irrigation Schedule'!$M$19)","v":""}]
[null,null,null,"2020","September","2020-09-28",null,"","",5.2796800000000008,"",0,"",{"$f":"IF(OR('3 Irrigation Schedule'!$C$29=\"\",'3 Irrigation Schedule'!$C$31=\"\",H245=\"\"),\"\",(('3 Irrigation Schedule'!$C$29-'3 Irrigation Schedule'!$C$31)/100)*1000*M245)","v":""},"",{"$f":"IF(H245=\"\",\"\",IF(H245=1,N245*(1-'3 Irrigation Schedule'!$C$27),S244-U244))","v":""},"","","",{"$f":"IF(H245=\"\",\"\",IF('3 Irrigation Schedule'!$P$19<O245,'3 Irrigation Schedule'!$P$19,O245))","v":""},"",{"$f":"IF(H245=\"\",\"\",U245/'3 Irrigation Schedule'!$M$19)","v":""}]
[null,null,null,"2020","September","2020-09-29",null,"","",5.2796800000000008,"",0,"",{"$f":"IF(OR('3 Irrigation Schedule'!$C$29=\"\",'3 Irrigation Schedule'!$C$31=\"\",H246=\"\"),\"\",(('3 Irrigation Schedule'!$C$29-'3 Irrigation Schedule'!$C$31)/100)*1000*M246)","v":""},"",{"$f":"IF(H246=\"\",\"\",IF(H246=1,N246*(1-'3 Irrigation Schedule'!$C$27),S245-U245))","v":""},"","","",{"$f":"IF(H246=\"\",\"\",IF('3 Irrigation Schedule'!$P$19<O246,'3 Irrigation Schedule'!$P$19,O246))","v":""},"",{"$f":"IF(H246=\"\",\"\",U246/'3 Irrigation Schedule'!$M$19)","v":""}]
[null,null,null,"2020","September","2020-09-30",null,"","",5.2796800000000008,"",0,"",{"$f":"IF(OR('3 Irrigation Schedule'!$C$29=\"\",'3 Irrigation Schedule'!$C$31=\"\",H247=\"\"),\"\",(('3 Irrigation Schedule'!$C$29-'3 Irrigation Schedule'!$C$31)/100)*1000*M247)","v":""},"",{"$f":"IF(H247=\"\",\"\",IF(H247=1,N247*(1-'3 Irrigation Schedule'!$C$27),S246-U246))","v":""},"","","",{"$f":"IF(H247=\"\",\"\",IF('3 Irrigation Schedule'!$P$19<O247,'3 Irrigation Schedule'!$P$19,O247))","v":""},"",{"$f":"IF(H247=\"\",\"\",U247/'3 Irrigation Schedule'!$M$19)","v":""}]
[null,null,null,"2020","October","2020-10-01",null,"","",5.1283799999999999,"",0,"",{"$f":"IF(OR('3 Irrigation Schedule'!$C$29=\"\",'3 Irrigation Schedule'!$C$31=\"\",H248=\"\"),\"\",(('3 Irrigation Schedule'!$C$29-'3 Irrigation Schedule'!$C$31)/100)*1000*M248)","v":""},"",{"$f":"IF(H248=\"\",\"\",IF(H248=1,N248*(1-'3 Irrigation Schedule'!$C$27),S247-U247))","v":""},"","","",{"$f":"IF(H248=\"\",\"\",IF('3 Irrigation Schedule'!$P$19<O248,'3 Irrigation Schedule'!$P$19,O248))","v":""},"",{"$f":"IF(H248=\"\",\"\",U248/'3 Irrigation Schedule'!$M$19)","v":""}]
[null,null,null,"2020","October","2020-10-02",null,"","",5.1283799999999999,"",0,"",{"$f":"IF(OR('3 Irrigation Schedule'!$C$29=\"\",'3 Irrigation Schedule'!$C$31=\"\",H249=\"\"),\"\",(('3 Irrigation Schedule'!$C$29-'3 Irrigation Schedule'!$C$31)/100)*1000*M249)","v":""},"",{"$f":"IF(H249=\"\",\"\",IF(H249=1,N249*(1-'3 Irrigation Schedule'!$C$27),S248-U248))","v":""},"","","",{"$f":"IF(H249=\"\",\"\",IF('3 Irrigation Schedule'!$P$19<O249,'3 Irrigation Schedule'!$P$19,O249))","v":""},"",{"$f":"IF(H249=\"\",\"\",U249/'3 Irrigation Schedule'!$M$19)","v":""}]
[null,null,null,"2020","October","2020-10-03",null,"","",5.1283799999999999,"",0,"",{"$f":"IF(OR('3 Irrigation Schedule'!$C$29=\"\",'3 Irrigation Schedule'!$C$31=\"\",H250=\"\"),\"\",(('3 Irrigation Schedule'!$C$29-'3 Irrigation Schedule'!$C$31)/100)*1000*M250)","v":""},"",{"$f":"IF(H250=\"\",\"\",IF(H250=1,N250*(1-'3 Irrigation Schedule'!$C$27),S249-U249))","v":""},"","","",{"$f":"IF(H250=\"\",\"\",IF('3 Irrigation Schedule'!$P$19<O250,'3 Irrigation Schedule'!$P$19,O250))","v":""},"",{"$f":"IF(H250=\"\",\"\",U250/'3 Irrigation Schedule'!$M$19)","v":""}]
[null,null,null,"2020","October","2020-10-04",null,"","",5.1283799999999999,"",0,"",{"$f":"IF(OR('3 Irrigation Schedule'!$C$29=\"\",'3 Irrigation Schedule'!$C$31=\"\",H251=\"\"),\"\",(('3 Irrigation Schedule'!$C$29-'3 Irrigation Schedule'!$C$31)/100)*1000*M251)","v":""},"",{"$f":"IF(H251=\"\",\"\",IF(H251=1,N251*(1-'3 Irrigation Schedule'!$C$27),S250-U250))","v":""},"","","",{"$f":"IF(H251=\"\",\"\",IF('3 Irrigation Schedule'!$P$19<O251,'3 Irrigation Schedule'!$P$19,O251))","v":""},"",{"$f":"IF(H251=\"\",\"\",U251/'3 Irrigation Schedule'!$M$19)","v":""}]
[null,null,null,"2020","October","2020-10-05",null,"","",5.1283799999999999,"",0,"",{"$f":"IF(OR('3 Irrigation Schedule'!$C$29=\"\",'3 Irrigation Schedule'!$C$31=\"\",H252=\"\"),\"\",(('3 Irrigation Schedule'!$C$29-'3 Irrigation Schedule'!$C$31)/100)*1000*M252)","v":""},"",{"$f":"IF(H252=\"\",\"\",IF(H252=1,N252*(1-'3 Irrigation Schedule'!$C$27),S251-U251))","v":""},"","","",{"$f":"IF(H252=\"\",\"\",IF('3 Irrigation Schedule'!$P$19<O252,'3 Irrigation Schedule'!$P$19,O252))","v":""},"",{"$f":"IF(H252=\"\",\"\",U252/'3 Irrigation Schedule'!$M$19)","v":""}]
[null,null,null,"2020","October","2020-10-06",null,"","",5.1283799999999999,"",0,"",{"$f":"IF(OR('3 Irrigation Schedule'!$C$29=\"\",'3 Irrigation Schedule'!$C$31=\"\",H253=\"\"),\"\",(('3 Irrigation Schedule'!$C$29-'3 Irrigation Schedule'!$C$31)/100)*1000*M253)","v":""},"",{"$f":"IF(H253=\"\",\"\",IF(H253=1,N253*(1-'3 Irrigation Schedule'!$C$27),S252-U252))","v":""},"","","",{"$f":"IF(H253=\"\",\"\",IF('3 Irrigation Schedule'!$P$19<O253,'3 Irrigation Schedule'!$P$19,O253))","v":""},"",{"$f":"IF(H253=\"\",\"\",U253/'3 Irrigation Schedule'!$M$19)","v":""}]
[null,null,null,"2020","October","2020-10-07",null,"","",5.1283799999999999,"",0,"",{"$f":"IF(OR('3 Irrigation Schedule'!$C$29=\"\",'3 Irrigation Schedule'!$C$31=\"\",H254=\"\"),\"\",(('3 Irrigation Schedule'!$C$29-'3 Irrigation Schedule'!$C$31)/100)*1000*M254)","v":""},"",{"$f":"IF(H254=\"\",\"\",IF(H254=1,N254*(1-'3 Irrigation Schedule'!$C$27),S253-U253))","v":""},"","","",{"$f":"IF(H254=\"\",\"\",IF('3 Irrigation Schedule'!$P$19<O254,'3 Irrigation Schedule'!$P$19,O254))","v":""},"",{"$f":"IF(H254=\"\",\"\",U254/'3 Irrigation Schedule'!$M$19)","v":""}]
[null,null,null,"2020","October","2020-10-08",null,"","",5.1283799999999999,"",0,"",{"$f":"IF(OR('3 Irrigation Schedule'!$C$29=\"\",'3 Irrigation Schedule'!$C$31=\"\",H255=\"\"),\"\",(('3 Irrigation Schedule'!$C$29-'3 Irrigation Schedule'!$C$31)/100)*1000*M255)","v":""},"",{"$f":"IF(H255=\"\",\"\",IF(H255=1,N255*(1-'3 Irrigation Schedule'!$C$27),S254-U254))","v":""},"","","",{"$f":"IF(H255=\"\",\"\",IF('3 Irrigation Schedule'!$P$19<O255,'3 Irrigation Schedule'!$P$19,O255))","v":""},"",{"$f":"IF(H255=\"\",\"\",U255/'3 Irrigation Schedule'!$M$19)","v":""}]
[null,null,null,"2020","October","2020-10-09",null,"","",5.1283799999999999,"",0,"",{"$f":"IF(OR('3 Irrigation Schedule'!$C$29=\"\",'3 Irrigation Schedule'!$C$31=\"\",H256=\"\"),\"\",(('3 Irrigation Schedule'!$C$29-'3 Irrigation Schedule'!$C$31)/100)*1000*M256)","v":""},"",{"$f":"IF(H256=\"\",\"\",IF(H256=1,N256*(1-'3 Irrigation Schedule'!$C$27),S255-U255))","v":""},"","","",{"$f":"IF(H256=\"\",\"\",IF('3 Irrigation Schedule'!$P$19<O256,'3 Irrigation Schedule'!$P$19,O256))","v":""},"",{"$f":"IF(H256=\"\",\"\",U256/'3 Irrigation Schedule'!$M$19)","v":""}]
[null,null,null,"2020","October","2020-10-10",null,"","",5.1283799999999999,"",0,"",{"$f":"IF(OR('3 Irrigation Schedule'!$C$29=\"\",'3 Irrigation Schedule'!$C$31=\"\",H257=\"\"),\"\",(('3 Irrigation Schedule'!$C$29-'3 Irrigation Schedule'!$C$31)/100)*1000*M257)","v":""},"",{"$f":"IF(H257=\"\",\"\",IF(H257=1,N257*(1-'3 Irrigation Schedule'!$C$27),S256-U256))","v":""},"","","",{"$f":"IF(H257=\"\",\"\",IF('3 Irrigation Schedule'!$P$19<O257,'3 Irrigation Schedule'!$P$19,O257))","v":""},"",{"$f":"IF(H257=\"\",\"\",U257/'3 Irrigation Schedule'!$M$19)","v":""}]
[null,null,null,"2020","October","2020-10-11",null,"","",5.1283799999999999,"",0,"",{"$f":"IF(OR('3 Irrigation Schedule'!$C$29=\"\",'3 Irrigation Schedule'!$C$31=\"\",H258=\"\"),\"\",(('3 Irrigation Schedule'!$C$29-'3 Irrigation Schedule'!$C$31)/100)*1000*M258)","v":""},"",{"$f":"IF(H258=\"\",\"\",IF(H258=1,N258*(1-'3 Irrigation Schedule'!$C$27),S257-U257))","v":""},"","","",{"$f":"IF(H258=\"\",\"\",IF('3 Irrigation Schedule'!$P$19<O258,'3 Irrigation Schedule'!$P$19,O258))","v":""},"",{"$f":"IF(H258=\"\",\"\",U258/'3 Irrigation Schedule'!$M$19)","v":""}]
[null,null,null,"2020","October","2020-10-12",null,"","",5.1283799999999999,"",0,"",{"$f":"IF(OR('3 Irrigation Schedule'!$C$29=\"\",'3 Irrigation Schedule'!$C$31=\"\",H259=\"\"),\"\",(('3 Irrigation Schedule'!$C$29-'3 Irrigation Schedule'!$C$31)/100)*1000*M259)","v":""},"",{"$f":"IF(H259=\"\",\"\",IF(H259=1,N259*(1-'3 Irrigation Schedule'!$C$27),S258-U258))","v":""},"","","",{"$f":"IF(H259=\"\",\"\",IF('3 Irrigation Schedule'!$P$19<O259,'3 Irrigation Schedule'!$P$19,O259))","v":""},"",{"$f":"IF(H259=\"\",\"\",U259/'3 Irrigation Schedule'!$M$19)","v":""}]
[null,null,null,"2020","October","2020-10-13",null,"","",5.1283799999999999,"",0,"",{"$f":"IF(OR('3 Irrigation Schedule'!$C$29=\"\",'3 Irrigation Schedule'!$C$31=\"\",H260=\"\"),\"\",(('3 Irrigation Schedule'!$C$29-'3 Irrigation Schedule'!$C$31)/100)*1000*M260)","v":""},"",{"$f":"IF(H260=\"\",\"\",IF(H260=1,N260*(1-'3 Irrigation Schedule'!$C$27),S259-U259))","v":""},"","","",{"$f":"IF(H260=\"\",\"\",IF('3 Irrigation Schedule'!$P$19<O260,'3 Irrigation Schedule'!$P$19,O260))","v":""},"",{"$f":"IF(H260=\"\",\"\",U260/'3 Irrigation Schedule'!$M$19)","v":""}]
[null,null,null,"2020","October","2020-10-14",null,"","",5.1283799999999999,"",0,"",{"$f":"IF(OR('3 Irrigation Schedule'!$C$29=\"\",'3 Irrigation Schedule'!$C$31=\"\",H261=\"\"),\"\",(('3 Irrigation Schedule'!$C$29-'3 Irrigation Schedule'!$C$31)/100)*1000*M261)","v":""},"",{"$f":"IF(H261=\"\",\"\",IF(H261=1,N261*(1-'3 Irrigation Schedule'!$C$27),S260-U260))","v":""},"","","",{"$f":"IF(H261=\"\",\"\",IF('3 Irrigation Schedule'!$P$19<O261,'3 Irrigation Schedule'!$P$19,O261))","v":""},"",{"$f":"IF(H261=\"\",\"\",U261/'3 Irrigation Schedule'!$M$19)","v":""}]
[null,null,null,"2020","October","2020-10-15",null,"","",5.1283799999999999,"",0,"",{"$f":"IF(OR('3 Irrigation Schedule'!$C$29=\"\",'3 Irrigation Schedule'!$C$31=\"\",H262=\"\"),\"\",(('3 Irrigation Schedule'!$C$29-'3 Irrigation Schedule'!$C$31)/100)*1000*M262)","v":""},"",{"$f":"IF(H262=\"\",\"\",IF(H262=1,N262*(1-'3 Irrigation Schedule'!$C$27),S261-U261))","v":""},"","","",{"$f":"IF(H262=\"\",\"\",IF('3 Irrigation Schedule'!$P$19<O262,'3 Irrigation Schedule'!$P$19,O262))","v":""},"",{"$f":"IF(H262=\"\",\"\",U262/'3 Irrigation Schedule'!$M$19)","v":""}]
[null,null,null,"2020","October","2020-10-16",null,"","",5.1283799999999999,"",0,"",{"$f":"IF(OR('3 Irrigation Schedule'!$C$29=\"\",'3 Irrigation Schedule'!$C$31=\"\",H263=\"\"),\"\",(('3 Irrigation Schedule'!$C$29-'3 Irrigation Schedule'!$C$31)/100)*1000*M263)","v":""},"",{"$f":"IF(H263=\"\",\"\",IF(H263=1,N263*(1-'3 Irrigation Schedule'!$C$27),S262-U262))","v":""},"","","",{"$f":"IF(H263=\"\",\"\",IF('3 Irrigation Schedule'!$P$19<O263,'3 Irrigation Schedule'!$P$19,O263))","v":""},"",{"$f":"IF(H263=\"\",\"\",U263/'3 Irrigation Schedule'!$M$19)","v":""}]
[null,null,null,"2020","October","2020-10-17",null,"","",5.1283799999999999,"",0,"",{"$f":"IF(OR('3 Irrigation Schedule'!$C$29=\"\",'3 Irrigation Schedule'!$C$31=\"\",H264=\"\"),\"\",(('3 Irrigation Schedule'!$C$29-'3 Irrigation Schedule'!$C$31)/100)*1000*M264)","v":""},"",{"$f":"IF(H264=\"\",\"\",IF(H264=1,N264*(1-'3 Irrigation Schedule'!$C$27),S263-U263))","v":""},"","","",{"$f":"IF(H264=\"\",\"\",IF('3 Irrigation Schedule'!$P$19<O264,'3 Irrigation Schedule'!$P$19,O264))","v":""},"",{"$f":"IF(H264=\"\",\"\",U264/'3 Irrigation Schedule'!$M$19)","v":""}]
[null,null,null,"2020","October","2020-10-18",null,"","",5.1283799999999999,"",0,"",{"$f":"IF(OR('3 Irrigation Schedule'!$C$29=\"\",'3 Irrigation Schedule'!$C$31=\"\",H265=\"\"),\"\",(('3 Irrigation Schedule'!$C$29-'3 Irrigation Schedule'!$C$31)/100)*1000*M265)","v":""},"",{"$f":"IF(H265=\"\",\"\",IF(H265=1,N265*(1-'3 Irrigation Schedule'!$C$27),S264-U264))","v":""},"","","",{"$f":"IF(H265=\"\",\"\",IF('3 Irrigation Schedule'!$P$19<O265,'3 Irrigation Schedule'!$P$19,O265))","v":""},"",{"$f":"IF(H265=\"\",\"\",U265/'3 Irrigation Schedule'!$M$19)","v":""}]
[null,null,null,"2020","October","2020-10-19",null,"","",5.1283799999999999,"",0,"",{"$f":"IF(OR('3 Irrigation Schedule'!$C$29=\"\",'3 Irrigation Schedule'!$C$31=\"\",H266=\"\"),\"\",(('3 Irrigation Schedule'!$C$29-'3 Irrigation Schedule'!$C$31)/100)*1000*M266)","v":""},"",{"$f":"IF(H266=\"\",\"\",IF(H266=1,N266*(1-'3 Irrigation Schedule'!$C$27),S265-U265))","v":""},"","","",{"$f":"IF(H266=\"\",\"\",IF('3 Irrigation Schedule'!$P$19<O266,'3 Irrigation Schedule'!$P$19,O266))","v":""},"",{"$f":"IF(H266=\"\",\"\",U266/'3 Irrigation Schedule'!$M$19)","v":""}]
[null,null,null,"2020","October","2020-10-20",null,"","",5.1283799999999999,"",0,"",{"$f":"IF(OR('3 Irrigation Schedule'!$C$29=\"\",'3 Irrigation Schedule'!$C$31=\"\",H267=\"\"),\"\",(('3 Irrigation Schedule'!$C$29-'3 Irrigation Schedule'!$C$31)/100)*1000*M267)","v":""},"",{"$f":"IF(H267=\"\",\"\",IF(H267=1,N267*(1-'3 Irrigation Schedule'!$C$27),S266-U266))","v":""},"","","",{"$f":"IF(H267=\"\",\"\",IF('3 Irrigation Schedule'!$P$19<O267,'3 Irrigation Schedule'!$P$19,O267))","v":""},"",{"$f":"IF(H267=\"\",\"\",U267/'3 Irrigation Schedule'!$M$19)","v":""}]
[null,null,null,"2020","October","2020-10-21",null,"","",5.1283799999999999,"",0,"",{"$f":"IF(OR('3 Irrigation Schedule'!$C$29=\"\",'3 Irrigation Schedule'!$C$31=\"\",H268=\"\"),\"\",(('3 Irrigation Schedule'!$C$29-'3 Irrigation Schedule'!$C$31)/100)*1000*M268)","v":""},"",{"$f":"IF(H268=\"\",\"\",IF(H268=1,N268*(1-'3 Irrigation Schedule'!$C$27),S267-U267))","v":""},"","","",{"$f":"IF(H268=\"\",\"\",IF('3 Irrigation Schedule'!$P$19<O268,'3 Irrigation Schedule'!$P$19,O268))","v":""},"",{"$f":"IF(H268=\"\",\"\",U268/'3 Irrigation Schedule'!$M$19)","v":""}]
[null,null,null,"2020","October","2020-10-22",null,"","",5.1283799999999999,"",0,"",{"$f":"IF(OR('3 Irrigation Schedule'!$C$29=\"\",'3 Irrigation Schedule'!$C$31=\"\",H269=\"\"),\"\",(('3 Irrigation Schedule'!$C$29-'3 Irrigation Schedule'!$C$31)/100)*1000*M269)","v":""},"",{"$f":"IF(H269=\"\",\"\",IF(H269=1,N269*(1-'3 Irrigation Schedule'!$C$27),S268-U268))","v":""},"","","",{"$f":"IF(H269=\"\",\"\",IF('3 Irrigation Schedule'!$P$19<O269,'3 Irrigation Schedule'!$P$19,O269))","v":""},"",{"$f":"IF(H269=\"\",\"\",U269/'3 Irrigation Schedule'!$M$19)","v":""}]
[null,null,null,"2020","October","2020-10-23",null,"","",5.1283799999999999,"",0,"",{"$f":"IF(OR('3 Irrigation Schedule'!$C$29=\"\",'3 Irrigation Schedule'!$C$31=\"\",H270=\"\"),\"\",(('3 Irrigation Schedule'!$C$29-'3 Irrigation Schedule'!$C$31)/100)*1000*M270)","v":""},"",{"$f":"IF(H270=\"\",\"\",IF(H270=1,N270*(1-'3 Irrigation Schedule'!$C$27),S269-U269))","v":""},"","","",{"$f":"IF(H270=\"\",\"\",IF('3 Irrigation Schedule'!$P$19<O270,'3 Irrigation Schedule'!$P$19,O270))","v":""},"",{"$f":"IF(H270=\"\",\"\",U270/'3 Irrigation Schedule'!$M$19)","v":""}]
[null,null,null,"2020","October","2020-10-24",null,"","",5.1283799999999999,"",0,"",{"$f":"IF(OR('3 Irrigation Schedule'!$C$29=\"\",'3 Irrigation Schedule'!$C$31=\"\",H271=\"\"),\"\",(('3 Irrigation Schedule'!$C$29-'3 Irrigation Schedule'!$C$31)/100)*1000*M271)","v":""},"",{"$f":"IF(H271=\"\",\"\",IF(H271=1,N271*(1-'3 Irrigation Schedule'!$C$27),S270-U270))","v":""},"","","",{"$f":"IF(H271=\"\",\"\",IF('3 Irrigation Schedule'!$P$19<O271,'3 Irrigation Schedule'!$P$19,O271))","v":""},"",{"$f":"IF(H271=\"\",\"\",U271/'3 Irrigation Schedule'!$M$19)","v":""}]
[null,null,null,"2020","October","2020-10-25",null,"","",5.1283799999999999,"",0,"",{"$f":"IF(OR('3 Irrigation Schedule'!$C$29=\"\",'3 Irrigation Schedule'!$C$31=\"\",H272=\"\"),\"\",(('3 Irrigation Schedule'!$C$29-'3 Irrigation Schedule'!$C$31)/100)*1000*M272)","v":""},"",{"$f":"IF(H272=\"\",\"\",IF(H272=1,N272*(1-'3 Irrigation Schedule'!$C$27),S271-U271))","v":""},"","","",{"$f":"IF(H272=\"\",\"\",IF('3 Irrigation Schedule'!$P$19<O272,'3 Irrigation Schedule'!$P$19,O272))","v":""},"",{"$f":"IF(H272=\"\",\"\",U272/'3 Irrigation Schedule'!$M$19)","v":""}]
[null,null,null,"2020","October","2020-10-26",null,"","",5.1283799999999999,"",0,"",{"$f":"IF(OR('3 Irrigation Schedule'!$C$29=\"\",'3 Irrigation Schedule'!$C$31=\"\",H273=\"\"),\"\",(('3 Irrigation Schedule'!$C$29-'3 Irrigation Schedule'!$C$31)/100)*1000*M273)","v":""},"",{"$f":"IF(H273=\"\",\"\",IF(H273=1,N273*(1-'3 Irrigation Schedule'!$C$27),S272-U272))","v":""},"","","",{"$f":"IF(H273=\"\",\"\",IF('3 Irrigation Schedule'!$P$19<O273,'3 Irrigation Schedule'!$P$19,O273))","v":""},"",{"$f":"IF(H273=\"\",\"\",U273/'3 Irrigation Schedule'!$M$19)","v":""}]
[null,null,null,"2020","October","2020-10-27",null,"","",5.1283799999999999,"",0,"",{"$f":"IF(OR('3 Irrigation Schedule'!$C$29=\"\",'3 Irrigation Schedule'!$C$31=\"\",H274=\"\"),\"\",(('3 Irrigation Schedule'!$C$29-'3 Irrigation Schedule'!$C$31)/100)*1000*M274)","v":""},"",{"$f":"IF(H274=\"\",\"\",IF(H274=1,N274*(1-'3 Irrigation Schedule'!$C$27),S273-U273))","v":""},"","","",{"$f":"IF(H274=\"\",\"\",IF('3 Irrigation Schedule'!$P$19<O274,'3 Irrigation Schedule'!$P$19,O274))","v":""},"",{"$f":"IF(H274=\"\",\"\",U274/'3 Irrigation Schedule'!$M$19)","v":""}]
[null,null,null,"2020","October","2020-10-28",null,"","",5.1283799999999999,"",0,"",{"$f":"IF(OR('3 Irrigation Schedule'!$C$29=\"\",'3 Irrigation Schedule'!$C$31=\"\",H275=\"\"),\"\",(('3 Irrigation Schedule'!$C$29-'3 Irrigation Schedule'!$C$31)/100)*1000*M275)","v":""},"",{"$f":"IF(H275=\"\",\"\",IF(H275=1,N275*(1-'3 Irrigation Schedule'!$C$27),S274-U274))","v":""},"","","",{"$f":"IF(H275=\"\",\"\",IF('3 Irrigation Schedule'!$P$19<O275,'3 Irrigation Schedule'!$P$19,O275))","v":""},"",{"$f":"IF(H275=\"\",\"\",U275/'3 Irrigation Schedule'!$M$19)","v":""}]
[null,null,null,"2020","October","2020-10-29",null,"","",5.1283799999999999,"",0,"",{"$f":"IF(OR('3 Irrigation Schedule'!$C$29=\"\",'3 Irrigation Schedule'!$C$31=\"\",H276=\"\"),\"\",(('3 Irrigation Schedule'!$C$29-'3 Irrigation Schedule'!$C$31)/100)*1000*M276)","v":""},"",{"$f":"IF(H276=\"\",\"\",IF(H276=1,N276*(1-'3 Irrigation Schedule'!$C$27),S275-U275))","v":""},"","","",{"$f":"IF(H276=\"\",\"\",IF('3 Irrigation Schedule'!$P$19<O276,'3 Irrigation Schedule'!$P$19,O276))","v":""},"",{"$f":"IF(H276=\"\",\"\",U276/'3 Irrigation Schedule'!$M$19)","v":""}]
[null,null,null,"2020","October","2020-10-30",null,"","",5.1283799999999999,"",0,"",{"$f":"IF(OR('3 Irrigation Schedule'!$C$29=\"\",'3 Irrigation Schedule'!$C$31=\"\",H277=\"\"),\"\",(('3 Irrigation Schedule'!$C$29-'3 Irrigation Schedule'!$C$31)/100)*1000*M277)","v":""},"",{"$f":"IF(H277=\"\",\"\",IF(H277=1,N277*(1-'3 Irrigation Schedule'!$C$27),S276-U276))","v":""},"","","",{"$f":"IF(H277=\"\",\"\",IF('3 Irrigation Schedule'!$P$19<O277,'3 Irrigation Schedule'!$P$19,O277))","v":""},"",{"$f":"IF(H277=\"\",\"\",U277/'3 Irrigation Schedule'!$M$19)","v":""}]
[null,null,null,"2020","October","2020-10-31",null,"","",5.1283799999999999,"",0,"",{"$f":"IF(OR('3 Irrigation Schedule'!$C$29=\"\",'3 Irrigation Schedule'!$C$31=\"\",H278=\"\"),\"\",(('3 Irrigation Schedule'!$C$29-'3 Irrigation Schedule'!$C$31)/100)*1000*M278)","v":""},"",{"$f":"IF(H278=\"\",\"\",IF(H278=1,N278*(1-'3 Irrigation Schedule'!$C$27),S277-U277))","v":""},"","","",{"$f":"IF(H278=\"\",\"\",IF('3 Irrigation Schedule'!$P$19<O278,'3 Irrigation Schedule'!$P$19,O278))","v":""},"",{"$f":"IF(H278=\"\",\"\",U278/'3 Irrigation Schedule'!$M$19)","v":""}]
[null,null,null,"2020","November","2020-11-01",null,"","",5.091120000000001,"",0,"",{"$f":"IF(OR('3 Irrigation Schedule'!$C$29=\"\",'3 Irrigation Schedule'!$C$31=\"\",H279=\"\"),\"\",(('3 Irrigation Schedule'!$C$29-'3 Irrigation Schedule'!$C$31)/100)*1000*M279)","v":""},"",{"$f":"IF(H279=\"\",\"\",IF(H279=1,N279*(1-'3 Irrigation Schedule'!$C$27),S278-U278))","v":""},"","","",{"$f":"IF(H279=\"\",\"\",IF('3 Irrigation Schedule'!$P$19<O279,'3 Irrigation Schedule'!$P$19,O279))","v":""},"",{"$f":"IF(H279=\"\",\"\",U279/'3 Irrigation Schedule'!$M$19)","v":""}]
[null,null,null,"2020","November","2020-11-02",null,"","",5.091120000000001,"",0,"",{"$f":"IF(OR('3 Irrigation Schedule'!$C$29=\"\",'3 Irrigation Schedule'!$C$31=\"\",H280=\"\"),\"\",(('3 Irrigation Schedule'!$C$29-'3 Irrigation Schedule'!$C$31)/100)*1000*M280)","v":""},"",{"$f":"IF(H280=\"\",\"\",IF(H280=1,N280*(1-'3 Irrigation Schedule'!$C$27),S279-U279))","v":""},"","","",{"$f":"IF(H280=\"\",\"\",IF('3 Irrigation Schedule'!$P$19<O280,'3 Irrigation Schedule'!$P$19,O280))","v":""},"",{"$f":"IF(H280=\"\",\"\",U280/'3 Irrigation Schedule'!$M$19)","v":""}]
[null,null,null,"2020","November","2020-11-03",null,"","",5.091120000000001,"",0,"",{"$f":"IF(OR('3 Irrigation Schedule'!$C$29=\"\",'3 Irrigation Schedule'!$C$31=\"\",H281=\"\"),\"\",(('3 Irrigation Schedule'!$C$29-'3 Irrigation Schedule'!$C$31)/100)*1000*M281)","v":""},"",{"$f":"IF(H281=\"\",\"\",IF(H281=1,N281*(1-'3 Irrigation Schedule'!$C$27),S280-U280))","v":""},"","","",{"$f":"IF(H281=\"\",\"\",IF('3 Irrigation Schedule'!$P$19<O281,'3 Irrigation Schedule'!$P$19,O281))","v":""},"",{"$f":"IF(H281=\"\",\"\",U281/'3 Irrigation Schedule'!$M$19)","v":""}]
[null,null,null,"2020","November","2020-11-04",null,"","",5.091120000000001,"",0,"",{"$f":"IF(OR('3 Irrigation Schedule'!$C$29=\"\",'3 Irrigation Schedule'!$C$31=\"\",H282=\"\"),\"\",(('3 Irrigation Schedule'!$C$29-'3 Irrigation Schedule'!$C$31)/100)*1000*M282)","v":""},"",{"$f":"IF(H282=\"\",\"\",IF(H282=1,N282*(1-'3 Irrigation Schedule'!$C$27),S281-U281))","v":""},"","","",{"$f":"IF(H282=\"\",\"\",IF('3 Irrigation Schedule'!$P$19<O282,'3 Irrigation Schedule'!$P$19,O282))","v":""},"",{"$f":"IF(H282=\"\",\"\",U282/'3 Irrigation Schedule'!$M$19)","v":""}]
[null,null,null,"2020","November","2020-11-05",null,"","",5.091120000000001,"",0,"",{"$f":"IF(OR('3 Irrigation Schedule'!$C$29=\"\",'3 Irrigation Schedule'!$C$31=\"\",H283=\"\"),\"\",(('3 Irrigation Schedule'!$C$29-'3 Irrigation Schedule'!$C$31)/100)*1000*M283)","v":""},"",{"$f":"IF(H283=\"\",\"\",IF(H283=1,N283*(1-'3 Irrigation Schedule'!$C$27),S282-U282))","v":""},"","","",{"$f":"IF(H283=\"\",\"\",IF('3 Irrigation Schedule'!$P$19<O283,'3 Irrigation Schedule'!$P$19,O283))","v":""},"",{"$f":"IF(H283=\"\",\"\",U283/'3 Irrigation Schedule'!$M$19)","v":""}]
[null,null,null,"2020","November","2020-11-06",null,"","",5.091120000000001,"",0,"",{"$f":"IF(OR('3 Irrigation Schedule'!$C$29=\"\",'3 Irrigation Schedule'!$C$31=\"\",H284=\"\"),\"\",(('3 Irrigation Schedule'!$C$29-'3 Irrigation Schedule'!$C$31)/100)*1000*M284)","v":""},"",{"$f":"IF(H284=\"\",\"\",IF(H284=1,N284*(1-'3 Irrigation Schedule'!$C$27),S283-U283))","v":""},"","","",{"$f":"IF(H284=\"\",\"\",IF('3 Irrigation Schedule'!$P$19<O284,'3 Irrigation Schedule'!$P$19,O284))","v":""},"",{"$f":"IF(H284=\"\",\"\",U284/'3 Irrigation Schedule'!$M$19)","v":""}]
[null,null,null,"2020","November","2020-11-07",null,"","",5.091120000000001,"",0,"",{"$f":"IF(OR('3 Irrigation Schedule'!$C$29=\"\",'3 Irrigation Schedule'!$C$31=\"\",H285=\"\"),\"\",(('3 Irrigation Schedule'!$C$29-'3 Irrigation Schedule'!$C$31)/100)*1000*M285)","v":""},"",{"$f":"IF(H285=\"\",\"\",IF(H285=1,N285*(1-'3 Irrigation Schedule'!$C$27),S284-U284))","v":""},"","","",{"$f":"IF(H285=\"\",\"\",IF('3 Irrigation Schedule'!$P$19<O285,'3 Irrigation Schedule'!$P$19,O285))","v":""},"",{"$f":"IF(H285=\"\",\"\",U285/'3 Irrigation Schedule'!$M$19)","v":""}]
[null,null,null,"2020","November","2020-11-08",null,"","",5.091120000000001,"",0,"",{"$f":"IF(OR('3 Irrigation Schedule'!$C$29=\"\",'3 Irrigation Schedule'!$C$31=\"\",H286=\"\"),\"\",(('3 Irrigation Schedule'!$C$29-'3 Irrigation Schedule'!$C$31)/100)*1000*M286)","v":""},"",{"$f":"IF(H286=\"\",\"\",IF(H286=1,N286*(1-'3 Irrigation Schedule'!$C$27),S285-U285))","v":""},"","","",{"$f":"IF(H286=\"\",\"\",IF('3 Irrigation Schedule'!$P$19<O286,'3 Irrigation Schedule'!$P$19,O286))","v":""},"",{"$f":"IF(H286=\"\",\"\",U286/'3 Irrigation Schedule'!$M$19)","v":""}]
[null,null,null,"2020","November","2020-11-09",null,"","",5.091120000000001,"",0,"",{"$f":"IF(OR('3 Irrigation Schedule'!$C$29=\"\",'3 Irrigation Schedule'!$C$31=\"\",H287=\"\"),\"\",(('3 Irrigation Schedule'!$C$29-'3 Irrigation Schedule'!$C$31)/100)*1000*M287)","v":""},"",{"$f":"IF(H287=\"\",\"\",IF(H287=1,N287*(1-'3 Irrigation Schedule'!$C$27),S286-U286))","v":""},"","","",{"$f":"IF(H287=\"\",\"\",IF('3 Irrigation Schedule'!$P$19<O287,'3 Irrigation Schedule'!$P$19,O287))","v":""},"",{"$f":"IF(H287=\"\",\"\",U287/'3 Irrigation Schedule'!$M$19)","v":""}]
[null,null,null,"2020","November","2020-11-10",null,"","",5.091120000000001,"",0,"",{"$f":"IF(OR('3 Irrigation Schedule'!$C$29=\"\",'3 Irrigation Schedule'!$C$31=\"\",H288=\"\"),\"\",(('3 Irrigation Schedule'!$C$29-'3 Irrigation Schedule'!$C$31)/100)*1000*M288)","v":""},"",{"$f":"IF(H288=\"\",\"\",IF(H288=1,N288*(1-'3 Irrigation Schedule'!$C$27),S287-U287))","v":""},"","","",{"$f":"IF(H288=\"\",\"\",IF('3 Irrigation Schedule'!$P$19<O288,'3 Irrigation Schedule'!$P$19,O288))","v":""},"",{"$f":"IF(H288=\"\",\"\",U288/'3 Irrigation Schedule'!$M$19)","v":""}]
[null,null,null,"2020","November","2020-11-11",null,"","",5.091120000000001,"",0,"",{"$f":"IF(OR('3 Irrigation Schedule'!$C$29=\"\",'3 Irrigation Schedule'!$C$31=\"\",H289=\"\"),\"\",(('3 Irrigation Schedule'!$C$29-'3 Irrigation Schedule'!$C$31)/100)*1000*M289)","v":""},"",{"$f":"IF(H289=\"\",\"\",IF(H289=1,N289*(1-'3 Irrigation Schedule'!$C$27),S288-U288))","v":""},"","","",{"$f":"IF(H289=\"\",\"\",IF('3 Irrigation Schedule'!$P$19<O289,'3 Irrigation Schedule'!$P$19,O289))","v":""},"",{"$f":"IF(H289=\"\",\"\",U289/'3 Irrigation Schedule'!$M$19)","v":""}]
[null,null,null,{"$f":"IFERROR(TEXT(DATE(YEAR($F290),MONTH($F290),1),$D$7&$D$4),\"\")","v":"2020"},{"$f":"IFERROR(TEXT(DATE(YEAR($F290),MONTH($F290),1),$D$7&$D$5),\"\")","v":"November"},"2020-11-12",null,"",{"$f":"IF(H290=\"\",\"\",IF(H290<=$I$27,\"Initial\",IF(AND(H290>$I$27,H290<=$I$28),\"Development\",IF(AND(H290>$I$28,H290<=$I$29),\"Mid Season\",\"Late Season\"))))","v":""},{"$f":"IFERROR(VLOOKUP($E290,$B$19:$C$30,2,FALSE),\"\")","v":5.091120000000001},{"$f":"IF(H290=\"\",\"\",IF(H290<=$I$27,$L$27,IF(AND(H290>$I$27,H290<=$I$28),$L$27+((H290-$I$27)/$H$28)*($L$29-$L$27),IF(AND(H290>$I$28,H290<=$I$29),$L$29,$L$29+((H290-$I$29)/$H$30)*($L$30-$L$29)))))","v":""},0,"",{"$f":"IF(OR('3 Irrigation Schedule'!$C$29=\"\",'3 Irrigation Schedule'!$C$31=\"\",H290=\"\"),\"\",(('3 Irrigation Schedule'!$C$29-'3 Irrigation Schedule'!$C$31)/100)*1000*M290)","v":""},"",{"$f":"IF(H290=\"\",\"\",IF(H290=1,N290*(1-'3 Irrigation Schedule'!$C$27),S289-U289))","v":""},"","","",{"$f":"IF(H290=\"\",\"\",IF('3 Irrigation Schedule'!$P$19<O290,'3 Irrigation Schedule'!$P$19,O290))","v":""},"",{"$f":"IF(H290=\"\",\"\",U290/'3 Irrigation Schedule'!$M$19)","v":""}]
[null,null,null,"2020","November",{"$f":"IFERROR(IF(F290+1<=$N$7, F290+1,\"\"),\"\")","v":"2020-11-13"},null,{"$f":"IFERROR(IF(OR($F291-$J$27+1<=0,$F291>$K$30),\"\",$F291-$J$27+1),\"\")","v":""},"",5.091120000000001,"",{"$f":"IFERROR((J291*K291),0)","v":0},{"$f":"IF(H291=\"\",\"\",IF(OR(H291=1,H291<$I$28),$M$27+(($M$28-$M$27)*((H291-1)/($I$28-1))),$M$28))","v":""},{"$f":"IF(OR('3 Irrigation Schedule'!$C$29=\"\",'3 Irrigation Schedule'!$C$31=\"\",H291=\"\"),\"\",(('3 Irrigation Schedule'!$C$29-'3 Irrigation Schedule'!$C$31)/100)*1000*M291)","v":""},{"$f":"IF(H291=\"\",\"\",N291*$N$27)","v":""},{"$f":"IF(H291=\"\",\"\",IF(H291=1,N291*(1-'3 Irrigation Schedule'!$C$27),S290-U290))","v":""},"","","",{"$f":"IF(H291=\"\",\"\",IF('3 Irrigation Schedule'!$P$19<O291,'3 Irrigation Schedule'!$P$19,O291))","v":""},{"$f":"IF(H291=\"\",\"\",IF(T291<=S291,T291,0))","v":""},{"$f":"IF(H291=\"\",\"\",U291/'3 Irrigation Schedule'!$M$19)","v":""}]
[null,null,null,"2020","November","2020-11-14",null,"","",5.091120000000001,"",0,"",{"$f":"IF(OR('3 Irrigation Schedule'!$C$29=\"\",'3 Irrigation Schedule'!$C$31=\"\",H292=\"\"),\"\",(('3 Irrigation Schedule'!$C$29-'3 Irrigation Schedule'!$C$31)/100)*1000*M292)","v":""},"",{"$f":"IF(H292=\"\",\"\",IF(H292=1,N292*(1-'3 Irrigation Schedule'!$C$27),S291-U291))","v":""},"","","",{"$f":"IF(H292=\"\",\"\",IF('3 Irrigation Schedule'!$P$19<O292,'3 Irrigation Schedule'!$P$19,O292))","v":""},"",{"$f":"IF(H292=\"\",\"\",U292/'3 Irrigation Schedule'!$M$19)","v":""}]
[null,null,null,"2020","November","2020-11-15",null,"","",5.091120000000001,"",0,"",{"$f":"IF(OR('3 Irrigation Schedule'!$C$29=\"\",'3 Irrigation Schedule'!$C$31=\"\",H293=\"\"),\"\",(('3 Irrigation Schedule'!$C$29-'3 Irrigation Schedule'!$C$31)/100)*1000*M293)","v":""},"",{"$f":"IF(H293=\"\",\"\",IF(H293=1,N293*(1-'3 Irrigation Schedule'!$C$27),S292-U292))","v":""},"","","",{"$f":"IF(H293=\"\",\"\",IF('3 Irrigation Schedule'!$P$19<O293,'3 Irrigation Schedule'!$P$19,O293))","v":""},"",{"$f":"IF(H293=\"\",\"\",U293/'3 Irrigation Schedule'!$M$19)","v":""}]
[null,null,null,"2020","November","2020-11-16",null,"","",5.091120000000001,"",0,"",{"$f":"IF(OR('3 Irrigation Schedule'!$C$29=\"\",'3 Irrigation Schedule'!$C$31=\"\",H294=\"\"),\"\",(('3 Irrigation Schedule'!$C$29-'3 Irrigation Schedule'!$C$31)/100)*1000*M294)","v":""},"",{"$f":"IF(H294=\"\",\"\",IF(H294=1,N294*(1-'3 Irrigation Schedule'!$C$27),S293-U293))","v":""},"","","",{"$f":"IF(H294=\"\",\"\",IF('3 Irrigation Schedule'!$P$19<O294,'3 Irrigation Schedule'!$P$19,O294))","v":""},"",{"$f":"IF(H294=\"\",\"\",U294/'3 Irrigation Schedule'!$M$19)","v":""}]
[null,null,null,"2020","November","2020-11-17",null,"","",5.091120000000001,"",0,"",{"$f":"IF(OR('3 Irrigation Schedule'!$C$29=\"\",'3 Irrigation Schedule'!$C$31=\"\",H295=\"\"),\"\",(('3 Irrigation Schedule'!$C$29-'3 Irrigation Schedule'!$C$31)/100)*1000*M295)","v":""},"",{"$f":"IF(H295=\"\",\"\",IF(H295=1,N295*(1-'3 Irrigation Schedule'!$C$27),S294-U294))","v":""},"","","",{"$f":"IF(H295=\"\",\"\",IF('3 Irrigation Schedule'!$P$19<O295,'3 Irrigation Schedule'!$P$19,O295))","v":""},"",{"$f":"IF(H295=\"\",\"\",U295/'3 Irrigation Schedule'!$M$19)","v":""}]
[null,null,null,"2020","November","2020-11-18",null,"","",5.091120000000001,"",0,"",{"$f":"IF(OR('3 Irrigation Schedule'!$C$29=\"\",'3 Irrigation Schedule'!$C$31=\"\",H296=\"\"),\"\",(('3 Irrigation Schedule'!$C$29-'3 Irrigation Schedule'!$C$31)/100)*1000*M296)","v":""},"",{"$f":"IF(H296=\"\",\"\",IF(H296=1,N296*(1-'3 Irrigation Schedule'!$C$27),S295-U295))","v":""},"","","",{"$f":"IF(H296=\"\",\"\",IF('3 Irrigation Schedule'!$P$19<O296,'3 Irrigation Schedule'!$P$19,O296))","v":""},"",{"$f":"IF(H296=\"\",\"\",U296/'3 Irrigation Schedule'!$M$19)","v":""}]
[null,null,null,"2020","November","2020-11-19",null,"","",5.091120000000001,"",0,"",{"$f":"IF(OR('3 Irrigation Schedule'!$C$29=\"\",'3 Irrigation Schedule'!$C$31=\"\",H297=\"\"),\"\",(('3 Irrigation Schedule'!$C$29-'3 Irrigation Schedule'!$C$31)/100)*1000*M297)","v":""},"",{"$f":"IF(H297=\"\",\"\",IF(H297=1,N297*(1-'3 Irrigation Schedule'!$C$27),S296-U296))","v":""},"","","",{"$f":"IF(H297=\"\",\"\",IF('3 Irrigation Schedule'!$P$19<O297,'3 Irrigation Schedule'!$P$19,O297))","v":""},"",{"$f":"IF(H297=\"\",\"\",U297/'3 Irrigation Schedule'!$M$19)","v":""}]
[null,null,null,"2020","November","2020-11-20",null,"","",5.091120000000001,"",0,"",{"$f":"IF(OR('3 Irrigation Schedule'!$C$29=\"\",'3 Irrigation Schedule'!$C$31=\"\",H298=\"\"),\"\",(('3 Irrigation Schedule'!$C$29-'3 Irrigation Schedule'!$C$31)/100)*1000*M298)","v":""},"",{"$f":"IF(H298=\"\",\"\",IF(H298=1,N298*(1-'3 Irrigation Schedule'!$C$27),S297-U297))","v":""},"","","",{"$f":"IF(H298=\"\",\"\",IF('3 Irrigation Schedule'!$P$19<O298,'3 Irrigation Schedule'!$P$19,O298))","v":""},"",{"$f":"IF(H298=\"\",\"\",U298/'3 Irrigation Schedule'!$M$19)","v":""}]
[null,null,null,"2020","November","2020-11-21",null,"","",5.091120000000001,"",0,"",{"$f":"IF(OR('3 Irrigation Schedule'!$C$29=\"\",'3 Irrigation Schedule'!$C$31=\"\",H299=\"\"),\"\",(('3 Irrigation Schedule'!$C$29-'3 Irrigation Schedule'!$C$31)/100)*1000*M299)","v":""},"",{"$f":"IF(H299=\"\",\"\",IF(H299=1,N299*(1-'3 Irrigation Schedule'!$C$27),S298-U298))","v":""},"","","",{"$f":"IF(H299=\"\",\"\",IF('3 Irrigation Schedule'!$P$19<O299,'3 Irrigation Schedule'!$P$19,O299))","v":""},"",{"$f":"IF(H299=\"\",\"\",U299/'3 Irrigation Schedule'!$M$19)","v":""}]
[null,null,null,"2020","November","2020-11-22",null,"","",5.091120000000001,"",0,"",{"$f":"IF(OR('3 Irrigation Schedule'!$C$29=\"\",'3 Irrigation Schedule'!$C$31=\"\",H300=\"\"),\"\",(('3 Irrigation Schedule'!$C$29-'3 Irrigation Schedule'!$C$31)/100)*1000*M300)","v":""},"",{"$f":"IF(H300=\"\",\"\",IF(H300=1,N300*(1-'3 Irrigation Schedule'!$C$27),S299-U299))","v":""},"","","",{"$f":"IF(H300=\"\",\"\",IF('3 Irrigation Schedule'!$P$19<O300,'3 Irrigation Schedule'!$P$19,O300))","v":""},"",{"$f":"IF(H300=\"\",\"\",U300/'3 Irrigation Schedule'!$M$19)","v":""}]
[null,null,null,"2020","November","2020-11-23",null,"","",5.091120000000001,"",0,"",{"$f":"IF(OR('3 Irrigation Schedule'!$C$29=\"\",'3 Irrigation Schedule'!$C$31=\"\",H301=\"\"),\"\",(('3 Irrigation Schedule'!$C$29-'3 Irrigation Schedule'!$C$31)/100)*1000*M301)","v":""},"",{"$f":"IF(H301=\"\",\"\",IF(H301=1,N301*(1-'3 Irrigation Schedule'!$C$27),S300-U300))","v":""},"","","",{"$f":"IF(H301=\"\",\"\",IF('3 Irrigation Schedule'!$P$19<O301,'3 Irrigation Schedule'!$P$19,O301))","v":""},"",{"$f":"IF(H301=\"\",\"\",U301/'3 Irrigation Schedule'!$M$19)","v":""}]
[null,null,null,"2020","November","2020-11-24",null,"","",5.091120000000001,"",0,"",{"$f":"IF(OR('3 Irrigation Schedule'!$C$29=\"\",'3 Irrigation Schedule'!$C$31=\"\",H302=\"\"),\"\",(('3 Irrigation Schedule'!$C$29-'3 Irrigation Schedule'!$C$31)/100)*1000*M302)","v":""},"",{"$f":"IF(H302=\"\",\"\",IF(H302=1,N302*(1-'3 Irrigation Schedule'!$C$27),S301-U301))","v":""},"","","",{"$f":"IF(H302=\"\",\"\",IF('3 Irrigation Schedule'!$P$19<O302,'3 Irrigation Schedule'!$P$19,O302))","v":""},"",{"$f":"IF(H302=\"\",\"\",U302/'3 Irrigation Schedule'!$M$19)","v":""}]
[null,null,null,"2020","November","2020-11-25",null,"","",5.091120000000001,"",0,"",{"$f":"IF(OR('3 Irrigation Schedule'!$C$29=\"\",'3 Irrigation Schedule'!$C$31=\"\",H303=\"\"),\"\",(('3 Irrigation Schedule'!$C$29-'3 Irrigation Schedule'!$C$31)/100)*1000*M303)","v":""},"",{"$f":"IF(H303=\"\",\"\",IF(H303=1,N303*(1-'3 Irrigation Schedule'!$C$27),S302-U302))","v":""},"","","",{"$f":"IF(H303=\"\",\"\",IF('3 Irrigation Schedule'!$P$19<O303,'3 Irrigation Schedule'!$P$19,O303))","v":""},"",{"$f":"IF(H303=\"\",\"\",U303/'3 Irrigation Schedule'!$M$19)","v":""}]
[null,null,null,"2020","November","2020-11-26",null,"","",5.091120000000001,"",0,"",{"$f":"IF(OR('3 Irrigation Schedule'!$C$29=\"\",'3 Irrigation Schedule'!$C$31=\"\",H304=\"\"),\"\",(('3 Irrigation Schedule'!$C$29-'3 Irrigation Schedule'!$C$31)/100)*1000*M304)","v":""},"",{"$f":"IF(H304=\"\",\"\",IF(H304=1,N304*(1-'3 Irrigation Schedule'!$C$27),S303-U303))","v":""},"","","",{"$f":"IF(H304=\"\",\"\",IF('3 Irrigation Schedule'!$P$19<O304,'3 Irrigation Schedule'!$P$19,O304))","v":""},"",{"$f":"IF(H304=\"\",\"\",U304/'3 Irrigation Schedule'!$M$19)","v":""}]
[null,null,null,"2020","November","2020-11-27",null,"","",5.091120000000001,"",0,"",{"$f":"IF(OR('3 Irrigation Schedule'!$C$29=\"\",'3 Irrigation Schedule'!$C$31=\"\",H305=\"\"),\"\",(('3 Irrigation Schedule'!$C$29-'3 Irrigation Schedule'!$C$31)/100)*1000*M305)","v":""},"",{"$f":"IF(H305=\"\",\"\",IF(H305=1,N305*(1-'3 Irrigation Schedule'!$C$27),S304-U304))","v":""},{"$f":"IF(H305=\"\",\"\",IF(P305>O305,(N305-P305)/(N305-O305),1))","v":""},{"$f":"IF(H305=\"\",\"\",L305*Q305)","v":""},{"$f":"IF(H305=\"\",\"\",P305+R305)","v":""},{"$f":"IF(H305=\"\",\"\",IF('3 Irrigation Schedule'!$P$19<O305,'3 Irrigation Schedule'!$P$19,O305))","v":""},"",{"$f":"IF(H305=\"\",\"\",U305/'3 Irrigation Schedule'!$M$19)","v":""}]
[null,null,null,"2020","November","2020-11-28",null,"","",5.091120000000001,"",0,"",{"$f":"IF(OR('3 Irrigation Schedule'!$C$29=\"\",'3 Irrigation Schedule'!$C$31=\"\",H306=\"\"),\"\",(('3 Irrigation Schedule'!$C$29-'3 Irrigation Schedule'!$C$31)/100)*1000*M306)","v":""},"",{"$f":"IF(H306=\"\",\"\",IF(H306=1,N306*(1-'3 Irrigation Schedule'!$C$27),S305-U305))","v":""},"","","",{"$f":"IF(H306=\"\",\"\",IF('3 Irrigation Schedule'!$P$19<O306,'3 Irrigation Schedule'!$P$19,O306))","v":""},"",{"$f":"IF(H306=\"\",\"\",U306/'3 Irrigation Schedule'!$M$19)","v":""}]
[null,null,null,"2020","November","2020-11-29",null,"","",5.091120000000001,"",0,"",{"$f":"IF(OR('3 Irrigation Schedule'!$C$29=\"\",'3 Irrigation Schedule'!$C$31=\"\",H307=\"\"),\"\",(('3 Irrigation Schedule'!$C$29-'3 Irrigation Schedule'!$C$31)/100)*1000*M307)","v":""},"",{"$f":"IF(H307=\"\",\"\",IF(H307=1,N307*(1-'3 Irrigation Schedule'!$C$27),S306-U306))","v":""},"","","",{"$f":"IF(H307=\"\",\"\",IF('3 Irrigation Schedule'!$P$19<O307,'3 Irrigation Schedule'!$P$19,O307))","v":""},"",{"$f":"IF(H307=\"\",\"\",U307/'3 Irrigation Schedule'!$M$19)","v":""}]
[null,null,null,"2020","November","2020-11-30",null,"","",5.091120000000001,"",0,"",{"$f":"IF(OR('3 Irrigation Schedule'!$C$29=\"\",'3 Irrigation Schedule'!$C$31=\"\",H308=\"\"),\"\",(('3 Irrigation Schedule'!$C$29-'3 Irrigation Schedule'!$C$31)/100)*1000*M308)","v":""},"",{"$f":"IF(H308=\"\",\"\",IF(H308=1,N308*(1-'3 Irrigation Schedule'!$C$27),S307-U307))","v":""},"","","",{"$f":"IF(H308=\"\",\"\",IF('3 Irrigation Schedule'!$P$19<O308,'3 Irrigation Schedule'!$P$19,O308))","v":""},"",{"$f":"IF(H308=\"\",\"\",U308/'3 Irrigation Schedule'!$M$19)","v":""}]
[null,null,null,"2020","December","2020-12-01",null,"","",5.1408000000000005,"",0,"",{"$f":"IF(OR('3 Irrigation Schedule'!$C$29=\"\",'3 Irrigation Schedule'!$C$31=\"\",H309=\"\"),\"\",(('3 Irrigation Schedule'!$C$29-'3 Irrigation Schedule'!$C$31)/100)*1000*M309)","v":""},"",{"$f":"IF(H309=\"\",\"\",IF(H309=1,N309*(1-'3 Irrigation Schedule'!$C$27),S308-U308))","v":""},"","","",{"$f":"IF(H309=\"\",\"\",IF('3 Irrigation Schedule'!$P$19<O309,'3 Irrigation Schedule'!$P$19,O309))","v":""},"",{"$f":"IF(H309=\"\",\"\",U309/'3 Irrigation Schedule'!$M$19)","v":""}]
[null,null,null,"2020","December","2020-12-02",null,"","",5.1408000000000005,"",0,"",{"$f":"IF(OR('3 Irrigation Schedule'!$C$29=\"\",'3 Irrigation Schedule'!$C$31=\"\",H310=\"\"),\"\",(('3 Irrigation Schedule'!$C$29-'3 Irrigation Schedule'!$C$31)/100)*1000*M310)","v":""},"",{"$f":"IF(H310=\"\",\"\",IF(H310=1,N310*(1-'3 Irrigation Schedule'!$C$27),S309-U309))","v":""},"","","",{"$f":"IF(H310=\"\",\"\",IF('3 Irrigation Schedule'!$P$19<O310,'3 Irrigation Schedule'!$P$19,O310))","v":""},"",{"$f":"IF(H310=\"\",\"\",U310/'3 Irrigation Schedule'!$M$19)","v":""}]
[null,null,null,"2020","December","2020-12-03",null,"","",5.1408000000000005,"",0,"",{"$f":"IF(OR('3 Irrigation Schedule'!$C$29=\"\",'3 Irrigation Schedule'!$C$31=\"\",H311=\"\"),\"\",(('3 Irrigation Schedule'!$C$29-'3 Irrigation Schedule'!$C$31)/100)*1000*M311)","v":""},"",{"$f":"IF(H311=\"\",\"\",IF(H311=1,N311*(1-'3 Irrigation Schedule'!$C$27),S310-U310))","v":""},"","","",{"$f":"IF(H311=\"\",\"\",IF('3 Irrigation Schedule'!$P$19<O311,'3 Irrigation Schedule'!$P$19,O311))","v":""},"",{"$f":"IF(H311=\"\",\"\",U311/'3 Irrigation Schedule'!$M$19)","v":""}]
[null,null,null,"2020","December","2020-12-04",null,"","",5.1408000000000005,"",0,"",{"$f":"IF(OR('3 Irrigation Schedule'!$C$29=\"\",'3 Irrigation Schedule'!$C$31=\"\",H312=\"\"),\"\",(('3 Irrigation Schedule'!$C$29-'3 Irrigation Schedule'!$C$31)/100)*1000*M312)","v":""},"",{"$f":"IF(H312=\"\",\"\",IF(H312=1,N312*(1-'3 Irrigation Schedule'!$C$27),S311-U311))","v":""},"","","",{"$f":"IF(H312=\"\",\"\",IF('3 Irrigation Schedule'!$P$19<O312,'3 Irrigation Schedule'!$P$19,O312))","v":""},"",{"$f":"IF(H312=\"\",\"\",U312/'3 Irrigation Schedule'!$M$19)","v":""}]
[null,null,null,"2020","December","2020-12-05",null,"","",5.1408000000000005,"",0,"",{"$f":"IF(OR('3 Irrigation Schedule'!$C$29=\"\",'3 Irrigation Schedule'!$C$31=\"\",H313=\"\"),\"\",(('3 Irrigation Schedule'!$C$29-'3 Irrigation Schedule'!$C$31)/100)*1000*M313)","v":""},"",{"$f":"IF(H313=\"\",\"\",IF(H313=1,N313*(1-'3 Irrigation Schedule'!$C$27),S312-U312))","v":""},"","","",{"$f":"IF(H313=\"\",\"\",IF('3 Irrigation Schedule'!$P$19<O313,'3 Irrigation Schedule'!$P$19,O313))","v":""},"",{"$f":"IF(H313=\"\",\"\",U313/'3 Irrigation Schedule'!$M$19)","v":""}]
[null,null,null,"2020","December","2020-12-06",null,"","",5.1408000000000005,"",0,"",{"$f":"IF(OR('3 Irrigation Schedule'!$C$29=\"\",'3 Irrigation Schedule'!$C$31=\"\",H314=\"\"),\"\",(('3 Irrigation Schedule'!$C$29-'3 Irrigation Schedule'!$C$31)/100)*1000*M314)","v":""},"",{"$f":"IF(H314=\"\",\"\",IF(H314=1,N314*(1-'3 Irrigation Schedule'!$C$27),S313-U313))","v":""},"","","",{"$f":"IF(H314=\"\",\"\",IF('3 Irrigation Schedule'!$P$19<O314,'3 Irrigation Schedule'!$P$19,O314))","v":""},"",{"$f":"IF(H314=\"\",\"\",U314/'3 Irrigation Schedule'!$M$19)","v":""}]
[null,null,null,"2020","December","2020-12-07",null,"","",5.1408000000000005,"",0,"",{"$f":"IF(OR('3 Irrigation Schedule'!$C$29=\"\",'3 Irrigation Schedule'!$C$31=\"\",H315=\"\"),\"\",(('3 Irrigation Schedule'!$C$29-'3 Irrigation Schedule'!$C$31)/100)*1000*M315)","v":""},"",{"$f":"IF(H315=\"\",\"\",IF(H315=1,N315*(1-'3 Irrigation Schedule'!$C$27),S314-U314))","v":""},"","","",{"$f":"IF(H315=\"\",\"\",IF('3 Irrigation Schedule'!$P$19<O315,'3 Irrigation Schedule'!$P$19,O315))","v":""},"",{"$f":"IF(H315=\"\",\"\",U315/'3 Irrigation Schedule'!$M$19)","v":""}]
[null,null,null,"2020","December","2020-12-08",null,"","",5.1408000000000005,"",0,"",{"$f":"IF(OR('3 Irrigation Schedule'!$C$29=\"\",'3 Irrigation Schedule'!$C$31=\"\",H316=\"\"),\"\",(('3 Irrigation Schedule'!$C$29-'3 Irrigation Schedule'!$C$31)/100)*1000*M316)","v":""},"",{"$f":"IF(H316=\"\",\"\",IF(H316=1,N316*(1-'3 Irrigation Schedule'!$C$27),S315-U315))","v":""},"","","",{"$f":"IF(H316=\"\",\"\",IF('3 Irrigation Schedule'!$P$19<O316,'3 Irrigation Schedule'!$P$19,O316))","v":""},"",{"$f":"IF(H316=\"\",\"\",U316/'3 Irrigation Schedule'!$M$19)","v":""}]
[null,null,null,"2020","December","2020-12-09",null,"","",5.1408000000000005,"",0,"",{"$f":"IF(OR('3 Irrigation Schedule'!$C$29=\"\",'3 Irrigation Schedule'!$C$31=\"\",H317=\"\"),\"\",(('3 Irrigation Schedule'!$C$29-'3 Irrigation Schedule'!$C$31)/100)*1000*M317)","v":""},"",{"$f":"IF(H317=\"\",\"\",IF(H317=1,N317*(1-'3 Irrigation Schedule'!$C$27),S316-U316))","v":""},"","","",{"$f":"IF(H317=\"\",\"\",IF('3 Irrigation Schedule'!$P$19<O317,'3 Irrigation Schedule'!$P$19,O317))","v":""},"",{"$f":"IF(H317=\"\",\"\",U317/'3 Irrigation Schedule'!$M$19)","v":""}]
[null,null,null,"2020","December","2020-12-10",null,"","",5.1408000000000005,"",0,"",{"$f":"IF(OR('3 Irrigation Schedule'!$C$29=\"\",'3 Irrigation Schedule'!$C$31=\"\",H318=\"\"),\"\",(('3 Irrigation Schedule'!$C$29-'3 Irrigation Schedule'!$C$31)/100)*1000*M318)","v":""},"",{"$f":"IF(H318=\"\",\"\",IF(H318=1,N318*(1-'3 Irrigation Schedule'!$C$27),S317-U317))","v":""},"","","",{"$f":"IF(H318=\"\",\"\",IF('3 Irrigation Schedule'!$P$19<O318,'3 Irrigation Schedule'!$P$19,O318))","v":""},"",{"$f":"IF(H318=\"\",\"\",U318/'3 Irrigation Schedule'!$M$19)","v":""}]
[null,null,null,"2020","December","2020-12-11",null,"","",5.1408000000000005,"",0,"",{"$f":"IF(OR('3 Irrigation Schedule'!$C$29=\"\",'3 Irrigation Schedule'!$C$31=\"\",H319=\"\"),\"\",(('3 Irrigation Schedule'!$C$29-'3 Irrigation Schedule'!$C$31)/100)*1000*M319)","v":""},"",{"$f":"IF(H319=\"\",\"\",IF(H319=1,N319*(1-'3 Irrigation Schedule'!$C$27),S318-U318))","v":""},"","","",{"$f":"IF(H319=\"\",\"\",IF('3 Irrigation Schedule'!$P$19<O319,'3 Irrigation Schedule'!$P$19,O319))","v":""},"",{"$f":"IF(H319=\"\",\"\",U319/'3 Irrigation Schedule'!$M$19)","v":""}]
[null,null,null,"2020","December","2020-12-12",null,"","",5.1408000000000005,"",0,"",{"$f":"IF(OR('3 Irrigation Schedule'!$C$29=\"\",'3 Irrigation Schedule'!$C$31=\"\",H320=\"\"),\"\",(('3 Irrigation Schedule'!$C$29-'3 Irrigation Schedule'!$C$31)/100)*1000*M320)","v":""},"",{"$f":"IF(H320=\"\",\"\",IF(H320=1,N320*(1-'3 Irrigation Schedule'!$C$27),S319-U319))","v":""},"","","",{"$f":"IF(H320=\"\",\"\",IF('3 Irrigation Schedule'!$P$19<O320,'3 Irrigation Schedule'!$P$19,O320))","v":""},"",{"$f":"IF(H320=\"\",\"\",U320/'3 Irrigation Schedule'!$M$19)","v":""}]
[null,null,null,"2020","December","2020-12-13",null,"","",5.1408000000000005,"",0,"",{"$f":"IF(OR('3 Irrigation Schedule'!$C$29=\"\",'3 Irrigation Schedule'!$C$31=\"\",H321=\"\"),\"\",(('3 Irrigation Schedule'!$C$29-'3 Irrigation Schedule'!$C$31)/100)*1000*M321)","v":""},"",{"$f":"IF(H321=\"\",\"\",IF(H321=1,N321*(1-'3 Irrigation Schedule'!$C$27),S320-U320))","v":""},"","","",{"$f":"IF(H321=\"\",\"\",IF('3 Irrigation Schedule'!$P$19<O321,'3 Irrigation Schedule'!$P$19,O321))","v":""},"",{"$f":"IF(H321=\"\",\"\",U321/'3 Irrigation Schedule'!$M$19)","v":""}]
[null,null,null,"2020","December","2020-12-14",null,"","",5.1408000000000005,"",0,"",{"$f":"IF(OR('3 Irrigation Schedule'!$C$29=\"\",'3 Irrigation Schedule'!$C$31=\"\",H322=\"\"),\"\",(('3 Irrigation Schedule'!$C$29-'3 Irrigation Schedule'!$C$31)/100)*1000*M322)","v":""},"",{"$f":"IF(H322=\"\",\"\",IF(H322=1,N322*(1-'3 Irrigation Schedule'!$C$27),S321-U321))","v":""},"","","",{"$f":"IF(H322=\"\",\"\",IF('3 Irrigation Schedule'!$P$19<O322,'3 Irrigation Schedule'!$P$19,O322))","v":""},"",{"$f":"IF(H322=\"\",\"\",U322/'3 Irrigation Schedule'!$M$19)","v":""}]
[null,null,null,"2020","December","2020-12-15",null,"","",5.1408000000000005,"",0,"",{"$f":"IF(OR('3 Irrigation Schedule'!$C$29=\"\",'3 Irrigation Schedule'!$C$31=\"\",H323=\"\"),\"\",(('3 Irrigation Schedule'!$C$29-'3 Irrigation Schedule'!$C$31)/100)*1000*M323)","v":""},"",{"$f":"IF(H323=\"\",\"\",IF(H323=1,N323*(1-'3 Irrigation Schedule'!$C$27),S322-U322))","v":""},"","","",{"$f":"IF(H323=\"\",\"\",IF('3 Irrigation Schedule'!$P$19<O323,'3 Irrigation Schedule'!$P$19,O323))","v":""},"",{"$f":"IF(H323=\"\",\"\",U323/'3 Irrigation Schedule'!$M$19)","v":""}]
[null,null,null,"2020","December","2020-12-16",null,"","",5.1408000000000005,"",0,"",{"$f":"IF(OR('3 Irrigation Schedule'!$C$29=\"\",'3 Irrigation Schedule'!$C$31=\"\",H324=\"\"),\"\",(('3 Irrigation Schedule'!$C$29-'3 Irrigation Schedule'!$C$31)/100)*1000*M324)","v":""},"",{"$f":"IF(H324=\"\",\"\",IF(H324=1,N324*(1-'3 Irrigation Schedule'!$C$27),S323-U323))","v":""},"","","",{"$f":"IF(H324=\"\",\"\",IF('3 Irrigation Schedule'!$P$19<O324,'3 Irrigation Schedule'!$P$19,O324))","v":""},"",{"$f":"IF(H324=\"\",\"\",U324/'3 Irrigation Schedule'!$M$19)","v":""}]
[null,null,null,"2020","December","2020-12-17",null,"","",5.1408000000000005,"",0,"",{"$f":"IF(OR('3 Irrigation Schedule'!$C$29=\"\",'3 Irrigation Schedule'!$C$31=\"\",H325=\"\"),\"\",(('3 Irrigation Schedule'!$C$29-'3 Irrigation Schedule'!$C$31)/100)*1000*M325)","v":""},"",{"$f":"IF(H325=\"\",\"\",IF(H325=1,N325*(1-'3 Irrigation Schedule'!$C$27),S324-U324))","v":""},"","","",{"$f":"IF(H325=\"\",\"\",IF('3 Irrigation Schedule'!$P$19<O325,'3 Irrigation Schedule'!$P$19,O325))","v":""},"",{"$f":"IF(H325=\"\",\"\",U325/'3 Irrigation Schedule'!$M$19)","v":""}]
[null,null,null,"2020","December","2020-12-18",null,"","",5.1408000000000005,"",0,"",{"$f":"IF(OR('3 Irrigation Schedule'!$C$29=\"\",'3 Irrigation Schedule'!$C$31=\"\",H326=\"\"),\"\",(('3 Irrigation Schedule'!$C$29-'3 Irrigation Schedule'!$C$31)/100)*1000*M326)","v":""},"",{"$f":"IF(H326=\"\",\"\",IF(H326=1,N326*(1-'3 Irrigation Schedule'!$C$27),S325-U325))","v":""},"","","",{"$f":"IF(H326=\"\",\"\",IF('3 Irrigation Schedule'!$P$19<O326,'3 Irrigation Schedule'!$P$19,O326))","v":""},"",{"$f":"IF(H326=\"\",\"\",U326/'3 Irrigation Schedule'!$M$19)","v":""}]
[null,null,null,"2020","December","2020-12-19",null,"","",5.1408000000000005,"",0,"",{"$f":"IF(OR('3 Irrigation Schedule'!$C$29=\"\",'3 Irrigation Schedule'!$C$31=\"\",H327=\"\"),\"\",(('3 Irrigation Schedule'!$C$29-'3 Irrigation Schedule'!$C$31)/100)*1000*M327)","v":""},"",{"$f":"IF(H327=\"\",\"\",IF(H327=1,N327*(1-'3 Irrigation Schedule'!$C$27),S326-U326))","v":""},"","","",{"$f":"IF(H327=\"\",\"\",IF('3 Irrigation Schedule'!$P$19<O327,'3 Irrigation Schedule'!$P$19,O327))","v":""},"",{"$f":"IF(H327=\"\",\"\",U327/'3 Irrigation Schedule'!$M$19)","v":""}]
[null,null,null,"2020","December","2020-12-20",null,"","",5.1408000000000005,"",0,"",{"$f":"IF(OR('3 Irrigation Schedule'!$C$29=\"\",'3 Irrigation Schedule'!$C$31=\"\",H328=\"\"),\"\",(('3 Irrigation Schedule'!$C$29-'3 Irrigation Schedule'!$C$31)/100)*1000*M328)","v":""},"",{"$f":"IF(H328=\"\",\"\",IF(H328=1,N328*(1-'3 Irrigation Schedule'!$C$27),S327-U327))","v":""},"","","",{"$f":"IF(H328=\"\",\"\",IF('3 Irrigation Schedule'!$P$19<O328,'3 Irrigation Schedule'!$P$19,O328))","v":""},"",{"$f":"IF(H328=\"\",\"\",U328/'3 Irrigation Schedule'!$M$19)","v":""}]
[null,null,null,"2020","December","2020-12-21",null,"","",5.1408000000000005,"",0,"",{"$f":"IF(OR('3 Irrigation Schedule'!$C$29=\"\",'3 Irrigation Schedule'!$C$31=\"\",H329=\"\"),\"\",(('3 Irrigation Schedule'!$C$29-'3 Irrigation Schedule'!$C$31)/100)*1000*M329)","v":""},"",{"$f":"IF(H329=\"\",\"\",IF(H329=1,N329*(1-'3 Irrigation Schedule'!$C$27),S328-U328))","v":""},"","","",{"$f":"IF(H329=\"\",\"\",IF('3 Irrigation Schedule'!$P$19<O329,'3 Irrigation Schedule'!$P$19,O329))","v":""},"",{"$f":"IF(H329=\"\",\"\",U329/'3 Irrigation Schedule'!$M$19)","v":""}]
[null,null,null,"2020","December","2020-12-22",null,"","",5.1408000000000005,"",0,"",{"$f":"IF(OR('3 Irrigation Schedule'!$C$29=\"\",'3 Irrigation Schedule'!$C$31=\"\",H330=\"\"),\"\",(('3 Irrigation Schedule'!$C$29-'3 Irrigation Schedule'!$C$31)/100)*1000*M330)","v":""},"",{"$f":"IF(H330=\"\",\"\",IF(H330=1,N330*(1-'3 Irrigation Schedule'!$C$27),S329-U329))","v":""},"","","",{"$f":"IF(H330=\"\",\"\",IF('3 Irrigation Schedule'!$P$19<O330,'3 Irrigation Schedule'!$P$19,O330))","v":""},"",{"$f":"IF(H330=\"\",\"\",U330/'3 Irrigation Schedule'!$M$19)","v":""}]
[null,null,null,"2020","December","2020-12-23",null,"","",5.1408000000000005,"",0,"",{"$f":"IF(OR('3 Irrigation Schedule'!$C$29=\"\",'3 Irrigation Schedule'!$C$31=\"\",H331=\"\"),\"\",(('3 Irrigation Schedule'!$C$29-'3 Irrigation Schedule'!$C$31)/100)*1000*M331)","v":""},"",{"$f":"IF(H331=\"\",\"\",IF(H331=1,N331*(1-'3 Irrigation Schedule'!$C$27),S330-U330))","v":""},"","","",{"$f":"IF(H331=\"\",\"\",IF('3 Irrigation Schedule'!$P$19<O331,'3 Irrigation Schedule'!$P$19,O331))","v":""},"",{"$f":"IF(H331=\"\",\"\",U331/'3 Irrigation Schedule'!$M$19)","v":""}]
[null,null,null,"2020","December","2020-12-24",null,"","",5.1408000000000005,"",0,"",{"$f":"IF(OR('3 Irrigation Schedule'!$C$29=\"\",'3 Irrigation Schedule'!$C$31=\"\",H332=\"\"),\"\",(('3 Irrigation Schedule'!$C$29-'3 Irrigation Schedule'!$C$31)/100)*1000*M332)","v":""},"",{"$f":"IF(H332=\"\",\"\",IF(H332=1,N332*(1-'3 Irrigation Schedule'!$C$27),S331-U331))","v":""},"","","",{"$f":"IF(H332=\"\",\"\",IF('3 Irrigation Schedule'!$P$19<O332,'3 Irrigation Schedule'!$P$19,O332))","v":""},"",{"$f":"IF(H332=\"\",\"\",U332/'3 Irrigation Schedule'!$M$19)","v":""}]
[null,null,null,"2020","December","2020-12-25",null,"","",5.1408000000000005,"",0,"",{"$f":"IF(OR('3 Irrigation Schedule'!$C$29=\"\",'3 Irrigation Schedule'!$C$31=\"\",H333=\"\"),\"\",(('3 Irrigation Schedule'!$C$29-'3 Irrigation Schedule'!$C$31)/100)*1000*M333)","v":""},"",{"$f":"IF(H333=\"\",\"\",IF(H333=1,N333*(1-'3 Irrigation Schedule'!$C$27),S332-U332))","v":""},"","","",{"$f":"IF(H333=\"\",\"\",IF('3 Irrigation Schedule'!$P$19<O333,'3 Irrigation Schedule'!$P$19,O333))","v":""},"",{"$f":"IF(H333=\"\",\"\",U333/'3 Irrigation Schedule'!$M$19)","v":""}]
[null,null,null,"2020","December","2020-12-26",null,"","",5.1408000000000005,"",0,"",{"$f":"IF(OR('3 Irrigation Schedule'!$C$29=\"\",'3 Irrigation Schedule'!$C$31=\"\",H334=\"\"),\"\",(('3 Irrigation Schedule'!$C$29-'3 Irrigation Schedule'!$C$31)/100)*1000*M334)","v":""},"",{"$f":"IF(H334=\"\",\"\",IF(H334=1,N334*(1-'3 Irrigation Schedule'!$C$27),S333-U333))","v":""},"","","",{"$f":"IF(H334=\"\",\"\",IF('3 Irrigation Schedule'!$P$19<O334,'3 Irrigation Schedule'!$P$19,O334))","v":""},"",{"$f":"IF(H334=\"\",\"\",U334/'3 Irrigation Schedule'!$M$19)","v":""}]
[null,null,null,"2020","December","2020-12-27",null,"","",5.1408000000000005,"",0,"",{"$f":"IF(OR('3 Irrigation Schedule'!$C$29=\"\",'3 Irrigation Schedule'!$C$31=\"\",H335=\"\"),\"\",(('3 Irrigation Schedule'!$C$29-'3 Irrigation Schedule'!$C$31)/100)*1000*M335)","v":""},"",{"$f":"IF(H335=\"\",\"\",IF(H335=1,N335*(1-'3 Irrigation Schedule'!$C$27),S334-U334))","v":""},"","","",{"$f":"IF(H335=\"\",\"\",IF('3 Irrigation Schedule'!$P$19<O335,'3 Irrigation Schedule'!$P$19,O335))","v":""},"",{"$f":"IF(H335=\"\",\"\",U335/'3 Irrigation Schedule'!$M$19)","v":""}]
[null,null,null,"2020","December","2020-12-28",null,"","",5.1408000000000005,"",0,"",{"$f":"IF(OR('3 Irrigation Schedule'!$C$29=\"\",'3 Irrigation Schedule'!$C$31=\"\",H336=\"\"),\"\",(('3 Irrigation Schedule'!$C$29-'3 Irrigation Schedule'!$C$31)/100)*1000*M336)","v":""},"",{"$f":"IF(H336=\"\",\"\",IF(H336=1,N336*(1-'3 Irrigation Schedule'!$C$27),S335-U335))","v":""},"","","",{"$f":"IF(H336=\"\",\"\",IF('3 Irrigation Schedule'!$P$19<O336,'3 Irrigation Schedule'!$P$19,O336))","v":""},"",{"$f":"IF(H336=\"\",\"\",U336/'3 Irrigation Schedule'!$M$19)","v":""}]
[null,null,null,"2020","December","2020-12-29",null,"","",5.1408000000000005,"",0,"",{"$f":"IF(OR('3 Irrigation Schedule'!$C$29=\"\",'3 Irrigation Schedule'!$C$31=\"\",H337=\"\"),\"\",(('3 Irrigation Schedule'!$C$29-'3 Irrigation Schedule'!$C$31)/100)*1000*M337)","v":""},"",{"$f":"IF(H337=\"\",\"\",IF(H337=1,N337*(1-'3 Irrigation Schedule'!$C$27),S336-U336))","v":""},"","","",{"$f":"IF(H337=\"\",\"\",IF('3 Irrigation Schedule'!$P$19<O337,'3 Irrigation Schedule'!$P$19,O337))","v":""},"",{"$f":"IF(H337=\"\",\"\",U337/'3 Irrigation Schedule'!$M$19)","v":""}]
[null,null,null,"2020","December","2020-12-30",null,"","",5.1408000000000005,"",0,"",{"$f":"IF(OR('3 Irrigation Schedule'!$C$29=\"\",'3 Irrigation Schedule'!$C$31=\"\",H338=\"\"),\"\",(('3 Irrigation Schedule'!$C$29-'3 Irrigation Schedule'!$C$31)/100)*1000*M338)","v":""},"",{"$f":"IF(H338=\"\",\"\",IF(H338=1,N338*(1-'3 Irrigation Schedule'!$C$27),S337-U337))","v":""},"","","",{"$f":"IF(H338=\"\",\"\",IF('3 Irrigation Schedule'!$P$19<O338,'3 Irrigation Schedule'!$P$19,O338))","v":""},"",{"$f":"IF(H338=\"\",\"\",U338/'3 Irrigation Schedule'!$M$19)","v":""}]
[null,null,null,"2020","December","2020-12-31",null,"","",5.1408000000000005,"",0,"",{"$f":"IF(OR('3 Irrigation Schedule'!$C$29=\"\",'3 Irrigation Schedule'!$C$31=\"\",H339=\"\"),\"\",(('3 Irrigation Schedule'!$C$29-'3 Irrigation Schedule'!$C$31)/100)*1000*M339)","v":""},"",{"$f":"IF(H339=\"\",\"\",IF(H339=1,N339*(1-'3 Irrigation Schedule'!$C$27),S338-U338))","v":""},"","","",{"$f":"IF(H339=\"\",\"\",IF('3 Irrigation Schedule'!$P$19<O339,'3 Irrigation Schedule'!$P$19,O339))","v":""},"",{"$f":"IF(H339=\"\",\"\",U339/'3 Irrigation Schedule'!$M$19)","v":""}]
[null,null,null,"2021","January","2021-01-01",null,"","",5.3271000000000006,"",0,"",{"$f":"IF(OR('3 Irrigation Schedule'!$C$29=\"\",'3 Irrigation Schedule'!$C$31=\"\",H340=\"\"),\"\",(('3 Irrigation Schedule'!$C$29-'3 Irrigation Schedule'!$C$31)/100)*1000*M340)","v":""},"",{"$f":"IF(H340=\"\",\"\",IF(H340=1,N340*(1-'3 Irrigation Schedule'!$C$27),S339-U339))","v":""},"","","",{"$f":"IF(H340=\"\",\"\",IF('3 Irrigation Schedule'!$P$19<O340,'3 Irrigation Schedule'!$P$19,O340))","v":""},"",{"$f":"IF(H340=\"\",\"\",U340/'3 Irrigation Schedule'!$M$19)","v":""}]
[null,null,null,"2021","January","2021-01-02",null,"","",5.3271000000000006,"",0,"",{"$f":"IF(OR('3 Irrigation Schedule'!$C$29=\"\",'3 Irrigation Schedule'!$C$31=\"\",H341=\"\"),\"\",(('3 Irrigation Schedule'!$C$29-'3 Irrigation Schedule'!$C$31)/100)*1000*M341)","v":""},"",{"$f":"IF(H341=\"\",\"\",IF(H341=1,N341*(1-'3 Irrigation Schedule'!$C$27),S340-U340))","v":""},"","","",{"$f":"IF(H341=\"\",\"\",IF('3 Irrigation Schedule'!$P$19<O341,'3 Irrigation Schedule'!$P$19,O341))","v":""},"",{"$f":"IF(H341=\"\",\"\",U341/'3 Irrigation Schedule'!$M$19)","v":""}]
[null,null,null,"2021","January","2021-01-03",null,"","",5.3271000000000006,"",0,"",{"$f":"IF(OR('3 Irrigation Schedule'!$C$29=\"\",'3 Irrigation Schedule'!$C$31=\"\",H342=\"\"),\"\",(('3 Irrigation Schedule'!$C$29-'3 Irrigation Schedule'!$C$31)/100)*1000*M342)","v":""},"",{"$f":"IF(H342=\"\",\"\",IF(H342=1,N342*(1-'3 Irrigation Schedule'!$C$27),S341-U341))","v":""},"","","",{"$f":"IF(H342=\"\",\"\",IF('3 Irrigation Schedule'!$P$19<O342,'3 Irrigation Schedule'!$P$19,O342))","v":""},"",{"$f":"IF(H342=\"\",\"\",U342/'3 Irrigation Schedule'!$M$19)","v":""}]
[null,null,null,"2021","January","2021-01-04",null,"","",5.3271000000000006,"",0,"",{"$f":"IF(OR('3 Irrigation Schedule'!$C$29=\"\",'3 Irrigation Schedule'!$C$31=\"\",H343=\"\"),\"\",(('3 Irrigation Schedule'!$C$29-'3 Irrigation Schedule'!$C$31)/100)*1000*M343)","v":""},"",{"$f":"IF(H343=\"\",\"\",IF(H343=1,N343*(1-'3 Irrigation Schedule'!$C$27),S342-U342))","v":""},"","","",{"$f":"IF(H343=\"\",\"\",IF('3 Irrigation Schedule'!$P$19<O343,'3 Irrigation Schedule'!$P$19,O343))","v":""},"",{"$f":"IF(H343=\"\",\"\",U343/'3 Irrigation Schedule'!$M$19)","v":""}]
[null,null,null,"2021","January","2021-01-05",null,"","",5.3271000000000006,"",0,"",{"$f":"IF(OR('3 Irrigation Schedule'!$C$29=\"\",'3 Irrigation Schedule'!$C$31=\"\",H344=\"\"),\"\",(('3 Irrigation Schedule'!$C$29-'3 Irrigation Schedule'!$C$31)/100)*1000*M344)","v":""},"",{"$f":"IF(H344=\"\",\"\",IF(H344=1,N344*(1-'3 Irrigation Schedule'!$C$27),S343-U343))","v":""},"","","",{"$f":"IF(H344=\"\",\"\",IF('3 Irrigation Schedule'!$P$19<O344,'3 Irrigation Schedule'!$P$19,O344))","v":""},"",{"$f":"IF(H344=\"\",\"\",U344/'3 Irrigation Schedule'!$M$19)","v":""}]
[null,null,null,"2021","January","2021-01-06",null,"","",5.3271000000000006,"",0,"",{"$f":"IF(OR('3 Irrigation Schedule'!$C$29=\"\",'3 Irrigation Schedule'!$C$31=\"\",H345=\"\"),\"\",(('3 Irrigation Schedule'!$C$29-'3 Irrigation Schedule'!$C$31)/100)*1000*M345)","v":""},"",{"$f":"IF(H345=\"\",\"\",IF(H345=1,N345*(1-'3 Irrigation Schedule'!$C$27),S344-U344))","v":""},"","","",{"$f":"IF(H345=\"\",\"\",IF('3 Irrigation Schedule'!$P$19<O345,'3 Irrigation Schedule'!$P$19,O345))","v":""},"",{"$f":"IF(H345=\"\",\"\",U345/'3 Irrigation Schedule'!$M$19)","v":""}]
[null,null,null,"2021","January","2021-01-07",null,"","",5.3271000000000006,"",0,"",{"$f":"IF(OR('3 Irrigation Schedule'!$C$29=\"\",'3 Irrigation Schedule'!$C$31=\"\",H346=\"\"),\"\",(('3 Irrigation Schedule'!$C$29-'3 Irrigation Schedule'!$C$31)/100)*1000*M346)","v":""},"",{"$f":"IF(H346=\"\",\"\",IF(H346=1,N346*(1-'3 Irrigation Schedule'!$C$27),S345-U345))","v":""},"","","",{"$f":"IF(H346=\"\",\"\",IF('3 Irrigation Schedule'!$P$19<O346,'3 Irrigation Schedule'!$P$19,O346))","v":""},"",{"$f":"IF(H346=\"\",\"\",U346/'3 Irrigation Schedule'!$M$19)","v":""}]
[null,null,null,"2021","January","2021-01-08",null,"","",5.3271000000000006,"",0,"",{"$f":"IF(OR('3 Irrigation Schedule'!$C$29=\"\",'3 Irrigation Schedule'!$C$31=\"\",H347=\"\"),\"\",(('3 Irrigation Schedule'!$C$29-'3 Irrigation Schedule'!$C$31)/100)*1000*M347)","v":""},"",{"$f":"IF(H347=\"\",\"\",IF(H347=1,N347*(1-'3 Irrigation Schedule'!$C$27),S346-U346))","v":""},"","","",{"$f":"IF(H347=\"\",\"\",IF('3 Irrigation Schedule'!$P$19<O347,'3 Irrigation Schedule'!$P$19,O347))","v":""},"",{"$f":"IF(H347=\"\",\"\",U347/'3 Irrigation Schedule'!$M$19)","v":""}]
[null,null,null,"2021","January","2021-01-09",null,"","",5.3271000000000006,"",0,"",{"$f":"IF(OR('3 Irrigation Schedule'!$C$29=\"\",'3 Irrigation Schedule'!$C$31=\"\",H348=\"\"),\"\",(('3 Irrigation Schedule'!$C$29-'3 Irrigation Schedule'!$C$31)/100)*1000*M348)","v":""},"",{"$f":"IF(H348=\"\",\"\",IF(H348=1,N348*(1-'3 Irrigation Schedule'!$C$27),S347-U347))","v":""},"","","",{"$f":"IF(H348=\"\",\"\",IF('3 Irrigation Schedule'!$P$19<O348,'3 Irrigation Schedule'!$P$19,O348))","v":""},"",{"$f":"IF(H348=\"\",\"\",U348/'3 Irrigation Schedule'!$M$19)","v":""}]
[null,null,null,"2021","January","2021-01-10",null,"","",5.3271000000000006,"",0,"",{"$f":"IF(OR('3 Irrigation Schedule'!$C$29=\"\",'3 Irrigation Schedule'!$C$31=\"\",H349=\"\"),\"\",(('3 Irrigation Schedule'!$C$29-'3 Irrigation Schedule'!$C$31)/100)*1000*M349)","v":""},"",{"$f":"IF(H349=\"\",\"\",IF(H349=1,N349*(1-'3 Irrigation Schedule'!$C$27),S348-U348))","v":""},"","","",{"$f":"IF(H349=\"\",\"\",IF('3 Irrigation Schedule'!$P$19<O349,'3 Irrigation Schedule'!$P$19,O349))","v":""},"",{"$f":"IF(H349=\"\",\"\",U349/'3 Irrigation Schedule'!$M$19)","v":""}]
[null,null,null,"2021","January","2021-01-11",null,"","",5.3271000000000006,"",0,"",{"$f":"IF(OR('3 Irrigation Schedule'!$C$29=\"\",'3 Irrigation Schedule'!$C$31=\"\",H350=\"\"),\"\",(('3 Irrigation Schedule'!$C$29-'3 Irrigation Schedule'!$C$31)/100)*1000*M350)","v":""},"",{"$f":"IF(H350=\"\",\"\",IF(H350=1,N350*(1-'3 Irrigation Schedule'!$C$27),S349-U349))","v":""},"","","",{"$f":"IF(H350=\"\",\"\",IF('3 Irrigation Schedule'!$P$19<O350,'3 Irrigation Schedule'!$P$19,O350))","v":""},"",{"$f":"IF(H350=\"\",\"\",U350/'3 Irrigation Schedule'!$M$19)","v":""}]
[null,null,null,"2021","January","2021-01-12",null,"","",5.3271000000000006,"",0,"",{"$f":"IF(OR('3 Irrigation Schedule'!$C$29=\"\",'3 Irrigation Schedule'!$C$31=\"\",H351=\"\"),\"\",(('3 Irrigation Schedule'!$C$29-'3 Irrigation Schedule'!$C$31)/100)*1000*M351)","v":""},"",{"$f":"IF(H351=\"\",\"\",IF(H351=1,N351*(1-'3 Irrigation Schedule'!$C$27),S350-U350))","v":""},"","","",{"$f":"IF(H351=\"\",\"\",IF('3 Irrigation Schedule'!$P$19<O351,'3 Irrigation Schedule'!$P$19,O351))","v":""},"",{"$f":"IF(H351=\"\",\"\",U351/'3 Irrigation Schedule'!$M$19)","v":""}]
[null,null,null,"2021","January","2021-01-13",null,"","",5.3271000000000006,"",0,"",{"$f":"IF(OR('3 Irrigation Schedule'!$C$29=\"\",'3 Irrigation Schedule'!$C$31=\"\",H352=\"\"),\"\",(('3 Irrigation Schedule'!$C$29-'3 Irrigation Schedule'!$C$31)/100)*1000*M352)","v":""},"",{"$f":"IF(H352=\"\",\"\",IF(H352=1,N352*(1-'3 Irrigation Schedule'!$C$27),S351-U351))","v":""},"","","",{"$f":"IF(H352=\"\",\"\",IF('3 Irrigation Schedule'!$P$19<O352,'3 Irrigation Schedule'!$P$19,O352))","v":""},"",{"$f":"IF(H352=\"\",\"\",U352/'3 Irrigation Schedule'!$M$19)","v":""}]
[null,null,null,"2021","January","2021-01-14",null,"","",5.3271000000000006,"",0,"",{"$f":"IF(OR('3 Irrigation Schedule'!$C$29=\"\",'3 Irrigation Schedule'!$C$31=\"\",H353=\"\"),\"\",(('3 Irrigation Schedule'!$C$29-'3 Irrigation Schedule'!$C$31)/100)*1000*M353)","v":""},"",{"$f":"IF(H353=\"\",\"\",IF(H353=1,N353*(1-'3 Irrigation Schedule'!$C$27),S352-U352))","v":""},"","","",{"$f":"IF(H353=\"\",\"\",IF('3 Irrigation Schedule'!$P$19<O353,'3 Irrigation Schedule'!$P$19,O353))","v":""},"",{"$f":"IF(H353=\"\",\"\",U353/'3 Irrigation Schedule'!$M$19)","v":""}]
[null,null,null,{"$f":"IFERROR(TEXT(DATE(YEAR($F354),MONTH($F354),1),$D$7&$D$4),\"\")","v":"2021"},{"$f":"IFERROR(TEXT(DATE(YEAR($F354),MONTH($F354),1),$D$7&$D$5),\"\")","v":"January"},"2021-01-15",null,"",{"$f":"IF(H354=\"\",\"\",IF(H354<=$I$27,\"Initial\",IF(AND(H354>$I$27,H354<=$I$28),\"Development\",IF(AND(H354>$I$28,H354<=$I$29),\"Mid Season\",\"Late Season\"))))","v":""},{"$f":"IFERROR(VLOOKUP($E354,$B$19:$C$30,2,FALSE),\"\")","v":5.3271000000000006},{"$f":"IF(H354=\"\",\"\",IF(H354<=$I$27,$L$27,IF(AND(H354>$I$27,H354<=$I$28),$L$27+((H354-$I$27)/$H$28)*($L$29-$L$27),IF(AND(H354>$I$28,H354<=$I$29),$L$29,$L$29+((H354-$I$29)/$H$30)*($L$30-$L$29)))))","v":""},0,"",{"$f":"IF(OR('3 Irrigation Schedule'!$C$29=\"\",'3 Irrigation Schedule'!$C$31=\"\",H354=\"\"),\"\",(('3 Irrigation Schedule'!$C$29-'3 Irrigation Schedule'!$C$31)/100)*1000*M354)","v":""},"",{"$f":"IF(H354=\"\",\"\",IF(H354=1,N354*(1-'3 Irrigation Schedule'!$C$27),S353-U353))","v":""},"","","",{"$f":"IF(H354=\"\",\"\",IF('3 Irrigation Schedule'!$P$19<O354,'3 Irrigation Schedule'!$P$19,O354))","v":""},"",{"$f":"IF(H354=\"\",\"\",U354/'3 Irrigation Schedule'!$M$19)","v":""}]
[null,null,null,"2021","January",{"$f":"IFERROR(IF(F354+1<=$N$7, F354+1,\"\"),\"\")","v":"2021-01-16"},null,{"$f":"IFERROR(IF(OR($F355-$J$27+1<=0,$F355>$K$30),\"\",$F355-$J$27+1),\"\")","v":""},"",5.3271000000000006,"",{"$f":"IFERROR((J355*K355),0)","v":0},{"$f":"IF(H355=\"\",\"\",IF(OR(H355=1,H355<$I$28),$M$27+(($M$28-$M$27)*((H355-1)/($I$28-1))),$M$28))","v":""},{"$f":"IF(OR('3 Irrigation Schedule'!$C$29=\"\",'3 Irrigation Schedule'!$C$31=\"\",H355=\"\"),\"\",(('3 Irrigation Schedule'!$C$29-'3 Irrigation Schedule'!$C$31)/100)*1000*M355)","v":""},{"$f":"IF(H355=\"\",\"\",N355*$N$27)","v":""},{"$f":"IF(H355=\"\",\"\",IF(H355=1,N355*(1-'3 Irrigation Schedule'!$C$27),S354-U354))","v":""},"","","",{"$f":"IF(H355=\"\",\"\",IF('3 Irrigation Schedule'!$P$19<O355,'3 Irrigation Schedule'!$P$19,O355))","v":""},{"$f":"IF(H355=\"\",\"\",IF(T355<=S355,T355,0))","v":""},{"$f":"IF(H355=\"\",\"\",U355/'3 Irrigation Schedule'!$M$19)","v":""}]
[null,null,null,"2021","January","2021-01-17",null,"","",5.3271000000000006,"",0,"",{"$f":"IF(OR('3 Irrigation Schedule'!$C$29=\"\",'3 Irrigation Schedule'!$C$31=\"\",H356=\"\"),\"\",(('3 Irrigation Schedule'!$C$29-'3 Irrigation Schedule'!$C$31)/100)*1000*M356)","v":""},"",{"$f":"IF(H356=\"\",\"\",IF(H356=1,N356*(1-'3 Irrigation Schedule'!$C$27),S355-U355))","v":""},"","","",{"$f":"IF(H356=\"\",\"\",IF('3 Irrigation Schedule'!$P$19<O356,'3 Irrigation Schedule'!$P$19,O356))","v":""},"",{"$f":"IF(H356=\"\",\"\",U356/'3 Irrigation Schedule'!$M$19)","v":""}]
[null,null,null,"2021","January","2021-01-18",null,"","",5.3271000000000006,"",0,"",{"$f":"IF(OR('3 Irrigation Schedule'!$C$29=\"\",'3 Irrigation Schedule'!$C$31=\"\",H357=\"\"),\"\",(('3 Irrigation Schedule'!$C$29-'3 Irrigation Schedule'!$C$31)/100)*1000*M357)","v":""},"",{"$f":"IF(H357=\"\",\"\",IF(H357=1,N357*(1-'3 Irrigation Schedule'!$C$27),S356-U356))","v":""},"","","",{"$f":"IF(H357=\"\",\"\",IF('3 Irrigation Schedule'!$P$19<O357,'3 Irrigation Schedule'!$P$19,O357))","v":""},"",{"$f":"IF(H357=\"\",\"\",U357/'3 Irrigation Schedule'!$M$19)","v":""}]
[null,null,null,"2021","January","2021-01-19",null,"","",5.3271000000000006,"",0,"",{"$f":"IF(OR('3 Irrigation Schedule'!$C$29=\"\",'3 Irrigation Schedule'!$C$31=\"\",H358=\"\"),\"\",(('3 Irrigation Schedule'!$C$29-'3 Irrigation Schedule'!$C$31)/100)*1000*M358)","v":""},"",{"$f":"IF(H358=\"\",\"\",IF(H358=1,N358*(1-'3 Irrigation Schedule'!$C$27),S357-U357))","v":""},"","","",{"$f":"IF(H358=\"\",\"\",IF('3 Irrigation Schedule'!$P$19<O358,'3 Irrigation Schedule'!$P$19,O358))","v":""},"",{"$f":"IF(H358=\"\",\"\",U358/'3 Irrigation Schedule'!$M$19)","v":""}]
[null,null,null,"2021","January","2021-01-20",null,"","",5.3271000000000006,"",0,"",{"$f":"IF(OR('3 Irrigation Schedule'!$C$29=\"\",'3 Irrigation Schedule'!$C$31=\"\",H359=\"\"),\"\",(('3 Irrigation Schedule'!$C$29-'3 Irrigation Schedule'!$C$31)/100)*1000*M359)","v":""},"",{"$f":"IF(H359=\"\",\"\",IF(H359=1,N359*(1-'3 Irrigation Schedule'!$C$27),S358-U358))","v":""},"","","",{"$f":"IF(H359=\"\",\"\",IF('3 Irrigation Schedule'!$P$19<O359,'3 Irrigation Schedule'!$P$19,O359))","v":""},"",{"$f":"IF(H359=\"\",\"\",U359/'3 Irrigation Schedule'!$M$19)","v":""}]
[null,null,null,"2021","January","2021-01-21",null,"","",5.3271000000000006,"",0,"",{"$f":"IF(OR('3 Irrigation Schedule'!$C$29=\"\",'3 Irrigation Schedule'!$C$31=\"\",H360=\"\"),\"\",(('3 Irrigation Schedule'!$C$29-'3 Irrigation Schedule'!$C$31)/100)*1000*M360)","v":""},"",{"$f":"IF(H360=\"\",\"\",IF(H360=1,N360*(1-'3 Irrigation Schedule'!$C$27),S359-U359))","v":""},"","","",{"$f":"IF(H360=\"\",\"\",IF('3 Irrigation Schedule'!$P$19<O360,'3 Irrigation Schedule'!$P$19,O360))","v":""},"",{"$f":"IF(H360=\"\",\"\",U360/'3 Irrigation Schedule'!$M$19)","v":""}]
[null,null,null,"2021","January","2021-01-22",null,"","",5.3271000000000006,"",0,"",{"$f":"IF(OR('3 Irrigation Schedule'!$C$29=\"\",'3 Irrigation Schedule'!$C$31=\"\",H361=\"\"),\"\",(('3 Irrigation Schedule'!$C$29-'3 Irrigation Schedule'!$C$31)/100)*1000*M361)","v":""},"",{"$f":"IF(H361=\"\",\"\",IF(H361=1,N361*(1-'3 Irrigation Schedule'!$C$27),S360-U360))","v":""},"","","",{"$f":"IF(H361=\"\",\"\",IF('3 Irrigation Schedule'!$P$19<O361,'3 Irrigation Schedule'!$P$19,O361))","v":""},"",{"$f":"IF(H361=\"\",\"\",U361/'3 Irrigation Schedule'!$M$19)","v":""}]
[null,null,null,"2021","January","2021-01-23",null,"","",5.3271000000000006,"",0,"",{"$f":"IF(OR('3 Irrigation Schedule'!$C$29=\"\",'3 Irrigation Schedule'!$C$31=\"\",H362=\"\"),\"\",(('3 Irrigation Schedule'!$C$29-'3 Irrigation Schedule'!$C$31)/100)*1000*M362)","v":""},"",{"$f":"IF(H362=\"\",\"\",IF(H362=1,N362*(1-'3 Irrigation Schedule'!$C$27),S361-U361))","v":""},"","","",{"$f":"IF(H362=\"\",\"\",IF('3 Irrigation Schedule'!$P$19<O362,'3 Irrigation Schedule'!$P$19,O362))","v":""},"",{"$f":"IF(H362=\"\",\"\",U362/'3 Irrigation Schedule'!$M$19)","v":""}]
[null,null,null,"2021","January","2021-01-24",null,"","",5.3271000000000006,"",0,"",{"$f":"IF(OR('3 Irrigation Schedule'!$C$29=\"\",'3 Irrigation Schedule'!$C$31=\"\",H363=\"\"),\"\",(('3 Irrigation Schedule'!$C$29-'3 Irrigation Schedule'!$C$31)/100)*1000*M363)","v":""},"",{"$f":"IF(H363=\"\",\"\",IF(H363=1,N363*(1-'3 Irrigation Schedule'!$C$27),S362-U362))","v":""},"","","",{"$f":"IF(H363=\"\",\"\",IF('3 Irrigation Schedule'!$P$19<O363,'3 Irrigation Schedule'!$P$19,O363))","v":""},"",{"$f":"IF(H363=\"\",\"\",U363/'3 Irrigation Schedule'!$M$19)","v":""}]
[null,null,null,"2021","January","2021-01-25",null,"","",5.3271000000000006,"",0,"",{"$f":"IF(OR('3 Irrigation Schedule'!$C$29=\"\",'3 Irrigation Schedule'!$C$31=\"\",H364=\"\"),\"\",(('3 Irrigation Schedule'!$C$29-'3 Irrigation Schedule'!$C$31)/100)*1000*M364)","v":""},"",{"$f":"IF(H364=\"\",\"\",IF(H364=1,N364*(1-'3 Irrigation Schedule'!$C$27),S363-U363))","v":""},"","","",{"$f":"IF(H364=\"\",\"\",IF('3 Irrigation Schedule'!$P$19<O364,'3 Irrigation Schedule'!$P$19,O364))","v":""},"",{"$f":"IF(H364=\"\",\"\",U364/'3 Irrigation Schedule'!$M$19)","v":""}]
[null,null,null,"2021","January","2021-01-26",null,"","",5.3271000000000006,"",0,"",{"$f":"IF(OR('3 Irrigation Schedule'!$C$29=\"\",'3 Irrigation Schedule'!$C$31=\"\",H365=\"\"),\"\",(('3 Irrigation Schedule'!$C$29-'3 Irrigation Schedule'!$C$31)/100)*1000*M365)","v":""},"",{"$f":"IF(H365=\"\",\"\",IF(H365=1,N365*(1-'3 Irrigation Schedule'!$C$27),S364-U364))","v":""},"","","",{"$f":"IF(H365=\"\",\"\",IF('3 Irrigation Schedule'!$P$19<O365,'3 Irrigation Schedule'!$P$19,O365))","v":""},"",{"$f":"IF(H365=\"\",\"\",U365/'3 Irrigation Schedule'!$M$19)","v":""}]
[null,null,null,"2021","January","2021-01-27",null,"","",5.3271000000000006,"",0,"",{"$f":"IF(OR('3 Irrigation Schedule'!$C$29=\"\",'3 Irrigation Schedule'!$C$31=\"\",H366=\"\"),\"\",(('3 Irrigation Schedule'!$C$29-'3 Irrigation Schedule'!$C$31)/100)*1000*M366)","v":""},"",{"$f":"IF(H366=\"\",\"\",IF(H366=1,N366*(1-'3 Irrigation Schedule'!$C$27),S365-U365))","v":""},"","","",{"$f":"IF(H366=\"\",\"\",IF('3 Irrigation Schedule'!$P$19<O366,'3 Irrigation Schedule'!$P$19,O366))","v":""},"",{"$f":"IF(H366=\"\",\"\",U366/'3 Irrigation Schedule'!$M$19)","v":""}]
[null,null,null,"2021","January","2021-01-28",null,"","",5.3271000000000006,"",0,"",{"$f":"IF(OR('3 Irrigation Schedule'!$C$29=\"\",'3 Irrigation Schedule'!$C$31=\"\",H367=\"\"),\"\",(('3 Irrigation Schedule'!$C$29-'3 Irrigation Schedule'!$C$31)/100)*1000*M367)","v":""},"",{"$f":"IF(H367=\"\",\"\",IF(H367=1,N367*(1-'3 Irrigation Schedule'!$C$27),S366-U366))","v":""},"","","",{"$f":"IF(H367=\"\",\"\",IF('3 Irrigation Schedule'!$P$19<O367,'3 Irrigation Schedule'!$P$19,O367))","v":""},"",{"$f":"IF(H367=\"\",\"\",U367/'3 Irrigation Schedule'!$M$19)","v":""}]
[null,null,null,"2021","January","2021-01-29",null,"","",5.3271000000000006,"",0,"",{"$f":"IF(OR('3 Irrigation Schedule'!$C$29=\"\",'3 Irrigation Schedule'!$C$31=\"\",H368=\"\"),\"\",(('3 Irrigation Schedule'!$C$29-'3 Irrigation Schedule'!$C$31)/100)*1000*M368)","v":""},"",{"$f":"IF(H368=\"\",\"\",IF(H368=1,N368*(1-'3 Irrigation Schedule'!$C$27),S367-U367))","v":""},"","","",{"$f":"IF(H368=\"\",\"\",IF('3 Irrigation Schedule'!$P$19<O368,'3 Irrigation Schedule'!$P$19,O368))","v":""},"",{"$f":"IF(H368=\"\",\"\",U368/'3 Irrigation Schedule'!$M$19)","v":""}]
[null,null,null,"2021","January","2021-01-30",null,"","",5.3271000000000006,"",0,"",{"$f":"IF(OR('3 Irrigation Schedule'!$C$29=\"\",'3 Irrigation Schedule'!$C$31=\"\",H369=\"\"),\"\",(('3 Irrigation Schedule'!$C$29-'3 Irrigation Schedule'!$C$31)/100)*1000*M369)","v":""},"",{"$f":"IF(H369=\"\",\"\",IF(H369=1,N369*(1-'3 Irrigation Schedule'!$C$27),S368-U368))","v":""},{"$f":"IF(H369=\"\",\"\",IF(P369>O369,(N369-P369)/(N369-O369),1))","v":""},{"$f":"IF(H369=\"\",\"\",L369*Q369)","v":""},{"$f":"IF(H369=\"\",\"\",P369+R369)","v":""},{"$f":"IF(H369=\"\",\"\",IF('3 Irrigation Schedule'!$P$19<O369,'3 Irrigation Schedule'!$P$19,O369))","v":""},"",{"$f":"IF(H369=\"\",\"\",U369/'3 Irrigation Schedule'!$M$19)","v":""}]
[null,null,null,"2021","January","2021-01-31",null,"","",5.3271000000000006,"",0,"",{"$f":"IF(OR('3 Irrigation Schedule'!$C$29=\"\",'3 Irrigation Schedule'!$C$31=\"\",H370=\"\"),\"\",(('3 Irrigation Schedule'!$C$29-'3 Irrigation Schedule'!$C$31)/100)*1000*M370)","v":""},"",{"$f":"IF(H370=\"\",\"\",IF(H370=1,N370*(1-'3 Irrigation Schedule'!$C$27),S369-U369))","v":""},"","","",{"$f":"IF(H370=\"\",\"\",IF('3 Irrigation Schedule'!$P$19<O370,'3 Irrigation Schedule'!$P$19,O370))","v":""},"",{"$f":"IF(H370=\"\",\"\",U370/'3 Irrigation Schedule'!$M$19)","v":""}]
[null,null,null,"2021","February","2021-02-01",null,"","",5.2650000000000006,"",0,"",{"$f":"IF(OR('3 Irrigation Schedule'!$C$29=\"\",'3 Irrigation Schedule'!$C$31=\"\",H371=\"\"),\"\",(('3 Irrigation Schedule'!$C$29-'3 Irrigation Schedule'!$C$31)/100)*1000*M371)","v":""},"",{"$f":"IF(H371=\"\",\"\",IF(H371=1,N371*(1-'3 Irrigation Schedule'!$C$27),S370-U370))","v":""},"","","",{"$f":"IF(H371=\"\",\"\",IF('3 Irrigation Schedule'!$P$19<O371,'3 Irrigation Schedule'!$P$19,O371))","v":""},"",{"$f":"IF(H371=\"\",\"\",U371/'3 Irrigation Schedule'!$M$19)","v":""}]
[null,null,null,"2021","February","2021-02-02",null,"","",5.2650000000000006,"",0,"",{"$f":"IF(OR('3 Irrigation Schedule'!$C$29=\"\",'3 Irrigation Schedule'!$C$31=\"\",H372=\"\"),\"\",(('3 Irrigation Schedule'!$C$29-'3 Irrigation Schedule'!$C$31)/100)*1000*M372)","v":""},"",{"$f":"IF(H372=\"\",\"\",IF(H372=1,N372*(1-'3 Irrigation Schedule'!$C$27),S371-U371))","v":""},"","","",{"$f":"IF(H372=\"\",\"\",IF('3 Irrigation Schedule'!$P$19<O372,'3 Irrigation Schedule'!$P$19,O372))","v":""},"",{"$f":"IF(H372=\"\",\"\",U372/'3 Irrigation Schedule'!$M$19)","v":""}]
[null,null,null,"2021","February","2021-02-03",null,"","",5.2650000000000006,"",0,"",{"$f":"IF(OR('3 Irrigation Schedule'!$C$29=\"\",'3 Irrigation Schedule'!$C$31=\"\",H373=\"\"),\"\",(('3 Irrigation Schedule'!$C$29-'3 Irrigation Schedule'!$C$31)/100)*1000*M373)","v":""},"",{"$f":"IF(H373=\"\",\"\",IF(H373=1,N373*(1-'3 Irrigation Schedule'!$C$27),S372-U372))","v":""},"","","",{"$f":"IF(H373=\"\",\"\",IF('3 Irrigation Schedule'!$P$19<O373,'3 Irrigation Schedule'!$P$19,O373))","v":""},"",{"$f":"IF(H373=\"\",\"\",U373/'3 Irrigation Schedule'!$M$19)","v":""}]
[null,null,null,"2021","February","2021-02-04",null,"","",5.2650000000000006,"",0,"",{"$f":"IF(OR('3 Irrigation Schedule'!$C$29=\"\",'3 Irrigation Schedule'!$C$31=\"\",H374=\"\"),\"\",(('3 Irrigation Schedule'!$C$29-'3 Irrigation Schedule'!$C$31)/100)*1000*M374)","v":""},"",{"$f":"IF(H374=\"\",\"\",IF(H374=1,N374*(1-'3 Irrigation Schedule'!$C$27),S373-U373))","v":""},"","","",{"$f":"IF(H374=\"\",\"\",IF('3 Irrigation Schedule'!$P$19<O374,'3 Irrigation Schedule'!$P$19,O374))","v":""},"",{"$f":"IF(H374=\"\",\"\",U374/'3 Irrigation Schedule'!$M$19)","v":""}]
[null,null,null,"2021","February","2021-02-05",null,"","",5.2650000000000006,"",0,"",{"$f":"IF(OR('3 Irrigation Schedule'!$C$29=\"\",'3 Irrigation Schedule'!$C$31=\"\",H375=\"\"),\"\",(('3 Irrigation Schedule'!$C$29-'3 Irrigation Schedule'!$C$31)/100)*1000*M375)","v":""},"",{"$f":"IF(H375=\"\",\"\",IF(H375=1,N375*(1-'3 Irrigation Schedule'!$C$27),S374-U374))","v":""},"","","",{"$f":"IF(H375=\"\",\"\",IF('3 Irrigation Schedule'!$P$19<O375,'3 Irrigation Schedule'!$P$19,O375))","v":""},"",{"$f":"IF(H375=\"\",\"\",U375/'3 Irrigation Schedule'!$M$19)","v":""}]
[null,null,null,"2021","February","2021-02-06",null,"","",5.2650000000000006,"",0,"",{"$f":"IF(OR('3 Irrigation Schedule'!$C$29=\"\",'3 Irrigation Schedule'!$C$31=\"\",H376=\"\"),\"\",(('3 Irrigation Schedule'!$C$29-'3 Irrigation Schedule'!$C$31)/100)*1000*M376)","v":""},"",{"$f":"IF(H376=\"\",\"\",IF(H376=1,N376*(1-'3 Irrigation Schedule'!$C$27),S375-U375))","v":""},"","","",{"$f":"IF(H376=\"\",\"\",IF('3 Irrigation Schedule'!$P$19<O376,'3 Irrigation Schedule'!$P$19,O376))","v":""},"",{"$f":"IF(H376=\"\",\"\",U376/'3 Irrigation Schedule'!$M$19)","v":""}]
[null,null,null,"2021","February","2021-02-07",null,"","",5.2650000000000006,"",0,"",{"$f":"IF(OR('3 Irrigation Schedule'!$C$29=\"\",'3 Irrigation Schedule'!$C$31=\"\",H377=\"\"),\"\",(('3 Irrigation Schedule'!$C$29-'3 Irrigation Schedule'!$C$31)/100)*1000*M377)","v":""},"",{"$f":"IF(H377=\"\",\"\",IF(H377=1,N377*(1-'3 Irrigation Schedule'!$C$27),S376-U376))","v":""},"","","",{"$f":"IF(H377=\"\",\"\",IF('3 Irrigation Schedule'!$P$19<O377,'3 Irrigation Schedule'!$P$19,O377))","v":""},"",{"$f":"IF(H377=\"\",\"\",U377/'3 Irrigation Schedule'!$M$19)","v":""}]
[null,null,null,"2021","February","2021-02-08",null,"","",5.2650000000000006,"",0,"",{"$f":"IF(OR('3 Irrigation Schedule'!$C$29=\"\",'3 Irrigation Schedule'!$C$31=\"\",H378=\"\"),\"\",(('3 Irrigation Schedule'!$C$29-'3 Irrigation Schedule'!$C$31)/100)*1000*M378)","v":""},"",{"$f":"IF(H378=\"\",\"\",IF(H378=1,N378*(1-'3 Irrigation Schedule'!$C$27),S377-U377))","v":""},"","","",{"$f":"IF(H378=\"\",\"\",IF('3 Irrigation Schedule'!$P$19<O378,'3 Irrigation Schedule'!$P$19,O378))","v":""},"",{"$f":"IF(H378=\"\",\"\",U378/'3 Irrigation Schedule'!$M$19)","v":""}]
[null,null,null,"2021","February","2021-02-09",null,"","",5.2650000000000006,"",0,"",{"$f":"IF(OR('3 Irrigation Schedule'!$C$29=\"\",'3 Irrigation Schedule'!$C$31=\"\",H379=\"\"),\"\",(('3 Irrigation Schedule'!$C$29-'3 Irrigation Schedule'!$C$31)/100)*1000*M379)","v":""},"",{"$f":"IF(H379=\"\",\"\",IF(H379=1,N379*(1-'3 Irrigation Schedule'!$C$27),S378-U378))","v":""},"","","",{"$f":"IF(H379=\"\",\"\",IF('3 Irrigation Schedule'!$P$19<O379,'3 Irrigation Schedule'!$P$19,O379))","v":""},"",{"$f":"IF(H379=\"\",\"\",U379/'3 Irrigation Schedule'!$M$19)","v":""}]
[null,null,null,"2021","February","2021-02-10",null,"","",5.2650000000000006,"",0,"",{"$f":"IF(OR('3 Irrigation Schedule'!$C$29=\"\",'3 Irrigation Schedule'!$C$31=\"\",H380=\"\"),\"\",(('3 Irrigation Schedule'!$C$29-'3 Irrigation Schedule'!$C$31)/100)*1000*M380)","v":""},"",{"$f":"IF(H380=\"\",\"\",IF(H380=1,N380*(1-'3 Irrigation Schedule'!$C$27),S379-U379))","v":""},"","","",{"$f":"IF(H380=\"\",\"\",IF('3 Irrigation Schedule'!$P$19<O380,'3 Irrigation Schedule'!$P$19,O380))","v":""},"",{"$f":"IF(H380=\"\",\"\",U380/'3 Irrigation Schedule'!$M$19)","v":""}]
[null,null,null,"2021","February","2021-02-11",null,"","",5.2650000000000006,"",0,"",{"$f":"IF(OR('3 Irrigation Schedule'!$C$29=\"\",'3 Irrigation Schedule'!$C$31=\"\",H381=\"\"),\"\",(('3 Irrigation Schedule'!$C$29-'3 Irrigation Schedule'!$C$31)/100)*1000*M381)","v":""},"",{"$f":"IF(H381=\"\",\"\",IF(H381=1,N381*(1-'3 Irrigation Schedule'!$C$27),S380-U380))","v":""},"","","",{"$f":"IF(H381=\"\",\"\",IF('3 Irrigation Schedule'!$P$19<O381,'3 Irrigation Schedule'!$P$19,O381))","v":""},"",{"$f":"IF(H381=\"\",\"\",U381/'3 Irrigation Schedule'!$M$19)","v":""}]
[null,null,null,"2021","February","2021-02-12",null,"","",5.2650000000000006,"",0,"",{"$f":"IF(OR('3 Irrigation Schedule'!$C$29=\"\",'3 Irrigation Schedule'!$C$31=\"\",H382=\"\"),\"\",(('3 Irrigation Schedule'!$C$29-'3 Irrigation Schedule'!$C$31)/100)*1000*M382)","v":""},"",{"$f":"IF(H382=\"\",\"\",IF(H382=1,N382*(1-'3 Irrigation Schedule'!$C$27),S381-U381))","v":""},"","","",{"$f":"IF(H382=\"\",\"\",IF('3 Irrigation Schedule'!$P$19<O382,'3 Irrigation Schedule'!$P$19,O382))","v":""},"",{"$f":"IF(H382=\"\",\"\",U382/'3 Irrigation Schedule'!$M$19)","v":""}]
[null,null,null,"2021","February","2021-02-13",null,"","",5.2650000000000006,"",0,"",{"$f":"IF(OR('3 Irrigation Schedule'!$C$29=\"\",'3 Irrigation Schedule'!$C$31=\"\",H383=\"\"),\"\",(('3 Irrigation Schedule'!$C$29-'3 Irrigation Schedule'!$C$31)/100)*1000*M383)","v":""},"",{"$f":"IF(H383=\"\",\"\",IF(H383=1,N383*(1-'3 Irrigation Schedule'!$C$27),S382-U382))","v":""},"","","",{"$f":"IF(H383=\"\",\"\",IF('3 Irrigation Schedule'!$P$19<O383,'3 Irrigation Schedule'!$P$19,O383))","v":""},"",{"$f":"IF(H383=\"\",\"\",U383/'3 Irrigation Schedule'!$M$19)","v":""}]
[null,null,null,"2021","February","2021-02-14",null,"","",5.2650000000000006,"",0,"",{"$f":"IF(OR('3 Irrigation Schedule'!$C$29=\"\",'3 Irrigation Schedule'!$C$31=\"\",H384=\"\"),\"\",(('3 Irrigation Schedule'!$C$29-'3 Irrigation Schedule'!$C$31)/100)*1000*M384)","v":""},"",{"$f":"IF(H384=\"\",\"\",IF(H384=1,N384*(1-'3 Irrigation Schedule'!$C$27),S383-U383))","v":""},"","","",{"$f":"IF(H384=\"\",\"\",IF('3 Irrigation Schedule'!$P$19<O384,'3 Irrigation Schedule'!$P$19,O384))","v":""},"",{"$f":"IF(H384=\"\",\"\",U384/'3 Irrigation Schedule'!$M$19)","v":""}]
[null,null,null,"2021","February","2021-02-15",null,"","",5.2650000000000006,"",0,"",{"$f":"IF(OR('3 Irrigation Schedule'!$C$29=\"\",'3 Irrigation Schedule'!$C$31=\"\",H385=\"\"),\"\",(('3 Irrigation Schedule'!$C$29-'3 Irrigation Schedule'!$C$31)/100)*1000*M385)","v":""},"",{"$f":"IF(H385=\"\",\"\",IF(H385=1,N385*(1-'3 Irrigation Schedule'!$C$27),S384-U384))","v":""},"","","",{"$f":"IF(H385=\"\",\"\",IF('3 Irrigation Schedule'!$P$19<O385,'3 Irrigation Schedule'!$P$19,O385))","v":""},"",{"$f":"IF(H385=\"\",\"\",U385/'3 Irrigation Schedule'!$M$19)","v":""}]
[null,null,null,"2021","February","2021-02-16",null,"","",5.2650000000000006,"",0,"",{"$f":"IF(OR('3 Irrigation Schedule'!$C$29=\"\",'3 Irrigation Schedule'!$C$31=\"\",H386=\"\"),\"\",(('3 Irrigation Schedule'!$C$29-'3 Irrigation Schedule'!$C$31)/100)*1000*M386)","v":""},"",{"$f":"IF(H386=\"\",\"\",IF(H386=1,N386*(1-'3 Irrigation Schedule'!$C$27),S385-U385))","v":""},"","","",{"$f":"IF(H386=\"\",\"\",IF('3 Irrigation Schedule'!$P$19<O386,'3 Irrigation Schedule'!$P$19,O386))","v":""},"",{"$f":"IF(H386=\"\",\"\",U386/'3 Irrigation Schedule'!$M$19)","v":""}]
[null,null,null,"2021","February","2021-02-17",null,"","",5.2650000000000006,"",0,"",{"$f":"IF(OR('3 Irrigation Schedule'!$C$29=\"\",'3 Irrigation Schedule'!$C$31=\"\",H387=\"\"),\"\",(('3 Irrigation Schedule'!$C$29-'3 Irrigation Schedule'!$C$31)/100)*1000*M387)","v":""},"",{"$f":"IF(H387=\"\",\"\",IF(H387=1,N387*(1-'3 Irrigation Schedule'!$C$27),S386-U386))","v":""},"","","",{"$f":"IF(H387=\"\",\"\",IF('3 Irrigation Schedule'!$P$19<O387,'3 Irrigation Schedule'!$P$19,O387))","v":""},"",{"$f":"IF(H387=\"\",\"\",U387/'3 Irrigation Schedule'!$M$19)","v":""}]
[null,null,null,"2021","February","2021-02-18",null,"","",5.2650000000000006,"",0,"",{"$f":"IF(OR('3 Irrigation Schedule'!$C$29=\"\",'3 Irrigation Schedule'!$C$31=\"\",H388=\"\"),\"\",(('3 Irrigation Schedule'!$C$29-'3 Irrigation Schedule'!$C$31)/100)*1000*M388)","v":""},"",{"$f":"IF(H388=\"\",\"\",IF(H388=1,N388*(1-'3 Irrigation Schedule'!$C$27),S387-U387))","v":""},"","","",{"$f":"IF(H388=\"\",\"\",IF('3 Irrigation Schedule'!$P$19<O388,'3 Irrigation Schedule'!$P$19,O388))","v":""},"",{"$f":"IF(H388=\"\",\"\",U388/'3 Irrigation Schedule'!$M$19)","v":""}]
[null,null,null,"2021","February","2021-02-19",null,"","",5.2650000000000006,"",0,"",{"$f":"IF(OR('3 Irrigation Schedule'!$C$29=\"\",'3 Irrigation Schedule'!$C$31=\"\",H389=\"\"),\"\",(('3 Irrigation Schedule'!$C$29-'3 Irrigation Schedule'!$C$31)/100)*1000*M389)","v":""},"",{"$f":"IF(H389=\"\",\"\",IF(H389=1,N389*(1-'3 Irrigation Schedule'!$C$27),S388-U388))","v":""},"","","",{"$f":"IF(H389=\"\",\"\",IF('3 Irrigation Schedule'!$P$19<O389,'3 Irrigation Schedule'!$P$19,O389))","v":""},"",{"$f":"IF(H389=\"\",\"\",U389/'3 Irrigation Schedule'!$M$19)","v":""}]
[null,null,null,"2021","February","2021-02-20",null,"","",5.2650000000000006,"",0,"",{"$f":"IF(OR('3 Irrigation Schedule'!$C$29=\"\",'3 Irrigation Schedule'!$C$31=\"\",H390=\"\"),\"\",(('3 Irrigation Schedule'!$C$29-'3 Irrigation Schedule'!$C$31)/100)*1000*M390)","v":""},"",{"$f":"IF(H390=\"\",\"\",IF(H390=1,N390*(1-'3 Irrigation Schedule'!$C$27),S389-U389))","v":""},"","","",{"$f":"IF(H390=\"\",\"\",IF('3 Irrigation Schedule'!$P$19<O390,'3 Irrigation Schedule'!$P$19,O390))","v":""},"",{"$f":"IF(H390=\"\",\"\",U390/'3 Irrigation Schedule'!$M$19)","v":""}]
[null,null,null,"2021","February","2021-02-21",null,"","",5.2650000000000006,"",0,"",{"$f":"IF(OR('3 Irrigation Schedule'!$C$29=\"\",'3 Irrigation Schedule'!$C$31=\"\",H391=\"\"),\"\",(('3 Irrigation Schedule'!$C$29-'3 Irrigation Schedule'!$C$31)/100)*1000*M391)","v":""},"",{"$f":"IF(H391=\"\",\"\",IF(H391=1,N391*(1-'3 Irrigation Schedule'!$C$27),S390-U390))","v":""},"","","",{"$f":"IF(H391=\"\",\"\",IF('3 Irrigation Schedule'!$P$19<O391,'3 Irrigation Schedule'!$P$19,O391))","v":""},"",{"$f":"IF(H391=\"\",\"\",U391/'3 Irrigation Schedule'!$M$19)","v":""}]
[null,null,null,"2021","February","2021-02-22",null,"","",5.2650000000000006,"",0,"",{"$f":"IF(OR('3 Irrigation Schedule'!$C$29=\"\",'3 Irrigation Schedule'!$C$31=\"\",H392=\"\"),\"\",(('3 Irrigation Schedule'!$C$29-'3 Irrigation Schedule'!$C$31)/100)*1000*M392)","v":""},"",{"$f":"IF(H392=\"\",\"\",IF(H392=1,N392*(1-'3 Irrigation Schedule'!$C$27),S391-U391))","v":""},"","","",{"$f":"IF(H392=\"\",\"\",IF('3 Irrigation Schedule'!$P$19<O392,'3 Irrigation Schedule'!$P$19,O392))","v":""},"",{"$f":"IF(H392=\"\",\"\",U392/'3 Irrigation Schedule'!$M$19)","v":""}]
[null,null,null,"2021","February","2021-02-23",null,"","",5.2650000000000006,"",0,"",{"$f":"IF(OR('3 Irrigation Schedule'!$C$29=\"\",'3 Irrigation Schedule'!$C$31=\"\",H393=\"\"),\"\",(('3 Irrigation Schedule'!$C$29-'3 Irrigation Schedule'!$C$31)/100)*1000*M393)","v":""},"",{"$f":"IF(H393=\"\",\"\",IF(H393=1,N393*(1-'3 Irrigation Schedule'!$C$27),S392-U392))","v":""},"","","",{"$f":"IF(H393=\"\",\"\",IF('3 Irrigation Schedule'!$P$19<O393,'3 Irrigation Schedule'!$P$19,O393))","v":""},"",{"$f":"IF(H393=\"\",\"\",U393/'3 Irrigation Schedule'!$M$19)","v":""}]
[null,null,null,"2021","February","2021-02-24",null,"","",5.2650000000000006,"",0,"",{"$f":"IF(OR('3 Irrigation Schedule'!$C$29=\"\",'3 Irrigation Schedule'!$C$31=\"\",H394=\"\"),\"\",(('3 Irrigation Schedule'!$C$29-'3 Irrigation Schedule'!$C$31)/100)*1000*M394)","v":""},"",{"$f":"IF(H394=\"\",\"\",IF(H394=1,N394*(1-'3 Irrigation Schedule'!$C$27),S393-U393))","v":""},"","","",{"$f":"IF(H394=\"\",\"\",IF('3 Irrigation Schedule'!$P$19<O394,'3 Irrigation Schedule'!$P$19,O394))","v":""},"",{"$f":"IF(H394=\"\",\"\",U394/'3 Irrigation Schedule'!$M$19)","v":""}]
[null,null,null,"2021","February","2021-02-25",null,"","",5.2650000000000006,"",0,"",{"$f":"IF(OR('3 Irrigation Schedule'!$C$29=\"\",'3 Irrigation Schedule'!$C$31=\"\",H395=\"\"),\"\",(('3 Irrigation Schedule'!$C$29-'3 Irrigation Schedule'!$C$31)/100)*1000*M395)","v":""},"",{"$f":"IF(H395=\"\",\"\",IF(H395=1,N395*(1-'3 Irrigation Schedule'!$C$27),S394-U394))","v":""},"","","",{"$f":"IF(H395=\"\",\"\",IF('3 Irrigation Schedule'!$P$19<O395,'3 Irrigation Schedule'!$P$19,O395))","v":""},"",{"$f":"IF(H395=\"\",\"\",U395/'3 Irrigation Schedule'!$M$19)","v":""}]
[null,null,null,"2021","February","2021-02-26",null,"","",5.2650000000000006,"",0,"",{"$f":"IF(OR('3 Irrigation Schedule'!$C$29=\"\",'3 Irrigation Schedule'!$C$31=\"\",H396=\"\"),\"\",(('3 Irrigation Schedule'!$C$29-'3 Irrigation Schedule'!$C$31)/100)*1000*M396)","v":""},"",{"$f":"IF(H396=\"\",\"\",IF(H396=1,N396*(1-'3 Irrigation Schedule'!$C$27),S395-U395))","v":""},"","","",{"$f":"IF(H396=\"\",\"\",IF('3 Irrigation Schedule'!$P$19<O396,'3 Irrigation Schedule'!$P$19,O396))","v":""},"",{"$f":"IF(H396=\"\",\"\",U396/'3 Irrigation Schedule'!$M$19)","v":""}]
[null,null,null,"2021","February","2021-02-27",null,"","",5.2650000000000006,"",0,"",{"$f":"IF(OR('3 Irrigation Schedule'!$C$29=\"\",'3 Irrigation Schedule'!$C$31=\"\",H397=\"\"),\"\",(('3 Irrigation Schedule'!$C$29-'3 Irrigation Schedule'!$C$31)/100)*1000*M397)","v":""},"",{"$f":"IF(H397=\"\",\"\",IF(H397=1,N397*(1-'3 Irrigation Schedule'!$C$27),S396-U396))","v":""},"","","",{"$f":"IF(H397=\"\",\"\",IF('3 Irrigation Schedule'!$P$19<O397,'3 Irrigation Schedule'!$P$19,O397))","v":""},"",{"$f":"IF(H397=\"\",\"\",U397/'3 Irrigation Schedule'!$M$19)","v":""}]
[null,null,null,"2021","February","2021-02-28",null,"","",5.2650000000000006,"",0,"",{"$f":"IF(OR('3 Irrigation Schedule'!$C$29=\"\",'3 Irrigation Schedule'!$C$31=\"\",H398=\"\"),\"\",(('3 Irrigation Schedule'!$C$29-'3 Irrigation Schedule'!$C$31)/100)*1000*M398)","v":""},"",{"$f":"IF(H398=\"\",\"\",IF(H398=1,N398*(1-'3 Irrigation Schedule'!$C$27),S397-U397))","v":""},"","","",{"$f":"IF(H398=\"\",\"\",IF('3 Irrigation Schedule'!$P$19<O398,'3 Irrigation Schedule'!$P$19,O398))","v":""},"",{"$f":"IF(H398=\"\",\"\",U398/'3 Irrigation Schedule'!$M$19)","v":""}]
[null,null,null,"2021","March","2021-03-01",null,"","",5.2153200000000011,"",0,"",{"$f":"IF(OR('3 Irrigation Schedule'!$C$29=\"\",'3 Irrigation Schedule'!$C$31=\"\",H399=\"\"),\"\",(('3 Irrigation Schedule'!$C$29-'3 Irrigation Schedule'!$C$31)/100)*1000*M399)","v":""},"",{"$f":"IF(H399=\"\",\"\",IF(H399=1,N399*(1-'3 Irrigation Schedule'!$C$27),S398-U398))","v":""},"","","",{"$f":"IF(H399=\"\",\"\",IF('3 Irrigation Schedule'!$P$19<O399,'3 Irrigation Schedule'!$P$19,O399))","v":""},"",{"$f":"IF(H399=\"\",\"\",U399/'3 Irrigation Schedule'!$M$19)","v":""}]
[null,null,null,"2021","March","2021-03-02",null,"",{"$f":"IF(H400=\"\",\"\",IF(H400<=$I$27,\"Initial\",IF(AND(H400>$I$27,H400<=$I$28),\"Development\",IF(AND(H400>$I$28,H400<=$I$29),\"Mid Season\",\"Late Season\"))))","v":""},5.2153200000000011,{"$f":"IF(H400=\"\",\"\",IF(H400<=$I$27,$L$27,IF(AND(H400>$I$27,H400<=$I$28),$L$27+((H400-$I$27)/$H$28)*($L$29-$L$27),IF(AND(H400>$I$28,H400<=$I$29),$L$29,$L$29+((H400-$I$29)/$H$30)*($L$30-$L$29)))))","v":""},{"$f":"IFERROR((J400*K400),0)","v":0},{"$f":"IF(H400=\"\",\"\",IF(OR(H400=1,H400<$I$28),$M$27+(($M$28-$M$27)*((H400-1)/($I$28-1))),$M$28))","v":""},{"$f":"IF(OR('3 Irrigation Schedule'!$C$29=\"\",'3 Irrigation Schedule'!$C$31=\"\",H400=\"\"),\"\",(('3 Irrigation Schedule'!$C$29-'3 Irrigation Schedule'!$C$31)/100)*1000*M400)","v":""},{"$f":"IF(H400=\"\",\"\",N400*$N$27)","v":""},{"$f":"IF(H400=\"\",\"\",IF(H400=1,N400*(1-'3 Irrigation Schedule'!$C$27),S399-U399))","v":""},{"$f":"IF(H400=\"\",\"\",IF(P400>O400,(N400-P400)/(N400-O400),1))","v":""},{"$f":"IF(H400=\"\",\"\",L400*Q400)","v":""},{"$f":"IF(H400=\"\",\"\",P400+R400)","v":""},{"$f":"IF(H400=\"\",\"\",IF('3 Irrigation Schedule'!$P$19<O400,'3 Irrigation Schedule'!$P$19,O400))","v":""},{"$f":"IF(H400=\"\",\"\",IF(T400<=S400,T400,0))","v":""},{"$f":"IF(H400=\"\",\"\",U400/'3 Irrigation Schedule'!$M$19)","v":""}]
[null,null,null,"2021","March","2021-03-03",null,"","",5.2153200000000011,"",0,"",{"$f":"IF(OR('3 Irrigation Schedule'!$C$29=\"\",'3 Irrigation Schedule'!$C$31=\"\",H401=\"\"),\"\",(('3 Irrigation Schedule'!$C$29-'3 Irrigation Schedule'!$C$31)/100)*1000*M401)","v":""},"",{"$f":"IF(H401=\"\",\"\",IF(H401=1,N401*(1-'3 Irrigation Schedule'!$C$27),S400-U400))","v":""},"","","",{"$f":"IF(H401=\"\",\"\",IF('3 Irrigation Schedule'!$P$19<O401,'3 Irrigation Schedule'!$P$19,O401))","v":""},"",{"$f":"IF(H401=\"\",\"\",U401/'3 Irrigation Schedule'!$M$19)","v":""}]
[null,null,null,"2021","March","2021-03-04",null,"","",5.2153200000000011,"",0,"",{"$f":"IF(OR('3 Irrigation Schedule'!$C$29=\"\",'3 Irrigation Schedule'!$C$31=\"\",H402=\"\"),\"\",(('3 Irrigation Schedule'!$C$29-'3 Irrigation Schedule'!$C$31)/100)*1000*M402)","v":""},"",{"$f":"IF(H402=\"\",\"\",IF(H402=1,N402*(1-'3 Irrigation Schedule'!$C$27),S401-U401))","v":""},"","","",{"$f":"IF(H402=\"\",\"\",IF('3 Irrigation Schedule'!$P$19<O402,'3 Irrigation Schedule'!$P$19,O402))","v":""},"",{"$f":"IF(H402=\"\",\"\",U402/'3 Irrigation Schedule'!$M$19)","v":""}]
[null,null,null,"2021","March","2021-03-05",null,"","",5.2153200000000011,"",0,"",{"$f":"IF(OR('3 Irrigation Schedule'!$C$29=\"\",'3 Irrigation Schedule'!$C$31=\"\",H403=\"\"),\"\",(('3 Irrigation Schedule'!$C$29-'3 Irrigation Schedule'!$C$31)/100)*1000*M403)","v":""},"",{"$f":"IF(H403=\"\",\"\",IF(H403=1,N403*(1-'3 Irrigation Schedule'!$C$27),S402-U402))","v":""},"","","",{"$f":"IF(H403=\"\",\"\",IF('3 Irrigation Schedule'!$P$19<O403,'3 Irrigation Schedule'!$P$19,O403))","v":""},"",{"$f":"IF(H403=\"\",\"\",U403/'3 Irrigation Schedule'!$M$19)","v":""}]
[null,null,null,"2021","March","2021-03-06",null,"","",5.2153200000000011,"",0,"",{"$f":"IF(OR('3 Irrigation Schedule'!$C$29=\"\",'3 Irrigation Schedule'!$C$31=\"\",H404=\"\"),\"\",(('3 Irrigation Schedule'!$C$29-'3 Irrigation Schedule'!$C$31)/100)*1000*M404)","v":""},"",{"$f":"IF(H404=\"\",\"\",IF(H404=1,N404*(1-'3 Irrigation Schedule'!$C$27),S403-U403))","v":""},"","","",{"$f":"IF(H404=\"\",\"\",IF('3 Irrigation Schedule'!$P$19<O404,'3 Irrigation Schedule'!$P$19,O404))","v":""},"",{"$f":"IF(H404=\"\",\"\",U404/'3 Irrigation Schedule'!$M$19)","v":""}]
[null,null,null,"2021","March","2021-03-07",null,"","",5.2153200000000011,"",0,"",{"$f":"IF(OR('3 Irrigation Schedule'!$C$29=\"\",'3 Irrigation Schedule'!$C$31=\"\",H405=\"\"),\"\",(('3 Irrigation Schedule'!$C$29-'3 Irrigation Schedule'!$C$31)/100)*1000*M405)","v":""},"",{"$f":"IF(H405=\"\",\"\",IF(H405=1,N405*(1-'3 Irrigation Schedule'!$C$27),S404-U404))","v":""},"","","",{"$f":"IF(H405=\"\",\"\",IF('3 Irrigation Schedule'!$P$19<O405,'3 Irrigation Schedule'!$P$19,O405))","v":""},"",{"$f":"IF(H405=\"\",\"\",U405/'3 Irrigation Schedule'!$M$19)","v":""}]
[null,null,null,"2021","March","2021-03-08",null,"","",5.2153200000000011,"",0,"",{"$f":"IF(OR('3 Irrigation Schedule'!$C$29=\"\",'3 Irrigation Schedule'!$C$31=\"\",H406=\"\"),\"\",(('3 Irrigation Schedule'!$C$29-'3 Irrigation Schedule'!$C$31)/100)*1000*M406)","v":""},"",{"$f":"IF(H406=\"\",\"\",IF(H406=1,N406*(1-'3 Irrigation Schedule'!$C$27),S405-U405))","v":""},"","","",{"$f":"IF(H406=\"\",\"\",IF('3 Irrigation Schedule'!$P$19<O406,'3 Irrigation Schedule'!$P$19,O406))","v":""},"",{"$f":"IF(H406=\"\",\"\",U406/'3 Irrigation Schedule'!$M$19)","v":""}]
[null,null,null,"2021","March","2021-03-09",null,"","",5.2153200000000011,"",0,"",{"$f":"IF(OR('3 Irrigation Schedule'!$C$29=\"\",'3 Irrigation Schedule'!$C$31=\"\",H407=\"\"),\"\",(('3 Irrigation Schedule'!$C$29-'3 Irrigation Schedule'!$C$31)/100)*1000*M407)","v":""},"",{"$f":"IF(H407=\"\",\"\",IF(H407=1,N407*(1-'3 Irrigation Schedule'!$C$27),S406-U406))","v":""},"","","",{"$f":"IF(H407=\"\",\"\",IF('3 Irrigation Schedule'!$P$19<O407,'3 Irrigation Schedule'!$P$19,O407))","v":""},"",{"$f":"IF(H407=\"\",\"\",U407/'3 Irrigation Schedule'!$M$19)","v":""}]
[null,null,null,"2021","March","2021-03-10",null,"","",5.2153200000000011,"",0,"",{"$f":"IF(OR('3 Irrigation Schedule'!$C$29=\"\",'3 Irrigation Schedule'!$C$31=\"\",H408=\"\"),\"\",(('3 Irrigation Schedule'!$C$29-'3 Irrigation Schedule'!$C$31)/100)*1000*M408)","v":""},"",{"$f":"IF(H408=\"\",\"\",IF(H408=1,N408*(1-'3 Irrigation Schedule'!$C$27),S407-U407))","v":""},"","","",{"$f":"IF(H408=\"\",\"\",IF('3 Irrigation Schedule'!$P$19<O408,'3 Irrigation Schedule'!$P$19,O408))","v":""},"",{"$f":"IF(H408=\"\",\"\",U408/'3 Irrigation Schedule'!$M$19)","v":""}]
[null,null,null,"2021","March","2021-03-11",null,"","",5.2153200000000011,"",0,"",{"$f":"IF(OR('3 Irrigation Schedule'!$C$29=\"\",'3 Irrigation Schedule'!$C$31=\"\",H409=\"\"),\"\",(('3 Irrigation Schedule'!$C$29-'3 Irrigation Schedule'!$C$31)/100)*1000*M409)","v":""},"",{"$f":"IF(H409=\"\",\"\",IF(H409=1,N409*(1-'3 Irrigation Schedule'!$C$27),S408-U408))","v":""},"","","",{"$f":"IF(H409=\"\",\"\",IF('3 Irrigation Schedule'!$P$19<O409,'3 Irrigation Schedule'!$P$19,O409))","v":""},"",{"$f":"IF(H409=\"\",\"\",U409/'3 Irrigation Schedule'!$M$19)","v":""}]
[null,null,null,"2021","March","2021-03-12",null,"","",5.2153200000000011,"",0,"",{"$f":"IF(OR('3 Irrigation Schedule'!$C$29=\"\",'3 Irrigation Schedule'!$C$31=\"\",H410=\"\"),\"\",(('3 Irrigation Schedule'!$C$29-'3 Irrigation Schedule'!$C$31)/100)*1000*M410)","v":""},"",{"$f":"IF(H410=\"\",\"\",IF(H410=1,N410*(1-'3 Irrigation Schedule'!$C$27),S409-U409))","v":""},"","","",{"$f":"IF(H410=\"\",\"\",IF('3 Irrigation Schedule'!$P$19<O410,'3 Irrigation Schedule'!$P$19,O410))","v":""},"",{"$f":"IF(H410=\"\",\"\",U410/'3 Irrigation Schedule'!$M$19)","v":""}]
[null,null,null,"2021","March","2021-03-13",null,"","",5.2153200000000011,"",0,"",{"$f":"IF(OR('3 Irrigation Schedule'!$C$29=\"\",'3 Irrigation Schedule'!$C$31=\"\",H411=\"\"),\"\",(('3 Irrigation Schedule'!$C$29-'3 Irrigation Schedule'!$C$31)/100)*1000*M411)","v":""},"",{"$f":"IF(H411=\"\",\"\",IF(H411=1,N411*(1-'3 Irrigation Schedule'!$C$27),S410-U410))","v":""},"","","",{"$f":"IF(H411=\"\",\"\",IF('3 Irrigation Schedule'!$P$19<O411,'3 Irrigation Schedule'!$P$19,O411))","v":""},"",{"$f":"IF(H411=\"\",\"\",U411/'3 Irrigation Schedule'!$M$19)","v":""}]
[null,null,null,"2021","March","2021-03-14",null,"","",5.2153200000000011,"",0,"",{"$f":"IF(OR('3 Irrigation Schedule'!$C$29=\"\",'3 Irrigation Schedule'!$C$31=\"\",H412=\"\"),\"\",(('3 Irrigation Schedule'!$C$29-'3 Irrigation Schedule'!$C$31)/100)*1000*M412)","v":""},"",{"$f":"IF(H412=\"\",\"\",IF(H412=1,N412*(1-'3 Irrigation Schedule'!$C$27),S411-U411))","v":""},"","","",{"$f":"IF(H412=\"\",\"\",IF('3 Irrigation Schedule'!$P$19<O412,'3 Irrigation Schedule'!$P$19,O412))","v":""},"",{"$f":"IF(H412=\"\",\"\",U412/'3 Irrigation Schedule'!$M$19)","v":""}]
[null,null,null,"2021","March","2021-03-15",null,"","",5.2153200000000011,"",0,"",{"$f":"IF(OR('3 Irrigation Schedule'!$C$29=\"\",'3 Irrigation Schedule'!$C$31=\"\",H413=\"\"),\"\",(('3 Irrigation Schedule'!$C$29-'3 Irrigation Schedule'!$C$31)/100)*1000*M413)","v":""},"",{"$f":"IF(H413=\"\",\"\",IF(H413=1,N413*(1-'3 Irrigation Schedule'!$C$27),S412-U412))","v":""},"","","",{"$f":"IF(H413=\"\",\"\",IF('3 Irrigation Schedule'!$P$19<O413,'3 Irrigation Schedule'!$P$19,O413))","v":""},"",{"$f":"IF(H413=\"\",\"\",U413/'3 Irrigation Schedule'!$M$19)","v":""}]
[null,null,null,"2021","March","2021-03-16",null,"","",5.2153200000000011,"",0,"",{"$f":"IF(OR('3 Irrigation Schedule'!$C$29=\"\",'3 Irrigation Schedule'!$C$31=\"\",H414=\"\"),\"\",(('3 Irrigation Schedule'!$C$29-'3 Irrigation Schedule'!$C$31)/100)*1000*M414)","v":""},"",{"$f":"IF(H414=\"\",\"\",IF(H414=1,N414*(1-'3 Irrigation Schedule'!$C$27),S413-U413))","v":""},"","","",{"$f":"IF(H414=\"\",\"\",IF('3 Irrigation Schedule'!$P$19<O414,'3 Irrigation Schedule'!$P$19,O414))","v":""},"",{"$f":"IF(H414=\"\",\"\",U414/'3 Irrigation Schedule'!$M$19)","v":""}]
[null,null,null,"2021","March","2021-03-17",null,"","",5.2153200000000011,"",0,"",{"$f":"IF(OR('3 Irrigation Schedule'!$C$29=\"\",'3 Irrigation Schedule'!$C$31=\"\",H415=\"\"),\"\",(('3 Irrigation Schedule'!$C$29-'3 Irrigation Schedule'!$C$31)/100)*1000*M415)","v":""},"",{"$f":"IF(H415=\"\",\"\",IF(H415=1,N415*(1-'3 Irrigation Schedule'!$C$27),S414-U414))","v":""},"","","",{"$f":"IF(H415=\"\",\"\",IF('3 Irrigation Schedule'!$P$19<O415,'3 Irrigation Schedule'!$P$19,O415))","v":""},"",{"$f":"IF(H415=\"\",\"\",U415/'3 Irrigation Schedule'!$M$19)","v":""}]
[null,null,null,"2021","March","2021-03-18",null,"","",5.2153200000000011,"",0,"",{"$f":"IF(OR('3 Irrigation Schedule'!$C$29=\"\",'3 Irrigation Schedule'!$C$31=\"\",H416=\"\"),\"\",(('3 Irrigation Schedule'!$C$29-'3 Irrigation Schedule'!$C$31)/100)*1000*M416)","v":""},"",{"$f":"IF(H416=\"\",\"\",IF(H416=1,N416*(1-'3 Irrigation Schedule'!$C$27),S415-U415))","v":""},"","","",{"$f":"IF(H416=\"\",\"\",IF('3 Irrigation Schedule'!$P$19<O416,'3 Irrigation Schedule'!$P$19,O416))","v":""},"",{"$f":"IF(H416=\"\",\"\",U416/'3 Irrigation Schedule'!$M$19)","v":""}]
[null,null,null,"2021","March","2021-03-19",null,"","",5.2153200000000011,"",0,"",{"$f":"IF(OR('3 Irrigation Schedule'!$C$29=\"\",'3 Irrigation Schedule'!$C$31=\"\",H417=\"\"),\"\",(('3 Irrigation Schedule'!$C$29-'3 Irrigation Schedule'!$C$31)/100)*1000*M417)","v":""},"",{"$f":"IF(H417=\"\",\"\",IF(H417=1,N417*(1-'3 Irrigation Schedule'!$C$27),S416-U416))","v":""},"","","",{"$f":"IF(H417=\"\",\"\",IF('3 Irrigation Schedule'!$P$19<O417,'3 Irrigation Schedule'!$P$19,O417))","v":""},"",{"$f":"IF(H417=\"\",\"\",U417/'3 Irrigation Schedule'!$M$19)","v":""}]
[null,null,null,{"$f":"IFERROR(TEXT(DATE(YEAR($F418),MONTH($F418),1),$D$7&$D$4),\"\")","v":"2021"},{"$f":"IFERROR(TEXT(DATE(YEAR($F418),MONTH($F418),1),$D$7&$D$5),\"\")","v":"March"},"2021-03-20",null,"","",{"$f":"IFERROR(VLOOKUP($E418,$B$19:$C$30,2,FALSE),\"\")","v":5.2153200000000011},"",0,"",{"$f":"IF(OR('3 Irrigation Schedule'!$C$29=\"\",'3 Irrigation Schedule'!$C$31=\"\",H418=\"\"),\"\",(('3 Irrigation Schedule'!$C$29-'3 Irrigation Schedule'!$C$31)/100)*1000*M418)","v":""},"",{"$f":"IF(H418=\"\",\"\",IF(H418=1,N418*(1-'3 Irrigation Schedule'!$C$27),S417-U417))","v":""},"","","",{"$f":"IF(H418=\"\",\"\",IF('3 Irrigation Schedule'!$P$19<O418,'3 Irrigation Schedule'!$P$19,O418))","v":""},"",{"$f":"IF(H418=\"\",\"\",U418/'3 Irrigation Schedule'!$M$19)","v":""}]
[null,null,null,"2021","March",{"$f":"IFERROR(IF(F418+1<=$N$7, F418+1,\"\"),\"\")","v":"2021-03-21"},null,{"$f":"IFERROR(IF(OR($F419-$J$27+1<=0,$F419>$K$30),\"\",$F419-$J$27+1),\"\")","v":""},"",5.2153200000000011,"",0,"",{"$f":"IF(OR('3 Irrigation Schedule'!$C$29=\"\",'3 Irrigation Schedule'!$C$31=\"\",H419=\"\"),\"\",(('3 Irrigation Schedule'!$C$29-'3 Irrigation Schedule'!$C$31)/100)*1000*M419)","v":""},"",{"$f":"IF(H419=\"\",\"\",IF(H419=1,N419*(1-'3 Irrigation Schedule'!$C$27),S418-U418))","v":""},"","","",{"$f":"IF(H419=\"\",\"\",IF('3 Irrigation Schedule'!$P$19<O419,'3 Irrigation Schedule'!$P$19,O419))","v":""},"",{"$f":"IF(H419=\"\",\"\",U419/'3 Irrigation Schedule'!$M$19)","v":""}]
[null,null,null,"2021","March","2021-03-22",null,"","",5.2153200000000011,"",0,"",{"$f":"IF(OR('3 Irrigation Schedule'!$C$29=\"\",'3 Irrigation Schedule'!$C$31=\"\",H420=\"\"),\"\",(('3 Irrigation Schedule'!$C$29-'3 Irrigation Schedule'!$C$31)/100)*1000*M420)","v":""},"",{"$f":"IF(H420=\"\",\"\",IF(H420=1,N420*(1-'3 Irrigation Schedule'!$C$27),S419-U419))","v":""},"","","",{"$f":"IF(H420=\"\",\"\",IF('3 Irrigation Schedule'!$P$19<O420,'3 Irrigation Schedule'!$P$19,O420))","v":""},"",{"$f":"IF(H420=\"\",\"\",U420/'3 Irrigation Schedule'!$M$19)","v":""}]
[null,null,null,"2021","March","2021-03-23",null,"","",5.2153200000000011,"",0,"",{"$f":"IF(OR('3 Irrigation Schedule'!$C$29=\"\",'3 Irrigation Schedule'!$C$31=\"\",H421=\"\"),\"\",(('3 Irrigation Schedule'!$C$29-'3 Irrigation Schedule'!$C$31)/100)*1000*M421)","v":""},"",{"$f":"IF(H421=\"\",\"\",IF(H421=1,N421*(1-'3 Irrigation Schedule'!$C$27),S420-U420))","v":""},"","","",{"$f":"IF(H421=\"\",\"\",IF('3 Irrigation Schedule'!$P$19<O421,'3 Irrigation Schedule'!$P$19,O421))","v":""},"",{"$f":"IF(H421=\"\",\"\",U421/'3 Irrigation Schedule'!$M$19)","v":""}]
[null,null,null,"2021","March","2021-03-24",null,"","",5.2153200000000011,"",0,"",{"$f":"IF(OR('3 Irrigation Schedule'!$C$29=\"\",'3 Irrigation Schedule'!$C$31=\"\",H422=\"\"),\"\",(('3 Irrigation Schedule'!$C$29-'3 Irrigation Schedule'!$C$31)/100)*1000*M422)","v":""},"",{"$f":"IF(H422=\"\",\"\",IF(H422=1,N422*(1-'3 Irrigation Schedule'!$C$27),S421-U421))","v":""},"","","",{"$f":"IF(H422=\"\",\"\",IF('3 Irrigation Schedule'!$P$19<O422,'3 Irrigation Schedule'!$P$19,O422))","v":""},"",{"$f":"IF(H422=\"\",\"\",U422/'3 Irrigation Schedule'!$M$19)","v":""}]
[null,null,null,"2021","March","2021-03-25",null,"","",5.2153200000000011,"",0,"",{"$f":"IF(OR('3 Irrigation Schedule'!$C$29=\"\",'3 Irrigation Schedule'!$C$31=\"\",H423=\"\"),\"\",(('3 Irrigation Schedule'!$C$29-'3 Irrigation Schedule'!$C$31)/100)*1000*M423)","v":""},"",{"$f":"IF(H423=\"\",\"\",IF(H423=1,N423*(1-'3 Irrigation Schedule'!$C$27),S422-U422))","v":""},"","","",{"$f":"IF(H423=\"\",\"\",IF('3 Irrigation Schedule'!$P$19<O423,'3 Irrigation Schedule'!$P$19,O423))","v":""},"",{"$f":"IF(H423=\"\",\"\",U423/'3 Irrigation Schedule'!$M$19)","v":""}]
[null,null,null,"2021","March","2021-03-26",null,"","",5.2153200000000011,"",0,"",{"$f":"IF(OR('3 Irrigation Schedule'!$C$29=\"\",'3 Irrigation Schedule'!$C$31=\"\",H424=\"\"),\"\",(('3 Irrigation Schedule'!$C$29-'3 Irrigation Schedule'!$C$31)/100)*1000*M424)","v":""},"",{"$f":"IF(H424=\"\",\"\",IF(H424=1,N424*(1-'3 Irrigation Schedule'!$C$27),S423-U423))","v":""},"","","",{"$f":"IF(H424=\"\",\"\",IF('3 Irrigation Schedule'!$P$19<O424,'3 Irrigation Schedule'!$P$19,O424))","v":""},"",{"$f":"IF(H424=\"\",\"\",U424/'3 Irrigation Schedule'!$M$19)","v":""}]
[null,null,null,"2021","March","2021-03-27",null,"","",5.2153200000000011,"",0,"",{"$f":"IF(OR('3 Irrigation Schedule'!$C$29=\"\",'3 Irrigation Schedule'!$C$31=\"\",H425=\"\"),\"\",(('3 Irrigation Schedule'!$C$29-'3 Irrigation Schedule'!$C$31)/100)*1000*M425)","v":""},"",{"$f":"IF(H425=\"\",\"\",IF(H425=1,N425*(1-'3 Irrigation Schedule'!$C$27),S424-U424))","v":""},"","","",{"$f":"IF(H425=\"\",\"\",IF('3 Irrigation Schedule'!$P$19<O425,'3 Irrigation Schedule'!$P$19,O425))","v":""},"",{"$f":"IF(H425=\"\",\"\",U425/'3 Irrigation Schedule'!$M$19)","v":""}]
[null,null,null,"2021","March","2021-03-28",null,"","",5.2153200000000011,"",0,"",{"$f":"IF(OR('3 Irrigation Schedule'!$C$29=\"\",'3 Irrigation Schedule'!$C$31=\"\",H426=\"\"),\"\",(('3 Irrigation Schedule'!$C$29-'3 Irrigation Schedule'!$C$31)/100)*1000*M426)","v":""},"",{"$f":"IF(H426=\"\",\"\",IF(H426=1,N426*(1-'3 Irrigation Schedule'!$C$27),S425-U425))","v":""},"","","",{"$f":"IF(H426=\"\",\"\",IF('3 Irrigation Schedule'!$P$19<O426,'3 Irrigation Schedule'!$P$19,O426))","v":""},"",{"$f":"IF(H426=\"\",\"\",U426/'3 Irrigation Schedule'!$M$19)","v":""}]
[null,null,null,"2021","March","2021-03-29",null,"","",5.2153200000000011,"",0,"",{"$f":"IF(OR('3 Irrigation Schedule'!$C$29=\"\",'3 Irrigation Schedule'!$C$31=\"\",H427=\"\"),\"\",(('3 Irrigation Schedule'!$C$29-'3 Irrigation Schedule'!$C$31)/100)*1000*M427)","v":""},"",{"$f":"IF(H427=\"\",\"\",IF(H427=1,N427*(1-'3 Irrigation Schedule'!$C$27),S426-U426))","v":""},"","","",{"$f":"IF(H427=\"\",\"\",IF('3 Irrigation Schedule'!$P$19<O427,'3 Irrigation Schedule'!$P$19,O427))","v":""},"",{"$f":"IF(H427=\"\",\"\",U427/'3 Irrigation Schedule'!$M$19)","v":""}]
[null,null,null,"2021","March","2021-03-30",null,"","",5.2153200000000011,"",0,"",{"$f":"IF(OR('3 Irrigation Schedule'!$C$29=\"\",'3 Irrigation Schedule'!$C$31=\"\",H428=\"\"),\"\",(('3 Irrigation Schedule'!$C$29-'3 Irrigation Schedule'!$C$31)/100)*1000*M428)","v":""},"",{"$f":"IF(H428=\"\",\"\",IF(H428=1,N428*(1-'3 Irrigation Schedule'!$C$27),S427-U427))","v":""},"","","",{"$f":"IF(H428=\"\",\"\",IF('3 Irrigation Schedule'!$P$19<O428,'3 Irrigation Schedule'!$P$19,O428))","v":""},"",{"$f":"IF(H428=\"\",\"\",U428/'3 Irrigation Schedule'!$M$19)","v":""}]
[null,null,null,"2021","March","2021-03-31",null,"","",5.2153200000000011,"",0,"",{"$f":"IF(OR('3 Irrigation Schedule'!$C$29=\"\",'3 Irrigation Schedule'!$C$31=\"\",H429=\"\"),\"\",(('3 Irrigation Schedule'!$C$29-'3 Irrigation Schedule'!$C$31)/100)*1000*M429)","v":""},"",{"$f":"IF(H429=\"\",\"\",IF(H429=1,N429*(1-'3 Irrigation Schedule'!$C$27),S428-U428))","v":""},"","","",{"$f":"IF(H429=\"\",\"\",IF('3 Irrigation Schedule'!$P$19<O429,'3 Irrigation Schedule'!$P$19,O429))","v":""},"",{"$f":"IF(H429=\"\",\"\",U429/'3 Irrigation Schedule'!$M$19)","v":""}]
[null,null,null,"2021","April","2021-04-01",null,"","",5.3054400000000008,"",0,"",{"$f":"IF(OR('3 Irrigation Schedule'!$C$29=\"\",'3 Irrigation Schedule'!$C$31=\"\",H430=\"\"),\"\",(('3 Irrigation Schedule'!$C$29-'3 Irrigation Schedule'!$C$31)/100)*1000*M430)","v":""},"",{"$f":"IF(H430=\"\",\"\",IF(H430=1,N430*(1-'3 Irrigation Schedule'!$C$27),S429-U429))","v":""},"","","",{"$f":"IF(H430=\"\",\"\",IF('3 Irrigation Schedule'!$P$19<O430,'3 Irrigation Schedule'!$P$19,O430))","v":""},"",{"$f":"IF(H430=\"\",\"\",U430/'3 Irrigation Schedule'!$M$19)","v":""}]
[null,null,null,"2021","April","2021-04-02",null,"","",5.3054400000000008,"",0,"",{"$f":"IF(OR('3 Irrigation Schedule'!$C$29=\"\",'3 Irrigation Schedule'!$C$31=\"\",H431=\"\"),\"\",(('3 Irrigation Schedule'!$C$29-'3 Irrigation Schedule'!$C$31)/100)*1000*M431)","v":""},"",{"$f":"IF(H431=\"\",\"\",IF(H431=1,N431*(1-'3 Irrigation Schedule'!$C$27),S430-U430))","v":""},"","","",{"$f":"IF(H431=\"\",\"\",IF('3 Irrigation Schedule'!$P$19<O431,'3 Irrigation Schedule'!$P$19,O431))","v":""},"",{"$f":"IF(H431=\"\",\"\",U431/'3 Irrigation Schedule'!$M$19)","v":""}]
[null,null,null,"2021","April","2021-04-03",null,"","",5.3054400000000008,"",0,"",{"$f":"IF(OR('3 Irrigation Schedule'!$C$29=\"\",'3 Irrigation Schedule'!$C$31=\"\",H432=\"\"),\"\",(('3 Irrigation Schedule'!$C$29-'3 Irrigation Schedule'!$C$31)/100)*1000*M432)","v":""},"",{"$f":"IF(H432=\"\",\"\",IF(H432=1,N432*(1-'3 Irrigation Schedule'!$C$27),S431-U431))","v":""},"","","",{"$f":"IF(H432=\"\",\"\",IF('3 Irrigation Schedule'!$P$19<O432,'3 Irrigation Schedule'!$P$19,O432))","v":""},"",{"$f":"IF(H432=\"\",\"\",U432/'3 Irrigation Schedule'!$M$19)","v":""}]
[null,null,null,"2021","April","2021-04-04",null,"","",5.3054400000000008,"",0,"",{"$f":"IF(OR('3 Irrigation Schedule'!$C$29=\"\",'3 Irrigation Schedule'!$C$31=\"\",H433=\"\"),\"\",(('3 Irrigation Schedule'!$C$29-'3 Irrigation Schedule'!$C$31)/100)*1000*M433)","v":""},"",{"$f":"IF(H433=\"\",\"\",IF(H433=1,N433*(1-'3 Irrigation Schedule'!$C$27),S432-U432))","v":""},"","","",{"$f":"IF(H433=\"\",\"\",IF('3 Irrigation Schedule'!$P$19<O433,'3 Irrigation Schedule'!$P$19,O433))","v":""},"",{"$f":"IF(H433=\"\",\"\",U433/'3 Irrigation Schedule'!$M$19)","v":""}]
[null,null,null,"2021","April","2021-04-05",null,"","",5.3054400000000008,"",0,"",{"$f":"IF(OR('3 Irrigation Schedule'!$C$29=\"\",'3 Irrigation Schedule'!$C$31=\"\",H434=\"\"),\"\",(('3 Irrigation Schedule'!$C$29-'3 Irrigation Schedule'!$C$31)/100)*1000*M434)","v":""},"",{"$f":"IF(H434=\"\",\"\",IF(H434=1,N434*(1-'3 Irrigation Schedule'!$C$27),S433-U433))","v":""},"","","",{"$f":"IF(H434=\"\",\"\",IF('3 Irrigation Schedule'!$P$19<O434,'3 Irrigation Schedule'!$P$19,O434))","v":""},"",{"$f":"IF(H434=\"\",\"\",U434/'3 Irrigation Schedule'!$M$19)","v":""}]
[null,null,null,"2021","April","2021-04-06",null,"","",5.3054400000000008,"",0,"",{"$f":"IF(OR('3 Irrigation Schedule'!$C$29=\"\",'3 Irrigation Schedule'!$C$31=\"\",H435=\"\"),\"\",(('3 Irrigation Schedule'!$C$29-'3 Irrigation Schedule'!$C$31)/100)*1000*M435)","v":""},"",{"$f":"IF(H435=\"\",\"\",IF(H435=1,N435*(1-'3 Irrigation Schedule'!$C$27),S434-U434))","v":""},"","","",{"$f":"IF(H435=\"\",\"\",IF('3 Irrigation Schedule'!$P$19<O435,'3 Irrigation Schedule'!$P$19,O435))","v":""},"",{"$f":"IF(H435=\"\",\"\",U435/'3 Irrigation Schedule'!$M$19)","v":""}]
[null,null,null,"2021","April","2021-04-07",null,"","",5.3054400000000008,"",0,"",{"$f":"IF(OR('3 Irrigation Schedule'!$C$29=\"\",'3 Irrigation Schedule'!$C$31=\"\",H436=\"\"),\"\",(('3 Irrigation Schedule'!$C$29-'3 Irrigation Schedule'!$C$31)/100)*1000*M436)","v":""},"",{"$f":"IF(H436=\"\",\"\",IF(H436=1,N436*(1-'3 Irrigation Schedule'!$C$27),S435-U435))","v":""},"","","",{"$f":"IF(H436=\"\",\"\",IF('3 Irrigation Schedule'!$P$19<O436,'3 Irrigation Schedule'!$P$19,O436))","v":""},"",{"$f":"IF(H436=\"\",\"\",U436/'3 Irrigation Schedule'!$M$19)","v":""}]
[null,null,null,"2021","April","2021-04-08",null,"","",5.3054400000000008,"",0,"",{"$f":"IF(OR('3 Irrigation Schedule'!$C$29=\"\",'3 Irrigation Schedule'!$C$31=\"\",H437=\"\"),\"\",(('3 Irrigation Schedule'!$C$29-'3 Irrigation Schedule'!$C$31)/100)*1000*M437)","v":""},"",{"$f":"IF(H437=\"\",\"\",IF(H437=1,N437*(1-'3 Irrigation Schedule'!$C$27),S436-U436))","v":""},"","","",{"$f":"IF(H437=\"\",\"\",IF('3 Irrigation Schedule'!$P$19<O437,'3 Irrigation Schedule'!$P$19,O437))","v":""},"",{"$f":"IF(H437=\"\",\"\",U437/'3 Irrigation Schedule'!$M$19)","v":""}]
[null,null,null,"2021","April","2021-04-09",null,"","",5.3054400000000008,"",0,"",{"$f":"IF(OR('3 Irrigation Schedule'!$C$29=\"\",'3 Irrigation Schedule'!$C$31=\"\",H438=\"\"),\"\",(('3 Irrigation Schedule'!$C$29-'3 Irrigation Schedule'!$C$31)/100)*1000*M438)","v":""},"",{"$f":"IF(H438=\"\",\"\",IF(H438=1,N438*(1-'3 Irrigation Schedule'!$C$27),S437-U437))","v":""},"","","",{"$f":"IF(H438=\"\",\"\",IF('3 Irrigation Schedule'!$P$19<O438,'3 Irrigation Schedule'!$P$19,O438))","v":""},"",{"$f":"IF(H438=\"\",\"\",U438/'3 Irrigation Schedule'!$M$19)","v":""}]
[null,null,null,"2021","April","2021-04-10",null,"","",5.3054400000000008,"",0,"",{"$f":"IF(OR('3 Irrigation Schedule'!$C$29=\"\",'3 Irrigation Schedule'!$C$31=\"\",H439=\"\"),\"\",(('3 Irrigation Schedule'!$C$29-'3 Irrigation Schedule'!$C$31)/100)*1000*M439)","v":""},"",{"$f":"IF(H439=\"\",\"\",IF(H439=1,N439*(1-'3 Irrigation Schedule'!$C$27),S438-U438))","v":""},"","","",{"$f":"IF(H439=\"\",\"\",IF('3 Irrigation Schedule'!$P$19<O439,'3 Irrigation Schedule'!$P$19,O439))","v":""},"",{"$f":"IF(H439=\"\",\"\",U439/'3 Irrigation Schedule'!$M$19)","v":""}]
[null,null,null,"2021","April","2021-04-11",null,"","",5.3054400000000008,"",0,"",{"$f":"IF(OR('3 Irrigation Schedule'!$C$29=\"\",'3 Irrigation Schedule'!$C$31=\"\",H440=\"\"),\"\",(('3 Irrigation Schedule'!$C$29-'3 Irrigation Schedule'!$C$31)/100)*1000*M440)","v":""},"",{"$f":"IF(H440=\"\",\"\",IF(H440=1,N440*(1-'3 Irrigation Schedule'!$C$27),S439-U439))","v":""},"","","",{"$f":"IF(H440=\"\",\"\",IF('3 Irrigation Schedule'!$P$19<O440,'3 Irrigation Schedule'!$P$19,O440))","v":""},"",{"$f":"IF(H440=\"\",\"\",U440/'3 Irrigation Schedule'!$M$19)","v":""}]
[null,null,null,"2021","April","2021-04-12",null,"","",5.3054400000000008,"",0,"",{"$f":"IF(OR('3 Irrigation Schedule'!$C$29=\"\",'3 Irrigation Schedule'!$C$31=\"\",H441=\"\"),\"\",(('3 Irrigation Schedule'!$C$29-'3 Irrigation Schedule'!$C$31)/100)*1000*M441)","v":""},"",{"$f":"IF(H441=\"\",\"\",IF(H441=1,N441*(1-'3 Irrigation Schedule'!$C$27),S440-U440))","v":""},"","","",{"$f":"IF(H441=\"\",\"\",IF('3 Irrigation Schedule'!$P$19<O441,'3 Irrigation Schedule'!$P$19,O441))","v":""},"",{"$f":"IF(H441=\"\",\"\",U441/'3 Irrigation Schedule'!$M$19)","v":""}]
[null,null,null,"2021","April","2021-04-13",null,"","",5.3054400000000008,"",0,"",{"$f":"IF(OR('3 Irrigation Schedule'!$C$29=\"\",'3 Irrigation Schedule'!$C$31=\"\",H442=\"\"),\"\",(('3 Irrigation Schedule'!$C$29-'3 Irrigation Schedule'!$C$31)/100)*1000*M442)","v":""},"",{"$f":"IF(H442=\"\",\"\",IF(H442=1,N442*(1-'3 Irrigation Schedule'!$C$27),S441-U441))","v":""},"","","",{"$f":"IF(H442=\"\",\"\",IF('3 Irrigation Schedule'!$P$19<O442,'3 Irrigation Schedule'!$P$19,O442))","v":""},"",{"$f":"IF(H442=\"\",\"\",U442/'3 Irrigation Schedule'!$M$19)","v":""}]
[null,null,null,"2021","April","2021-04-14",null,"","",5.3054400000000008,"",0,"",{"$f":"IF(OR('3 Irrigation Schedule'!$C$29=\"\",'3 Irrigation Schedule'!$C$31=\"\",H443=\"\"),\"\",(('3 Irrigation Schedule'!$C$29-'3 Irrigation Schedule'!$C$31)/100)*1000*M443)","v":""},"",{"$f":"IF(H443=\"\",\"\",IF(H443=1,N443*(1-'3 Irrigation Schedule'!$C$27),S442-U442))","v":""},"","","",{"$f":"IF(H443=\"\",\"\",IF('3 Irrigation Schedule'!$P$19<O443,'3 Irrigation Schedule'!$P$19,O443))","v":""},"",{"$f":"IF(H443=\"\",\"\",U443/'3 Irrigation Schedule'!$M$19)","v":""}]
[null,null,null,"2021","April","2021-04-15",null,"","",5.3054400000000008,"",0,"",{"$f":"IF(OR('3 Irrigation Schedule'!$C$29=\"\",'3 Irrigation Schedule'!$C$31=\"\",H444=\"\"),\"\",(('3 Irrigation Schedule'!$C$29-'3 Irrigation Schedule'!$C$31)/100)*1000*M444)","v":""},"",{"$f":"IF(H444=\"\",\"\",IF(H444=1,N444*(1-'3 Irrigation Schedule'!$C$27),S443-U443))","v":""},"","","",{"$f":"IF(H444=\"\",\"\",IF('3 Irrigation Schedule'!$P$19<O444,'3 Irrigation Schedule'!$P$19,O444))","v":""},"",{"$f":"IF(H444=\"\",\"\",U444/'3 Irrigation Schedule'!$M$19)","v":""}]
[null,null,null,"2021","April","2021-04-16",null,"","",5.3054400000000008,"",0,"",{"$f":"IF(OR('3 Irrigation Schedule'!$C$29=\"\",'3 Irrigation Schedule'!$C$31=\"\",H445=\"\"),\"\",(('3 Irrigation Schedule'!$C$29-'3 Irrigation Schedule'!$C$31)/100)*1000*M445)","v":""},"",{"$f":"IF(H445=\"\",\"\",IF(H445=1,N445*(1-'3 Irrigation Schedule'!$C$27),S444-U444))","v":""},"","","",{"$f":"IF(H445=\"\",\"\",IF('3 Irrigation Schedule'!$P$19<O445,'3 Irrigation Schedule'!$P$19,O445))","v":""},"",{"$f":"IF(H445=\"\",\"\",U445/'3 Irrigation Schedule'!$M$19)","v":""}]
[null,null,null,"2021","April","2021-04-17",null,"","",5.3054400000000008,"",0,"",{"$f":"IF(OR('3 Irrigation Schedule'!$C$29=\"\",'3 Irrigation Schedule'!$C$31=\"\",H446=\"\"),\"\",(('3 Irrigation Schedule'!$C$29-'3 Irrigation Schedule'!$C$31)/100)*1000*M446)","v":""},"",{"$f":"IF(H446=\"\",\"\",IF(H446=1,N446*(1-'3 Irrigation Schedule'!$C$27),S445-U445))","v":""},"","","",{"$f":"IF(H446=\"\",\"\",IF('3 Irrigation Schedule'!$P$19<O446,'3 Irrigation Schedule'!$P$19,O446))","v":""},"",{"$f":"IF(H446=\"\",\"\",U446/'3 Irrigation Schedule'!$M$19)","v":""}]
[null,null,null,"2021","April","2021-04-18",null,"","",5.3054400000000008,"",0,"",{"$f":"IF(OR('3 Irrigation Schedule'!$C$29=\"\",'3 Irrigation Schedule'!$C$31=\"\",H447=\"\"),\"\",(('3 Irrigation Schedule'!$C$29-'3 Irrigation Schedule'!$C$31)/100)*1000*M447)","v":""},"",{"$f":"IF(H447=\"\",\"\",IF(H447=1,N447*(1-'3 Irrigation Schedule'!$C$27),S446-U446))","v":""},"","","",{"$f":"IF(H447=\"\",\"\",IF('3 Irrigation Schedule'!$P$19<O447,'3 Irrigation Schedule'!$P$19,O447))","v":""},"",{"$f":"IF(H447=\"\",\"\",U447/'3 Irrigation Schedule'!$M$19)","v":""}]
[null,null,null,"2021","April","2021-04-19",null,"","",5.3054400000000008,"",0,"",{"$f":"IF(OR('3 Irrigation Schedule'!$C$29=\"\",'3 Irrigation Schedule'!$C$31=\"\",H448=\"\"),\"\",(('3 Irrigation Schedule'!$C$29-'3 Irrigation Schedule'!$C$31)/100)*1000*M448)","v":""},"",{"$f":"IF(H448=\"\",\"\",IF(H448=1,N448*(1-'3 Irrigation Schedule'!$C$27),S447-U447))","v":""},"","","",{"$f":"IF(H448=\"\",\"\",IF('3 Irrigation Schedule'!$P$19<O448,'3 Irrigation Schedule'!$P$19,O448))","v":""},"",{"$f":"IF(H448=\"\",\"\",U448/'3 Irrigation Schedule'!$M$19)","v":""}]
[null,null,null,"2021","April","2021-04-20",null,"","",5.3054400000000008,"",0,"",{"$f":"IF(OR('3 Irrigation Schedule'!$C$29=\"\",'3 Irrigation Schedule'!$C$31=\"\",H449=\"\"),\"\",(('3 Irrigation Schedule'!$C$29-'3 Irrigation Schedule'!$C$31)/100)*1000*M449)","v":""},"",{"$f":"IF(H449=\"\",\"\",IF(H449=1,N449*(1-'3 Irrigation Schedule'!$C$27),S448-U448))","v":""},"","","",{"$f":"IF(H449=\"\",\"\",IF('3 Irrigation Schedule'!$P$19<O449,'3 Irrigation Schedule'!$P$19,O449))","v":""},"",{"$f":"IF(H449=\"\",\"\",U449/'3 Irrigation Schedule'!$M$19)","v":""}]
[null,null,null,"2021","April","2021-04-21",null,"","",5.3054400000000008,"",0,"",{"$f":"IF(OR('3 Irrigation Schedule'!$C$29=\"\",'3 Irrigation Schedule'!$C$31=\"\",H450=\"\"),\"\",(('3 Irrigation Schedule'!$C$29-'3 Irrigation Schedule'!$C$31)/100)*1000*M450)","v":""},"",{"$f":"IF(H450=\"\",\"\",IF(H450=1,N450*(1-'3 Irrigation Schedule'!$C$27),S449-U449))","v":""},"","","",{"$f":"IF(H450=\"\",\"\",IF('3 Irrigation Schedule'!$P$19<O450,'3 Irrigation Schedule'!$P$19,O450))","v":""},"",{"$f":"IF(H450=\"\",\"\",U450/'3 Irrigation Schedule'!$M$19)","v":""}]
[null,null,null,"2021","April","2021-04-22",null,"","",5.3054400000000008,"",0,"",{"$f":"IF(OR('3 Irrigation Schedule'!$C$29=\"\",'3 Irrigation Schedule'!$C$31=\"\",H451=\"\"),\"\",(('3 Irrigation Schedule'!$C$29-'3 Irrigation Schedule'!$C$31)/100)*1000*M451)","v":""},"",{"$f":"IF(H451=\"\",\"\",IF(H451=1,N451*(1-'3 Irrigation Schedule'!$C$27),S450-U450))","v":""},"","","",{"$f":"IF(H451=\"\",\"\",IF('3 Irrigation Schedule'!$P$19<O451,'3 Irrigation Schedule'!$P$19,O451))","v":""},"",{"$f":"IF(H451=\"\",\"\",U451/'3 Irrigation Schedule'!$M$19)","v":""}]
[null,null,null,"2021","April","2021-04-23",null,"","",5.3054400000000008,"",0,"",{"$f":"IF(OR('3 Irrigation Schedule'!$C$29=\"\",'3 Irrigation Schedule'!$C$31=\"\",H452=\"\"),\"\",(('3 Irrigation Schedule'!$C$29-'3 Irrigation Schedule'!$C$31)/100)*1000*M452)","v":""},"",{"$f":"IF(H452=\"\",\"\",IF(H452=1,N452*(1-'3 Irrigation Schedule'!$C$27),S451-U451))","v":""},"","","",{"$f":"IF(H452=\"\",\"\",IF('3 Irrigation Schedule'!$P$19<O452,'3 Irrigation Schedule'!$P$19,O452))","v":""},"",{"$f":"IF(H452=\"\",\"\",U452/'3 Irrigation Schedule'!$M$19)","v":""}]
[null,null,null,"2021","April","2021-04-24",null,"","",5.3054400000000008,"",0,"",{"$f":"IF(OR('3 Irrigation Schedule'!$C$29=\"\",'3 Irrigation Schedule'!$C$31=\"\",H453=\"\"),\"\",(('3 Irrigation Schedule'!$C$29-'3 Irrigation Schedule'!$C$31)/100)*1000*M453)","v":""},"",{"$f":"IF(H453=\"\",\"\",IF(H453=1,N453*(1-'3 Irrigation Schedule'!$C$27),S452-U452))","v":""},"","","",{"$f":"IF(H453=\"\",\"\",IF('3 Irrigation Schedule'!$P$19<O453,'3 Irrigation Schedule'!$P$19,O453))","v":""},"",{"$f":"IF(H453=\"\",\"\",U453/'3 Irrigation Schedule'!$M$19)","v":""}]
[null,null,null,"2021","April","2021-04-25",null,"","",5.3054400000000008,"",0,"",{"$f":"IF(OR('3 Irrigation Schedule'!$C$29=\"\",'3 Irrigation Schedule'!$C$31=\"\",H454=\"\"),\"\",(('3 Irrigation Schedule'!$C$29-'3 Irrigation Schedule'!$C$31)/100)*1000*M454)","v":""},"",{"$f":"IF(H454=\"\",\"\",IF(H454=1,N454*(1-'3 Irrigation Schedule'!$C$27),S453-U453))","v":""},"","","",{"$f":"IF(H454=\"\",\"\",IF('3 Irrigation Schedule'!$P$19<O454,'3 Irrigation Schedule'!$P$19,O454))","v":""},"",{"$f":"IF(H454=\"\",\"\",U454/'3 Irrigation Schedule'!$M$19)","v":""}]
[null,null,null,"2021","April","2021-04-26",null,"","",5.3054400000000008,"",0,"",{"$f":"IF(OR('3 Irrigation Schedule'!$C$29=\"\",'3 Irrigation Schedule'!$C$31=\"\",H455=\"\"),\"\",(('3 Irrigation Schedule'!$C$29-'3 Irrigation Schedule'!$C$31)/100)*1000*M455)","v":""},"",{"$f":"IF(H455=\"\",\"\",IF(H455=1,N455*(1-'3 Irrigation Schedule'!$C$27),S454-U454))","v":""},"","","",{"$f":"IF(H455=\"\",\"\",IF('3 Irrigation Schedule'!$P$19<O455,'3 Irrigation Schedule'!$P$19,O455))","v":""},"",{"$f":"IF(H455=\"\",\"\",U455/'3 Irrigation Schedule'!$M$19)","v":""}]
[null,null,null,"2021","April","2021-04-27",null,"","",5.3054400000000008,"",0,"",{"$f":"IF(OR('3 Irrigation Schedule'!$C$29=\"\",'3 Irrigation Schedule'!$C$31=\"\",H456=\"\"),\"\",(('3 Irrigation Schedule'!$C$29-'3 Irrigation Schedule'!$C$31)/100)*1000*M456)","v":""},"",{"$f":"IF(H456=\"\",\"\",IF(H456=1,N456*(1-'3 Irrigation Schedule'!$C$27),S455-U455))","v":""},"","","",{"$f":"IF(H456=\"\",\"\",IF('3 Irrigation Schedule'!$P$19<O456,'3 Irrigation Schedule'!$P$19,O456))","v":""},"",{"$f":"IF(H456=\"\",\"\",U456/'3 Irrigation Schedule'!$M$19)","v":""}]
[null,null,null,"2021","April","2021-04-28",null,"","",5.3054400000000008,"",0,"",{"$f":"IF(OR('3 Irrigation Schedule'!$C$29=\"\",'3 Irrigation Schedule'!$C$31=\"\",H457=\"\"),\"\",(('3 Irrigation Schedule'!$C$29-'3 Irrigation Schedule'!$C$31)/100)*1000*M457)","v":""},"",{"$f":"IF(H457=\"\",\"\",IF(H457=1,N457*(1-'3 Irrigation Schedule'!$C$27),S456-U456))","v":""},"","","",{"$f":"IF(H457=\"\",\"\",IF('3 Irrigation Schedule'!$P$19<O457,'3 Irrigation Schedule'!$P$19,O457))","v":""},"",{"$f":"IF(H457=\"\",\"\",U457/'3 Irrigation Schedule'!$M$19)","v":""}]
[null,null,null,"2021","April","2021-04-29",null,"","",5.3054400000000008,"",0,"",{"$f":"IF(OR('3 Irrigation Schedule'!$C$29=\"\",'3 Irrigation Schedule'!$C$31=\"\",H458=\"\"),\"\",(('3 Irrigation Schedule'!$C$29-'3 Irrigation Schedule'!$C$31)/100)*1000*M458)","v":""},"",{"$f":"IF(H458=\"\",\"\",IF(H458=1,N458*(1-'3 Irrigation Schedule'!$C$27),S457-U457))","v":""},"","","",{"$f":"IF(H458=\"\",\"\",IF('3 Irrigation Schedule'!$P$19<O458,'3 Irrigation Schedule'!$P$19,O458))","v":""},"",{"$f":"IF(H458=\"\",\"\",U458/'3 Irrigation Schedule'!$M$19)","v":""}]
[null,null,null,"2021","April","2021-04-30",null,"","",5.3054400000000008,"",0,"",{"$f":"IF(OR('3 Irrigation Schedule'!$C$29=\"\",'3 Irrigation Schedule'!$C$31=\"\",H459=\"\"),\"\",(('3 Irrigation Schedule'!$C$29-'3 Irrigation Schedule'!$C$31)/100)*1000*M459)","v":""},"",{"$f":"IF(H459=\"\",\"\",IF(H459=1,N459*(1-'3 Irrigation Schedule'!$C$27),S458-U458))","v":""},"","","",{"$f":"IF(H459=\"\",\"\",IF('3 Irrigation Schedule'!$P$19<O459,'3 Irrigation Schedule'!$P$19,O459))","v":""},"",{"$f":"IF(H459=\"\",\"\",U459/'3 Irrigation Schedule'!$M$19)","v":""}]
[null,null,null,"2021","May","2021-05-01",null,"","",5.3183200000000008,"",0,"",{"$f":"IF(OR('3 Irrigation Schedule'!$C$29=\"\",'3 Irrigation Schedule'!$C$31=\"\",H460=\"\"),\"\",(('3 Irrigation Schedule'!$C$29-'3 Irrigation Schedule'!$C$31)/100)*1000*M460)","v":""},"",{"$f":"IF(H460=\"\",\"\",IF(H460=1,N460*(1-'3 Irrigation Schedule'!$C$27),S459-U459))","v":""},"","","",{"$f":"IF(H460=\"\",\"\",IF('3 Irrigation Schedule'!$P$19<O460,'3 Irrigation Schedule'!$P$19,O460))","v":""},"",{"$f":"IF(H460=\"\",\"\",U460/'3 Irrigation Schedule'!$M$19)","v":""}]
[null,null,null,"2021","May","2021-05-02",null,"","",5.3183200000000008,"",0,"",{"$f":"IF(OR('3 Irrigation Schedule'!$C$29=\"\",'3 Irrigation Schedule'!$C$31=\"\",H461=\"\"),\"\",(('3 Irrigation Schedule'!$C$29-'3 Irrigation Schedule'!$C$31)/100)*1000*M461)","v":""},"",{"$f":"IF(H461=\"\",\"\",IF(H461=1,N461*(1-'3 Irrigation Schedule'!$C$27),S460-U460))","v":""},"","","",{"$f":"IF(H461=\"\",\"\",IF('3 Irrigation Schedule'!$P$19<O461,'3 Irrigation Schedule'!$P$19,O461))","v":""},"",{"$f":"IF(H461=\"\",\"\",U461/'3 Irrigation Schedule'!$M$19)","v":""}]
[null,null,null,"2021","May","2021-05-03",null,"","",5.3183200000000008,"",0,"",{"$f":"IF(OR('3 Irrigation Schedule'!$C$29=\"\",'3 Irrigation Schedule'!$C$31=\"\",H462=\"\"),\"\",(('3 Irrigation Schedule'!$C$29-'3 Irrigation Schedule'!$C$31)/100)*1000*M462)","v":""},"",{"$f":"IF(H462=\"\",\"\",IF(H462=1,N462*(1-'3 Irrigation Schedule'!$C$27),S461-U461))","v":""},"","","",{"$f":"IF(H462=\"\",\"\",IF('3 Irrigation Schedule'!$P$19<O462,'3 Irrigation Schedule'!$P$19,O462))","v":""},"",{"$f":"IF(H462=\"\",\"\",U462/'3 Irrigation Schedule'!$M$19)","v":""}]
[null,null,null,"2021","May","2021-05-04",null,"","",5.3183200000000008,"",0,"",{"$f":"IF(OR('3 Irrigation Schedule'!$C$29=\"\",'3 Irrigation Schedule'!$C$31=\"\",H463=\"\"),\"\",(('3 Irrigation Schedule'!$C$29-'3 Irrigation Schedule'!$C$31)/100)*1000*M463)","v":""},"",{"$f":"IF(H463=\"\",\"\",IF(H463=1,N463*(1-'3 Irrigation Schedule'!$C$27),S462-U462))","v":""},"","","",{"$f":"IF(H463=\"\",\"\",IF('3 Irrigation Schedule'!$P$19<O463,'3 Irrigation Schedule'!$P$19,O463))","v":""},"",{"$f":"IF(H463=\"\",\"\",U463/'3 Irrigation Schedule'!$M$19)","v":""}]
[null,null,null,"2021","May","2021-05-05",null,"",{"$f":"IF(H464=\"\",\"\",IF(H464<=$I$27,\"Initial\",IF(AND(H464>$I$27,H464<=$I$28),\"Development\",IF(AND(H464>$I$28,H464<=$I$29),\"Mid Season\",\"Late Season\"))))","v":""},5.3183200000000008,{"$f":"IF(H464=\"\",\"\",IF(H464<=$I$27,$L$27,IF(AND(H464>$I$27,H464<=$I$28),$L$27+((H464-$I$27)/$H$28)*($L$29-$L$27),IF(AND(H464>$I$28,H464<=$I$29),$L$29,$L$29+((H464-$I$29)/$H$30)*($L$30-$L$29)))))","v":""},{"$f":"IFERROR((J464*K464),0)","v":0},{"$f":"IF(H464=\"\",\"\",IF(OR(H464=1,H464<$I$28),$M$27+(($M$28-$M$27)*((H464-1)/($I$28-1))),$M$28))","v":""},{"$f":"IF(OR('3 Irrigation Schedule'!$C$29=\"\",'3 Irrigation Schedule'!$C$31=\"\",H464=\"\"),\"\",(('3 Irrigation Schedule'!$C$29-'3 Irrigation Schedule'!$C$31)/100)*1000*M464)","v":""},{"$f":"IF(H464=\"\",\"\",N464*$N$27)","v":""},{"$f":"IF(H464=\"\",\"\",IF(H464=1,N464*(1-'3 Irrigation Schedule'!$C$27),S463-U463))","v":""},{"$f":"IF(H464=\"\",\"\",IF(P464>O464,(N464-P464)/(N464-O464),1))","v":""},{"$f":"IF(H464=\"\",\"\",L464*Q464)","v":""},{"$f":"IF(H464=\"\",\"\",P464+R464)","v":""},{"$f":"IF(H464=\"\",\"\",IF('3 Irrigation Schedule'!$P$19<O464,'3 Irrigation Schedule'!$P$19,O464))","v":""},{"$f":"IF(H464=\"\",\"\",IF(T464<=S464,T464,0))","v":""},{"$f":"IF(H464=\"\",\"\",U464/'3 Irrigation Schedule'!$M$19)","v":""}]
[null,null,null,"2021","May","2021-05-06",null,"","",5.3183200000000008,"",0,"",{"$f":"IF(OR('3 Irrigation Schedule'!$C$29=\"\",'3 Irrigation Schedule'!$C$31=\"\",H465=\"\"),\"\",(('3 Irrigation Schedule'!$C$29-'3 Irrigation Schedule'!$C$31)/100)*1000*M465)","v":""},"",{"$f":"IF(H465=\"\",\"\",IF(H465=1,N465*(1-'3 Irrigation Schedule'!$C$27),S464-U464))","v":""},"","","",{"$f":"IF(H465=\"\",\"\",IF('3 Irrigation Schedule'!$P$19<O465,'3 Irrigation Schedule'!$P$19,O465))","v":""},"",{"$f":"IF(H465=\"\",\"\",U465/'3 Irrigation Schedule'!$M$19)","v":""}]
[null,null,null,"2021","May","2021-05-07",null,"","",5.3183200000000008,"",0,"",{"$f":"IF(OR('3 Irrigation Schedule'!$C$29=\"\",'3 Irrigation Schedule'!$C$31=\"\",H466=\"\"),\"\",(('3 Irrigation Schedule'!$C$29-'3 Irrigation Schedule'!$C$31)/100)*1000*M466)","v":""},"",{"$f":"IF(H466=\"\",\"\",IF(H466=1,N466*(1-'3 Irrigation Schedule'!$C$27),S465-U465))","v":""},"","","",{"$f":"IF(H466=\"\",\"\",IF('3 Irrigation Schedule'!$P$19<O466,'3 Irrigation Schedule'!$P$19,O466))","v":""},"",{"$f":"IF(H466=\"\",\"\",U466/'3 Irrigation Schedule'!$M$19)","v":""}]
[null,null,null,"2021","May","2021-05-08",null,"","",5.3183200000000008,"",0,"",{"$f":"IF(OR('3 Irrigation Schedule'!$C$29=\"\",'3 Irrigation Schedule'!$C$31=\"\",H467=\"\"),\"\",(('3 Irrigation Schedule'!$C$29-'3 Irrigation Schedule'!$C$31)/100)*1000*M467)","v":""},"",{"$f":"IF(H467=\"\",\"\",IF(H467=1,N467*(1-'3 Irrigation Schedule'!$C$27),S466-U466))","v":""},"","","",{"$f":"IF(H467=\"\",\"\",IF('3 Irrigation Schedule'!$P$19<O467,'3 Irrigation Schedule'!$P$19,O467))","v":""},"",{"$f":"IF(H467=\"\",\"\",U467/'3 Irrigation Schedule'!$M$19)","v":""}]
[null,null,null,"2021","May","2021-05-09",null,"","",5.3183200000000008,"",0,"",{"$f":"IF(OR('3 Irrigation Schedule'!$C$29=\"\",'3 Irrigation Schedule'!$C$31=\"\",H468=\"\"),\"\",(('3 Irrigation Schedule'!$C$29-'3 Irrigation Schedule'!$C$31)/100)*1000*M468)","v":""},"",{"$f":"IF(H468=\"\",\"\",IF(H468=1,N468*(1-'3 Irrigation Schedule'!$C$27),S467-U467))","v":""},"","","",{"$f":"IF(H468=\"\",\"\",IF('3 Irrigation Schedule'!$P$19<O468,'3 Irrigation Schedule'!$P$19,O468))","v":""},"",{"$f":"IF(H468=\"\",\"\",U468/'3 Irrigation Schedule'!$M$19)","v":""}]
[null,null,null,"2021","May","2021-05-10",null,"","",5.3183200000000008,"",0,"",{"$f":"IF(OR('3 Irrigation Schedule'!$C$29=\"\",'3 Irrigation Schedule'!$C$31=\"\",H469=\"\"),\"\",(('3 Irrigation Schedule'!$C$29-'3 Irrigation Schedule'!$C$31)/100)*1000*M469)","v":""},"",{"$f":"IF(H469=\"\",\"\",IF(H469=1,N469*(1-'3 Irrigation Schedule'!$C$27),S468-U468))","v":""},"","","",{"$f":"IF(H469=\"\",\"\",IF('3 Irrigation Schedule'!$P$19<O469,'3 Irrigation Schedule'!$P$19,O469))","v":""},"",{"$f":"IF(H469=\"\",\"\",U469/'3 Irrigation Schedule'!$M$19)","v":""}]
[null,null,null,"2021","May","2021-05-11",null,"","",5.3183200000000008,"",0,"",{"$f":"IF(OR('3 Irrigation Schedule'!$C$29=\"\",'3 Irrigation Schedule'!$C$31=\"\",H470=\"\"),\"\",(('3 Irrigation Schedule'!$C$29-'3 Irrigation Schedule'!$C$31)/100)*1000*M470)","v":""},"",{"$f":"IF(H470=\"\",\"\",IF(H470=1,N470*(1-'3 Irrigation Schedule'!$C$27),S469-U469))","v":""},"","","",{"$f":"IF(H470=\"\",\"\",IF('3 Irrigation Schedule'!$P$19<O470,'3 Irrigation Schedule'!$P$19,O470))","v":""},"",{"$f":"IF(H470=\"\",\"\",U470/'3 Irrigation Schedule'!$M$19)","v":""}]
[null,null,null,"2021","May","2021-05-12",null,"","",5.3183200000000008,"",0,"",{"$f":"IF(OR('3 Irrigation Schedule'!$C$29=\"\",'3 Irrigation Schedule'!$C$31=\"\",H471=\"\"),\"\",(('3 Irrigation Schedule'!$C$29-'3 Irrigation Schedule'!$C$31)/100)*1000*M471)","v":""},"",{"$f":"IF(H471=\"\",\"\",IF(H471=1,N471*(1-'3 Irrigation Schedule'!$C$27),S470-U470))","v":""},"","","",{"$f":"IF(H471=\"\",\"\",IF('3 Irrigation Schedule'!$P$19<O471,'3 Irrigation Schedule'!$P$19,O471))","v":""},"",{"$f":"IF(H471=\"\",\"\",U471/'3 Irrigation Schedule'!$M$19)","v":""}]
[null,null,null,"2021","May","2021-05-13",null,"","",5.3183200000000008,"",0,"",{"$f":"IF(OR('3 Irrigation Schedule'!$C$29=\"\",'3 Irrigation Schedule'!$C$31=\"\",H472=\"\"),\"\",(('3 Irrigation Schedule'!$C$29-'3 Irrigation Schedule'!$C$31)/100)*1000*M472)","v":""},"",{"$f":"IF(H472=\"\",\"\",IF(H472=1,N472*(1-'3 Irrigation Schedule'!$C$27),S471-U471))","v":""},"","","",{"$f":"IF(H472=\"\",\"\",IF('3 Irrigation Schedule'!$P$19<O472,'3 Irrigation Schedule'!$P$19,O472))","v":""},"",{"$f":"IF(H472=\"\",\"\",U472/'3 Irrigation Schedule'!$M$19)","v":""}]
[null,null,null,"2021","May","2021-05-14",null,"","",5.3183200000000008,"",0,"",{"$f":"IF(OR('3 Irrigation Schedule'!$C$29=\"\",'3 Irrigation Schedule'!$C$31=\"\",H473=\"\"),\"\",(('3 Irrigation Schedule'!$C$29-'3 Irrigation Schedule'!$C$31)/100)*1000*M473)","v":""},"",{"$f":"IF(H473=\"\",\"\",IF(H473=1,N473*(1-'3 Irrigation Schedule'!$C$27),S472-U472))","v":""},"","","",{"$f":"IF(H473=\"\",\"\",IF('3 Irrigation Schedule'!$P$19<O473,'3 Irrigation Schedule'!$P$19,O473))","v":""},"",{"$f":"IF(H473=\"\",\"\",U473/'3 Irrigation Schedule'!$M$19)","v":""}]
[null,null,null,"2021","May","2021-05-15",null,"","",5.3183200000000008,"",0,"",{"$f":"IF(OR('3 Irrigation Schedule'!$C$29=\"\",'3 Irrigation Schedule'!$C$31=\"\",H474=\"\"),\"\",(('3 Irrigation Schedule'!$C$29-'3 Irrigation Schedule'!$C$31)/100)*1000*M474)","v":""},"",{"$f":"IF(H474=\"\",\"\",IF(H474=1,N474*(1-'3 Irrigation Schedule'!$C$27),S473-U473))","v":""},"","","",{"$f":"IF(H474=\"\",\"\",IF('3 Irrigation Schedule'!$P$19<O474,'3 Irrigation Schedule'!$P$19,O474))","v":""},"",{"$f":"IF(H474=\"\",\"\",U474/'3 Irrigation Schedule'!$M$19)","v":""}]
[null,null,null,"2021","May","2021-05-16",null,"","",5.3183200000000008,"",0,"",{"$f":"IF(OR('3 Irrigation Schedule'!$C$29=\"\",'3 Irrigation Schedule'!$C$31=\"\",H475=\"\"),\"\",(('3 Irrigation Schedule'!$C$29-'3 Irrigation Schedule'!$C$31)/100)*1000*M475)","v":""},"",{"$f":"IF(H475=\"\",\"\",IF(H475=1,N475*(1-'3 Irrigation Schedule'!$C$27),S474-U474))","v":""},"","","",{"$f":"IF(H475=\"\",\"\",IF('3 Irrigation Schedule'!$P$19<O475,'3 Irrigation Schedule'!$P$19,O475))","v":""},"",{"$f":"IF(H475=\"\",\"\",U475/'3 Irrigation Schedule'!$M$19)","v":""}]
[null,null,null,"2021","May","2021-05-17",null,"","",5.3183200000000008,"",0,"",{"$f":"IF(OR('3 Irrigation Schedule'!$C$29=\"\",'3 Irrigation Schedule'!$C$31=\"\",H476=\"\"),\"\",(('3 Irrigation Schedule'!$C$29-'3 Irrigation Schedule'!$C$31)/100)*1000*M476)","v":""},"",{"$f":"IF(H476=\"\",\"\",IF(H476=1,N476*(1-'3 Irrigation Schedule'!$C$27),S475-U475))","v":""},"","","",{"$f":"IF(H476=\"\",\"\",IF('3 Irrigation Schedule'!$P$19<O476,'3 Irrigation Schedule'!$P$19,O476))","v":""},"",{"$f":"IF(H476=\"\",\"\",U476/'3 Irrigation Schedule'!$M$19)","v":""}]
[null,null,null,"2021","May","2021-05-18",null,"","",5.3183200000000008,"",0,"",{"$f":"IF(OR('3 Irrigation Schedule'!$C$29=\"\",'3 Irrigation Schedule'!$C$31=\"\",H477=\"\"),\"\",(('3 Irrigation Schedule'!$C$29-'3 Irrigation Schedule'!$C$31)/100)*1000*M477)","v":""},"",{"$f":"IF(H477=\"\",\"\",IF(H477=1,N477*(1-'3 Irrigation Schedule'!$C$27),S476-U476))","v":""},"","","",{"$f":"IF(H477=\"\",\"\",IF('3 Irrigation Schedule'!$P$19<O477,'3 Irrigation Schedule'!$P$19,O477))","v":""},"",{"$f":"IF(H477=\"\",\"\",U477/'3 Irrigation Schedule'!$M$19)","v":""}]
[null,null,null,"2021","May","2021-05-19",null,"","",5.3183200000000008,"",0,"",{"$f":"IF(OR('3 Irrigation Schedule'!$C$29=\"\",'3 Irrigation Schedule'!$C$31=\"\",H478=\"\"),\"\",(('3 Irrigation Schedule'!$C$29-'3 Irrigation Schedule'!$C$31)/100)*1000*M478)","v":""},"",{"$f":"IF(H478=\"\",\"\",IF(H478=1,N478*(1-'3 Irrigation Schedule'!$C$27),S477-U477))","v":""},"","","",{"$f":"IF(H478=\"\",\"\",IF('3 Irrigation Schedule'!$P$19<O478,'3 Irrigation Schedule'!$P$19,O478))","v":""},"",{"$f":"IF(H478=\"\",\"\",U478/'3 Irrigation Schedule'!$M$19)","v":""}]
[null,null,null,"2021","May","2021-05-20",null,"","",5.3183200000000008,"",0,"",{"$f":"IF(OR('3 Irrigation Schedule'!$C$29=\"\",'3 Irrigation Schedule'!$C$31=\"\",H479=\"\"),\"\",(('3 Irrigation Schedule'!$C$29-'3 Irrigation Schedule'!$C$31)/100)*1000*M479)","v":""},"",{"$f":"IF(H479=\"\",\"\",IF(H479=1,N479*(1-'3 Irrigation Schedule'!$C$27),S478-U478))","v":""},"","","",{"$f":"IF(H479=\"\",\"\",IF('3 Irrigation Schedule'!$P$19<O479,'3 Irrigation Schedule'!$P$19,O479))","v":""},"",{"$f":"IF(H479=\"\",\"\",U479/'3 Irrigation Schedule'!$M$19)","v":""}]
[null,null,null,"2021","May","2021-05-21",null,"","",5.3183200000000008,"",0,"",{"$f":"IF(OR('3 Irrigation Schedule'!$C$29=\"\",'3 Irrigation Schedule'!$C$31=\"\",H480=\"\"),\"\",(('3 Irrigation Schedule'!$C$29-'3 Irrigation Schedule'!$C$31)/100)*1000*M480)","v":""},"",{"$f":"IF(H480=\"\",\"\",IF(H480=1,N480*(1-'3 Irrigation Schedule'!$C$27),S479-U479))","v":""},"","","",{"$f":"IF(H480=\"\",\"\",IF('3 Irrigation Schedule'!$P$19<O480,'3 Irrigation Schedule'!$P$19,O480))","v":""},"",{"$f":"IF(H480=\"\",\"\",U480/'3 Irrigation Schedule'!$M$19)","v":""}]
[null,null,null,"2021","May","2021-05-22",null,"","",5.3183200000000008,"",0,"",{"$f":"IF(OR('3 Irrigation Schedule'!$C$29=\"\",'3 Irrigation Schedule'!$C$31=\"\",H481=\"\"),\"\",(('3 Irrigation Schedule'!$C$29-'3 Irrigation Schedule'!$C$31)/100)*1000*M481)","v":""},"",{"$f":"IF(H481=\"\",\"\",IF(H481=1,N481*(1-'3 Irrigation Schedule'!$C$27),S480-U480))","v":""},"","","",{"$f":"IF(H481=\"\",\"\",IF('3 Irrigation Schedule'!$P$19<O481,'3 Irrigation Schedule'!$P$19,O481))","v":""},"",{"$f":"IF(H481=\"\",\"\",U481/'3 Irrigation Schedule'!$M$19)","v":""}]
[null,null,null,{"$f":"IFERROR(TEXT(DATE(YEAR($F482),MONTH($F482),1),$D$7&$D$4),\"\")","v":"2021"},{"$f":"IFERROR(TEXT(DATE(YEAR($F482),MONTH($F482),1),$D$7&$D$5),\"\")","v":"May"},"2021-05-23",null,"","",{"$f":"IFERROR(VLOOKUP($E482,$B$19:$C$30,2,FALSE),\"\")","v":5.3183200000000008},"",0,"",{"$f":"IF(OR('3 Irrigation Schedule'!$C$29=\"\",'3 Irrigation Schedule'!$C$31=\"\",H482=\"\"),\"\",(('3 Irrigation Schedule'!$C$29-'3 Irrigation Schedule'!$C$31)/100)*1000*M482)","v":""},"",{"$f":"IF(H482=\"\",\"\",IF(H482=1,N482*(1-'3 Irrigation Schedule'!$C$27),S481-U481))","v":""},"","","",{"$f":"IF(H482=\"\",\"\",IF('3 Irrigation Schedule'!$P$19<O482,'3 Irrigation Schedule'!$P$19,O482))","v":""},"",{"$f":"IF(H482=\"\",\"\",U482/'3 Irrigation Schedule'!$M$19)","v":""}]
[null,null,null,"2021","May",{"$f":"IFERROR(IF(F482+1<=$N$7, F482+1,\"\"),\"\")","v":"2021-05-24"},null,{"$f":"IFERROR(IF(OR($F483-$J$27+1<=0,$F483>$K$30),\"\",$F483-$J$27+1),\"\")","v":""},"",5.3183200000000008,"",0,"",{"$f":"IF(OR('3 Irrigation Schedule'!$C$29=\"\",'3 Irrigation Schedule'!$C$31=\"\",H483=\"\"),\"\",(('3 Irrigation Schedule'!$C$29-'3 Irrigation Schedule'!$C$31)/100)*1000*M483)","v":""},"",{"$f":"IF(H483=\"\",\"\",IF(H483=1,N483*(1-'3 Irrigation Schedule'!$C$27),S482-U482))","v":""},"","","",{"$f":"IF(H483=\"\",\"\",IF('3 Irrigation Schedule'!$P$19<O483,'3 Irrigation Schedule'!$P$19,O483))","v":""},"",{"$f":"IF(H483=\"\",\"\",U483/'3 Irrigation Schedule'!$M$19)","v":""}]
[null,null,null,"2021","May","2021-05-25",null,"","",5.3183200000000008,"",0,"",{"$f":"IF(OR('3 Irrigation Schedule'!$C$29=\"\",'3 Irrigation Schedule'!$C$31=\"\",H484=\"\"),\"\",(('3 Irrigation Schedule'!$C$29-'3 Irrigation Schedule'!$C$31)/100)*1000*M484)","v":""},"",{"$f":"IF(H484=\"\",\"\",IF(H484=1,N484*(1-'3 Irrigation Schedule'!$C$27),S483-U483))","v":""},"","","",{"$f":"IF(H484=\"\",\"\",IF('3 Irrigation Schedule'!$P$19<O484,'3 Irrigation Schedule'!$P$19,O484))","v":""},"",{"$f":"IF(H484=\"\",\"\",U484/'3 Irrigation Schedule'!$M$19)","v":""}]
[null,null,null,"2021","May","2021-05-26",null,"","",5.3183200000000008,"",0,"",{"$f":"IF(OR('3 Irrigation Schedule'!$C$29=\"\",'3 Irrigation Schedule'!$C$31=\"\",H485=\"\"),\"\",(('3 Irrigation Schedule'!$C$29-'3 Irrigation Schedule'!$C$31)/100)*1000*M485)","v":""},"",{"$f":"IF(H485=\"\",\"\",IF(H485=1,N485*(1-'3 Irrigation Schedule'!$C$27),S484-U484))","v":""},"","","",{"$f":"IF(H485=\"\",\"\",IF('3 Irrigation Schedule'!$P$19<O485,'3 Irrigation Schedule'!$P$19,O485))","v":""},"",{"$f":"IF(H485=\"\",\"\",U485/'3 Irrigation Schedule'!$M$19)","v":""}]
[null,null,null,"2021","May","2021-05-27",null,"","",5.3183200000000008,"",0,"",{"$f":"IF(OR('3 Irrigation Schedule'!$C$29=\"\",'3 Irrigation Schedule'!$C$31=\"\",H486=\"\"),\"\",(('3 Irrigation Schedule'!$C$29-'3 Irrigation Schedule'!$C$31)/100)*1000*M486)","v":""},"",{"$f":"IF(H486=\"\",\"\",IF(H486=1,N486*(1-'3 Irrigation Schedule'!$C$27),S485-U485))","v":""},"","","",{"$f":"IF(H486=\"\",\"\",IF('3 Irrigation Schedule'!$P$19<O486,'3 Irrigation Schedule'!$P$19,O486))","v":""},"",{"$f":"IF(H486=\"\",\"\",U486/'3 Irrigation Schedule'!$M$19)","v":""}]
[null,null,null,"2021","May","2021-05-28",null,"","",5.3183200000000008,"",0,"",{"$f":"IF(OR('3 Irrigation Schedule'!$C$29=\"\",'3 Irrigation Schedule'!$C$31=\"\",H487=\"\"),\"\",(('3 Irrigation Schedule'!$C$29-'3 Irrigation Schedule'!$C$31)/100)*1000*M487)","v":""},"",{"$f":"IF(H487=\"\",\"\",IF(H487=1,N487*(1-'3 Irrigation Schedule'!$C$27),S486-U486))","v":""},"","","",{"$f":"IF(H487=\"\",\"\",IF('3 Irrigation Schedule'!$P$19<O487,'3 Irrigation Schedule'!$P$19,O487))","v":""},"",{"$f":"IF(H487=\"\",\"\",U487/'3 Irrigation Schedule'!$M$19)","v":""}]
[null,null,null,"2021","May","2021-05-29",null,"","",5.3183200000000008,"",0,"",{"$f":"IF(OR('3 Irrigation Schedule'!$C$29=\"\",'3 Irrigation Schedule'!$C$31=\"\",H488=\"\"),\"\",(('3 Irrigation Schedule'!$C$29-'3 Irrigation Schedule'!$C$31)/100)*1000*M488)","v":""},"",{"$f":"IF(H488=\"\",\"\",IF(H488=1,N488*(1-'3 Irrigation Schedule'!$C$27),S487-U487))","v":""},"","","",{"$f":"IF(H488=\"\",\"\",IF('3 Irrigation Schedule'!$P$19<O488,'3 Irrigation Schedule'!$P$19,O488))","v":""},"",{"$f":"IF(H488=\"\",\"\",U488/'3 Irrigation Schedule'!$M$19)","v":""}]
[null,null,null,"2021","May","2021-05-30",null,"","",5.3183200000000008,"",0,"",{"$f":"IF(OR('3 Irrigation Schedule'!$C$29=\"\",'3 Irrigation Schedule'!$C$31=\"\",H489=\"\"),\"\",(('3 Irrigation Schedule'!$C$29-'3 Irrigation Schedule'!$C$31)/100)*1000*M489)","v":""},"",{"$f":"IF(H489=\"\",\"\",IF(H489=1,N489*(1-'3 Irrigation Schedule'!$C$27),S488-U488))","v":""},"","","",{"$f":"IF(H489=\"\",\"\",IF('3 Irrigation Schedule'!$P$19<O489,'3 Irrigation Schedule'!$P$19,O489))","v":""},"",{"$f":"IF(H489=\"\",\"\",U489/'3 Irrigation Schedule'!$M$19)","v":""}]
[null,null,null,"2021","May","2021-05-31",null,"","",5.3183200000000008,"",0,"",{"$f":"IF(OR('3 Irrigation Schedule'!$C$29=\"\",'3 Irrigation Schedule'!$C$31=\"\",H490=\"\"),\"\",(('3 Irrigation Schedule'!$C$29-'3 Irrigation Schedule'!$C$31)/100)*1000*M490)","v":""},"",{"$f":"IF(H490=\"\",\"\",IF(H490=1,N490*(1-'3 Irrigation Schedule'!$C$27),S489-U489))","v":""},"","","",{"$f":"IF(H490=\"\",\"\",IF('3 Irrigation Schedule'!$P$19<O490,'3 Irrigation Schedule'!$P$19,O490))","v":""},"",{"$f":"IF(H490=\"\",\"\",U490/'3 Irrigation Schedule'!$M$19)","v":""}]
[null,null,null,"2021","June","2021-06-01",null,"","",5.2668000000000008,"",0,"",{"$f":"IF(OR('3 Irrigation Schedule'!$C$29=\"\",'3 Irrigation Schedule'!$C$31=\"\",H491=\"\"),\"\",(('3 Irrigation Schedule'!$C$29-'3 Irrigation Schedule'!$C$31)/100)*1000*M491)","v":""},"",{"$f":"IF(H491=\"\",\"\",IF(H491=1,N491*(1-'3 Irrigation Schedule'!$C$27),S490-U490))","v":""},"","","",{"$f":"IF(H491=\"\",\"\",IF('3 Irrigation Schedule'!$P$19<O491,'3 Irrigation Schedule'!$P$19,O491))","v":""},"",{"$f":"IF(H491=\"\",\"\",U491/'3 Irrigation Schedule'!$M$19)","v":""}]
[null,null,null,"2021","June","2021-06-02",null,"","",5.2668000000000008,"",0,"",{"$f":"IF(OR('3 Irrigation Schedule'!$C$29=\"\",'3 Irrigation Schedule'!$C$31=\"\",H492=\"\"),\"\",(('3 Irrigation Schedule'!$C$29-'3 Irrigation Schedule'!$C$31)/100)*1000*M492)","v":""},"",{"$f":"IF(H492=\"\",\"\",IF(H492=1,N492*(1-'3 Irrigation Schedule'!$C$27),S491-U491))","v":""},"","","",{"$f":"IF(H492=\"\",\"\",IF('3 Irrigation Schedule'!$P$19<O492,'3 Irrigation Schedule'!$P$19,O492))","v":""},"",{"$f":"IF(H492=\"\",\"\",U492/'3 Irrigation Schedule'!$M$19)","v":""}]
[null,null,null,"2021","June","2021-06-03",null,"","",5.2668000000000008,"",0,"",{"$f":"IF(OR('3 Irrigation Schedule'!$C$29=\"\",'3 Irrigation Schedule'!$C$31=\"\",H493=\"\"),\"\",(('3 Irrigation Schedule'!$C$29-'3 Irrigation Schedule'!$C$31)/100)*1000*M493)","v":""},"",{"$f":"IF(H493=\"\",\"\",IF(H493=1,N493*(1-'3 Irrigation Schedule'!$C$27),S492-U492))","v":""},"","","",{"$f":"IF(H493=\"\",\"\",IF('3 Irrigation Schedule'!$P$19<O493,'3 Irrigation Schedule'!$P$19,O493))","v":""},"",{"$f":"IF(H493=\"\",\"\",U493/'3 Irrigation Schedule'!$M$19)","v":""}]
[null,null,null,"2021","June","2021-06-04",null,"","",5.2668000000000008,"",0,"",{"$f":"IF(OR('3 Irrigation Schedule'!$C$29=\"\",'3 Irrigation Schedule'!$C$31=\"\",H494=\"\"),\"\",(('3 Irrigation Schedule'!$C$29-'3 Irrigation Schedule'!$C$31)/100)*1000*M494)","v":""},"",{"$f":"IF(H494=\"\",\"\",IF(H494=1,N494*(1-'3 Irrigation Schedule'!$C$27),S493-U493))","v":""},"","","",{"$f":"IF(H494=\"\",\"\",IF('3 Irrigation Schedule'!$P$19<O494,'3 Irrigation Schedule'!$P$19,O494))","v":""},"",{"$f":"IF(H494=\"\",\"\",U494/'3 Irrigation Schedule'!$M$19)","v":""}]
[null,null,null,"2021","June","2021-06-05",null,"","",5.2668000000000008,"",0,"",{"$f":"IF(OR('3 Irrigation Schedule'!$C$29=\"\",'3 Irrigation Schedule'!$C$31=\"\",H495=\"\"),\"\",(('3 Irrigation Schedule'!$C$29-'3 Irrigation Schedule'!$C$31)/100)*1000*M495)","v":""},"",{"$f":"IF(H495=\"\",\"\",IF(H495=1,N495*(1-'3 Irrigation Schedule'!$C$27),S494-U494))","v":""},"","","",{"$f":"IF(H495=\"\",\"\",IF('3 Irrigation Schedule'!$P$19<O495,'3 Irrigation Schedule'!$P$19,O495))","v":""},"",{"$f":"IF(H495=\"\",\"\",U495/'3 Irrigation Schedule'!$M$19)","v":""}]
[null,null,null,"2021","June","2021-06-06",null,"","",5.2668000000000008,"",0,"",{"$f":"IF(OR('3 Irrigation Schedule'!$C$29=\"\",'3 Irrigation Schedule'!$C$31=\"\",H496=\"\"),\"\",(('3 Irrigation Schedule'!$C$29-'3 Irrigation Schedule'!$C$31)/100)*1000*M496)","v":""},"",{"$f":"IF(H496=\"\",\"\",IF(H496=1,N496*(1-'3 Irrigation Schedule'!$C$27),S495-U495))","v":""},"","","",{"$f":"IF(H496=\"\",\"\",IF('3 Irrigation Schedule'!$P$19<O496,'3 Irrigation Schedule'!$P$19,O496))","v":""},"",{"$f":"IF(H496=\"\",\"\",U496/'3 Irrigation Schedule'!$M$19)","v":""}]
[null,null,null,"2021","June","2021-06-07",null,"","",5.2668000000000008,"",0,"",{"$f":"IF(OR('3 Irrigation Schedule'!$C$29=\"\",'3 Irrigation Schedule'!$C$31=\"\",H497=\"\"),\"\",(('3 Irrigation Schedule'!$C$29-'3 Irrigation Schedule'!$C$31)/100)*1000*M497)","v":""},"",{"$f":"IF(H497=\"\",\"\",IF(H497=1,N497*(1-'3 Irrigation Schedule'!$C$27),S496-U496))","v":""},"","","",{"$f":"IF(H497=\"\",\"\",IF('3 Irrigation Schedule'!$P$19<O497,'3 Irrigation Schedule'!$P$19,O497))","v":""},"",{"$f":"IF(H497=\"\",\"\",U497/'3 Irrigation Schedule'!$M$19)","v":""}]
[null,null,null,"2021","June","2021-06-08",null,"","",5.2668000000000008,"",0,"",{"$f":"IF(OR('3 Irrigation Schedule'!$C$29=\"\",'3 Irrigation Schedule'!$C$31=\"\",H498=\"\"),\"\",(('3 Irrigation Schedule'!$C$29-'3 Irrigation Schedule'!$C$31)/100)*1000*M498)","v":""},"",{"$f":"IF(H498=\"\",\"\",IF(H498=1,N498*(1-'3 Irrigation Schedule'!$C$27),S497-U497))","v":""},"","","",{"$f":"IF(H498=\"\",\"\",IF('3 Irrigation Schedule'!$P$19<O498,'3 Irrigation Schedule'!$P$19,O498))","v":""},"",{"$f":"IF(H498=\"\",\"\",U498/'3 Irrigation Schedule'!$M$19)","v":""}]
[null,null,null,"2021","June","2021-06-09",null,"","",5.2668000000000008,"",0,"",{"$f":"IF(OR('3 Irrigation Schedule'!$C$29=\"\",'3 Irrigation Schedule'!$C$31=\"\",H499=\"\"),\"\",(('3 Irrigation Schedule'!$C$29-'3 Irrigation Schedule'!$C$31)/100)*1000*M499)","v":""},"",{"$f":"IF(H499=\"\",\"\",IF(H499=1,N499*(1-'3 Irrigation Schedule'!$C$27),S498-U498))","v":""},"","","",{"$f":"IF(H499=\"\",\"\",IF('3 Irrigation Schedule'!$P$19<O499,'3 Irrigation Schedule'!$P$19,O499))","v":""},"",{"$f":"IF(H499=\"\",\"\",U499/'3 Irrigation Schedule'!$M$19)","v":""}]
[null,null,null,"2021","June","2021-06-10",null,"","",5.2668000000000008,"",0,"",{"$f":"IF(OR('3 Irrigation Schedule'!$C$29=\"\",'3 Irrigation Schedule'!$C$31=\"\",H500=\"\"),\"\",(('3 Irrigation Schedule'!$C$29-'3 Irrigation Schedule'!$C$31)/100)*1000*M500)","v":""},"",{"$f":"IF(H500=\"\",\"\",IF(H500=1,N500*(1-'3 Irrigation Schedule'!$C$27),S499-U499))","v":""},"","","",{"$f":"IF(H500=\"\",\"\",IF('3 Irrigation Schedule'!$P$19<O500,'3 Irrigation Schedule'!$P$19,O500))","v":""},"",{"$f":"IF(H500=\"\",\"\",U500/'3 Irrigation Schedule'!$M$19)","v":""}]
[null,null,null,"2021","June","2021-06-11",null,"","",5.2668000000000008,"",0,"",{"$f":"IF(OR('3 Irrigation Schedule'!$C$29=\"\",'3 Irrigation Schedule'!$C$31=\"\",H501=\"\"),\"\",(('3 Irrigation Schedule'!$C$29-'3 Irrigation Schedule'!$C$31)/100)*1000*M501)","v":""},"",{"$f":"IF(H501=\"\",\"\",IF(H501=1,N501*(1-'3 Irrigation Schedule'!$C$27),S500-U500))","v":""},"","","",{"$f":"IF(H501=\"\",\"\",IF('3 Irrigation Schedule'!$P$19<O501,'3 Irrigation Schedule'!$P$19,O501))","v":""},"",{"$f":"IF(H501=\"\",\"\",U501/'3 Irrigation Schedule'!$M$19)","v":""}]
[null,null,null,"2021","June","2021-06-12",null,"","",5.2668000000000008,"",0,"",{"$f":"IF(OR('3 Irrigation Schedule'!$C$29=\"\",'3 Irrigation Schedule'!$C$31=\"\",H502=\"\"),\"\",(('3 Irrigation Schedule'!$C$29-'3 Irrigation Schedule'!$C$31)/100)*1000*M502)","v":""},"",{"$f":"IF(H502=\"\",\"\",IF(H502=1,N502*(1-'3 Irrigation Schedule'!$C$27),S501-U501))","v":""},"","","",{"$f":"IF(H502=\"\",\"\",IF('3 Irrigation Schedule'!$P$19<O502,'3 Irrigation Schedule'!$P$19,O502))","v":""},"",{"$f":"IF(H502=\"\",\"\",U502/'3 Irrigation Schedule'!$M$19)","v":""}]
[null,null,null,"2021","June","2021-06-13",null,"","",5.2668000000000008,"",0,"",{"$f":"IF(OR('3 Irrigation Schedule'!$C$29=\"\",'3 Irrigation Schedule'!$C$31=\"\",H503=\"\"),\"\",(('3 Irrigation Schedule'!$C$29-'3 Irrigation Schedule'!$C$31)/100)*1000*M503)","v":""},"",{"$f":"IF(H503=\"\",\"\",IF(H503=1,N503*(1-'3 Irrigation Schedule'!$C$27),S502-U502))","v":""},"","","",{"$f":"IF(H503=\"\",\"\",IF('3 Irrigation Schedule'!$P$19<O503,'3 Irrigation Schedule'!$P$19,O503))","v":""},"",{"$f":"IF(H503=\"\",\"\",U503/'3 Irrigation Schedule'!$M$19)","v":""}]
[null,null,null,"2021","June","2021-06-14",null,"","",5.2668000000000008,"",0,"",{"$f":"IF(OR('3 Irrigation Schedule'!$C$29=\"\",'3 Irrigation Schedule'!$C$31=\"\",H504=\"\"),\"\",(('3 Irrigation Schedule'!$C$29-'3 Irrigation Schedule'!$C$31)/100)*1000*M504)","v":""},"",{"$f":"IF(H504=\"\",\"\",IF(H504=1,N504*(1-'3 Irrigation Schedule'!$C$27),S503-U503))","v":""},"","","",{"$f":"IF(H504=\"\",\"\",IF('3 Irrigation Schedule'!$P$19<O504,'3 Irrigation Schedule'!$P$19,O504))","v":""},"",{"$f":"IF(H504=\"\",\"\",U504/'3 Irrigation Schedule'!$M$19)","v":""}]
[null,null,null,"2021","June","2021-06-15",null,"","",5.2668000000000008,"",0,"",{"$f":"IF(OR('3 Irrigation Schedule'!$C$29=\"\",'3 Irrigation Schedule'!$C$31=\"\",H505=\"\"),\"\",(('3 Irrigation Schedule'!$C$29-'3 Irrigation Schedule'!$C$31)/100)*1000*M505)","v":""},"",{"$f":"IF(H505=\"\",\"\",IF(H505=1,N505*(1-'3 Irrigation Schedule'!$C$27),S504-U504))","v":""},"","","",{"$f":"IF(H505=\"\",\"\",IF('3 Irrigation Schedule'!$P$19<O505,'3 Irrigation Schedule'!$P$19,O505))","v":""},"",{"$f":"IF(H505=\"\",\"\",U505/'3 Irrigation Schedule'!$M$19)","v":""}]
[null,null,null,"2021","June","2021-06-16",null,"","",5.2668000000000008,"",0,"",{"$f":"IF(OR('3 Irrigation Schedule'!$C$29=\"\",'3 Irrigation Schedule'!$C$31=\"\",H506=\"\"),\"\",(('3 Irrigation Schedule'!$C$29-'3 Irrigation Schedule'!$C$31)/100)*1000*M506)","v":""},"",{"$f":"IF(H506=\"\",\"\",IF(H506=1,N506*(1-'3 Irrigation Schedule'!$C$27),S505-U505))","v":""},"","","",{"$f":"IF(H506=\"\",\"\",IF('3 Irrigation Schedule'!$P$19<O506,'3 Irrigation Schedule'!$P$19,O506))","v":""},"",{"$f":"IF(H506=\"\",\"\",U506/'3 Irrigation Schedule'!$M$19)","v":""}]
[null,null,null,"2021","June","2021-06-17",null,"","",5.2668000000000008,"",0,"",{"$f":"IF(OR('3 Irrigation Schedule'!$C$29=\"\",'3 Irrigation Schedule'!$C$31=\"\",H507=\"\"),\"\",(('3 Irrigation Schedule'!$C$29-'3 Irrigation Schedule'!$C$31)/100)*1000*M507)","v":""},"",{"$f":"IF(H507=\"\",\"\",IF(H507=1,N507*(1-'3 Irrigation Schedule'!$C$27),S506-U506))","v":""},"","","",{"$f":"IF(H507=\"\",\"\",IF('3 Irrigation Schedule'!$P$19<O507,'3 Irrigation Schedule'!$P$19,O507))","v":""},"",{"$f":"IF(H507=\"\",\"\",U507/'3 Irrigation Schedule'!$M$19)","v":""}]
[null,null,null,"2021","June","2021-06-18",null,"","",5.2668000000000008,"",0,"",{"$f":"IF(OR('3 Irrigation Schedule'!$C$29=\"\",'3 Irrigation Schedule'!$C$31=\"\",H508=\"\"),\"\",(('3 Irrigation Schedule'!$C$29-'3 Irrigation Schedule'!$C$31)/100)*1000*M508)","v":""},"",{"$f":"IF(H508=\"\",\"\",IF(H508=1,N508*(1-'3 Irrigation Schedule'!$C$27),S507-U507))","v":""},"","","",{"$f":"IF(H508=\"\",\"\",IF('3 Irrigation Schedule'!$P$19<O508,'3 Irrigation Schedule'!$P$19,O508))","v":""},"",{"$f":"IF(H508=\"\",\"\",U508/'3 Irrigation Schedule'!$M$19)","v":""}]
[null,null,null,"2021","June","2021-06-19",null,"","",5.2668000000000008,"",0,"",{"$f":"IF(OR('3 Irrigation Schedule'!$C$29=\"\",'3 Irrigation Schedule'!$C$31=\"\",H509=\"\"),\"\",(('3 Irrigation Schedule'!$C$29-'3 Irrigation Schedule'!$C$31)/100)*1000*M509)","v":""},"",{"$f":"IF(H509=\"\",\"\",IF(H509=1,N509*(1-'3 Irrigation Schedule'!$C$27),S508-U508))","v":""},"","","",{"$f":"IF(H509=\"\",\"\",IF('3 Irrigation Schedule'!$P$19<O509,'3 Irrigation Schedule'!$P$19,O509))","v":""},"",{"$f":"IF(H509=\"\",\"\",U509/'3 Irrigation Schedule'!$M$19)","v":""}]
[null,null,null,"2021","June","2021-06-20",null,"","",5.2668000000000008,"",0,"",{"$f":"IF(OR('3 Irrigation Schedule'!$C$29=\"\",'3 Irrigation Schedule'!$C$31=\"\",H510=\"\"),\"\",(('3 Irrigation Schedule'!$C$29-'3 Irrigation Schedule'!$C$31)/100)*1000*M510)","v":""},"",{"$f":"IF(H510=\"\",\"\",IF(H510=1,N510*(1-'3 Irrigation Schedule'!$C$27),S509-U509))","v":""},"","","",{"$f":"IF(H510=\"\",\"\",IF('3 Irrigation Schedule'!$P$19<O510,'3 Irrigation Schedule'!$P$19,O510))","v":""},"",{"$f":"IF(H510=\"\",\"\",U510/'3 Irrigation Schedule'!$M$19)","v":""}]
[null,null,null,"2021","June","2021-06-21",null,"","",5.2668000000000008,"",0,"",{"$f":"IF(OR('3 Irrigation Schedule'!$C$29=\"\",'3 Irrigation Schedule'!$C$31=\"\",H511=\"\"),\"\",(('3 Irrigation Schedule'!$C$29-'3 Irrigation Schedule'!$C$31)/100)*1000*M511)","v":""},"",{"$f":"IF(H511=\"\",\"\",IF(H511=1,N511*(1-'3 Irrigation Schedule'!$C$27),S510-U510))","v":""},"","","",{"$f":"IF(H511=\"\",\"\",IF('3 Irrigation Schedule'!$P$19<O511,'3 Irrigation Schedule'!$P$19,O511))","v":""},"",{"$f":"IF(H511=\"\",\"\",U511/'3 Irrigation Schedule'!$M$19)","v":""}]
[null,null,null,"2021","June","2021-06-22",null,"","",5.2668000000000008,"",0,"",{"$f":"IF(OR('3 Irrigation Schedule'!$C$29=\"\",'3 Irrigation Schedule'!$C$31=\"\",H512=\"\"),\"\",(('3 Irrigation Schedule'!$C$29-'3 Irrigation Schedule'!$C$31)/100)*1000*M512)","v":""},"",{"$f":"IF(H512=\"\",\"\",IF(H512=1,N512*(1-'3 Irrigation Schedule'!$C$27),S511-U511))","v":""},"","","",{"$f":"IF(H512=\"\",\"\",IF('3 Irrigation Schedule'!$P$19<O512,'3 Irrigation Schedule'!$P$19,O512))","v":""},"",{"$f":"IF(H512=\"\",\"\",U512/'3 Irrigation Schedule'!$M$19)","v":""}]
[null,null,null,"2021","June","2021-06-23",null,"","",5.2668000000000008,"",0,"",{"$f":"IF(OR('3 Irrigation Schedule'!$C$29=\"\",'3 Irrigation Schedule'!$C$31=\"\",H513=\"\"),\"\",(('3 Irrigation Schedule'!$C$29-'3 Irrigation Schedule'!$C$31)/100)*1000*M513)","v":""},"",{"$f":"IF(H513=\"\",\"\",IF(H513=1,N513*(1-'3 Irrigation Schedule'!$C$27),S512-U512))","v":""},"","","",{"$f":"IF(H513=\"\",\"\",IF('3 Irrigation Schedule'!$P$19<O513,'3 Irrigation Schedule'!$P$19,O513))","v":""},"",{"$f":"IF(H513=\"\",\"\",U513/'3 Irrigation Schedule'!$M$19)","v":""}]
[null,null,null,"2021","June","2021-06-24",null,"","",5.2668000000000008,"",0,"",{"$f":"IF(OR('3 Irrigation Schedule'!$C$29=\"\",'3 Irrigation Schedule'!$C$31=\"\",H514=\"\"),\"\",(('3 Irrigation Schedule'!$C$29-'3 Irrigation Schedule'!$C$31)/100)*1000*M514)","v":""},"",{"$f":"IF(H514=\"\",\"\",IF(H514=1,N514*(1-'3 Irrigation Schedule'!$C$27),S513-U513))","v":""},"","","",{"$f":"IF(H514=\"\",\"\",IF('3 Irrigation Schedule'!$P$19<O514,'3 Irrigation Schedule'!$P$19,O514))","v":""},"",{"$f":"IF(H514=\"\",\"\",U514/'3 Irrigation Schedule'!$M$19)","v":""}]
[null,null,null,"2021","June","2021-06-25",null,"","",5.2668000000000008,"",0,"",{"$f":"IF(OR('3 Irrigation Schedule'!$C$29=\"\",'3 Irrigation Schedule'!$C$31=\"\",H515=\"\"),\"\",(('3 Irrigation Schedule'!$C$29-'3 Irrigation Schedule'!$C$31)/100)*1000*M515)","v":""},"",{"$f":"IF(H515=\"\",\"\",IF(H515=1,N515*(1-'3 Irrigation Schedule'!$C$27),S514-U514))","v":""},"","","",{"$f":"IF(H515=\"\",\"\",IF('3 Irrigation Schedule'!$P$19<O515,'3 Irrigation Schedule'!$P$19,O515))","v":""},"",{"$f":"IF(H515=\"\",\"\",U515/'3 Irrigation Schedule'!$M$19)","v":""}]
[null,null,null,"2021","June","2021-06-26",null,"","",5.2668000000000008,"",0,"",{"$f":"IF(OR('3 Irrigation Schedule'!$C$29=\"\",'3 Irrigation Schedule'!$C$31=\"\",H516=\"\"),\"\",(('3 Irrigation Schedule'!$C$29-'3 Irrigation Schedule'!$C$31)/100)*1000*M516)","v":""},"",{"$f":"IF(H516=\"\",\"\",IF(H516=1,N516*(1-'3 Irrigation Schedule'!$C$27),S515-U515))","v":""},"","","",{"$f":"IF(H516=\"\",\"\",IF('3 Irrigation Schedule'!$P$19<O516,'3 Irrigation Schedule'!$P$19,O516))","v":""},"",{"$f":"IF(H516=\"\",\"\",U516/'3 Irrigation Schedule'!$M$19)","v":""}]
[null,null,null,"2021","June","2021-06-27",null,"","",5.2668000000000008,"",0,"",{"$f":"IF(OR('3 Irrigation Schedule'!$C$29=\"\",'3 Irrigation Schedule'!$C$31=\"\",H517=\"\"),\"\",(('3 Irrigation Schedule'!$C$29-'3 Irrigation Schedule'!$C$31)/100)*1000*M517)","v":""},"",{"$f":"IF(H517=\"\",\"\",IF(H517=1,N517*(1-'3 Irrigation Schedule'!$C$27),S516-U516))","v":""},"","","",{"$f":"IF(H517=\"\",\"\",IF('3 Irrigation Schedule'!$P$19<O517,'3 Irrigation Schedule'!$P$19,O517))","v":""},"",{"$f":"IF(H517=\"\",\"\",U517/'3 Irrigation Schedule'!$M$19)","v":""}]
[null,null,null,"2021","June","2021-06-28",null,"","",5.2668000000000008,"",0,"",{"$f":"IF(OR('3 Irrigation Schedule'!$C$29=\"\",'3 Irrigation Schedule'!$C$31=\"\",H518=\"\"),\"\",(('3 Irrigation Schedule'!$C$29-'3 Irrigation Schedule'!$C$31)/100)*1000*M518)","v":""},"",{"$f":"IF(H518=\"\",\"\",IF(H518=1,N518*(1-'3 Irrigation Schedule'!$C$27),S517-U517))","v":""},"","","",{"$f":"IF(H518=\"\",\"\",IF('3 Irrigation Schedule'!$P$19<O518,'3 Irrigation Schedule'!$P$19,O518))","v":""},"",{"$f":"IF(H518=\"\",\"\",U518/'3 Irrigation Schedule'!$M$19)","v":""}]
[null,null,null,"2021","June","2021-06-29",null,"","",5.2668000000000008,"",0,"",{"$f":"IF(OR('3 Irrigation Schedule'!$C$29=\"\",'3 Irrigation Schedule'!$C$31=\"\",H519=\"\"),\"\",(('3 Irrigation Schedule'!$C$29-'3 Irrigation Schedule'!$C$31)/100)*1000*M519)","v":""},"",{"$f":"IF(H519=\"\",\"\",IF(H519=1,N519*(1-'3 Irrigation Schedule'!$C$27),S518-U518))","v":""},"","","",{"$f":"IF(H519=\"\",\"\",IF('3 Irrigation Schedule'!$P$19<O519,'3 Irrigation Schedule'!$P$19,O519))","v":""},"",{"$f":"IF(H519=\"\",\"\",U519/'3 Irrigation Schedule'!$M$19)","v":""}]
[null,null,null,"2021","June","2021-06-30",null,"","",5.2668000000000008,"",0,"",{"$f":"IF(OR('3 Irrigation Schedule'!$C$29=\"\",'3 Irrigation Schedule'!$C$31=\"\",H520=\"\"),\"\",(('3 Irrigation Schedule'!$C$29-'3 Irrigation Schedule'!$C$31)/100)*1000*M520)","v":""},"",{"$f":"IF(H520=\"\",\"\",IF(H520=1,N520*(1-'3 Irrigation Schedule'!$C$27),S519-U519))","v":""},"","","",{"$f":"IF(H520=\"\",\"\",IF('3 Irrigation Schedule'!$P$19<O520,'3 Irrigation Schedule'!$P$19,O520))","v":""},"",{"$f":"IF(H520=\"\",\"\",U520/'3 Irrigation Schedule'!$M$19)","v":""}]
[null,null,null,"2021","July","2021-07-01",null,"","",5.2023999999999999,"",0,"",{"$f":"IF(OR('3 Irrigation Schedule'!$C$29=\"\",'3 Irrigation Schedule'!$C$31=\"\",H521=\"\"),\"\",(('3 Irrigation Schedule'!$C$29-'3 Irrigation Schedule'!$C$31)/100)*1000*M521)","v":""},"",{"$f":"IF(H521=\"\",\"\",IF(H521=1,N521*(1-'3 Irrigation Schedule'!$C$27),S520-U520))","v":""},"","","",{"$f":"IF(H521=\"\",\"\",IF('3 Irrigation Schedule'!$P$19<O521,'3 Irrigation Schedule'!$P$19,O521))","v":""},"",{"$f":"IF(H521=\"\",\"\",U521/'3 Irrigation Schedule'!$M$19)","v":""}]
[null,null,null,"2021","July","2021-07-02",null,"","",5.2023999999999999,"",0,"",{"$f":"IF(OR('3 Irrigation Schedule'!$C$29=\"\",'3 Irrigation Schedule'!$C$31=\"\",H522=\"\"),\"\",(('3 Irrigation Schedule'!$C$29-'3 Irrigation Schedule'!$C$31)/100)*1000*M522)","v":""},"",{"$f":"IF(H522=\"\",\"\",IF(H522=1,N522*(1-'3 Irrigation Schedule'!$C$27),S521-U521))","v":""},"","","",{"$f":"IF(H522=\"\",\"\",IF('3 Irrigation Schedule'!$P$19<O522,'3 Irrigation Schedule'!$P$19,O522))","v":""},"",{"$f":"IF(H522=\"\",\"\",U522/'3 Irrigation Schedule'!$M$19)","v":""}]
[null,null,null,"2021","July","2021-07-03",null,"","",5.2023999999999999,"",0,"",{"$f":"IF(OR('3 Irrigation Schedule'!$C$29=\"\",'3 Irrigation Schedule'!$C$31=\"\",H523=\"\"),\"\",(('3 Irrigation Schedule'!$C$29-'3 Irrigation Schedule'!$C$31)/100)*1000*M523)","v":""},"",{"$f":"IF(H523=\"\",\"\",IF(H523=1,N523*(1-'3 Irrigation Schedule'!$C$27),S522-U522))","v":""},"","","",{"$f":"IF(H523=\"\",\"\",IF('3 Irrigation Schedule'!$P$19<O523,'3 Irrigation Schedule'!$P$19,O523))","v":""},"",{"$f":"IF(H523=\"\",\"\",U523/'3 Irrigation Schedule'!$M$19)","v":""}]
[null,null,null,"2021","July","2021-07-04",null,"","",5.2023999999999999,"",0,"",{"$f":"IF(OR('3 Irrigation Schedule'!$C$29=\"\",'3 Irrigation Schedule'!$C$31=\"\",H524=\"\"),\"\",(('3 Irrigation Schedule'!$C$29-'3 Irrigation Schedule'!$C$31)/100)*1000*M524)","v":""},"",{"$f":"IF(H524=\"\",\"\",IF(H524=1,N524*(1-'3 Irrigation Schedule'!$C$27),S523-U523))","v":""},"","","",{"$f":"IF(H524=\"\",\"\",IF('3 Irrigation Schedule'!$P$19<O524,'3 Irrigation Schedule'!$P$19,O524))","v":""},"",{"$f":"IF(H524=\"\",\"\",U524/'3 Irrigation Schedule'!$M$19)","v":""}]
[null,null,null,"2021","July","2021-07-05",null,"","",5.2023999999999999,"",0,"",{"$f":"IF(OR('3 Irrigation Schedule'!$C$29=\"\",'3 Irrigation Schedule'!$C$31=\"\",H525=\"\"),\"\",(('3 Irrigation Schedule'!$C$29-'3 Irrigation Schedule'!$C$31)/100)*1000*M525)","v":""},"",{"$f":"IF(H525=\"\",\"\",IF(H525=1,N525*(1-'3 Irrigation Schedule'!$C$27),S524-U524))","v":""},"","","",{"$f":"IF(H525=\"\",\"\",IF('3 Irrigation Schedule'!$P$19<O525,'3 Irrigation Schedule'!$P$19,O525))","v":""},"",{"$f":"IF(H525=\"\",\"\",U525/'3 Irrigation Schedule'!$M$19)","v":""}]
[null,null,null,"2021","July","2021-07-06",null,"","",5.2023999999999999,"",0,"",{"$f":"IF(OR('3 Irrigation Schedule'!$C$29=\"\",'3 Irrigation Schedule'!$C$31=\"\",H526=\"\"),\"\",(('3 Irrigation Schedule'!$C$29-'3 Irrigation Schedule'!$C$31)/100)*1000*M526)","v":""},"",{"$f":"IF(H526=\"\",\"\",IF(H526=1,N526*(1-'3 Irrigation Schedule'!$C$27),S525-U525))","v":""},"","","",{"$f":"IF(H526=\"\",\"\",IF('3 Irrigation Schedule'!$P$19<O526,'3 Irrigation Schedule'!$P$19,O526))","v":""},"",{"$f":"IF(H526=\"\",\"\",U526/'3 Irrigation Schedule'!$M$19)","v":""}]
[null,null,null,"2021","July","2021-07-07",null,"","",5.2023999999999999,"",0,"",{"$f":"IF(OR('3 Irrigation Schedule'!$C$29=\"\",'3 Irrigation Schedule'!$C$31=\"\",H527=\"\"),\"\",(('3 Irrigation Schedule'!$C$29-'3 Irrigation Schedule'!$C$31)/100)*1000*M527)","v":""},"",{"$f":"IF(H527=\"\",\"\",IF(H527=1,N527*(1-'3 Irrigation Schedule'!$C$27),S526-U526))","v":""},"","","",{"$f":"IF(H527=\"\",\"\",IF('3 Irrigation Schedule'!$P$19<O527,'3 Irrigation Schedule'!$P$19,O527))","v":""},"",{"$f":"IF(H527=\"\",\"\",U527/'3 Irrigation Schedule'!$M$19)","v":""}]
[null,null,null,"2021","July","2021-07-08",null,"",{"$f":"IF(H528=\"\",\"\",IF(H528<=$I$27,\"Initial\",IF(AND(H528>$I$27,H528<=$I$28),\"Development\",IF(AND(H528>$I$28,H528<=$I$29),\"Mid Season\",\"Late Season\"))))","v":""},5.2023999999999999,{"$f":"IF(H528=\"\",\"\",IF(H528<=$I$27,$L$27,IF(AND(H528>$I$27,H528<=$I$28),$L$27+((H528-$I$27)/$H$28)*($L$29-$L$27),IF(AND(H528>$I$28,H528<=$I$29),$L$29,$L$29+((H528-$I$29)/$H$30)*($L$30-$L$29)))))","v":""},{"$f":"IFERROR((J528*K528),0)","v":0},{"$f":"IF(H528=\"\",\"\",IF(OR(H528=1,H528<$I$28),$M$27+(($M$28-$M$27)*((H528-1)/($I$28-1))),$M$28))","v":""},{"$f":"IF(OR('3 Irrigation Schedule'!$C$29=\"\",'3 Irrigation Schedule'!$C$31=\"\",H528=\"\"),\"\",(('3 Irrigation Schedule'!$C$29-'3 Irrigation Schedule'!$C$31)/100)*1000*M528)","v":""},{"$f":"IF(H528=\"\",\"\",N528*$N$27)","v":""},{"$f":"IF(H528=\"\",\"\",IF(H528=1,N528*(1-'3 Irrigation Schedule'!$C$27),S527-U527))","v":""},{"$f":"IF(H528=\"\",\"\",IF(P528>O528,(N528-P528)/(N528-O528),1))","v":""},{"$f":"IF(H528=\"\",\"\",L528*Q528)","v":""},{"$f":"IF(H528=\"\",\"\",P528+R528)","v":""},{"$f":"IF(H528=\"\",\"\",IF('3 Irrigation Schedule'!$P$19<O528,'3 Irrigation Schedule'!$P$19,O528))","v":""},{"$f":"IF(H528=\"\",\"\",IF(T528<=S528,T528,0))","v":""},{"$f":"IF(H528=\"\",\"\",U528/'3 Irrigation Schedule'!$M$19)","v":""}]
[null,null,null,"2021","July","2021-07-09",null,"","",5.2023999999999999,"",0,"",{"$f":"IF(OR('3 Irrigation Schedule'!$C$29=\"\",'3 Irrigation Schedule'!$C$31=\"\",H529=\"\"),\"\",(('3 Irrigation Schedule'!$C$29-'3 Irrigation Schedule'!$C$31)/100)*1000*M529)","v":""},"",{"$f":"IF(H529=\"\",\"\",IF(H529=1,N529*(1-'3 Irrigation Schedule'!$C$27),S528-U528))","v":""},"","","",{"$f":"IF(H529=\"\",\"\",IF('3 Irrigation Schedule'!$P$19<O529,'3 Irrigation Schedule'!$P$19,O529))","v":""},"",{"$f":"IF(H529=\"\",\"\",U529/'3 Irrigation Schedule'!$M$19)","v":""}]
[null,null,null,"2021","July","2021-07-10",null,"","",5.2023999999999999,"",0,"",{"$f":"IF(OR('3 Irrigation Schedule'!$C$29=\"\",'3 Irrigation Schedule'!$C$31=\"\",H530=\"\"),\"\",(('3 Irrigation Schedule'!$C$29-'3 Irrigation Schedule'!$C$31)/100)*1000*M530)","v":""},"",{"$f":"IF(H530=\"\",\"\",IF(H530=1,N530*(1-'3 Irrigation Schedule'!$C$27),S529-U529))","v":""},"","","",{"$f":"IF(H530=\"\",\"\",IF('3 Irrigation Schedule'!$P$19<O530,'3 Irrigation Schedule'!$P$19,O530))","v":""},"",{"$f":"IF(H530=\"\",\"\",U530/'3 Irrigation Schedule'!$M$19)","v":""}]
[null,null,null,"2021","July","2021-07-11",null,"","",5.2023999999999999,"",0,"",{"$f":"IF(OR('3 Irrigation Schedule'!$C$29=\"\",'3 Irrigation Schedule'!$C$31=\"\",H531=\"\"),\"\",(('3 Irrigation Schedule'!$C$29-'3 Irrigation Schedule'!$C$31)/100)*1000*M531)","v":""},"",{"$f":"IF(H531=\"\",\"\",IF(H531=1,N531*(1-'3 Irrigation Schedule'!$C$27),S530-U530))","v":""},"","","",{"$f":"IF(H531=\"\",\"\",IF('3 Irrigation Schedule'!$P$19<O531,'3 Irrigation Schedule'!$P$19,O531))","v":""},"",{"$f":"IF(H531=\"\",\"\",U531/'3 Irrigation Schedule'!$M$19)","v":""}]
[null,null,null,"2021","July","2021-07-12",null,"","",5.2023999999999999,"",0,"",{"$f":"IF(OR('3 Irrigation Schedule'!$C$29=\"\",'3 Irrigation Schedule'!$C$31=\"\",H532=\"\"),\"\",(('3 Irrigation Schedule'!$C$29-'3 Irrigation Schedule'!$C$31)/100)*1000*M532)","v":""},"",{"$f":"IF(H532=\"\",\"\",IF(H532=1,N532*(1-'3 Irrigation Schedule'!$C$27),S531-U531))","v":""},"","","",{"$f":"IF(H532=\"\",\"\",IF('3 Irrigation Schedule'!$P$19<O532,'3 Irrigation Schedule'!$P$19,O532))","v":""},"",{"$f":"IF(H532=\"\",\"\",U532/'3 Irrigation Schedule'!$M$19)","v":""}]
[null,null,null,"2021","July","2021-07-13",null,"","",5.2023999999999999,"",0,"",{"$f":"IF(OR('3 Irrigation Schedule'!$C$29=\"\",'3 Irrigation Schedule'!$C$31=\"\",H533=\"\"),\"\",(('3 Irrigation Schedule'!$C$29-'3 Irrigation Schedule'!$C$31)/100)*1000*M533)","v":""},"",{"$f":"IF(H533=\"\",\"\",IF(H533=1,N533*(1-'3 Irrigation Schedule'!$C$27),S532-U532))","v":""},"","","",{"$f":"IF(H533=\"\",\"\",IF('3 Irrigation Schedule'!$P$19<O533,'3 Irrigation Schedule'!$P$19,O533))","v":""},"",{"$f":"IF(H533=\"\",\"\",U533/'3 Irrigation Schedule'!$M$19)","v":""}]
[null,null,null,"2021","July","2021-07-14",null,"","",5.2023999999999999,"",0,"",{"$f":"IF(OR('3 Irrigation Schedule'!$C$29=\"\",'3 Irrigation Schedule'!$C$31=\"\",H534=\"\"),\"\",(('3 Irrigation Schedule'!$C$29-'3 Irrigation Schedule'!$C$31)/100)*1000*M534)","v":""},"",{"$f":"IF(H534=\"\",\"\",IF(H534=1,N534*(1-'3 Irrigation Schedule'!$C$27),S533-U533))","v":""},"","","",{"$f":"IF(H534=\"\",\"\",IF('3 Irrigation Schedule'!$P$19<O534,'3 Irrigation Schedule'!$P$19,O534))","v":""},"",{"$f":"IF(H534=\"\",\"\",U534/'3 Irrigation Schedule'!$M$19)","v":""}]
[null,null,null,"2021","July","2021-07-15",null,"","",5.2023999999999999,"",0,"",{"$f":"IF(OR('3 Irrigation Schedule'!$C$29=\"\",'3 Irrigation Schedule'!$C$31=\"\",H535=\"\"),\"\",(('3 Irrigation Schedule'!$C$29-'3 Irrigation Schedule'!$C$31)/100)*1000*M535)","v":""},"",{"$f":"IF(H535=\"\",\"\",IF(H535=1,N535*(1-'3 Irrigation Schedule'!$C$27),S534-U534))","v":""},"","","",{"$f":"IF(H535=\"\",\"\",IF('3 Irrigation Schedule'!$P$19<O535,'3 Irrigation Schedule'!$P$19,O535))","v":""},"",{"$f":"IF(H535=\"\",\"\",U535/'3 Irrigation Schedule'!$M$19)","v":""}]
[null,null,null,"2021","July","2021-07-16",null,"","",5.2023999999999999,"",0,"",{"$f":"IF(OR('3 Irrigation Schedule'!$C$29=\"\",'3 Irrigation Schedule'!$C$31=\"\",H536=\"\"),\"\",(('3 Irrigation Schedule'!$C$29-'3 Irrigation Schedule'!$C$31)/100)*1000*M536)","v":""},"",{"$f":"IF(H536=\"\",\"\",IF(H536=1,N536*(1-'3 Irrigation Schedule'!$C$27),S535-U535))","v":""},"","","",{"$f":"IF(H536=\"\",\"\",IF('3 Irrigation Schedule'!$P$19<O536,'3 Irrigation Schedule'!$P$19,O536))","v":""},"",{"$f":"IF(H536=\"\",\"\",U536/'3 Irrigation Schedule'!$M$19)","v":""}]
[null,null,null,"2021","July","2021-07-17",null,"","",5.2023999999999999,"",0,"",{"$f":"IF(OR('3 Irrigation Schedule'!$C$29=\"\",'3 Irrigation Schedule'!$C$31=\"\",H537=\"\"),\"\",(('3 Irrigation Schedule'!$C$29-'3 Irrigation Schedule'!$C$31)/100)*1000*M537)","v":""},"",{"$f":"IF(H537=\"\",\"\",IF(H537=1,N537*(1-'3 Irrigation Schedule'!$C$27),S536-U536))","v":""},"","","",{"$f":"IF(H537=\"\",\"\",IF('3 Irrigation Schedule'!$P$19<O537,'3 Irrigation Schedule'!$P$19,O537))","v":""},"",{"$f":"IF(H537=\"\",\"\",U537/'3 Irrigation Schedule'!$M$19)","v":""}]
[null,null,null,"2021","July","2021-07-18",null,"","",5.2023999999999999,"",0,"",{"$f":"IF(OR('3 Irrigation Schedule'!$C$29=\"\",'3 Irrigation Schedule'!$C$31=\"\",H538=\"\"),\"\",(('3 Irrigation Schedule'!$C$29-'3 Irrigation Schedule'!$C$31)/100)*1000*M538)","v":""},"",{"$f":"IF(H538=\"\",\"\",IF(H538=1,N538*(1-'3 Irrigation Schedule'!$C$27),S537-U537))","v":""},"","","",{"$f":"IF(H538=\"\",\"\",IF('3 Irrigation Schedule'!$P$19<O538,'3 Irrigation Schedule'!$P$19,O538))","v":""},"",{"$f":"IF(H538=\"\",\"\",U538/'3 Irrigation Schedule'!$M$19)","v":""}]
[null,null,null,"2021","July","2021-07-19",null,"","",5.2023999999999999,"",0,"",{"$f":"IF(OR('3 Irrigation Schedule'!$C$29=\"\",'3 Irrigation Schedule'!$C$31=\"\",H539=\"\"),\"\",(('3 Irrigation Schedule'!$C$29-'3 Irrigation Schedule'!$C$31)/100)*1000*M539)","v":""},"",{"$f":"IF(H539=\"\",\"\",IF(H539=1,N539*(1-'3 Irrigation Schedule'!$C$27),S538-U538))","v":""},"","","",{"$f":"IF(H539=\"\",\"\",IF('3 Irrigation Schedule'!$P$19<O539,'3 Irrigation Schedule'!$P$19,O539))","v":""},"",{"$f":"IF(H539=\"\",\"\",U539/'3 Irrigation Schedule'!$M$19)","v":""}]
[null,null,null,"2021","July","2021-07-20",null,"","",5.2023999999999999,"",0,"",{"$f":"IF(OR('3 Irrigation Schedule'!$C$29=\"\",'3 Irrigation Schedule'!$C$31=\"\",H540=\"\"),\"\",(('3 Irrigation Schedule'!$C$29-'3 Irrigation Schedule'!$C$31)/100)*1000*M540)","v":""},"",{"$f":"IF(H540=\"\",\"\",IF(H540=1,N540*(1-'3 Irrigation Schedule'!$C$27),S539-U539))","v":""},"","","",{"$f":"IF(H540=\"\",\"\",IF('3 Irrigation Schedule'!$P$19<O540,'3 Irrigation Schedule'!$P$19,O540))","v":""},"",{"$f":"IF(H540=\"\",\"\",U540/'3 Irrigation Schedule'!$M$19)","v":""}]
[null,null,null,"2021","July","2021-07-21",null,"","",5.2023999999999999,"",0,"",{"$f":"IF(OR('3 Irrigation Schedule'!$C$29=\"\",'3 Irrigation Schedule'!$C$31=\"\",H541=\"\"),\"\",(('3 Irrigation Schedule'!$C$29-'3 Irrigation Schedule'!$C$31)/100)*1000*M541)","v":""},"",{"$f":"IF(H541=\"\",\"\",IF(H541=1,N541*(1-'3 Irrigation Schedule'!$C$27),S540-U540))","v":""},"","","",{"$f":"IF(H541=\"\",\"\",IF('3 Irrigation Schedule'!$P$19<O541,'3 Irrigation Schedule'!$P$19,O541))","v":""},"",{"$f":"IF(H541=\"\",\"\",U541/'3 Irrigation Schedule'!$M$19)","v":""}]
[null,null,null,"2021","July","2021-07-22",null,"","",5.2023999999999999,"",0,"",{"$f":"IF(OR('3 Irrigation Schedule'!$C$29=\"\",'3 Irrigation Schedule'!$C$31=\"\",H542=\"\"),\"\",(('3 Irrigation Schedule'!$C$29-'3 Irrigation Schedule'!$C$31)/100)*1000*M542)","v":""},"",{"$f":"IF(H542=\"\",\"\",IF(H542=1,N542*(1-'3 Irrigation Schedule'!$C$27),S541-U541))","v":""},"","","",{"$f":"IF(H542=\"\",\"\",IF('3 Irrigation Schedule'!$P$19<O542,'3 Irrigation Schedule'!$P$19,O542))","v":""},"",{"$f":"IF(H542=\"\",\"\",U542/'3 Irrigation Schedule'!$M$19)","v":""}]
[null,null,null,"2021","July","2021-07-23",null,"","",5.2023999999999999,"",0,"",{"$f":"IF(OR('3 Irrigation Schedule'!$C$29=\"\",'3 Irrigation Schedule'!$C$31=\"\",H543=\"\"),\"\",(('3 Irrigation Schedule'!$C$29-'3 Irrigation Schedule'!$C$31)/100)*1000*M543)","v":""},"",{"$f":"IF(H543=\"\",\"\",IF(H543=1,N543*(1-'3 Irrigation Schedule'!$C$27),S542-U542))","v":""},"","","",{"$f":"IF(H543=\"\",\"\",IF('3 Irrigation Schedule'!$P$19<O543,'3 Irrigation Schedule'!$P$19,O543))","v":""},"",{"$f":"IF(H543=\"\",\"\",U543/'3 Irrigation Schedule'!$M$19)","v":""}]
[null,null,null,"2021","July","2021-07-24",null,"","",5.2023999999999999,"",0,"",{"$f":"IF(OR('3 Irrigation Schedule'!$C$29=\"\",'3 Irrigation Schedule'!$C$31=\"\",H544=\"\"),\"\",(('3 Irrigation Schedule'!$C$29-'3 Irrigation Schedule'!$C$31)/100)*1000*M544)","v":""},"",{"$f":"IF(H544=\"\",\"\",IF(H544=1,N544*(1-'3 Irrigation Schedule'!$C$27),S543-U543))","v":""},"","","",{"$f":"IF(H544=\"\",\"\",IF('3 Irrigation Schedule'!$P$19<O544,'3 Irrigation Schedule'!$P$19,O544))","v":""},"",{"$f":"IF(H544=\"\",\"\",U544/'3 Irrigation Schedule'!$M$19)","v":""}]
[null,null,null,"2021","July","2021-07-25",null,"","",5.2023999999999999,"",0,"",{"$f":"IF(OR('3 Irrigation Schedule'!$C$29=\"\",'3 Irrigation Schedule'!$C$31=\"\",H545=\"\"),\"\",(('3 Irrigation Schedule'!$C$29-'3 Irrigation Schedule'!$C$31)/100)*1000*M545)","v":""},"",{"$f":"IF(H545=\"\",\"\",IF(H545=1,N545*(1-'3 Irrigation Schedule'!$C$27),S544-U544))","v":""},"","","",{"$f":"IF(H545=\"\",\"\",IF('3 Irrigation Schedule'!$P$19<O545,'3 Irrigation Schedule'!$P$19,O545))","v":""},"",{"$f":"IF(H545=\"\",\"\",U545/'3 Irrigation Schedule'!$M$19)","v":""}]
[null,null,null,{"$f":"IFERROR(TEXT(DATE(YEAR($F546),MONTH($F546),1),$D$7&$D$4),\"\")","v":"2021"},{"$f":"IFERROR(TEXT(DATE(YEAR($F546),MONTH($F546),1),$D$7&$D$5),\"\")","v":"July"},"2021-07-26",null,"","",{"$f":"IFERROR(VLOOKUP($E546,$B$19:$C$30,2,FALSE),\"\")","v":5.2023999999999999},"",0,"",{"$f":"IF(OR('3 Irrigation Schedule'!$C$29=\"\",'3 Irrigation Schedule'!$C$31=\"\",H546=\"\"),\"\",(('3 Irrigation Schedule'!$C$29-'3 Irrigation Schedule'!$C$31)/100)*1000*M546)","v":""},"",{"$f":"IF(H546=\"\",\"\",IF(H546=1,N546*(1-'3 Irrigation Schedule'!$C$27),S545-U545))","v":""},"","","",{"$f":"IF(H546=\"\",\"\",IF('3 Irrigation Schedule'!$P$19<O546,'3 Irrigation Schedule'!$P$19,O546))","v":""},"",{"$f":"IF(H546=\"\",\"\",U546/'3 Irrigation Schedule'!$M$19)","v":""}]
[null,null,null,"2021","July",{"$f":"IFERROR(IF(F546+1<=$N$7, F546+1,\"\"),\"\")","v":"2021-07-27"},null,{"$f":"IFERROR(IF(OR($F547-$J$27+1<=0,$F547>$K$30),\"\",$F547-$J$27+1),\"\")","v":""},"",5.2023999999999999,"",0,"",{"$f":"IF(OR('3 Irrigation Schedule'!$C$29=\"\",'3 Irrigation Schedule'!$C$31=\"\",H547=\"\"),\"\",(('3 Irrigation Schedule'!$C$29-'3 Irrigation Schedule'!$C$31)/100)*1000*M547)","v":""},"",{"$f":"IF(H547=\"\",\"\",IF(H547=1,N547*(1-'3 Irrigation Schedule'!$C$27),S546-U546))","v":""},"","","",{"$f":"IF(H547=\"\",\"\",IF('3 Irrigation Schedule'!$P$19<O547,'3 Irrigation Schedule'!$P$19,O547))","v":""},"",{"$f":"IF(H547=\"\",\"\",U547/'3 Irrigation Schedule'!$M$19)","v":""}]
[null,null,null,"2021","July","2021-07-28",null,"","",5.2023999999999999,"",0,"",{"$f":"IF(OR('3 Irrigation Schedule'!$C$29=\"\",'3 Irrigation Schedule'!$C$31=\"\",H548=\"\"),\"\",(('3 Irrigation Schedule'!$C$29-'3 Irrigation Schedule'!$C$31)/100)*1000*M548)","v":""},"",{"$f":"IF(H548=\"\",\"\",IF(H548=1,N548*(1-'3 Irrigation Schedule'!$C$27),S547-U547))","v":""},"","","",{"$f":"IF(H548=\"\",\"\",IF('3 Irrigation Schedule'!$P$19<O548,'3 Irrigation Schedule'!$P$19,O548))","v":""},"",{"$f":"IF(H548=\"\",\"\",U548/'3 Irrigation Schedule'!$M$19)","v":""}]
[null,null,null,"2021","July","2021-07-29",null,"","",5.2023999999999999,"",0,"",{"$f":"IF(OR('3 Irrigation Schedule'!$C$29=\"\",'3 Irrigation Schedule'!$C$31=\"\",H549=\"\"),\"\",(('3 Irrigation Schedule'!$C$29-'3 Irrigation Schedule'!$C$31)/100)*1000*M549)","v":""},"",{"$f":"IF(H549=\"\",\"\",IF(H549=1,N549*(1-'3 Irrigation Schedule'!$C$27),S548-U548))","v":""},"","","",{"$f":"IF(H549=\"\",\"\",IF('3 Irrigation Schedule'!$P$19<O549,'3 Irrigation Schedule'!$P$19,O549))","v":""},"",{"$f":"IF(H549=\"\",\"\",U549/'3 Irrigation Schedule'!$M$19)","v":""}]
[null,null,null,"2021","July","2021-07-30",null,"","",5.2023999999999999,"",0,"",{"$f":"IF(OR('3 Irrigation Schedule'!$C$29=\"\",'3 Irrigation Schedule'!$C$31=\"\",H550=\"\"),\"\",(('3 Irrigation Schedule'!$C$29-'3 Irrigation Schedule'!$C$31)/100)*1000*M550)","v":""},"",{"$f":"IF(H550=\"\",\"\",IF(H550=1,N550*(1-'3 Irrigation Schedule'!$C$27),S549-U549))","v":""},"","","",{"$f":"IF(H550=\"\",\"\",IF('3 Irrigation Schedule'!$P$19<O550,'3 Irrigation Schedule'!$P$19,O550))","v":""},"",{"$f":"IF(H550=\"\",\"\",U550/'3 Irrigation Schedule'!$M$19)","v":""}]
[null,null,null,"2021","July","2021-07-31",null,"","",5.2023999999999999,"",0,"",{"$f":"IF(OR('3 Irrigation Schedule'!$C$29=\"\",'3 Irrigation Schedule'!$C$31=\"\",H551=\"\"),\"\",(('3 Irrigation Schedule'!$C$29-'3 Irrigation Schedule'!$C$31)/100)*1000*M551)","v":""},"",{"$f":"IF(H551=\"\",\"\",IF(H551=1,N551*(1-'3 Irrigation Schedule'!$C$27),S550-U550))","v":""},"","","",{"$f":"IF(H551=\"\",\"\",IF('3 Irrigation Schedule'!$P$19<O551,'3 Irrigation Schedule'!$P$19,O551))","v":""},"",{"$f":"IF(H551=\"\",\"\",U551/'3 Irrigation Schedule'!$M$19)","v":""}]
[null,null,null,"2021","August","2021-08-01",null,"","",5.2023999999999999,"",0,"",{"$f":"IF(OR('3 Irrigation Schedule'!$C$29=\"\",'3 Irrigation Schedule'!$C$31=\"\",H552=\"\"),\"\",(('3 Irrigation Schedule'!$C$29-'3 Irrigation Schedule'!$C$31)/100)*1000*M552)","v":""},"",{"$f":"IF(H552=\"\",\"\",IF(H552=1,N552*(1-'3 Irrigation Schedule'!$C$27),S551-U551))","v":""},"","","",{"$f":"IF(H552=\"\",\"\",IF('3 Irrigation Schedule'!$P$19<O552,'3 Irrigation Schedule'!$P$19,O552))","v":""},"",{"$f":"IF(H552=\"\",\"\",U552/'3 Irrigation Schedule'!$M$19)","v":""}]
[null,null,null,"2021","August","2021-08-02",null,"","",5.2023999999999999,"",0,"",{"$f":"IF(OR('3 Irrigation Schedule'!$C$29=\"\",'3 Irrigation Schedule'!$C$31=\"\",H553=\"\"),\"\",(('3 Irrigation Schedule'!$C$29-'3 Irrigation Schedule'!$C$31)/100)*1000*M553)","v":""},"",{"$f":"IF(H553=\"\",\"\",IF(H553=1,N553*(1-'3 Irrigation Schedule'!$C$27),S552-U552))","v":""},"","","",{"$f":"IF(H553=\"\",\"\",IF('3 Irrigation Schedule'!$P$19<O553,'3 Irrigation Schedule'!$P$19,O553))","v":""},"",{"$f":"IF(H553=\"\",\"\",U553/'3 Irrigation Schedule'!$M$19)","v":""}]
[null,null,null,"2021","August","2021-08-03",null,"","",5.2023999999999999,"",0,"",{"$f":"IF(OR('3 Irrigation Schedule'!$C$29=\"\",'3 Irrigation Schedule'!$C$31=\"\",H554=\"\"),\"\",(('3 Irrigation Schedule'!$C$29-'3 Irrigation Schedule'!$C$31)/100)*1000*M554)","v":""},"",{"$f":"IF(H554=\"\",\"\",IF(H554=1,N554*(1-'3 Irrigation Schedule'!$C$27),S553-U553))","v":""},"","","",{"$f":"IF(H554=\"\",\"\",IF('3 Irrigation Schedule'!$P$19<O554,'3 Irrigation Schedule'!$P$19,O554))","v":""},"",{"$f":"IF(H554=\"\",\"\",U554/'3 Irrigation Schedule'!$M$19)","v":""}]
[null,null,null,"2021","August","2021-08-04",null,"","",5.2023999999999999,"",0,"",{"$f":"IF(OR('3 Irrigation Schedule'!$C$29=\"\",'3 Irrigation Schedule'!$C$31=\"\",H555=\"\"),\"\",(('3 Irrigation Schedule'!$C$29-'3 Irrigation Schedule'!$C$31)/100)*1000*M555)","v":""},"",{"$f":"IF(H555=\"\",\"\",IF(H555=1,N555*(1-'3 Irrigation Schedule'!$C$27),S554-U554))","v":""},"","","",{"$f":"IF(H555=\"\",\"\",IF('3 Irrigation Schedule'!$P$19<O555,'3 Irrigation Schedule'!$P$19,O555))","v":""},"",{"$f":"IF(H555=\"\",\"\",U555/'3 Irrigation Schedule'!$M$19)","v":""}]
[null,null,null,"2021","August","2021-08-05",null,"","",5.2023999999999999,"",0,"",{"$f":"IF(OR('3 Irrigation Schedule'!$C$29=\"\",'3 Irrigation Schedule'!$C$31=\"\",H556=\"\"),\"\",(('3 Irrigation Schedule'!$C$29-'3 Irrigation Schedule'!$C$31)/100)*1000*M556)","v":""},"",{"$f":"IF(H556=\"\",\"\",IF(H556=1,N556*(1-'3 Irrigation Schedule'!$C$27),S555-U555))","v":""},"","","",{"$f":"IF(H556=\"\",\"\",IF('3 Irrigation Schedule'!$P$19<O556,'3 Irrigation Schedule'!$P$19,O556))","v":""},"",{"$f":"IF(H556=\"\",\"\",U556/'3 Irrigation Schedule'!$M$19)","v":""}]
[null,null,null,"2021","August","2021-08-06",null,"","",5.2023999999999999,"",0,"",{"$f":"IF(OR('3 Irrigation Schedule'!$C$29=\"\",'3 Irrigation Schedule'!$C$31=\"\",H557=\"\"),\"\",(('3 Irrigation Schedule'!$C$29-'3 Irrigation Schedule'!$C$31)/100)*1000*M557)","v":""},"",{"$f":"IF(H557=\"\",\"\",IF(H557=1,N557*(1-'3 Irrigation Schedule'!$C$27),S556-U556))","v":""},"","","",{"$f":"IF(H557=\"\",\"\",IF('3 Irrigation Schedule'!$P$19<O557,'3 Irrigation Schedule'!$P$19,O557))","v":""},"",{"$f":"IF(H557=\"\",\"\",U557/'3 Irrigation Schedule'!$M$19)","v":""}]
[null,null,null,"2021","August","2021-08-07",null,"","",5.2023999999999999,"",0,"",{"$f":"IF(OR('3 Irrigation Schedule'!$C$29=\"\",'3 Irrigation Schedule'!$C$31=\"\",H558=\"\"),\"\",(('3 Irrigation Schedule'!$C$29-'3 Irrigation Schedule'!$C$31)/100)*1000*M558)","v":""},"",{"$f":"IF(H558=\"\",\"\",IF(H558=1,N558*(1-'3 Irrigation Schedule'!$C$27),S557-U557))","v":""},"","","",{"$f":"IF(H558=\"\",\"\",IF('3 Irrigation Schedule'!$P$19<O558,'3 Irrigation Schedule'!$P$19,O558))","v":""},"",{"$f":"IF(H558=\"\",\"\",U558/'3 Irrigation Schedule'!$M$19)","v":""}]
[null,null,null,"2021","August","2021-08-08",null,"","",5.2023999999999999,"",0,"",{"$f":"IF(OR('3 Irrigation Schedule'!$C$29=\"\",'3 Irrigation Schedule'!$C$31=\"\",H559=\"\"),\"\",(('3 Irrigation Schedule'!$C$29-'3 Irrigation Schedule'!$C$31)/100)*1000*M559)","v":""},"",{"$f":"IF(H559=\"\",\"\",IF(H559=1,N559*(1-'3 Irrigation Schedule'!$C$27),S558-U558))","v":""},"","","",{"$f":"IF(H559=\"\",\"\",IF('3 Irrigation Schedule'!$P$19<O559,'3 Irrigation Schedule'!$P$19,O559))","v":""},"",{"$f":"IF(H559=\"\",\"\",U559/'3 Irrigation Schedule'!$M$19)","v":""}]
[null,null,null,"2021","August","2021-08-09",null,"","",5.2023999999999999,"",0,"",{"$f":"IF(OR('3 Irrigation Schedule'!$C$29=\"\",'3 Irrigation Schedule'!$C$31=\"\",H560=\"\"),\"\",(('3 Irrigation Schedule'!$C$29-'3 Irrigation Schedule'!$C$31)/100)*1000*M560)","v":""},"",{"$f":"IF(H560=\"\",\"\",IF(H560=1,N560*(1-'3 Irrigation Schedule'!$C$27),S559-U559))","v":""},"","","",{"$f":"IF(H560=\"\",\"\",IF('3 Irrigation Schedule'!$P$19<O560,'3 Irrigation Schedule'!$P$19,O560))","v":""},"",{"$f":"IF(H560=\"\",\"\",U560/'3 Irrigation Schedule'!$M$19)","v":""}]
[null,null,null,"2021","August","2021-08-10",null,"","",5.2023999999999999,"",0,"",{"$f":"IF(OR('3 Irrigation Schedule'!$C$29=\"\",'3 Irrigation Schedule'!$C$31=\"\",H561=\"\"),\"\",(('3 Irrigation Schedule'!$C$29-'3 Irrigation Schedule'!$C$31)/100)*1000*M561)","v":""},"",{"$f":"IF(H561=\"\",\"\",IF(H561=1,N561*(1-'3 Irrigation Schedule'!$C$27),S560-U560))","v":""},"","","",{"$f":"IF(H561=\"\",\"\",IF('3 Irrigation Schedule'!$P$19<O561,'3 Irrigation Schedule'!$P$19,O561))","v":""},"",{"$f":"IF(H561=\"\",\"\",U561/'3 Irrigation Schedule'!$M$19)","v":""}]
[null,null,null,"2021","August","2021-08-11",null,"","",5.2023999999999999,"",0,"",{"$f":"IF(OR('3 Irrigation Schedule'!$C$29=\"\",'3 Irrigation Schedule'!$C$31=\"\",H562=\"\"),\"\",(('3 Irrigation Schedule'!$C$29-'3 Irrigation Schedule'!$C$31)/100)*1000*M562)","v":""},"",{"$f":"IF(H562=\"\",\"\",IF(H562=1,N562*(1-'3 Irrigation Schedule'!$C$27),S561-U561))","v":""},"","","",{"$f":"IF(H562=\"\",\"\",IF('3 Irrigation Schedule'!$P$19<O562,'3 Irrigation Schedule'!$P$19,O562))","v":""},"",{"$f":"IF(H562=\"\",\"\",U562/'3 Irrigation Schedule'!$M$19)","v":""}]
[null,null,null,"2021","August","2021-08-12",null,"","",5.2023999999999999,"",0,"",{"$f":"IF(OR('3 Irrigation Schedule'!$C$29=\"\",'3 Irrigation Schedule'!$C$31=\"\",H563=\"\"),\"\",(('3 Irrigation Schedule'!$C$29-'3 Irrigation Schedule'!$C$31)/100)*1000*M563)","v":""},"",{"$f":"IF(H563=\"\",\"\",IF(H563=1,N563*(1-'3 Irrigation Schedule'!$C$27),S562-U562))","v":""},"","","",{"$f":"IF(H563=\"\",\"\",IF('3 Irrigation Schedule'!$P$19<O563,'3 Irrigation Schedule'!$P$19,O563))","v":""},"",{"$f":"IF(H563=\"\",\"\",U563/'3 Irrigation Schedule'!$M$19)","v":""}]
[null,null,null,"2021","August","2021-08-13",null,"","",5.2023999999999999,"",0,"",{"$f":"IF(OR('3 Irrigation Schedule'!$C$29=\"\",'3 Irrigation Schedule'!$C$31=\"\",H564=\"\"),\"\",(('3 Irrigation Schedule'!$C$29-'3 Irrigation Schedule'!$C$31)/100)*1000*M564)","v":""},"",{"$f":"IF(H564=\"\",\"\",IF(H564=1,N564*(1-'3 Irrigation Schedule'!$C$27),S563-U563))","v":""},"","","",{"$f":"IF(H564=\"\",\"\",IF('3 Irrigation Schedule'!$P$19<O564,'3 Irrigation Schedule'!$P$19,O564))","v":""},"",{"$f":"IF(H564=\"\",\"\",U564/'3 Irrigation Schedule'!$M$19)","v":""}]
[null,null,null,"2021","August","2021-08-14",null,"","",5.2023999999999999,"",0,"",{"$f":"IF(OR('3 Irrigation Schedule'!$C$29=\"\",'3 Irrigation Schedule'!$C$31=\"\",H565=\"\"),\"\",(('3 Irrigation Schedule'!$C$29-'3 Irrigation Schedule'!$C$31)/100)*1000*M565)","v":""},"",{"$f":"IF(H565=\"\",\"\",IF(H565=1,N565*(1-'3 Irrigation Schedule'!$C$27),S564-U564))","v":""},"","","",{"$f":"IF(H565=\"\",\"\",IF('3 Irrigation Schedule'!$P$19<O565,'3 Irrigation Schedule'!$P$19,O565))","v":""},"",{"$f":"IF(H565=\"\",\"\",U565/'3 Irrigation Schedule'!$M$19)","v":""}]
[null,null,null,"2021","August","2021-08-15",null,"","",5.2023999999999999,"",0,"",{"$f":"IF(OR('3 Irrigation Schedule'!$C$29=\"\",'3 Irrigation Schedule'!$C$31=\"\",H566=\"\"),\"\",(('3 Irrigation Schedule'!$C$29-'3 Irrigation Schedule'!$C$31)/100)*1000*M566)","v":""},"",{"$f":"IF(H566=\"\",\"\",IF(H566=1,N566*(1-'3 Irrigation Schedule'!$C$27),S565-U565))","v":""},"","","",{"$f":"IF(H566=\"\",\"\",IF('3 Irrigation Schedule'!$P$19<O566,'3 Irrigation Schedule'!$P$19,O566))","v":""},"",{"$f":"IF(H566=\"\",\"\",U566/'3 Irrigation Schedule'!$M$19)","v":""}]
[null,null,null,"2021","August","2021-08-16",null,"","",5.2023999999999999,"",0,"",{"$f":"IF(OR('3 Irrigation Schedule'!$C$29=\"\",'3 Irrigation Schedule'!$C$31=\"\",H567=\"\"),\"\",(('3 Irrigation Schedule'!$C$29-'3 Irrigation Schedule'!$C$31)/100)*1000*M567)","v":""},"",{"$f":"IF(H567=\"\",\"\",IF(H567=1,N567*(1-'3 Irrigation Schedule'!$C$27),S566-U566))","v":""},"","","",{"$f":"IF(H567=\"\",\"\",IF('3 Irrigation Schedule'!$P$19<O567,'3 Irrigation Schedule'!$P$19,O567))","v":""},"",{"$f":"IF(H567=\"\",\"\",U567/'3 Irrigation Schedule'!$M$19)","v":""}]
[null,null,null,"2021","August","2021-08-17",null,"","",5.2023999999999999,"",0,"",{"$f":"IF(OR('3 Irrigation Schedule'!$C$29=\"\",'3 Irrigation Schedule'!$C$31=\"\",H568=\"\"),\"\",(('3 Irrigation Schedule'!$C$29-'3 Irrigation Schedule'!$C$31)/100)*1000*M568)","v":""},"",{"$f":"IF(H568=\"\",\"\",IF(H568=1,N568*(1-'3 Irrigation Schedule'!$C$27),S567-U567))","v":""},"","","",{"$f":"IF(H568=\"\",\"\",IF('3 Irrigation Schedule'!$P$19<O568,'3 Irrigation Schedule'!$P$19,O568))","v":""},"",{"$f":"IF(H568=\"\",\"\",U568/'3 Irrigation Schedule'!$M$19)","v":""}]
[null,null,null,"2021","August","2021-08-18",null,"","",5.2023999999999999,"",0,"",{"$f":"IF(OR('3 Irrigation Schedule'!$C$29=\"\",'3 Irrigation Schedule'!$C$31=\"\",H569=\"\"),\"\",(('3 Irrigation Schedule'!$C$29-'3 Irrigation Schedule'!$C$31)/100)*1000*M569)","v":""},"",{"$f":"IF(H569=\"\",\"\",IF(H569=1,N569*(1-'3 Irrigation Schedule'!$C$27),S568-U568))","v":""},"","","",{"$f":"IF(H569=\"\",\"\",IF('3 Irrigation Schedule'!$P$19<O569,'3 Irrigation Schedule'!$P$19,O569))","v":""},"",{"$f":"IF(H569=\"\",\"\",U569/'3 Irrigation Schedule'!$M$19)","v":""}]
[null,null,null,"2021","August","2021-08-19",null,"","",5.2023999999999999,"",0,"",{"$f":"IF(OR('3 Irrigation Schedule'!$C$29=\"\",'3 Irrigation Schedule'!$C$31=\"\",H570=\"\"),\"\",(('3 Irrigation Schedule'!$C$29-'3 Irrigation Schedule'!$C$31)/100)*1000*M570)","v":""},"",{"$f":"IF(H570=\"\",\"\",IF(H570=1,N570*(1-'3 Irrigation Schedule'!$C$27),S569-U569))","v":""},"","","",{"$f":"IF(H570=\"\",\"\",IF('3 Irrigation Schedule'!$P$19<O570,'3 Irrigation Schedule'!$P$19,O570))","v":""},"",{"$f":"IF(H570=\"\",\"\",U570/'3 Irrigation Schedule'!$M$19)","v":""}]
[null,null,null,"2021","August","2021-08-20",null,"","",5.2023999999999999,"",0,"",{"$f":"IF(OR('3 Irrigation Schedule'!$C$29=\"\",'3 Irrigation Schedule'!$C$31=\"\",H571=\"\"),\"\",(('3 Irrigation Schedule'!$C$29-'3 Irrigation Schedule'!$C$31)/100)*1000*M571)","v":""},"",{"$f":"IF(H571=\"\",\"\",IF(H571=1,N571*(1-'3 Irrigation Schedule'!$C$27),S570-U570))","v":""},"","","",{"$f":"IF(H571=\"\",\"\",IF('3 Irrigation Schedule'!$P$19<O571,'3 Irrigation Schedule'!$P$19,O571))","v":""},"",{"$f":"IF(H571=\"\",\"\",U571/'3 Irrigation Schedule'!$M$19)","v":""}]
[null,null,null,"2021","August","2021-08-21",null,"","",5.2023999999999999,"",0,"",{"$f":"IF(OR('3 Irrigation Schedule'!$C$29=\"\",'3 Irrigation Schedule'!$C$31=\"\",H572=\"\"),\"\",(('3 Irrigation Schedule'!$C$29-'3 Irrigation Schedule'!$C$31)/100)*1000*M572)","v":""},"",{"$f":"IF(H572=\"\",\"\",IF(H572=1,N572*(1-'3 Irrigation Schedule'!$C$27),S571-U571))","v":""},"","","",{"$f":"IF(H572=\"\",\"\",IF('3 Irrigation Schedule'!$P$19<O572,'3 Irrigation Schedule'!$P$19,O572))","v":""},"",{"$f":"IF(H572=\"\",\"\",U572/'3 Irrigation Schedule'!$M$19)","v":""}]
[null,null,null,"2021","August","2021-08-22",null,"","",5.2023999999999999,"",0,"",{"$f":"IF(OR('3 Irrigation Schedule'!$C$29=\"\",'3 Irrigation Schedule'!$C$31=\"\",H573=\"\"),\"\",(('3 Irrigation Schedule'!$C$29-'3 Irrigation Schedule'!$C$31)/100)*1000*M573)","v":""},"",{"$f":"IF(H573=\"\",\"\",IF(H573=1,N573*(1-'3 Irrigation Schedule'!$C$27),S572-U572))","v":""},"","","",{"$f":"IF(H573=\"\",\"\",IF('3 Irrigation Schedule'!$P$19<O573,'3 Irrigation Schedule'!$P$19,O573))","v":""},"",{"$f":"IF(H573=\"\",\"\",U573/'3 Irrigation Schedule'!$M$19)","v":""}]
[null,null,null,"2021","August","2021-08-23",null,"","",5.2023999999999999,"",0,"",{"$f":"IF(OR('3 Irrigation Schedule'!$C$29=\"\",'3 Irrigation Schedule'!$C$31=\"\",H574=\"\"),\"\",(('3 Irrigation Schedule'!$C$29-'3 Irrigation Schedule'!$C$31)/100)*1000*M574)","v":""},"",{"$f":"IF(H574=\"\",\"\",IF(H574=1,N574*(1-'3 Irrigation Schedule'!$C$27),S573-U573))","v":""},"","","",{"$f":"IF(H574=\"\",\"\",IF('3 Irrigation Schedule'!$P$19<O574,'3 Irrigation Schedule'!$P$19,O574))","v":""},"",{"$f":"IF(H574=\"\",\"\",U574/'3 Irrigation Schedule'!$M$19)","v":""}]
[null,null,null,"2021","August","2021-08-24",null,"","",5.2023999999999999,"",0,"",{"$f":"IF(OR('3 Irrigation Schedule'!$C$29=\"\",'3 Irrigation Schedule'!$C$31=\"\",H575=\"\"),\"\",(('3 Irrigation Schedule'!$C$29-'3 Irrigation Schedule'!$C$31)/100)*1000*M575)","v":""},"",{"$f":"IF(H575=\"\",\"\",IF(H575=1,N575*(1-'3 Irrigation Schedule'!$C$27),S574-U574))","v":""},"","","",{"$f":"IF(H575=\"\",\"\",IF('3 Irrigation Schedule'!$P$19<O575,'3 Irrigation Schedule'!$P$19,O575))","v":""},"",{"$f":"IF(H575=\"\",\"\",U575/'3 Irrigation Schedule'!$M$19)","v":""}]
[null,null,null,"2021","August","2021-08-25",null,"","",5.2023999999999999,"",0,"",{"$f":"IF(OR('3 Irrigation Schedule'!$C$29=\"\",'3 Irrigation Schedule'!$C$31=\"\",H576=\"\"),\"\",(('3 Irrigation Schedule'!$C$29-'3 Irrigation Schedule'!$C$31)/100)*1000*M576)","v":""},"",{"$f":"IF(H576=\"\",\"\",IF(H576=1,N576*(1-'3 Irrigation Schedule'!$C$27),S575-U575))","v":""},"","","",{"$f":"IF(H576=\"\",\"\",IF('3 Irrigation Schedule'!$P$19<O576,'3 Irrigation Schedule'!$P$19,O576))","v":""},"",{"$f":"IF(H576=\"\",\"\",U576/'3 Irrigation Schedule'!$M$19)","v":""}]
[null,null,null,"2021","August","2021-08-26",null,"","",5.2023999999999999,"",0,"",{"$f":"IF(OR('3 Irrigation Schedule'!$C$29=\"\",'3 Irrigation Schedule'!$C$31=\"\",H577=\"\"),\"\",(('3 Irrigation Schedule'!$C$29-'3 Irrigation Schedule'!$C$31)/100)*1000*M577)","v":""},"",{"$f":"IF(H577=\"\",\"\",IF(H577=1,N577*(1-'3 Irrigation Schedule'!$C$27),S576-U576))","v":""},"","","",{"$f":"IF(H577=\"\",\"\",IF('3 Irrigation Schedule'!$P$19<O577,'3 Irrigation Schedule'!$P$19,O577))","v":""},"",{"$f":"IF(H577=\"\",\"\",U577/'3 Irrigation Schedule'!$M$19)","v":""}]
[null,null,null,"2021","August","2021-08-27",null,"","",5.2023999999999999,"",0,"",{"$f":"IF(OR('3 Irrigation Schedule'!$C$29=\"\",'3 Irrigation Schedule'!$C$31=\"\",H578=\"\"),\"\",(('3 Irrigation Schedule'!$C$29-'3 Irrigation Schedule'!$C$31)/100)*1000*M578)","v":""},"",{"$f":"IF(H578=\"\",\"\",IF(H578=1,N578*(1-'3 Irrigation Schedule'!$C$27),S577-U577))","v":""},"","","",{"$f":"IF(H578=\"\",\"\",IF('3 Irrigation Schedule'!$P$19<O578,'3 Irrigation Schedule'!$P$19,O578))","v":""},"",{"$f":"IF(H578=\"\",\"\",U578/'3 Irrigation Schedule'!$M$19)","v":""}]
[null,null,null,"2021","August","2021-08-28",null,"","",5.2023999999999999,"",0,"",{"$f":"IF(OR('3 Irrigation Schedule'!$C$29=\"\",'3 Irrigation Schedule'!$C$31=\"\",H579=\"\"),\"\",(('3 Irrigation Schedule'!$C$29-'3 Irrigation Schedule'!$C$31)/100)*1000*M579)","v":""},"",{"$f":"IF(H579=\"\",\"\",IF(H579=1,N579*(1-'3 Irrigation Schedule'!$C$27),S578-U578))","v":""},"","","",{"$f":"IF(H579=\"\",\"\",IF('3 Irrigation Schedule'!$P$19<O579,'3 Irrigation Schedule'!$P$19,O579))","v":""},"",{"$f":"IF(H579=\"\",\"\",U579/'3 Irrigation Schedule'!$M$19)","v":""}]
[null,null,null,"2021","August","2021-08-29",null,"","",5.2023999999999999,"",0,"",{"$f":"IF(OR('3 Irrigation Schedule'!$C$29=\"\",'3 Irrigation Schedule'!$C$31=\"\",H580=\"\"),\"\",(('3 Irrigation Schedule'!$C$29-'3 Irrigation Schedule'!$C$31)/100)*1000*M580)","v":""},"",{"$f":"IF(H580=\"\",\"\",IF(H580=1,N580*(1-'3 Irrigation Schedule'!$C$27),S579-U579))","v":""},"","","",{"$f":"IF(H580=\"\",\"\",IF('3 Irrigation Schedule'!$P$19<O580,'3 Irrigation Schedule'!$P$19,O580))","v":""},"",{"$f":"IF(H580=\"\",\"\",U580/'3 Irrigation Schedule'!$M$19)","v":""}]
[null,null,null,"2021","August","2021-08-30",null,"","",5.2023999999999999,"",0,"",{"$f":"IF(OR('3 Irrigation Schedule'!$C$29=\"\",'3 Irrigation Schedule'!$C$31=\"\",H581=\"\"),\"\",(('3 Irrigation Schedule'!$C$29-'3 Irrigation Schedule'!$C$31)/100)*1000*M581)","v":""},"",{"$f":"IF(H581=\"\",\"\",IF(H581=1,N581*(1-'3 Irrigation Schedule'!$C$27),S580-U580))","v":""},"","","",{"$f":"IF(H581=\"\",\"\",IF('3 Irrigation Schedule'!$P$19<O581,'3 Irrigation Schedule'!$P$19,O581))","v":""},"",{"$f":"IF(H581=\"\",\"\",U581/'3 Irrigation Schedule'!$M$19)","v":""}]
[null,null,null,"2021","August","2021-08-31",null,"","",5.2023999999999999,"",0,"",{"$f":"IF(OR('3 Irrigation Schedule'!$C$29=\"\",'3 Irrigation Schedule'!$C$31=\"\",H582=\"\"),\"\",(('3 Irrigation Schedule'!$C$29-'3 Irrigation Schedule'!$C$31)/100)*1000*M582)","v":""},"",{"$f":"IF(H582=\"\",\"\",IF(H582=1,N582*(1-'3 Irrigation Schedule'!$C$27),S581-U581))","v":""},"","","",{"$f":"IF(H582=\"\",\"\",IF('3 Irrigation Schedule'!$P$19<O582,'3 Irrigation Schedule'!$P$19,O582))","v":""},"",{"$f":"IF(H582=\"\",\"\",U582/'3 Irrigation Schedule'!$M$19)","v":""}]
[null,null,null,"2021","September","2021-09-01",null,"","",5.2796800000000008,"",0,"",{"$f":"IF(OR('3 Irrigation Schedule'!$C$29=\"\",'3 Irrigation Schedule'!$C$31=\"\",H583=\"\"),\"\",(('3 Irrigation Schedule'!$C$29-'3 Irrigation Schedule'!$C$31)/100)*1000*M583)","v":""},"",{"$f":"IF(H583=\"\",\"\",IF(H583=1,N583*(1-'3 Irrigation Schedule'!$C$27),S582-U582))","v":""},"","","",{"$f":"IF(H583=\"\",\"\",IF('3 Irrigation Schedule'!$P$19<O583,'3 Irrigation Schedule'!$P$19,O583))","v":""},"",{"$f":"IF(H583=\"\",\"\",U583/'3 Irrigation Schedule'!$M$19)","v":""}]
[null,null,null,"2021","September","2021-09-02",null,"","",5.2796800000000008,"",0,"",{"$f":"IF(OR('3 Irrigation Schedule'!$C$29=\"\",'3 Irrigation Schedule'!$C$31=\"\",H584=\"\"),\"\",(('3 Irrigation Schedule'!$C$29-'3 Irrigation Schedule'!$C$31)/100)*1000*M584)","v":""},"",{"$f":"IF(H584=\"\",\"\",IF(H584=1,N584*(1-'3 Irrigation Schedule'!$C$27),S583-U583))","v":""},"","","",{"$f":"IF(H584=\"\",\"\",IF('3 Irrigation Schedule'!$P$19<O584,'3 Irrigation Schedule'!$P$19,O584))","v":""},"",{"$f":"IF(H584=\"\",\"\",U584/'3 Irrigation Schedule'!$M$19)","v":""}]
[null,null,null,"2021","September","2021-09-03",null,"","",5.2796800000000008,"",0,"",{"$f":"IF(OR('3 Irrigation Schedule'!$C$29=\"\",'3 Irrigation Schedule'!$C$31=\"\",H585=\"\"),\"\",(('3 Irrigation Schedule'!$C$29-'3 Irrigation Schedule'!$C$31)/100)*1000*M585)","v":""},"",{"$f":"IF(H585=\"\",\"\",IF(H585=1,N585*(1-'3 Irrigation Schedule'!$C$27),S584-U584))","v":""},"","","",{"$f":"IF(H585=\"\",\"\",IF('3 Irrigation Schedule'!$P$19<O585,'3 Irrigation Schedule'!$P$19,O585))","v":""},"",{"$f":"IF(H585=\"\",\"\",U585/'3 Irrigation Schedule'!$M$19)","v":""}]
[null,null,null,"2021","September","2021-09-04",null,"","",5.2796800000000008,"",0,"",{"$f":"IF(OR('3 Irrigation Schedule'!$C$29=\"\",'3 Irrigation Schedule'!$C$31=\"\",H586=\"\"),\"\",(('3 Irrigation Schedule'!$C$29-'3 Irrigation Schedule'!$C$31)/100)*1000*M586)","v":""},"",{"$f":"IF(H586=\"\",\"\",IF(H586=1,N586*(1-'3 Irrigation Schedule'!$C$27),S585-U585))","v":""},"","","",{"$f":"IF(H586=\"\",\"\",IF('3 Irrigation Schedule'!$P$19<O586,'3 Irrigation Schedule'!$P$19,O586))","v":""},"",{"$f":"IF(H586=\"\",\"\",U586/'3 Irrigation Schedule'!$M$19)","v":""}]
[null,null,null,"2021","September","2021-09-05",null,"","",5.2796800000000008,"",0,"",{"$f":"IF(OR('3 Irrigation Schedule'!$C$29=\"\",'3 Irrigation Schedule'!$C$31=\"\",H587=\"\"),\"\",(('3 Irrigation Schedule'!$C$29-'3 Irrigation Schedule'!$C$31)/100)*1000*M587)","v":""},"",{"$f":"IF(H587=\"\",\"\",IF(H587=1,N587*(1-'3 Irrigation Schedule'!$C$27),S586-U586))","v":""},"","","",{"$f":"IF(H587=\"\",\"\",IF('3 Irrigation Schedule'!$P$19<O587,'3 Irrigation Schedule'!$P$19,O587))","v":""},"",{"$f":"IF(H587=\"\",\"\",U587/'3 Irrigation Schedule'!$M$19)","v":""}]
[null,null,null,"2021","September","2021-09-06",null,"","",5.2796800000000008,"",0,"",{"$f":"IF(OR('3 Irrigation Schedule'!$C$29=\"\",'3 Irrigation Schedule'!$C$31=\"\",H588=\"\"),\"\",(('3 Irrigation Schedule'!$C$29-'3 Irrigation Schedule'!$C$31)/100)*1000*M588)","v":""},"",{"$f":"IF(H588=\"\",\"\",IF(H588=1,N588*(1-'3 Irrigation Schedule'!$C$27),S587-U587))","v":""},"","","",{"$f":"IF(H588=\"\",\"\",IF('3 Irrigation Schedule'!$P$19<O588,'3 Irrigation Schedule'!$P$19,O588))","v":""},"",{"$f":"IF(H588=\"\",\"\",U588/'3 Irrigation Schedule'!$M$19)","v":""}]
[null,null,null,"2021","September","2021-09-07",null,"","",5.2796800000000008,"",0,"",{"$f":"IF(OR('3 Irrigation Schedule'!$C$29=\"\",'3 Irrigation Schedule'!$C$31=\"\",H589=\"\"),\"\",(('3 Irrigation Schedule'!$C$29-'3 Irrigation Schedule'!$C$31)/100)*1000*M589)","v":""},"",{"$f":"IF(H589=\"\",\"\",IF(H589=1,N589*(1-'3 Irrigation Schedule'!$C$27),S588-U588))","v":""},"","","",{"$f":"IF(H589=\"\",\"\",IF('3 Irrigation Schedule'!$P$19<O589,'3 Irrigation Schedule'!$P$19,O589))","v":""},"",{"$f":"IF(H589=\"\",\"\",U589/'3 Irrigation Schedule'!$M$19)","v":""}]
[null,null,null,"2021","September","2021-09-08",null,"","",5.2796800000000008,"",0,"",{"$f":"IF(OR('3 Irrigation Schedule'!$C$29=\"\",'3 Irrigation Schedule'!$C$31=\"\",H590=\"\"),\"\",(('3 Irrigation Schedule'!$C$29-'3 Irrigation Schedule'!$C$31)/100)*1000*M590)","v":""},"",{"$f":"IF(H590=\"\",\"\",IF(H590=1,N590*(1-'3 Irrigation Schedule'!$C$27),S589-U589))","v":""},"","","",{"$f":"IF(H590=\"\",\"\",IF('3 Irrigation Schedule'!$P$19<O590,'3 Irrigation Schedule'!$P$19,O590))","v":""},"",{"$f":"IF(H590=\"\",\"\",U590/'3 Irrigation Schedule'!$M$19)","v":""}]
[null,null,null,"2021","September","2021-09-09",null,"","",5.2796800000000008,"",0,"",{"$f":"IF(OR('3 Irrigation Schedule'!$C$29=\"\",'3 Irrigation Schedule'!$C$31=\"\",H591=\"\"),\"\",(('3 Irrigation Schedule'!$C$29-'3 Irrigation Schedule'!$C$31)/100)*1000*M591)","v":""},"",{"$f":"IF(H591=\"\",\"\",IF(H591=1,N591*(1-'3 Irrigation Schedule'!$C$27),S590-U590))","v":""},"","","",{"$f":"IF(H591=\"\",\"\",IF('3 Irrigation Schedule'!$P$19<O591,'3 Irrigation Schedule'!$P$19,O591))","v":""},"",{"$f":"IF(H591=\"\",\"\",U591/'3 Irrigation Schedule'!$M$19)","v":""}]
[null,null,null,"2021","September","2021-09-10",null,"",{"$f":"IF(H592=\"\",\"\",IF(H592<=$I$27,\"Initial\",IF(AND(H592>$I$27,H592<=$I$28),\"Development\",IF(AND(H592>$I$28,H592<=$I$29),\"Mid Season\",\"Late Season\"))))","v":""},5.2796800000000008,{"$f":"IF(H592=\"\",\"\",IF(H592<=$I$27,$L$27,IF(AND(H592>$I$27,H592<=$I$28),$L$27+((H592-$I$27)/$H$28)*($L$29-$L$27),IF(AND(H592>$I$28,H592<=$I$29),$L$29,$L$29+((H592-$I$29)/$H$30)*($L$30-$L$29)))))","v":""},{"$f":"IFERROR((J592*K592),0)","v":0},{"$f":"IF(H592=\"\",\"\",IF(OR(H592=1,H592<$I$28),$M$27+(($M$28-$M$27)*((H592-1)/($I$28-1))),$M$28))","v":""},{"$f":"IF(OR('3 Irrigation Schedule'!$C$29=\"\",'3 Irrigation Schedule'!$C$31=\"\",H592=\"\"),\"\",(('3 Irrigation Schedule'!$C$29-'3 Irrigation Schedule'!$C$31)/100)*1000*M592)","v":""},{"$f":"IF(H592=\"\",\"\",N592*$N$27)","v":""},{"$f":"IF(H592=\"\",\"\",IF(H592=1,N592*(1-'3 Irrigation Schedule'!$C$27),S591-U591))","v":""},{"$f":"IF(H592=\"\",\"\",IF(P592>O592,(N592-P592)/(N592-O592),1))","v":""},{"$f":"IF(H592=\"\",\"\",L592*Q592)","v":""},{"$f":"IF(H592=\"\",\"\",P592+R592)","v":""},{"$f":"IF(H592=\"\",\"\",IF('3 Irrigation Schedule'!$P$19<O592,'3 Irrigation Schedule'!$P$19,O592))","v":""},{"$f":"IF(H592=\"\",\"\",IF(T592<=S592,T592,0))","v":""},{"$f":"IF(H592=\"\",\"\",U592/'3 Irrigation Schedule'!$M$19)","v":""}]
[null,null,null,"2021","September","2021-09-11",null,"","",5.2796800000000008,"",0,"",{"$f":"IF(OR('3 Irrigation Schedule'!$C$29=\"\",'3 Irrigation Schedule'!$C$31=\"\",H593=\"\"),\"\",(('3 Irrigation Schedule'!$C$29-'3 Irrigation Schedule'!$C$31)/100)*1000*M593)","v":""},"",{"$f":"IF(H593=\"\",\"\",IF(H593=1,N593*(1-'3 Irrigation Schedule'!$C$27),S592-U592))","v":""},"","","",{"$f":"IF(H593=\"\",\"\",IF('3 Irrigation Schedule'!$P$19<O593,'3 Irrigation Schedule'!$P$19,O593))","v":""},"",{"$f":"IF(H593=\"\",\"\",U593/'3 Irrigation Schedule'!$M$19)","v":""}]
[null,null,null,"2021","September","2021-09-12",null,"","",5.2796800000000008,"",0,"",{"$f":"IF(OR('3 Irrigation Schedule'!$C$29=\"\",'3 Irrigation Schedule'!$C$31=\"\",H594=\"\"),\"\",(('3 Irrigation Schedule'!$C$29-'3 Irrigation Schedule'!$C$31)/100)*1000*M594)","v":""},"",{"$f":"IF(H594=\"\",\"\",IF(H594=1,N594*(1-'3 Irrigation Schedule'!$C$27),S593-U593))","v":""},"","","",{"$f":"IF(H594=\"\",\"\",IF('3 Irrigation Schedule'!$P$19<O594,'3 Irrigation Schedule'!$P$19,O594))","v":""},"",{"$f":"IF(H594=\"\",\"\",U594/'3 Irrigation Schedule'!$M$19)","v":""}]
[null,null,null,"2021","September","2021-09-13",null,"","",5.2796800000000008,"",0,"",{"$f":"IF(OR('3 Irrigation Schedule'!$C$29=\"\",'3 Irrigation Schedule'!$C$31=\"\",H595=\"\"),\"\",(('3 Irrigation Schedule'!$C$29-'3 Irrigation Schedule'!$C$31)/100)*1000*M595)","v":""},"",{"$f":"IF(H595=\"\",\"\",IF(H595=1,N595*(1-'3 Irrigation Schedule'!$C$27),S594-U594))","v":""},"","","",{"$f":"IF(H595=\"\",\"\",IF('3 Irrigation Schedule'!$P$19<O595,'3 Irrigation Schedule'!$P$19,O595))","v":""},"",{"$f":"IF(H595=\"\",\"\",U595/'3 Irrigation Schedule'!$M$19)","v":""}]
[null,null,null,"2021","September","2021-09-14",null,"","",5.2796800000000008,"",0,"",{"$f":"IF(OR('3 Irrigation Schedule'!$C$29=\"\",'3 Irrigation Schedule'!$C$31=\"\",H596=\"\"),\"\",(('3 Irrigation Schedule'!$C$29-'3 Irrigation Schedule'!$C$31)/100)*1000*M596)","v":""},"",{"$f":"IF(H596=\"\",\"\",IF(H596=1,N596*(1-'3 Irrigation Schedule'!$C$27),S595-U595))","v":""},"","","",{"$f":"IF(H596=\"\",\"\",IF('3 Irrigation Schedule'!$P$19<O596,'3 Irrigation Schedule'!$P$19,O596))","v":""},"",{"$f":"IF(H596=\"\",\"\",U596/'3 Irrigation Schedule'!$M$19)","v":""}]
[null,null,null,"2021","September","2021-09-15",null,"","",5.2796800000000008,"",0,"",{"$f":"IF(OR('3 Irrigation Schedule'!$C$29=\"\",'3 Irrigation Schedule'!$C$31=\"\",H597=\"\"),\"\",(('3 Irrigation Schedule'!$C$29-'3 Irrigation Schedule'!$C$31)/100)*1000*M597)","v":""},"",{"$f":"IF(H597=\"\",\"\",IF(H597=1,N597*(1-'3 Irrigation Schedule'!$C$27),S596-U596))","v":""},"","","",{"$f":"IF(H597=\"\",\"\",IF('3 Irrigation Schedule'!$P$19<O597,'3 Irrigation Schedule'!$P$19,O597))","v":""},"",{"$f":"IF(H597=\"\",\"\",U597/'3 Irrigation Schedule'!$M$19)","v":""}]
[null,null,null,"2021","September","2021-09-16",null,"","",5.2796800000000008,"",0,"",{"$f":"IF(OR('3 Irrigation Schedule'!$C$29=\"\",'3 Irrigation Schedule'!$C$31=\"\",H598=\"\"),\"\",(('3 Irrigation Schedule'!$C$29-'3 Irrigation Schedule'!$C$31)/100)*1000*M598)","v":""},"",{"$f":"IF(H598=\"\",\"\",IF(H598=1,N598*(1-'3 Irrigation Schedule'!$C$27),S597-U597))","v":""},"","","",{"$f":"IF(H598=\"\",\"\",IF('3 Irrigation Schedule'!$P$19<O598,'3 Irrigation Schedule'!$P$19,O598))","v":""},"",{"$f":"IF(H598=\"\",\"\",U598/'3 Irrigation Schedule'!$M$19)","v":""}]
[null,null,null,"2021","September","2021-09-17",null,"","",5.2796800000000008,"",0,"",{"$f":"IF(OR('3 Irrigation Schedule'!$C$29=\"\",'3 Irrigation Schedule'!$C$31=\"\",H599=\"\"),\"\",(('3 Irrigation Schedule'!$C$29-'3 Irrigation Schedule'!$C$31)/100)*1000*M599)","v":""},"",{"$f":"IF(H599=\"\",\"\",IF(H599=1,N599*(1-'3 Irrigation Schedule'!$C$27),S598-U598))","v":""},"","","",{"$f":"IF(H599=\"\",\"\",IF('3 Irrigation Schedule'!$P$19<O599,'3 Irrigation Schedule'!$P$19,O599))","v":""},"",{"$f":"IF(H599=\"\",\"\",U599/'3 Irrigation Schedule'!$M$19)","v":""}]
[null,null,null,"2021","September","2021-09-18",null,"","",5.2796800000000008,"",0,"",{"$f":"IF(OR('3 Irrigation Schedule'!$C$29=\"\",'3 Irrigation Schedule'!$C$31=\"\",H600=\"\"),\"\",(('3 Irrigation Schedule'!$C$29-'3 Irrigation Schedule'!$C$31)/100)*1000*M600)","v":""},"",{"$f":"IF(H600=\"\",\"\",IF(H600=1,N600*(1-'3 Irrigation Schedule'!$C$27),S599-U599))","v":""},"","","",{"$f":"IF(H600=\"\",\"\",IF('3 Irrigation Schedule'!$P$19<O600,'3 Irrigation Schedule'!$P$19,O600))","v":""},"",{"$f":"IF(H600=\"\",\"\",U600/'3 Irrigation Schedule'!$M$19)","v":""}]
[null,null,null,"2021","September","2021-09-19",null,"","",5.2796800000000008,"",0,"",{"$f":"IF(OR('3 Irrigation Schedule'!$C$29=\"\",'3 Irrigation Schedule'!$C$31=\"\",H601=\"\"),\"\",(('3 Irrigation Schedule'!$C$29-'3 Irrigation Schedule'!$C$31)/100)*1000*M601)","v":""},"",{"$f":"IF(H601=\"\",\"\",IF(H601=1,N601*(1-'3 Irrigation Schedule'!$C$27),S600-U600))","v":""},"","","",{"$f":"IF(H601=\"\",\"\",IF('3 Irrigation Schedule'!$P$19<O601,'3 Irrigation Schedule'!$P$19,O601))","v":""},"",{"$f":"IF(H601=\"\",\"\",U601/'3 Irrigation Schedule'!$M$19)","v":""}]
[null,null,null,"2021","September","2021-09-20",null,"","",5.2796800000000008,"",0,"",{"$f":"IF(OR('3 Irrigation Schedule'!$C$29=\"\",'3 Irrigation Schedule'!$C$31=\"\",H602=\"\"),\"\",(('3 Irrigation Schedule'!$C$29-'3 Irrigation Schedule'!$C$31)/100)*1000*M602)","v":""},"",{"$f":"IF(H602=\"\",\"\",IF(H602=1,N602*(1-'3 Irrigation Schedule'!$C$27),S601-U601))","v":""},"","","",{"$f":"IF(H602=\"\",\"\",IF('3 Irrigation Schedule'!$P$19<O602,'3 Irrigation Schedule'!$P$19,O602))","v":""},"",{"$f":"IF(H602=\"\",\"\",U602/'3 Irrigation Schedule'!$M$19)","v":""}]
[null,null,null,"2021","September","2021-09-21",null,"","",5.2796800000000008,"",0,"",{"$f":"IF(OR('3 Irrigation Schedule'!$C$29=\"\",'3 Irrigation Schedule'!$C$31=\"\",H603=\"\"),\"\",(('3 Irrigation Schedule'!$C$29-'3 Irrigation Schedule'!$C$31)/100)*1000*M603)","v":""},"",{"$f":"IF(H603=\"\",\"\",IF(H603=1,N603*(1-'3 Irrigation Schedule'!$C$27),S602-U602))","v":""},"","","",{"$f":"IF(H603=\"\",\"\",IF('3 Irrigation Schedule'!$P$19<O603,'3 Irrigation Schedule'!$P$19,O603))","v":""},"",{"$f":"IF(H603=\"\",\"\",U603/'3 Irrigation Schedule'!$M$19)","v":""}]
[null,null,null,"2021","September","2021-09-22",null,"","",5.2796800000000008,"",0,"",{"$f":"IF(OR('3 Irrigation Schedule'!$C$29=\"\",'3 Irrigation Schedule'!$C$31=\"\",H604=\"\"),\"\",(('3 Irrigation Schedule'!$C$29-'3 Irrigation Schedule'!$C$31)/100)*1000*M604)","v":""},"",{"$f":"IF(H604=\"\",\"\",IF(H604=1,N604*(1-'3 Irrigation Schedule'!$C$27),S603-U603))","v":""},"","","",{"$f":"IF(H604=\"\",\"\",IF('3 Irrigation Schedule'!$P$19<O604,'3 Irrigation Schedule'!$P$19,O604))","v":""},"",{"$f":"IF(H604=\"\",\"\",U604/'3 Irrigation Schedule'!$M$19)","v":""}]
[null,null,null,"2021","September","2021-09-23",null,"","",5.2796800000000008,"",0,"",{"$f":"IF(OR('3 Irrigation Schedule'!$C$29=\"\",'3 Irrigation Schedule'!$C$31=\"\",H605=\"\"),\"\",(('3 Irrigation Schedule'!$C$29-'3 Irrigation Schedule'!$C$31)/100)*1000*M605)","v":""},"",{"$f":"IF(H605=\"\",\"\",IF(H605=1,N605*(1-'3 Irrigation Schedule'!$C$27),S604-U604))","v":""},"","","",{"$f":"IF(H605=\"\",\"\",IF('3 Irrigation Schedule'!$P$19<O605,'3 Irrigation Schedule'!$P$19,O605))","v":""},"",{"$f":"IF(H605=\"\",\"\",U605/'3 Irrigation Schedule'!$M$19)","v":""}]
[null,null,null,"2021","September","2021-09-24",null,"","",5.2796800000000008,"",0,"",{"$f":"IF(OR('3 Irrigation Schedule'!$C$29=\"\",'3 Irrigation Schedule'!$C$31=\"\",H606=\"\"),\"\",(('3 Irrigation Schedule'!$C$29-'3 Irrigation Schedule'!$C$31)/100)*1000*M606)","v":""},"",{"$f":"IF(H606=\"\",\"\",IF(H606=1,N606*(1-'3 Irrigation Schedule'!$C$27),S605-U605))","v":""},"","","",{"$f":"IF(H606=\"\",\"\",IF('3 Irrigation Schedule'!$P$19<O606,'3 Irrigation Schedule'!$P$19,O606))","v":""},"",{"$f":"IF(H606=\"\",\"\",U606/'3 Irrigation Schedule'!$M$19)","v":""}]
[null,null,null,"2021","September","2021-09-25",null,"","",5.2796800000000008,"",0,"",{"$f":"IF(OR('3 Irrigation Schedule'!$C$29=\"\",'3 Irrigation Schedule'!$C$31=\"\",H607=\"\"),\"\",(('3 Irrigation Schedule'!$C$29-'3 Irrigation Schedule'!$C$31)/100)*1000*M607)","v":""},"",{"$f":"IF(H607=\"\",\"\",IF(H607=1,N607*(1-'3 Irrigation Schedule'!$C$27),S606-U606))","v":""},"","","",{"$f":"IF(H607=\"\",\"\",IF('3 Irrigation Schedule'!$P$19<O607,'3 Irrigation Schedule'!$P$19,O607))","v":""},"",{"$f":"IF(H607=\"\",\"\",U607/'3 Irrigation Schedule'!$M$19)","v":""}]
[null,null,null,"2021","September","2021-09-26",null,"","",5.2796800000000008,"",0,"",{"$f":"IF(OR('3 Irrigation Schedule'!$C$29=\"\",'3 Irrigation Schedule'!$C$31=\"\",H608=\"\"),\"\",(('3 Irrigation Schedule'!$C$29-'3 Irrigation Schedule'!$C$31)/100)*1000*M608)","v":""},"",{"$f":"IF(H608=\"\",\"\",IF(H608=1,N608*(1-'3 Irrigation Schedule'!$C$27),S607-U607))","v":""},"","","",{"$f":"IF(H608=\"\",\"\",IF('3 Irrigation Schedule'!$P$19<O608,'3 Irrigation Schedule'!$P$19,O608))","v":""},"",{"$f":"IF(H608=\"\",\"\",U608/'3 Irrigation Schedule'!$M$19)","v":""}]
[null,null,null,"2021","September","2021-09-27",null,"","",5.2796800000000008,"",0,"",{"$f":"IF(OR('3 Irrigation Schedule'!$C$29=\"\",'3 Irrigation Schedule'!$C$31=\"\",H609=\"\"),\"\",(('3 Irrigation Schedule'!$C$29-'3 Irrigation Schedule'!$C$31)/100)*1000*M609)","v":""},"",{"$f":"IF(H609=\"\",\"\",IF(H609=1,N609*(1-'3 Irrigation Schedule'!$C$27),S608-U608))","v":""},"","","",{"$f":"IF(H609=\"\",\"\",IF('3 Irrigation Schedule'!$P$19<O609,'3 Irrigation Schedule'!$P$19,O609))","v":""},"",{"$f":"IF(H609=\"\",\"\",U609/'3 Irrigation Schedule'!$M$19)","v":""}]
[null,null,null,{"$f":"IFERROR(TEXT(DATE(YEAR($F610),MONTH($F610),1),$D$7&$D$4),\"\")","v":"2021"},{"$f":"IFERROR(TEXT(DATE(YEAR($F610),MONTH($F610),1),$D$7&$D$5),\"\")","v":"September"},"2021-09-28",null,"","",{"$f":"IFERROR(VLOOKUP($E610,$B$19:$C$30,2,FALSE),\"\")","v":5.2796800000000008},"",0,"",{"$f":"IF(OR('3 Irrigation Schedule'!$C$29=\"\",'3 Irrigation Schedule'!$C$31=\"\",H610=\"\"),\"\",(('3 Irrigation Schedule'!$C$29-'3 Irrigation Schedule'!$C$31)/100)*1000*M610)","v":""},"",{"$f":"IF(H610=\"\",\"\",IF(H610=1,N610*(1-'3 Irrigation Schedule'!$C$27),S609-U609))","v":""},"","","",{"$f":"IF(H610=\"\",\"\",IF('3 Irrigation Schedule'!$P$19<O610,'3 Irrigation Schedule'!$P$19,O610))","v":""},"",{"$f":"IF(H610=\"\",\"\",U610/'3 Irrigation Schedule'!$M$19)","v":""}]
[null,null,null,"2021","September",{"$f":"IFERROR(IF(F610+1<=$N$7, F610+1,\"\"),\"\")","v":"2021-09-29"},null,{"$f":"IFERROR(IF(OR($F611-$J$27+1<=0,$F611>$K$30),\"\",$F611-$J$27+1),\"\")","v":""},"",5.2796800000000008,"",0,"",{"$f":"IF(OR('3 Irrigation Schedule'!$C$29=\"\",'3 Irrigation Schedule'!$C$31=\"\",H611=\"\"),\"\",(('3 Irrigation Schedule'!$C$29-'3 Irrigation Schedule'!$C$31)/100)*1000*M611)","v":""},"",{"$f":"IF(H611=\"\",\"\",IF(H611=1,N611*(1-'3 Irrigation Schedule'!$C$27),S610-U610))","v":""},"","","",{"$f":"IF(H611=\"\",\"\",IF('3 Irrigation Schedule'!$P$19<O611,'3 Irrigation Schedule'!$P$19,O611))","v":""},"",{"$f":"IF(H611=\"\",\"\",U611/'3 Irrigation Schedule'!$M$19)","v":""}]
[null,null,null,"2021","September","2021-09-30",null,"","",5.2796800000000008,"",0,"",{"$f":"IF(OR('3 Irrigation Schedule'!$C$29=\"\",'3 Irrigation Schedule'!$C$31=\"\",H612=\"\"),\"\",(('3 Irrigation Schedule'!$C$29-'3 Irrigation Schedule'!$C$31)/100)*1000*M612)","v":""},"",{"$f":"IF(H612=\"\",\"\",IF(H612=1,N612*(1-'3 Irrigation Schedule'!$C$27),S611-U611))","v":""},"","","",{"$f":"IF(H612=\"\",\"\",IF('3 Irrigation Schedule'!$P$19<O612,'3 Irrigation Schedule'!$P$19,O612))","v":""},"",{"$f":"IF(H612=\"\",\"\",U612/'3 Irrigation Schedule'!$M$19)","v":""}]
[null,null,null,"2021","October","2021-10-01",null,"","",5.1283799999999999,"",0,"",{"$f":"IF(OR('3 Irrigation Schedule'!$C$29=\"\",'3 Irrigation Schedule'!$C$31=\"\",H613=\"\"),\"\",(('3 Irrigation Schedule'!$C$29-'3 Irrigation Schedule'!$C$31)/100)*1000*M613)","v":""},"",{"$f":"IF(H613=\"\",\"\",IF(H613=1,N613*(1-'3 Irrigation Schedule'!$C$27),S612-U612))","v":""},"","","",{"$f":"IF(H613=\"\",\"\",IF('3 Irrigation Schedule'!$P$19<O613,'3 Irrigation Schedule'!$P$19,O613))","v":""},"",{"$f":"IF(H613=\"\",\"\",U613/'3 Irrigation Schedule'!$M$19)","v":""}]
[null,null,null,"2021","October","2021-10-02",null,"","",5.1283799999999999,"",0,"",{"$f":"IF(OR('3 Irrigation Schedule'!$C$29=\"\",'3 Irrigation Schedule'!$C$31=\"\",H614=\"\"),\"\",(('3 Irrigation Schedule'!$C$29-'3 Irrigation Schedule'!$C$31)/100)*1000*M614)","v":""},"",{"$f":"IF(H614=\"\",\"\",IF(H614=1,N614*(1-'3 Irrigation Schedule'!$C$27),S613-U613))","v":""},"","","",{"$f":"IF(H614=\"\",\"\",IF('3 Irrigation Schedule'!$P$19<O614,'3 Irrigation Schedule'!$P$19,O614))","v":""},"",{"$f":"IF(H614=\"\",\"\",U614/'3 Irrigation Schedule'!$M$19)","v":""}]
[null,null,null,"2021","October","2021-10-03",null,"","",5.1283799999999999,"",0,"",{"$f":"IF(OR('3 Irrigation Schedule'!$C$29=\"\",'3 Irrigation Schedule'!$C$31=\"\",H615=\"\"),\"\",(('3 Irrigation Schedule'!$C$29-'3 Irrigation Schedule'!$C$31)/100)*1000*M615)","v":""},"",{"$f":"IF(H615=\"\",\"\",IF(H615=1,N615*(1-'3 Irrigation Schedule'!$C$27),S614-U614))","v":""},"","","",{"$f":"IF(H615=\"\",\"\",IF('3 Irrigation Schedule'!$P$19<O615,'3 Irrigation Schedule'!$P$19,O615))","v":""},"",{"$f":"IF(H615=\"\",\"\",U615/'3 Irrigation Schedule'!$M$19)","v":""}]
[null,null,null,"2021","October","2021-10-04",null,"","",5.1283799999999999,"",0,"",{"$f":"IF(OR('3 Irrigation Schedule'!$C$29=\"\",'3 Irrigation Schedule'!$C$31=\"\",H616=\"\"),\"\",(('3 Irrigation Schedule'!$C$29-'3 Irrigation Schedule'!$C$31)/100)*1000*M616)","v":""},"",{"$f":"IF(H616=\"\",\"\",IF(H616=1,N616*(1-'3 Irrigation Schedule'!$C$27),S615-U615))","v":""},"","","",{"$f":"IF(H616=\"\",\"\",IF('3 Irrigation Schedule'!$P$19<O616,'3 Irrigation Schedule'!$P$19,O616))","v":""},"",{"$f":"IF(H616=\"\",\"\",U616/'3 Irrigation Schedule'!$M$19)","v":""}]
[null,null,null,"2021","October","2021-10-05",null,"","",5.1283799999999999,"",0,"",{"$f":"IF(OR('3 Irrigation Schedule'!$C$29=\"\",'3 Irrigation Schedule'!$C$31=\"\",H617=\"\"),\"\",(('3 Irrigation Schedule'!$C$29-'3 Irrigation Schedule'!$C$31)/100)*1000*M617)","v":""},"",{"$f":"IF(H617=\"\",\"\",IF(H617=1,N617*(1-'3 Irrigation Schedule'!$C$27),S616-U616))","v":""},"","","",{"$f":"IF(H617=\"\",\"\",IF('3 Irrigation Schedule'!$P$19<O617,'3 Irrigation Schedule'!$P$19,O617))","v":""},"",{"$f":"IF(H617=\"\",\"\",U617/'3 Irrigation Schedule'!$M$19)","v":""}]
[null,null,null,"2021","October","2021-10-06",null,"","",5.1283799999999999,"",0,"",{"$f":"IF(OR('3 Irrigation Schedule'!$C$29=\"\",'3 Irrigation Schedule'!$C$31=\"\",H618=\"\"),\"\",(('3 Irrigation Schedule'!$C$29-'3 Irrigation Schedule'!$C$31)/100)*1000*M618)","v":""},"",{"$f":"IF(H618=\"\",\"\",IF(H618=1,N618*(1-'3 Irrigation Schedule'!$C$27),S617-U617))","v":""},"","","",{"$f":"IF(H618=\"\",\"\",IF('3 Irrigation Schedule'!$P$19<O618,'3 Irrigation Schedule'!$P$19,O618))","v":""},"",{"$f":"IF(H618=\"\",\"\",U618/'3 Irrigation Schedule'!$M$19)","v":""}]
[null,null,null,"2021","October","2021-10-07",null,"","",5.1283799999999999,"",0,"",{"$f":"IF(OR('3 Irrigation Schedule'!$C$29=\"\",'3 Irrigation Schedule'!$C$31=\"\",H619=\"\"),\"\",(('3 Irrigation Schedule'!$C$29-'3 Irrigation Schedule'!$C$31)/100)*1000*M619)","v":""},"",{"$f":"IF(H619=\"\",\"\",IF(H619=1,N619*(1-'3 Irrigation Schedule'!$C$27),S618-U618))","v":""},"","","",{"$f":"IF(H619=\"\",\"\",IF('3 Irrigation Schedule'!$P$19<O619,'3 Irrigation Schedule'!$P$19,O619))","v":""},"",{"$f":"IF(H619=\"\",\"\",U619/'3 Irrigation Schedule'!$M$19)","v":""}]
[null,null,null,"2021","October","2021-10-08",null,"","",5.1283799999999999,"",0,"",{"$f":"IF(OR('3 Irrigation Schedule'!$C$29=\"\",'3 Irrigation Schedule'!$C$31=\"\",H620=\"\"),\"\",(('3 Irrigation Schedule'!$C$29-'3 Irrigation Schedule'!$C$31)/100)*1000*M620)","v":""},"",{"$f":"IF(H620=\"\",\"\",IF(H620=1,N620*(1-'3 Irrigation Schedule'!$C$27),S619-U619))","v":""},"","","",{"$f":"IF(H620=\"\",\"\",IF('3 Irrigation Schedule'!$P$19<O620,'3 Irrigation Schedule'!$P$19,O620))","v":""},"",{"$f":"IF(H620=\"\",\"\",U620/'3 Irrigation Schedule'!$M$19)","v":""}]
[null,null,null,"2021","October","2021-10-09",null,"","",5.1283799999999999,"",0,"",{"$f":"IF(OR('3 Irrigation Schedule'!$C$29=\"\",'3 Irrigation Schedule'!$C$31=\"\",H621=\"\"),\"\",(('3 Irrigation Schedule'!$C$29-'3 Irrigation Schedule'!$C$31)/100)*1000*M621)","v":""},"",{"$f":"IF(H621=\"\",\"\",IF(H621=1,N621*(1-'3 Irrigation Schedule'!$C$27),S620-U620))","v":""},"","","",{"$f":"IF(H621=\"\",\"\",IF('3 Irrigation Schedule'!$P$19<O621,'3 Irrigation Schedule'!$P$19,O621))","v":""},"",{"$f":"IF(H621=\"\",\"\",U621/'3 Irrigation Schedule'!$M$19)","v":""}]
[null,null,null,"2021","October","2021-10-10",null,"","",5.1283799999999999,"",0,"",{"$f":"IF(OR('3 Irrigation Schedule'!$C$29=\"\",'3 Irrigation Schedule'!$C$31=\"\",H622=\"\"),\"\",(('3 Irrigation Schedule'!$C$29-'3 Irrigation Schedule'!$C$31)/100)*1000*M622)","v":""},"",{"$f":"IF(H622=\"\",\"\",IF(H622=1,N622*(1-'3 Irrigation Schedule'!$C$27),S621-U621))","v":""},"","","",{"$f":"IF(H622=\"\",\"\",IF('3 Irrigation Schedule'!$P$19<O622,'3 Irrigation Schedule'!$P$19,O622))","v":""},"",{"$f":"IF(H622=\"\",\"\",U622/'3 Irrigation Schedule'!$M$19)","v":""}]
[null,null,null,"2021","October","2021-10-11",null,"","",5.1283799999999999,"",0,"",{"$f":"IF(OR('3 Irrigation Schedule'!$C$29=\"\",'3 Irrigation Schedule'!$C$31=\"\",H623=\"\"),\"\",(('3 Irrigation Schedule'!$C$29-'3 Irrigation Schedule'!$C$31)/100)*1000*M623)","v":""},"",{"$f":"IF(H623=\"\",\"\",IF(H623=1,N623*(1-'3 Irrigation Schedule'!$C$27),S622-U622))","v":""},"","","",{"$f":"IF(H623=\"\",\"\",IF('3 Irrigation Schedule'!$P$19<O623,'3 Irrigation Schedule'!$P$19,O623))","v":""},"",{"$f":"IF(H623=\"\",\"\",U623/'3 Irrigation Schedule'!$M$19)","v":""}]
[null,null,null,"2021","October","2021-10-12",null,"","",5.1283799999999999,"",0,"",{"$f":"IF(OR('3 Irrigation Schedule'!$C$29=\"\",'3 Irrigation Schedule'!$C$31=\"\",H624=\"\"),\"\",(('3 Irrigation Schedule'!$C$29-'3 Irrigation Schedule'!$C$31)/100)*1000*M624)","v":""},"",{"$f":"IF(H624=\"\",\"\",IF(H624=1,N624*(1-'3 Irrigation Schedule'!$C$27),S623-U623))","v":""},"","","",{"$f":"IF(H624=\"\",\"\",IF('3 Irrigation Schedule'!$P$19<O624,'3 Irrigation Schedule'!$P$19,O624))","v":""},"",{"$f":"IF(H624=\"\",\"\",U624/'3 Irrigation Schedule'!$M$19)","v":""}]
[null,null,null,"2021","October","2021-10-13",null,"","",5.1283799999999999,"",0,"",{"$f":"IF(OR('3 Irrigation Schedule'!$C$29=\"\",'3 Irrigation Schedule'!$C$31=\"\",H625=\"\"),\"\",(('3 Irrigation Schedule'!$C$29-'3 Irrigation Schedule'!$C$31)/100)*1000*M625)","v":""},"",{"$f":"IF(H625=\"\",\"\",IF(H625=1,N625*(1-'3 Irrigation Schedule'!$C$27),S624-U624))","v":""},"","","",{"$f":"IF(H625=\"\",\"\",IF('3 Irrigation Schedule'!$P$19<O625,'3 Irrigation Schedule'!$P$19,O625))","v":""},"",{"$f":"IF(H625=\"\",\"\",U625/'3 Irrigation Schedule'!$M$19)","v":""}]
[null,null,null,"2021","October","2021-10-14",null,"","",5.1283799999999999,"",0,"",{"$f":"IF(OR('3 Irrigation Schedule'!$C$29=\"\",'3 Irrigation Schedule'!$C$31=\"\",H626=\"\"),\"\",(('3 Irrigation Schedule'!$C$29-'3 Irrigation Schedule'!$C$31)/100)*1000*M626)","v":""},"",{"$f":"IF(H626=\"\",\"\",IF(H626=1,N626*(1-'3 Irrigation Schedule'!$C$27),S625-U625))","v":""},"","","",{"$f":"IF(H626=\"\",\"\",IF('3 Irrigation Schedule'!$P$19<O626,'3 Irrigation Schedule'!$P$19,O626))","v":""},"",{"$f":"IF(H626=\"\",\"\",U626/'3 Irrigation Schedule'!$M$19)","v":""}]
[null,null,null,"2021","October","2021-10-15",null,"","",5.1283799999999999,"",0,"",{"$f":"IF(OR('3 Irrigation Schedule'!$C$29=\"\",'3 Irrigation Schedule'!$C$31=\"\",H627=\"\"),\"\",(('3 Irrigation Schedule'!$C$29-'3 Irrigation Schedule'!$C$31)/100)*1000*M627)","v":""},"",{"$f":"IF(H627=\"\",\"\",IF(H627=1,N627*(1-'3 Irrigation Schedule'!$C$27),S626-U626))","v":""},"","","",{"$f":"IF(H627=\"\",\"\",IF('3 Irrigation Schedule'!$P$19<O627,'3 Irrigation Schedule'!$P$19,O627))","v":""},"",{"$f":"IF(H627=\"\",\"\",U627/'3 Irrigation Schedule'!$M$19)","v":""}]
[null,null,null,"2021","October","2021-10-16",null,"","",5.1283799999999999,"",0,"",{"$f":"IF(OR('3 Irrigation Schedule'!$C$29=\"\",'3 Irrigation Schedule'!$C$31=\"\",H628=\"\"),\"\",(('3 Irrigation Schedule'!$C$29-'3 Irrigation Schedule'!$C$31)/100)*1000*M628)","v":""},"",{"$f":"IF(H628=\"\",\"\",IF(H628=1,N628*(1-'3 Irrigation Schedule'!$C$27),S627-U627))","v":""},"","","",{"$f":"IF(H628=\"\",\"\",IF('3 Irrigation Schedule'!$P$19<O628,'3 Irrigation Schedule'!$P$19,O628))","v":""},"",{"$f":"IF(H628=\"\",\"\",U628/'3 Irrigation Schedule'!$M$19)","v":""}]
[null,null,null,"2021","October","2021-10-17",null,"","",5.1283799999999999,"",0,"",{"$f":"IF(OR('3 Irrigation Schedule'!$C$29=\"\",'3 Irrigation Schedule'!$C$31=\"\",H629=\"\"),\"\",(('3 Irrigation Schedule'!$C$29-'3 Irrigation Schedule'!$C$31)/100)*1000*M629)","v":""},"",{"$f":"IF(H629=\"\",\"\",IF(H629=1,N629*(1-'3 Irrigation Schedule'!$C$27),S628-U628))","v":""},"","","",{"$f":"IF(H629=\"\",\"\",IF('3 Irrigation Schedule'!$P$19<O629,'3 Irrigation Schedule'!$P$19,O629))","v":""},"",{"$f":"IF(H629=\"\",\"\",U629/'3 Irrigation Schedule'!$M$19)","v":""}]
[null,null,null,"2021","October","2021-10-18",null,"","",5.1283799999999999,"",0,"",{"$f":"IF(OR('3 Irrigation Schedule'!$C$29=\"\",'3 Irrigation Schedule'!$C$31=\"\",H630=\"\"),\"\",(('3 Irrigation Schedule'!$C$29-'3 Irrigation Schedule'!$C$31)/100)*1000*M630)","v":""},"",{"$f":"IF(H630=\"\",\"\",IF(H630=1,N630*(1-'3 Irrigation Schedule'!$C$27),S629-U629))","v":""},"","","",{"$f":"IF(H630=\"\",\"\",IF('3 Irrigation Schedule'!$P$19<O630,'3 Irrigation Schedule'!$P$19,O630))","v":""},"",{"$f":"IF(H630=\"\",\"\",U630/'3 Irrigation Schedule'!$M$19)","v":""}]
[null,null,null,"2021","October","2021-10-19",null,"","",5.1283799999999999,"",0,"",{"$f":"IF(OR('3 Irrigation Schedule'!$C$29=\"\",'3 Irrigation Schedule'!$C$31=\"\",H631=\"\"),\"\",(('3 Irrigation Schedule'!$C$29-'3 Irrigation Schedule'!$C$31)/100)*1000*M631)","v":""},"",{"$f":"IF(H631=\"\",\"\",IF(H631=1,N631*(1-'3 Irrigation Schedule'!$C$27),S630-U630))","v":""},"","","",{"$f":"IF(H631=\"\",\"\",IF('3 Irrigation Schedule'!$P$19<O631,'3 Irrigation Schedule'!$P$19,O631))","v":""},"",{"$f":"IF(H631=\"\",\"\",U631/'3 Irrigation Schedule'!$M$19)","v":""}]
[null,null,null,"2021","October","2021-10-20",null,"","",5.1283799999999999,"",0,"",{"$f":"IF(OR('3 Irrigation Schedule'!$C$29=\"\",'3 Irrigation Schedule'!$C$31=\"\",H632=\"\"),\"\",(('3 Irrigation Schedule'!$C$29-'3 Irrigation Schedule'!$C$31)/100)*1000*M632)","v":""},"",{"$f":"IF(H632=\"\",\"\",IF(H632=1,N632*(1-'3 Irrigation Schedule'!$C$27),S631-U631))","v":""},"","","",{"$f":"IF(H632=\"\",\"\",IF('3 Irrigation Schedule'!$P$19<O632,'3 Irrigation Schedule'!$P$19,O632))","v":""},"",{"$f":"IF(H632=\"\",\"\",U632/'3 Irrigation Schedule'!$M$19)","v":""}]
[null,null,null,"2021","October","2021-10-21",null,"","",5.1283799999999999,"",0,"",{"$f":"IF(OR('3 Irrigation Schedule'!$C$29=\"\",'3 Irrigation Schedule'!$C$31=\"\",H633=\"\"),\"\",(('3 Irrigation Schedule'!$C$29-'3 Irrigation Schedule'!$C$31)/100)*1000*M633)","v":""},"",{"$f":"IF(H633=\"\",\"\",IF(H633=1,N633*(1-'3 Irrigation Schedule'!$C$27),S632-U632))","v":""},"","","",{"$f":"IF(H633=\"\",\"\",IF('3 Irrigation Schedule'!$P$19<O633,'3 Irrigation Schedule'!$P$19,O633))","v":""},"",{"$f":"IF(H633=\"\",\"\",U633/'3 Irrigation Schedule'!$M$19)","v":""}]
[null,null,null,"2021","October","2021-10-22",null,"","",5.1283799999999999,"",0,"",{"$f":"IF(OR('3 Irrigation Schedule'!$C$29=\"\",'3 Irrigation Schedule'!$C$31=\"\",H634=\"\"),\"\",(('3 Irrigation Schedule'!$C$29-'3 Irrigation Schedule'!$C$31)/100)*1000*M634)","v":""},"",{"$f":"IF(H634=\"\",\"\",IF(H634=1,N634*(1-'3 Irrigation Schedule'!$C$27),S633-U633))","v":""},"","","",{"$f":"IF(H634=\"\",\"\",IF('3 Irrigation Schedule'!$P$19<O634,'3 Irrigation Schedule'!$P$19,O634))","v":""},"",{"$f":"IF(H634=\"\",\"\",U634/'3 Irrigation Schedule'!$M$19)","v":""}]
[null,null,null,"2021","October","2021-10-23",null,"","",5.1283799999999999,"",0,"",{"$f":"IF(OR('3 Irrigation Schedule'!$C$29=\"\",'3 Irrigation Schedule'!$C$31=\"\",H635=\"\"),\"\",(('3 Irrigation Schedule'!$C$29-'3 Irrigation Schedule'!$C$31)/100)*1000*M635)","v":""},"",{"$f":"IF(H635=\"\",\"\",IF(H635=1,N635*(1-'3 Irrigation Schedule'!$C$27),S634-U634))","v":""},"","","",{"$f":"IF(H635=\"\",\"\",IF('3 Irrigation Schedule'!$P$19<O635,'3 Irrigation Schedule'!$P$19,O635))","v":""},"",{"$f":"IF(H635=\"\",\"\",U635/'3 Irrigation Schedule'!$M$19)","v":""}]
[null,null,null,"2021","October","2021-10-24",null,"","",5.1283799999999999,"",0,"",{"$f":"IF(OR('3 Irrigation Schedule'!$C$29=\"\",'3 Irrigation Schedule'!$C$31=\"\",H636=\"\"),\"\",(('3 Irrigation Schedule'!$C$29-'3 Irrigation Schedule'!$C$31)/100)*1000*M636)","v":""},"",{"$f":"IF(H636=\"\",\"\",IF(H636=1,N636*(1-'3 Irrigation Schedule'!$C$27),S635-U635))","v":""},"","","",{"$f":"IF(H636=\"\",\"\",IF('3 Irrigation Schedule'!$P$19<O636,'3 Irrigation Schedule'!$P$19,O636))","v":""},"",{"$f":"IF(H636=\"\",\"\",U636/'3 Irrigation Schedule'!$M$19)","v":""}]
[null,null,null,"2021","October","2021-10-25",null,"","",5.1283799999999999,"",0,"",{"$f":"IF(OR('3 Irrigation Schedule'!$C$29=\"\",'3 Irrigation Schedule'!$C$31=\"\",H637=\"\"),\"\",(('3 Irrigation Schedule'!$C$29-'3 Irrigation Schedule'!$C$31)/100)*1000*M637)","v":""},"",{"$f":"IF(H637=\"\",\"\",IF(H637=1,N637*(1-'3 Irrigation Schedule'!$C$27),S636-U636))","v":""},"","","",{"$f":"IF(H637=\"\",\"\",IF('3 Irrigation Schedule'!$P$19<O637,'3 Irrigation Schedule'!$P$19,O637))","v":""},"",{"$f":"IF(H637=\"\",\"\",U637/'3 Irrigation Schedule'!$M$19)","v":""}]
[null,null,null,"2021","October","2021-10-26",null,"","",5.1283799999999999,"",0,"",{"$f":"IF(OR('3 Irrigation Schedule'!$C$29=\"\",'3 Irrigation Schedule'!$C$31=\"\",H638=\"\"),\"\",(('3 Irrigation Schedule'!$C$29-'3 Irrigation Schedule'!$C$31)/100)*1000*M638)","v":""},"",{"$f":"IF(H638=\"\",\"\",IF(H638=1,N638*(1-'3 Irrigation Schedule'!$C$27),S637-U637))","v":""},"","","",{"$f":"IF(H638=\"\",\"\",IF('3 Irrigation Schedule'!$P$19<O638,'3 Irrigation Schedule'!$P$19,O638))","v":""},"",{"$f":"IF(H638=\"\",\"\",U638/'3 Irrigation Schedule'!$M$19)","v":""}]
[null,null,null,"2021","October","2021-10-27",null,"","",5.1283799999999999,"",0,"",{"$f":"IF(OR('3 Irrigation Schedule'!$C$29=\"\",'3 Irrigation Schedule'!$C$31=\"\",H639=\"\"),\"\",(('3 Irrigation Schedule'!$C$29-'3 Irrigation Schedule'!$C$31)/100)*1000*M639)","v":""},"",{"$f":"IF(H639=\"\",\"\",IF(H639=1,N639*(1-'3 Irrigation Schedule'!$C$27),S638-U638))","v":""},"","","",{"$f":"IF(H639=\"\",\"\",IF('3 Irrigation Schedule'!$P$19<O639,'3 Irrigation Schedule'!$P$19,O639))","v":""},"",{"$f":"IF(H639=\"\",\"\",U639/'3 Irrigation Schedule'!$M$19)","v":""}]
[null,null,null,"2021","October","2021-10-28",null,"","",5.1283799999999999,"",0,"",{"$f":"IF(OR('3 Irrigation Schedule'!$C$29=\"\",'3 Irrigation Schedule'!$C$31=\"\",H640=\"\"),\"\",(('3 Irrigation Schedule'!$C$29-'3 Irrigation Schedule'!$C$31)/100)*1000*M640)","v":""},"",{"$f":"IF(H640=\"\",\"\",IF(H640=1,N640*(1-'3 Irrigation Schedule'!$C$27),S639-U639))","v":""},"","","",{"$f":"IF(H640=\"\",\"\",IF('3 Irrigation Schedule'!$P$19<O640,'3 Irrigation Schedule'!$P$19,O640))","v":""},"",{"$f":"IF(H640=\"\",\"\",U640/'3 Irrigation Schedule'!$M$19)","v":""}]
[null,null,null,"2021","October","2021-10-29",null,"","",5.1283799999999999,"",0,"",{"$f":"IF(OR('3 Irrigation Schedule'!$C$29=\"\",'3 Irrigation Schedule'!$C$31=\"\",H641=\"\"),\"\",(('3 Irrigation Schedule'!$C$29-'3 Irrigation Schedule'!$C$31)/100)*1000*M641)","v":""},"",{"$f":"IF(H641=\"\",\"\",IF(H641=1,N641*(1-'3 Irrigation Schedule'!$C$27),S640-U640))","v":""},"","","",{"$f":"IF(H641=\"\",\"\",IF('3 Irrigation Schedule'!$P$19<O641,'3 Irrigation Schedule'!$P$19,O641))","v":""},"",{"$f":"IF(H641=\"\",\"\",U641/'3 Irrigation Schedule'!$M$19)","v":""}]
[null,null,null,"2021","October","2021-10-30",null,"","",5.1283799999999999,"",0,"",{"$f":"IF(OR('3 Irrigation Schedule'!$C$29=\"\",'3 Irrigation Schedule'!$C$31=\"\",H642=\"\"),\"\",(('3 Irrigation Schedule'!$C$29-'3 Irrigation Schedule'!$C$31)/100)*1000*M642)","v":""},"",{"$f":"IF(H642=\"\",\"\",IF(H642=1,N642*(1-'3 Irrigation Schedule'!$C$27),S641-U641))","v":""},"","","",{"$f":"IF(H642=\"\",\"\",IF('3 Irrigation Schedule'!$P$19<O642,'3 Irrigation Schedule'!$P$19,O642))","v":""},"",{"$f":"IF(H642=\"\",\"\",U642/'3 Irrigation Schedule'!$M$19)","v":""}]
[null,null,null,"2021","October","2021-10-31",null,"","",5.1283799999999999,"",0,"",{"$f":"IF(OR('3 Irrigation Schedule'!$C$29=\"\",'3 Irrigation Schedule'!$C$31=\"\",H643=\"\"),\"\",(('3 Irrigation Schedule'!$C$29-'3 Irrigation Schedule'!$C$31)/100)*1000*M643)","v":""},"",{"$f":"IF(H643=\"\",\"\",IF(H643=1,N643*(1-'3 Irrigation Schedule'!$C$27),S642-U642))","v":""},"","","",{"$f":"IF(H643=\"\",\"\",IF('3 Irrigation Schedule'!$P$19<O643,'3 Irrigation Schedule'!$P$19,O643))","v":""},"",{"$f":"IF(H643=\"\",\"\",U643/'3 Irrigation Schedule'!$M$19)","v":""}]
[null,null,null,"2021","November","2021-11-01",null,"","",5.091120000000001,"",0,"",{"$f":"IF(OR('3 Irrigation Schedule'!$C$29=\"\",'3 Irrigation Schedule'!$C$31=\"\",H644=\"\"),\"\",(('3 Irrigation Schedule'!$C$29-'3 Irrigation Schedule'!$C$31)/100)*1000*M644)","v":""},"",{"$f":"IF(H644=\"\",\"\",IF(H644=1,N644*(1-'3 Irrigation Schedule'!$C$27),S643-U643))","v":""},"","","",{"$f":"IF(H644=\"\",\"\",IF('3 Irrigation Schedule'!$P$19<O644,'3 Irrigation Schedule'!$P$19,O644))","v":""},"",{"$f":"IF(H644=\"\",\"\",U644/'3 Irrigation Schedule'!$M$19)","v":""}]
[null,null,null,"2021","November","2021-11-02",null,"","",5.091120000000001,"",0,"",{"$f":"IF(OR('3 Irrigation Schedule'!$C$29=\"\",'3 Irrigation Schedule'!$C$31=\"\",H645=\"\"),\"\",(('3 Irrigation Schedule'!$C$29-'3 Irrigation Schedule'!$C$31)/100)*1000*M645)","v":""},"",{"$f":"IF(H645=\"\",\"\",IF(H645=1,N645*(1-'3 Irrigation Schedule'!$C$27),S644-U644))","v":""},"","","",{"$f":"IF(H645=\"\",\"\",IF('3 Irrigation Schedule'!$P$19<O645,'3 Irrigation Schedule'!$P$19,O645))","v":""},"",{"$f":"IF(H645=\"\",\"\",U645/'3 Irrigation Schedule'!$M$19)","v":""}]
[null,null,null,"2021","November","2021-11-03",null,"","",5.091120000000001,"",0,"",{"$f":"IF(OR('3 Irrigation Schedule'!$C$29=\"\",'3 Irrigation Schedule'!$C$31=\"\",H646=\"\"),\"\",(('3 Irrigation Schedule'!$C$29-'3 Irrigation Schedule'!$C$31)/100)*1000*M646)","v":""},"",{"$f":"IF(H646=\"\",\"\",IF(H646=1,N646*(1-'3 Irrigation Schedule'!$C$27),S645-U645))","v":""},"","","",{"$f":"IF(H646=\"\",\"\",IF('3 Irrigation Schedule'!$P$19<O646,'3 Irrigation Schedule'!$P$19,O646))","v":""},"",{"$f":"IF(H646=\"\",\"\",U646/'3 Irrigation Schedule'!$M$19)","v":""}]
[null,null,null,"2021","November","2021-11-04",null,"","",5.091120000000001,"",0,"",{"$f":"IF(OR('3 Irrigation Schedule'!$C$29=\"\",'3 Irrigation Schedule'!$C$31=\"\",H647=\"\"),\"\",(('3 Irrigation Schedule'!$C$29-'3 Irrigation Schedule'!$C$31)/100)*1000*M647)","v":""},"",{"$f":"IF(H647=\"\",\"\",IF(H647=1,N647*(1-'3 Irrigation Schedule'!$C$27),S646-U646))","v":""},"","","",{"$f":"IF(H647=\"\",\"\",IF('3 Irrigation Schedule'!$P$19<O647,'3 Irrigation Schedule'!$P$19,O647))","v":""},"",{"$f":"IF(H647=\"\",\"\",U647/'3 Irrigation Schedule'!$M$19)","v":""}]
[null,null,null,"2021","November","2021-11-05",null,"","",5.091120000000001,"",0,"",{"$f":"IF(OR('3 Irrigation Schedule'!$C$29=\"\",'3 Irrigation Schedule'!$C$31=\"\",H648=\"\"),\"\",(('3 Irrigation Schedule'!$C$29-'3 Irrigation Schedule'!$C$31)/100)*1000*M648)","v":""},"",{"$f":"IF(H648=\"\",\"\",IF(H648=1,N648*(1-'3 Irrigation Schedule'!$C$27),S647-U647))","v":""},"","","",{"$f":"IF(H648=\"\",\"\",IF('3 Irrigation Schedule'!$P$19<O648,'3 Irrigation Schedule'!$P$19,O648))","v":""},"",{"$f":"IF(H648=\"\",\"\",U648/'3 Irrigation Schedule'!$M$19)","v":""}]
[null,null,null,"2021","November","2021-11-06",null,"","",5.091120000000001,"",0,"",{"$f":"IF(OR('3 Irrigation Schedule'!$C$29=\"\",'3 Irrigation Schedule'!$C$31=\"\",H649=\"\"),\"\",(('3 Irrigation Schedule'!$C$29-'3 Irrigation Schedule'!$C$31)/100)*1000*M649)","v":""},"",{"$f":"IF(H649=\"\",\"\",IF(H649=1,N649*(1-'3 Irrigation Schedule'!$C$27),S648-U648))","v":""},"","","",{"$f":"IF(H649=\"\",\"\",IF('3 Irrigation Schedule'!$P$19<O649,'3 Irrigation Schedule'!$P$19,O649))","v":""},"",{"$f":"IF(H649=\"\",\"\",U649/'3 Irrigation Schedule'!$M$19)","v":""}]
[null,null,null,"2021","November","2021-11-07",null,"","",5.091120000000001,"",0,"",{"$f":"IF(OR('3 Irrigation Schedule'!$C$29=\"\",'3 Irrigation Schedule'!$C$31=\"\",H650=\"\"),\"\",(('3 Irrigation Schedule'!$C$29-'3 Irrigation Schedule'!$C$31)/100)*1000*M650)","v":""},"",{"$f":"IF(H650=\"\",\"\",IF(H650=1,N650*(1-'3 Irrigation Schedule'!$C$27),S649-U649))","v":""},"","","",{"$f":"IF(H650=\"\",\"\",IF('3 Irrigation Schedule'!$P$19<O650,'3 Irrigation Schedule'!$P$19,O650))","v":""},"",{"$f":"IF(H650=\"\",\"\",U650/'3 Irrigation Schedule'!$M$19)","v":""}]
[null,null,null,"2021","November","2021-11-08",null,"","",5.091120000000001,"",0,"",{"$f":"IF(OR('3 Irrigation Schedule'!$C$29=\"\",'3 Irrigation Schedule'!$C$31=\"\",H651=\"\"),\"\",(('3 Irrigation Schedule'!$C$29-'3 Irrigation Schedule'!$C$31)/100)*1000*M651)","v":""},"",{"$f":"IF(H651=\"\",\"\",IF(H651=1,N651*(1-'3 Irrigation Schedule'!$C$27),S650-U650))","v":""},"","","",{"$f":"IF(H651=\"\",\"\",IF('3 Irrigation Schedule'!$P$19<O651,'3 Irrigation Schedule'!$P$19,O651))","v":""},"",{"$f":"IF(H651=\"\",\"\",U651/'3 Irrigation Schedule'!$M$19)","v":""}]
[null,null,null,"2021","November","2021-11-09",null,"","",5.091120000000001,"",0,"",{"$f":"IF(OR('3 Irrigation Schedule'!$C$29=\"\",'3 Irrigation Schedule'!$C$31=\"\",H652=\"\"),\"\",(('3 Irrigation Schedule'!$C$29-'3 Irrigation Schedule'!$C$31)/100)*1000*M652)","v":""},"",{"$f":"IF(H652=\"\",\"\",IF(H652=1,N652*(1-'3 Irrigation Schedule'!$C$27),S651-U651))","v":""},"","","",{"$f":"IF(H652=\"\",\"\",IF('3 Irrigation Schedule'!$P$19<O652,'3 Irrigation Schedule'!$P$19,O652))","v":""},"",{"$f":"IF(H652=\"\",\"\",U652/'3 Irrigation Schedule'!$M$19)","v":""}]
[null,null,null,"2021","November","2021-11-10",null,"","",5.091120000000001,"",0,"",{"$f":"IF(OR('3 Irrigation Schedule'!$C$29=\"\",'3 Irrigation Schedule'!$C$31=\"\",H653=\"\"),\"\",(('3 Irrigation Schedule'!$C$29-'3 Irrigation Schedule'!$C$31)/100)*1000*M653)","v":""},"",{"$f":"IF(H653=\"\",\"\",IF(H653=1,N653*(1-'3 Irrigation Schedule'!$C$27),S652-U652))","v":""},"","","",{"$f":"IF(H653=\"\",\"\",IF('3 Irrigation Schedule'!$P$19<O653,'3 Irrigation Schedule'!$P$19,O653))","v":""},"",{"$f":"IF(H653=\"\",\"\",U653/'3 Irrigation Schedule'!$M$19)","v":""}]
[null,null,null,"2021","November","2021-11-11",null,"","",5.091120000000001,"",0,"",{"$f":"IF(OR('3 Irrigation Schedule'!$C$29=\"\",'3 Irrigation Schedule'!$C$31=\"\",H654=\"\"),\"\",(('3 Irrigation Schedule'!$C$29-'3 Irrigation Schedule'!$C$31)/100)*1000*M654)","v":""},"",{"$f":"IF(H654=\"\",\"\",IF(H654=1,N654*(1-'3 Irrigation Schedule'!$C$27),S653-U653))","v":""},"","","",{"$f":"IF(H654=\"\",\"\",IF('3 Irrigation Schedule'!$P$19<O654,'3 Irrigation Schedule'!$P$19,O654))","v":""},"",{"$f":"IF(H654=\"\",\"\",U654/'3 Irrigation Schedule'!$M$19)","v":""}]
[null,null,null,"2021","November","2021-11-12",null,"","",5.091120000000001,"",0,"",{"$f":"IF(OR('3 Irrigation Schedule'!$C$29=\"\",'3 Irrigation Schedule'!$C$31=\"\",H655=\"\"),\"\",(('3 Irrigation Schedule'!$C$29-'3 Irrigation Schedule'!$C$31)/100)*1000*M655)","v":""},"",{"$f":"IF(H655=\"\",\"\",IF(H655=1,N655*(1-'3 Irrigation Schedule'!$C$27),S654-U654))","v":""},"","","",{"$f":"IF(H655=\"\",\"\",IF('3 Irrigation Schedule'!$P$19<O655,'3 Irrigation Schedule'!$P$19,O655))","v":""},"",{"$f":"IF(H655=\"\",\"\",U655/'3 Irrigation Schedule'!$M$19)","v":""}]
[null,null,null,"2021","November","2021-11-13",null,"",{"$f":"IF(H656=\"\",\"\",IF(H656<=$I$27,\"Initial\",IF(AND(H656>$I$27,H656<=$I$28),\"Development\",IF(AND(H656>$I$28,H656<=$I$29),\"Mid Season\",\"Late Season\"))))","v":""},5.091120000000001,{"$f":"IF(H656=\"\",\"\",IF(H656<=$I$27,$L$27,IF(AND(H656>$I$27,H656<=$I$28),$L$27+((H656-$I$27)/$H$28)*($L$29-$L$27),IF(AND(H656>$I$28,H656<=$I$29),$L$29,$L$29+((H656-$I$29)/$H$30)*($L$30-$L$29)))))","v":""},{"$f":"IFERROR((J656*K656),0)","v":0},{"$f":"IF(H656=\"\",\"\",IF(OR(H656=1,H656<$I$28),$M$27+(($M$28-$M$27)*((H656-1)/($I$28-1))),$M$28))","v":""},{"$f":"IF(OR('3 Irrigation Schedule'!$C$29=\"\",'3 Irrigation Schedule'!$C$31=\"\",H656=\"\"),\"\",(('3 Irrigation Schedule'!$C$29-'3 Irrigation Schedule'!$C$31)/100)*1000*M656)","v":""},{"$f":"IF(H656=\"\",\"\",N656*$N$27)","v":""},{"$f":"IF(H656=\"\",\"\",IF(H656=1,N656*(1-'3 Irrigation Schedule'!$C$27),S655-U655))","v":""},{"$f":"IF(H656=\"\",\"\",IF(P656>O656,(N656-P656)/(N656-O656),1))","v":""},{"$f":"IF(H656=\"\",\"\",L656*Q656)","v":""},{"$f":"IF(H656=\"\",\"\",P656+R656)","v":""},{"$f":"IF(H656=\"\",\"\",IF('3 Irrigation Schedule'!$P$19<O656,'3 Irrigation Schedule'!$P$19,O656))","v":""},{"$f":"IF(H656=\"\",\"\",IF(T656<=S656,T656,0))","v":""},{"$f":"IF(H656=\"\",\"\",U656/'3 Irrigation Schedule'!$M$19)","v":""}]
[null,null,null,"2021","November","2021-11-14",null,"","",5.091120000000001,"",0,"",{"$f":"IF(OR('3 Irrigation Schedule'!$C$29=\"\",'3 Irrigation Schedule'!$C$31=\"\",H657=\"\"),\"\",(('3 Irrigation Schedule'!$C$29-'3 Irrigation Schedule'!$C$31)/100)*1000*M657)","v":""},"",{"$f":"IF(H657=\"\",\"\",IF(H657=1,N657*(1-'3 Irrigation Schedule'!$C$27),S656-U656))","v":""},"","","",{"$f":"IF(H657=\"\",\"\",IF('3 Irrigation Schedule'!$P$19<O657,'3 Irrigation Schedule'!$P$19,O657))","v":""},"",{"$f":"IF(H657=\"\",\"\",U657/'3 Irrigation Schedule'!$M$19)","v":""}]
[null,null,null,"2021","November","2021-11-15",null,"","",5.091120000000001,"",0,"",{"$f":"IF(OR('3 Irrigation Schedule'!$C$29=\"\",'3 Irrigation Schedule'!$C$31=\"\",H658=\"\"),\"\",(('3 Irrigation Schedule'!$C$29-'3 Irrigation Schedule'!$C$31)/100)*1000*M658)","v":""},"",{"$f":"IF(H658=\"\",\"\",IF(H658=1,N658*(1-'3 Irrigation Schedule'!$C$27),S657-U657))","v":""},"","","",{"$f":"IF(H658=\"\",\"\",IF('3 Irrigation Schedule'!$P$19<O658,'3 Irrigation Schedule'!$P$19,O658))","v":""},"",{"$f":"IF(H658=\"\",\"\",U658/'3 Irrigation Schedule'!$M$19)","v":""}]
[null,null,null,"2021","November","2021-11-16",null,"","",5.091120000000001,"",0,"",{"$f":"IF(OR('3 Irrigation Schedule'!$C$29=\"\",'3 Irrigation Schedule'!$C$31=\"\",H659=\"\"),\"\",(('3 Irrigation Schedule'!$C$29-'3 Irrigation Schedule'!$C$31)/100)*1000*M659)","v":""},"",{"$f":"IF(H659=\"\",\"\",IF(H659=1,N659*(1-'3 Irrigation Schedule'!$C$27),S658-U658))","v":""},"","","",{"$f":"IF(H659=\"\",\"\",IF('3 Irrigation Schedule'!$P$19<O659,'3 Irrigation Schedule'!$P$19,O659))","v":""},"",{"$f":"IF(H659=\"\",\"\",U659/'3 Irrigation Schedule'!$M$19)","v":""}]
[null,null,null,"2021","November","2021-11-17",null,"","",5.091120000000001,"",0,"",{"$f":"IF(OR('3 Irrigation Schedule'!$C$29=\"\",'3 Irrigation Schedule'!$C$31=\"\",H660=\"\"),\"\",(('3 Irrigation Schedule'!$C$29-'3 Irrigation Schedule'!$C$31)/100)*1000*M660)","v":""},"",{"$f":"IF(H660=\"\",\"\",IF(H660=1,N660*(1-'3 Irrigation Schedule'!$C$27),S659-U659))","v":""},"","","",{"$f":"IF(H660=\"\",\"\",IF('3 Irrigation Schedule'!$P$19<O660,'3 Irrigation Schedule'!$P$19,O660))","v":""},"",{"$f":"IF(H660=\"\",\"\",U660/'3 Irrigation Schedule'!$M$19)","v":""}]
[null,null,null,"2021","November","2021-11-18",null,"","",5.091120000000001,"",0,"",{"$f":"IF(OR('3 Irrigation Schedule'!$C$29=\"\",'3 Irrigation Schedule'!$C$31=\"\",H661=\"\"),\"\",(('3 Irrigation Schedule'!$C$29-'3 Irrigation Schedule'!$C$31)/100)*1000*M661)","v":""},"",{"$f":"IF(H661=\"\",\"\",IF(H661=1,N661*(1-'3 Irrigation Schedule'!$C$27),S660-U660))","v":""},"","","",{"$f":"IF(H661=\"\",\"\",IF('3 Irrigation Schedule'!$P$19<O661,'3 Irrigation Schedule'!$P$19,O661))","v":""},"",{"$f":"IF(H661=\"\",\"\",U661/'3 Irrigation Schedule'!$M$19)","v":""}]
[null,null,null,"2021","November","2021-11-19",null,"","",5.091120000000001,"",0,"",{"$f":"IF(OR('3 Irrigation Schedule'!$C$29=\"\",'3 Irrigation Schedule'!$C$31=\"\",H662=\"\"),\"\",(('3 Irrigation Schedule'!$C$29-'3 Irrigation Schedule'!$C$31)/100)*1000*M662)","v":""},"",{"$f":"IF(H662=\"\",\"\",IF(H662=1,N662*(1-'3 Irrigation Schedule'!$C$27),S661-U661))","v":""},"","","",{"$f":"IF(H662=\"\",\"\",IF('3 Irrigation Schedule'!$P$19<O662,'3 Irrigation Schedule'!$P$19,O662))","v":""},"",{"$f":"IF(H662=\"\",\"\",U662/'3 Irrigation Schedule'!$M$19)","v":""}]
[null,null,null,"2021","November","2021-11-20",null,"","",5.091120000000001,"",0,"",{"$f":"IF(OR('3 Irrigation Schedule'!$C$29=\"\",'3 Irrigation Schedule'!$C$31=\"\",H663=\"\"),\"\",(('3 Irrigation Schedule'!$C$29-'3 Irrigation Schedule'!$C$31)/100)*1000*M663)","v":""},"",{"$f":"IF(H663=\"\",\"\",IF(H663=1,N663*(1-'3 Irrigation Schedule'!$C$27),S662-U662))","v":""},"","","",{"$f":"IF(H663=\"\",\"\",IF('3 Irrigation Schedule'!$P$19<O663,'3 Irrigation Schedule'!$P$19,O663))","v":""},"",{"$f":"IF(H663=\"\",\"\",U663/'3 Irrigation Schedule'!$M$19)","v":""}]
[null,null,null,"2021","November","2021-11-21",null,"","",5.091120000000001,"",0,"",{"$f":"IF(OR('3 Irrigation Schedule'!$C$29=\"\",'3 Irrigation Schedule'!$C$31=\"\",H664=\"\"),\"\",(('3 Irrigation Schedule'!$C$29-'3 Irrigation Schedule'!$C$31)/100)*1000*M664)","v":""},"",{"$f":"IF(H664=\"\",\"\",IF(H664=1,N664*(1-'3 Irrigation Schedule'!$C$27),S663-U663))","v":""},"","","",{"$f":"IF(H664=\"\",\"\",IF('3 Irrigation Schedule'!$P$19<O664,'3 Irrigation Schedule'!$P$19,O664))","v":""},"",{"$f":"IF(H664=\"\",\"\",U664/'3 Irrigation Schedule'!$M$19)","v":""}]
[null,null,null,"2021","November","2021-11-22",null,"","",5.091120000000001,"",0,"",{"$f":"IF(OR('3 Irrigation Schedule'!$C$29=\"\",'3 Irrigation Schedule'!$C$31=\"\",H665=\"\"),\"\",(('3 Irrigation Schedule'!$C$29-'3 Irrigation Schedule'!$C$31)/100)*1000*M665)","v":""},"",{"$f":"IF(H665=\"\",\"\",IF(H665=1,N665*(1-'3 Irrigation Schedule'!$C$27),S664-U664))","v":""},"","","",{"$f":"IF(H665=\"\",\"\",IF('3 Irrigation Schedule'!$P$19<O665,'3 Irrigation Schedule'!$P$19,O665))","v":""},"",{"$f":"IF(H665=\"\",\"\",U665/'3 Irrigation Schedule'!$M$19)","v":""}]
[null,null,null,"2021","November","2021-11-23",null,"","",5.091120000000001,"",0,"",{"$f":"IF(OR('3 Irrigation Schedule'!$C$29=\"\",'3 Irrigation Schedule'!$C$31=\"\",H666=\"\"),\"\",(('3 Irrigation Schedule'!$C$29-'3 Irrigation Schedule'!$C$31)/100)*1000*M666)","v":""},"",{"$f":"IF(H666=\"\",\"\",IF(H666=1,N666*(1-'3 Irrigation Schedule'!$C$27),S665-U665))","v":""},"","","",{"$f":"IF(H666=\"\",\"\",IF('3 Irrigation Schedule'!$P$19<O666,'3 Irrigation Schedule'!$P$19,O666))","v":""},"",{"$f":"IF(H666=\"\",\"\",U666/'3 Irrigation Schedule'!$M$19)","v":""}]
[null,null,null,"2021","November","2021-11-24",null,"","",5.091120000000001,"",0,"",{"$f":"IF(OR('3 Irrigation Schedule'!$C$29=\"\",'3 Irrigation Schedule'!$C$31=\"\",H667=\"\"),\"\",(('3 Irrigation Schedule'!$C$29-'3 Irrigation Schedule'!$C$31)/100)*1000*M667)","v":""},"",{"$f":"IF(H667=\"\",\"\",IF(H667=1,N667*(1-'3 Irrigation Schedule'!$C$27),S666-U666))","v":""},"","","",{"$f":"IF(H667=\"\",\"\",IF('3 Irrigation Schedule'!$P$19<O667,'3 Irrigation Schedule'!$P$19,O667))","v":""},"",{"$f":"IF(H667=\"\",\"\",U667/'3 Irrigation Schedule'!$M$19)","v":""}]
[null,null,null,"2021","November","2021-11-25",null,"","",5.091120000000001,"",0,"",{"$f":"IF(OR('3 Irrigation Schedule'!$C$29=\"\",'3 Irrigation Schedule'!$C$31=\"\",H668=\"\"),\"\",(('3 Irrigation Schedule'!$C$29-'3 Irrigation Schedule'!$C$31)/100)*1000*M668)","v":""},"",{"$f":"IF(H668=\"\",\"\",IF(H668=1,N668*(1-'3 Irrigation Schedule'!$C$27),S667-U667))","v":""},"","","",{"$f":"IF(H668=\"\",\"\",IF('3 Irrigation Schedule'!$P$19<O668,'3 Irrigation Schedule'!$P$19,O668))","v":""},"",{"$f":"IF(H668=\"\",\"\",U668/'3 Irrigation Schedule'!$M$19)","v":""}]
[null,null,null,"2021","November","2021-11-26",null,"","",5.091120000000001,"",0,"",{"$f":"IF(OR('3 Irrigation Schedule'!$C$29=\"\",'3 Irrigation Schedule'!$C$31=\"\",H669=\"\"),\"\",(('3 Irrigation Schedule'!$C$29-'3 Irrigation Schedule'!$C$31)/100)*1000*M669)","v":""},"",{"$f":"IF(H669=\"\",\"\",IF(H669=1,N669*(1-'3 Irrigation Schedule'!$C$27),S668-U668))","v":""},"","","",{"$f":"IF(H669=\"\",\"\",IF('3 Irrigation Schedule'!$P$19<O669,'3 Irrigation Schedule'!$P$19,O669))","v":""},"",{"$f":"IF(H669=\"\",\"\",U669/'3 Irrigation Schedule'!$M$19)","v":""}]
[null,null,null,"2021","November","2021-11-27",null,"","",5.091120000000001,"",0,"",{"$f":"IF(OR('3 Irrigation Schedule'!$C$29=\"\",'3 Irrigation Schedule'!$C$31=\"\",H670=\"\"),\"\",(('3 Irrigation Schedule'!$C$29-'3 Irrigation Schedule'!$C$31)/100)*1000*M670)","v":""},"",{"$f":"IF(H670=\"\",\"\",IF(H670=1,N670*(1-'3 Irrigation Schedule'!$C$27),S669-U669))","v":""},"","","",{"$f":"IF(H670=\"\",\"\",IF('3 Irrigation Schedule'!$P$19<O670,'3 Irrigation Schedule'!$P$19,O670))","v":""},"",{"$f":"IF(H670=\"\",\"\",U670/'3 Irrigation Schedule'!$M$19)","v":""}]
[null,null,null,"2021","November","2021-11-28",null,"","",5.091120000000001,"",0,"",{"$f":"IF(OR('3 Irrigation Schedule'!$C$29=\"\",'3 Irrigation Schedule'!$C$31=\"\",H671=\"\"),\"\",(('3 Irrigation Schedule'!$C$29-'3 Irrigation Schedule'!$C$31)/100)*1000*M671)","v":""},"",{"$f":"IF(H671=\"\",\"\",IF(H671=1,N671*(1-'3 Irrigation Schedule'!$C$27),S670-U670))","v":""},"","","",{"$f":"IF(H671=\"\",\"\",IF('3 Irrigation Schedule'!$P$19<O671,'3 Irrigation Schedule'!$P$19,O671))","v":""},"",{"$f":"IF(H671=\"\",\"\",U671/'3 Irrigation Schedule'!$M$19)","v":""}]
[null,null,null,"2021","November","2021-11-29",null,"","",5.091120000000001,"",0,"",{"$f":"IF(OR('3 Irrigation Schedule'!$C$29=\"\",'3 Irrigation Schedule'!$C$31=\"\",H672=\"\"),\"\",(('3 Irrigation Schedule'!$C$29-'3 Irrigation Schedule'!$C$31)/100)*1000*M672)","v":""},"",{"$f":"IF(H672=\"\",\"\",IF(H672=1,N672*(1-'3 Irrigation Schedule'!$C$27),S671-U671))","v":""},"","","",{"$f":"IF(H672=\"\",\"\",IF('3 Irrigation Schedule'!$P$19<O672,'3 Irrigation Schedule'!$P$19,O672))","v":""},"",{"$f":"IF(H672=\"\",\"\",U672/'3 Irrigation Schedule'!$M$19)","v":""}]
[null,null,null,"2021","November","2021-11-30",null,"","",5.091120000000001,"",0,"",{"$f":"IF(OR('3 Irrigation Schedule'!$C$29=\"\",'3 Irrigation Schedule'!$C$31=\"\",H673=\"\"),\"\",(('3 Irrigation Schedule'!$C$29-'3 Irrigation Schedule'!$C$31)/100)*1000*M673)","v":""},"",{"$f":"IF(H673=\"\",\"\",IF(H673=1,N673*(1-'3 Irrigation Schedule'!$C$27),S672-U672))","v":""},"","","",{"$f":"IF(H673=\"\",\"\",IF('3 Irrigation Schedule'!$P$19<O673,'3 Irrigation Schedule'!$P$19,O673))","v":""},"",{"$f":"IF(H673=\"\",\"\",U673/'3 Irrigation Schedule'!$M$19)","v":""}]
[null,null,null,{"$f":"IFERROR(TEXT(DATE(YEAR($F674),MONTH($F674),1),$D$7&$D$4),\"\")","v":"2021"},{"$f":"IFERROR(TEXT(DATE(YEAR($F674),MONTH($F674),1),$D$7&$D$5),\"\")","v":"December"},"2021-12-01",null,"","",{"$f":"IFERROR(VLOOKUP($E674,$B$19:$C$30,2,FALSE),\"\")","v":5.1408000000000005},"",0,"",{"$f":"IF(OR('3 Irrigation Schedule'!$C$29=\"\",'3 Irrigation Schedule'!$C$31=\"\",H674=\"\"),\"\",(('3 Irrigation Schedule'!$C$29-'3 Irrigation Schedule'!$C$31)/100)*1000*M674)","v":""},"",{"$f":"IF(H674=\"\",\"\",IF(H674=1,N674*(1-'3 Irrigation Schedule'!$C$27),S673-U673))","v":""},"","","",{"$f":"IF(H674=\"\",\"\",IF('3 Irrigation Schedule'!$P$19<O674,'3 Irrigation Schedule'!$P$19,O674))","v":""},"",{"$f":"IF(H674=\"\",\"\",U674/'3 Irrigation Schedule'!$M$19)","v":""}]
[null,null,null,"2021","December",{"$f":"IFERROR(IF(F674+1<=$N$7, F674+1,\"\"),\"\")","v":"2021-12-02"},null,{"$f":"IFERROR(IF(OR($F675-$J$27+1<=0,$F675>$K$30),\"\",$F675-$J$27+1),\"\")","v":""},"",5.1408000000000005,"",0,"",{"$f":"IF(OR('3 Irrigation Schedule'!$C$29=\"\",'3 Irrigation Schedule'!$C$31=\"\",H675=\"\"),\"\",(('3 Irrigation Schedule'!$C$29-'3 Irrigation Schedule'!$C$31)/100)*1000*M675)","v":""},"",{"$f":"IF(H675=\"\",\"\",IF(H675=1,N675*(1-'3 Irrigation Schedule'!$C$27),S674-U674))","v":""},"","","",{"$f":"IF(H675=\"\",\"\",IF('3 Irrigation Schedule'!$P$19<O675,'3 Irrigation Schedule'!$P$19,O675))","v":""},"",{"$f":"IF(H675=\"\",\"\",U675/'3 Irrigation Schedule'!$M$19)","v":""}]
[null,null,null,"2021","December","2021-12-03",null,"","",5.1408000000000005,"",0,"",{"$f":"IF(OR('3 Irrigation Schedule'!$C$29=\"\",'3 Irrigation Schedule'!$C$31=\"\",H676=\"\"),\"\",(('3 Irrigation Schedule'!$C$29-'3 Irrigation Schedule'!$C$31)/100)*1000*M676)","v":""},"",{"$f":"IF(H676=\"\",\"\",IF(H676=1,N676*(1-'3 Irrigation Schedule'!$C$27),S675-U675))","v":""},"","","",{"$f":"IF(H676=\"\",\"\",IF('3 Irrigation Schedule'!$P$19<O676,'3 Irrigation Schedule'!$P$19,O676))","v":""},"",{"$f":"IF(H676=\"\",\"\",U676/'3 Irrigation Schedule'!$M$19)","v":""}]
[null,null,null,"2021","December","2021-12-04",null,"","",5.1408000000000005,"",0,"",{"$f":"IF(OR('3 Irrigation Schedule'!$C$29=\"\",'3 Irrigation Schedule'!$C$31=\"\",H677=\"\"),\"\",(('3 Irrigation Schedule'!$C$29-'3 Irrigation Schedule'!$C$31)/100)*1000*M677)","v":""},"",{"$f":"IF(H677=\"\",\"\",IF(H677=1,N677*(1-'3 Irrigation Schedule'!$C$27),S676-U676))","v":""},"","","",{"$f":"IF(H677=\"\",\"\",IF('3 Irrigation Schedule'!$P$19<O677,'3 Irrigation Schedule'!$P$19,O677))","v":""},"",{"$f":"IF(H677=\"\",\"\",U677/'3 Irrigation Schedule'!$M$19)","v":""}]
[null,null,null,"2021","December","2021-12-05",null,"","",5.1408000000000005,"",0,"",{"$f":"IF(OR('3 Irrigation Schedule'!$C$29=\"\",'3 Irrigation Schedule'!$C$31=\"\",H678=\"\"),\"\",(('3 Irrigation Schedule'!$C$29-'3 Irrigation Schedule'!$C$31)/100)*1000*M678)","v":""},"",{"$f":"IF(H678=\"\",\"\",IF(H678=1,N678*(1-'3 Irrigation Schedule'!$C$27),S677-U677))","v":""},"","","",{"$f":"IF(H678=\"\",\"\",IF('3 Irrigation Schedule'!$P$19<O678,'3 Irrigation Schedule'!$P$19,O678))","v":""},"",{"$f":"IF(H678=\"\",\"\",U678/'3 Irrigation Schedule'!$M$19)","v":""}]
[null,null,null,"2021","December","2021-12-06",null,"","",5.1408000000000005,"",0,"",{"$f":"IF(OR('3 Irrigation Schedule'!$C$29=\"\",'3 Irrigation Schedule'!$C$31=\"\",H679=\"\"),\"\",(('3 Irrigation Schedule'!$C$29-'3 Irrigation Schedule'!$C$31)/100)*1000*M679)","v":""},"",{"$f":"IF(H679=\"\",\"\",IF(H679=1,N679*(1-'3 Irrigation Schedule'!$C$27),S678-U678))","v":""},"","","",{"$f":"IF(H679=\"\",\"\",IF('3 Irrigation Schedule'!$P$19<O679,'3 Irrigation Schedule'!$P$19,O679))","v":""},"",{"$f":"IF(H679=\"\",\"\",U679/'3 Irrigation Schedule'!$M$19)","v":""}]
[null,null,null,"2021","December","2021-12-07",null,"","",5.1408000000000005,"",0,"",{"$f":"IF(OR('3 Irrigation Schedule'!$C$29=\"\",'3 Irrigation Schedule'!$C$31=\"\",H680=\"\"),\"\",(('3 Irrigation Schedule'!$C$29-'3 Irrigation Schedule'!$C$31)/100)*1000*M680)","v":""},"",{"$f":"IF(H680=\"\",\"\",IF(H680=1,N680*(1-'3 Irrigation Schedule'!$C$27),S679-U679))","v":""},"","","",{"$f":"IF(H680=\"\",\"\",IF('3 Irrigation Schedule'!$P$19<O680,'3 Irrigation Schedule'!$P$19,O680))","v":""},"",{"$f":"IF(H680=\"\",\"\",U680/'3 Irrigation Schedule'!$M$19)","v":""}]
[null,null,null,"2021","December","2021-12-08",null,"","",5.1408000000000005,"",0,"",{"$f":"IF(OR('3 Irrigation Schedule'!$C$29=\"\",'3 Irrigation Schedule'!$C$31=\"\",H681=\"\"),\"\",(('3 Irrigation Schedule'!$C$29-'3 Irrigation Schedule'!$C$31)/100)*1000*M681)","v":""},"",{"$f":"IF(H681=\"\",\"\",IF(H681=1,N681*(1-'3 Irrigation Schedule'!$C$27),S680-U680))","v":""},"","","",{"$f":"IF(H681=\"\",\"\",IF('3 Irrigation Schedule'!$P$19<O681,'3 Irrigation Schedule'!$P$19,O681))","v":""},"",{"$f":"IF(H681=\"\",\"\",U681/'3 Irrigation Schedule'!$M$19)","v":""}]
[null,null,null,"2021","December","2021-12-09",null,"","",5.1408000000000005,"",0,"",{"$f":"IF(OR('3 Irrigation Schedule'!$C$29=\"\",'3 Irrigation Schedule'!$C$31=\"\",H682=\"\"),\"\",(('3 Irrigation Schedule'!$C$29-'3 Irrigation Schedule'!$C$31)/100)*1000*M682)","v":""},"",{"$f":"IF(H682=\"\",\"\",IF(H682=1,N682*(1-'3 Irrigation Schedule'!$C$27),S681-U681))","v":""},"","","",{"$f":"IF(H682=\"\",\"\",IF('3 Irrigation Schedule'!$P$19<O682,'3 Irrigation Schedule'!$P$19,O682))","v":""},"",{"$f":"IF(H682=\"\",\"\",U682/'3 Irrigation Schedule'!$M$19)","v":""}]
[null,null,null,"2021","December","2021-12-10",null,"","",5.1408000000000005,"",0,"",{"$f":"IF(OR('3 Irrigation Schedule'!$C$29=\"\",'3 Irrigation Schedule'!$C$31=\"\",H683=\"\"),\"\",(('3 Irrigation Schedule'!$C$29-'3 Irrigation Schedule'!$C$31)/100)*1000*M683)","v":""},"",{"$f":"IF(H683=\"\",\"\",IF(H683=1,N683*(1-'3 Irrigation Schedule'!$C$27),S682-U682))","v":""},"","","",{"$f":"IF(H683=\"\",\"\",IF('3 Irrigation Schedule'!$P$19<O683,'3 Irrigation Schedule'!$P$19,O683))","v":""},"",{"$f":"IF(H683=\"\",\"\",U683/'3 Irrigation Schedule'!$M$19)","v":""}]
[null,null,null,"2021","December","2021-12-11",null,"","",5.1408000000000005,"",0,"",{"$f":"IF(OR('3 Irrigation Schedule'!$C$29=\"\",'3 Irrigation Schedule'!$C$31=\"\",H684=\"\"),\"\",(('3 Irrigation Schedule'!$C$29-'3 Irrigation Schedule'!$C$31)/100)*1000*M684)","v":""},"",{"$f":"IF(H684=\"\",\"\",IF(H684=1,N684*(1-'3 Irrigation Schedule'!$C$27),S683-U683))","v":""},"","","",{"$f":"IF(H684=\"\",\"\",IF('3 Irrigation Schedule'!$P$19<O684,'3 Irrigation Schedule'!$P$19,O684))","v":""},"",{"$f":"IF(H684=\"\",\"\",U684/'3 Irrigation Schedule'!$M$19)","v":""}]
[null,null,null,"2021","December","2021-12-12",null,"","",5.1408000000000005,"",0,"",{"$f":"IF(OR('3 Irrigation Schedule'!$C$29=\"\",'3 Irrigation Schedule'!$C$31=\"\",H685=\"\"),\"\",(('3 Irrigation Schedule'!$C$29-'3 Irrigation Schedule'!$C$31)/100)*1000*M685)","v":""},"",{"$f":"IF(H685=\"\",\"\",IF(H685=1,N685*(1-'3 Irrigation Schedule'!$C$27),S684-U684))","v":""},"","","",{"$f":"IF(H685=\"\",\"\",IF('3 Irrigation Schedule'!$P$19<O685,'3 Irrigation Schedule'!$P$19,O685))","v":""},"",{"$f":"IF(H685=\"\",\"\",U685/'3 Irrigation Schedule'!$M$19)","v":""}]
[null,null,null,"2021","December","2021-12-13",null,"","",5.1408000000000005,"",0,"",{"$f":"IF(OR('3 Irrigation Schedule'!$C$29=\"\",'3 Irrigation Schedule'!$C$31=\"\",H686=\"\"),\"\",(('3 Irrigation Schedule'!$C$29-'3 Irrigation Schedule'!$C$31)/100)*1000*M686)","v":""},"",{"$f":"IF(H686=\"\",\"\",IF(H686=1,N686*(1-'3 Irrigation Schedule'!$C$27),S685-U685))","v":""},"","","",{"$f":"IF(H686=\"\",\"\",IF('3 Irrigation Schedule'!$P$19<O686,'3 Irrigation Schedule'!$P$19,O686))","v":""},"",{"$f":"IF(H686=\"\",\"\",U686/'3 Irrigation Schedule'!$M$19)","v":""}]
[null,null,null,"2021","December","2021-12-14",null,"","",5.1408000000000005,"",0,"",{"$f":"IF(OR('3 Irrigation Schedule'!$C$29=\"\",'3 Irrigation Schedule'!$C$31=\"\",H687=\"\"),\"\",(('3 Irrigation Schedule'!$C$29-'3 Irrigation Schedule'!$C$31)/100)*1000*M687)","v":""},"",{"$f":"IF(H687=\"\",\"\",IF(H687=1,N687*(1-'3 Irrigation Schedule'!$C$27),S686-U686))","v":""},"","","",{"$f":"IF(H687=\"\",\"\",IF('3 Irrigation Schedule'!$P$19<O687,'3 Irrigation Schedule'!$P$19,O687))","v":""},"",{"$f":"IF(H687=\"\",\"\",U687/'3 Irrigation Schedule'!$M$19)","v":""}]
[null,null,null,"2021","December","2021-12-15",null,"","",5.1408000000000005,"",0,"",{"$f":"IF(OR('3 Irrigation Schedule'!$C$29=\"\",'3 Irrigation Schedule'!$C$31=\"\",H688=\"\"),\"\",(('3 Irrigation Schedule'!$C$29-'3 Irrigation Schedule'!$C$31)/100)*1000*M688)","v":""},"",{"$f":"IF(H688=\"\",\"\",IF(H688=1,N688*(1-'3 Irrigation Schedule'!$C$27),S687-U687))","v":""},"","","",{"$f":"IF(H688=\"\",\"\",IF('3 Irrigation Schedule'!$P$19<O688,'3 Irrigation Schedule'!$P$19,O688))","v":""},"",{"$f":"IF(H688=\"\",\"\",U688/'3 Irrigation Schedule'!$M$19)","v":""}]
[null,null,null,"2021","December","2021-12-16",null,"","",5.1408000000000005,"",0,"",{"$f":"IF(OR('3 Irrigation Schedule'!$C$29=\"\",'3 Irrigation Schedule'!$C$31=\"\",H689=\"\"),\"\",(('3 Irrigation Schedule'!$C$29-'3 Irrigation Schedule'!$C$31)/100)*1000*M689)","v":""},"",{"$f":"IF(H689=\"\",\"\",IF(H689=1,N689*(1-'3 Irrigation Schedule'!$C$27),S688-U688))","v":""},"","","",{"$f":"IF(H689=\"\",\"\",IF('3 Irrigation Schedule'!$P$19<O689,'3 Irrigation Schedule'!$P$19,O689))","v":""},"",{"$f":"IF(H689=\"\",\"\",U689/'3 Irrigation Schedule'!$M$19)","v":""}]
[null,null,null,"2021","December","2021-12-17",null,"","",5.1408000000000005,"",0,"",{"$f":"IF(OR('3 Irrigation Schedule'!$C$29=\"\",'3 Irrigation Schedule'!$C$31=\"\",H690=\"\"),\"\",(('3 Irrigation Schedule'!$C$29-'3 Irrigation Schedule'!$C$31)/100)*1000*M690)","v":""},"",{"$f":"IF(H690=\"\",\"\",IF(H690=1,N690*(1-'3 Irrigation Schedule'!$C$27),S689-U689))","v":""},"","","",{"$f":"IF(H690=\"\",\"\",IF('3 Irrigation Schedule'!$P$19<O690,'3 Irrigation Schedule'!$P$19,O690))","v":""},"",{"$f":"IF(H690=\"\",\"\",U690/'3 Irrigation Schedule'!$M$19)","v":""}]
[null,null,null,"2021","December","2021-12-18",null,"","",5.1408000000000005,"",0,"",{"$f":"IF(OR('3 Irrigation Schedule'!$C$29=\"\",'3 Irrigation Schedule'!$C$31=\"\",H691=\"\"),\"\",(('3 Irrigation Schedule'!$C$29-'3 Irrigation Schedule'!$C$31)/100)*1000*M691)","v":""},"",{"$f":"IF(H691=\"\",\"\",IF(H691=1,N691*(1-'3 Irrigation Schedule'!$C$27),S690-U690))","v":""},"","","",{"$f":"IF(H691=\"\",\"\",IF('3 Irrigation Schedule'!$P$19<O691,'3 Irrigation Schedule'!$P$19,O691))","v":""},"",{"$f":"IF(H691=\"\",\"\",U691/'3 Irrigation Schedule'!$M$19)","v":""}]
[null,null,null,"2021","December","2021-12-19",null,"","",5.1408000000000005,"",0,"",{"$f":"IF(OR('3 Irrigation Schedule'!$C$29=\"\",'3 Irrigation Schedule'!$C$31=\"\",H692=\"\"),\"\",(('3 Irrigation Schedule'!$C$29-'3 Irrigation Schedule'!$C$31)/100)*1000*M692)","v":""},"",{"$f":"IF(H692=\"\",\"\",IF(H692=1,N692*(1-'3 Irrigation Schedule'!$C$27),S691-U691))","v":""},"","","",{"$f":"IF(H692=\"\",\"\",IF('3 Irrigation Schedule'!$P$19<O692,'3 Irrigation Schedule'!$P$19,O692))","v":""},"",{"$f":"IF(H692=\"\",\"\",U692/'3 Irrigation Schedule'!$M$19)","v":""}]
[null,null,null,"2021","December","2021-12-20",null,"","",5.1408000000000005,"",0,"",{"$f":"IF(OR('3 Irrigation Schedule'!$C$29=\"\",'3 Irrigation Schedule'!$C$31=\"\",H693=\"\"),\"\",(('3 Irrigation Schedule'!$C$29-'3 Irrigation Schedule'!$C$31)/100)*1000*M693)","v":""},"",{"$f":"IF(H693=\"\",\"\",IF(H693=1,N693*(1-'3 Irrigation Schedule'!$C$27),S692-U692))","v":""},"","","",{"$f":"IF(H693=\"\",\"\",IF('3 Irrigation Schedule'!$P$19<O693,'3 Irrigation Schedule'!$P$19,O693))","v":""},"",{"$f":"IF(H693=\"\",\"\",U693/'3 Irrigation Schedule'!$M$19)","v":""}]
[null,null,null,"2021","December","2021-12-21",null,"","",5.1408000000000005,"",0,"",{"$f":"IF(OR('3 Irrigation Schedule'!$C$29=\"\",'3 Irrigation Schedule'!$C$31=\"\",H694=\"\"),\"\",(('3 Irrigation Schedule'!$C$29-'3 Irrigation Schedule'!$C$31)/100)*1000*M694)","v":""},"",{"$f":"IF(H694=\"\",\"\",IF(H694=1,N694*(1-'3 Irrigation Schedule'!$C$27),S693-U693))","v":""},"","","",{"$f":"IF(H694=\"\",\"\",IF('3 Irrigation Schedule'!$P$19<O694,'3 Irrigation Schedule'!$P$19,O694))","v":""},"",{"$f":"IF(H694=\"\",\"\",U694/'3 Irrigation Schedule'!$M$19)","v":""}]
[null,null,null,"2021","December","2021-12-22",null,"","",5.1408000000000005,"",0,"",{"$f":"IF(OR('3 Irrigation Schedule'!$C$29=\"\",'3 Irrigation Schedule'!$C$31=\"\",H695=\"\"),\"\",(('3 Irrigation Schedule'!$C$29-'3 Irrigation Schedule'!$C$31)/100)*1000*M695)","v":""},"",{"$f":"IF(H695=\"\",\"\",IF(H695=1,N695*(1-'3 Irrigation Schedule'!$C$27),S694-U694))","v":""},"","","",{"$f":"IF(H695=\"\",\"\",IF('3 Irrigation Schedule'!$P$19<O695,'3 Irrigation Schedule'!$P$19,O695))","v":""},"",{"$f":"IF(H695=\"\",\"\",U695/'3 Irrigation Schedule'!$M$19)","v":""}]
[null,null,null,"2021","December","2021-12-23",null,"","",5.1408000000000005,"",0,"",{"$f":"IF(OR('3 Irrigation Schedule'!$C$29=\"\",'3 Irrigation Schedule'!$C$31=\"\",H696=\"\"),\"\",(('3 Irrigation Schedule'!$C$29-'3 Irrigation Schedule'!$C$31)/100)*1000*M696)","v":""},"",{"$f":"IF(H696=\"\",\"\",IF(H696=1,N696*(1-'3 Irrigation Schedule'!$C$27),S695-U695))","v":""},"","","",{"$f":"IF(H696=\"\",\"\",IF('3 Irrigation Schedule'!$P$19<O696,'3 Irrigation Schedule'!$P$19,O696))","v":""},"",{"$f":"IF(H696=\"\",\"\",U696/'3 Irrigation Schedule'!$M$19)","v":""}]
[null,null,null,"2021","December","2021-12-24",null,"","",5.1408000000000005,"",0,"",{"$f":"IF(OR('3 Irrigation Schedule'!$C$29=\"\",'3 Irrigation Schedule'!$C$31=\"\",H697=\"\"),\"\",(('3 Irrigation Schedule'!$C$29-'3 Irrigation Schedule'!$C$31)/100)*1000*M697)","v":""},"",{"$f":"IF(H697=\"\",\"\",IF(H697=1,N697*(1-'3 Irrigation Schedule'!$C$27),S696-U696))","v":""},"","","",{"$f":"IF(H697=\"\",\"\",IF('3 Irrigation Schedule'!$P$19<O697,'3 Irrigation Schedule'!$P$19,O697))","v":""},"",{"$f":"IF(H697=\"\",\"\",U697/'3 Irrigation Schedule'!$M$19)","v":""}]
[null,null,null,"2021","December","2021-12-25",null,"","",5.1408000000000005,"",0,"",{"$f":"IF(OR('3 Irrigation Schedule'!$C$29=\"\",'3 Irrigation Schedule'!$C$31=\"\",H698=\"\"),\"\",(('3 Irrigation Schedule'!$C$29-'3 Irrigation Schedule'!$C$31)/100)*1000*M698)","v":""},"",{"$f":"IF(H698=\"\",\"\",IF(H698=1,N698*(1-'3 Irrigation Schedule'!$C$27),S697-U697))","v":""},"","","",{"$f":"IF(H698=\"\",\"\",IF('3 Irrigation Schedule'!$P$19<O698,'3 Irrigation Schedule'!$P$19,O698))","v":""},"",{"$f":"IF(H698=\"\",\"\",U698/'3 Irrigation Schedule'!$M$19)","v":""}]
[null,null,null,"2021","December","2021-12-26",null,"","",5.1408000000000005,"",0,"",{"$f":"IF(OR('3 Irrigation Schedule'!$C$29=\"\",'3 Irrigation Schedule'!$C$31=\"\",H699=\"\"),\"\",(('3 Irrigation Schedule'!$C$29-'3 Irrigation Schedule'!$C$31)/100)*1000*M699)","v":""},"",{"$f":"IF(H699=\"\",\"\",IF(H699=1,N699*(1-'3 Irrigation Schedule'!$C$27),S698-U698))","v":""},"","","",{"$f":"IF(H699=\"\",\"\",IF('3 Irrigation Schedule'!$P$19<O699,'3 Irrigation Schedule'!$P$19,O699))","v":""},"",{"$f":"IF(H699=\"\",\"\",U699/'3 Irrigation Schedule'!$M$19)","v":""}]
[null,null,null,"2021","December","2021-12-27",null,"","",5.1408000000000005,"",0,"",{"$f":"IF(OR('3 Irrigation Schedule'!$C$29=\"\",'3 Irrigation Schedule'!$C$31=\"\",H700=\"\"),\"\",(('3 Irrigation Schedule'!$C$29-'3 Irrigation Schedule'!$C$31)/100)*1000*M700)","v":""},"",{"$f":"IF(H700=\"\",\"\",IF(H700=1,N700*(1-'3 Irrigation Schedule'!$C$27),S699-U699))","v":""},"","","",{"$f":"IF(H700=\"\",\"\",IF('3 Irrigation Schedule'!$P$19<O700,'3 Irrigation Schedule'!$P$19,O700))","v":""},"",{"$f":"IF(H700=\"\",\"\",U700/'3 Irrigation Schedule'!$M$19)","v":""}]
[null,null,null,"2021","December","2021-12-28",null,"","",5.1408000000000005,"",0,"",{"$f":"IF(OR('3 Irrigation Schedule'!$C$29=\"\",'3 Irrigation Schedule'!$C$31=\"\",H701=\"\"),\"\",(('3 Irrigation Schedule'!$C$29-'3 Irrigation Schedule'!$C$31)/100)*1000*M701)","v":""},"",{"$f":"IF(H701=\"\",\"\",IF(H701=1,N701*(1-'3 Irrigation Schedule'!$C$27),S700-U700))","v":""},"","","",{"$f":"IF(H701=\"\",\"\",IF('3 Irrigation Schedule'!$P$19<O701,'3 Irrigation Schedule'!$P$19,O701))","v":""},"",{"$f":"IF(H701=\"\",\"\",U701/'3 Irrigation Schedule'!$M$19)","v":""}]
[null,null,null,"2021","December","2021-12-29",null,"","",5.1408000000000005,"",0,"",{"$f":"IF(OR('3 Irrigation Schedule'!$C$29=\"\",'3 Irrigation Schedule'!$C$31=\"\",H702=\"\"),\"\",(('3 Irrigation Schedule'!$C$29-'3 Irrigation Schedule'!$C$31)/100)*1000*M702)","v":""},"",{"$f":"IF(H702=\"\",\"\",IF(H702=1,N702*(1-'3 Irrigation Schedule'!$C$27),S701-U701))","v":""},"","","",{"$f":"IF(H702=\"\",\"\",IF('3 Irrigation Schedule'!$P$19<O702,'3 Irrigation Schedule'!$P$19,O702))","v":""},"",{"$f":"IF(H702=\"\",\"\",U702/'3 Irrigation Schedule'!$M$19)","v":""}]
[null,null,null,"2021","December","2021-12-30",null,"","",5.1408000000000005,"",0,"",{"$f":"IF(OR('3 Irrigation Schedule'!$C$29=\"\",'3 Irrigation Schedule'!$C$31=\"\",H703=\"\"),\"\",(('3 Irrigation Schedule'!$C$29-'3 Irrigation Schedule'!$C$31)/100)*1000*M703)","v":""},"",{"$f":"IF(H703=\"\",\"\",IF(H703=1,N703*(1-'3 Irrigation Schedule'!$C$27),S702-U702))","v":""},"","","",{"$f":"IF(H703=\"\",\"\",IF('3 Irrigation Schedule'!$P$19<O703,'3 Irrigation Schedule'!$P$19,O703))","v":""},"",{"$f":"IF(H703=\"\",\"\",U703/'3 Irrigation Schedule'!$M$19)","v":""}]
[null,null,null,"2021","December","2021-12-31",null,"","",5.1408000000000005,"",0,"",{"$f":"IF(OR('3 Irrigation Schedule'!$C$29=\"\",'3 Irrigation Schedule'!$C$31=\"\",H704=\"\"),\"\",(('3 Irrigation Schedule'!$C$29-'3 Irrigation Schedule'!$C$31)/100)*1000*M704)","v":""},"",{"$f":"IF(H704=\"\",\"\",IF(H704=1,N704*(1-'3 Irrigation Schedule'!$C$27),S703-U703))","v":""},"","","",{"$f":"IF(H704=\"\",\"\",IF('3 Irrigation Schedule'!$P$19<O704,'3 Irrigation Schedule'!$P$19,O704))","v":""},"",{"$f":"IF(H704=\"\",\"\",U704/'3 Irrigation Schedule'!$M$19)","v":""}]
[null,null,null,"2022","January","2022-01-01",null,"","",5.3271000000000006,"",0,"",{"$f":"IF(OR('3 Irrigation Schedule'!$C$29=\"\",'3 Irrigation Schedule'!$C$31=\"\",H705=\"\"),\"\",(('3 Irrigation Schedule'!$C$29-'3 Irrigation Schedule'!$C$31)/100)*1000*M705)","v":""},"",{"$f":"IF(H705=\"\",\"\",IF(H705=1,N705*(1-'3 Irrigation Schedule'!$C$27),S704-U704))","v":""},"","","",{"$f":"IF(H705=\"\",\"\",IF('3 Irrigation Schedule'!$P$19<O705,'3 Irrigation Schedule'!$P$19,O705))","v":""},"",{"$f":"IF(H705=\"\",\"\",U705/'3 Irrigation Schedule'!$M$19)","v":""}]
[null,null,null,"2022","January","2022-01-02",null,"","",5.3271000000000006,"",0,"",{"$f":"IF(OR('3 Irrigation Schedule'!$C$29=\"\",'3 Irrigation Schedule'!$C$31=\"\",H706=\"\"),\"\",(('3 Irrigation Schedule'!$C$29-'3 Irrigation Schedule'!$C$31)/100)*1000*M706)","v":""},"",{"$f":"IF(H706=\"\",\"\",IF(H706=1,N706*(1-'3 Irrigation Schedule'!$C$27),S705-U705))","v":""},"","","",{"$f":"IF(H706=\"\",\"\",IF('3 Irrigation Schedule'!$P$19<O706,'3 Irrigation Schedule'!$P$19,O706))","v":""},"",{"$f":"IF(H706=\"\",\"\",U706/'3 Irrigation Schedule'!$M$19)","v":""}]
[null,null,null,"2022","January","2022-01-03",null,"","",5.3271000000000006,"",0,"",{"$f":"IF(OR('3 Irrigation Schedule'!$C$29=\"\",'3 Irrigation Schedule'!$C$31=\"\",H707=\"\"),\"\",(('3 Irrigation Schedule'!$C$29-'3 Irrigation Schedule'!$C$31)/100)*1000*M707)","v":""},"",{"$f":"IF(H707=\"\",\"\",IF(H707=1,N707*(1-'3 Irrigation Schedule'!$C$27),S706-U706))","v":""},"","","",{"$f":"IF(H707=\"\",\"\",IF('3 Irrigation Schedule'!$P$19<O707,'3 Irrigation Schedule'!$P$19,O707))","v":""},"",{"$f":"IF(H707=\"\",\"\",U707/'3 Irrigation Schedule'!$M$19)","v":""}]
[null,null,null,"2022","January","2022-01-04",null,"","",5.3271000000000006,"",0,"",{"$f":"IF(OR('3 Irrigation Schedule'!$C$29=\"\",'3 Irrigation Schedule'!$C$31=\"\",H708=\"\"),\"\",(('3 Irrigation Schedule'!$C$29-'3 Irrigation Schedule'!$C$31)/100)*1000*M708)","v":""},"",{"$f":"IF(H708=\"\",\"\",IF(H708=1,N708*(1-'3 Irrigation Schedule'!$C$27),S707-U707))","v":""},"","","",{"$f":"IF(H708=\"\",\"\",IF('3 Irrigation Schedule'!$P$19<O708,'3 Irrigation Schedule'!$P$19,O708))","v":""},"",{"$f":"IF(H708=\"\",\"\",U708/'3 Irrigation Schedule'!$M$19)","v":""}]
[null,null,null,"2022","January","2022-01-05",null,"","",5.3271000000000006,"",0,"",{"$f":"IF(OR('3 Irrigation Schedule'!$C$29=\"\",'3 Irrigation Schedule'!$C$31=\"\",H709=\"\"),\"\",(('3 Irrigation Schedule'!$C$29-'3 Irrigation Schedule'!$C$31)/100)*1000*M709)","v":""},"",{"$f":"IF(H709=\"\",\"\",IF(H709=1,N709*(1-'3 Irrigation Schedule'!$C$27),S708-U708))","v":""},"","","",{"$f":"IF(H709=\"\",\"\",IF('3 Irrigation Schedule'!$P$19<O709,'3 Irrigation Schedule'!$P$19,O709))","v":""},"",{"$f":"IF(H709=\"\",\"\",U709/'3 Irrigation Schedule'!$M$19)","v":""}]
[null,null,null,"2022","January","2022-01-06",null,"","",5.3271000000000006,"",0,"",{"$f":"IF(OR('3 Irrigation Schedule'!$C$29=\"\",'3 Irrigation Schedule'!$C$31=\"\",H710=\"\"),\"\",(('3 Irrigation Schedule'!$C$29-'3 Irrigation Schedule'!$C$31)/100)*1000*M710)","v":""},"",{"$f":"IF(H710=\"\",\"\",IF(H710=1,N710*(1-'3 Irrigation Schedule'!$C$27),S709-U709))","v":""},"","","",{"$f":"IF(H710=\"\",\"\",IF('3 Irrigation Schedule'!$P$19<O710,'3 Irrigation Schedule'!$P$19,O710))","v":""},"",{"$f":"IF(H710=\"\",\"\",U710/'3 Irrigation Schedule'!$M$19)","v":""}]
[null,null,null,"2022","January","2022-01-07",null,"","",5.3271000000000006,"",0,"",{"$f":"IF(OR('3 Irrigation Schedule'!$C$29=\"\",'3 Irrigation Schedule'!$C$31=\"\",H711=\"\"),\"\",(('3 Irrigation Schedule'!$C$29-'3 Irrigation Schedule'!$C$31)/100)*1000*M711)","v":""},"",{"$f":"IF(H711=\"\",\"\",IF(H711=1,N711*(1-'3 Irrigation Schedule'!$C$27),S710-U710))","v":""},"","","",{"$f":"IF(H711=\"\",\"\",IF('3 Irrigation Schedule'!$P$19<O711,'3 Irrigation Schedule'!$P$19,O711))","v":""},"",{"$f":"IF(H711=\"\",\"\",U711/'3 Irrigation Schedule'!$M$19)","v":""}]
[null,null,null,"2022","January","2022-01-08",null,"","",5.3271000000000006,"",0,"",{"$f":"IF(OR('3 Irrigation Schedule'!$C$29=\"\",'3 Irrigation Schedule'!$C$31=\"\",H712=\"\"),\"\",(('3 Irrigation Schedule'!$C$29-'3 Irrigation Schedule'!$C$31)/100)*1000*M712)","v":""},"",{"$f":"IF(H712=\"\",\"\",IF(H712=1,N712*(1-'3 Irrigation Schedule'!$C$27),S711-U711))","v":""},"","","",{"$f":"IF(H712=\"\",\"\",IF('3 Irrigation Schedule'!$P$19<O712,'3 Irrigation Schedule'!$P$19,O712))","v":""},"",{"$f":"IF(H712=\"\",\"\",U712/'3 Irrigation Schedule'!$M$19)","v":""}]
[null,null,null,"2022","January","2022-01-09",null,"","",5.3271000000000006,"",0,"",{"$f":"IF(OR('3 Irrigation Schedule'!$C$29=\"\",'3 Irrigation Schedule'!$C$31=\"\",H713=\"\"),\"\",(('3 Irrigation Schedule'!$C$29-'3 Irrigation Schedule'!$C$31)/100)*1000*M713)","v":""},"",{"$f":"IF(H713=\"\",\"\",IF(H713=1,N713*(1-'3 Irrigation Schedule'!$C$27),S712-U712))","v":""},"","","",{"$f":"IF(H713=\"\",\"\",IF('3 Irrigation Schedule'!$P$19<O713,'3 Irrigation Schedule'!$P$19,O713))","v":""},"",{"$f":"IF(H713=\"\",\"\",U713/'3 Irrigation Schedule'!$M$19)","v":""}]
[null,null,null,"2022","January","2022-01-10",null,"","",5.3271000000000006,"",0,"",{"$f":"IF(OR('3 Irrigation Schedule'!$C$29=\"\",'3 Irrigation Schedule'!$C$31=\"\",H714=\"\"),\"\",(('3 Irrigation Schedule'!$C$29-'3 Irrigation Schedule'!$C$31)/100)*1000*M714)","v":""},"",{"$f":"IF(H714=\"\",\"\",IF(H714=1,N714*(1-'3 Irrigation Schedule'!$C$27),S713-U713))","v":""},"","","",{"$f":"IF(H714=\"\",\"\",IF('3 Irrigation Schedule'!$P$19<O714,'3 Irrigation Schedule'!$P$19,O714))","v":""},"",{"$f":"IF(H714=\"\",\"\",U714/'3 Irrigation Schedule'!$M$19)","v":""}]
[null,null,null,"2022","January","2022-01-11",null,"","",5.3271000000000006,"",0,"",{"$f":"IF(OR('3 Irrigation Schedule'!$C$29=\"\",'3 Irrigation Schedule'!$C$31=\"\",H715=\"\"),\"\",(('3 Irrigation Schedule'!$C$29-'3 Irrigation Schedule'!$C$31)/100)*1000*M715)","v":""},"",{"$f":"IF(H715=\"\",\"\",IF(H715=1,N715*(1-'3 Irrigation Schedule'!$C$27),S714-U714))","v":""},"","","",{"$f":"IF(H715=\"\",\"\",IF('3 Irrigation Schedule'!$P$19<O715,'3 Irrigation Schedule'!$P$19,O715))","v":""},"",{"$f":"IF(H715=\"\",\"\",U715/'3 Irrigation Schedule'!$M$19)","v":""}]
[null,null,null,"2022","January","2022-01-12",null,"","",5.3271000000000006,"",0,"",{"$f":"IF(OR('3 Irrigation Schedule'!$C$29=\"\",'3 Irrigation Schedule'!$C$31=\"\",H716=\"\"),\"\",(('3 Irrigation Schedule'!$C$29-'3 Irrigation Schedule'!$C$31)/100)*1000*M716)","v":""},"",{"$f":"IF(H716=\"\",\"\",IF(H716=1,N716*(1-'3 Irrigation Schedule'!$C$27),S715-U715))","v":""},"","","",{"$f":"IF(H716=\"\",\"\",IF('3 Irrigation Schedule'!$P$19<O716,'3 Irrigation Schedule'!$P$19,O716))","v":""},"",{"$f":"IF(H716=\"\",\"\",U716/'3 Irrigation Schedule'!$M$19)","v":""}]
[null,null,null,"2022","January","2022-01-13",null,"","",5.3271000000000006,"",0,"",{"$f":"IF(OR('3 Irrigation Schedule'!$C$29=\"\",'3 Irrigation Schedule'!$C$31=\"\",H717=\"\"),\"\",(('3 Irrigation Schedule'!$C$29-'3 Irrigation Schedule'!$C$31)/100)*1000*M717)","v":""},"",{"$f":"IF(H717=\"\",\"\",IF(H717=1,N717*(1-'3 Irrigation Schedule'!$C$27),S716-U716))","v":""},"","","",{"$f":"IF(H717=\"\",\"\",IF('3 Irrigation Schedule'!$P$19<O717,'3 Irrigation Schedule'!$P$19,O717))","v":""},"",{"$f":"IF(H717=\"\",\"\",U717/'3 Irrigation Schedule'!$M$19)","v":""}]
[null,null,null,"2022","January","2022-01-14",null,"","",5.3271000000000006,"",0,"",{"$f":"IF(OR('3 Irrigation Schedule'!$C$29=\"\",'3 Irrigation Schedule'!$C$31=\"\",H718=\"\"),\"\",(('3 Irrigation Schedule'!$C$29-'3 Irrigation Schedule'!$C$31)/100)*1000*M718)","v":""},"",{"$f":"IF(H718=\"\",\"\",IF(H718=1,N718*(1-'3 Irrigation Schedule'!$C$27),S717-U717))","v":""},"","","",{"$f":"IF(H718=\"\",\"\",IF('3 Irrigation Schedule'!$P$19<O718,'3 Irrigation Schedule'!$P$19,O718))","v":""},"",{"$f":"IF(H718=\"\",\"\",U718/'3 Irrigation Schedule'!$M$19)","v":""}]
[null,null,null,"2022","January","2022-01-15",null,"","",5.3271000000000006,"",0,"",{"$f":"IF(OR('3 Irrigation Schedule'!$C$29=\"\",'3 Irrigation Schedule'!$C$31=\"\",H719=\"\"),\"\",(('3 Irrigation Schedule'!$C$29-'3 Irrigation Schedule'!$C$31)/100)*1000*M719)","v":""},"",{"$f":"IF(H719=\"\",\"\",IF(H719=1,N719*(1-'3 Irrigation Schedule'!$C$27),S718-U718))","v":""},"","","",{"$f":"IF(H719=\"\",\"\",IF('3 Irrigation Schedule'!$P$19<O719,'3 Irrigation Schedule'!$P$19,O719))","v":""},"",{"$f":"IF(H719=\"\",\"\",U719/'3 Irrigation Schedule'!$M$19)","v":""}]
[null,null,null,"2022","January","2022-01-16",null,"",{"$f":"IF(H720=\"\",\"\",IF(H720<=$I$27,\"Initial\",IF(AND(H720>$I$27,H720<=$I$28),\"Development\",IF(AND(H720>$I$28,H720<=$I$29),\"Mid Season\",\"Late Season\"))))","v":""},5.3271000000000006,{"$f":"IF(H720=\"\",\"\",IF(H720<=$I$27,$L$27,IF(AND(H720>$I$27,H720<=$I$28),$L$27+((H720-$I$27)/$H$28)*($L$29-$L$27),IF(AND(H720>$I$28,H720<=$I$29),$L$29,$L$29+((H720-$I$29)/$H$30)*($L$30-$L$29)))))","v":""},{"$f":"IFERROR((J720*K720),0)","v":0},{"$f":"IF(H720=\"\",\"\",IF(OR(H720=1,H720<$I$28),$M$27+(($M$28-$M$27)*((H720-1)/($I$28-1))),$M$28))","v":""},{"$f":"IF(OR('3 Irrigation Schedule'!$C$29=\"\",'3 Irrigation Schedule'!$C$31=\"\",H720=\"\"),\"\",(('3 Irrigation Schedule'!$C$29-'3 Irrigation Schedule'!$C$31)/100)*1000*M720)","v":""},{"$f":"IF(H720=\"\",\"\",N720*$N$27)","v":""},{"$f":"IF(H720=\"\",\"\",IF(H720=1,N720*(1-'3 Irrigation Schedule'!$C$27),S719-U719))","v":""},{"$f":"IF(H720=\"\",\"\",IF(P720>O720,(N720-P720)/(N720-O720),1))","v":""},{"$f":"IF(H720=\"\",\"\",L720*Q720)","v":""},{"$f":"IF(H720=\"\",\"\",P720+R720)","v":""},{"$f":"IF(H720=\"\",\"\",IF('3 Irrigation Schedule'!$P$19<O720,'3 Irrigation Schedule'!$P$19,O720))","v":""},{"$f":"IF(H720=\"\",\"\",IF(T720<=S720,T720,0))","v":""},{"$f":"IF(H720=\"\",\"\",U720/'3 Irrigation Schedule'!$M$19)","v":""}]
[null,null,null,"2022","January","2022-01-17",null,"","",5.3271000000000006,"",0,"",{"$f":"IF(OR('3 Irrigation Schedule'!$C$29=\"\",'3 Irrigation Schedule'!$C$31=\"\",H721=\"\"),\"\",(('3 Irrigation Schedule'!$C$29-'3 Irrigation Schedule'!$C$31)/100)*1000*M721)","v":""},"",{"$f":"IF(H721=\"\",\"\",IF(H721=1,N721*(1-'3 Irrigation Schedule'!$C$27),S720-U720))","v":""},"","","",{"$f":"IF(H721=\"\",\"\",IF('3 Irrigation Schedule'!$P$19<O721,'3 Irrigation Schedule'!$P$19,O721))","v":""},"",{"$f":"IF(H721=\"\",\"\",U721/'3 Irrigation Schedule'!$M$19)","v":""}]
[null,null,null,"2022","January","2022-01-18",null,"","",5.3271000000000006,"",0,"",{"$f":"IF(OR('3 Irrigation Schedule'!$C$29=\"\",'3 Irrigation Schedule'!$C$31=\"\",H722=\"\"),\"\",(('3 Irrigation Schedule'!$C$29-'3 Irrigation Schedule'!$C$31)/100)*1000*M722)","v":""},"",{"$f":"IF(H722=\"\",\"\",IF(H722=1,N722*(1-'3 Irrigation Schedule'!$C$27),S721-U721))","v":""},"","","",{"$f":"IF(H722=\"\",\"\",IF('3 Irrigation Schedule'!$P$19<O722,'3 Irrigation Schedule'!$P$19,O722))","v":""},"",{"$f":"IF(H722=\"\",\"\",U722/'3 Irrigation Schedule'!$M$19)","v":""}]
[null,null,null,"2022","January","2022-01-19",null,"","",5.3271000000000006,"",0,"",{"$f":"IF(OR('3 Irrigation Schedule'!$C$29=\"\",'3 Irrigation Schedule'!$C$31=\"\",H723=\"\"),\"\",(('3 Irrigation Schedule'!$C$29-'3 Irrigation Schedule'!$C$31)/100)*1000*M723)","v":""},"",{"$f":"IF(H723=\"\",\"\",IF(H723=1,N723*(1-'3 Irrigation Schedule'!$C$27),S722-U722))","v":""},"","","",{"$f":"IF(H723=\"\",\"\",IF('3 Irrigation Schedule'!$P$19<O723,'3 Irrigation Schedule'!$P$19,O723))","v":""},"",{"$f":"IF(H723=\"\",\"\",U723/'3 Irrigation Schedule'!$M$19)","v":""}]
[null,null,null,"2022","January","2022-01-20",null,"","",5.3271000000000006,"",0,"",{"$f":"IF(OR('3 Irrigation Schedule'!$C$29=\"\",'3 Irrigation Schedule'!$C$31=\"\",H724=\"\"),\"\",(('3 Irrigation Schedule'!$C$29-'3 Irrigation Schedule'!$C$31)/100)*1000*M724)","v":""},"",{"$f":"IF(H724=\"\",\"\",IF(H724=1,N724*(1-'3 Irrigation Schedule'!$C$27),S723-U723))","v":""},"","","",{"$f":"IF(H724=\"\",\"\",IF('3 Irrigation Schedule'!$P$19<O724,'3 Irrigation Schedule'!$P$19,O724))","v":""},"",{"$f":"IF(H724=\"\",\"\",U724/'3 Irrigation Schedule'!$M$19)","v":""}]
[null,null,null,"2022","January","2022-01-21",null,"","",5.3271000000000006,"",0,"",{"$f":"IF(OR('3 Irrigation Schedule'!$C$29=\"\",'3 Irrigation Schedule'!$C$31=\"\",H725=\"\"),\"\",(('3 Irrigation Schedule'!$C$29-'3 Irrigation Schedule'!$C$31)/100)*1000*M725)","v":""},"",{"$f":"IF(H725=\"\",\"\",IF(H725=1,N725*(1-'3 Irrigation Schedule'!$C$27),S724-U724))","v":""},"","","",{"$f":"IF(H725=\"\",\"\",IF('3 Irrigation Schedule'!$P$19<O725,'3 Irrigation Schedule'!$P$19,O725))","v":""},"",{"$f":"IF(H725=\"\",\"\",U725/'3 Irrigation Schedule'!$M$19)","v":""}]
[null,null,null,"2022","January","2022-01-22",null,"","",5.3271000000000006,"",0,"",{"$f":"IF(OR('3 Irrigation Schedule'!$C$29=\"\",'3 Irrigation Schedule'!$C$31=\"\",H726=\"\"),\"\",(('3 Irrigation Schedule'!$C$29-'3 Irrigation Schedule'!$C$31)/100)*1000*M726)","v":""},"",{"$f":"IF(H726=\"\",\"\",IF(H726=1,N726*(1-'3 Irrigation Schedule'!$C$27),S725-U725))","v":""},"","","",{"$f":"IF(H726=\"\",\"\",IF('3 Irrigation Schedule'!$P$19<O726,'3 Irrigation Schedule'!$P$19,O726))","v":""},"",{"$f":"IF(H726=\"\",\"\",U726/'3 Irrigation Schedule'!$M$19)","v":""}]
[null,null,null,"2022","January","2022-01-23",null,"","",5.3271000000000006,"",0,"",{"$f":"IF(OR('3 Irrigation Schedule'!$C$29=\"\",'3 Irrigation Schedule'!$C$31=\"\",H727=\"\"),\"\",(('3 Irrigation Schedule'!$C$29-'3 Irrigation Schedule'!$C$31)/100)*1000*M727)","v":""},"",{"$f":"IF(H727=\"\",\"\",IF(H727=1,N727*(1-'3 Irrigation Schedule'!$C$27),S726-U726))","v":""},"","","",{"$f":"IF(H727=\"\",\"\",IF('3 Irrigation Schedule'!$P$19<O727,'3 Irrigation Schedule'!$P$19,O727))","v":""},"",{"$f":"IF(H727=\"\",\"\",U727/'3 Irrigation Schedule'!$M$19)","v":""}]
[null,null,null,"2022","January","2022-01-24",null,"","",5.3271000000000006,"",0,"",{"$f":"IF(OR('3 Irrigation Schedule'!$C$29=\"\",'3 Irrigation Schedule'!$C$31=\"\",H728=\"\"),\"\",(('3 Irrigation Schedule'!$C$29-'3 Irrigation Schedule'!$C$31)/100)*1000*M728)","v":""},"",{"$f":"IF(H728=\"\",\"\",IF(H728=1,N728*(1-'3 Irrigation Schedule'!$C$27),S727-U727))","v":""},"","","",{"$f":"IF(H728=\"\",\"\",IF('3 Irrigation Schedule'!$P$19<O728,'3 Irrigation Schedule'!$P$19,O728))","v":""},"",{"$f":"IF(H728=\"\",\"\",U728/'3 Irrigation Schedule'!$M$19)","v":""}]
[null,null,null,"2022","January","2022-01-25",null,"","",5.3271000000000006,"",0,"",{"$f":"IF(OR('3 Irrigation Schedule'!$C$29=\"\",'3 Irrigation Schedule'!$C$31=\"\",H729=\"\"),\"\",(('3 Irrigation Schedule'!$C$29-'3 Irrigation Schedule'!$C$31)/100)*1000*M729)","v":""},"",{"$f":"IF(H729=\"\",\"\",IF(H729=1,N729*(1-'3 Irrigation Schedule'!$C$27),S728-U728))","v":""},"","","",{"$f":"IF(H729=\"\",\"\",IF('3 Irrigation Schedule'!$P$19<O729,'3 Irrigation Schedule'!$P$19,O729))","v":""},"",{"$f":"IF(H729=\"\",\"\",U729/'3 Irrigation Schedule'!$M$19)","v":""}]
[null,null,null,"2022","January","2022-01-26",null,"","",5.3271000000000006,"",0,"",{"$f":"IF(OR('3 Irrigation Schedule'!$C$29=\"\",'3 Irrigation Schedule'!$C$31=\"\",H730=\"\"),\"\",(('3 Irrigation Schedule'!$C$29-'3 Irrigation Schedule'!$C$31)/100)*1000*M730)","v":""},"",{"$f":"IF(H730=\"\",\"\",IF(H730=1,N730*(1-'3 Irrigation Schedule'!$C$27),S729-U729))","v":""},"","","",{"$f":"IF(H730=\"\",\"\",IF('3 Irrigation Schedule'!$P$19<O730,'3 Irrigation Schedule'!$P$19,O730))","v":""},"",{"$f":"IF(H730=\"\",\"\",U730/'3 Irrigation Schedule'!$M$19)","v":""}]
[null,null,null,"2022","January","2022-01-27",null,"","",5.3271000000000006,"",0,"",{"$f":"IF(OR('3 Irrigation Schedule'!$C$29=\"\",'3 Irrigation Schedule'!$C$31=\"\",H731=\"\"),\"\",(('3 Irrigation Schedule'!$C$29-'3 Irrigation Schedule'!$C$31)/100)*1000*M731)","v":""},"",{"$f":"IF(H731=\"\",\"\",IF(H731=1,N731*(1-'3 Irrigation Schedule'!$C$27),S730-U730))","v":""},"","","",{"$f":"IF(H731=\"\",\"\",IF('3 Irrigation Schedule'!$P$19<O731,'3 Irrigation Schedule'!$P$19,O731))","v":""},"",{"$f":"IF(H731=\"\",\"\",U731/'3 Irrigation Schedule'!$M$19)","v":""}]
[null,null,null,"2022","January","2022-01-28",null,"","",5.3271000000000006,"",0,"",{"$f":"IF(OR('3 Irrigation Schedule'!$C$29=\"\",'3 Irrigation Schedule'!$C$31=\"\",H732=\"\"),\"\",(('3 Irrigation Schedule'!$C$29-'3 Irrigation Schedule'!$C$31)/100)*1000*M732)","v":""},"",{"$f":"IF(H732=\"\",\"\",IF(H732=1,N732*(1-'3 Irrigation Schedule'!$C$27),S731-U731))","v":""},"","","",{"$f":"IF(H732=\"\",\"\",IF('3 Irrigation Schedule'!$P$19<O732,'3 Irrigation Schedule'!$P$19,O732))","v":""},"",{"$f":"IF(H732=\"\",\"\",U732/'3 Irrigation Schedule'!$M$19)","v":""}]
[null,null,null,"2022","January","2022-01-29",null,"","",5.3271000000000006,"",0,"",{"$f":"IF(OR('3 Irrigation Schedule'!$C$29=\"\",'3 Irrigation Schedule'!$C$31=\"\",H733=\"\"),\"\",(('3 Irrigation Schedule'!$C$29-'3 Irrigation Schedule'!$C$31)/100)*1000*M733)","v":""},"",{"$f":"IF(H733=\"\",\"\",IF(H733=1,N733*(1-'3 Irrigation Schedule'!$C$27),S732-U732))","v":""},"","","",{"$f":"IF(H733=\"\",\"\",IF('3 Irrigation Schedule'!$P$19<O733,'3 Irrigation Schedule'!$P$19,O733))","v":""},"",{"$f":"IF(H733=\"\",\"\",U733/'3 Irrigation Schedule'!$M$19)","v":""}]
[null,null,null,"2022","January","2022-01-30",null,"","",5.3271000000000006,"",0,"",{"$f":"IF(OR('3 Irrigation Schedule'!$C$29=\"\",'3 Irrigation Schedule'!$C$31=\"\",H734=\"\"),\"\",(('3 Irrigation Schedule'!$C$29-'3 Irrigation Schedule'!$C$31)/100)*1000*M734)","v":""},"",{"$f":"IF(H734=\"\",\"\",IF(H734=1,N734*(1-'3 Irrigation Schedule'!$C$27),S733-U733))","v":""},"","","",{"$f":"IF(H734=\"\",\"\",IF('3 Irrigation Schedule'!$P$19<O734,'3 Irrigation Schedule'!$P$19,O734))","v":""},"",{"$f":"IF(H734=\"\",\"\",U734/'3 Irrigation Schedule'!$M$19)","v":""}]
[null,null,null,"2022","January","2022-01-31",null,"","",5.3271000000000006,"",0,"",{"$f":"IF(OR('3 Irrigation Schedule'!$C$29=\"\",'3 Irrigation Schedule'!$C$31=\"\",H735=\"\"),\"\",(('3 Irrigation Schedule'!$C$29-'3 Irrigation Schedule'!$C$31)/100)*1000*M735)","v":""},"",{"$f":"IF(H735=\"\",\"\",IF(H735=1,N735*(1-'3 Irrigation Schedule'!$C$27),S734-U734))","v":""},"","","",{"$f":"IF(H735=\"\",\"\",IF('3 Irrigation Schedule'!$P$19<O735,'3 Irrigation Schedule'!$P$19,O735))","v":""},"",{"$f":"IF(H735=\"\",\"\",U735/'3 Irrigation Schedule'!$M$19)","v":""}]
[null,null,null,"2022","February","2022-02-01",null,"","",5.2650000000000006,"",0,"",{"$f":"IF(OR('3 Irrigation Schedule'!$C$29=\"\",'3 Irrigation Schedule'!$C$31=\"\",H736=\"\"),\"\",(('3 Irrigation Schedule'!$C$29-'3 Irrigation Schedule'!$C$31)/100)*1000*M736)","v":""},"",{"$f":"IF(H736=\"\",\"\",IF(H736=1,N736*(1-'3 Irrigation Schedule'!$C$27),S735-U735))","v":""},"","","",{"$f":"IF(H736=\"\",\"\",IF('3 Irrigation Schedule'!$P$19<O736,'3 Irrigation Schedule'!$P$19,O736))","v":""},"",{"$f":"IF(H736=\"\",\"\",U736/'3 Irrigation Schedule'!$M$19)","v":""}]
[null,null,null,"2022","February","2022-02-02",null,"","",5.2650000000000006,"",0,"",{"$f":"IF(OR('3 Irrigation Schedule'!$C$29=\"\",'3 Irrigation Schedule'!$C$31=\"\",H737=\"\"),\"\",(('3 Irrigation Schedule'!$C$29-'3 Irrigation Schedule'!$C$31)/100)*1000*M737)","v":""},"",{"$f":"IF(H737=\"\",\"\",IF(H737=1,N737*(1-'3 Irrigation Schedule'!$C$27),S736-U736))","v":""},"","","",{"$f":"IF(H737=\"\",\"\",IF('3 Irrigation Schedule'!$P$19<O737,'3 Irrigation Schedule'!$P$19,O737))","v":""},"",{"$f":"IF(H737=\"\",\"\",U737/'3 Irrigation Schedule'!$M$19)","v":""}]
[null,null,null,{"$f":"IFERROR(TEXT(DATE(YEAR($F738),MONTH($F738),1),$D$7&$D$4),\"\")","v":"2022"},{"$f":"IFERROR(TEXT(DATE(YEAR($F738),MONTH($F738),1),$D$7&$D$5),\"\")","v":"February"},"2022-02-03",null,"","",{"$f":"IFERROR(VLOOKUP($E738,$B$19:$C$30,2,FALSE),\"\")","v":5.2650000000000006},"",0,"",{"$f":"IF(OR('3 Irrigation Schedule'!$C$29=\"\",'3 Irrigation Schedule'!$C$31=\"\",H738=\"\"),\"\",(('3 Irrigation Schedule'!$C$29-'3 Irrigation Schedule'!$C$31)/100)*1000*M738)","v":""},"",{"$f":"IF(H738=\"\",\"\",IF(H738=1,N738*(1-'3 Irrigation Schedule'!$C$27),S737-U737))","v":""},"","","",{"$f":"IF(H738=\"\",\"\",IF('3 Irrigation Schedule'!$P$19<O738,'3 Irrigation Schedule'!$P$19,O738))","v":""},"",{"$f":"IF(H738=\"\",\"\",U738/'3 Irrigation Schedule'!$M$19)","v":""}]
[null,null,null,"2022","February",{"$f":"IFERROR(IF(F738+1<=$N$7, F738+1,\"\"),\"\")","v":"2022-02-04"},null,{"$f":"IFERROR(IF(OR($F739-$J$27+1<=0,$F739>$K$30),\"\",$F739-$J$27+1),\"\")","v":""},"",5.2650000000000006,"",0,"",{"$f":"IF(OR('3 Irrigation Schedule'!$C$29=\"\",'3 Irrigation Schedule'!$C$31=\"\",H739=\"\"),\"\",(('3 Irrigation Schedule'!$C$29-'3 Irrigation Schedule'!$C$31)/100)*1000*M739)","v":""},"",{"$f":"IF(H739=\"\",\"\",IF(H739=1,N739*(1-'3 Irrigation Schedule'!$C$27),S738-U738))","v":""},"","","",{"$f":"IF(H739=\"\",\"\",IF('3 Irrigation Schedule'!$P$19<O739,'3 Irrigation Schedule'!$P$19,O739))","v":""},"",{"$f":"IF(H739=\"\",\"\",U739/'3 Irrigation Schedule'!$M$19)","v":""}]
[null,null,null,"2022","February","2022-02-05",null,"","",5.2650000000000006,"",0,"",{"$f":"IF(OR('3 Irrigation Schedule'!$C$29=\"\",'3 Irrigation Schedule'!$C$31=\"\",H740=\"\"),\"\",(('3 Irrigation Schedule'!$C$29-'3 Irrigation Schedule'!$C$31)/100)*1000*M740)","v":""},"",{"$f":"IF(H740=\"\",\"\",IF(H740=1,N740*(1-'3 Irrigation Schedule'!$C$27),S739-U739))","v":""},"","","",{"$f":"IF(H740=\"\",\"\",IF('3 Irrigation Schedule'!$P$19<O740,'3 Irrigation Schedule'!$P$19,O740))","v":""},"",{"$f":"IF(H740=\"\",\"\",U740/'3 Irrigation Schedule'!$M$19)","v":""}]
[null,null,null,"2022","February","2022-02-06",null,"","",5.2650000000000006,"",0,"",{"$f":"IF(OR('3 Irrigation Schedule'!$C$29=\"\",'3 Irrigation Schedule'!$C$31=\"\",H741=\"\"),\"\",(('3 Irrigation Schedule'!$C$29-'3 Irrigation Schedule'!$C$31)/100)*1000*M741)","v":""},"",{"$f":"IF(H741=\"\",\"\",IF(H741=1,N741*(1-'3 Irrigation Schedule'!$C$27),S740-U740))","v":""},"","","",{"$f":"IF(H741=\"\",\"\",IF('3 Irrigation Schedule'!$P$19<O741,'3 Irrigation Schedule'!$P$19,O741))","v":""},"",{"$f":"IF(H741=\"\",\"\",U741/'3 Irrigation Schedule'!$M$19)","v":""}]
[null,null,null,"2022","February","2022-02-07",null,"","",5.2650000000000006,"",0,"",{"$f":"IF(OR('3 Irrigation Schedule'!$C$29=\"\",'3 Irrigation Schedule'!$C$31=\"\",H742=\"\"),\"\",(('3 Irrigation Schedule'!$C$29-'3 Irrigation Schedule'!$C$31)/100)*1000*M742)","v":""},"",{"$f":"IF(H742=\"\",\"\",IF(H742=1,N742*(1-'3 Irrigation Schedule'!$C$27),S741-U741))","v":""},"","","",{"$f":"IF(H742=\"\",\"\",IF('3 Irrigation Schedule'!$P$19<O742,'3 Irrigation Schedule'!$P$19,O742))","v":""},"",{"$f":"IF(H742=\"\",\"\",U742/'3 Irrigation Schedule'!$M$19)","v":""}]
[null,null,null,"2022","February","2022-02-08",null,"","",5.2650000000000006,"",0,"",{"$f":"IF(OR('3 Irrigation Schedule'!$C$29=\"\",'3 Irrigation Schedule'!$C$31=\"\",H743=\"\"),\"\",(('3 Irrigation Schedule'!$C$29-'3 Irrigation Schedule'!$C$31)/100)*1000*M743)","v":""},"",{"$f":"IF(H743=\"\",\"\",IF(H743=1,N743*(1-'3 Irrigation Schedule'!$C$27),S742-U742))","v":""},"","","",{"$f":"IF(H743=\"\",\"\",IF('3 Irrigation Schedule'!$P$19<O743,'3 Irrigation Schedule'!$P$19,O743))","v":""},"",{"$f":"IF(H743=\"\",\"\",U743/'3 Irrigation Schedule'!$M$19)","v":""}]
[null,null,null,"2022","February","2022-02-09",null,"","",5.2650000000000006,"",0,"",{"$f":"IF(OR('3 Irrigation Schedule'!$C$29=\"\",'3 Irrigation Schedule'!$C$31=\"\",H744=\"\"),\"\",(('3 Irrigation Schedule'!$C$29-'3 Irrigation Schedule'!$C$31)/100)*1000*M744)","v":""},"",{"$f":"IF(H744=\"\",\"\",IF(H744=1,N744*(1-'3 Irrigation Schedule'!$C$27),S743-U743))","v":""},"","","",{"$f":"IF(H744=\"\",\"\",IF('3 Irrigation Schedule'!$P$19<O744,'3 Irrigation Schedule'!$P$19,O744))","v":""},"",{"$f":"IF(H744=\"\",\"\",U744/'3 Irrigation Schedule'!$M$19)","v":""}]
[null,null,null,"2022","February","2022-02-10",null,"","",5.2650000000000006,"",0,"",{"$f":"IF(OR('3 Irrigation Schedule'!$C$29=\"\",'3 Irrigation Schedule'!$C$31=\"\",H745=\"\"),\"\",(('3 Irrigation Schedule'!$C$29-'3 Irrigation Schedule'!$C$31)/100)*1000*M745)","v":""},"",{"$f":"IF(H745=\"\",\"\",IF(H745=1,N745*(1-'3 Irrigation Schedule'!$C$27),S744-U744))","v":""},"","","",{"$f":"IF(H745=\"\",\"\",IF('3 Irrigation Schedule'!$P$19<O745,'3 Irrigation Schedule'!$P$19,O745))","v":""},"",{"$f":"IF(H745=\"\",\"\",U745/'3 Irrigation Schedule'!$M$19)","v":""}]
[null,null,null,"2022","February","2022-02-11",null,"","",5.2650000000000006,"",0,"",{"$f":"IF(OR('3 Irrigation Schedule'!$C$29=\"\",'3 Irrigation Schedule'!$C$31=\"\",H746=\"\"),\"\",(('3 Irrigation Schedule'!$C$29-'3 Irrigation Schedule'!$C$31)/100)*1000*M746)","v":""},"",{"$f":"IF(H746=\"\",\"\",IF(H746=1,N746*(1-'3 Irrigation Schedule'!$C$27),S745-U745))","v":""},"","","",{"$f":"IF(H746=\"\",\"\",IF('3 Irrigation Schedule'!$P$19<O746,'3 Irrigation Schedule'!$P$19,O746))","v":""},"",{"$f":"IF(H746=\"\",\"\",U746/'3 Irrigation Schedule'!$M$19)","v":""}]
[null,null,null,"2022","February","2022-02-12",null,"","",5.2650000000000006,"",0,"",{"$f":"IF(OR('3 Irrigation Schedule'!$C$29=\"\",'3 Irrigation Schedule'!$C$31=\"\",H747=\"\"),\"\",(('3 Irrigation Schedule'!$C$29-'3 Irrigation Schedule'!$C$31)/100)*1000*M747)","v":""},"",{"$f":"IF(H747=\"\",\"\",IF(H747=1,N747*(1-'3 Irrigation Schedule'!$C$27),S746-U746))","v":""},"","","",{"$f":"IF(H747=\"\",\"\",IF('3 Irrigation Schedule'!$P$19<O747,'3 Irrigation Schedule'!$P$19,O747))","v":""},"",{"$f":"IF(H747=\"\",\"\",U747/'3 Irrigation Schedule'!$M$19)","v":""}]
[null,null,null,"2022","February","2022-02-13",null,"","",5.2650000000000006,"",0,"",{"$f":"IF(OR('3 Irrigation Schedule'!$C$29=\"\",'3 Irrigation Schedule'!$C$31=\"\",H748=\"\"),\"\",(('3 Irrigation Schedule'!$C$29-'3 Irrigation Schedule'!$C$31)/100)*1000*M748)","v":""},"",{"$f":"IF(H748=\"\",\"\",IF(H748=1,N748*(1-'3 Irrigation Schedule'!$C$27),S747-U747))","v":""},"","","",{"$f":"IF(H748=\"\",\"\",IF('3 Irrigation Schedule'!$P$19<O748,'3 Irrigation Schedule'!$P$19,O748))","v":""},"",{"$f":"IF(H748=\"\",\"\",U748/'3 Irrigation Schedule'!$M$19)","v":""}]
[null,null,null,"2022","February","2022-02-14",null,"","",5.2650000000000006,"",0,"",{"$f":"IF(OR('3 Irrigation Schedule'!$C$29=\"\",'3 Irrigation Schedule'!$C$31=\"\",H749=\"\"),\"\",(('3 Irrigation Schedule'!$C$29-'3 Irrigation Schedule'!$C$31)/100)*1000*M749)","v":""},"",{"$f":"IF(H749=\"\",\"\",IF(H749=1,N749*(1-'3 Irrigation Schedule'!$C$27),S748-U748))","v":""},"","","",{"$f":"IF(H749=\"\",\"\",IF('3 Irrigation Schedule'!$P$19<O749,'3 Irrigation Schedule'!$P$19,O749))","v":""},"",{"$f":"IF(H749=\"\",\"\",U749/'3 Irrigation Schedule'!$M$19)","v":""}]
[null,null,null,"2022","February","2022-02-15",null,"","",5.2650000000000006,"",0,"",{"$f":"IF(OR('3 Irrigation Schedule'!$C$29=\"\",'3 Irrigation Schedule'!$C$31=\"\",H750=\"\"),\"\",(('3 Irrigation Schedule'!$C$29-'3 Irrigation Schedule'!$C$31)/100)*1000*M750)","v":""},"",{"$f":"IF(H750=\"\",\"\",IF(H750=1,N750*(1-'3 Irrigation Schedule'!$C$27),S749-U749))","v":""},"","","",{"$f":"IF(H750=\"\",\"\",IF('3 Irrigation Schedule'!$P$19<O750,'3 Irrigation Schedule'!$P$19,O750))","v":""},"",{"$f":"IF(H750=\"\",\"\",U750/'3 Irrigation Schedule'!$M$19)","v":""}]
[null,null,null,"2022","February","2022-02-16",null,"","",5.2650000000000006,"",0,"",{"$f":"IF(OR('3 Irrigation Schedule'!$C$29=\"\",'3 Irrigation Schedule'!$C$31=\"\",H751=\"\"),\"\",(('3 Irrigation Schedule'!$C$29-'3 Irrigation Schedule'!$C$31)/100)*1000*M751)","v":""},"",{"$f":"IF(H751=\"\",\"\",IF(H751=1,N751*(1-'3 Irrigation Schedule'!$C$27),S750-U750))","v":""},"","","",{"$f":"IF(H751=\"\",\"\",IF('3 Irrigation Schedule'!$P$19<O751,'3 Irrigation Schedule'!$P$19,O751))","v":""},"",{"$f":"IF(H751=\"\",\"\",U751/'3 Irrigation Schedule'!$M$19)","v":""}]
[null,null,null,"2022","February","2022-02-17",null,"","",5.2650000000000006,"",0,"",{"$f":"IF(OR('3 Irrigation Schedule'!$C$29=\"\",'3 Irrigation Schedule'!$C$31=\"\",H752=\"\"),\"\",(('3 Irrigation Schedule'!$C$29-'3 Irrigation Schedule'!$C$31)/100)*1000*M752)","v":""},"",{"$f":"IF(H752=\"\",\"\",IF(H752=1,N752*(1-'3 Irrigation Schedule'!$C$27),S751-U751))","v":""},"","","",{"$f":"IF(H752=\"\",\"\",IF('3 Irrigation Schedule'!$P$19<O752,'3 Irrigation Schedule'!$P$19,O752))","v":""},"",{"$f":"IF(H752=\"\",\"\",U752/'3 Irrigation Schedule'!$M$19)","v":""}]
[null,null,null,"2022","February","2022-02-18",null,"","",5.2650000000000006,"",0,"",{"$f":"IF(OR('3 Irrigation Schedule'!$C$29=\"\",'3 Irrigation Schedule'!$C$31=\"\",H753=\"\"),\"\",(('3 Irrigation Schedule'!$C$29-'3 Irrigation Schedule'!$C$31)/100)*1000*M753)","v":""},"",{"$f":"IF(H753=\"\",\"\",IF(H753=1,N753*(1-'3 Irrigation Schedule'!$C$27),S752-U752))","v":""},"","","",{"$f":"IF(H753=\"\",\"\",IF('3 Irrigation Schedule'!$P$19<O753,'3 Irrigation Schedule'!$P$19,O753))","v":""},"",{"$f":"IF(H753=\"\",\"\",U753/'3 Irrigation Schedule'!$M$19)","v":""}]
[null,null,null,"2022","February","2022-02-19",null,"","",5.2650000000000006,"",0,"",{"$f":"IF(OR('3 Irrigation Schedule'!$C$29=\"\",'3 Irrigation Schedule'!$C$31=\"\",H754=\"\"),\"\",(('3 Irrigation Schedule'!$C$29-'3 Irrigation Schedule'!$C$31)/100)*1000*M754)","v":""},"",{"$f":"IF(H754=\"\",\"\",IF(H754=1,N754*(1-'3 Irrigation Schedule'!$C$27),S753-U753))","v":""},"","","",{"$f":"IF(H754=\"\",\"\",IF('3 Irrigation Schedule'!$P$19<O754,'3 Irrigation Schedule'!$P$19,O754))","v":""},"",{"$f":"IF(H754=\"\",\"\",U754/'3 Irrigation Schedule'!$M$19)","v":""}]
[null,null,null,"2022","February","2022-02-20",null,"","",5.2650000000000006,"",0,"",{"$f":"IF(OR('3 Irrigation Schedule'!$C$29=\"\",'3 Irrigation Schedule'!$C$31=\"\",H755=\"\"),\"\",(('3 Irrigation Schedule'!$C$29-'3 Irrigation Schedule'!$C$31)/100)*1000*M755)","v":""},"",{"$f":"IF(H755=\"\",\"\",IF(H755=1,N755*(1-'3 Irrigation Schedule'!$C$27),S754-U754))","v":""},"","","",{"$f":"IF(H755=\"\",\"\",IF('3 Irrigation Schedule'!$P$19<O755,'3 Irrigation Schedule'!$P$19,O755))","v":""},"",{"$f":"IF(H755=\"\",\"\",U755/'3 Irrigation Schedule'!$M$19)","v":""}]
[null,null,null,"2022","February","2022-02-21",null,"","",5.2650000000000006,"",0,"",{"$f":"IF(OR('3 Irrigation Schedule'!$C$29=\"\",'3 Irrigation Schedule'!$C$31=\"\",H756=\"\"),\"\",(('3 Irrigation Schedule'!$C$29-'3 Irrigation Schedule'!$C$31)/100)*1000*M756)","v":""},"",{"$f":"IF(H756=\"\",\"\",IF(H756=1,N756*(1-'3 Irrigation Schedule'!$C$27),S755-U755))","v":""},"","","",{"$f":"IF(H756=\"\",\"\",IF('3 Irrigation Schedule'!$P$19<O756,'3 Irrigation Schedule'!$P$19,O756))","v":""},"",{"$f":"IF(H756=\"\",\"\",U756/'3 Irrigation Schedule'!$M$19)","v":""}]
[null,null,null,"2022","February","2022-02-22",null,"","",5.2650000000000006,"",0,"",{"$f":"IF(OR('3 Irrigation Schedule'!$C$29=\"\",'3 Irrigation Schedule'!$C$31=\"\",H757=\"\"),\"\",(('3 Irrigation Schedule'!$C$29-'3 Irrigation Schedule'!$C$31)/100)*1000*M757)","v":""},"",{"$f":"IF(H757=\"\",\"\",IF(H757=1,N757*(1-'3 Irrigation Schedule'!$C$27),S756-U756))","v":""},"","","",{"$f":"IF(H757=\"\",\"\",IF('3 Irrigation Schedule'!$P$19<O757,'3 Irrigation Schedule'!$P$19,O757))","v":""},"",{"$f":"IF(H757=\"\",\"\",U757/'3 Irrigation Schedule'!$M$19)","v":""}]
[null,null,null,"2022","February","2022-02-23",null,"","",5.2650000000000006,"",0,"",{"$f":"IF(OR('3 Irrigation Schedule'!$C$29=\"\",'3 Irrigation Schedule'!$C$31=\"\",H758=\"\"),\"\",(('3 Irrigation Schedule'!$C$29-'3 Irrigation Schedule'!$C$31)/100)*1000*M758)","v":""},"",{"$f":"IF(H758=\"\",\"\",IF(H758=1,N758*(1-'3 Irrigation Schedule'!$C$27),S757-U757))","v":""},"","","",{"$f":"IF(H758=\"\",\"\",IF('3 Irrigation Schedule'!$P$19<O758,'3 Irrigation Schedule'!$P$19,O758))","v":""},"",{"$f":"IF(H758=\"\",\"\",U758/'3 Irrigation Schedule'!$M$19)","v":""}]
[null,null,null,"2022","February","2022-02-24",null,"","",5.2650000000000006,"",0,"",{"$f":"IF(OR('3 Irrigation Schedule'!$C$29=\"\",'3 Irrigation Schedule'!$C$31=\"\",H759=\"\"),\"\",(('3 Irrigation Schedule'!$C$29-'3 Irrigation Schedule'!$C$31)/100)*1000*M759)","v":""},"",{"$f":"IF(H759=\"\",\"\",IF(H759=1,N759*(1-'3 Irrigation Schedule'!$C$27),S758-U758))","v":""},"","","",{"$f":"IF(H759=\"\",\"\",IF('3 Irrigation Schedule'!$P$19<O759,'3 Irrigation Schedule'!$P$19,O759))","v":""},"",{"$f":"IF(H759=\"\",\"\",U759/'3 Irrigation Schedule'!$M$19)","v":""}]
[null,null,null,"2022","February","2022-02-25",null,"","",5.2650000000000006,"",0,"",{"$f":"IF(OR('3 Irrigation Schedule'!$C$29=\"\",'3 Irrigation Schedule'!$C$31=\"\",H760=\"\"),\"\",(('3 Irrigation Schedule'!$C$29-'3 Irrigation Schedule'!$C$31)/100)*1000*M760)","v":""},"",{"$f":"IF(H760=\"\",\"\",IF(H760=1,N760*(1-'3 Irrigation Schedule'!$C$27),S759-U759))","v":""},"","","",{"$f":"IF(H760=\"\",\"\",IF('3 Irrigation Schedule'!$P$19<O760,'3 Irrigation Schedule'!$P$19,O760))","v":""},"",{"$f":"IF(H760=\"\",\"\",U760/'3 Irrigation Schedule'!$M$19)","v":""}]
[null,null,null,"2022","February","2022-02-26",null,"","",5.2650000000000006,"",0,"",{"$f":"IF(OR('3 Irrigation Schedule'!$C$29=\"\",'3 Irrigation Schedule'!$C$31=\"\",H761=\"\"),\"\",(('3 Irrigation Schedule'!$C$29-'3 Irrigation Schedule'!$C$31)/100)*1000*M761)","v":""},"",{"$f":"IF(H761=\"\",\"\",IF(H761=1,N761*(1-'3 Irrigation Schedule'!$C$27),S760-U760))","v":""},"","","",{"$f":"IF(H761=\"\",\"\",IF('3 Irrigation Schedule'!$P$19<O761,'3 Irrigation Schedule'!$P$19,O761))","v":""},"",{"$f":"IF(H761=\"\",\"\",U761/'3 Irrigation Schedule'!$M$19)","v":""}]
[null,null,null,"2022","February","2022-02-27",null,"","",5.2650000000000006,"",0,"",{"$f":"IF(OR('3 Irrigation Schedule'!$C$29=\"\",'3 Irrigation Schedule'!$C$31=\"\",H762=\"\"),\"\",(('3 Irrigation Schedule'!$C$29-'3 Irrigation Schedule'!$C$31)/100)*1000*M762)","v":""},"",{"$f":"IF(H762=\"\",\"\",IF(H762=1,N762*(1-'3 Irrigation Schedule'!$C$27),S761-U761))","v":""},"","","",{"$f":"IF(H762=\"\",\"\",IF('3 Irrigation Schedule'!$P$19<O762,'3 Irrigation Schedule'!$P$19,O762))","v":""},"",{"$f":"IF(H762=\"\",\"\",U762/'3 Irrigation Schedule'!$M$19)","v":""}]
[null,null,null,"2022","February","2022-02-28",null,"","",5.2650000000000006,"",0,"",{"$f":"IF(OR('3 Irrigation Schedule'!$C$29=\"\",'3 Irrigation Schedule'!$C$31=\"\",H763=\"\"),\"\",(('3 Irrigation Schedule'!$C$29-'3 Irrigation Schedule'!$C$31)/100)*1000*M763)","v":""},"",{"$f":"IF(H763=\"\",\"\",IF(H763=1,N763*(1-'3 Irrigation Schedule'!$C$27),S762-U762))","v":""},"","","",{"$f":"IF(H763=\"\",\"\",IF('3 Irrigation Schedule'!$P$19<O763,'3 Irrigation Schedule'!$P$19,O763))","v":""},"",{"$f":"IF(H763=\"\",\"\",U763/'3 Irrigation Schedule'!$M$19)","v":""}]
[null,null,null,"2022","March","2022-03-01",null,"","",5.2153200000000011,"",0,"",{"$f":"IF(OR('3 Irrigation Schedule'!$C$29=\"\",'3 Irrigation Schedule'!$C$31=\"\",H764=\"\"),\"\",(('3 Irrigation Schedule'!$C$29-'3 Irrigation Schedule'!$C$31)/100)*1000*M764)","v":""},"",{"$f":"IF(H764=\"\",\"\",IF(H764=1,N764*(1-'3 Irrigation Schedule'!$C$27),S763-U763))","v":""},"","","",{"$f":"IF(H764=\"\",\"\",IF('3 Irrigation Schedule'!$P$19<O764,'3 Irrigation Schedule'!$P$19,O764))","v":""},"",{"$f":"IF(H764=\"\",\"\",U764/'3 Irrigation Schedule'!$M$19)","v":""}]
[null,null,null,"2022","March","2022-03-02",null,"",{"$f":"IF(H765=\"\",\"\",IF(H765<=$I$27,\"Initial\",IF(AND(H765>$I$27,H765<=$I$28),\"Development\",IF(AND(H765>$I$28,H765<=$I$29),\"Mid Season\",\"Late Season\"))))","v":""},5.2153200000000011,{"$f":"IF(H765=\"\",\"\",IF(H765<=$I$27,$L$27,IF(AND(H765>$I$27,H765<=$I$28),$L$27+((H765-$I$27)/$H$28)*($L$29-$L$27),IF(AND(H765>$I$28,H765<=$I$29),$L$29,$L$29+((H765-$I$29)/$H$30)*($L$30-$L$29)))))","v":""},{"$f":"IFERROR((J765*K765),0)","v":0},{"$f":"IF(H765=\"\",\"\",IF(OR(H765=1,H765<$I$28),$M$27+(($M$28-$M$27)*((H765-1)/($I$28-1))),$M$28))","v":""},{"$f":"IF(OR('3 Irrigation Schedule'!$C$29=\"\",'3 Irrigation Schedule'!$C$31=\"\",H765=\"\"),\"\",(('3 Irrigation Schedule'!$C$29-'3 Irrigation Schedule'!$C$31)/100)*1000*M765)","v":""},{"$f":"IF(H765=\"\",\"\",N765*$N$27)","v":""},{"$f":"IF(H765=\"\",\"\",IF(H765=1,N765*(1-'3 Irrigation Schedule'!$C$27),S764-U764))","v":""},{"$f":"IF(H765=\"\",\"\",IF(P765>O765,(N765-P765)/(N765-O765),1))","v":""},{"$f":"IF(H765=\"\",\"\",L765*Q765)","v":""},{"$f":"IF(H765=\"\",\"\",P765+R765)","v":""},{"$f":"IF(H765=\"\",\"\",IF('3 Irrigation Schedule'!$P$19<O765,'3 Irrigation Schedule'!$P$19,O765))","v":""},{"$f":"IF(H765=\"\",\"\",IF(T765<=S765,T765,0))","v":""},{"$f":"IF(H765=\"\",\"\",U765/'3 Irrigation Schedule'!$M$19)","v":""}]
[null,null,null,"2022","March","2022-03-03",null,"","",5.2153200000000011,"",0,"",{"$f":"IF(OR('3 Irrigation Schedule'!$C$29=\"\",'3 Irrigation Schedule'!$C$31=\"\",H766=\"\"),\"\",(('3 Irrigation Schedule'!$C$29-'3 Irrigation Schedule'!$C$31)/100)*1000*M766)","v":""},"",{"$f":"IF(H766=\"\",\"\",IF(H766=1,N766*(1-'3 Irrigation Schedule'!$C$27),S765-U765))","v":""},"","","",{"$f":"IF(H766=\"\",\"\",IF('3 Irrigation Schedule'!$P$19<O766,'3 Irrigation Schedule'!$P$19,O766))","v":""},"",{"$f":"IF(H766=\"\",\"\",U766/'3 Irrigation Schedule'!$M$19)","v":""}]
[null,null,null,"2022","March","2022-03-04",null,"","",5.2153200000000011,"",0,"",{"$f":"IF(OR('3 Irrigation Schedule'!$C$29=\"\",'3 Irrigation Schedule'!$C$31=\"\",H767=\"\"),\"\",(('3 Irrigation Schedule'!$C$29-'3 Irrigation Schedule'!$C$31)/100)*1000*M767)","v":""},"",{"$f":"IF(H767=\"\",\"\",IF(H767=1,N767*(1-'3 Irrigation Schedule'!$C$27),S766-U766))","v":""},"","","",{"$f":"IF(H767=\"\",\"\",IF('3 Irrigation Schedule'!$P$19<O767,'3 Irrigation Schedule'!$P$19,O767))","v":""},"",{"$f":"IF(H767=\"\",\"\",U767/'3 Irrigation Schedule'!$M$19)","v":""}]
[null,null,null,"2022","March","2022-03-05",null,"","",5.2153200000000011,"",0,"",{"$f":"IF(OR('3 Irrigation Schedule'!$C$29=\"\",'3 Irrigation Schedule'!$C$31=\"\",H768=\"\"),\"\",(('3 Irrigation Schedule'!$C$29-'3 Irrigation Schedule'!$C$31)/100)*1000*M768)","v":""},"",{"$f":"IF(H768=\"\",\"\",IF(H768=1,N768*(1-'3 Irrigation Schedule'!$C$27),S767-U767))","v":""},"","","",{"$f":"IF(H768=\"\",\"\",IF('3 Irrigation Schedule'!$P$19<O768,'3 Irrigation Schedule'!$P$19,O768))","v":""},"",{"$f":"IF(H768=\"\",\"\",U768/'3 Irrigation Schedule'!$M$19)","v":""}]
[null,null,null,"2022","March","2022-03-06",null,"","",5.2153200000000011,"",0,"",{"$f":"IF(OR('3 Irrigation Schedule'!$C$29=\"\",'3 Irrigation Schedule'!$C$31=\"\",H769=\"\"),\"\",(('3 Irrigation Schedule'!$C$29-'3 Irrigation Schedule'!$C$31)/100)*1000*M769)","v":""},"",{"$f":"IF(H769=\"\",\"\",IF(H769=1,N769*(1-'3 Irrigation Schedule'!$C$27),S768-U768))","v":""},"","","",{"$f":"IF(H769=\"\",\"\",IF('3 Irrigation Schedule'!$P$19<O769,'3 Irrigation Schedule'!$P$19,O769))","v":""},"",{"$f":"IF(H769=\"\",\"\",U769/'3 Irrigation Schedule'!$M$19)","v":""}]
[null,null,null,"2022","March","2022-03-07",null,"","",5.2153200000000011,"",0,"",{"$f":"IF(OR('3 Irrigation Schedule'!$C$29=\"\",'3 Irrigation Schedule'!$C$31=\"\",H770=\"\"),\"\",(('3 Irrigation Schedule'!$C$29-'3 Irrigation Schedule'!$C$31)/100)*1000*M770)","v":""},"",{"$f":"IF(H770=\"\",\"\",IF(H770=1,N770*(1-'3 Irrigation Schedule'!$C$27),S769-U769))","v":""},"","","",{"$f":"IF(H770=\"\",\"\",IF('3 Irrigation Schedule'!$P$19<O770,'3 Irrigation Schedule'!$P$19,O770))","v":""},"",{"$f":"IF(H770=\"\",\"\",U770/'3 Irrigation Schedule'!$M$19)","v":""}]
[null,null,null,"2022","March","2022-03-08",null,"","",5.2153200000000011,"",0,"",{"$f":"IF(OR('3 Irrigation Schedule'!$C$29=\"\",'3 Irrigation Schedule'!$C$31=\"\",H771=\"\"),\"\",(('3 Irrigation Schedule'!$C$29-'3 Irrigation Schedule'!$C$31)/100)*1000*M771)","v":""},"",{"$f":"IF(H771=\"\",\"\",IF(H771=1,N771*(1-'3 Irrigation Schedule'!$C$27),S770-U770))","v":""},"","","",{"$f":"IF(H771=\"\",\"\",IF('3 Irrigation Schedule'!$P$19<O771,'3 Irrigation Schedule'!$P$19,O771))","v":""},"",{"$f":"IF(H771=\"\",\"\",U771/'3 Irrigation Schedule'!$M$19)","v":""}]
[null,null,null,"2022","March","2022-03-09",null,"","",5.2153200000000011,"",0,"",{"$f":"IF(OR('3 Irrigation Schedule'!$C$29=\"\",'3 Irrigation Schedule'!$C$31=\"\",H772=\"\"),\"\",(('3 Irrigation Schedule'!$C$29-'3 Irrigation Schedule'!$C$31)/100)*1000*M772)","v":""},"",{"$f":"IF(H772=\"\",\"\",IF(H772=1,N772*(1-'3 Irrigation Schedule'!$C$27),S771-U771))","v":""},"","","",{"$f":"IF(H772=\"\",\"\",IF('3 Irrigation Schedule'!$P$19<O772,'3 Irrigation Schedule'!$P$19,O772))","v":""},"",{"$f":"IF(H772=\"\",\"\",U772/'3 Irrigation Schedule'!$M$19)","v":""}]
[null,null,null,"2022","March","2022-03-10",null,"","",5.2153200000000011,"",0,"",{"$f":"IF(OR('3 Irrigation Schedule'!$C$29=\"\",'3 Irrigation Schedule'!$C$31=\"\",H773=\"\"),\"\",(('3 Irrigation Schedule'!$C$29-'3 Irrigation Schedule'!$C$31)/100)*1000*M773)","v":""},"",{"$f":"IF(H773=\"\",\"\",IF(H773=1,N773*(1-'3 Irrigation Schedule'!$C$27),S772-U772))","v":""},"","","",{"$f":"IF(H773=\"\",\"\",IF('3 Irrigation Schedule'!$P$19<O773,'3 Irrigation Schedule'!$P$19,O773))","v":""},"",{"$f":"IF(H773=\"\",\"\",U773/'3 Irrigation Schedule'!$M$19)","v":""}]
[null,null,null,"2022","March","2022-03-11",null,"","",5.2153200000000011,"",0,"",{"$f":"IF(OR('3 Irrigation Schedule'!$C$29=\"\",'3 Irrigation Schedule'!$C$31=\"\",H774=\"\"),\"\",(('3 Irrigation Schedule'!$C$29-'3 Irrigation Schedule'!$C$31)/100)*1000*M774)","v":""},"",{"$f":"IF(H774=\"\",\"\",IF(H774=1,N774*(1-'3 Irrigation Schedule'!$C$27),S773-U773))","v":""},"","","",{"$f":"IF(H774=\"\",\"\",IF('3 Irrigation Schedule'!$P$19<O774,'3 Irrigation Schedule'!$P$19,O774))","v":""},"",{"$f":"IF(H774=\"\",\"\",U774/'3 Irrigation Schedule'!$M$19)","v":""}]
[null,null,null,"2022","March","2022-03-12",null,"","",5.2153200000000011,"",0,"",{"$f":"IF(OR('3 Irrigation Schedule'!$C$29=\"\",'3 Irrigation Schedule'!$C$31=\"\",H775=\"\"),\"\",(('3 Irrigation Schedule'!$C$29-'3 Irrigation Schedule'!$C$31)/100)*1000*M775)","v":""},"",{"$f":"IF(H775=\"\",\"\",IF(H775=1,N775*(1-'3 Irrigation Schedule'!$C$27),S774-U774))","v":""},"","","",{"$f":"IF(H775=\"\",\"\",IF('3 Irrigation Schedule'!$P$19<O775,'3 Irrigation Schedule'!$P$19,O775))","v":""},"",{"$f":"IF(H775=\"\",\"\",U775/'3 Irrigation Schedule'!$M$19)","v":""}]
[null,null,null,"2022","March","2022-03-13",null,"","",5.2153200000000011,"",0,"",{"$f":"IF(OR('3 Irrigation Schedule'!$C$29=\"\",'3 Irrigation Schedule'!$C$31=\"\",H776=\"\"),\"\",(('3 Irrigation Schedule'!$C$29-'3 Irrigation Schedule'!$C$31)/100)*1000*M776)","v":""},"",{"$f":"IF(H776=\"\",\"\",IF(H776=1,N776*(1-'3 Irrigation Schedule'!$C$27),S775-U775))","v":""},"","","",{"$f":"IF(H776=\"\",\"\",IF('3 Irrigation Schedule'!$P$19<O776,'3 Irrigation Schedule'!$P$19,O776))","v":""},"",{"$f":"IF(H776=\"\",\"\",U776/'3 Irrigation Schedule'!$M$19)","v":""}]
[null,null,null,"2022","March","2022-03-14",null,"","",5.2153200000000011,"",0,"",{"$f":"IF(OR('3 Irrigation Schedule'!$C$29=\"\",'3 Irrigation Schedule'!$C$31=\"\",H777=\"\"),\"\",(('3 Irrigation Schedule'!$C$29-'3 Irrigation Schedule'!$C$31)/100)*1000*M777)","v":""},"",{"$f":"IF(H777=\"\",\"\",IF(H777=1,N777*(1-'3 Irrigation Schedule'!$C$27),S776-U776))","v":""},"","","",{"$f":"IF(H777=\"\",\"\",IF('3 Irrigation Schedule'!$P$19<O777,'3 Irrigation Schedule'!$P$19,O777))","v":""},"",{"$f":"IF(H777=\"\",\"\",U777/'3 Irrigation Schedule'!$M$19)","v":""}]
[null,null,null,"2022","March","2022-03-15",null,"","",5.2153200000000011,"",0,"",{"$f":"IF(OR('3 Irrigation Schedule'!$C$29=\"\",'3 Irrigation Schedule'!$C$31=\"\",H778=\"\"),\"\",(('3 Irrigation Schedule'!$C$29-'3 Irrigation Schedule'!$C$31)/100)*1000*M778)","v":""},"",{"$f":"IF(H778=\"\",\"\",IF(H778=1,N778*(1-'3 Irrigation Schedule'!$C$27),S777-U777))","v":""},"","","",{"$f":"IF(H778=\"\",\"\",IF('3 Irrigation Schedule'!$P$19<O778,'3 Irrigation Schedule'!$P$19,O778))","v":""},"",{"$f":"IF(H778=\"\",\"\",U778/'3 Irrigation Schedule'!$M$19)","v":""}]
[null,null,null,"2022","March","2022-03-16",null,"","",5.2153200000000011,"",0,"",{"$f":"IF(OR('3 Irrigation Schedule'!$C$29=\"\",'3 Irrigation Schedule'!$C$31=\"\",H779=\"\"),\"\",(('3 Irrigation Schedule'!$C$29-'3 Irrigation Schedule'!$C$31)/100)*1000*M779)","v":""},"",{"$f":"IF(H779=\"\",\"\",IF(H779=1,N779*(1-'3 Irrigation Schedule'!$C$27),S778-U778))","v":""},"","","",{"$f":"IF(H779=\"\",\"\",IF('3 Irrigation Schedule'!$P$19<O779,'3 Irrigation Schedule'!$P$19,O779))","v":""},"",{"$f":"IF(H779=\"\",\"\",U779/'3 Irrigation Schedule'!$M$19)","v":""}]
[null,null,null,"2022","March","2022-03-17",null,"","",5.2153200000000011,"",0,"",{"$f":"IF(OR('3 Irrigation Schedule'!$C$29=\"\",'3 Irrigation Schedule'!$C$31=\"\",H780=\"\"),\"\",(('3 Irrigation Schedule'!$C$29-'3 Irrigation Schedule'!$C$31)/100)*1000*M780)","v":""},"",{"$f":"IF(H780=\"\",\"\",IF(H780=1,N780*(1-'3 Irrigation Schedule'!$C$27),S779-U779))","v":""},"","","",{"$f":"IF(H780=\"\",\"\",IF('3 Irrigation Schedule'!$P$19<O780,'3 Irrigation Schedule'!$P$19,O780))","v":""},"",{"$f":"IF(H780=\"\",\"\",U780/'3 Irrigation Schedule'!$M$19)","v":""}]
[null,null,null,"2022","March","2022-03-18",null,"","",5.2153200000000011,"",0,"",{"$f":"IF(OR('3 Irrigation Schedule'!$C$29=\"\",'3 Irrigation Schedule'!$C$31=\"\",H781=\"\"),\"\",(('3 Irrigation Schedule'!$C$29-'3 Irrigation Schedule'!$C$31)/100)*1000*M781)","v":""},"",{"$f":"IF(H781=\"\",\"\",IF(H781=1,N781*(1-'3 Irrigation Schedule'!$C$27),S780-U780))","v":""},"","","",{"$f":"IF(H781=\"\",\"\",IF('3 Irrigation Schedule'!$P$19<O781,'3 Irrigation Schedule'!$P$19,O781))","v":""},"",{"$f":"IF(H781=\"\",\"\",U781/'3 Irrigation Schedule'!$M$19)","v":""}]
[null,null,null,"2022","March","2022-03-19",null,"","",5.2153200000000011,"",0,"",{"$f":"IF(OR('3 Irrigation Schedule'!$C$29=\"\",'3 Irrigation Schedule'!$C$31=\"\",H782=\"\"),\"\",(('3 Irrigation Schedule'!$C$29-'3 Irrigation Schedule'!$C$31)/100)*1000*M782)","v":""},"",{"$f":"IF(H782=\"\",\"\",IF(H782=1,N782*(1-'3 Irrigation Schedule'!$C$27),S781-U781))","v":""},"","","",{"$f":"IF(H782=\"\",\"\",IF('3 Irrigation Schedule'!$P$19<O782,'3 Irrigation Schedule'!$P$19,O782))","v":""},"",{"$f":"IF(H782=\"\",\"\",U782/'3 Irrigation Schedule'!$M$19)","v":""}]
[null,null,null,"2022","March","2022-03-20",null,"","",5.2153200000000011,"",0,"",{"$f":"IF(OR('3 Irrigation Schedule'!$C$29=\"\",'3 Irrigation Schedule'!$C$31=\"\",H783=\"\"),\"\",(('3 Irrigation Schedule'!$C$29-'3 Irrigation Schedule'!$C$31)/100)*1000*M783)","v":""},"",{"$f":"IF(H783=\"\",\"\",IF(H783=1,N783*(1-'3 Irrigation Schedule'!$C$27),S782-U782))","v":""},"","","",{"$f":"IF(H783=\"\",\"\",IF('3 Irrigation Schedule'!$P$19<O783,'3 Irrigation Schedule'!$P$19,O783))","v":""},"",{"$f":"IF(H783=\"\",\"\",U783/'3 Irrigation Schedule'!$M$19)","v":""}]
[null,null,null,"2022","March","2022-03-21",null,"","",5.2153200000000011,"",0,"",{"$f":"IF(OR('3 Irrigation Schedule'!$C$29=\"\",'3 Irrigation Schedule'!$C$31=\"\",H784=\"\"),\"\",(('3 Irrigation Schedule'!$C$29-'3 Irrigation Schedule'!$C$31)/100)*1000*M784)","v":""},"",{"$f":"IF(H784=\"\",\"\",IF(H784=1,N784*(1-'3 Irrigation Schedule'!$C$27),S783-U783))","v":""},"","","",{"$f":"IF(H784=\"\",\"\",IF('3 Irrigation Schedule'!$P$19<O784,'3 Irrigation Schedule'!$P$19,O784))","v":""},"",{"$f":"IF(H784=\"\",\"\",U784/'3 Irrigation Schedule'!$M$19)","v":""}]
[null,null,null,"2022","March","2022-03-22",null,"","",5.2153200000000011,"",0,"",{"$f":"IF(OR('3 Irrigation Schedule'!$C$29=\"\",'3 Irrigation Schedule'!$C$31=\"\",H785=\"\"),\"\",(('3 Irrigation Schedule'!$C$29-'3 Irrigation Schedule'!$C$31)/100)*1000*M785)","v":""},"",{"$f":"IF(H785=\"\",\"\",IF(H785=1,N785*(1-'3 Irrigation Schedule'!$C$27),S784-U784))","v":""},"","","",{"$f":"IF(H785=\"\",\"\",IF('3 Irrigation Schedule'!$P$19<O785,'3 Irrigation Schedule'!$P$19,O785))","v":""},"",{"$f":"IF(H785=\"\",\"\",U785/'3 Irrigation Schedule'!$M$19)","v":""}]
[null,null,null,"2022","March","2022-03-23",null,"","",5.2153200000000011,"",0,"",{"$f":"IF(OR('3 Irrigation Schedule'!$C$29=\"\",'3 Irrigation Schedule'!$C$31=\"\",H786=\"\"),\"\",(('3 Irrigation Schedule'!$C$29-'3 Irrigation Schedule'!$C$31)/100)*1000*M786)","v":""},"",{"$f":"IF(H786=\"\",\"\",IF(H786=1,N786*(1-'3 Irrigation Schedule'!$C$27),S785-U785))","v":""},"","","",{"$f":"IF(H786=\"\",\"\",IF('3 Irrigation Schedule'!$P$19<O786,'3 Irrigation Schedule'!$P$19,O786))","v":""},"",{"$f":"IF(H786=\"\",\"\",U786/'3 Irrigation Schedule'!$M$19)","v":""}]
[null,null,null,"2022","March","2022-03-24",null,"","",5.2153200000000011,"",0,"",{"$f":"IF(OR('3 Irrigation Schedule'!$C$29=\"\",'3 Irrigation Schedule'!$C$31=\"\",H787=\"\"),\"\",(('3 Irrigation Schedule'!$C$29-'3 Irrigation Schedule'!$C$31)/100)*1000*M787)","v":""},"",{"$f":"IF(H787=\"\",\"\",IF(H787=1,N787*(1-'3 Irrigation Schedule'!$C$27),S786-U786))","v":""},"","","",{"$f":"IF(H787=\"\",\"\",IF('3 Irrigation Schedule'!$P$19<O787,'3 Irrigation Schedule'!$P$19,O787))","v":""},"",{"$f":"IF(H787=\"\",\"\",U787/'3 Irrigation Schedule'!$M$19)","v":""}]
[null,null,null,"2022","March","2022-03-25",null,"","",5.2153200000000011,"",0,"",{"$f":"IF(OR('3 Irrigation Schedule'!$C$29=\"\",'3 Irrigation Schedule'!$C$31=\"\",H788=\"\"),\"\",(('3 Irrigation Schedule'!$C$29-'3 Irrigation Schedule'!$C$31)/100)*1000*M788)","v":""},"",{"$f":"IF(H788=\"\",\"\",IF(H788=1,N788*(1-'3 Irrigation Schedule'!$C$27),S787-U787))","v":""},"","","",{"$f":"IF(H788=\"\",\"\",IF('3 Irrigation Schedule'!$P$19<O788,'3 Irrigation Schedule'!$P$19,O788))","v":""},"",{"$f":"IF(H788=\"\",\"\",U788/'3 Irrigation Schedule'!$M$19)","v":""}]
[null,null,null,"2022","March","2022-03-26",null,"","",5.2153200000000011,"",0,"",{"$f":"IF(OR('3 Irrigation Schedule'!$C$29=\"\",'3 Irrigation Schedule'!$C$31=\"\",H789=\"\"),\"\",(('3 Irrigation Schedule'!$C$29-'3 Irrigation Schedule'!$C$31)/100)*1000*M789)","v":""},"",{"$f":"IF(H789=\"\",\"\",IF(H789=1,N789*(1-'3 Irrigation Schedule'!$C$27),S788-U788))","v":""},"","","",{"$f":"IF(H789=\"\",\"\",IF('3 Irrigation Schedule'!$P$19<O789,'3 Irrigation Schedule'!$P$19,O789))","v":""},"",{"$f":"IF(H789=\"\",\"\",U789/'3 Irrigation Schedule'!$M$19)","v":""}]
[null,null,null,"2022","March","2022-03-27",null,"","",5.2153200000000011,"",0,"",{"$f":"IF(OR('3 Irrigation Schedule'!$C$29=\"\",'3 Irrigation Schedule'!$C$31=\"\",H790=\"\"),\"\",(('3 Irrigation Schedule'!$C$29-'3 Irrigation Schedule'!$C$31)/100)*1000*M790)","v":""},"",{"$f":"IF(H790=\"\",\"\",IF(H790=1,N790*(1-'3 Irrigation Schedule'!$C$27),S789-U789))","v":""},"","","",{"$f":"IF(H790=\"\",\"\",IF('3 Irrigation Schedule'!$P$19<O790,'3 Irrigation Schedule'!$P$19,O790))","v":""},"",{"$f":"IF(H790=\"\",\"\",U790/'3 Irrigation Schedule'!$M$19)","v":""}]
[null,null,null,"2022","March","2022-03-28",null,"","",5.2153200000000011,"",0,"",{"$f":"IF(OR('3 Irrigation Schedule'!$C$29=\"\",'3 Irrigation Schedule'!$C$31=\"\",H791=\"\"),\"\",(('3 Irrigation Schedule'!$C$29-'3 Irrigation Schedule'!$C$31)/100)*1000*M791)","v":""},"",{"$f":"IF(H791=\"\",\"\",IF(H791=1,N791*(1-'3 Irrigation Schedule'!$C$27),S790-U790))","v":""},"","","",{"$f":"IF(H791=\"\",\"\",IF('3 Irrigation Schedule'!$P$19<O791,'3 Irrigation Schedule'!$P$19,O791))","v":""},"",{"$f":"IF(H791=\"\",\"\",U791/'3 Irrigation Schedule'!$M$19)","v":""}]
[null,null,null,"2022","March","2022-03-29",null,"","",5.2153200000000011,"",0,"",{"$f":"IF(OR('3 Irrigation Schedule'!$C$29=\"\",'3 Irrigation Schedule'!$C$31=\"\",H792=\"\"),\"\",(('3 Irrigation Schedule'!$C$29-'3 Irrigation Schedule'!$C$31)/100)*1000*M792)","v":""},"",{"$f":"IF(H792=\"\",\"\",IF(H792=1,N792*(1-'3 Irrigation Schedule'!$C$27),S791-U791))","v":""},"","","",{"$f":"IF(H792=\"\",\"\",IF('3 Irrigation Schedule'!$P$19<O792,'3 Irrigation Schedule'!$P$19,O792))","v":""},"",{"$f":"IF(H792=\"\",\"\",U792/'3 Irrigation Schedule'!$M$19)","v":""}]
[null,null,null,"2022","March","2022-03-30",null,"","",5.2153200000000011,"",0,"",{"$f":"IF(OR('3 Irrigation Schedule'!$C$29=\"\",'3 Irrigation Schedule'!$C$31=\"\",H793=\"\"),\"\",(('3 Irrigation Schedule'!$C$29-'3 Irrigation Schedule'!$C$31)/100)*1000*M793)","v":""},"",{"$f":"IF(H793=\"\",\"\",IF(H793=1,N793*(1-'3 Irrigation Schedule'!$C$27),S792-U792))","v":""},"","","",{"$f":"IF(H793=\"\",\"\",IF('3 Irrigation Schedule'!$P$19<O793,'3 Irrigation Schedule'!$P$19,O793))","v":""},"",{"$f":"IF(H793=\"\",\"\",U793/'3 Irrigation Schedule'!$M$19)","v":""}]
[null,null,null,"2022","March","2022-03-31",null,"","",5.2153200000000011,"",0,"",{"$f":"IF(OR('3 Irrigation Schedule'!$C$29=\"\",'3 Irrigation Schedule'!$C$31=\"\",H794=\"\"),\"\",(('3 Irrigation Schedule'!$C$29-'3 Irrigation Schedule'!$C$31)/100)*1000*M794)","v":""},"",{"$f":"IF(H794=\"\",\"\",IF(H794=1,N794*(1-'3 Irrigation Schedule'!$C$27),S793-U793))","v":""},"","","",{"$f":"IF(H794=\"\",\"\",IF('3 Irrigation Schedule'!$P$19<O794,'3 Irrigation Schedule'!$P$19,O794))","v":""},"",{"$f":"IF(H794=\"\",\"\",U794/'3 Irrigation Schedule'!$M$19)","v":""}]
[null,null,null,"2022","April","2022-04-01",null,"","",5.3054400000000008,"",0,"",{"$f":"IF(OR('3 Irrigation Schedule'!$C$29=\"\",'3 Irrigation Schedule'!$C$31=\"\",H795=\"\"),\"\",(('3 Irrigation Schedule'!$C$29-'3 Irrigation Schedule'!$C$31)/100)*1000*M795)","v":""},"",{"$f":"IF(H795=\"\",\"\",IF(H795=1,N795*(1-'3 Irrigation Schedule'!$C$27),S794-U794))","v":""},"","","",{"$f":"IF(H795=\"\",\"\",IF('3 Irrigation Schedule'!$P$19<O795,'3 Irrigation Schedule'!$P$19,O795))","v":""},"",{"$f":"IF(H795=\"\",\"\",U795/'3 Irrigation Schedule'!$M$19)","v":""}]
[null,null,null,"2022","April","2022-04-02",null,"","",5.3054400000000008,"",0,"",{"$f":"IF(OR('3 Irrigation Schedule'!$C$29=\"\",'3 Irrigation Schedule'!$C$31=\"\",H796=\"\"),\"\",(('3 Irrigation Schedule'!$C$29-'3 Irrigation Schedule'!$C$31)/100)*1000*M796)","v":""},"",{"$f":"IF(H796=\"\",\"\",IF(H796=1,N796*(1-'3 Irrigation Schedule'!$C$27),S795-U795))","v":""},"","","",{"$f":"IF(H796=\"\",\"\",IF('3 Irrigation Schedule'!$P$19<O796,'3 Irrigation Schedule'!$P$19,O796))","v":""},"",{"$f":"IF(H796=\"\",\"\",U796/'3 Irrigation Schedule'!$M$19)","v":""}]
[null,null,null,"2022","April","2022-04-03",null,"","",5.3054400000000008,"",0,"",{"$f":"IF(OR('3 Irrigation Schedule'!$C$29=\"\",'3 Irrigation Schedule'!$C$31=\"\",H797=\"\"),\"\",(('3 Irrigation Schedule'!$C$29-'3 Irrigation Schedule'!$C$31)/100)*1000*M797)","v":""},"",{"$f":"IF(H797=\"\",\"\",IF(H797=1,N797*(1-'3 Irrigation Schedule'!$C$27),S796-U796))","v":""},"","","",{"$f":"IF(H797=\"\",\"\",IF('3 Irrigation Schedule'!$P$19<O797,'3 Irrigation Schedule'!$P$19,O797))","v":""},"",{"$f":"IF(H797=\"\",\"\",U797/'3 Irrigation Schedule'!$M$19)","v":""}]
[null,null,null,"2022","April","2022-04-04",null,"","",5.3054400000000008,"",0,"",{"$f":"IF(OR('3 Irrigation Schedule'!$C$29=\"\",'3 Irrigation Schedule'!$C$31=\"\",H798=\"\"),\"\",(('3 Irrigation Schedule'!$C$29-'3 Irrigation Schedule'!$C$31)/100)*1000*M798)","v":""},"",{"$f":"IF(H798=\"\",\"\",IF(H798=1,N798*(1-'3 Irrigation Schedule'!$C$27),S797-U797))","v":""},"","","",{"$f":"IF(H798=\"\",\"\",IF('3 Irrigation Schedule'!$P$19<O798,'3 Irrigation Schedule'!$P$19,O798))","v":""},"",{"$f":"IF(H798=\"\",\"\",U798/'3 Irrigation Schedule'!$M$19)","v":""}]
[null,null,null,"2022","April","2022-04-05",null,"","",5.3054400000000008,"",0,"",{"$f":"IF(OR('3 Irrigation Schedule'!$C$29=\"\",'3 Irrigation Schedule'!$C$31=\"\",H799=\"\"),\"\",(('3 Irrigation Schedule'!$C$29-'3 Irrigation Schedule'!$C$31)/100)*1000*M799)","v":""},"",{"$f":"IF(H799=\"\",\"\",IF(H799=1,N799*(1-'3 Irrigation Schedule'!$C$27),S798-U798))","v":""},"","","",{"$f":"IF(H799=\"\",\"\",IF('3 Irrigation Schedule'!$P$19<O799,'3 Irrigation Schedule'!$P$19,O799))","v":""},"",{"$f":"IF(H799=\"\",\"\",U799/'3 Irrigation Schedule'!$M$19)","v":""}]
[null,null,null,"2022","April","2022-04-06",null,"","",5.3054400000000008,"",0,"",{"$f":"IF(OR('3 Irrigation Schedule'!$C$29=\"\",'3 Irrigation Schedule'!$C$31=\"\",H800=\"\"),\"\",(('3 Irrigation Schedule'!$C$29-'3 Irrigation Schedule'!$C$31)/100)*1000*M800)","v":""},"",{"$f":"IF(H800=\"\",\"\",IF(H800=1,N800*(1-'3 Irrigation Schedule'!$C$27),S799-U799))","v":""},"","","",{"$f":"IF(H800=\"\",\"\",IF('3 Irrigation Schedule'!$P$19<O800,'3 Irrigation Schedule'!$P$19,O800))","v":""},"",{"$f":"IF(H800=\"\",\"\",U800/'3 Irrigation Schedule'!$M$19)","v":""}]
[null,null,null,"2022","April","2022-04-07",null,"","",5.3054400000000008,"",0,"",{"$f":"IF(OR('3 Irrigation Schedule'!$C$29=\"\",'3 Irrigation Schedule'!$C$31=\"\",H801=\"\"),\"\",(('3 Irrigation Schedule'!$C$29-'3 Irrigation Schedule'!$C$31)/100)*1000*M801)","v":""},"",{"$f":"IF(H801=\"\",\"\",IF(H801=1,N801*(1-'3 Irrigation Schedule'!$C$27),S800-U800))","v":""},"","","",{"$f":"IF(H801=\"\",\"\",IF('3 Irrigation Schedule'!$P$19<O801,'3 Irrigation Schedule'!$P$19,O801))","v":""},"",{"$f":"IF(H801=\"\",\"\",U801/'3 Irrigation Schedule'!$M$19)","v":""}]
[null,null,null,{"$f":"IFERROR(TEXT(DATE(YEAR($F802),MONTH($F802),1),$D$7&$D$4),\"\")","v":"2022"},{"$f":"IFERROR(TEXT(DATE(YEAR($F802),MONTH($F802),1),$D$7&$D$5),\"\")","v":"April"},"2022-04-08",null,"","",{"$f":"IFERROR(VLOOKUP($E802,$B$19:$C$30,2,FALSE),\"\")","v":5.3054400000000008},"",0,"",{"$f":"IF(OR('3 Irrigation Schedule'!$C$29=\"\",'3 Irrigation Schedule'!$C$31=\"\",H802=\"\"),\"\",(('3 Irrigation Schedule'!$C$29-'3 Irrigation Schedule'!$C$31)/100)*1000*M802)","v":""},"",{"$f":"IF(H802=\"\",\"\",IF(H802=1,N802*(1-'3 Irrigation Schedule'!$C$27),S801-U801))","v":""},"","","",{"$f":"IF(H802=\"\",\"\",IF('3 Irrigation Schedule'!$P$19<O802,'3 Irrigation Schedule'!$P$19,O802))","v":""},"",{"$f":"IF(H802=\"\",\"\",U802/'3 Irrigation Schedule'!$M$19)","v":""}]
[null,null,null,"2022","April",{"$f":"IFERROR(IF(F802+1<=$N$7, F802+1,\"\"),\"\")","v":"2022-04-09"},null,{"$f":"IFERROR(IF(OR($F803-$J$27+1<=0,$F803>$K$30),\"\",$F803-$J$27+1),\"\")","v":""},"",5.3054400000000008,"",0,"",{"$f":"IF(OR('3 Irrigation Schedule'!$C$29=\"\",'3 Irrigation Schedule'!$C$31=\"\",H803=\"\"),\"\",(('3 Irrigation Schedule'!$C$29-'3 Irrigation Schedule'!$C$31)/100)*1000*M803)","v":""},"",{"$f":"IF(H803=\"\",\"\",IF(H803=1,N803*(1-'3 Irrigation Schedule'!$C$27),S802-U802))","v":""},"","","",{"$f":"IF(H803=\"\",\"\",IF('3 Irrigation Schedule'!$P$19<O803,'3 Irrigation Schedule'!$P$19,O803))","v":""},"",{"$f":"IF(H803=\"\",\"\",U803/'3 Irrigation Schedule'!$M$19)","v":""}]
[null,null,null,"2022","April","2022-04-10",null,"","",5.3054400000000008,"",0,"",{"$f":"IF(OR('3 Irrigation Schedule'!$C$29=\"\",'3 Irrigation Schedule'!$C$31=\"\",H804=\"\"),\"\",(('3 Irrigation Schedule'!$C$29-'3 Irrigation Schedule'!$C$31)/100)*1000*M804)","v":""},"",{"$f":"IF(H804=\"\",\"\",IF(H804=1,N804*(1-'3 Irrigation Schedule'!$C$27),S803-U803))","v":""},"","","",{"$f":"IF(H804=\"\",\"\",IF('3 Irrigation Schedule'!$P$19<O804,'3 Irrigation Schedule'!$P$19,O804))","v":""},"",{"$f":"IF(H804=\"\",\"\",U804/'3 Irrigation Schedule'!$M$19)","v":""}]
[null,null,null,"2022","April","2022-04-11",null,"","",5.3054400000000008,"",0,"",{"$f":"IF(OR('3 Irrigation Schedule'!$C$29=\"\",'3 Irrigation Schedule'!$C$31=\"\",H805=\"\"),\"\",(('3 Irrigation Schedule'!$C$29-'3 Irrigation Schedule'!$C$31)/100)*1000*M805)","v":""},"",{"$f":"IF(H805=\"\",\"\",IF(H805=1,N805*(1-'3 Irrigation Schedule'!$C$27),S804-U804))","v":""},"","","",{"$f":"IF(H805=\"\",\"\",IF('3 Irrigation Schedule'!$P$19<O805,'3 Irrigation Schedule'!$P$19,O805))","v":""},"",{"$f":"IF(H805=\"\",\"\",U805/'3 Irrigation Schedule'!$M$19)","v":""}]
[null,null,null,"2022","April","2022-04-12",null,"","",5.3054400000000008,"",0,"",{"$f":"IF(OR('3 Irrigation Schedule'!$C$29=\"\",'3 Irrigation Schedule'!$C$31=\"\",H806=\"\"),\"\",(('3 Irrigation Schedule'!$C$29-'3 Irrigation Schedule'!$C$31)/100)*1000*M806)","v":""},"",{"$f":"IF(H806=\"\",\"\",IF(H806=1,N806*(1-'3 Irrigation Schedule'!$C$27),S805-U805))","v":""},"","","",{"$f":"IF(H806=\"\",\"\",IF('3 Irrigation Schedule'!$P$19<O806,'3 Irrigation Schedule'!$P$19,O806))","v":""},"",{"$f":"IF(H806=\"\",\"\",U806/'3 Irrigation Schedule'!$M$19)","v":""}]
[null,null,null,"2022","April","2022-04-13",null,"","",5.3054400000000008,"",0,"",{"$f":"IF(OR('3 Irrigation Schedule'!$C$29=\"\",'3 Irrigation Schedule'!$C$31=\"\",H807=\"\"),\"\",(('3 Irrigation Schedule'!$C$29-'3 Irrigation Schedule'!$C$31)/100)*1000*M807)","v":""},"",{"$f":"IF(H807=\"\",\"\",IF(H807=1,N807*(1-'3 Irrigation Schedule'!$C$27),S806-U806))","v":""},"","","",{"$f":"IF(H807=\"\",\"\",IF('3 Irrigation Schedule'!$P$19<O807,'3 Irrigation Schedule'!$P$19,O807))","v":""},"",{"$f":"IF(H807=\"\",\"\",U807/'3 Irrigation Schedule'!$M$19)","v":""}]
[null,null,null,"2022","April","2022-04-14",null,"","",5.3054400000000008,"",0,"",{"$f":"IF(OR('3 Irrigation Schedule'!$C$29=\"\",'3 Irrigation Schedule'!$C$31=\"\",H808=\"\"),\"\",(('3 Irrigation Schedule'!$C$29-'3 Irrigation Schedule'!$C$31)/100)*1000*M808)","v":""},"",{"$f":"IF(H808=\"\",\"\",IF(H808=1,N808*(1-'3 Irrigation Schedule'!$C$27),S807-U807))","v":""},"","","",{"$f":"IF(H808=\"\",\"\",IF('3 Irrigation Schedule'!$P$19<O808,'3 Irrigation Schedule'!$P$19,O808))","v":""},"",{"$f":"IF(H808=\"\",\"\",U808/'3 Irrigation Schedule'!$M$19)","v":""}]
[null,null,null,"2022","April","2022-04-15",null,"","",5.3054400000000008,"",0,"",{"$f":"IF(OR('3 Irrigation Schedule'!$C$29=\"\",'3 Irrigation Schedule'!$C$31=\"\",H809=\"\"),\"\",(('3 Irrigation Schedule'!$C$29-'3 Irrigation Schedule'!$C$31)/100)*1000*M809)","v":""},"",{"$f":"IF(H809=\"\",\"\",IF(H809=1,N809*(1-'3 Irrigation Schedule'!$C$27),S808-U808))","v":""},"","","",{"$f":"IF(H809=\"\",\"\",IF('3 Irrigation Schedule'!$P$19<O809,'3 Irrigation Schedule'!$P$19,O809))","v":""},"",{"$f":"IF(H809=\"\",\"\",U809/'3 Irrigation Schedule'!$M$19)","v":""}]
[null,null,null,"2022","April","2022-04-16",null,"","",5.3054400000000008,"",0,"",{"$f":"IF(OR('3 Irrigation Schedule'!$C$29=\"\",'3 Irrigation Schedule'!$C$31=\"\",H810=\"\"),\"\",(('3 Irrigation Schedule'!$C$29-'3 Irrigation Schedule'!$C$31)/100)*1000*M810)","v":""},"",{"$f":"IF(H810=\"\",\"\",IF(H810=1,N810*(1-'3 Irrigation Schedule'!$C$27),S809-U809))","v":""},"","","",{"$f":"IF(H810=\"\",\"\",IF('3 Irrigation Schedule'!$P$19<O810,'3 Irrigation Schedule'!$P$19,O810))","v":""},"",{"$f":"IF(H810=\"\",\"\",U810/'3 Irrigation Schedule'!$M$19)","v":""}]
[null,null,null,"2022","April","2022-04-17",null,"","",5.3054400000000008,"",0,"",{"$f":"IF(OR('3 Irrigation Schedule'!$C$29=\"\",'3 Irrigation Schedule'!$C$31=\"\",H811=\"\"),\"\",(('3 Irrigation Schedule'!$C$29-'3 Irrigation Schedule'!$C$31)/100)*1000*M811)","v":""},"",{"$f":"IF(H811=\"\",\"\",IF(H811=1,N811*(1-'3 Irrigation Schedule'!$C$27),S810-U810))","v":""},"","","",{"$f":"IF(H811=\"\",\"\",IF('3 Irrigation Schedule'!$P$19<O811,'3 Irrigation Schedule'!$P$19,O811))","v":""},"",{"$f":"IF(H811=\"\",\"\",U811/'3 Irrigation Schedule'!$M$19)","v":""}]
[null,null,null,"2022","April","2022-04-18",null,"","",5.3054400000000008,"",0,"",{"$f":"IF(OR('3 Irrigation Schedule'!$C$29=\"\",'3 Irrigation Schedule'!$C$31=\"\",H812=\"\"),\"\",(('3 Irrigation Schedule'!$C$29-'3 Irrigation Schedule'!$C$31)/100)*1000*M812)","v":""},"",{"$f":"IF(H812=\"\",\"\",IF(H812=1,N812*(1-'3 Irrigation Schedule'!$C$27),S811-U811))","v":""},"","","",{"$f":"IF(H812=\"\",\"\",IF('3 Irrigation Schedule'!$P$19<O812,'3 Irrigation Schedule'!$P$19,O812))","v":""},"",{"$f":"IF(H812=\"\",\"\",U812/'3 Irrigation Schedule'!$M$19)","v":""}]
[null,null,null,"2022","April","2022-04-19",null,"","",5.3054400000000008,"",0,"",{"$f":"IF(OR('3 Irrigation Schedule'!$C$29=\"\",'3 Irrigation Schedule'!$C$31=\"\",H813=\"\"),\"\",(('3 Irrigation Schedule'!$C$29-'3 Irrigation Schedule'!$C$31)/100)*1000*M813)","v":""},"",{"$f":"IF(H813=\"\",\"\",IF(H813=1,N813*(1-'3 Irrigation Schedule'!$C$27),S812-U812))","v":""},"","","",{"$f":"IF(H813=\"\",\"\",IF('3 Irrigation Schedule'!$P$19<O813,'3 Irrigation Schedule'!$P$19,O813))","v":""},"",{"$f":"IF(H813=\"\",\"\",U813/'3 Irrigation Schedule'!$M$19)","v":""}]
[null,null,null,"2022","April","2022-04-20",null,"","",5.3054400000000008,"",0,"",{"$f":"IF(OR('3 Irrigation Schedule'!$C$29=\"\",'3 Irrigation Schedule'!$C$31=\"\",H814=\"\"),\"\",(('3 Irrigation Schedule'!$C$29-'3 Irrigation Schedule'!$C$31)/100)*1000*M814)","v":""},"",{"$f":"IF(H814=\"\",\"\",IF(H814=1,N814*(1-'3 Irrigation Schedule'!$C$27),S813-U813))","v":""},"","","",{"$f":"IF(H814=\"\",\"\",IF('3 Irrigation Schedule'!$P$19<O814,'3 Irrigation Schedule'!$P$19,O814))","v":""},"",{"$f":"IF(H814=\"\",\"\",U814/'3 Irrigation Schedule'!$M$19)","v":""}]
[null,null,null,"2022","April","2022-04-21",null,"","",5.3054400000000008,"",0,"",{"$f":"IF(OR('3 Irrigation Schedule'!$C$29=\"\",'3 Irrigation Schedule'!$C$31=\"\",H815=\"\"),\"\",(('3 Irrigation Schedule'!$C$29-'3 Irrigation Schedule'!$C$31)/100)*1000*M815)","v":""},"",{"$f":"IF(H815=\"\",\"\",IF(H815=1,N815*(1-'3 Irrigation Schedule'!$C$27),S814-U814))","v":""},"","","",{"$f":"IF(H815=\"\",\"\",IF('3 Irrigation Schedule'!$P$19<O815,'3 Irrigation Schedule'!$P$19,O815))","v":""},"",{"$f":"IF(H815=\"\",\"\",U815/'3 Irrigation Schedule'!$M$19)","v":""}]
[null,null,null,"2022","April","2022-04-22",null,"","",5.3054400000000008,"",0,"",{"$f":"IF(OR('3 Irrigation Schedule'!$C$29=\"\",'3 Irrigation Schedule'!$C$31=\"\",H816=\"\"),\"\",(('3 Irrigation Schedule'!$C$29-'3 Irrigation Schedule'!$C$31)/100)*1000*M816)","v":""},"",{"$f":"IF(H816=\"\",\"\",IF(H816=1,N816*(1-'3 Irrigation Schedule'!$C$27),S815-U815))","v":""},"","","",{"$f":"IF(H816=\"\",\"\",IF('3 Irrigation Schedule'!$P$19<O816,'3 Irrigation Schedule'!$P$19,O816))","v":""},"",{"$f":"IF(H816=\"\",\"\",U816/'3 Irrigation Schedule'!$M$19)","v":""}]
[null,null,null,"2022","April","2022-04-23",null,"","",5.3054400000000008,"",0,"",{"$f":"IF(OR('3 Irrigation Schedule'!$C$29=\"\",'3 Irrigation Schedule'!$C$31=\"\",H817=\"\"),\"\",(('3 Irrigation Schedule'!$C$29-'3 Irrigation Schedule'!$C$31)/100)*1000*M817)","v":""},"",{"$f":"IF(H817=\"\",\"\",IF(H817=1,N817*(1-'3 Irrigation Schedule'!$C$27),S816-U816))","v":""},"","","",{"$f":"IF(H817=\"\",\"\",IF('3 Irrigation Schedule'!$P$19<O817,'3 Irrigation Schedule'!$P$19,O817))","v":""},"",{"$f":"IF(H817=\"\",\"\",U817/'3 Irrigation Schedule'!$M$19)","v":""}]
[null,null,null,"2022","April","2022-04-24",null,"","",5.3054400000000008,"",0,"",{"$f":"IF(OR('3 Irrigation Schedule'!$C$29=\"\",'3 Irrigation Schedule'!$C$31=\"\",H818=\"\"),\"\",(('3 Irrigation Schedule'!$C$29-'3 Irrigation Schedule'!$C$31)/100)*1000*M818)","v":""},"",{"$f":"IF(H818=\"\",\"\",IF(H818=1,N818*(1-'3 Irrigation Schedule'!$C$27),S817-U817))","v":""},"","","",{"$f":"IF(H818=\"\",\"\",IF('3 Irrigation Schedule'!$P$19<O818,'3 Irrigation Schedule'!$P$19,O818))","v":""},"",{"$f":"IF(H818=\"\",\"\",U818/'3 Irrigation Schedule'!$M$19)","v":""}]
[null,null,null,"2022","April","2022-04-25",null,"","",5.3054400000000008,"",0,"",{"$f":"IF(OR('3 Irrigation Schedule'!$C$29=\"\",'3 Irrigation Schedule'!$C$31=\"\",H819=\"\"),\"\",(('3 Irrigation Schedule'!$C$29-'3 Irrigation Schedule'!$C$31)/100)*1000*M819)","v":""},"",{"$f":"IF(H819=\"\",\"\",IF(H819=1,N819*(1-'3 Irrigation Schedule'!$C$27),S818-U818))","v":""},"","","",{"$f":"IF(H819=\"\",\"\",IF('3 Irrigation Schedule'!$P$19<O819,'3 Irrigation Schedule'!$P$19,O819))","v":""},"",{"$f":"IF(H819=\"\",\"\",U819/'3 Irrigation Schedule'!$M$19)","v":""}]
[null,null,null,"2022","April","2022-04-26",null,"","",5.3054400000000008,"",0,"",{"$f":"IF(OR('3 Irrigation Schedule'!$C$29=\"\",'3 Irrigation Schedule'!$C$31=\"\",H820=\"\"),\"\",(('3 Irrigation Schedule'!$C$29-'3 Irrigation Schedule'!$C$31)/100)*1000*M820)","v":""},"",{"$f":"IF(H820=\"\",\"\",IF(H820=1,N820*(1-'3 Irrigation Schedule'!$C$27),S819-U819))","v":""},"","","",{"$f":"IF(H820=\"\",\"\",IF('3 Irrigation Schedule'!$P$19<O820,'3 Irrigation Schedule'!$P$19,O820))","v":""},"",{"$f":"IF(H820=\"\",\"\",U820/'3 Irrigation Schedule'!$M$19)","v":""}]
[null,null,null,"2022","April","2022-04-27",null,"","",5.3054400000000008,"",0,"",{"$f":"IF(OR('3 Irrigation Schedule'!$C$29=\"\",'3 Irrigation Schedule'!$C$31=\"\",H821=\"\"),\"\",(('3 Irrigation Schedule'!$C$29-'3 Irrigation Schedule'!$C$31)/100)*1000*M821)","v":""},"",{"$f":"IF(H821=\"\",\"\",IF(H821=1,N821*(1-'3 Irrigation Schedule'!$C$27),S820-U820))","v":""},"","","",{"$f":"IF(H821=\"\",\"\",IF('3 Irrigation Schedule'!$P$19<O821,'3 Irrigation Schedule'!$P$19,O821))","v":""},"",{"$f":"IF(H821=\"\",\"\",U821/'3 Irrigation Schedule'!$M$19)","v":""}]
[null,null,null,"2022","April","2022-04-28",null,"","",5.3054400000000008,"",0,"",{"$f":"IF(OR('3 Irrigation Schedule'!$C$29=\"\",'3 Irrigation Schedule'!$C$31=\"\",H822=\"\"),\"\",(('3 Irrigation Schedule'!$C$29-'3 Irrigation Schedule'!$C$31)/100)*1000*M822)","v":""},"",{"$f":"IF(H822=\"\",\"\",IF(H822=1,N822*(1-'3 Irrigation Schedule'!$C$27),S821-U821))","v":""},"","","",{"$f":"IF(H822=\"\",\"\",IF('3 Irrigation Schedule'!$P$19<O822,'3 Irrigation Schedule'!$P$19,O822))","v":""},"",{"$f":"IF(H822=\"\",\"\",U822/'3 Irrigation Schedule'!$M$19)","v":""}]
[null,null,null,"2022","April","2022-04-29",null,"","",5.3054400000000008,"",0,"",{"$f":"IF(OR('3 Irrigation Schedule'!$C$29=\"\",'3 Irrigation Schedule'!$C$31=\"\",H823=\"\"),\"\",(('3 Irrigation Schedule'!$C$29-'3 Irrigation Schedule'!$C$31)/100)*1000*M823)","v":""},"",{"$f":"IF(H823=\"\",\"\",IF(H823=1,N823*(1-'3 Irrigation Schedule'!$C$27),S822-U822))","v":""},"","","",{"$f":"IF(H823=\"\",\"\",IF('3 Irrigation Schedule'!$P$19<O823,'3 Irrigation Schedule'!$P$19,O823))","v":""},"",{"$f":"IF(H823=\"\",\"\",U823/'3 Irrigation Schedule'!$M$19)","v":""}]
[null,null,null,"2022","April","2022-04-30",null,"","",5.3054400000000008,"",0,"",{"$f":"IF(OR('3 Irrigation Schedule'!$C$29=\"\",'3 Irrigation Schedule'!$C$31=\"\",H824=\"\"),\"\",(('3 Irrigation Schedule'!$C$29-'3 Irrigation Schedule'!$C$31)/100)*1000*M824)","v":""},"",{"$f":"IF(H824=\"\",\"\",IF(H824=1,N824*(1-'3 Irrigation Schedule'!$C$27),S823-U823))","v":""},"","","",{"$f":"IF(H824=\"\",\"\",IF('3 Irrigation Schedule'!$P$19<O824,'3 Irrigation Schedule'!$P$19,O824))","v":""},"",{"$f":"IF(H824=\"\",\"\",U824/'3 Irrigation Schedule'!$M$19)","v":""}]
[null,null,null,"2022","May","2022-05-01",null,"","",5.3183200000000008,"",0,"",{"$f":"IF(OR('3 Irrigation Schedule'!$C$29=\"\",'3 Irrigation Schedule'!$C$31=\"\",H825=\"\"),\"\",(('3 Irrigation Schedule'!$C$29-'3 Irrigation Schedule'!$C$31)/100)*1000*M825)","v":""},"",{"$f":"IF(H825=\"\",\"\",IF(H825=1,N825*(1-'3 Irrigation Schedule'!$C$27),S824-U824))","v":""},"","","",{"$f":"IF(H825=\"\",\"\",IF('3 Irrigation Schedule'!$P$19<O825,'3 Irrigation Schedule'!$P$19,O825))","v":""},"",{"$f":"IF(H825=\"\",\"\",U825/'3 Irrigation Schedule'!$M$19)","v":""}]
[null,null,null,"2022","May","2022-05-02",null,"","",5.3183200000000008,"",0,"",{"$f":"IF(OR('3 Irrigation Schedule'!$C$29=\"\",'3 Irrigation Schedule'!$C$31=\"\",H826=\"\"),\"\",(('3 Irrigation Schedule'!$C$29-'3 Irrigation Schedule'!$C$31)/100)*1000*M826)","v":""},"",{"$f":"IF(H826=\"\",\"\",IF(H826=1,N826*(1-'3 Irrigation Schedule'!$C$27),S825-U825))","v":""},"","","",{"$f":"IF(H826=\"\",\"\",IF('3 Irrigation Schedule'!$P$19<O826,'3 Irrigation Schedule'!$P$19,O826))","v":""},"",{"$f":"IF(H826=\"\",\"\",U826/'3 Irrigation Schedule'!$M$19)","v":""}]
[null,null,null,"2022","May","2022-05-03",null,"","",5.3183200000000008,"",0,"",{"$f":"IF(OR('3 Irrigation Schedule'!$C$29=\"\",'3 Irrigation Schedule'!$C$31=\"\",H827=\"\"),\"\",(('3 Irrigation Schedule'!$C$29-'3 Irrigation Schedule'!$C$31)/100)*1000*M827)","v":""},"",{"$f":"IF(H827=\"\",\"\",IF(H827=1,N827*(1-'3 Irrigation Schedule'!$C$27),S826-U826))","v":""},"","","",{"$f":"IF(H827=\"\",\"\",IF('3 Irrigation Schedule'!$P$19<O827,'3 Irrigation Schedule'!$P$19,O827))","v":""},"",{"$f":"IF(H827=\"\",\"\",U827/'3 Irrigation Schedule'!$M$19)","v":""}]
[null,null,null,"2022","May","2022-05-04",null,"","",5.3183200000000008,"",0,"",{"$f":"IF(OR('3 Irrigation Schedule'!$C$29=\"\",'3 Irrigation Schedule'!$C$31=\"\",H828=\"\"),\"\",(('3 Irrigation Schedule'!$C$29-'3 Irrigation Schedule'!$C$31)/100)*1000*M828)","v":""},"",{"$f":"IF(H828=\"\",\"\",IF(H828=1,N828*(1-'3 Irrigation Schedule'!$C$27),S827-U827))","v":""},"","","",{"$f":"IF(H828=\"\",\"\",IF('3 Irrigation Schedule'!$P$19<O828,'3 Irrigation Schedule'!$P$19,O828))","v":""},"",{"$f":"IF(H828=\"\",\"\",U828/'3 Irrigation Schedule'!$M$19)","v":""}]
[null,null,null,"2022","May","2022-05-05",null,"",{"$f":"IF(H829=\"\",\"\",IF(H829<=$I$27,\"Initial\",IF(AND(H829>$I$27,H829<=$I$28),\"Development\",IF(AND(H829>$I$28,H829<=$I$29),\"Mid Season\",\"Late Season\"))))","v":""},5.3183200000000008,{"$f":"IF(H829=\"\",\"\",IF(H829<=$I$27,$L$27,IF(AND(H829>$I$27,H829<=$I$28),$L$27+((H829-$I$27)/$H$28)*($L$29-$L$27),IF(AND(H829>$I$28,H829<=$I$29),$L$29,$L$29+((H829-$I$29)/$H$30)*($L$30-$L$29)))))","v":""},{"$f":"IFERROR((J829*K829),0)","v":0},{"$f":"IF(H829=\"\",\"\",IF(OR(H829=1,H829<$I$28),$M$27+(($M$28-$M$27)*((H829-1)/($I$28-1))),$M$28))","v":""},{"$f":"IF(OR('3 Irrigation Schedule'!$C$29=\"\",'3 Irrigation Schedule'!$C$31=\"\",H829=\"\"),\"\",(('3 Irrigation Schedule'!$C$29-'3 Irrigation Schedule'!$C$31)/100)*1000*M829)","v":""},{"$f":"IF(H829=\"\",\"\",N829*$N$27)","v":""},{"$f":"IF(H829=\"\",\"\",IF(H829=1,N829*(1-'3 Irrigation Schedule'!$C$27),S828-U828))","v":""},{"$f":"IF(H829=\"\",\"\",IF(P829>O829,(N829-P829)/(N829-O829),1))","v":""},{"$f":"IF(H829=\"\",\"\",L829*Q829)","v":""},{"$f":"IF(H829=\"\",\"\",P829+R829)","v":""},{"$f":"IF(H829=\"\",\"\",IF('3 Irrigation Schedule'!$P$19<O829,'3 Irrigation Schedule'!$P$19,O829))","v":""},{"$f":"IF(H829=\"\",\"\",IF(T829<=S829,T829,0))","v":""},{"$f":"IF(H829=\"\",\"\",U829/'3 Irrigation Schedule'!$M$19)","v":""}]
[null,null,null,"2022","May","2022-05-06",null,"","",5.3183200000000008,"",0,"",{"$f":"IF(OR('3 Irrigation Schedule'!$C$29=\"\",'3 Irrigation Schedule'!$C$31=\"\",H830=\"\"),\"\",(('3 Irrigation Schedule'!$C$29-'3 Irrigation Schedule'!$C$31)/100)*1000*M830)","v":""},"",{"$f":"IF(H830=\"\",\"\",IF(H830=1,N830*(1-'3 Irrigation Schedule'!$C$27),S829-U829))","v":""},"","","",{"$f":"IF(H830=\"\",\"\",IF('3 Irrigation Schedule'!$P$19<O830,'3 Irrigation Schedule'!$P$19,O830))","v":""},"",{"$f":"IF(H830=\"\",\"\",U830/'3 Irrigation Schedule'!$M$19)","v":""}]
[null,null,null,"2022","May","2022-05-07",null,"","",5.3183200000000008,"",0,"",{"$f":"IF(OR('3 Irrigation Schedule'!$C$29=\"\",'3 Irrigation Schedule'!$C$31=\"\",H831=\"\"),\"\",(('3 Irrigation Schedule'!$C$29-'3 Irrigation Schedule'!$C$31)/100)*1000*M831)","v":""},"",{"$f":"IF(H831=\"\",\"\",IF(H831=1,N831*(1-'3 Irrigation Schedule'!$C$27),S830-U830))","v":""},"","","",{"$f":"IF(H831=\"\",\"\",IF('3 Irrigation Schedule'!$P$19<O831,'3 Irrigation Schedule'!$P$19,O831))","v":""},"",{"$f":"IF(H831=\"\",\"\",U831/'3 Irrigation Schedule'!$M$19)","v":""}]
[null,null,null,"2022","May","2022-05-08",null,"","",5.3183200000000008,"",0,"",{"$f":"IF(OR('3 Irrigation Schedule'!$C$29=\"\",'3 Irrigation Schedule'!$C$31=\"\",H832=\"\"),\"\",(('3 Irrigation Schedule'!$C$29-'3 Irrigation Schedule'!$C$31)/100)*1000*M832)","v":""},"",{"$f":"IF(H832=\"\",\"\",IF(H832=1,N832*(1-'3 Irrigation Schedule'!$C$27),S831-U831))","v":""},"","","",{"$f":"IF(H832=\"\",\"\",IF('3 Irrigation Schedule'!$P$19<O832,'3 Irrigation Schedule'!$P$19,O832))","v":""},"",{"$f":"IF(H832=\"\",\"\",U832/'3 Irrigation Schedule'!$M$19)","v":""}]
[null,null,null,"2022","May","2022-05-09",null,"","",5.3183200000000008,"",0,"",{"$f":"IF(OR('3 Irrigation Schedule'!$C$29=\"\",'3 Irrigation Schedule'!$C$31=\"\",H833=\"\"),\"\",(('3 Irrigation Schedule'!$C$29-'3 Irrigation Schedule'!$C$31)/100)*1000*M833)","v":""},"",{"$f":"IF(H833=\"\",\"\",IF(H833=1,N833*(1-'3 Irrigation Schedule'!$C$27),S832-U832))","v":""},"","","",{"$f":"IF(H833=\"\",\"\",IF('3 Irrigation Schedule'!$P$19<O833,'3 Irrigation Schedule'!$P$19,O833))","v":""},"",{"$f":"IF(H833=\"\",\"\",U833/'3 Irrigation Schedule'!$M$19)","v":""}]
[null,null,null,"2022","May","2022-05-10",null,"","",5.3183200000000008,"",0,"",{"$f":"IF(OR('3 Irrigation Schedule'!$C$29=\"\",'3 Irrigation Schedule'!$C$31=\"\",H834=\"\"),\"\",(('3 Irrigation Schedule'!$C$29-'3 Irrigation Schedule'!$C$31)/100)*1000*M834)","v":""},"",{"$f":"IF(H834=\"\",\"\",IF(H834=1,N834*(1-'3 Irrigation Schedule'!$C$27),S833-U833))","v":""},"","","",{"$f":"IF(H834=\"\",\"\",IF('3 Irrigation Schedule'!$P$19<O834,'3 Irrigation Schedule'!$P$19,O834))","v":""},"",{"$f":"IF(H834=\"\",\"\",U834/'3 Irrigation Schedule'!$M$19)","v":""}]
[null,null,null,"2022","May","2022-05-11",null,"","",5.3183200000000008,"",0,"",{"$f":"IF(OR('3 Irrigation Schedule'!$C$29=\"\",'3 Irrigation Schedule'!$C$31=\"\",H835=\"\"),\"\",(('3 Irrigation Schedule'!$C$29-'3 Irrigation Schedule'!$C$31)/100)*1000*M835)","v":""},"",{"$f":"IF(H835=\"\",\"\",IF(H835=1,N835*(1-'3 Irrigation Schedule'!$C$27),S834-U834))","v":""},"","","",{"$f":"IF(H835=\"\",\"\",IF('3 Irrigation Schedule'!$P$19<O835,'3 Irrigation Schedule'!$P$19,O835))","v":""},"",{"$f":"IF(H835=\"\",\"\",U835/'3 Irrigation Schedule'!$M$19)","v":""}]
[null,null,null,"2022","May","2022-05-12",null,"","",5.3183200000000008,"",0,"",{"$f":"IF(OR('3 Irrigation Schedule'!$C$29=\"\",'3 Irrigation Schedule'!$C$31=\"\",H836=\"\"),\"\",(('3 Irrigation Schedule'!$C$29-'3 Irrigation Schedule'!$C$31)/100)*1000*M836)","v":""},"",{"$f":"IF(H836=\"\",\"\",IF(H836=1,N836*(1-'3 Irrigation Schedule'!$C$27),S835-U835))","v":""},"","","",{"$f":"IF(H836=\"\",\"\",IF('3 Irrigation Schedule'!$P$19<O836,'3 Irrigation Schedule'!$P$19,O836))","v":""},"",{"$f":"IF(H836=\"\",\"\",U836/'3 Irrigation Schedule'!$M$19)","v":""}]
[null,null,null,"2022","May","2022-05-13",null,"","",5.3183200000000008,"",0,"",{"$f":"IF(OR('3 Irrigation Schedule'!$C$29=\"\",'3 Irrigation Schedule'!$C$31=\"\",H837=\"\"),\"\",(('3 Irrigation Schedule'!$C$29-'3 Irrigation Schedule'!$C$31)/100)*1000*M837)","v":""},"",{"$f":"IF(H837=\"\",\"\",IF(H837=1,N837*(1-'3 Irrigation Schedule'!$C$27),S836-U836))","v":""},"","","",{"$f":"IF(H837=\"\",\"\",IF('3 Irrigation Schedule'!$P$19<O837,'3 Irrigation Schedule'!$P$19,O837))","v":""},"",{"$f":"IF(H837=\"\",\"\",U837/'3 Irrigation Schedule'!$M$19)","v":""}]
[null,null,null,"2022","May","2022-05-14",null,"","",5.3183200000000008,"",0,"",{"$f":"IF(OR('3 Irrigation Schedule'!$C$29=\"\",'3 Irrigation Schedule'!$C$31=\"\",H838=\"\"),\"\",(('3 Irrigation Schedule'!$C$29-'3 Irrigation Schedule'!$C$31)/100)*1000*M838)","v":""},"",{"$f":"IF(H838=\"\",\"\",IF(H838=1,N838*(1-'3 Irrigation Schedule'!$C$27),S837-U837))","v":""},"","","",{"$f":"IF(H838=\"\",\"\",IF('3 Irrigation Schedule'!$P$19<O838,'3 Irrigation Schedule'!$P$19,O838))","v":""},"",{"$f":"IF(H838=\"\",\"\",U838/'3 Irrigation Schedule'!$M$19)","v":""}]
[null,null,null,"2022","May","2022-05-15",null,"","",5.3183200000000008,"",0,"",{"$f":"IF(OR('3 Irrigation Schedule'!$C$29=\"\",'3 Irrigation Schedule'!$C$31=\"\",H839=\"\"),\"\",(('3 Irrigation Schedule'!$C$29-'3 Irrigation Schedule'!$C$31)/100)*1000*M839)","v":""},"",{"$f":"IF(H839=\"\",\"\",IF(H839=1,N839*(1-'3 Irrigation Schedule'!$C$27),S838-U838))","v":""},"","","",{"$f":"IF(H839=\"\",\"\",IF('3 Irrigation Schedule'!$P$19<O839,'3 Irrigation Schedule'!$P$19,O839))","v":""},"",{"$f":"IF(H839=\"\",\"\",U839/'3 Irrigation Schedule'!$M$19)","v":""}]
[null,null,null,"2022","May","2022-05-16",null,"","",5.3183200000000008,"",0,"",{"$f":"IF(OR('3 Irrigation Schedule'!$C$29=\"\",'3 Irrigation Schedule'!$C$31=\"\",H840=\"\"),\"\",(('3 Irrigation Schedule'!$C$29-'3 Irrigation Schedule'!$C$31)/100)*1000*M840)","v":""},"",{"$f":"IF(H840=\"\",\"\",IF(H840=1,N840*(1-'3 Irrigation Schedule'!$C$27),S839-U839))","v":""},"","","",{"$f":"IF(H840=\"\",\"\",IF('3 Irrigation Schedule'!$P$19<O840,'3 Irrigation Schedule'!$P$19,O840))","v":""},"",{"$f":"IF(H840=\"\",\"\",U840/'3 Irrigation Schedule'!$M$19)","v":""}]
[null,null,null,"2022","May","2022-05-17",null,"","",5.3183200000000008,"",0,"",{"$f":"IF(OR('3 Irrigation Schedule'!$C$29=\"\",'3 Irrigation Schedule'!$C$31=\"\",H841=\"\"),\"\",(('3 Irrigation Schedule'!$C$29-'3 Irrigation Schedule'!$C$31)/100)*1000*M841)","v":""},"",{"$f":"IF(H841=\"\",\"\",IF(H841=1,N841*(1-'3 Irrigation Schedule'!$C$27),S840-U840))","v":""},"","","",{"$f":"IF(H841=\"\",\"\",IF('3 Irrigation Schedule'!$P$19<O841,'3 Irrigation Schedule'!$P$19,O841))","v":""},"",{"$f":"IF(H841=\"\",\"\",U841/'3 Irrigation Schedule'!$M$19)","v":""}]
[null,null,null,"2022","May","2022-05-18",null,"","",5.3183200000000008,"",0,"",{"$f":"IF(OR('3 Irrigation Schedule'!$C$29=\"\",'3 Irrigation Schedule'!$C$31=\"\",H842=\"\"),\"\",(('3 Irrigation Schedule'!$C$29-'3 Irrigation Schedule'!$C$31)/100)*1000*M842)","v":""},"",{"$f":"IF(H842=\"\",\"\",IF(H842=1,N842*(1-'3 Irrigation Schedule'!$C$27),S841-U841))","v":""},"","","",{"$f":"IF(H842=\"\",\"\",IF('3 Irrigation Schedule'!$P$19<O842,'3 Irrigation Schedule'!$P$19,O842))","v":""},"",{"$f":"IF(H842=\"\",\"\",U842/'3 Irrigation Schedule'!$M$19)","v":""}]
[null,null,null,"2022","May","2022-05-19",null,"","",5.3183200000000008,"",0,"",{"$f":"IF(OR('3 Irrigation Schedule'!$C$29=\"\",'3 Irrigation Schedule'!$C$31=\"\",H843=\"\"),\"\",(('3 Irrigation Schedule'!$C$29-'3 Irrigation Schedule'!$C$31)/100)*1000*M843)","v":""},"",{"$f":"IF(H843=\"\",\"\",IF(H843=1,N843*(1-'3 Irrigation Schedule'!$C$27),S842-U842))","v":""},"","","",{"$f":"IF(H843=\"\",\"\",IF('3 Irrigation Schedule'!$P$19<O843,'3 Irrigation Schedule'!$P$19,O843))","v":""},"",{"$f":"IF(H843=\"\",\"\",U843/'3 Irrigation Schedule'!$M$19)","v":""}]
[null,null,null,"2022","May","2022-05-20",null,"","",5.3183200000000008,"",0,"",{"$f":"IF(OR('3 Irrigation Schedule'!$C$29=\"\",'3 Irrigation Schedule'!$C$31=\"\",H844=\"\"),\"\",(('3 Irrigation Schedule'!$C$29-'3 Irrigation Schedule'!$C$31)/100)*1000*M844)","v":""},"",{"$f":"IF(H844=\"\",\"\",IF(H844=1,N844*(1-'3 Irrigation Schedule'!$C$27),S843-U843))","v":""},"","","",{"$f":"IF(H844=\"\",\"\",IF('3 Irrigation Schedule'!$P$19<O844,'3 Irrigation Schedule'!$P$19,O844))","v":""},"",{"$f":"IF(H844=\"\",\"\",U844/'3 Irrigation Schedule'!$M$19)","v":""}]
[null,null,null,"2022","May","2022-05-21",null,"","",5.3183200000000008,"",0,"",{"$f":"IF(OR('3 Irrigation Schedule'!$C$29=\"\",'3 Irrigation Schedule'!$C$31=\"\",H845=\"\"),\"\",(('3 Irrigation Schedule'!$C$29-'3 Irrigation Schedule'!$C$31)/100)*1000*M845)","v":""},"",{"$f":"IF(H845=\"\",\"\",IF(H845=1,N845*(1-'3 Irrigation Schedule'!$C$27),S844-U844))","v":""},"","","",{"$f":"IF(H845=\"\",\"\",IF('3 Irrigation Schedule'!$P$19<O845,'3 Irrigation Schedule'!$P$19,O845))","v":""},"",{"$f":"IF(H845=\"\",\"\",U845/'3 Irrigation Schedule'!$M$19)","v":""}]
[null,null,null,"2022","May","2022-05-22",null,"","",5.3183200000000008,"",0,"",{"$f":"IF(OR('3 Irrigation Schedule'!$C$29=\"\",'3 Irrigation Schedule'!$C$31=\"\",H846=\"\"),\"\",(('3 Irrigation Schedule'!$C$29-'3 Irrigation Schedule'!$C$31)/100)*1000*M846)","v":""},"",{"$f":"IF(H846=\"\",\"\",IF(H846=1,N846*(1-'3 Irrigation Schedule'!$C$27),S845-U845))","v":""},"","","",{"$f":"IF(H846=\"\",\"\",IF('3 Irrigation Schedule'!$P$19<O846,'3 Irrigation Schedule'!$P$19,O846))","v":""},"",{"$f":"IF(H846=\"\",\"\",U846/'3 Irrigation Schedule'!$M$19)","v":""}]
[null,null,null,"2022","May","2022-05-23",null,"","",5.3183200000000008,"",0,"",{"$f":"IF(OR('3 Irrigation Schedule'!$C$29=\"\",'3 Irrigation Schedule'!$C$31=\"\",H847=\"\"),\"\",(('3 Irrigation Schedule'!$C$29-'3 Irrigation Schedule'!$C$31)/100)*1000*M847)","v":""},"",{"$f":"IF(H847=\"\",\"\",IF(H847=1,N847*(1-'3 Irrigation Schedule'!$C$27),S846-U846))","v":""},"","","",{"$f":"IF(H847=\"\",\"\",IF('3 Irrigation Schedule'!$P$19<O847,'3 Irrigation Schedule'!$P$19,O847))","v":""},"",{"$f":"IF(H847=\"\",\"\",U847/'3 Irrigation Schedule'!$M$19)","v":""}]
[null,null,null,"2022","May","2022-05-24",null,"","",5.3183200000000008,"",0,"",{"$f":"IF(OR('3 Irrigation Schedule'!$C$29=\"\",'3 Irrigation Schedule'!$C$31=\"\",H848=\"\"),\"\",(('3 Irrigation Schedule'!$C$29-'3 Irrigation Schedule'!$C$31)/100)*1000*M848)","v":""},"",{"$f":"IF(H848=\"\",\"\",IF(H848=1,N848*(1-'3 Irrigation Schedule'!$C$27),S847-U847))","v":""},"","","",{"$f":"IF(H848=\"\",\"\",IF('3 Irrigation Schedule'!$P$19<O848,'3 Irrigation Schedule'!$P$19,O848))","v":""},"",{"$f":"IF(H848=\"\",\"\",U848/'3 Irrigation Schedule'!$M$19)","v":""}]
[null,null,null,"2022","May","2022-05-25",null,"","",5.3183200000000008,"",0,"",{"$f":"IF(OR('3 Irrigation Schedule'!$C$29=\"\",'3 Irrigation Schedule'!$C$31=\"\",H849=\"\"),\"\",(('3 Irrigation Schedule'!$C$29-'3 Irrigation Schedule'!$C$31)/100)*1000*M849)","v":""},"",{"$f":"IF(H849=\"\",\"\",IF(H849=1,N849*(1-'3 Irrigation Schedule'!$C$27),S848-U848))","v":""},"","","",{"$f":"IF(H849=\"\",\"\",IF('3 Irrigation Schedule'!$P$19<O849,'3 Irrigation Schedule'!$P$19,O849))","v":""},"",{"$f":"IF(H849=\"\",\"\",U849/'3 Irrigation Schedule'!$M$19)","v":""}]
[null,null,null,"2022","May","2022-05-26",null,"","",5.3183200000000008,"",0,"",{"$f":"IF(OR('3 Irrigation Schedule'!$C$29=\"\",'3 Irrigation Schedule'!$C$31=\"\",H850=\"\"),\"\",(('3 Irrigation Schedule'!$C$29-'3 Irrigation Schedule'!$C$31)/100)*1000*M850)","v":""},"",{"$f":"IF(H850=\"\",\"\",IF(H850=1,N850*(1-'3 Irrigation Schedule'!$C$27),S849-U849))","v":""},"","","",{"$f":"IF(H850=\"\",\"\",IF('3 Irrigation Schedule'!$P$19<O850,'3 Irrigation Schedule'!$P$19,O850))","v":""},"",{"$f":"IF(H850=\"\",\"\",U850/'3 Irrigation Schedule'!$M$19)","v":""}]
[null,null,null,"2022","May","2022-05-27",null,"","",5.3183200000000008,"",0,"",{"$f":"IF(OR('3 Irrigation Schedule'!$C$29=\"\",'3 Irrigation Schedule'!$C$31=\"\",H851=\"\"),\"\",(('3 Irrigation Schedule'!$C$29-'3 Irrigation Schedule'!$C$31)/100)*1000*M851)","v":""},"",{"$f":"IF(H851=\"\",\"\",IF(H851=1,N851*(1-'3 Irrigation Schedule'!$C$27),S850-U850))","v":""},"","","",{"$f":"IF(H851=\"\",\"\",IF('3 Irrigation Schedule'!$P$19<O851,'3 Irrigation Schedule'!$P$19,O851))","v":""},"",{"$f":"IF(H851=\"\",\"\",U851/'3 Irrigation Schedule'!$M$19)","v":""}]
[null,null,null,"2022","May","2022-05-28",null,"","",5.3183200000000008,"",0,"",{"$f":"IF(OR('3 Irrigation Schedule'!$C$29=\"\",'3 Irrigation Schedule'!$C$31=\"\",H852=\"\"),\"\",(('3 Irrigation Schedule'!$C$29-'3 Irrigation Schedule'!$C$31)/100)*1000*M852)","v":""},"",{"$f":"IF(H852=\"\",\"\",IF(H852=1,N852*(1-'3 Irrigation Schedule'!$C$27),S851-U851))","v":""},"","","",{"$f":"IF(H852=\"\",\"\",IF('3 Irrigation Schedule'!$P$19<O852,'3 Irrigation Schedule'!$P$19,O852))","v":""},"",{"$f":"IF(H852=\"\",\"\",U852/'3 Irrigation Schedule'!$M$19)","v":""}]
[null,null,null,"2022","May","2022-05-29",null,"","",5.3183200000000008,"",0,"",{"$f":"IF(OR('3 Irrigation Schedule'!$C$29=\"\",'3 Irrigation Schedule'!$C$31=\"\",H853=\"\"),\"\",(('3 Irrigation Schedule'!$C$29-'3 Irrigation Schedule'!$C$31)/100)*1000*M853)","v":""},"",{"$f":"IF(H853=\"\",\"\",IF(H853=1,N853*(1-'3 Irrigation Schedule'!$C$27),S852-U852))","v":""},"","","",{"$f":"IF(H853=\"\",\"\",IF('3 Irrigation Schedule'!$P$19<O853,'3 Irrigation Schedule'!$P$19,O853))","v":""},"",{"$f":"IF(H853=\"\",\"\",U853/'3 Irrigation Schedule'!$M$19)","v":""}]
[null,null,null,"2022","May","2022-05-30",null,"","",5.3183200000000008,"",0,"",{"$f":"IF(OR('3 Irrigation Schedule'!$C$29=\"\",'3 Irrigation Schedule'!$C$31=\"\",H854=\"\"),\"\",(('3 Irrigation Schedule'!$C$29-'3 Irrigation Schedule'!$C$31)/100)*1000*M854)","v":""},"",{"$f":"IF(H854=\"\",\"\",IF(H854=1,N854*(1-'3 Irrigation Schedule'!$C$27),S853-U853))","v":""},"","","",{"$f":"IF(H854=\"\",\"\",IF('3 Irrigation Schedule'!$P$19<O854,'3 Irrigation Schedule'!$P$19,O854))","v":""},"",{"$f":"IF(H854=\"\",\"\",U854/'3 Irrigation Schedule'!$M$19)","v":""}]
[null,null,null,"2022","May","2022-05-31",null,"","",5.3183200000000008,"",0,"",{"$f":"IF(OR('3 Irrigation Schedule'!$C$29=\"\",'3 Irrigation Schedule'!$C$31=\"\",H855=\"\"),\"\",(('3 Irrigation Schedule'!$C$29-'3 Irrigation Schedule'!$C$31)/100)*1000*M855)","v":""},"",{"$f":"IF(H855=\"\",\"\",IF(H855=1,N855*(1-'3 Irrigation Schedule'!$C$27),S854-U854))","v":""},"","","",{"$f":"IF(H855=\"\",\"\",IF('3 Irrigation Schedule'!$P$19<O855,'3 Irrigation Schedule'!$P$19,O855))","v":""},"",{"$f":"IF(H855=\"\",\"\",U855/'3 Irrigation Schedule'!$M$19)","v":""}]
[null,null,null,"2022","June","2022-06-01",null,"","",5.2668000000000008,"",0,"",{"$f":"IF(OR('3 Irrigation Schedule'!$C$29=\"\",'3 Irrigation Schedule'!$C$31=\"\",H856=\"\"),\"\",(('3 Irrigation Schedule'!$C$29-'3 Irrigation Schedule'!$C$31)/100)*1000*M856)","v":""},"",{"$f":"IF(H856=\"\",\"\",IF(H856=1,N856*(1-'3 Irrigation Schedule'!$C$27),S855-U855))","v":""},"","","",{"$f":"IF(H856=\"\",\"\",IF('3 Irrigation Schedule'!$P$19<O856,'3 Irrigation Schedule'!$P$19,O856))","v":""},"",{"$f":"IF(H856=\"\",\"\",U856/'3 Irrigation Schedule'!$M$19)","v":""}]
[null,null,null,"2022","June","2022-06-02",null,"","",5.2668000000000008,"",0,"",{"$f":"IF(OR('3 Irrigation Schedule'!$C$29=\"\",'3 Irrigation Schedule'!$C$31=\"\",H857=\"\"),\"\",(('3 Irrigation Schedule'!$C$29-'3 Irrigation Schedule'!$C$31)/100)*1000*M857)","v":""},"",{"$f":"IF(H857=\"\",\"\",IF(H857=1,N857*(1-'3 Irrigation Schedule'!$C$27),S856-U856))","v":""},"","","",{"$f":"IF(H857=\"\",\"\",IF('3 Irrigation Schedule'!$P$19<O857,'3 Irrigation Schedule'!$P$19,O857))","v":""},"",{"$f":"IF(H857=\"\",\"\",U857/'3 Irrigation Schedule'!$M$19)","v":""}]
[null,null,null,"2022","June","2022-06-03",null,"","",5.2668000000000008,"",0,"",{"$f":"IF(OR('3 Irrigation Schedule'!$C$29=\"\",'3 Irrigation Schedule'!$C$31=\"\",H858=\"\"),\"\",(('3 Irrigation Schedule'!$C$29-'3 Irrigation Schedule'!$C$31)/100)*1000*M858)","v":""},"",{"$f":"IF(H858=\"\",\"\",IF(H858=1,N858*(1-'3 Irrigation Schedule'!$C$27),S857-U857))","v":""},"","","",{"$f":"IF(H858=\"\",\"\",IF('3 Irrigation Schedule'!$P$19<O858,'3 Irrigation Schedule'!$P$19,O858))","v":""},"",{"$f":"IF(H858=\"\",\"\",U858/'3 Irrigation Schedule'!$M$19)","v":""}]
[null,null,null,"2022","June","2022-06-04",null,"","",5.2668000000000008,"",0,"",{"$f":"IF(OR('3 Irrigation Schedule'!$C$29=\"\",'3 Irrigation Schedule'!$C$31=\"\",H859=\"\"),\"\",(('3 Irrigation Schedule'!$C$29-'3 Irrigation Schedule'!$C$31)/100)*1000*M859)","v":""},"",{"$f":"IF(H859=\"\",\"\",IF(H859=1,N859*(1-'3 Irrigation Schedule'!$C$27),S858-U858))","v":""},"","","",{"$f":"IF(H859=\"\",\"\",IF('3 Irrigation Schedule'!$P$19<O859,'3 Irrigation Schedule'!$P$19,O859))","v":""},"",{"$f":"IF(H859=\"\",\"\",U859/'3 Irrigation Schedule'!$M$19)","v":""}]
[null,null,null,"2022","June","2022-06-05",null,"","",5.2668000000000008,"",0,"",{"$f":"IF(OR('3 Irrigation Schedule'!$C$29=\"\",'3 Irrigation Schedule'!$C$31=\"\",H860=\"\"),\"\",(('3 Irrigation Schedule'!$C$29-'3 Irrigation Schedule'!$C$31)/100)*1000*M860)","v":""},"",{"$f":"IF(H860=\"\",\"\",IF(H860=1,N860*(1-'3 Irrigation Schedule'!$C$27),S859-U859))","v":""},"","","",{"$f":"IF(H860=\"\",\"\",IF('3 Irrigation Schedule'!$P$19<O860,'3 Irrigation Schedule'!$P$19,O860))","v":""},"",{"$f":"IF(H860=\"\",\"\",U860/'3 Irrigation Schedule'!$M$19)","v":""}]
[null,null,null,"2022","June","2022-06-06",null,"","",5.2668000000000008,"",0,"",{"$f":"IF(OR('3 Irrigation Schedule'!$C$29=\"\",'3 Irrigation Schedule'!$C$31=\"\",H861=\"\"),\"\",(('3 Irrigation Schedule'!$C$29-'3 Irrigation Schedule'!$C$31)/100)*1000*M861)","v":""},"",{"$f":"IF(H861=\"\",\"\",IF(H861=1,N861*(1-'3 Irrigation Schedule'!$C$27),S860-U860))","v":""},"","","",{"$f":"IF(H861=\"\",\"\",IF('3 Irrigation Schedule'!$P$19<O861,'3 Irrigation Schedule'!$P$19,O861))","v":""},"",{"$f":"IF(H861=\"\",\"\",U861/'3 Irrigation Schedule'!$M$19)","v":""}]
[null,null,null,"2022","June","2022-06-07",null,"","",5.2668000000000008,"",0,"",{"$f":"IF(OR('3 Irrigation Schedule'!$C$29=\"\",'3 Irrigation Schedule'!$C$31=\"\",H862=\"\"),\"\",(('3 Irrigation Schedule'!$C$29-'3 Irrigation Schedule'!$C$31)/100)*1000*M862)","v":""},"",{"$f":"IF(H862=\"\",\"\",IF(H862=1,N862*(1-'3 Irrigation Schedule'!$C$27),S861-U861))","v":""},"","","",{"$f":"IF(H862=\"\",\"\",IF('3 Irrigation Schedule'!$P$19<O862,'3 Irrigation Schedule'!$P$19,O862))","v":""},"",{"$f":"IF(H862=\"\",\"\",U862/'3 Irrigation Schedule'!$M$19)","v":""}]
[null,null,null,"2022","June","2022-06-08",null,"","",5.2668000000000008,"",0,"",{"$f":"IF(OR('3 Irrigation Schedule'!$C$29=\"\",'3 Irrigation Schedule'!$C$31=\"\",H863=\"\"),\"\",(('3 Irrigation Schedule'!$C$29-'3 Irrigation Schedule'!$C$31)/100)*1000*M863)","v":""},"",{"$f":"IF(H863=\"\",\"\",IF(H863=1,N863*(1-'3 Irrigation Schedule'!$C$27),S862-U862))","v":""},"","","",{"$f":"IF(H863=\"\",\"\",IF('3 Irrigation Schedule'!$P$19<O863,'3 Irrigation Schedule'!$P$19,O863))","v":""},"",{"$f":"IF(H863=\"\",\"\",U863/'3 Irrigation Schedule'!$M$19)","v":""}]
[null,null,null,"2022","June","2022-06-09",null,"","",5.2668000000000008,"",0,"",{"$f":"IF(OR('3 Irrigation Schedule'!$C$29=\"\",'3 Irrigation Schedule'!$C$31=\"\",H864=\"\"),\"\",(('3 Irrigation Schedule'!$C$29-'3 Irrigation Schedule'!$C$31)/100)*1000*M864)","v":""},"",{"$f":"IF(H864=\"\",\"\",IF(H864=1,N864*(1-'3 Irrigation Schedule'!$C$27),S863-U863))","v":""},"","","",{"$f":"IF(H864=\"\",\"\",IF('3 Irrigation Schedule'!$P$19<O864,'3 Irrigation Schedule'!$P$19,O864))","v":""},"",{"$f":"IF(H864=\"\",\"\",U864/'3 Irrigation Schedule'!$M$19)","v":""}]
[null,null,null,"2022","June","2022-06-10",null,"","",5.2668000000000008,"",0,"",{"$f":"IF(OR('3 Irrigation Schedule'!$C$29=\"\",'3 Irrigation Schedule'!$C$31=\"\",H865=\"\"),\"\",(('3 Irrigation Schedule'!$C$29-'3 Irrigation Schedule'!$C$31)/100)*1000*M865)","v":""},"",{"$f":"IF(H865=\"\",\"\",IF(H865=1,N865*(1-'3 Irrigation Schedule'!$C$27),S864-U864))","v":""},"","","",{"$f":"IF(H865=\"\",\"\",IF('3 Irrigation Schedule'!$P$19<O865,'3 Irrigation Schedule'!$P$19,O865))","v":""},"",{"$f":"IF(H865=\"\",\"\",U865/'3 Irrigation Schedule'!$M$19)","v":""}]
[null,null,null,{"$f":"IFERROR(TEXT(DATE(YEAR($F866),MONTH($F866),1),$D$7&$D$4),\"\")","v":"2022"},{"$f":"IFERROR(TEXT(DATE(YEAR($F866),MONTH($F866),1),$D$7&$D$5),\"\")","v":"June"},"2022-06-11",null,"","",{"$f":"IFERROR(VLOOKUP($E866,$B$19:$C$30,2,FALSE),\"\")","v":5.2668000000000008},"",0,"",{"$f":"IF(OR('3 Irrigation Schedule'!$C$29=\"\",'3 Irrigation Schedule'!$C$31=\"\",H866=\"\"),\"\",(('3 Irrigation Schedule'!$C$29-'3 Irrigation Schedule'!$C$31)/100)*1000*M866)","v":""},"",{"$f":"IF(H866=\"\",\"\",IF(H866=1,N866*(1-'3 Irrigation Schedule'!$C$27),S865-U865))","v":""},"","","",{"$f":"IF(H866=\"\",\"\",IF('3 Irrigation Schedule'!$P$19<O866,'3 Irrigation Schedule'!$P$19,O866))","v":""},"",{"$f":"IF(H866=\"\",\"\",U866/'3 Irrigation Schedule'!$M$19)","v":""}]
[null,null,null,"2022","June",{"$f":"IFERROR(IF(F866+1<=$N$7, F866+1,\"\"),\"\")","v":"2022-06-12"},null,{"$f":"IFERROR(IF(OR($F867-$J$27+1<=0,$F867>$K$30),\"\",$F867-$J$27+1),\"\")","v":""},"",5.2668000000000008,"",0,"",{"$f":"IF(OR('3 Irrigation Schedule'!$C$29=\"\",'3 Irrigation Schedule'!$C$31=\"\",H867=\"\"),\"\",(('3 Irrigation Schedule'!$C$29-'3 Irrigation Schedule'!$C$31)/100)*1000*M867)","v":""},"",{"$f":"IF(H867=\"\",\"\",IF(H867=1,N867*(1-'3 Irrigation Schedule'!$C$27),S866-U866))","v":""},"","","",{"$f":"IF(H867=\"\",\"\",IF('3 Irrigation Schedule'!$P$19<O867,'3 Irrigation Schedule'!$P$19,O867))","v":""},"",{"$f":"IF(H867=\"\",\"\",U867/'3 Irrigation Schedule'!$M$19)","v":""}]
[null,null,null,"2022","June","2022-06-13",null,"","",5.2668000000000008,"",0,"",{"$f":"IF(OR('3 Irrigation Schedule'!$C$29=\"\",'3 Irrigation Schedule'!$C$31=\"\",H868=\"\"),\"\",(('3 Irrigation Schedule'!$C$29-'3 Irrigation Schedule'!$C$31)/100)*1000*M868)","v":""},"",{"$f":"IF(H868=\"\",\"\",IF(H868=1,N868*(1-'3 Irrigation Schedule'!$C$27),S867-U867))","v":""},"","","",{"$f":"IF(H868=\"\",\"\",IF('3 Irrigation Schedule'!$P$19<O868,'3 Irrigation Schedule'!$P$19,O868))","v":""},"",{"$f":"IF(H868=\"\",\"\",U868/'3 Irrigation Schedule'!$M$19)","v":""}]
[null,null,null,"2022","June","2022-06-14",null,"","",5.2668000000000008,"",0,"",{"$f":"IF(OR('3 Irrigation Schedule'!$C$29=\"\",'3 Irrigation Schedule'!$C$31=\"\",H869=\"\"),\"\",(('3 Irrigation Schedule'!$C$29-'3 Irrigation Schedule'!$C$31)/100)*1000*M869)","v":""},"",{"$f":"IF(H869=\"\",\"\",IF(H869=1,N869*(1-'3 Irrigation Schedule'!$C$27),S868-U868))","v":""},"","","",{"$f":"IF(H869=\"\",\"\",IF('3 Irrigation Schedule'!$P$19<O869,'3 Irrigation Schedule'!$P$19,O869))","v":""},"",{"$f":"IF(H869=\"\",\"\",U869/'3 Irrigation Schedule'!$M$19)","v":""}]
[null,null,null,"2022","June","2022-06-15",null,"","",5.2668000000000008,"",0,"",{"$f":"IF(OR('3 Irrigation Schedule'!$C$29=\"\",'3 Irrigation Schedule'!$C$31=\"\",H870=\"\"),\"\",(('3 Irrigation Schedule'!$C$29-'3 Irrigation Schedule'!$C$31)/100)*1000*M870)","v":""},"",{"$f":"IF(H870=\"\",\"\",IF(H870=1,N870*(1-'3 Irrigation Schedule'!$C$27),S869-U869))","v":""},"","","",{"$f":"IF(H870=\"\",\"\",IF('3 Irrigation Schedule'!$P$19<O870,'3 Irrigation Schedule'!$P$19,O870))","v":""},"",{"$f":"IF(H870=\"\",\"\",U870/'3 Irrigation Schedule'!$M$19)","v":""}]
[null,null,null,"2022","June","2022-06-16",null,"","",5.2668000000000008,"",0,"",{"$f":"IF(OR('3 Irrigation Schedule'!$C$29=\"\",'3 Irrigation Schedule'!$C$31=\"\",H871=\"\"),\"\",(('3 Irrigation Schedule'!$C$29-'3 Irrigation Schedule'!$C$31)/100)*1000*M871)","v":""},"",{"$f":"IF(H871=\"\",\"\",IF(H871=1,N871*(1-'3 Irrigation Schedule'!$C$27),S870-U870))","v":""},"","","",{"$f":"IF(H871=\"\",\"\",IF('3 Irrigation Schedule'!$P$19<O871,'3 Irrigation Schedule'!$P$19,O871))","v":""},"",{"$f":"IF(H871=\"\",\"\",U871/'3 Irrigation Schedule'!$M$19)","v":""}]
[null,null,null,"2022","June","2022-06-17",null,"","",5.2668000000000008,"",0,"",{"$f":"IF(OR('3 Irrigation Schedule'!$C$29=\"\",'3 Irrigation Schedule'!$C$31=\"\",H872=\"\"),\"\",(('3 Irrigation Schedule'!$C$29-'3 Irrigation Schedule'!$C$31)/100)*1000*M872)","v":""},"",{"$f":"IF(H872=\"\",\"\",IF(H872=1,N872*(1-'3 Irrigation Schedule'!$C$27),S871-U871))","v":""},"","","",{"$f":"IF(H872=\"\",\"\",IF('3 Irrigation Schedule'!$P$19<O872,'3 Irrigation Schedule'!$P$19,O872))","v":""},"",{"$f":"IF(H872=\"\",\"\",U872/'3 Irrigation Schedule'!$M$19)","v":""}]
[null,null,null,"2022","June","2022-06-18",null,"","",5.2668000000000008,"",0,"",{"$f":"IF(OR('3 Irrigation Schedule'!$C$29=\"\",'3 Irrigation Schedule'!$C$31=\"\",H873=\"\"),\"\",(('3 Irrigation Schedule'!$C$29-'3 Irrigation Schedule'!$C$31)/100)*1000*M873)","v":""},"",{"$f":"IF(H873=\"\",\"\",IF(H873=1,N873*(1-'3 Irrigation Schedule'!$C$27),S872-U872))","v":""},"","","",{"$f":"IF(H873=\"\",\"\",IF('3 Irrigation Schedule'!$P$19<O873,'3 Irrigation Schedule'!$P$19,O873))","v":""},"",{"$f":"IF(H873=\"\",\"\",U873/'3 Irrigation Schedule'!$M$19)","v":""}]
[null,null,null,"2022","June","2022-06-19",null,"","",5.2668000000000008,"",0,"",{"$f":"IF(OR('3 Irrigation Schedule'!$C$29=\"\",'3 Irrigation Schedule'!$C$31=\"\",H874=\"\"),\"\",(('3 Irrigation Schedule'!$C$29-'3 Irrigation Schedule'!$C$31)/100)*1000*M874)","v":""},"",{"$f":"IF(H874=\"\",\"\",IF(H874=1,N874*(1-'3 Irrigation Schedule'!$C$27),S873-U873))","v":""},"","","",{"$f":"IF(H874=\"\",\"\",IF('3 Irrigation Schedule'!$P$19<O874,'3 Irrigation Schedule'!$P$19,O874))","v":""},"",{"$f":"IF(H874=\"\",\"\",U874/'3 Irrigation Schedule'!$M$19)","v":""}]
[null,null,null,"2022","June","2022-06-20",null,"","",5.2668000000000008,"",0,"",{"$f":"IF(OR('3 Irrigation Schedule'!$C$29=\"\",'3 Irrigation Schedule'!$C$31=\"\",H875=\"\"),\"\",(('3 Irrigation Schedule'!$C$29-'3 Irrigation Schedule'!$C$31)/100)*1000*M875)","v":""},"",{"$f":"IF(H875=\"\",\"\",IF(H875=1,N875*(1-'3 Irrigation Schedule'!$C$27),S874-U874))","v":""},"","","",{"$f":"IF(H875=\"\",\"\",IF('3 Irrigation Schedule'!$P$19<O875,'3 Irrigation Schedule'!$P$19,O875))","v":""},"",{"$f":"IF(H875=\"\",\"\",U875/'3 Irrigation Schedule'!$M$19)","v":""}]
[null,null,null,"2022","June","2022-06-21",null,"","",5.2668000000000008,"",0,"",{"$f":"IF(OR('3 Irrigation Schedule'!$C$29=\"\",'3 Irrigation Schedule'!$C$31=\"\",H876=\"\"),\"\",(('3 Irrigation Schedule'!$C$29-'3 Irrigation Schedule'!$C$31)/100)*1000*M876)","v":""},"",{"$f":"IF(H876=\"\",\"\",IF(H876=1,N876*(1-'3 Irrigation Schedule'!$C$27),S875-U875))","v":""},"","","",{"$f":"IF(H876=\"\",\"\",IF('3 Irrigation Schedule'!$P$19<O876,'3 Irrigation Schedule'!$P$19,O876))","v":""},"",{"$f":"IF(H876=\"\",\"\",U876/'3 Irrigation Schedule'!$M$19)","v":""}]
[null,null,null,"2022","June","2022-06-22",null,"","",5.2668000000000008,"",0,"",{"$f":"IF(OR('3 Irrigation Schedule'!$C$29=\"\",'3 Irrigation Schedule'!$C$31=\"\",H877=\"\"),\"\",(('3 Irrigation Schedule'!$C$29-'3 Irrigation Schedule'!$C$31)/100)*1000*M877)","v":""},"",{"$f":"IF(H877=\"\",\"\",IF(H877=1,N877*(1-'3 Irrigation Schedule'!$C$27),S876-U876))","v":""},"","","",{"$f":"IF(H877=\"\",\"\",IF('3 Irrigation Schedule'!$P$19<O877,'3 Irrigation Schedule'!$P$19,O877))","v":""},"",{"$f":"IF(H877=\"\",\"\",U877/'3 Irrigation Schedule'!$M$19)","v":""}]
[null,null,null,"2022","June","2022-06-23",null,"","",5.2668000000000008,"",0,"",{"$f":"IF(OR('3 Irrigation Schedule'!$C$29=\"\",'3 Irrigation Schedule'!$C$31=\"\",H878=\"\"),\"\",(('3 Irrigation Schedule'!$C$29-'3 Irrigation Schedule'!$C$31)/100)*1000*M878)","v":""},"",{"$f":"IF(H878=\"\",\"\",IF(H878=1,N878*(1-'3 Irrigation Schedule'!$C$27),S877-U877))","v":""},"","","",{"$f":"IF(H878=\"\",\"\",IF('3 Irrigation Schedule'!$P$19<O878,'3 Irrigation Schedule'!$P$19,O878))","v":""},"",{"$f":"IF(H878=\"\",\"\",U878/'3 Irrigation Schedule'!$M$19)","v":""}]
[null,null,null,"2022","June","2022-06-24",null,"","",5.2668000000000008,"",0,"",{"$f":"IF(OR('3 Irrigation Schedule'!$C$29=\"\",'3 Irrigation Schedule'!$C$31=\"\",H879=\"\"),\"\",(('3 Irrigation Schedule'!$C$29-'3 Irrigation Schedule'!$C$31)/100)*1000*M879)","v":""},"",{"$f":"IF(H879=\"\",\"\",IF(H879=1,N879*(1-'3 Irrigation Schedule'!$C$27),S878-U878))","v":""},"","","",{"$f":"IF(H879=\"\",\"\",IF('3 Irrigation Schedule'!$P$19<O879,'3 Irrigation Schedule'!$P$19,O879))","v":""},"",{"$f":"IF(H879=\"\",\"\",U879/'3 Irrigation Schedule'!$M$19)","v":""}]
[null,null,null,"2022","June","2022-06-25",null,"","",5.2668000000000008,"",0,"",{"$f":"IF(OR('3 Irrigation Schedule'!$C$29=\"\",'3 Irrigation Schedule'!$C$31=\"\",H880=\"\"),\"\",(('3 Irrigation Schedule'!$C$29-'3 Irrigation Schedule'!$C$31)/100)*1000*M880)","v":""},"",{"$f":"IF(H880=\"\",\"\",IF(H880=1,N880*(1-'3 Irrigation Schedule'!$C$27),S879-U879))","v":""},"","","",{"$f":"IF(H880=\"\",\"\",IF('3 Irrigation Schedule'!$P$19<O880,'3 Irrigation Schedule'!$P$19,O880))","v":""},"",{"$f":"IF(H880=\"\",\"\",U880/'3 Irrigation Schedule'!$M$19)","v":""}]
[null,null,null,"2022","June","2022-06-26",null,"","",5.2668000000000008,"",0,"",{"$f":"IF(OR('3 Irrigation Schedule'!$C$29=\"\",'3 Irrigation Schedule'!$C$31=\"\",H881=\"\"),\"\",(('3 Irrigation Schedule'!$C$29-'3 Irrigation Schedule'!$C$31)/100)*1000*M881)","v":""},"",{"$f":"IF(H881=\"\",\"\",IF(H881=1,N881*(1-'3 Irrigation Schedule'!$C$27),S880-U880))","v":""},"","","",{"$f":"IF(H881=\"\",\"\",IF('3 Irrigation Schedule'!$P$19<O881,'3 Irrigation Schedule'!$P$19,O881))","v":""},"",{"$f":"IF(H881=\"\",\"\",U881/'3 Irrigation Schedule'!$M$19)","v":""}]
[null,null,null,"2022","June","2022-06-27",null,"","",5.2668000000000008,"",0,"",{"$f":"IF(OR('3 Irrigation Schedule'!$C$29=\"\",'3 Irrigation Schedule'!$C$31=\"\",H882=\"\"),\"\",(('3 Irrigation Schedule'!$C$29-'3 Irrigation Schedule'!$C$31)/100)*1000*M882)","v":""},"",{"$f":"IF(H882=\"\",\"\",IF(H882=1,N882*(1-'3 Irrigation Schedule'!$C$27),S881-U881))","v":""},"","","",{"$f":"IF(H882=\"\",\"\",IF('3 Irrigation Schedule'!$P$19<O882,'3 Irrigation Schedule'!$P$19,O882))","v":""},"",{"$f":"IF(H882=\"\",\"\",U882/'3 Irrigation Schedule'!$M$19)","v":""}]
[null,null,null,"2022","June","2022-06-28",null,"","",5.2668000000000008,"",0,"",{"$f":"IF(OR('3 Irrigation Schedule'!$C$29=\"\",'3 Irrigation Schedule'!$C$31=\"\",H883=\"\"),\"\",(('3 Irrigation Schedule'!$C$29-'3 Irrigation Schedule'!$C$31)/100)*1000*M883)","v":""},"",{"$f":"IF(H883=\"\",\"\",IF(H883=1,N883*(1-'3 Irrigation Schedule'!$C$27),S882-U882))","v":""},"","","",{"$f":"IF(H883=\"\",\"\",IF('3 Irrigation Schedule'!$P$19<O883,'3 Irrigation Schedule'!$P$19,O883))","v":""},"",{"$f":"IF(H883=\"\",\"\",U883/'3 Irrigation Schedule'!$M$19)","v":""}]
[null,null,null,"2022","June","2022-06-29",null,"","",5.2668000000000008,"",0,"",{"$f":"IF(OR('3 Irrigation Schedule'!$C$29=\"\",'3 Irrigation Schedule'!$C$31=\"\",H884=\"\"),\"\",(('3 Irrigation Schedule'!$C$29-'3 Irrigation Schedule'!$C$31)/100)*1000*M884)","v":""},"",{"$f":"IF(H884=\"\",\"\",IF(H884=1,N884*(1-'3 Irrigation Schedule'!$C$27),S883-U883))","v":""},"","","",{"$f":"IF(H884=\"\",\"\",IF('3 Irrigation Schedule'!$P$19<O884,'3 Irrigation Schedule'!$P$19,O884))","v":""},"",{"$f":"IF(H884=\"\",\"\",U884/'3 Irrigation Schedule'!$M$19)","v":""}]
[null,null,null,"2022","June","2022-06-30",null,"","",5.2668000000000008,"",0,"",{"$f":"IF(OR('3 Irrigation Schedule'!$C$29=\"\",'3 Irrigation Schedule'!$C$31=\"\",H885=\"\"),\"\",(('3 Irrigation Schedule'!$C$29-'3 Irrigation Schedule'!$C$31)/100)*1000*M885)","v":""},"",{"$f":"IF(H885=\"\",\"\",IF(H885=1,N885*(1-'3 Irrigation Schedule'!$C$27),S884-U884))","v":""},"","","",{"$f":"IF(H885=\"\",\"\",IF('3 Irrigation Schedule'!$P$19<O885,'3 Irrigation Schedule'!$P$19,O885))","v":""},"",{"$f":"IF(H885=\"\",\"\",U885/'3 Irrigation Schedule'!$M$19)","v":""}]
[null,null,null,"2022","July","2022-07-01",null,"","",5.2023999999999999,"",0,"",{"$f":"IF(OR('3 Irrigation Schedule'!$C$29=\"\",'3 Irrigation Schedule'!$C$31=\"\",H886=\"\"),\"\",(('3 Irrigation Schedule'!$C$29-'3 Irrigation Schedule'!$C$31)/100)*1000*M886)","v":""},"",{"$f":"IF(H886=\"\",\"\",IF(H886=1,N886*(1-'3 Irrigation Schedule'!$C$27),S885-U885))","v":""},"","","",{"$f":"IF(H886=\"\",\"\",IF('3 Irrigation Schedule'!$P$19<O886,'3 Irrigation Schedule'!$P$19,O886))","v":""},"",{"$f":"IF(H886=\"\",\"\",U886/'3 Irrigation Schedule'!$M$19)","v":""}]
[null,null,null,"2022","July","2022-07-02",null,"","",5.2023999999999999,"",0,"",{"$f":"IF(OR('3 Irrigation Schedule'!$C$29=\"\",'3 Irrigation Schedule'!$C$31=\"\",H887=\"\"),\"\",(('3 Irrigation Schedule'!$C$29-'3 Irrigation Schedule'!$C$31)/100)*1000*M887)","v":""},"",{"$f":"IF(H887=\"\",\"\",IF(H887=1,N887*(1-'3 Irrigation Schedule'!$C$27),S886-U886))","v":""},"","","",{"$f":"IF(H887=\"\",\"\",IF('3 Irrigation Schedule'!$P$19<O887,'3 Irrigation Schedule'!$P$19,O887))","v":""},"",{"$f":"IF(H887=\"\",\"\",U887/'3 Irrigation Schedule'!$M$19)","v":""}]
[null,null,null,"2022","July","2022-07-03",null,"","",5.2023999999999999,"",0,"",{"$f":"IF(OR('3 Irrigation Schedule'!$C$29=\"\",'3 Irrigation Schedule'!$C$31=\"\",H888=\"\"),\"\",(('3 Irrigation Schedule'!$C$29-'3 Irrigation Schedule'!$C$31)/100)*1000*M888)","v":""},"",{"$f":"IF(H888=\"\",\"\",IF(H888=1,N888*(1-'3 Irrigation Schedule'!$C$27),S887-U887))","v":""},"","","",{"$f":"IF(H888=\"\",\"\",IF('3 Irrigation Schedule'!$P$19<O888,'3 Irrigation Schedule'!$P$19,O888))","v":""},"",{"$f":"IF(H888=\"\",\"\",U888/'3 Irrigation Schedule'!$M$19)","v":""}]
[null,null,null,"2022","July","2022-07-04",null,"","",5.2023999999999999,"",0,"",{"$f":"IF(OR('3 Irrigation Schedule'!$C$29=\"\",'3 Irrigation Schedule'!$C$31=\"\",H889=\"\"),\"\",(('3 Irrigation Schedule'!$C$29-'3 Irrigation Schedule'!$C$31)/100)*1000*M889)","v":""},"",{"$f":"IF(H889=\"\",\"\",IF(H889=1,N889*(1-'3 Irrigation Schedule'!$C$27),S888-U888))","v":""},"","","",{"$f":"IF(H889=\"\",\"\",IF('3 Irrigation Schedule'!$P$19<O889,'3 Irrigation Schedule'!$P$19,O889))","v":""},"",{"$f":"IF(H889=\"\",\"\",U889/'3 Irrigation Schedule'!$M$19)","v":""}]
[null,null,null,"2022","July","2022-07-05",null,"","",5.2023999999999999,"",0,"",{"$f":"IF(OR('3 Irrigation Schedule'!$C$29=\"\",'3 Irrigation Schedule'!$C$31=\"\",H890=\"\"),\"\",(('3 Irrigation Schedule'!$C$29-'3 Irrigation Schedule'!$C$31)/100)*1000*M890)","v":""},"",{"$f":"IF(H890=\"\",\"\",IF(H890=1,N890*(1-'3 Irrigation Schedule'!$C$27),S889-U889))","v":""},"","","",{"$f":"IF(H890=\"\",\"\",IF('3 Irrigation Schedule'!$P$19<O890,'3 Irrigation Schedule'!$P$19,O890))","v":""},"",{"$f":"IF(H890=\"\",\"\",U890/'3 Irrigation Schedule'!$M$19)","v":""}]
[null,null,null,"2022","July","2022-07-06",null,"","",5.2023999999999999,"",0,"",{"$f":"IF(OR('3 Irrigation Schedule'!$C$29=\"\",'3 Irrigation Schedule'!$C$31=\"\",H891=\"\"),\"\",(('3 Irrigation Schedule'!$C$29-'3 Irrigation Schedule'!$C$31)/100)*1000*M891)","v":""},"",{"$f":"IF(H891=\"\",\"\",IF(H891=1,N891*(1-'3 Irrigation Schedule'!$C$27),S890-U890))","v":""},"","","",{"$f":"IF(H891=\"\",\"\",IF('3 Irrigation Schedule'!$P$19<O891,'3 Irrigation Schedule'!$P$19,O891))","v":""},"",{"$f":"IF(H891=\"\",\"\",U891/'3 Irrigation Schedule'!$M$19)","v":""}]
[null,null,null,"2022","July","2022-07-07",null,"","",5.2023999999999999,"",0,"",{"$f":"IF(OR('3 Irrigation Schedule'!$C$29=\"\",'3 Irrigation Schedule'!$C$31=\"\",H892=\"\"),\"\",(('3 Irrigation Schedule'!$C$29-'3 Irrigation Schedule'!$C$31)/100)*1000*M892)","v":""},"",{"$f":"IF(H892=\"\",\"\",IF(H892=1,N892*(1-'3 Irrigation Schedule'!$C$27),S891-U891))","v":""},"","","",{"$f":"IF(H892=\"\",\"\",IF('3 Irrigation Schedule'!$P$19<O892,'3 Irrigation Schedule'!$P$19,O892))","v":""},"",{"$f":"IF(H892=\"\",\"\",U892/'3 Irrigation Schedule'!$M$19)","v":""}]
[null,null,null,"2022","July","2022-07-08",null,"",{"$f":"IF(H893=\"\",\"\",IF(H893<=$I$27,\"Initial\",IF(AND(H893>$I$27,H893<=$I$28),\"Development\",IF(AND(H893>$I$28,H893<=$I$29),\"Mid Season\",\"Late Season\"))))","v":""},5.2023999999999999,{"$f":"IF(H893=\"\",\"\",IF(H893<=$I$27,$L$27,IF(AND(H893>$I$27,H893<=$I$28),$L$27+((H893-$I$27)/$H$28)*($L$29-$L$27),IF(AND(H893>$I$28,H893<=$I$29),$L$29,$L$29+((H893-$I$29)/$H$30)*($L$30-$L$29)))))","v":""},{"$f":"IFERROR((J893*K893),0)","v":0},{"$f":"IF(H893=\"\",\"\",IF(OR(H893=1,H893<$I$28),$M$27+(($M$28-$M$27)*((H893-1)/($I$28-1))),$M$28))","v":""},{"$f":"IF(OR('3 Irrigation Schedule'!$C$29=\"\",'3 Irrigation Schedule'!$C$31=\"\",H893=\"\"),\"\",(('3 Irrigation Schedule'!$C$29-'3 Irrigation Schedule'!$C$31)/100)*1000*M893)","v":""},{"$f":"IF(H893=\"\",\"\",N893*$N$27)","v":""},{"$f":"IF(H893=\"\",\"\",IF(H893=1,N893*(1-'3 Irrigation Schedule'!$C$27),S892-U892))","v":""},{"$f":"IF(H893=\"\",\"\",IF(P893>O893,(N893-P893)/(N893-O893),1))","v":""},{"$f":"IF(H893=\"\",\"\",L893*Q893)","v":""},{"$f":"IF(H893=\"\",\"\",P893+R893)","v":""},{"$f":"IF(H893=\"\",\"\",IF('3 Irrigation Schedule'!$P$19<O893,'3 Irrigation Schedule'!$P$19,O893))","v":""},{"$f":"IF(H893=\"\",\"\",IF(T893<=S893,T893,0))","v":""},{"$f":"IF(H893=\"\",\"\",U893/'3 Irrigation Schedule'!$M$19)","v":""}]
[null,null,null,"2022","July","2022-07-09",null,"","",5.2023999999999999,"",0,"",{"$f":"IF(OR('3 Irrigation Schedule'!$C$29=\"\",'3 Irrigation Schedule'!$C$31=\"\",H894=\"\"),\"\",(('3 Irrigation Schedule'!$C$29-'3 Irrigation Schedule'!$C$31)/100)*1000*M894)","v":""},"",{"$f":"IF(H894=\"\",\"\",IF(H894=1,N894*(1-'3 Irrigation Schedule'!$C$27),S893-U893))","v":""},"","","",{"$f":"IF(H894=\"\",\"\",IF('3 Irrigation Schedule'!$P$19<O894,'3 Irrigation Schedule'!$P$19,O894))","v":""},"",{"$f":"IF(H894=\"\",\"\",U894/'3 Irrigation Schedule'!$M$19)","v":""}]
[null,null,null,"2022","July","2022-07-10",null,"","",5.2023999999999999,"",0,"",{"$f":"IF(OR('3 Irrigation Schedule'!$C$29=\"\",'3 Irrigation Schedule'!$C$31=\"\",H895=\"\"),\"\",(('3 Irrigation Schedule'!$C$29-'3 Irrigation Schedule'!$C$31)/100)*1000*M895)","v":""},"",{"$f":"IF(H895=\"\",\"\",IF(H895=1,N895*(1-'3 Irrigation Schedule'!$C$27),S894-U894))","v":""},"","","",{"$f":"IF(H895=\"\",\"\",IF('3 Irrigation Schedule'!$P$19<O895,'3 Irrigation Schedule'!$P$19,O895))","v":""},"",{"$f":"IF(H895=\"\",\"\",U895/'3 Irrigation Schedule'!$M$19)","v":""}]
[null,null,null,"2022","July","2022-07-11",null,"","",5.2023999999999999,"",0,"",{"$f":"IF(OR('3 Irrigation Schedule'!$C$29=\"\",'3 Irrigation Schedule'!$C$31=\"\",H896=\"\"),\"\",(('3 Irrigation Schedule'!$C$29-'3 Irrigation Schedule'!$C$31)/100)*1000*M896)","v":""},"",{"$f":"IF(H896=\"\",\"\",IF(H896=1,N896*(1-'3 Irrigation Schedule'!$C$27),S895-U895))","v":""},"","","",{"$f":"IF(H896=\"\",\"\",IF('3 Irrigation Schedule'!$P$19<O896,'3 Irrigation Schedule'!$P$19,O896))","v":""},"",{"$f":"IF(H896=\"\",\"\",U896/'3 Irrigation Schedule'!$M$19)","v":""}]
[null,null,null,"2022","July","2022-07-12",null,"","",5.2023999999999999,"",0,"",{"$f":"IF(OR('3 Irrigation Schedule'!$C$29=\"\",'3 Irrigation Schedule'!$C$31=\"\",H897=\"\"),\"\",(('3 Irrigation Schedule'!$C$29-'3 Irrigation Schedule'!$C$31)/100)*1000*M897)","v":""},"",{"$f":"IF(H897=\"\",\"\",IF(H897=1,N897*(1-'3 Irrigation Schedule'!$C$27),S896-U896))","v":""},"","","",{"$f":"IF(H897=\"\",\"\",IF('3 Irrigation Schedule'!$P$19<O897,'3 Irrigation Schedule'!$P$19,O897))","v":""},"",{"$f":"IF(H897=\"\",\"\",U897/'3 Irrigation Schedule'!$M$19)","v":""}]
[null,null,null,"2022","July","2022-07-13",null,"","",5.2023999999999999,"",0,"",{"$f":"IF(OR('3 Irrigation Schedule'!$C$29=\"\",'3 Irrigation Schedule'!$C$31=\"\",H898=\"\"),\"\",(('3 Irrigation Schedule'!$C$29-'3 Irrigation Schedule'!$C$31)/100)*1000*M898)","v":""},"",{"$f":"IF(H898=\"\",\"\",IF(H898=1,N898*(1-'3 Irrigation Schedule'!$C$27),S897-U897))","v":""},"","","",{"$f":"IF(H898=\"\",\"\",IF('3 Irrigation Schedule'!$P$19<O898,'3 Irrigation Schedule'!$P$19,O898))","v":""},"",{"$f":"IF(H898=\"\",\"\",U898/'3 Irrigation Schedule'!$M$19)","v":""}]
[null,null,null,"2022","July","2022-07-14",null,"","",5.2023999999999999,"",0,"",{"$f":"IF(OR('3 Irrigation Schedule'!$C$29=\"\",'3 Irrigation Schedule'!$C$31=\"\",H899=\"\"),\"\",(('3 Irrigation Schedule'!$C$29-'3 Irrigation Schedule'!$C$31)/100)*1000*M899)","v":""},"",{"$f":"IF(H899=\"\",\"\",IF(H899=1,N899*(1-'3 Irrigation Schedule'!$C$27),S898-U898))","v":""},"","","",{"$f":"IF(H899=\"\",\"\",IF('3 Irrigation Schedule'!$P$19<O899,'3 Irrigation Schedule'!$P$19,O899))","v":""},"",{"$f":"IF(H899=\"\",\"\",U899/'3 Irrigation Schedule'!$M$19)","v":""}]
[null,null,null,"2022","July","2022-07-15",null,"","",5.2023999999999999,"",0,"",{"$f":"IF(OR('3 Irrigation Schedule'!$C$29=\"\",'3 Irrigation Schedule'!$C$31=\"\",H900=\"\"),\"\",(('3 Irrigation Schedule'!$C$29-'3 Irrigation Schedule'!$C$31)/100)*1000*M900)","v":""},"",{"$f":"IF(H900=\"\",\"\",IF(H900=1,N900*(1-'3 Irrigation Schedule'!$C$27),S899-U899))","v":""},"","","",{"$f":"IF(H900=\"\",\"\",IF('3 Irrigation Schedule'!$P$19<O900,'3 Irrigation Schedule'!$P$19,O900))","v":""},"",{"$f":"IF(H900=\"\",\"\",U900/'3 Irrigation Schedule'!$M$19)","v":""}]
[null,null,null,"2022","July","2022-07-16",null,"","",5.2023999999999999,"",0,"",{"$f":"IF(OR('3 Irrigation Schedule'!$C$29=\"\",'3 Irrigation Schedule'!$C$31=\"\",H901=\"\"),\"\",(('3 Irrigation Schedule'!$C$29-'3 Irrigation Schedule'!$C$31)/100)*1000*M901)","v":""},"",{"$f":"IF(H901=\"\",\"\",IF(H901=1,N901*(1-'3 Irrigation Schedule'!$C$27),S900-U900))","v":""},"","","",{"$f":"IF(H901=\"\",\"\",IF('3 Irrigation Schedule'!$P$19<O901,'3 Irrigation Schedule'!$P$19,O901))","v":""},"",{"$f":"IF(H901=\"\",\"\",U901/'3 Irrigation Schedule'!$M$19)","v":""}]
[null,null,null,"2022","July","2022-07-17",null,"","",5.2023999999999999,"",0,"",{"$f":"IF(OR('3 Irrigation Schedule'!$C$29=\"\",'3 Irrigation Schedule'!$C$31=\"\",H902=\"\"),\"\",(('3 Irrigation Schedule'!$C$29-'3 Irrigation Schedule'!$C$31)/100)*1000*M902)","v":""},"",{"$f":"IF(H902=\"\",\"\",IF(H902=1,N902*(1-'3 Irrigation Schedule'!$C$27),S901-U901))","v":""},"","","",{"$f":"IF(H902=\"\",\"\",IF('3 Irrigation Schedule'!$P$19<O902,'3 Irrigation Schedule'!$P$19,O902))","v":""},"",{"$f":"IF(H902=\"\",\"\",U902/'3 Irrigation Schedule'!$M$19)","v":""}]
[null,null,null,"2022","July","2022-07-18",null,"","",5.2023999999999999,"",0,"",{"$f":"IF(OR('3 Irrigation Schedule'!$C$29=\"\",'3 Irrigation Schedule'!$C$31=\"\",H903=\"\"),\"\",(('3 Irrigation Schedule'!$C$29-'3 Irrigation Schedule'!$C$31)/100)*1000*M903)","v":""},"",{"$f":"IF(H903=\"\",\"\",IF(H903=1,N903*(1-'3 Irrigation Schedule'!$C$27),S902-U902))","v":""},"","","",{"$f":"IF(H903=\"\",\"\",IF('3 Irrigation Schedule'!$P$19<O903,'3 Irrigation Schedule'!$P$19,O903))","v":""},"",{"$f":"IF(H903=\"\",\"\",U903/'3 Irrigation Schedule'!$M$19)","v":""}]
[null,null,null,"2022","July","2022-07-19",null,"","",5.2023999999999999,"",0,"",{"$f":"IF(OR('3 Irrigation Schedule'!$C$29=\"\",'3 Irrigation Schedule'!$C$31=\"\",H904=\"\"),\"\",(('3 Irrigation Schedule'!$C$29-'3 Irrigation Schedule'!$C$31)/100)*1000*M904)","v":""},"",{"$f":"IF(H904=\"\",\"\",IF(H904=1,N904*(1-'3 Irrigation Schedule'!$C$27),S903-U903))","v":""},"","","",{"$f":"IF(H904=\"\",\"\",IF('3 Irrigation Schedule'!$P$19<O904,'3 Irrigation Schedule'!$P$19,O904))","v":""},"",{"$f":"IF(H904=\"\",\"\",U904/'3 Irrigation Schedule'!$M$19)","v":""}]
[null,null,null,"2022","July","2022-07-20",null,"","",5.2023999999999999,"",0,"",{"$f":"IF(OR('3 Irrigation Schedule'!$C$29=\"\",'3 Irrigation Schedule'!$C$31=\"\",H905=\"\"),\"\",(('3 Irrigation Schedule'!$C$29-'3 Irrigation Schedule'!$C$31)/100)*1000*M905)","v":""},"",{"$f":"IF(H905=\"\",\"\",IF(H905=1,N905*(1-'3 Irrigation Schedule'!$C$27),S904-U904))","v":""},"","","",{"$f":"IF(H905=\"\",\"\",IF('3 Irrigation Schedule'!$P$19<O905,'3 Irrigation Schedule'!$P$19,O905))","v":""},"",{"$f":"IF(H905=\"\",\"\",U905/'3 Irrigation Schedule'!$M$19)","v":""}]
[null,null,null,"2022","July","2022-07-21",null,"","",5.2023999999999999,"",0,"",{"$f":"IF(OR('3 Irrigation Schedule'!$C$29=\"\",'3 Irrigation Schedule'!$C$31=\"\",H906=\"\"),\"\",(('3 Irrigation Schedule'!$C$29-'3 Irrigation Schedule'!$C$31)/100)*1000*M906)","v":""},"",{"$f":"IF(H906=\"\",\"\",IF(H906=1,N906*(1-'3 Irrigation Schedule'!$C$27),S905-U905))","v":""},"","","",{"$f":"IF(H906=\"\",\"\",IF('3 Irrigation Schedule'!$P$19<O906,'3 Irrigation Schedule'!$P$19,O906))","v":""},"",{"$f":"IF(H906=\"\",\"\",U906/'3 Irrigation Schedule'!$M$19)","v":""}]
[null,null,null,"2022","July","2022-07-22",null,"","",5.2023999999999999,"",0,"",{"$f":"IF(OR('3 Irrigation Schedule'!$C$29=\"\",'3 Irrigation Schedule'!$C$31=\"\",H907=\"\"),\"\",(('3 Irrigation Schedule'!$C$29-'3 Irrigation Schedule'!$C$31)/100)*1000*M907)","v":""},"",{"$f":"IF(H907=\"\",\"\",IF(H907=1,N907*(1-'3 Irrigation Schedule'!$C$27),S906-U906))","v":""},"","","",{"$f":"IF(H907=\"\",\"\",IF('3 Irrigation Schedule'!$P$19<O907,'3 Irrigation Schedule'!$P$19,O907))","v":""},"",{"$f":"IF(H907=\"\",\"\",U907/'3 Irrigation Schedule'!$M$19)","v":""}]
[null,null,null,"2022","July","2022-07-23",null,"","",5.2023999999999999,"",0,"",{"$f":"IF(OR('3 Irrigation Schedule'!$C$29=\"\",'3 Irrigation Schedule'!$C$31=\"\",H908=\"\"),\"\",(('3 Irrigation Schedule'!$C$29-'3 Irrigation Schedule'!$C$31)/100)*1000*M908)","v":""},"",{"$f":"IF(H908=\"\",\"\",IF(H908=1,N908*(1-'3 Irrigation Schedule'!$C$27),S907-U907))","v":""},"","","",{"$f":"IF(H908=\"\",\"\",IF('3 Irrigation Schedule'!$P$19<O908,'3 Irrigation Schedule'!$P$19,O908))","v":""},"",{"$f":"IF(H908=\"\",\"\",U908/'3 Irrigation Schedule'!$M$19)","v":""}]
[null,null,null,"2022","July","2022-07-24",null,"","",5.2023999999999999,"",0,"",{"$f":"IF(OR('3 Irrigation Schedule'!$C$29=\"\",'3 Irrigation Schedule'!$C$31=\"\",H909=\"\"),\"\",(('3 Irrigation Schedule'!$C$29-'3 Irrigation Schedule'!$C$31)/100)*1000*M909)","v":""},"",{"$f":"IF(H909=\"\",\"\",IF(H909=1,N909*(1-'3 Irrigation Schedule'!$C$27),S908-U908))","v":""},"","","",{"$f":"IF(H909=\"\",\"\",IF('3 Irrigation Schedule'!$P$19<O909,'3 Irrigation Schedule'!$P$19,O909))","v":""},"",{"$f":"IF(H909=\"\",\"\",U909/'3 Irrigation Schedule'!$M$19)","v":""}]
[null,null,null,"2022","July","2022-07-25",null,"","",5.2023999999999999,"",0,"",{"$f":"IF(OR('3 Irrigation Schedule'!$C$29=\"\",'3 Irrigation Schedule'!$C$31=\"\",H910=\"\"),\"\",(('3 Irrigation Schedule'!$C$29-'3 Irrigation Schedule'!$C$31)/100)*1000*M910)","v":""},"",{"$f":"IF(H910=\"\",\"\",IF(H910=1,N910*(1-'3 Irrigation Schedule'!$C$27),S909-U909))","v":""},"","","",{"$f":"IF(H910=\"\",\"\",IF('3 Irrigation Schedule'!$P$19<O910,'3 Irrigation Schedule'!$P$19,O910))","v":""},"",{"$f":"IF(H910=\"\",\"\",U910/'3 Irrigation Schedule'!$M$19)","v":""}]
[null,null,null,"2022","July","2022-07-26",null,"","",5.2023999999999999,"",0,"",{"$f":"IF(OR('3 Irrigation Schedule'!$C$29=\"\",'3 Irrigation Schedule'!$C$31=\"\",H911=\"\"),\"\",(('3 Irrigation Schedule'!$C$29-'3 Irrigation Schedule'!$C$31)/100)*1000*M911)","v":""},"",{"$f":"IF(H911=\"\",\"\",IF(H911=1,N911*(1-'3 Irrigation Schedule'!$C$27),S910-U910))","v":""},"","","",{"$f":"IF(H911=\"\",\"\",IF('3 Irrigation Schedule'!$P$19<O911,'3 Irrigation Schedule'!$P$19,O911))","v":""},"",{"$f":"IF(H911=\"\",\"\",U911/'3 Irrigation Schedule'!$M$19)","v":""}]
[null,null,null,"2022","July","2022-07-27",null,"","",5.2023999999999999,"",0,"",{"$f":"IF(OR('3 Irrigation Schedule'!$C$29=\"\",'3 Irrigation Schedule'!$C$31=\"\",H912=\"\"),\"\",(('3 Irrigation Schedule'!$C$29-'3 Irrigation Schedule'!$C$31)/100)*1000*M912)","v":""},"",{"$f":"IF(H912=\"\",\"\",IF(H912=1,N912*(1-'3 Irrigation Schedule'!$C$27),S911-U911))","v":""},"","","",{"$f":"IF(H912=\"\",\"\",IF('3 Irrigation Schedule'!$P$19<O912,'3 Irrigation Schedule'!$P$19,O912))","v":""},"",{"$f":"IF(H912=\"\",\"\",U912/'3 Irrigation Schedule'!$M$19)","v":""}]
[null,null,null,"2022","July","2022-07-28",null,"","",5.2023999999999999,"",0,"",{"$f":"IF(OR('3 Irrigation Schedule'!$C$29=\"\",'3 Irrigation Schedule'!$C$31=\"\",H913=\"\"),\"\",(('3 Irrigation Schedule'!$C$29-'3 Irrigation Schedule'!$C$31)/100)*1000*M913)","v":""},"",{"$f":"IF(H913=\"\",\"\",IF(H913=1,N913*(1-'3 Irrigation Schedule'!$C$27),S912-U912))","v":""},"","","",{"$f":"IF(H913=\"\",\"\",IF('3 Irrigation Schedule'!$P$19<O913,'3 Irrigation Schedule'!$P$19,O913))","v":""},"",{"$f":"IF(H913=\"\",\"\",U913/'3 Irrigation Schedule'!$M$19)","v":""}]
[null,null,null,"2022","July","2022-07-29",null,"","",5.2023999999999999,"",0,"",{"$f":"IF(OR('3 Irrigation Schedule'!$C$29=\"\",'3 Irrigation Schedule'!$C$31=\"\",H914=\"\"),\"\",(('3 Irrigation Schedule'!$C$29-'3 Irrigation Schedule'!$C$31)/100)*1000*M914)","v":""},"",{"$f":"IF(H914=\"\",\"\",IF(H914=1,N914*(1-'3 Irrigation Schedule'!$C$27),S913-U913))","v":""},"","","",{"$f":"IF(H914=\"\",\"\",IF('3 Irrigation Schedule'!$P$19<O914,'3 Irrigation Schedule'!$P$19,O914))","v":""},"",{"$f":"IF(H914=\"\",\"\",U914/'3 Irrigation Schedule'!$M$19)","v":""}]
[null,null,null,"2022","July","2022-07-30",null,"","",5.2023999999999999,"",0,"",{"$f":"IF(OR('3 Irrigation Schedule'!$C$29=\"\",'3 Irrigation Schedule'!$C$31=\"\",H915=\"\"),\"\",(('3 Irrigation Schedule'!$C$29-'3 Irrigation Schedule'!$C$31)/100)*1000*M915)","v":""},"",{"$f":"IF(H915=\"\",\"\",IF(H915=1,N915*(1-'3 Irrigation Schedule'!$C$27),S914-U914))","v":""},"","","",{"$f":"IF(H915=\"\",\"\",IF('3 Irrigation Schedule'!$P$19<O915,'3 Irrigation Schedule'!$P$19,O915))","v":""},"",{"$f":"IF(H915=\"\",\"\",U915/'3 Irrigation Schedule'!$M$19)","v":""}]
[null,null,null,"2022","July","2022-07-31",null,"","",5.2023999999999999,"",0,"",{"$f":"IF(OR('3 Irrigation Schedule'!$C$29=\"\",'3 Irrigation Schedule'!$C$31=\"\",H916=\"\"),\"\",(('3 Irrigation Schedule'!$C$29-'3 Irrigation Schedule'!$C$31)/100)*1000*M916)","v":""},"",{"$f":"IF(H916=\"\",\"\",IF(H916=1,N916*(1-'3 Irrigation Schedule'!$C$27),S915-U915))","v":""},"","","",{"$f":"IF(H916=\"\",\"\",IF('3 Irrigation Schedule'!$P$19<O916,'3 Irrigation Schedule'!$P$19,O916))","v":""},"",{"$f":"IF(H916=\"\",\"\",U916/'3 Irrigation Schedule'!$M$19)","v":""}]
[null,null,null,"2022","August","2022-08-01",null,"","",5.2023999999999999,"",0,"",{"$f":"IF(OR('3 Irrigation Schedule'!$C$29=\"\",'3 Irrigation Schedule'!$C$31=\"\",H917=\"\"),\"\",(('3 Irrigation Schedule'!$C$29-'3 Irrigation Schedule'!$C$31)/100)*1000*M917)","v":""},"",{"$f":"IF(H917=\"\",\"\",IF(H917=1,N917*(1-'3 Irrigation Schedule'!$C$27),S916-U916))","v":""},"","","",{"$f":"IF(H917=\"\",\"\",IF('3 Irrigation Schedule'!$P$19<O917,'3 Irrigation Schedule'!$P$19,O917))","v":""},"",{"$f":"IF(H917=\"\",\"\",U917/'3 Irrigation Schedule'!$M$19)","v":""}]
[null,null,null,"2022","August","2022-08-02",null,"","",5.2023999999999999,"",0,"",{"$f":"IF(OR('3 Irrigation Schedule'!$C$29=\"\",'3 Irrigation Schedule'!$C$31=\"\",H918=\"\"),\"\",(('3 Irrigation Schedule'!$C$29-'3 Irrigation Schedule'!$C$31)/100)*1000*M918)","v":""},"",{"$f":"IF(H918=\"\",\"\",IF(H918=1,N918*(1-'3 Irrigation Schedule'!$C$27),S917-U917))","v":""},"","","",{"$f":"IF(H918=\"\",\"\",IF('3 Irrigation Schedule'!$P$19<O918,'3 Irrigation Schedule'!$P$19,O918))","v":""},"",{"$f":"IF(H918=\"\",\"\",U918/'3 Irrigation Schedule'!$M$19)","v":""}]
[null,null,null,"2022","August","2022-08-03",null,"","",5.2023999999999999,"",0,"",{"$f":"IF(OR('3 Irrigation Schedule'!$C$29=\"\",'3 Irrigation Schedule'!$C$31=\"\",H919=\"\"),\"\",(('3 Irrigation Schedule'!$C$29-'3 Irrigation Schedule'!$C$31)/100)*1000*M919)","v":""},"",{"$f":"IF(H919=\"\",\"\",IF(H919=1,N919*(1-'3 Irrigation Schedule'!$C$27),S918-U918))","v":""},"","","",{"$f":"IF(H919=\"\",\"\",IF('3 Irrigation Schedule'!$P$19<O919,'3 Irrigation Schedule'!$P$19,O919))","v":""},"",{"$f":"IF(H919=\"\",\"\",U919/'3 Irrigation Schedule'!$M$19)","v":""}]
[null,null,null,"2022","August","2022-08-04",null,"","",5.2023999999999999,"",0,"",{"$f":"IF(OR('3 Irrigation Schedule'!$C$29=\"\",'3 Irrigation Schedule'!$C$31=\"\",H920=\"\"),\"\",(('3 Irrigation Schedule'!$C$29-'3 Irrigation Schedule'!$C$31)/100)*1000*M920)","v":""},"",{"$f":"IF(H920=\"\",\"\",IF(H920=1,N920*(1-'3 Irrigation Schedule'!$C$27),S919-U919))","v":""},"","","",{"$f":"IF(H920=\"\",\"\",IF('3 Irrigation Schedule'!$P$19<O920,'3 Irrigation Schedule'!$P$19,O920))","v":""},"",{"$f":"IF(H920=\"\",\"\",U920/'3 Irrigation Schedule'!$M$19)","v":""}]
[null,null,null,"2022","August","2022-08-05",null,"","",5.2023999999999999,"",0,"",{"$f":"IF(OR('3 Irrigation Schedule'!$C$29=\"\",'3 Irrigation Schedule'!$C$31=\"\",H921=\"\"),\"\",(('3 Irrigation Schedule'!$C$29-'3 Irrigation Schedule'!$C$31)/100)*1000*M921)","v":""},"",{"$f":"IF(H921=\"\",\"\",IF(H921=1,N921*(1-'3 Irrigation Schedule'!$C$27),S920-U920))","v":""},"","","",{"$f":"IF(H921=\"\",\"\",IF('3 Irrigation Schedule'!$P$19<O921,'3 Irrigation Schedule'!$P$19,O921))","v":""},"",{"$f":"IF(H921=\"\",\"\",U921/'3 Irrigation Schedule'!$M$19)","v":""}]
[null,null,null,"2022","August","2022-08-06",null,"","",5.2023999999999999,"",0,"",{"$f":"IF(OR('3 Irrigation Schedule'!$C$29=\"\",'3 Irrigation Schedule'!$C$31=\"\",H922=\"\"),\"\",(('3 Irrigation Schedule'!$C$29-'3 Irrigation Schedule'!$C$31)/100)*1000*M922)","v":""},"",{"$f":"IF(H922=\"\",\"\",IF(H922=1,N922*(1-'3 Irrigation Schedule'!$C$27),S921-U921))","v":""},"","","",{"$f":"IF(H922=\"\",\"\",IF('3 Irrigation Schedule'!$P$19<O922,'3 Irrigation Schedule'!$P$19,O922))","v":""},"",{"$f":"IF(H922=\"\",\"\",U922/'3 Irrigation Schedule'!$M$19)","v":""}]
[null,null,null,"2022","August","2022-08-07",null,"","",5.2023999999999999,"",0,"",{"$f":"IF(OR('3 Irrigation Schedule'!$C$29=\"\",'3 Irrigation Schedule'!$C$31=\"\",H923=\"\"),\"\",(('3 Irrigation Schedule'!$C$29-'3 Irrigation Schedule'!$C$31)/100)*1000*M923)","v":""},"",{"$f":"IF(H923=\"\",\"\",IF(H923=1,N923*(1-'3 Irrigation Schedule'!$C$27),S922-U922))","v":""},"","","",{"$f":"IF(H923=\"\",\"\",IF('3 Irrigation Schedule'!$P$19<O923,'3 Irrigation Schedule'!$P$19,O923))","v":""},"",{"$f":"IF(H923=\"\",\"\",U923/'3 Irrigation Schedule'!$M$19)","v":""}]
[null,null,null,"2022","August","2022-08-08",null,"","",5.2023999999999999,"",0,"",{"$f":"IF(OR('3 Irrigation Schedule'!$C$29=\"\",'3 Irrigation Schedule'!$C$31=\"\",H924=\"\"),\"\",(('3 Irrigation Schedule'!$C$29-'3 Irrigation Schedule'!$C$31)/100)*1000*M924)","v":""},"",{"$f":"IF(H924=\"\",\"\",IF(H924=1,N924*(1-'3 Irrigation Schedule'!$C$27),S923-U923))","v":""},"","","",{"$f":"IF(H924=\"\",\"\",IF('3 Irrigation Schedule'!$P$19<O924,'3 Irrigation Schedule'!$P$19,O924))","v":""},"",{"$f":"IF(H924=\"\",\"\",U924/'3 Irrigation Schedule'!$M$19)","v":""}]
[null,null,null,"2022","August","2022-08-09",null,"","",5.2023999999999999,"",0,"",{"$f":"IF(OR('3 Irrigation Schedule'!$C$29=\"\",'3 Irrigation Schedule'!$C$31=\"\",H925=\"\"),\"\",(('3 Irrigation Schedule'!$C$29-'3 Irrigation Schedule'!$C$31)/100)*1000*M925)","v":""},"",{"$f":"IF(H925=\"\",\"\",IF(H925=1,N925*(1-'3 Irrigation Schedule'!$C$27),S924-U924))","v":""},"","","",{"$f":"IF(H925=\"\",\"\",IF('3 Irrigation Schedule'!$P$19<O925,'3 Irrigation Schedule'!$P$19,O925))","v":""},"",{"$f":"IF(H925=\"\",\"\",U925/'3 Irrigation Schedule'!$M$19)","v":""}]
[null,null,null,"2022","August","2022-08-10",null,"","",5.2023999999999999,"",0,"",{"$f":"IF(OR('3 Irrigation Schedule'!$C$29=\"\",'3 Irrigation Schedule'!$C$31=\"\",H926=\"\"),\"\",(('3 Irrigation Schedule'!$C$29-'3 Irrigation Schedule'!$C$31)/100)*1000*M926)","v":""},"",{"$f":"IF(H926=\"\",\"\",IF(H926=1,N926*(1-'3 Irrigation Schedule'!$C$27),S925-U925))","v":""},"","","",{"$f":"IF(H926=\"\",\"\",IF('3 Irrigation Schedule'!$P$19<O926,'3 Irrigation Schedule'!$P$19,O926))","v":""},"",{"$f":"IF(H926=\"\",\"\",U926/'3 Irrigation Schedule'!$M$19)","v":""}]
[null,null,null,"2022","August","2022-08-11",null,"","",5.2023999999999999,"",0,"",{"$f":"IF(OR('3 Irrigation Schedule'!$C$29=\"\",'3 Irrigation Schedule'!$C$31=\"\",H927=\"\"),\"\",(('3 Irrigation Schedule'!$C$29-'3 Irrigation Schedule'!$C$31)/100)*1000*M927)","v":""},"",{"$f":"IF(H927=\"\",\"\",IF(H927=1,N927*(1-'3 Irrigation Schedule'!$C$27),S926-U926))","v":""},"","","",{"$f":"IF(H927=\"\",\"\",IF('3 Irrigation Schedule'!$P$19<O927,'3 Irrigation Schedule'!$P$19,O927))","v":""},"",{"$f":"IF(H927=\"\",\"\",U927/'3 Irrigation Schedule'!$M$19)","v":""}]
[null,null,null,"2022","August","2022-08-12",null,"","",5.2023999999999999,"",0,"",{"$f":"IF(OR('3 Irrigation Schedule'!$C$29=\"\",'3 Irrigation Schedule'!$C$31=\"\",H928=\"\"),\"\",(('3 Irrigation Schedule'!$C$29-'3 Irrigation Schedule'!$C$31)/100)*1000*M928)","v":""},"",{"$f":"IF(H928=\"\",\"\",IF(H928=1,N928*(1-'3 Irrigation Schedule'!$C$27),S927-U927))","v":""},"","","",{"$f":"IF(H928=\"\",\"\",IF('3 Irrigation Schedule'!$P$19<O928,'3 Irrigation Schedule'!$P$19,O928))","v":""},"",{"$f":"IF(H928=\"\",\"\",U928/'3 Irrigation Schedule'!$M$19)","v":""}]
[null,null,null,"2022","August","2022-08-13",null,"","",5.2023999999999999,"",0,"",{"$f":"IF(OR('3 Irrigation Schedule'!$C$29=\"\",'3 Irrigation Schedule'!$C$31=\"\",H929=\"\"),\"\",(('3 Irrigation Schedule'!$C$29-'3 Irrigation Schedule'!$C$31)/100)*1000*M929)","v":""},"",{"$f":"IF(H929=\"\",\"\",IF(H929=1,N929*(1-'3 Irrigation Schedule'!$C$27),S928-U928))","v":""},"","","",{"$f":"IF(H929=\"\",\"\",IF('3 Irrigation Schedule'!$P$19<O929,'3 Irrigation Schedule'!$P$19,O929))","v":""},"",{"$f":"IF(H929=\"\",\"\",U929/'3 Irrigation Schedule'!$M$19)","v":""}]
[null,null,null,{"$f":"IFERROR(TEXT(DATE(YEAR($F930),MONTH($F930),1),$D$7&$D$4),\"\")","v":"2022"},{"$f":"IFERROR(TEXT(DATE(YEAR($F930),MONTH($F930),1),$D$7&$D$5),\"\")","v":"August"},"2022-08-14",null,"","",{"$f":"IFERROR(VLOOKUP($E930,$B$19:$C$30,2,FALSE),\"\")","v":5.2023999999999999},"",0,"",{"$f":"IF(OR('3 Irrigation Schedule'!$C$29=\"\",'3 Irrigation Schedule'!$C$31=\"\",H930=\"\"),\"\",(('3 Irrigation Schedule'!$C$29-'3 Irrigation Schedule'!$C$31)/100)*1000*M930)","v":""},"",{"$f":"IF(H930=\"\",\"\",IF(H930=1,N930*(1-'3 Irrigation Schedule'!$C$27),S929-U929))","v":""},"","","",{"$f":"IF(H930=\"\",\"\",IF('3 Irrigation Schedule'!$P$19<O930,'3 Irrigation Schedule'!$P$19,O930))","v":""},"",{"$f":"IF(H930=\"\",\"\",U930/'3 Irrigation Schedule'!$M$19)","v":""}]
[null,null,null,"2022","August",{"$f":"IFERROR(IF(F930+1<=$N$7, F930+1,\"\"),\"\")","v":"2022-08-15"},null,{"$f":"IFERROR(IF(OR($F931-$J$27+1<=0,$F931>$K$30),\"\",$F931-$J$27+1),\"\")","v":""},"",5.2023999999999999,"",0,"",{"$f":"IF(OR('3 Irrigation Schedule'!$C$29=\"\",'3 Irrigation Schedule'!$C$31=\"\",H931=\"\"),\"\",(('3 Irrigation Schedule'!$C$29-'3 Irrigation Schedule'!$C$31)/100)*1000*M931)","v":""},"",{"$f":"IF(H931=\"\",\"\",IF(H931=1,N931*(1-'3 Irrigation Schedule'!$C$27),S930-U930))","v":""},"","","",{"$f":"IF(H931=\"\",\"\",IF('3 Irrigation Schedule'!$P$19<O931,'3 Irrigation Schedule'!$P$19,O931))","v":""},"",{"$f":"IF(H931=\"\",\"\",U931/'3 Irrigation Schedule'!$M$19)","v":""}]
[null,null,null,"2022","August","2022-08-16",null,"","",5.2023999999999999,"",0,"",{"$f":"IF(OR('3 Irrigation Schedule'!$C$29=\"\",'3 Irrigation Schedule'!$C$31=\"\",H932=\"\"),\"\",(('3 Irrigation Schedule'!$C$29-'3 Irrigation Schedule'!$C$31)/100)*1000*M932)","v":""},"",{"$f":"IF(H932=\"\",\"\",IF(H932=1,N932*(1-'3 Irrigation Schedule'!$C$27),S931-U931))","v":""},"","","",{"$f":"IF(H932=\"\",\"\",IF('3 Irrigation Schedule'!$P$19<O932,'3 Irrigation Schedule'!$P$19,O932))","v":""},"",{"$f":"IF(H932=\"\",\"\",U932/'3 Irrigation Schedule'!$M$19)","v":""}]
[null,null,null,"2022","August","2022-08-17",null,"","",5.2023999999999999,"",0,"",{"$f":"IF(OR('3 Irrigation Schedule'!$C$29=\"\",'3 Irrigation Schedule'!$C$31=\"\",H933=\"\"),\"\",(('3 Irrigation Schedule'!$C$29-'3 Irrigation Schedule'!$C$31)/100)*1000*M933)","v":""},"",{"$f":"IF(H933=\"\",\"\",IF(H933=1,N933*(1-'3 Irrigation Schedule'!$C$27),S932-U932))","v":""},"","","",{"$f":"IF(H933=\"\",\"\",IF('3 Irrigation Schedule'!$P$19<O933,'3 Irrigation Schedule'!$P$19,O933))","v":""},"",{"$f":"IF(H933=\"\",\"\",U933/'3 Irrigation Schedule'!$M$19)","v":""}]
[null,null,null,"2022","August","2022-08-18",null,"","",5.2023999999999999,"",0,"",{"$f":"IF(OR('3 Irrigation Schedule'!$C$29=\"\",'3 Irrigation Schedule'!$C$31=\"\",H934=\"\"),\"\",(('3 Irrigation Schedule'!$C$29-'3 Irrigation Schedule'!$C$31)/100)*1000*M934)","v":""},"",{"$f":"IF(H934=\"\",\"\",IF(H934=1,N934*(1-'3 Irrigation Schedule'!$C$27),S933-U933))","v":""},"","","",{"$f":"IF(H934=\"\",\"\",IF('3 Irrigation Schedule'!$P$19<O934,'3 Irrigation Schedule'!$P$19,O934))","v":""},"",{"$f":"IF(H934=\"\",\"\",U934/'3 Irrigation Schedule'!$M$19)","v":""}]
[null,null,null,"2022","August","2022-08-19",null,"","",5.2023999999999999,"",0,"",{"$f":"IF(OR('3 Irrigation Schedule'!$C$29=\"\",'3 Irrigation Schedule'!$C$31=\"\",H935=\"\"),\"\",(('3 Irrigation Schedule'!$C$29-'3 Irrigation Schedule'!$C$31)/100)*1000*M935)","v":""},"",{"$f":"IF(H935=\"\",\"\",IF(H935=1,N935*(1-'3 Irrigation Schedule'!$C$27),S934-U934))","v":""},"","","",{"$f":"IF(H935=\"\",\"\",IF('3 Irrigation Schedule'!$P$19<O935,'3 Irrigation Schedule'!$P$19,O935))","v":""},"",{"$f":"IF(H935=\"\",\"\",U935/'3 Irrigation Schedule'!$M$19)","v":""}]
[null,null,null,"2022","August","2022-08-20",null,"","",5.2023999999999999,"",0,"",{"$f":"IF(OR('3 Irrigation Schedule'!$C$29=\"\",'3 Irrigation Schedule'!$C$31=\"\",H936=\"\"),\"\",(('3 Irrigation Schedule'!$C$29-'3 Irrigation Schedule'!$C$31)/100)*1000*M936)","v":""},"",{"$f":"IF(H936=\"\",\"\",IF(H936=1,N936*(1-'3 Irrigation Schedule'!$C$27),S935-U935))","v":""},"","","",{"$f":"IF(H936=\"\",\"\",IF('3 Irrigation Schedule'!$P$19<O936,'3 Irrigation Schedule'!$P$19,O936))","v":""},"",{"$f":"IF(H936=\"\",\"\",U936/'3 Irrigation Schedule'!$M$19)","v":""}]
[null,null,null,"2022","August","2022-08-21",null,"","",5.2023999999999999,"",0,"",{"$f":"IF(OR('3 Irrigation Schedule'!$C$29=\"\",'3 Irrigation Schedule'!$C$31=\"\",H937=\"\"),\"\",(('3 Irrigation Schedule'!$C$29-'3 Irrigation Schedule'!$C$31)/100)*1000*M937)","v":""},"",{"$f":"IF(H937=\"\",\"\",IF(H937=1,N937*(1-'3 Irrigation Schedule'!$C$27),S936-U936))","v":""},"","","",{"$f":"IF(H937=\"\",\"\",IF('3 Irrigation Schedule'!$P$19<O937,'3 Irrigation Schedule'!$P$19,O937))","v":""},"",{"$f":"IF(H937=\"\",\"\",U937/'3 Irrigation Schedule'!$M$19)","v":""}]
[null,null,null,"2022","August","2022-08-22",null,"","",5.2023999999999999,"",0,"",{"$f":"IF(OR('3 Irrigation Schedule'!$C$29=\"\",'3 Irrigation Schedule'!$C$31=\"\",H938=\"\"),\"\",(('3 Irrigation Schedule'!$C$29-'3 Irrigation Schedule'!$C$31)/100)*1000*M938)","v":""},"",{"$f":"IF(H938=\"\",\"\",IF(H938=1,N938*(1-'3 Irrigation Schedule'!$C$27),S937-U937))","v":""},"","","",{"$f":"IF(H938=\"\",\"\",IF('3 Irrigation Schedule'!$P$19<O938,'3 Irrigation Schedule'!$P$19,O938))","v":""},"",{"$f":"IF(H938=\"\",\"\",U938/'3 Irrigation Schedule'!$M$19)","v":""}]
[null,null,null,"2022","August","2022-08-23",null,"","",5.2023999999999999,"",0,"",{"$f":"IF(OR('3 Irrigation Schedule'!$C$29=\"\",'3 Irrigation Schedule'!$C$31=\"\",H939=\"\"),\"\",(('3 Irrigation Schedule'!$C$29-'3 Irrigation Schedule'!$C$31)/100)*1000*M939)","v":""},"",{"$f":"IF(H939=\"\",\"\",IF(H939=1,N939*(1-'3 Irrigation Schedule'!$C$27),S938-U938))","v":""},"","","",{"$f":"IF(H939=\"\",\"\",IF('3 Irrigation Schedule'!$P$19<O939,'3 Irrigation Schedule'!$P$19,O939))","v":""},"",{"$f":"IF(H939=\"\",\"\",U939/'3 Irrigation Schedule'!$M$19)","v":""}]
[null,null,null,"2022","August","2022-08-24",null,"","",5.2023999999999999,"",0,"",{"$f":"IF(OR('3 Irrigation Schedule'!$C$29=\"\",'3 Irrigation Schedule'!$C$31=\"\",H940=\"\"),\"\",(('3 Irrigation Schedule'!$C$29-'3 Irrigation Schedule'!$C$31)/100)*1000*M940)","v":""},"",{"$f":"IF(H940=\"\",\"\",IF(H940=1,N940*(1-'3 Irrigation Schedule'!$C$27),S939-U939))","v":""},"","","",{"$f":"IF(H940=\"\",\"\",IF('3 Irrigation Schedule'!$P$19<O940,'3 Irrigation Schedule'!$P$19,O940))","v":""},"",{"$f":"IF(H940=\"\",\"\",U940/'3 Irrigation Schedule'!$M$19)","v":""}]
[null,null,null,"2022","August","2022-08-25",null,"","",5.2023999999999999,"",0,"",{"$f":"IF(OR('3 Irrigation Schedule'!$C$29=\"\",'3 Irrigation Schedule'!$C$31=\"\",H941=\"\"),\"\",(('3 Irrigation Schedule'!$C$29-'3 Irrigation Schedule'!$C$31)/100)*1000*M941)","v":""},"",{"$f":"IF(H941=\"\",\"\",IF(H941=1,N941*(1-'3 Irrigation Schedule'!$C$27),S940-U940))","v":""},"","","",{"$f":"IF(H941=\"\",\"\",IF('3 Irrigation Schedule'!$P$19<O941,'3 Irrigation Schedule'!$P$19,O941))","v":""},"",{"$f":"IF(H941=\"\",\"\",U941/'3 Irrigation Schedule'!$M$19)","v":""}]
[null,null,null,"2022","August","2022-08-26",null,"","",5.2023999999999999,"",0,"",{"$f":"IF(OR('3 Irrigation Schedule'!$C$29=\"\",'3 Irrigation Schedule'!$C$31=\"\",H942=\"\"),\"\",(('3 Irrigation Schedule'!$C$29-'3 Irrigation Schedule'!$C$31)/100)*1000*M942)","v":""},"",{"$f":"IF(H942=\"\",\"\",IF(H942=1,N942*(1-'3 Irrigation Schedule'!$C$27),S941-U941))","v":""},"","","",{"$f":"IF(H942=\"\",\"\",IF('3 Irrigation Schedule'!$P$19<O942,'3 Irrigation Schedule'!$P$19,O942))","v":""},"",{"$f":"IF(H942=\"\",\"\",U942/'3 Irrigation Schedule'!$M$19)","v":""}]
[null,null,null,"2022","August","2022-08-27",null,"","",5.2023999999999999,"",0,"",{"$f":"IF(OR('3 Irrigation Schedule'!$C$29=\"\",'3 Irrigation Schedule'!$C$31=\"\",H943=\"\"),\"\",(('3 Irrigation Schedule'!$C$29-'3 Irrigation Schedule'!$C$31)/100)*1000*M943)","v":""},"",{"$f":"IF(H943=\"\",\"\",IF(H943=1,N943*(1-'3 Irrigation Schedule'!$C$27),S942-U942))","v":""},"","","",{"$f":"IF(H943=\"\",\"\",IF('3 Irrigation Schedule'!$P$19<O943,'3 Irrigation Schedule'!$P$19,O943))","v":""},"",{"$f":"IF(H943=\"\",\"\",U943/'3 Irrigation Schedule'!$M$19)","v":""}]
[null,null,null,"2022","August","2022-08-28",null,"","",5.2023999999999999,"",0,"",{"$f":"IF(OR('3 Irrigation Schedule'!$C$29=\"\",'3 Irrigation Schedule'!$C$31=\"\",H944=\"\"),\"\",(('3 Irrigation Schedule'!$C$29-'3 Irrigation Schedule'!$C$31)/100)*1000*M944)","v":""},"",{"$f":"IF(H944=\"\",\"\",IF(H944=1,N944*(1-'3 Irrigation Schedule'!$C$27),S943-U943))","v":""},"","","",{"$f":"IF(H944=\"\",\"\",IF('3 Irrigation Schedule'!$P$19<O944,'3 Irrigation Schedule'!$P$19,O944))","v":""},"",{"$f":"IF(H944=\"\",\"\",U944/'3 Irrigation Schedule'!$M$19)","v":""}]
[null,null,null,"2022","August","2022-08-29",null,"","",5.2023999999999999,"",0,"",{"$f":"IF(OR('3 Irrigation Schedule'!$C$29=\"\",'3 Irrigation Schedule'!$C$31=\"\",H945=\"\"),\"\",(('3 Irrigation Schedule'!$C$29-'3 Irrigation Schedule'!$C$31)/100)*1000*M945)","v":""},"",{"$f":"IF(H945=\"\",\"\",IF(H945=1,N945*(1-'3 Irrigation Schedule'!$C$27),S944-U944))","v":""},"","","",{"$f":"IF(H945=\"\",\"\",IF('3 Irrigation Schedule'!$P$19<O945,'3 Irrigation Schedule'!$P$19,O945))","v":""},"",{"$f":"IF(H945=\"\",\"\",U945/'3 Irrigation Schedule'!$M$19)","v":""}]
[null,null,null,"2022","August","2022-08-30",null,"","",5.2023999999999999,"",0,"",{"$f":"IF(OR('3 Irrigation Schedule'!$C$29=\"\",'3 Irrigation Schedule'!$C$31=\"\",H946=\"\"),\"\",(('3 Irrigation Schedule'!$C$29-'3 Irrigation Schedule'!$C$31)/100)*1000*M946)","v":""},"",{"$f":"IF(H946=\"\",\"\",IF(H946=1,N946*(1-'3 Irrigation Schedule'!$C$27),S945-U945))","v":""},"","","",{"$f":"IF(H946=\"\",\"\",IF('3 Irrigation Schedule'!$P$19<O946,'3 Irrigation Schedule'!$P$19,O946))","v":""},"",{"$f":"IF(H946=\"\",\"\",U946/'3 Irrigation Schedule'!$M$19)","v":""}]
[null,null,null,"2022","August","2022-08-31",null,"","",5.2023999999999999,"",0,"",{"$f":"IF(OR('3 Irrigation Schedule'!$C$29=\"\",'3 Irrigation Schedule'!$C$31=\"\",H947=\"\"),\"\",(('3 Irrigation Schedule'!$C$29-'3 Irrigation Schedule'!$C$31)/100)*1000*M947)","v":""},"",{"$f":"IF(H947=\"\",\"\",IF(H947=1,N947*(1-'3 Irrigation Schedule'!$C$27),S946-U946))","v":""},"","","",{"$f":"IF(H947=\"\",\"\",IF('3 Irrigation Schedule'!$P$19<O947,'3 Irrigation Schedule'!$P$19,O947))","v":""},"",{"$f":"IF(H947=\"\",\"\",U947/'3 Irrigation Schedule'!$M$19)","v":""}]
[null,null,null,"2022","September","2022-09-01",null,"","",5.2796800000000008,"",0,"",{"$f":"IF(OR('3 Irrigation Schedule'!$C$29=\"\",'3 Irrigation Schedule'!$C$31=\"\",H948=\"\"),\"\",(('3 Irrigation Schedule'!$C$29-'3 Irrigation Schedule'!$C$31)/100)*1000*M948)","v":""},"",{"$f":"IF(H948=\"\",\"\",IF(H948=1,N948*(1-'3 Irrigation Schedule'!$C$27),S947-U947))","v":""},"","","",{"$f":"IF(H948=\"\",\"\",IF('3 Irrigation Schedule'!$P$19<O948,'3 Irrigation Schedule'!$P$19,O948))","v":""},"",{"$f":"IF(H948=\"\",\"\",U948/'3 Irrigation Schedule'!$M$19)","v":""}]
[null,null,null,"2022","September","2022-09-02",null,"","",5.2796800000000008,"",0,"",{"$f":"IF(OR('3 Irrigation Schedule'!$C$29=\"\",'3 Irrigation Schedule'!$C$31=\"\",H949=\"\"),\"\",(('3 Irrigation Schedule'!$C$29-'3 Irrigation Schedule'!$C$31)/100)*1000*M949)","v":""},"",{"$f":"IF(H949=\"\",\"\",IF(H949=1,N949*(1-'3 Irrigation Schedule'!$C$27),S948-U948))","v":""},"","","",{"$f":"IF(H949=\"\",\"\",IF('3 Irrigation Schedule'!$P$19<O949,'3 Irrigation Schedule'!$P$19,O949))","v":""},"",{"$f":"IF(H949=\"\",\"\",U949/'3 Irrigation Schedule'!$M$19)","v":""}]
[null,null,null,"2022","September","2022-09-03",null,"","",5.2796800000000008,"",0,"",{"$f":"IF(OR('3 Irrigation Schedule'!$C$29=\"\",'3 Irrigation Schedule'!$C$31=\"\",H950=\"\"),\"\",(('3 Irrigation Schedule'!$C$29-'3 Irrigation Schedule'!$C$31)/100)*1000*M950)","v":""},"",{"$f":"IF(H950=\"\",\"\",IF(H950=1,N950*(1-'3 Irrigation Schedule'!$C$27),S949-U949))","v":""},"","","",{"$f":"IF(H950=\"\",\"\",IF('3 Irrigation Schedule'!$P$19<O950,'3 Irrigation Schedule'!$P$19,O950))","v":""},"",{"$f":"IF(H950=\"\",\"\",U950/'3 Irrigation Schedule'!$M$19)","v":""}]
[null,null,null,"2022","September","2022-09-04",null,"","",5.2796800000000008,"",0,"",{"$f":"IF(OR('3 Irrigation Schedule'!$C$29=\"\",'3 Irrigation Schedule'!$C$31=\"\",H951=\"\"),\"\",(('3 Irrigation Schedule'!$C$29-'3 Irrigation Schedule'!$C$31)/100)*1000*M951)","v":""},"",{"$f":"IF(H951=\"\",\"\",IF(H951=1,N951*(1-'3 Irrigation Schedule'!$C$27),S950-U950))","v":""},"","","",{"$f":"IF(H951=\"\",\"\",IF('3 Irrigation Schedule'!$P$19<O951,'3 Irrigation Schedule'!$P$19,O951))","v":""},"",{"$f":"IF(H951=\"\",\"\",U951/'3 Irrigation Schedule'!$M$19)","v":""}]
[null,null,null,"2022","September","2022-09-05",null,"","",5.2796800000000008,"",0,"",{"$f":"IF(OR('3 Irrigation Schedule'!$C$29=\"\",'3 Irrigation Schedule'!$C$31=\"\",H952=\"\"),\"\",(('3 Irrigation Schedule'!$C$29-'3 Irrigation Schedule'!$C$31)/100)*1000*M952)","v":""},"",{"$f":"IF(H952=\"\",\"\",IF(H952=1,N952*(1-'3 Irrigation Schedule'!$C$27),S951-U951))","v":""},"","","",{"$f":"IF(H952=\"\",\"\",IF('3 Irrigation Schedule'!$P$19<O952,'3 Irrigation Schedule'!$P$19,O952))","v":""},"",{"$f":"IF(H952=\"\",\"\",U952/'3 Irrigation Schedule'!$M$19)","v":""}]
[null,null,null,"2022","September","2022-09-06",null,"","",5.2796800000000008,"",0,"",{"$f":"IF(OR('3 Irrigation Schedule'!$C$29=\"\",'3 Irrigation Schedule'!$C$31=\"\",H953=\"\"),\"\",(('3 Irrigation Schedule'!$C$29-'3 Irrigation Schedule'!$C$31)/100)*1000*M953)","v":""},"",{"$f":"IF(H953=\"\",\"\",IF(H953=1,N953*(1-'3 Irrigation Schedule'!$C$27),S952-U952))","v":""},"","","",{"$f":"IF(H953=\"\",\"\",IF('3 Irrigation Schedule'!$P$19<O953,'3 Irrigation Schedule'!$P$19,O953))","v":""},"",{"$f":"IF(H953=\"\",\"\",U953/'3 Irrigation Schedule'!$M$19)","v":""}]
[null,null,null,"2022","September","2022-09-07",null,"","",5.2796800000000008,"",0,"",{"$f":"IF(OR('3 Irrigation Schedule'!$C$29=\"\",'3 Irrigation Schedule'!$C$31=\"\",H954=\"\"),\"\",(('3 Irrigation Schedule'!$C$29-'3 Irrigation Schedule'!$C$31)/100)*1000*M954)","v":""},"",{"$f":"IF(H954=\"\",\"\",IF(H954=1,N954*(1-'3 Irrigation Schedule'!$C$27),S953-U953))","v":""},"","","",{"$f":"IF(H954=\"\",\"\",IF('3 Irrigation Schedule'!$P$19<O954,'3 Irrigation Schedule'!$P$19,O954))","v":""},"",{"$f":"IF(H954=\"\",\"\",U954/'3 Irrigation Schedule'!$M$19)","v":""}]
[null,null,null,"2022","September","2022-09-08",null,"","",5.2796800000000008,"",0,"",{"$f":"IF(OR('3 Irrigation Schedule'!$C$29=\"\",'3 Irrigation Schedule'!$C$31=\"\",H955=\"\"),\"\",(('3 Irrigation Schedule'!$C$29-'3 Irrigation Schedule'!$C$31)/100)*1000*M955)","v":""},"",{"$f":"IF(H955=\"\",\"\",IF(H955=1,N955*(1-'3 Irrigation Schedule'!$C$27),S954-U954))","v":""},"","","",{"$f":"IF(H955=\"\",\"\",IF('3 Irrigation Schedule'!$P$19<O955,'3 Irrigation Schedule'!$P$19,O955))","v":""},"",{"$f":"IF(H955=\"\",\"\",U955/'3 Irrigation Schedule'!$M$19)","v":""}]
[null,null,null,"2022","September","2022-09-09",null,"","",5.2796800000000008,"",0,"",{"$f":"IF(OR('3 Irrigation Schedule'!$C$29=\"\",'3 Irrigation Schedule'!$C$31=\"\",H956=\"\"),\"\",(('3 Irrigation Schedule'!$C$29-'3 Irrigation Schedule'!$C$31)/100)*1000*M956)","v":""},"",{"$f":"IF(H956=\"\",\"\",IF(H956=1,N956*(1-'3 Irrigation Schedule'!$C$27),S955-U955))","v":""},"","","",{"$f":"IF(H956=\"\",\"\",IF('3 Irrigation Schedule'!$P$19<O956,'3 Irrigation Schedule'!$P$19,O956))","v":""},"",{"$f":"IF(H956=\"\",\"\",U956/'3 Irrigation Schedule'!$M$19)","v":""}]
[null,null,null,"2022","September","2022-09-10",null,"",{"$f":"IF(H957=\"\",\"\",IF(H957<=$I$27,\"Initial\",IF(AND(H957>$I$27,H957<=$I$28),\"Development\",IF(AND(H957>$I$28,H957<=$I$29),\"Mid Season\",\"Late Season\"))))","v":""},5.2796800000000008,{"$f":"IF(H957=\"\",\"\",IF(H957<=$I$27,$L$27,IF(AND(H957>$I$27,H957<=$I$28),$L$27+((H957-$I$27)/$H$28)*($L$29-$L$27),IF(AND(H957>$I$28,H957<=$I$29),$L$29,$L$29+((H957-$I$29)/$H$30)*($L$30-$L$29)))))","v":""},{"$f":"IFERROR((J957*K957),0)","v":0},{"$f":"IF(H957=\"\",\"\",IF(OR(H957=1,H957<$I$28),$M$27+(($M$28-$M$27)*((H957-1)/($I$28-1))),$M$28))","v":""},{"$f":"IF(OR('3 Irrigation Schedule'!$C$29=\"\",'3 Irrigation Schedule'!$C$31=\"\",H957=\"\"),\"\",(('3 Irrigation Schedule'!$C$29-'3 Irrigation Schedule'!$C$31)/100)*1000*M957)","v":""},{"$f":"IF(H957=\"\",\"\",N957*$N$27)","v":""},{"$f":"IF(H957=\"\",\"\",IF(H957=1,N957*(1-'3 Irrigation Schedule'!$C$27),S956-U956))","v":""},{"$f":"IF(H957=\"\",\"\",IF(P957>O957,(N957-P957)/(N957-O957),1))","v":""},{"$f":"IF(H957=\"\",\"\",L957*Q957)","v":""},{"$f":"IF(H957=\"\",\"\",P957+R957)","v":""},{"$f":"IF(H957=\"\",\"\",IF('3 Irrigation Schedule'!$P$19<O957,'3 Irrigation Schedule'!$P$19,O957))","v":""},{"$f":"IF(H957=\"\",\"\",IF(T957<=S957,T957,0))","v":""},{"$f":"IF(H957=\"\",\"\",U957/'3 Irrigation Schedule'!$M$19)","v":""}]
[null,null,null,"2022","September","2022-09-11",null,"","",5.2796800000000008,"",0,"",{"$f":"IF(OR('3 Irrigation Schedule'!$C$29=\"\",'3 Irrigation Schedule'!$C$31=\"\",H958=\"\"),\"\",(('3 Irrigation Schedule'!$C$29-'3 Irrigation Schedule'!$C$31)/100)*1000*M958)","v":""},"",{"$f":"IF(H958=\"\",\"\",IF(H958=1,N958*(1-'3 Irrigation Schedule'!$C$27),S957-U957))","v":""},"","","",{"$f":"IF(H958=\"\",\"\",IF('3 Irrigation Schedule'!$P$19<O958,'3 Irrigation Schedule'!$P$19,O958))","v":""},"",{"$f":"IF(H958=\"\",\"\",U958/'3 Irrigation Schedule'!$M$19)","v":""}]
[null,null,null,"2022","September","2022-09-12",null,"","",5.2796800000000008,"",0,"",{"$f":"IF(OR('3 Irrigation Schedule'!$C$29=\"\",'3 Irrigation Schedule'!$C$31=\"\",H959=\"\"),\"\",(('3 Irrigation Schedule'!$C$29-'3 Irrigation Schedule'!$C$31)/100)*1000*M959)","v":""},"",{"$f":"IF(H959=\"\",\"\",IF(H959=1,N959*(1-'3 Irrigation Schedule'!$C$27),S958-U958))","v":""},"","","",{"$f":"IF(H959=\"\",\"\",IF('3 Irrigation Schedule'!$P$19<O959,'3 Irrigation Schedule'!$P$19,O959))","v":""},"",{"$f":"IF(H959=\"\",\"\",U959/'3 Irrigation Schedule'!$M$19)","v":""}]
[null,null,null,"2022","September","2022-09-13",null,"","",5.2796800000000008,"",0,"",{"$f":"IF(OR('3 Irrigation Schedule'!$C$29=\"\",'3 Irrigation Schedule'!$C$31=\"\",H960=\"\"),\"\",(('3 Irrigation Schedule'!$C$29-'3 Irrigation Schedule'!$C$31)/100)*1000*M960)","v":""},"",{"$f":"IF(H960=\"\",\"\",IF(H960=1,N960*(1-'3 Irrigation Schedule'!$C$27),S959-U959))","v":""},"","","",{"$f":"IF(H960=\"\",\"\",IF('3 Irrigation Schedule'!$P$19<O960,'3 Irrigation Schedule'!$P$19,O960))","v":""},"",{"$f":"IF(H960=\"\",\"\",U960/'3 Irrigation Schedule'!$M$19)","v":""}]
[null,null,null,"2022","September","2022-09-14",null,"","",5.2796800000000008,"",0,"",{"$f":"IF(OR('3 Irrigation Schedule'!$C$29=\"\",'3 Irrigation Schedule'!$C$31=\"\",H961=\"\"),\"\",(('3 Irrigation Schedule'!$C$29-'3 Irrigation Schedule'!$C$31)/100)*1000*M961)","v":""},"",{"$f":"IF(H961=\"\",\"\",IF(H961=1,N961*(1-'3 Irrigation Schedule'!$C$27),S960-U960))","v":""},"","","",{"$f":"IF(H961=\"\",\"\",IF('3 Irrigation Schedule'!$P$19<O961,'3 Irrigation Schedule'!$P$19,O961))","v":""},"",{"$f":"IF(H961=\"\",\"\",U961/'3 Irrigation Schedule'!$M$19)","v":""}]
[null,null,null,"2022","September","2022-09-15",null,"","",5.2796800000000008,"",0,"",{"$f":"IF(OR('3 Irrigation Schedule'!$C$29=\"\",'3 Irrigation Schedule'!$C$31=\"\",H962=\"\"),\"\",(('3 Irrigation Schedule'!$C$29-'3 Irrigation Schedule'!$C$31)/100)*1000*M962)","v":""},"",{"$f":"IF(H962=\"\",\"\",IF(H962=1,N962*(1-'3 Irrigation Schedule'!$C$27),S961-U961))","v":""},"","","",{"$f":"IF(H962=\"\",\"\",IF('3 Irrigation Schedule'!$P$19<O962,'3 Irrigation Schedule'!$P$19,O962))","v":""},"",{"$f":"IF(H962=\"\",\"\",U962/'3 Irrigation Schedule'!$M$19)","v":""}]
[null,null,null,"2022","September","2022-09-16",null,"","",5.2796800000000008,"",0,"",{"$f":"IF(OR('3 Irrigation Schedule'!$C$29=\"\",'3 Irrigation Schedule'!$C$31=\"\",H963=\"\"),\"\",(('3 Irrigation Schedule'!$C$29-'3 Irrigation Schedule'!$C$31)/100)*1000*M963)","v":""},"",{"$f":"IF(H963=\"\",\"\",IF(H963=1,N963*(1-'3 Irrigation Schedule'!$C$27),S962-U962))","v":""},"","","",{"$f":"IF(H963=\"\",\"\",IF('3 Irrigation Schedule'!$P$19<O963,'3 Irrigation Schedule'!$P$19,O963))","v":""},"",{"$f":"IF(H963=\"\",\"\",U963/'3 Irrigation Schedule'!$M$19)","v":""}]
[null,null,null,"2022","September","2022-09-17",null,"","",5.2796800000000008,"",0,"",{"$f":"IF(OR('3 Irrigation Schedule'!$C$29=\"\",'3 Irrigation Schedule'!$C$31=\"\",H964=\"\"),\"\",(('3 Irrigation Schedule'!$C$29-'3 Irrigation Schedule'!$C$31)/100)*1000*M964)","v":""},"",{"$f":"IF(H964=\"\",\"\",IF(H964=1,N964*(1-'3 Irrigation Schedule'!$C$27),S963-U963))","v":""},"","","",{"$f":"IF(H964=\"\",\"\",IF('3 Irrigation Schedule'!$P$19<O964,'3 Irrigation Schedule'!$P$19,O964))","v":""},"",{"$f":"IF(H964=\"\",\"\",U964/'3 Irrigation Schedule'!$M$19)","v":""}]
[null,null,null,"2022","September","2022-09-18",null,"","",5.2796800000000008,"",0,"",{"$f":"IF(OR('3 Irrigation Schedule'!$C$29=\"\",'3 Irrigation Schedule'!$C$31=\"\",H965=\"\"),\"\",(('3 Irrigation Schedule'!$C$29-'3 Irrigation Schedule'!$C$31)/100)*1000*M965)","v":""},"",{"$f":"IF(H965=\"\",\"\",IF(H965=1,N965*(1-'3 Irrigation Schedule'!$C$27),S964-U964))","v":""},"","","",{"$f":"IF(H965=\"\",\"\",IF('3 Irrigation Schedule'!$P$19<O965,'3 Irrigation Schedule'!$P$19,O965))","v":""},"",{"$f":"IF(H965=\"\",\"\",U965/'3 Irrigation Schedule'!$M$19)","v":""}]
[null,null,null,"2022","September","2022-09-19",null,"","",5.2796800000000008,"",0,"",{"$f":"IF(OR('3 Irrigation Schedule'!$C$29=\"\",'3 Irrigation Schedule'!$C$31=\"\",H966=\"\"),\"\",(('3 Irrigation Schedule'!$C$29-'3 Irrigation Schedule'!$C$31)/100)*1000*M966)","v":""},"",{"$f":"IF(H966=\"\",\"\",IF(H966=1,N966*(1-'3 Irrigation Schedule'!$C$27),S965-U965))","v":""},"","","",{"$f":"IF(H966=\"\",\"\",IF('3 Irrigation Schedule'!$P$19<O966,'3 Irrigation Schedule'!$P$19,O966))","v":""},"",{"$f":"IF(H966=\"\",\"\",U966/'3 Irrigation Schedule'!$M$19)","v":""}]
[null,null,null,"2022","September","2022-09-20",null,"","",5.2796800000000008,"",0,"",{"$f":"IF(OR('3 Irrigation Schedule'!$C$29=\"\",'3 Irrigation Schedule'!$C$31=\"\",H967=\"\"),\"\",(('3 Irrigation Schedule'!$C$29-'3 Irrigation Schedule'!$C$31)/100)*1000*M967)","v":""},"",{"$f":"IF(H967=\"\",\"\",IF(H967=1,N967*(1-'3 Irrigation Schedule'!$C$27),S966-U966))","v":""},"","","",{"$f":"IF(H967=\"\",\"\",IF('3 Irrigation Schedule'!$P$19<O967,'3 Irrigation Schedule'!$P$19,O967))","v":""},"",{"$f":"IF(H967=\"\",\"\",U967/'3 Irrigation Schedule'!$M$19)","v":""}]
[null,null,null,"2022","September","2022-09-21",null,"","",5.2796800000000008,"",0,"",{"$f":"IF(OR('3 Irrigation Schedule'!$C$29=\"\",'3 Irrigation Schedule'!$C$31=\"\",H968=\"\"),\"\",(('3 Irrigation Schedule'!$C$29-'3 Irrigation Schedule'!$C$31)/100)*1000*M968)","v":""},"",{"$f":"IF(H968=\"\",\"\",IF(H968=1,N968*(1-'3 Irrigation Schedule'!$C$27),S967-U967))","v":""},"","","",{"$f":"IF(H968=\"\",\"\",IF('3 Irrigation Schedule'!$P$19<O968,'3 Irrigation Schedule'!$P$19,O968))","v":""},"",{"$f":"IF(H968=\"\",\"\",U968/'3 Irrigation Schedule'!$M$19)","v":""}]
[null,null,null,"2022","September","2022-09-22",null,"","",5.2796800000000008,"",0,"",{"$f":"IF(OR('3 Irrigation Schedule'!$C$29=\"\",'3 Irrigation Schedule'!$C$31=\"\",H969=\"\"),\"\",(('3 Irrigation Schedule'!$C$29-'3 Irrigation Schedule'!$C$31)/100)*1000*M969)","v":""},"",{"$f":"IF(H969=\"\",\"\",IF(H969=1,N969*(1-'3 Irrigation Schedule'!$C$27),S968-U968))","v":""},"","","",{"$f":"IF(H969=\"\",\"\",IF('3 Irrigation Schedule'!$P$19<O969,'3 Irrigation Schedule'!$P$19,O969))","v":""},"",{"$f":"IF(H969=\"\",\"\",U969/'3 Irrigation Schedule'!$M$19)","v":""}]
[null,null,null,"2022","September","2022-09-23",null,"","",5.2796800000000008,"",0,"",{"$f":"IF(OR('3 Irrigation Schedule'!$C$29=\"\",'3 Irrigation Schedule'!$C$31=\"\",H970=\"\"),\"\",(('3 Irrigation Schedule'!$C$29-'3 Irrigation Schedule'!$C$31)/100)*1000*M970)","v":""},"",{"$f":"IF(H970=\"\",\"\",IF(H970=1,N970*(1-'3 Irrigation Schedule'!$C$27),S969-U969))","v":""},"","","",{"$f":"IF(H970=\"\",\"\",IF('3 Irrigation Schedule'!$P$19<O970,'3 Irrigation Schedule'!$P$19,O970))","v":""},"",{"$f":"IF(H970=\"\",\"\",U970/'3 Irrigation Schedule'!$M$19)","v":""}]
[null,null,null,"2022","September","2022-09-24",null,"","",5.2796800000000008,"",0,"",{"$f":"IF(OR('3 Irrigation Schedule'!$C$29=\"\",'3 Irrigation Schedule'!$C$31=\"\",H971=\"\"),\"\",(('3 Irrigation Schedule'!$C$29-'3 Irrigation Schedule'!$C$31)/100)*1000*M971)","v":""},"",{"$f":"IF(H971=\"\",\"\",IF(H971=1,N971*(1-'3 Irrigation Schedule'!$C$27),S970-U970))","v":""},"","","",{"$f":"IF(H971=\"\",\"\",IF('3 Irrigation Schedule'!$P$19<O971,'3 Irrigation Schedule'!$P$19,O971))","v":""},"",{"$f":"IF(H971=\"\",\"\",U971/'3 Irrigation Schedule'!$M$19)","v":""}]
[null,null,null,"2022","September","2022-09-25",null,"","",5.2796800000000008,"",0,"",{"$f":"IF(OR('3 Irrigation Schedule'!$C$29=\"\",'3 Irrigation Schedule'!$C$31=\"\",H972=\"\"),\"\",(('3 Irrigation Schedule'!$C$29-'3 Irrigation Schedule'!$C$31)/100)*1000*M972)","v":""},"",{"$f":"IF(H972=\"\",\"\",IF(H972=1,N972*(1-'3 Irrigation Schedule'!$C$27),S971-U971))","v":""},"","","",{"$f":"IF(H972=\"\",\"\",IF('3 Irrigation Schedule'!$P$19<O972,'3 Irrigation Schedule'!$P$19,O972))","v":""},"",{"$f":"IF(H972=\"\",\"\",U972/'3 Irrigation Schedule'!$M$19)","v":""}]
[null,null,null,"2022","September","2022-09-26",null,"","",5.2796800000000008,"",0,"",{"$f":"IF(OR('3 Irrigation Schedule'!$C$29=\"\",'3 Irrigation Schedule'!$C$31=\"\",H973=\"\"),\"\",(('3 Irrigation Schedule'!$C$29-'3 Irrigation Schedule'!$C$31)/100)*1000*M973)","v":""},"",{"$f":"IF(H973=\"\",\"\",IF(H973=1,N973*(1-'3 Irrigation Schedule'!$C$27),S972-U972))","v":""},"","","",{"$f":"IF(H973=\"\",\"\",IF('3 Irrigation Schedule'!$P$19<O973,'3 Irrigation Schedule'!$P$19,O973))","v":""},"",{"$f":"IF(H973=\"\",\"\",U973/'3 Irrigation Schedule'!$M$19)","v":""}]
[null,null,null,"2022","September","2022-09-27",null,"","",5.2796800000000008,"",0,"",{"$f":"IF(OR('3 Irrigation Schedule'!$C$29=\"\",'3 Irrigation Schedule'!$C$31=\"\",H974=\"\"),\"\",(('3 Irrigation Schedule'!$C$29-'3 Irrigation Schedule'!$C$31)/100)*1000*M974)","v":""},"",{"$f":"IF(H974=\"\",\"\",IF(H974=1,N974*(1-'3 Irrigation Schedule'!$C$27),S973-U973))","v":""},"","","",{"$f":"IF(H974=\"\",\"\",IF('3 Irrigation Schedule'!$P$19<O974,'3 Irrigation Schedule'!$P$19,O974))","v":""},"",{"$f":"IF(H974=\"\",\"\",U974/'3 Irrigation Schedule'!$M$19)","v":""}]
[null,null,null,"2022","September","2022-09-28",null,"","",5.2796800000000008,"",0,"",{"$f":"IF(OR('3 Irrigation Schedule'!$C$29=\"\",'3 Irrigation Schedule'!$C$31=\"\",H975=\"\"),\"\",(('3 Irrigation Schedule'!$C$29-'3 Irrigation Schedule'!$C$31)/100)*1000*M975)","v":""},"",{"$f":"IF(H975=\"\",\"\",IF(H975=1,N975*(1-'3 Irrigation Schedule'!$C$27),S974-U974))","v":""},"","","",{"$f":"IF(H975=\"\",\"\",IF('3 Irrigation Schedule'!$P$19<O975,'3 Irrigation Schedule'!$P$19,O975))","v":""},"",{"$f":"IF(H975=\"\",\"\",U975/'3 Irrigation Schedule'!$M$19)","v":""}]
[null,null,null,"2022","September","2022-09-29",null,"","",5.2796800000000008,"",0,"",{"$f":"IF(OR('3 Irrigation Schedule'!$C$29=\"\",'3 Irrigation Schedule'!$C$31=\"\",H976=\"\"),\"\",(('3 Irrigation Schedule'!$C$29-'3 Irrigation Schedule'!$C$31)/100)*1000*M976)","v":""},"",{"$f":"IF(H976=\"\",\"\",IF(H976=1,N976*(1-'3 Irrigation Schedule'!$C$27),S975-U975))","v":""},"","","",{"$f":"IF(H976=\"\",\"\",IF('3 Irrigation Schedule'!$P$19<O976,'3 Irrigation Schedule'!$P$19,O976))","v":""},"",{"$f":"IF(H976=\"\",\"\",U976/'3 Irrigation Schedule'!$M$19)","v":""}]
[null,null,null,"2022","September","2022-09-30",null,"","",5.2796800000000008,"",0,"",{"$f":"IF(OR('3 Irrigation Schedule'!$C$29=\"\",'3 Irrigation Schedule'!$C$31=\"\",H977=\"\"),\"\",(('3 Irrigation Schedule'!$C$29-'3 Irrigation Schedule'!$C$31)/100)*1000*M977)","v":""},"",{"$f":"IF(H977=\"\",\"\",IF(H977=1,N977*(1-'3 Irrigation Schedule'!$C$27),S976-U976))","v":""},"","","",{"$f":"IF(H977=\"\",\"\",IF('3 Irrigation Schedule'!$P$19<O977,'3 Irrigation Schedule'!$P$19,O977))","v":""},"",{"$f":"IF(H977=\"\",\"\",U977/'3 Irrigation Schedule'!$M$19)","v":""}]
[null,null,null,"2022","October","2022-10-01",null,"","",5.1283799999999999,"",0,"",{"$f":"IF(OR('3 Irrigation Schedule'!$C$29=\"\",'3 Irrigation Schedule'!$C$31=\"\",H978=\"\"),\"\",(('3 Irrigation Schedule'!$C$29-'3 Irrigation Schedule'!$C$31)/100)*1000*M978)","v":""},"",{"$f":"IF(H978=\"\",\"\",IF(H978=1,N978*(1-'3 Irrigation Schedule'!$C$27),S977-U977))","v":""},"","","",{"$f":"IF(H978=\"\",\"\",IF('3 Irrigation Schedule'!$P$19<O978,'3 Irrigation Schedule'!$P$19,O978))","v":""},"",{"$f":"IF(H978=\"\",\"\",U978/'3 Irrigation Schedule'!$M$19)","v":""}]
[null,null,null,"2022","October","2022-10-02",null,"","",5.1283799999999999,"",0,"",{"$f":"IF(OR('3 Irrigation Schedule'!$C$29=\"\",'3 Irrigation Schedule'!$C$31=\"\",H979=\"\"),\"\",(('3 Irrigation Schedule'!$C$29-'3 Irrigation Schedule'!$C$31)/100)*1000*M979)","v":""},"",{"$f":"IF(H979=\"\",\"\",IF(H979=1,N979*(1-'3 Irrigation Schedule'!$C$27),S978-U978))","v":""},"","","",{"$f":"IF(H979=\"\",\"\",IF('3 Irrigation Schedule'!$P$19<O979,'3 Irrigation Schedule'!$P$19,O979))","v":""},"",{"$f":"IF(H979=\"\",\"\",U979/'3 Irrigation Schedule'!$M$19)","v":""}]
[null,null,null,"2022","October","2022-10-03",null,"","",5.1283799999999999,"",0,"",{"$f":"IF(OR('3 Irrigation Schedule'!$C$29=\"\",'3 Irrigation Schedule'!$C$31=\"\",H980=\"\"),\"\",(('3 Irrigation Schedule'!$C$29-'3 Irrigation Schedule'!$C$31)/100)*1000*M980)","v":""},"",{"$f":"IF(H980=\"\",\"\",IF(H980=1,N980*(1-'3 Irrigation Schedule'!$C$27),S979-U979))","v":""},"","","",{"$f":"IF(H980=\"\",\"\",IF('3 Irrigation Schedule'!$P$19<O980,'3 Irrigation Schedule'!$P$19,O980))","v":""},"",{"$f":"IF(H980=\"\",\"\",U980/'3 Irrigation Schedule'!$M$19)","v":""}]
[null,null,null,"2022","October","2022-10-04",null,"","",5.1283799999999999,"",0,"",{"$f":"IF(OR('3 Irrigation Schedule'!$C$29=\"\",'3 Irrigation Schedule'!$C$31=\"\",H981=\"\"),\"\",(('3 Irrigation Schedule'!$C$29-'3 Irrigation Schedule'!$C$31)/100)*1000*M981)","v":""},"",{"$f":"IF(H981=\"\",\"\",IF(H981=1,N981*(1-'3 Irrigation Schedule'!$C$27),S980-U980))","v":""},"","","",{"$f":"IF(H981=\"\",\"\",IF('3 Irrigation Schedule'!$P$19<O981,'3 Irrigation Schedule'!$P$19,O981))","v":""},"",{"$f":"IF(H981=\"\",\"\",U981/'3 Irrigation Schedule'!$M$19)","v":""}]
[null,null,null,"2022","October","2022-10-05",null,"","",5.1283799999999999,"",0,"",{"$f":"IF(OR('3 Irrigation Schedule'!$C$29=\"\",'3 Irrigation Schedule'!$C$31=\"\",H982=\"\"),\"\",(('3 Irrigation Schedule'!$C$29-'3 Irrigation Schedule'!$C$31)/100)*1000*M982)","v":""},"",{"$f":"IF(H982=\"\",\"\",IF(H982=1,N982*(1-'3 Irrigation Schedule'!$C$27),S981-U981))","v":""},"","","",{"$f":"IF(H982=\"\",\"\",IF('3 Irrigation Schedule'!$P$19<O982,'3 Irrigation Schedule'!$P$19,O982))","v":""},"",{"$f":"IF(H982=\"\",\"\",U982/'3 Irrigation Schedule'!$M$19)","v":""}]
[null,null,null,"2022","October","2022-10-06",null,"","",5.1283799999999999,"",0,"",{"$f":"IF(OR('3 Irrigation Schedule'!$C$29=\"\",'3 Irrigation Schedule'!$C$31=\"\",H983=\"\"),\"\",(('3 Irrigation Schedule'!$C$29-'3 Irrigation Schedule'!$C$31)/100)*1000*M983)","v":""},"",{"$f":"IF(H983=\"\",\"\",IF(H983=1,N983*(1-'3 Irrigation Schedule'!$C$27),S982-U982))","v":""},"","","",{"$f":"IF(H983=\"\",\"\",IF('3 Irrigation Schedule'!$P$19<O983,'3 Irrigation Schedule'!$P$19,O983))","v":""},"",{"$f":"IF(H983=\"\",\"\",U983/'3 Irrigation Schedule'!$M$19)","v":""}]
[null,null,null,"2022","October","2022-10-07",null,"","",5.1283799999999999,"",0,"",{"$f":"IF(OR('3 Irrigation Schedule'!$C$29=\"\",'3 Irrigation Schedule'!$C$31=\"\",H984=\"\"),\"\",(('3 Irrigation Schedule'!$C$29-'3 Irrigation Schedule'!$C$31)/100)*1000*M984)","v":""},"",{"$f":"IF(H984=\"\",\"\",IF(H984=1,N984*(1-'3 Irrigation Schedule'!$C$27),S983-U983))","v":""},"","","",{"$f":"IF(H984=\"\",\"\",IF('3 Irrigation Schedule'!$P$19<O984,'3 Irrigation Schedule'!$P$19,O984))","v":""},"",{"$f":"IF(H984=\"\",\"\",U984/'3 Irrigation Schedule'!$M$19)","v":""}]
[null,null,null,"2022","October","2022-10-08",null,"","",5.1283799999999999,"",0,"",{"$f":"IF(OR('3 Irrigation Schedule'!$C$29=\"\",'3 Irrigation Schedule'!$C$31=\"\",H985=\"\"),\"\",(('3 Irrigation Schedule'!$C$29-'3 Irrigation Schedule'!$C$31)/100)*1000*M985)","v":""},"",{"$f":"IF(H985=\"\",\"\",IF(H985=1,N985*(1-'3 Irrigation Schedule'!$C$27),S984-U984))","v":""},"","","",{"$f":"IF(H985=\"\",\"\",IF('3 Irrigation Schedule'!$P$19<O985,'3 Irrigation Schedule'!$P$19,O985))","v":""},"",{"$f":"IF(H985=\"\",\"\",U985/'3 Irrigation Schedule'!$M$19)","v":""}]
[null,null,null,"2022","October","2022-10-09",null,"","",5.1283799999999999,"",0,"",{"$f":"IF(OR('3 Irrigation Schedule'!$C$29=\"\",'3 Irrigation Schedule'!$C$31=\"\",H986=\"\"),\"\",(('3 Irrigation Schedule'!$C$29-'3 Irrigation Schedule'!$C$31)/100)*1000*M986)","v":""},"",{"$f":"IF(H986=\"\",\"\",IF(H986=1,N986*(1-'3 Irrigation Schedule'!$C$27),S985-U985))","v":""},"","","",{"$f":"IF(H986=\"\",\"\",IF('3 Irrigation Schedule'!$P$19<O986,'3 Irrigation Schedule'!$P$19,O986))","v":""},"",{"$f":"IF(H986=\"\",\"\",U986/'3 Irrigation Schedule'!$M$19)","v":""}]
[null,null,null,"2022","October","2022-10-10",null,"","",5.1283799999999999,"",0,"",{"$f":"IF(OR('3 Irrigation Schedule'!$C$29=\"\",'3 Irrigation Schedule'!$C$31=\"\",H987=\"\"),\"\",(('3 Irrigation Schedule'!$C$29-'3 Irrigation Schedule'!$C$31)/100)*1000*M987)","v":""},"",{"$f":"IF(H987=\"\",\"\",IF(H987=1,N987*(1-'3 Irrigation Schedule'!$C$27),S986-U986))","v":""},"","","",{"$f":"IF(H987=\"\",\"\",IF('3 Irrigation Schedule'!$P$19<O987,'3 Irrigation Schedule'!$P$19,O987))","v":""},"",{"$f":"IF(H987=\"\",\"\",U987/'3 Irrigation Schedule'!$M$19)","v":""}]
[null,null,null,"2022","October","2022-10-11",null,"","",5.1283799999999999,"",0,"",{"$f":"IF(OR('3 Irrigation Schedule'!$C$29=\"\",'3 Irrigation Schedule'!$C$31=\"\",H988=\"\"),\"\",(('3 Irrigation Schedule'!$C$29-'3 Irrigation Schedule'!$C$31)/100)*1000*M988)","v":""},"",{"$f":"IF(H988=\"\",\"\",IF(H988=1,N988*(1-'3 Irrigation Schedule'!$C$27),S987-U987))","v":""},"","","",{"$f":"IF(H988=\"\",\"\",IF('3 Irrigation Schedule'!$P$19<O988,'3 Irrigation Schedule'!$P$19,O988))","v":""},"",{"$f":"IF(H988=\"\",\"\",U988/'3 Irrigation Schedule'!$M$19)","v":""}]
[null,null,null,"2022","October","2022-10-12",null,"","",5.1283799999999999,"",0,"",{"$f":"IF(OR('3 Irrigation Schedule'!$C$29=\"\",'3 Irrigation Schedule'!$C$31=\"\",H989=\"\"),\"\",(('3 Irrigation Schedule'!$C$29-'3 Irrigation Schedule'!$C$31)/100)*1000*M989)","v":""},"",{"$f":"IF(H989=\"\",\"\",IF(H989=1,N989*(1-'3 Irrigation Schedule'!$C$27),S988-U988))","v":""},"","","",{"$f":"IF(H989=\"\",\"\",IF('3 Irrigation Schedule'!$P$19<O989,'3 Irrigation Schedule'!$P$19,O989))","v":""},"",{"$f":"IF(H989=\"\",\"\",U989/'3 Irrigation Schedule'!$M$19)","v":""}]
[null,null,null,"2022","October","2022-10-13",null,"","",5.1283799999999999,"",0,"",{"$f":"IF(OR('3 Irrigation Schedule'!$C$29=\"\",'3 Irrigation Schedule'!$C$31=\"\",H990=\"\"),\"\",(('3 Irrigation Schedule'!$C$29-'3 Irrigation Schedule'!$C$31)/100)*1000*M990)","v":""},"",{"$f":"IF(H990=\"\",\"\",IF(H990=1,N990*(1-'3 Irrigation Schedule'!$C$27),S989-U989))","v":""},"","","",{"$f":"IF(H990=\"\",\"\",IF('3 Irrigation Schedule'!$P$19<O990,'3 Irrigation Schedule'!$P$19,O990))","v":""},"",{"$f":"IF(H990=\"\",\"\",U990/'3 Irrigation Schedule'!$M$19)","v":""}]
[null,null,null,"2022","October","2022-10-14",null,"","",5.1283799999999999,"",0,"",{"$f":"IF(OR('3 Irrigation Schedule'!$C$29=\"\",'3 Irrigation Schedule'!$C$31=\"\",H991=\"\"),\"\",(('3 Irrigation Schedule'!$C$29-'3 Irrigation Schedule'!$C$31)/100)*1000*M991)","v":""},"",{"$f":"IF(H991=\"\",\"\",IF(H991=1,N991*(1-'3 Irrigation Schedule'!$C$27),S990-U990))","v":""},"","","",{"$f":"IF(H991=\"\",\"\",IF('3 Irrigation Schedule'!$P$19<O991,'3 Irrigation Schedule'!$P$19,O991))","v":""},"",{"$f":"IF(H991=\"\",\"\",U991/'3 Irrigation Schedule'!$M$19)","v":""}]
[null,null,null,"2022","October","2022-10-15",null,"","",5.1283799999999999,"",0,"",{"$f":"IF(OR('3 Irrigation Schedule'!$C$29=\"\",'3 Irrigation Schedule'!$C$31=\"\",H992=\"\"),\"\",(('3 Irrigation Schedule'!$C$29-'3 Irrigation Schedule'!$C$31)/100)*1000*M992)","v":""},"",{"$f":"IF(H992=\"\",\"\",IF(H992=1,N992*(1-'3 Irrigation Schedule'!$C$27),S991-U991))","v":""},"","","",{"$f":"IF(H992=\"\",\"\",IF('3 Irrigation Schedule'!$P$19<O992,'3 Irrigation Schedule'!$P$19,O992))","v":""},"",{"$f":"IF(H992=\"\",\"\",U992/'3 Irrigation Schedule'!$M$19)","v":""}]
[null,null,null,"2022","October","2022-10-16",null,"","",5.1283799999999999,"",0,"",{"$f":"IF(OR('3 Irrigation Schedule'!$C$29=\"\",'3 Irrigation Schedule'!$C$31=\"\",H993=\"\"),\"\",(('3 Irrigation Schedule'!$C$29-'3 Irrigation Schedule'!$C$31)/100)*1000*M993)","v":""},"",{"$f":"IF(H993=\"\",\"\",IF(H993=1,N993*(1-'3 Irrigation Schedule'!$C$27),S992-U992))","v":""},"","","",{"$f":"IF(H993=\"\",\"\",IF('3 Irrigation Schedule'!$P$19<O993,'3 Irrigation Schedule'!$P$19,O993))","v":""},"",{"$f":"IF(H993=\"\",\"\",U993/'3 Irrigation Schedule'!$M$19)","v":""}]
[null,null,null,{"$f":"IFERROR(TEXT(DATE(YEAR($F994),MONTH($F994),1),$D$7&$D$4),\"\")","v":"2022"},{"$f":"IFERROR(TEXT(DATE(YEAR($F994),MONTH($F994),1),$D$7&$D$5),\"\")","v":"October"},"2022-10-17",null,"","",{"$f":"IFERROR(VLOOKUP($E994,$B$19:$C$30,2,FALSE),\"\")","v":5.1283799999999999},"",0,"",{"$f":"IF(OR('3 Irrigation Schedule'!$C$29=\"\",'3 Irrigation Schedule'!$C$31=\"\",H994=\"\"),\"\",(('3 Irrigation Schedule'!$C$29-'3 Irrigation Schedule'!$C$31)/100)*1000*M994)","v":""},"",{"$f":"IF(H994=\"\",\"\",IF(H994=1,N994*(1-'3 Irrigation Schedule'!$C$27),S993-U993))","v":""},"","","",{"$f":"IF(H994=\"\",\"\",IF('3 Irrigation Schedule'!$P$19<O994,'3 Irrigation Schedule'!$P$19,O994))","v":""},"",{"$f":"IF(H994=\"\",\"\",U994/'3 Irrigation Schedule'!$M$19)","v":""}]
[null,null,null,"2022","October",{"$f":"IFERROR(IF(F994+1<=$N$7, F994+1,\"\"),\"\")","v":"2022-10-18"},null,{"$f":"IFERROR(IF(OR($F995-$J$27+1<=0,$F995>$K$30),\"\",$F995-$J$27+1),\"\")","v":""},"",5.1283799999999999,"",0,"",{"$f":"IF(OR('3 Irrigation Schedule'!$C$29=\"\",'3 Irrigation Schedule'!$C$31=\"\",H995=\"\"),\"\",(('3 Irrigation Schedule'!$C$29-'3 Irrigation Schedule'!$C$31)/100)*1000*M995)","v":""},"",{"$f":"IF(H995=\"\",\"\",IF(H995=1,N995*(1-'3 Irrigation Schedule'!$C$27),S994-U994))","v":""},"","","",{"$f":"IF(H995=\"\",\"\",IF('3 Irrigation Schedule'!$P$19<O995,'3 Irrigation Schedule'!$P$19,O995))","v":""},"",{"$f":"IF(H995=\"\",\"\",U995/'3 Irrigation Schedule'!$M$19)","v":""}]
[null,null,null,"2022","October","2022-10-19",null,"","",5.1283799999999999,"",0,"",{"$f":"IF(OR('3 Irrigation Schedule'!$C$29=\"\",'3 Irrigation Schedule'!$C$31=\"\",H996=\"\"),\"\",(('3 Irrigation Schedule'!$C$29-'3 Irrigation Schedule'!$C$31)/100)*1000*M996)","v":""},"",{"$f":"IF(H996=\"\",\"\",IF(H996=1,N996*(1-'3 Irrigation Schedule'!$C$27),S995-U995))","v":""},"","","",{"$f":"IF(H996=\"\",\"\",IF('3 Irrigation Schedule'!$P$19<O996,'3 Irrigation Schedule'!$P$19,O996))","v":""},"",{"$f":"IF(H996=\"\",\"\",U996/'3 Irrigation Schedule'!$M$19)","v":""}]
[null,null,null,"2022","October","2022-10-20",null,"","",5.1283799999999999,"",0,"",{"$f":"IF(OR('3 Irrigation Schedule'!$C$29=\"\",'3 Irrigation Schedule'!$C$31=\"\",H997=\"\"),\"\",(('3 Irrigation Schedule'!$C$29-'3 Irrigation Schedule'!$C$31)/100)*1000*M997)","v":""},"",{"$f":"IF(H997=\"\",\"\",IF(H997=1,N997*(1-'3 Irrigation Schedule'!$C$27),S996-U996))","v":""},"","","",{"$f":"IF(H997=\"\",\"\",IF('3 Irrigation Schedule'!$P$19<O997,'3 Irrigation Schedule'!$P$19,O997))","v":""},"",{"$f":"IF(H997=\"\",\"\",U997/'3 Irrigation Schedule'!$M$19)","v":""}]
[null,null,null,"2022","October","2022-10-21",null,"","",5.1283799999999999,"",0,"",{"$f":"IF(OR('3 Irrigation Schedule'!$C$29=\"\",'3 Irrigation Schedule'!$C$31=\"\",H998=\"\"),\"\",(('3 Irrigation Schedule'!$C$29-'3 Irrigation Schedule'!$C$31)/100)*1000*M998)","v":""},"",{"$f":"IF(H998=\"\",\"\",IF(H998=1,N998*(1-'3 Irrigation Schedule'!$C$27),S997-U997))","v":""},"","","",{"$f":"IF(H998=\"\",\"\",IF('3 Irrigation Schedule'!$P$19<O998,'3 Irrigation Schedule'!$P$19,O998))","v":""},"",{"$f":"IF(H998=\"\",\"\",U998/'3 Irrigation Schedule'!$M$19)","v":""}]
[null,null,null,"2022","October","2022-10-22",null,"","",5.1283799999999999,"",0,"",{"$f":"IF(OR('3 Irrigation Schedule'!$C$29=\"\",'3 Irrigation Schedule'!$C$31=\"\",H999=\"\"),\"\",(('3 Irrigation Schedule'!$C$29-'3 Irrigation Schedule'!$C$31)/100)*1000*M999)","v":""},"",{"$f":"IF(H999=\"\",\"\",IF(H999=1,N999*(1-'3 Irrigation Schedule'!$C$27),S998-U998))","v":""},"","","",{"$f":"IF(H999=\"\",\"\",IF('3 Irrigation Schedule'!$P$19<O999,'3 Irrigation Schedule'!$P$19,O999))","v":""},"",{"$f":"IF(H999=\"\",\"\",U999/'3 Irrigation Schedule'!$M$19)","v":""}]
[null,null,null,"2022","October","2022-10-23",null,"","",5.1283799999999999,"",0,"",{"$f":"IF(OR('3 Irrigation Schedule'!$C$29=\"\",'3 Irrigation Schedule'!$C$31=\"\",H1000=\"\"),\"\",(('3 Irrigation Schedule'!$C$29-'3 Irrigation Schedule'!$C$31)/100)*1000*M1000)","v":""},"",{"$f":"IF(H1000=\"\",\"\",IF(H1000=1,N1000*(1-'3 Irrigation Schedule'!$C$27),S999-U999))","v":""},"","","",{"$f":"IF(H1000=\"\",\"\",IF('3 Irrigation Schedule'!$P$19<O1000,'3 Irrigation Schedule'!$P$19,O1000))","v":""},"",{"$f":"IF(H1000=\"\",\"\",U1000/'3 Irrigation Schedule'!$M$19)","v":""}]
[null,null,null,"2022","October","2022-10-24",null,"","",5.1283799999999999,"",0,"",{"$f":"IF(OR('3 Irrigation Schedule'!$C$29=\"\",'3 Irrigation Schedule'!$C$31=\"\",H1001=\"\"),\"\",(('3 Irrigation Schedule'!$C$29-'3 Irrigation Schedule'!$C$31)/100)*1000*M1001)","v":""},"",{"$f":"IF(H1001=\"\",\"\",IF(H1001=1,N1001*(1-'3 Irrigation Schedule'!$C$27),S1000-U1000))","v":""},"","","",{"$f":"IF(H1001=\"\",\"\",IF('3 Irrigation Schedule'!$P$19<O1001,'3 Irrigation Schedule'!$P$19,O1001))","v":""},"",{"$f":"IF(H1001=\"\",\"\",U1001/'3 Irrigation Schedule'!$M$19)","v":""}]
[null,null,null,"2022","October","2022-10-25",null,"","",5.1283799999999999,"",0,"",{"$f":"IF(OR('3 Irrigation Schedule'!$C$29=\"\",'3 Irrigation Schedule'!$C$31=\"\",H1002=\"\"),\"\",(('3 Irrigation Schedule'!$C$29-'3 Irrigation Schedule'!$C$31)/100)*1000*M1002)","v":""},"",{"$f":"IF(H1002=\"\",\"\",IF(H1002=1,N1002*(1-'3 Irrigation Schedule'!$C$27),S1001-U1001))","v":""},"","","",{"$f":"IF(H1002=\"\",\"\",IF('3 Irrigation Schedule'!$P$19<O1002,'3 Irrigation Schedule'!$P$19,O1002))","v":""},"",{"$f":"IF(H1002=\"\",\"\",U1002/'3 Irrigation Schedule'!$M$19)","v":""}]
[null,null,null,"2022","October","2022-10-26",null,"","",5.1283799999999999,"",0,"",{"$f":"IF(OR('3 Irrigation Schedule'!$C$29=\"\",'3 Irrigation Schedule'!$C$31=\"\",H1003=\"\"),\"\",(('3 Irrigation Schedule'!$C$29-'3 Irrigation Schedule'!$C$31)/100)*1000*M1003)","v":""},"",{"$f":"IF(H1003=\"\",\"\",IF(H1003=1,N1003*(1-'3 Irrigation Schedule'!$C$27),S1002-U1002))","v":""},"","","",{"$f":"IF(H1003=\"\",\"\",IF('3 Irrigation Schedule'!$P$19<O1003,'3 Irrigation Schedule'!$P$19,O1003))","v":""},"",{"$f":"IF(H1003=\"\",\"\",U1003/'3 Irrigation Schedule'!$M$19)","v":""}]
[null,null,null,"2022","October","2022-10-27",null,"","",5.1283799999999999,"",0,"",{"$f":"IF(OR('3 Irrigation Schedule'!$C$29=\"\",'3 Irrigation Schedule'!$C$31=\"\",H1004=\"\"),\"\",(('3 Irrigation Schedule'!$C$29-'3 Irrigation Schedule'!$C$31)/100)*1000*M1004)","v":""},"",{"$f":"IF(H1004=\"\",\"\",IF(H1004=1,N1004*(1-'3 Irrigation Schedule'!$C$27),S1003-U1003))","v":""},"","","",{"$f":"IF(H1004=\"\",\"\",IF('3 Irrigation Schedule'!$P$19<O1004,'3 Irrigation Schedule'!$P$19,O1004))","v":""},"",{"$f":"IF(H1004=\"\",\"\",U1004/'3 Irrigation Schedule'!$M$19)","v":""}]
[null,null,null,"2022","October","2022-10-28",null,"","",5.1283799999999999,"",0,"",{"$f":"IF(OR('3 Irrigation Schedule'!$C$29=\"\",'3 Irrigation Schedule'!$C$31=\"\",H1005=\"\"),\"\",(('3 Irrigation Schedule'!$C$29-'3 Irrigation Schedule'!$C$31)/100)*1000*M1005)","v":""},"",{"$f":"IF(H1005=\"\",\"\",IF(H1005=1,N1005*(1-'3 Irrigation Schedule'!$C$27),S1004-U1004))","v":""},"","","",{"$f":"IF(H1005=\"\",\"\",IF('3 Irrigation Schedule'!$P$19<O1005,'3 Irrigation Schedule'!$P$19,O1005))","v":""},"",{"$f":"IF(H1005=\"\",\"\",U1005/'3 Irrigation Schedule'!$M$19)","v":""}]
[null,null,null,"2022","October","2022-10-29",null,"","",5.1283799999999999,"",0,"",{"$f":"IF(OR('3 Irrigation Schedule'!$C$29=\"\",'3 Irrigation Schedule'!$C$31=\"\",H1006=\"\"),\"\",(('3 Irrigation Schedule'!$C$29-'3 Irrigation Schedule'!$C$31)/100)*1000*M1006)","v":""},"",{"$f":"IF(H1006=\"\",\"\",IF(H1006=1,N1006*(1-'3 Irrigation Schedule'!$C$27),S1005-U1005))","v":""},"","","",{"$f":"IF(H1006=\"\",\"\",IF('3 Irrigation Schedule'!$P$19<O1006,'3 Irrigation Schedule'!$P$19,O1006))","v":""},"",{"$f":"IF(H1006=\"\",\"\",U1006/'3 Irrigation Schedule'!$M$19)","v":""}]
[null,null,null,"2022","October","2022-10-30",null,"","",5.1283799999999999,"",0,"",{"$f":"IF(OR('3 Irrigation Schedule'!$C$29=\"\",'3 Irrigation Schedule'!$C$31=\"\",H1007=\"\"),\"\",(('3 Irrigation Schedule'!$C$29-'3 Irrigation Schedule'!$C$31)/100)*1000*M1007)","v":""},"",{"$f":"IF(H1007=\"\",\"\",IF(H1007=1,N1007*(1-'3 Irrigation Schedule'!$C$27),S1006-U1006))","v":""},"","","",{"$f":"IF(H1007=\"\",\"\",IF('3 Irrigation Schedule'!$P$19<O1007,'3 Irrigation Schedule'!$P$19,O1007))","v":""},"",{"$f":"IF(H1007=\"\",\"\",U1007/'3 Irrigation Schedule'!$M$19)","v":""}]
[null,null,null,"2022","October","2022-10-31",null,"","",5.1283799999999999,"",0,"",{"$f":"IF(OR('3 Irrigation Schedule'!$C$29=\"\",'3 Irrigation Schedule'!$C$31=\"\",H1008=\"\"),\"\",(('3 Irrigation Schedule'!$C$29-'3 Irrigation Schedule'!$C$31)/100)*1000*M1008)","v":""},"",{"$f":"IF(H1008=\"\",\"\",IF(H1008=1,N1008*(1-'3 Irrigation Schedule'!$C$27),S1007-U1007))","v":""},"","","",{"$f":"IF(H1008=\"\",\"\",IF('3 Irrigation Schedule'!$P$19<O1008,'3 Irrigation Schedule'!$P$19,O1008))","v":""},"",{"$f":"IF(H1008=\"\",\"\",U1008/'3 Irrigation Schedule'!$M$19)","v":""}]
[null,null,null,"2022","November","2022-11-01",null,"","",5.091120000000001,"",0,"",{"$f":"IF(OR('3 Irrigation Schedule'!$C$29=\"\",'3 Irrigation Schedule'!$C$31=\"\",H1009=\"\"),\"\",(('3 Irrigation Schedule'!$C$29-'3 Irrigation Schedule'!$C$31)/100)*1000*M1009)","v":""},"",{"$f":"IF(H1009=\"\",\"\",IF(H1009=1,N1009*(1-'3 Irrigation Schedule'!$C$27),S1008-U1008))","v":""},"","","",{"$f":"IF(H1009=\"\",\"\",IF('3 Irrigation Schedule'!$P$19<O1009,'3 Irrigation Schedule'!$P$19,O1009))","v":""},"",{"$f":"IF(H1009=\"\",\"\",U1009/'3 Irrigation Schedule'!$M$19)","v":""}]
[null,null,null,"2022","November","2022-11-02",null,"","",5.091120000000001,"",0,"",{"$f":"IF(OR('3 Irrigation Schedule'!$C$29=\"\",'3 Irrigation Schedule'!$C$31=\"\",H1010=\"\"),\"\",(('3 Irrigation Schedule'!$C$29-'3 Irrigation Schedule'!$C$31)/100)*1000*M1010)","v":""},"",{"$f":"IF(H1010=\"\",\"\",IF(H1010=1,N1010*(1-'3 Irrigation Schedule'!$C$27),S1009-U1009))","v":""},"","","",{"$f":"IF(H1010=\"\",\"\",IF('3 Irrigation Schedule'!$P$19<O1010,'3 Irrigation Schedule'!$P$19,O1010))","v":""},"",{"$f":"IF(H1010=\"\",\"\",U1010/'3 Irrigation Schedule'!$M$19)","v":""}]
[null,null,null,"2022","November","2022-11-03",null,"","",5.091120000000001,"",0,"",{"$f":"IF(OR('3 Irrigation Schedule'!$C$29=\"\",'3 Irrigation Schedule'!$C$31=\"\",H1011=\"\"),\"\",(('3 Irrigation Schedule'!$C$29-'3 Irrigation Schedule'!$C$31)/100)*1000*M1011)","v":""},"",{"$f":"IF(H1011=\"\",\"\",IF(H1011=1,N1011*(1-'3 Irrigation Schedule'!$C$27),S1010-U1010))","v":""},"","","",{"$f":"IF(H1011=\"\",\"\",IF('3 Irrigation Schedule'!$P$19<O1011,'3 Irrigation Schedule'!$P$19,O1011))","v":""},"",{"$f":"IF(H1011=\"\",\"\",U1011/'3 Irrigation Schedule'!$M$19)","v":""}]
[null,null,null,"2022","November","2022-11-04",null,"","",5.091120000000001,"",0,"",{"$f":"IF(OR('3 Irrigation Schedule'!$C$29=\"\",'3 Irrigation Schedule'!$C$31=\"\",H1012=\"\"),\"\",(('3 Irrigation Schedule'!$C$29-'3 Irrigation Schedule'!$C$31)/100)*1000*M1012)","v":""},"",{"$f":"IF(H1012=\"\",\"\",IF(H1012=1,N1012*(1-'3 Irrigation Schedule'!$C$27),S1011-U1011))","v":""},"","","",{"$f":"IF(H1012=\"\",\"\",IF('3 Irrigation Schedule'!$P$19<O1012,'3 Irrigation Schedule'!$P$19,O1012))","v":""},"",{"$f":"IF(H1012=\"\",\"\",U1012/'3 Irrigation Schedule'!$M$19)","v":""}]
[null,null,null,"2022","November","2022-11-05",null,"","",5.091120000000001,"",0,"",{"$f":"IF(OR('3 Irrigation Schedule'!$C$29=\"\",'3 Irrigation Schedule'!$C$31=\"\",H1013=\"\"),\"\",(('3 Irrigation Schedule'!$C$29-'3 Irrigation Schedule'!$C$31)/100)*1000*M1013)","v":""},"",{"$f":"IF(H1013=\"\",\"\",IF(H1013=1,N1013*(1-'3 Irrigation Schedule'!$C$27),S1012-U1012))","v":""},"","","",{"$f":"IF(H1013=\"\",\"\",IF('3 Irrigation Schedule'!$P$19<O1013,'3 Irrigation Schedule'!$P$19,O1013))","v":""},"",{"$f":"IF(H1013=\"\",\"\",U1013/'3 Irrigation Schedule'!$M$19)","v":""}]
[null,null,null,"2022","November","2022-11-06",null,"","",5.091120000000001,"",0,"",{"$f":"IF(OR('3 Irrigation Schedule'!$C$29=\"\",'3 Irrigation Schedule'!$C$31=\"\",H1014=\"\"),\"\",(('3 Irrigation Schedule'!$C$29-'3 Irrigation Schedule'!$C$31)/100)*1000*M1014)","v":""},"",{"$f":"IF(H1014=\"\",\"\",IF(H1014=1,N1014*(1-'3 Irrigation Schedule'!$C$27),S1013-U1013))","v":""},"","","",{"$f":"IF(H1014=\"\",\"\",IF('3 Irrigation Schedule'!$P$19<O1014,'3 Irrigation Schedule'!$P$19,O1014))","v":""},"",{"$f":"IF(H1014=\"\",\"\",U1014/'3 Irrigation Schedule'!$M$19)","v":""}]
[null,null,null,"2022","November","2022-11-07",null,"","",5.091120000000001,"",0,"",{"$f":"IF(OR('3 Irrigation Schedule'!$C$29=\"\",'3 Irrigation Schedule'!$C$31=\"\",H1015=\"\"),\"\",(('3 Irrigation Schedule'!$C$29-'3 Irrigation Schedule'!$C$31)/100)*1000*M1015)","v":""},"",{"$f":"IF(H1015=\"\",\"\",IF(H1015=1,N1015*(1-'3 Irrigation Schedule'!$C$27),S1014-U1014))","v":""},"","","",{"$f":"IF(H1015=\"\",\"\",IF('3 Irrigation Schedule'!$P$19<O1015,'3 Irrigation Schedule'!$P$19,O1015))","v":""},"",{"$f":"IF(H1015=\"\",\"\",U1015/'3 Irrigation Schedule'!$M$19)","v":""}]
[null,null,null,"2022","November","2022-11-08",null,"","",5.091120000000001,"",0,"",{"$f":"IF(OR('3 Irrigation Schedule'!$C$29=\"\",'3 Irrigation Schedule'!$C$31=\"\",H1016=\"\"),\"\",(('3 Irrigation Schedule'!$C$29-'3 Irrigation Schedule'!$C$31)/100)*1000*M1016)","v":""},"",{"$f":"IF(H1016=\"\",\"\",IF(H1016=1,N1016*(1-'3 Irrigation Schedule'!$C$27),S1015-U1015))","v":""},"","","",{"$f":"IF(H1016=\"\",\"\",IF('3 Irrigation Schedule'!$P$19<O1016,'3 Irrigation Schedule'!$P$19,O1016))","v":""},"",{"$f":"IF(H1016=\"\",\"\",U1016/'3 Irrigation Schedule'!$M$19)","v":""}]
[null,null,null,"2022","November","2022-11-09",null,"","",5.091120000000001,"",0,"",{"$f":"IF(OR('3 Irrigation Schedule'!$C$29=\"\",'3 Irrigation Schedule'!$C$31=\"\",H1017=\"\"),\"\",(('3 Irrigation Schedule'!$C$29-'3 Irrigation Schedule'!$C$31)/100)*1000*M1017)","v":""},"",{"$f":"IF(H1017=\"\",\"\",IF(H1017=1,N1017*(1-'3 Irrigation Schedule'!$C$27),S1016-U1016))","v":""},"","","",{"$f":"IF(H1017=\"\",\"\",IF('3 Irrigation Schedule'!$P$19<O1017,'3 Irrigation Schedule'!$P$19,O1017))","v":""},"",{"$f":"IF(H1017=\"\",\"\",U1017/'3 Irrigation Schedule'!$M$19)","v":""}]
[null,null,null,"2022","November","2022-11-10",null,"","",5.091120000000001,"",0,"",{"$f":"IF(OR('3 Irrigation Schedule'!$C$29=\"\",'3 Irrigation Schedule'!$C$31=\"\",H1018=\"\"),\"\",(('3 Irrigation Schedule'!$C$29-'3 Irrigation Schedule'!$C$31)/100)*1000*M1018)","v":""},"",{"$f":"IF(H1018=\"\",\"\",IF(H1018=1,N1018*(1-'3 Irrigation Schedule'!$C$27),S1017-U1017))","v":""},"","","",{"$f":"IF(H1018=\"\",\"\",IF('3 Irrigation Schedule'!$P$19<O1018,'3 Irrigation Schedule'!$P$19,O1018))","v":""},"",{"$f":"IF(H1018=\"\",\"\",U1018/'3 Irrigation Schedule'!$M$19)","v":""}]
[null,null,null,"2022","November","2022-11-11",null,"","",5.091120000000001,"",0,"",{"$f":"IF(OR('3 Irrigation Schedule'!$C$29=\"\",'3 Irrigation Schedule'!$C$31=\"\",H1019=\"\"),\"\",(('3 Irrigation Schedule'!$C$29-'3 Irrigation Schedule'!$C$31)/100)*1000*M1019)","v":""},"",{"$f":"IF(H1019=\"\",\"\",IF(H1019=1,N1019*(1-'3 Irrigation Schedule'!$C$27),S1018-U1018))","v":""},"","","",{"$f":"IF(H1019=\"\",\"\",IF('3 Irrigation Schedule'!$P$19<O1019,'3 Irrigation Schedule'!$P$19,O1019))","v":""},"",{"$f":"IF(H1019=\"\",\"\",U1019/'3 Irrigation Schedule'!$M$19)","v":""}]
[null,null,null,"2022","November","2022-11-12",null,"","",5.091120000000001,"",0,"",{"$f":"IF(OR('3 Irrigation Schedule'!$C$29=\"\",'3 Irrigation Schedule'!$C$31=\"\",H1020=\"\"),\"\",(('3 Irrigation Schedule'!$C$29-'3 Irrigation Schedule'!$C$31)/100)*1000*M1020)","v":""},"",{"$f":"IF(H1020=\"\",\"\",IF(H1020=1,N1020*(1-'3 Irrigation Schedule'!$C$27),S1019-U1019))","v":""},"","","",{"$f":"IF(H1020=\"\",\"\",IF('3 Irrigation Schedule'!$P$19<O1020,'3 Irrigation Schedule'!$P$19,O1020))","v":""},"",{"$f":"IF(H1020=\"\",\"\",U1020/'3 Irrigation Schedule'!$M$19)","v":""}]
[null,null,null,"2022","November","2022-11-13",null,"",{"$f":"IF(H1021=\"\",\"\",IF(H1021<=$I$27,\"Initial\",IF(AND(H1021>$I$27,H1021<=$I$28),\"Development\",IF(AND(H1021>$I$28,H1021<=$I$29),\"Mid Season\",\"Late Season\"))))","v":""},5.091120000000001,{"$f":"IF(H1021=\"\",\"\",IF(H1021<=$I$27,$L$27,IF(AND(H1021>$I$27,H1021<=$I$28),$L$27+((H1021-$I$27)/$H$28)*($L$29-$L$27),IF(AND(H1021>$I$28,H1021<=$I$29),$L$29,$L$29+((H1021-$I$29)/$H$30)*($L$30-$L$29)))))","v":""},{"$f":"IFERROR((J1021*K1021),0)","v":0},{"$f":"IF(H1021=\"\",\"\",IF(OR(H1021=1,H1021<$I$28),$M$27+(($M$28-$M$27)*((H1021-1)/($I$28-1))),$M$28))","v":""},{"$f":"IF(OR('3 Irrigation Schedule'!$C$29=\"\",'3 Irrigation Schedule'!$C$31=\"\",H1021=\"\"),\"\",(('3 Irrigation Schedule'!$C$29-'3 Irrigation Schedule'!$C$31)/100)*1000*M1021)","v":""},{"$f":"IF(H1021=\"\",\"\",N1021*$N$27)","v":""},{"$f":"IF(H1021=\"\",\"\",IF(H1021=1,N1021*(1-'3 Irrigation Schedule'!$C$27),S1020-U1020))","v":""},{"$f":"IF(H1021=\"\",\"\",IF(P1021>O1021,(N1021-P1021)/(N1021-O1021),1))","v":""},{"$f":"IF(H1021=\"\",\"\",L1021*Q1021)","v":""},{"$f":"IF(H1021=\"\",\"\",P1021+R1021)","v":""},{"$f":"IF(H1021=\"\",\"\",IF('3 Irrigation Schedule'!$P$19<O1021,'3 Irrigation Schedule'!$P$19,O1021))","v":""},{"$f":"IF(H1021=\"\",\"\",IF(T1021<=S1021,T1021,0))","v":""},{"$f":"IF(H1021=\"\",\"\",U1021/'3 Irrigation Schedule'!$M$19)","v":""}]
[null,null,null,"2022","November","2022-11-14",null,"","",5.091120000000001,"",0,"",{"$f":"IF(OR('3 Irrigation Schedule'!$C$29=\"\",'3 Irrigation Schedule'!$C$31=\"\",H1022=\"\"),\"\",(('3 Irrigation Schedule'!$C$29-'3 Irrigation Schedule'!$C$31)/100)*1000*M1022)","v":""},"",{"$f":"IF(H1022=\"\",\"\",IF(H1022=1,N1022*(1-'3 Irrigation Schedule'!$C$27),S1021-U1021))","v":""},"","","",{"$f":"IF(H1022=\"\",\"\",IF('3 Irrigation Schedule'!$P$19<O1022,'3 Irrigation Schedule'!$P$19,O1022))","v":""},"",{"$f":"IF(H1022=\"\",\"\",U1022/'3 Irrigation Schedule'!$M$19)","v":""}]
[null,null,null,"2022","November","2022-11-15",null,"","",5.091120000000001,"",0,"",{"$f":"IF(OR('3 Irrigation Schedule'!$C$29=\"\",'3 Irrigation Schedule'!$C$31=\"\",H1023=\"\"),\"\",(('3 Irrigation Schedule'!$C$29-'3 Irrigation Schedule'!$C$31)/100)*1000*M1023)","v":""},"",{"$f":"IF(H1023=\"\",\"\",IF(H1023=1,N1023*(1-'3 Irrigation Schedule'!$C$27),S1022-U1022))","v":""},"","","",{"$f":"IF(H1023=\"\",\"\",IF('3 Irrigation Schedule'!$P$19<O1023,'3 Irrigation Schedule'!$P$19,O1023))","v":""},"",{"$f":"IF(H1023=\"\",\"\",U1023/'3 Irrigation Schedule'!$M$19)","v":""}]
[null,null,null,"2022","November","2022-11-16",null,"","",5.091120000000001,"",0,"",{"$f":"IF(OR('3 Irrigation Schedule'!$C$29=\"\",'3 Irrigation Schedule'!$C$31=\"\",H1024=\"\"),\"\",(('3 Irrigation Schedule'!$C$29-'3 Irrigation Schedule'!$C$31)/100)*1000*M1024)","v":""},"",{"$f":"IF(H1024=\"\",\"\",IF(H1024=1,N1024*(1-'3 Irrigation Schedule'!$C$27),S1023-U1023))","v":""},"","","",{"$f":"IF(H1024=\"\",\"\",IF('3 Irrigation Schedule'!$P$19<O1024,'3 Irrigation Schedule'!$P$19,O1024))","v":""},"",{"$f":"IF(H1024=\"\",\"\",U1024/'3 Irrigation Schedule'!$M$19)","v":""}]
[null,null,null,"2022","November","2022-11-17",null,"","",5.091120000000001,"",0,"",{"$f":"IF(OR('3 Irrigation Schedule'!$C$29=\"\",'3 Irrigation Schedule'!$C$31=\"\",H1025=\"\"),\"\",(('3 Irrigation Schedule'!$C$29-'3 Irrigation Schedule'!$C$31)/100)*1000*M1025)","v":""},"",{"$f":"IF(H1025=\"\",\"\",IF(H1025=1,N1025*(1-'3 Irrigation Schedule'!$C$27),S1024-U1024))","v":""},"","","",{"$f":"IF(H1025=\"\",\"\",IF('3 Irrigation Schedule'!$P$19<O1025,'3 Irrigation Schedule'!$P$19,O1025))","v":""},"",{"$f":"IF(H1025=\"\",\"\",U1025/'3 Irrigation Schedule'!$M$19)","v":""}]
[null,null,null,"2022","November","2022-11-18",null,"","",5.091120000000001,"",0,"",{"$f":"IF(OR('3 Irrigation Schedule'!$C$29=\"\",'3 Irrigation Schedule'!$C$31=\"\",H1026=\"\"),\"\",(('3 Irrigation Schedule'!$C$29-'3 Irrigation Schedule'!$C$31)/100)*1000*M1026)","v":""},"",{"$f":"IF(H1026=\"\",\"\",IF(H1026=1,N1026*(1-'3 Irrigation Schedule'!$C$27),S1025-U1025))","v":""},"","","",{"$f":"IF(H1026=\"\",\"\",IF('3 Irrigation Schedule'!$P$19<O1026,'3 Irrigation Schedule'!$P$19,O1026))","v":""},"",{"$f":"IF(H1026=\"\",\"\",U1026/'3 Irrigation Schedule'!$M$19)","v":""}]
[null,null,null,"2022","November","2022-11-19",null,"","",5.091120000000001,"",0,"",{"$f":"IF(OR('3 Irrigation Schedule'!$C$29=\"\",'3 Irrigation Schedule'!$C$31=\"\",H1027=\"\"),\"\",(('3 Irrigation Schedule'!$C$29-'3 Irrigation Schedule'!$C$31)/100)*1000*M1027)","v":""},"",{"$f":"IF(H1027=\"\",\"\",IF(H1027=1,N1027*(1-'3 Irrigation Schedule'!$C$27),S1026-U1026))","v":""},"","","",{"$f":"IF(H1027=\"\",\"\",IF('3 Irrigation Schedule'!$P$19<O1027,'3 Irrigation Schedule'!$P$19,O1027))","v":""},"",{"$f":"IF(H1027=\"\",\"\",U1027/'3 Irrigation Schedule'!$M$19)","v":""}]
[null,null,null,"2022","November","2022-11-20",null,"","",5.091120000000001,"",0,"",{"$f":"IF(OR('3 Irrigation Schedule'!$C$29=\"\",'3 Irrigation Schedule'!$C$31=\"\",H1028=\"\"),\"\",(('3 Irrigation Schedule'!$C$29-'3 Irrigation Schedule'!$C$31)/100)*1000*M1028)","v":""},"",{"$f":"IF(H1028=\"\",\"\",IF(H1028=1,N1028*(1-'3 Irrigation Schedule'!$C$27),S1027-U1027))","v":""},"","","",{"$f":"IF(H1028=\"\",\"\",IF('3 Irrigation Schedule'!$P$19<O1028,'3 Irrigation Schedule'!$P$19,O1028))","v":""},"",{"$f":"IF(H1028=\"\",\"\",U1028/'3 Irrigation Schedule'!$M$19)","v":""}]
[null,null,null,"2022","November","2022-11-21",null,"","",5.091120000000001,"",0,"",{"$f":"IF(OR('3 Irrigation Schedule'!$C$29=\"\",'3 Irrigation Schedule'!$C$31=\"\",H1029=\"\"),\"\",(('3 Irrigation Schedule'!$C$29-'3 Irrigation Schedule'!$C$31)/100)*1000*M1029)","v":""},"",{"$f":"IF(H1029=\"\",\"\",IF(H1029=1,N1029*(1-'3 Irrigation Schedule'!$C$27),S1028-U1028))","v":""},"","","",{"$f":"IF(H1029=\"\",\"\",IF('3 Irrigation Schedule'!$P$19<O1029,'3 Irrigation Schedule'!$P$19,O1029))","v":""},"",{"$f":"IF(H1029=\"\",\"\",U1029/'3 Irrigation Schedule'!$M$19)","v":""}]
[null,null,null,"2022","November","2022-11-22",null,"","",5.091120000000001,"",0,"",{"$f":"IF(OR('3 Irrigation Schedule'!$C$29=\"\",'3 Irrigation Schedule'!$C$31=\"\",H1030=\"\"),\"\",(('3 Irrigation Schedule'!$C$29-'3 Irrigation Schedule'!$C$31)/100)*1000*M1030)","v":""},"",{"$f":"IF(H1030=\"\",\"\",IF(H1030=1,N1030*(1-'3 Irrigation Schedule'!$C$27),S1029-U1029))","v":""},"","","",{"$f":"IF(H1030=\"\",\"\",IF('3 Irrigation Schedule'!$P$19<O1030,'3 Irrigation Schedule'!$P$19,O1030))","v":""},"",{"$f":"IF(H1030=\"\",\"\",U1030/'3 Irrigation Schedule'!$M$19)","v":""}]
[null,null,null,"2022","November","2022-11-23",null,"","",5.091120000000001,"",0,"",{"$f":"IF(OR('3 Irrigation Schedule'!$C$29=\"\",'3 Irrigation Schedule'!$C$31=\"\",H1031=\"\"),\"\",(('3 Irrigation Schedule'!$C$29-'3 Irrigation Schedule'!$C$31)/100)*1000*M1031)","v":""},"",{"$f":"IF(H1031=\"\",\"\",IF(H1031=1,N1031*(1-'3 Irrigation Schedule'!$C$27),S1030-U1030))","v":""},"","","",{"$f":"IF(H1031=\"\",\"\",IF('3 Irrigation Schedule'!$P$19<O1031,'3 Irrigation Schedule'!$P$19,O1031))","v":""},"",{"$f":"IF(H1031=\"\",\"\",U1031/'3 Irrigation Schedule'!$M$19)","v":""}]
[null,null,null,"2022","November","2022-11-24",null,"","",5.091120000000001,"",0,"",{"$f":"IF(OR('3 Irrigation Schedule'!$C$29=\"\",'3 Irrigation Schedule'!$C$31=\"\",H1032=\"\"),\"\",(('3 Irrigation Schedule'!$C$29-'3 Irrigation Schedule'!$C$31)/100)*1000*M1032)","v":""},"",{"$f":"IF(H1032=\"\",\"\",IF(H1032=1,N1032*(1-'3 Irrigation Schedule'!$C$27),S1031-U1031))","v":""},"","","",{"$f":"IF(H1032=\"\",\"\",IF('3 Irrigation Schedule'!$P$19<O1032,'3 Irrigation Schedule'!$P$19,O1032))","v":""},"",{"$f":"IF(H1032=\"\",\"\",U1032/'3 Irrigation Schedule'!$M$19)","v":""}]
[null,null,null,"2022","November","2022-11-25",null,"","",5.091120000000001,"",0,"",{"$f":"IF(OR('3 Irrigation Schedule'!$C$29=\"\",'3 Irrigation Schedule'!$C$31=\"\",H1033=\"\"),\"\",(('3 Irrigation Schedule'!$C$29-'3 Irrigation Schedule'!$C$31)/100)*1000*M1033)","v":""},"",{"$f":"IF(H1033=\"\",\"\",IF(H1033=1,N1033*(1-'3 Irrigation Schedule'!$C$27),S1032-U1032))","v":""},"","","",{"$f":"IF(H1033=\"\",\"\",IF('3 Irrigation Schedule'!$P$19<O1033,'3 Irrigation Schedule'!$P$19,O1033))","v":""},"",{"$f":"IF(H1033=\"\",\"\",U1033/'3 Irrigation Schedule'!$M$19)","v":""}]
[null,null,null,"2022","November","2022-11-26",null,"","",5.091120000000001,"",0,"",{"$f":"IF(OR('3 Irrigation Schedule'!$C$29=\"\",'3 Irrigation Schedule'!$C$31=\"\",H1034=\"\"),\"\",(('3 Irrigation Schedule'!$C$29-'3 Irrigation Schedule'!$C$31)/100)*1000*M1034)","v":""},"",{"$f":"IF(H1034=\"\",\"\",IF(H1034=1,N1034*(1-'3 Irrigation Schedule'!$C$27),S1033-U1033))","v":""},"","","",{"$f":"IF(H1034=\"\",\"\",IF('3 Irrigation Schedule'!$P$19<O1034,'3 Irrigation Schedule'!$P$19,O1034))","v":""},"",{"$f":"IF(H1034=\"\",\"\",U1034/'3 Irrigation Schedule'!$M$19)","v":""}]
[null,null,null,"2022","November","2022-11-27",null,"","",5.091120000000001,"",0,"",{"$f":"IF(OR('3 Irrigation Schedule'!$C$29=\"\",'3 Irrigation Schedule'!$C$31=\"\",H1035=\"\"),\"\",(('3 Irrigation Schedule'!$C$29-'3 Irrigation Schedule'!$C$31)/100)*1000*M1035)","v":""},"",{"$f":"IF(H1035=\"\",\"\",IF(H1035=1,N1035*(1-'3 Irrigation Schedule'!$C$27),S1034-U1034))","v":""},"","","",{"$f":"IF(H1035=\"\",\"\",IF('3 Irrigation Schedule'!$P$19<O1035,'3 Irrigation Schedule'!$P$19,O1035))","v":""},"",{"$f":"IF(H1035=\"\",\"\",U1035/'3 Irrigation Schedule'!$M$19)","v":""}]
[null,null,null,"2022","November","2022-11-28",null,"","",5.091120000000001,"",0,"",{"$f":"IF(OR('3 Irrigation Schedule'!$C$29=\"\",'3 Irrigation Schedule'!$C$31=\"\",H1036=\"\"),\"\",(('3 Irrigation Schedule'!$C$29-'3 Irrigation Schedule'!$C$31)/100)*1000*M1036)","v":""},"",{"$f":"IF(H1036=\"\",\"\",IF(H1036=1,N1036*(1-'3 Irrigation Schedule'!$C$27),S1035-U1035))","v":""},"","","",{"$f":"IF(H1036=\"\",\"\",IF('3 Irrigation Schedule'!$P$19<O1036,'3 Irrigation Schedule'!$P$19,O1036))","v":""},"",{"$f":"IF(H1036=\"\",\"\",U1036/'3 Irrigation Schedule'!$M$19)","v":""}]
[null,null,null,"2022","November","2022-11-29",null,"","",5.091120000000001,"",0,"",{"$f":"IF(OR('3 Irrigation Schedule'!$C$29=\"\",'3 Irrigation Schedule'!$C$31=\"\",H1037=\"\"),\"\",(('3 Irrigation Schedule'!$C$29-'3 Irrigation Schedule'!$C$31)/100)*1000*M1037)","v":""},"",{"$f":"IF(H1037=\"\",\"\",IF(H1037=1,N1037*(1-'3 Irrigation Schedule'!$C$27),S1036-U1036))","v":""},"","","",{"$f":"IF(H1037=\"\",\"\",IF('3 Irrigation Schedule'!$P$19<O1037,'3 Irrigation Schedule'!$P$19,O1037))","v":""},"",{"$f":"IF(H1037=\"\",\"\",U1037/'3 Irrigation Schedule'!$M$19)","v":""}]
[null,null,null,"2022","November","2022-11-30",null,"","",5.091120000000001,"",0,"",{"$f":"IF(OR('3 Irrigation Schedule'!$C$29=\"\",'3 Irrigation Schedule'!$C$31=\"\",H1038=\"\"),\"\",(('3 Irrigation Schedule'!$C$29-'3 Irrigation Schedule'!$C$31)/100)*1000*M1038)","v":""},"",{"$f":"IF(H1038=\"\",\"\",IF(H1038=1,N1038*(1-'3 Irrigation Schedule'!$C$27),S1037-U1037))","v":""},"","","",{"$f":"IF(H1038=\"\",\"\",IF('3 Irrigation Schedule'!$P$19<O1038,'3 Irrigation Schedule'!$P$19,O1038))","v":""},"",{"$f":"IF(H1038=\"\",\"\",U1038/'3 Irrigation Schedule'!$M$19)","v":""}]
[null,null,null,"2022","December","2022-12-01",null,"","",5.1408000000000005,"",0,"",{"$f":"IF(OR('3 Irrigation Schedule'!$C$29=\"\",'3 Irrigation Schedule'!$C$31=\"\",H1039=\"\"),\"\",(('3 Irrigation Schedule'!$C$29-'3 Irrigation Schedule'!$C$31)/100)*1000*M1039)","v":""},"",{"$f":"IF(H1039=\"\",\"\",IF(H1039=1,N1039*(1-'3 Irrigation Schedule'!$C$27),S1038-U1038))","v":""},"","","",{"$f":"IF(H1039=\"\",\"\",IF('3 Irrigation Schedule'!$P$19<O1039,'3 Irrigation Schedule'!$P$19,O1039))","v":""},"",{"$f":"IF(H1039=\"\",\"\",U1039/'3 Irrigation Schedule'!$M$19)","v":""}]
[null,null,null,"2022","December","2022-12-02",null,"","",5.1408000000000005,"",0,"",{"$f":"IF(OR('3 Irrigation Schedule'!$C$29=\"\",'3 Irrigation Schedule'!$C$31=\"\",H1040=\"\"),\"\",(('3 Irrigation Schedule'!$C$29-'3 Irrigation Schedule'!$C$31)/100)*1000*M1040)","v":""},"",{"$f":"IF(H1040=\"\",\"\",IF(H1040=1,N1040*(1-'3 Irrigation Schedule'!$C$27),S1039-U1039))","v":""},"","","",{"$f":"IF(H1040=\"\",\"\",IF('3 Irrigation Schedule'!$P$19<O1040,'3 Irrigation Schedule'!$P$19,O1040))","v":""},"",{"$f":"IF(H1040=\"\",\"\",U1040/'3 Irrigation Schedule'!$M$19)","v":""}]
[null,null,null,"2022","December","2022-12-03",null,"","",5.1408000000000005,"",0,"",{"$f":"IF(OR('3 Irrigation Schedule'!$C$29=\"\",'3 Irrigation Schedule'!$C$31=\"\",H1041=\"\"),\"\",(('3 Irrigation Schedule'!$C$29-'3 Irrigation Schedule'!$C$31)/100)*1000*M1041)","v":""},"",{"$f":"IF(H1041=\"\",\"\",IF(H1041=1,N1041*(1-'3 Irrigation Schedule'!$C$27),S1040-U1040))","v":""},"","","",{"$f":"IF(H1041=\"\",\"\",IF('3 Irrigation Schedule'!$P$19<O1041,'3 Irrigation Schedule'!$P$19,O1041))","v":""},"",{"$f":"IF(H1041=\"\",\"\",U1041/'3 Irrigation Schedule'!$M$19)","v":""}]
[null,null,null,"2022","December","2022-12-04",null,"","",5.1408000000000005,"",0,"",{"$f":"IF(OR('3 Irrigation Schedule'!$C$29=\"\",'3 Irrigation Schedule'!$C$31=\"\",H1042=\"\"),\"\",(('3 Irrigation Schedule'!$C$29-'3 Irrigation Schedule'!$C$31)/100)*1000*M1042)","v":""},"",{"$f":"IF(H1042=\"\",\"\",IF(H1042=1,N1042*(1-'3 Irrigation Schedule'!$C$27),S1041-U1041))","v":""},"","","",{"$f":"IF(H1042=\"\",\"\",IF('3 Irrigation Schedule'!$P$19<O1042,'3 Irrigation Schedule'!$P$19,O1042))","v":""},"",{"$f":"IF(H1042=\"\",\"\",U1042/'3 Irrigation Schedule'!$M$19)","v":""}]
[null,null,null,"2022","December","2022-12-05",null,"","",5.1408000000000005,"",0,"",{"$f":"IF(OR('3 Irrigation Schedule'!$C$29=\"\",'3 Irrigation Schedule'!$C$31=\"\",H1043=\"\"),\"\",(('3 Irrigation Schedule'!$C$29-'3 Irrigation Schedule'!$C$31)/100)*1000*M1043)","v":""},"",{"$f":"IF(H1043=\"\",\"\",IF(H1043=1,N1043*(1-'3 Irrigation Schedule'!$C$27),S1042-U1042))","v":""},"","","",{"$f":"IF(H1043=\"\",\"\",IF('3 Irrigation Schedule'!$P$19<O1043,'3 Irrigation Schedule'!$P$19,O1043))","v":""},"",{"$f":"IF(H1043=\"\",\"\",U1043/'3 Irrigation Schedule'!$M$19)","v":""}]
[null,null,null,"2022","December","2022-12-06",null,"","",5.1408000000000005,"",0,"",{"$f":"IF(OR('3 Irrigation Schedule'!$C$29=\"\",'3 Irrigation Schedule'!$C$31=\"\",H1044=\"\"),\"\",(('3 Irrigation Schedule'!$C$29-'3 Irrigation Schedule'!$C$31)/100)*1000*M1044)","v":""},"",{"$f":"IF(H1044=\"\",\"\",IF(H1044=1,N1044*(1-'3 Irrigation Schedule'!$C$27),S1043-U1043))","v":""},"","","",{"$f":"IF(H1044=\"\",\"\",IF('3 Irrigation Schedule'!$P$19<O1044,'3 Irrigation Schedule'!$P$19,O1044))","v":""},"",{"$f":"IF(H1044=\"\",\"\",U1044/'3 Irrigation Schedule'!$M$19)","v":""}]
[null,null,null,"2022","December","2022-12-07",null,"","",5.1408000000000005,"",0,"",{"$f":"IF(OR('3 Irrigation Schedule'!$C$29=\"\",'3 Irrigation Schedule'!$C$31=\"\",H1045=\"\"),\"\",(('3 Irrigation Schedule'!$C$29-'3 Irrigation Schedule'!$C$31)/100)*1000*M1045)","v":""},"",{"$f":"IF(H1045=\"\",\"\",IF(H1045=1,N1045*(1-'3 Irrigation Schedule'!$C$27),S1044-U1044))","v":""},"","","",{"$f":"IF(H1045=\"\",\"\",IF('3 Irrigation Schedule'!$P$19<O1045,'3 Irrigation Schedule'!$P$19,O1045))","v":""},"",{"$f":"IF(H1045=\"\",\"\",U1045/'3 Irrigation Schedule'!$M$19)","v":""}]
[null,null,null,"2022","December","2022-12-08",null,"","",5.1408000000000005,"",0,"",{"$f":"IF(OR('3 Irrigation Schedule'!$C$29=\"\",'3 Irrigation Schedule'!$C$31=\"\",H1046=\"\"),\"\",(('3 Irrigation Schedule'!$C$29-'3 Irrigation Schedule'!$C$31)/100)*1000*M1046)","v":""},"",{"$f":"IF(H1046=\"\",\"\",IF(H1046=1,N1046*(1-'3 Irrigation Schedule'!$C$27),S1045-U1045))","v":""},"","","",{"$f":"IF(H1046=\"\",\"\",IF('3 Irrigation Schedule'!$P$19<O1046,'3 Irrigation Schedule'!$P$19,O1046))","v":""},"",{"$f":"IF(H1046=\"\",\"\",U1046/'3 Irrigation Schedule'!$M$19)","v":""}]
[null,null,null,"2022","December","2022-12-09",null,"","",5.1408000000000005,"",0,"",{"$f":"IF(OR('3 Irrigation Schedule'!$C$29=\"\",'3 Irrigation Schedule'!$C$31=\"\",H1047=\"\"),\"\",(('3 Irrigation Schedule'!$C$29-'3 Irrigation Schedule'!$C$31)/100)*1000*M1047)","v":""},"",{"$f":"IF(H1047=\"\",\"\",IF(H1047=1,N1047*(1-'3 Irrigation Schedule'!$C$27),S1046-U1046))","v":""},"","","",{"$f":"IF(H1047=\"\",\"\",IF('3 Irrigation Schedule'!$P$19<O1047,'3 Irrigation Schedule'!$P$19,O1047))","v":""},"",{"$f":"IF(H1047=\"\",\"\",U1047/'3 Irrigation Schedule'!$M$19)","v":""}]
[null,null,null,"2022","December","2022-12-10",null,"","",5.1408000000000005,"",0,"",{"$f":"IF(OR('3 Irrigation Schedule'!$C$29=\"\",'3 Irrigation Schedule'!$C$31=\"\",H1048=\"\"),\"\",(('3 Irrigation Schedule'!$C$29-'3 Irrigation Schedule'!$C$31)/100)*1000*M1048)","v":""},"",{"$f":"IF(H1048=\"\",\"\",IF(H1048=1,N1048*(1-'3 Irrigation Schedule'!$C$27),S1047-U1047))","v":""},"","","",{"$f":"IF(H1048=\"\",\"\",IF('3 Irrigation Schedule'!$P$19<O1048,'3 Irrigation Schedule'!$P$19,O1048))","v":""},"",{"$f":"IF(H1048=\"\",\"\",U1048/'3 Irrigation Schedule'!$M$19)","v":""}]
[null,null,null,"2022","December","2022-12-11",null,"","",5.1408000000000005,"",0,"",{"$f":"IF(OR('3 Irrigation Schedule'!$C$29=\"\",'3 Irrigation Schedule'!$C$31=\"\",H1049=\"\"),\"\",(('3 Irrigation Schedule'!$C$29-'3 Irrigation Schedule'!$C$31)/100)*1000*M1049)","v":""},"",{"$f":"IF(H1049=\"\",\"\",IF(H1049=1,N1049*(1-'3 Irrigation Schedule'!$C$27),S1048-U1048))","v":""},"","","",{"$f":"IF(H1049=\"\",\"\",IF('3 Irrigation Schedule'!$P$19<O1049,'3 Irrigation Schedule'!$P$19,O1049))","v":""},"",{"$f":"IF(H1049=\"\",\"\",U1049/'3 Irrigation Schedule'!$M$19)","v":""}]
[null,null,null,"2022","December","2022-12-12",null,"","",5.1408000000000005,"",0,"",{"$f":"IF(OR('3 Irrigation Schedule'!$C$29=\"\",'3 Irrigation Schedule'!$C$31=\"\",H1050=\"\"),\"\",(('3 Irrigation Schedule'!$C$29-'3 Irrigation Schedule'!$C$31)/100)*1000*M1050)","v":""},"",{"$f":"IF(H1050=\"\",\"\",IF(H1050=1,N1050*(1-'3 Irrigation Schedule'!$C$27),S1049-U1049))","v":""},"","","",{"$f":"IF(H1050=\"\",\"\",IF('3 Irrigation Schedule'!$P$19<O1050,'3 Irrigation Schedule'!$P$19,O1050))","v":""},"",{"$f":"IF(H1050=\"\",\"\",U1050/'3 Irrigation Schedule'!$M$19)","v":""}]
[null,null,null,"2022","December","2022-12-13",null,"","",5.1408000000000005,"",0,"",{"$f":"IF(OR('3 Irrigation Schedule'!$C$29=\"\",'3 Irrigation Schedule'!$C$31=\"\",H1051=\"\"),\"\",(('3 Irrigation Schedule'!$C$29-'3 Irrigation Schedule'!$C$31)/100)*1000*M1051)","v":""},"",{"$f":"IF(H1051=\"\",\"\",IF(H1051=1,N1051*(1-'3 Irrigation Schedule'!$C$27),S1050-U1050))","v":""},"","","",{"$f":"IF(H1051=\"\",\"\",IF('3 Irrigation Schedule'!$P$19<O1051,'3 Irrigation Schedule'!$P$19,O1051))","v":""},"",{"$f":"IF(H1051=\"\",\"\",U1051/'3 Irrigation Schedule'!$M$19)","v":""}]
[null,null,null,"2022","December","2022-12-14",null,"","",5.1408000000000005,"",0,"",{"$f":"IF(OR('3 Irrigation Schedule'!$C$29=\"\",'3 Irrigation Schedule'!$C$31=\"\",H1052=\"\"),\"\",(('3 Irrigation Schedule'!$C$29-'3 Irrigation Schedule'!$C$31)/100)*1000*M1052)","v":""},"",{"$f":"IF(H1052=\"\",\"\",IF(H1052=1,N1052*(1-'3 Irrigation Schedule'!$C$27),S1051-U1051))","v":""},"","","",{"$f":"IF(H1052=\"\",\"\",IF('3 Irrigation Schedule'!$P$19<O1052,'3 Irrigation Schedule'!$P$19,O1052))","v":""},"",{"$f":"IF(H1052=\"\",\"\",U1052/'3 Irrigation Schedule'!$M$19)","v":""}]
[null,null,null,"2022","December","2022-12-15",null,"","",5.1408000000000005,"",0,"",{"$f":"IF(OR('3 Irrigation Schedule'!$C$29=\"\",'3 Irrigation Schedule'!$C$31=\"\",H1053=\"\"),\"\",(('3 Irrigation Schedule'!$C$29-'3 Irrigation Schedule'!$C$31)/100)*1000*M1053)","v":""},"",{"$f":"IF(H1053=\"\",\"\",IF(H1053=1,N1053*(1-'3 Irrigation Schedule'!$C$27),S1052-U1052))","v":""},"","","",{"$f":"IF(H1053=\"\",\"\",IF('3 Irrigation Schedule'!$P$19<O1053,'3 Irrigation Schedule'!$P$19,O1053))","v":""},"",{"$f":"IF(H1053=\"\",\"\",U1053/'3 Irrigation Schedule'!$M$19)","v":""}]
[null,null,null,"2022","December","2022-12-16",null,"","",5.1408000000000005,"",0,"",{"$f":"IF(OR('3 Irrigation Schedule'!$C$29=\"\",'3 Irrigation Schedule'!$C$31=\"\",H1054=\"\"),\"\",(('3 Irrigation Schedule'!$C$29-'3 Irrigation Schedule'!$C$31)/100)*1000*M1054)","v":""},"",{"$f":"IF(H1054=\"\",\"\",IF(H1054=1,N1054*(1-'3 Irrigation Schedule'!$C$27),S1053-U1053))","v":""},"","","",{"$f":"IF(H1054=\"\",\"\",IF('3 Irrigation Schedule'!$P$19<O1054,'3 Irrigation Schedule'!$P$19,O1054))","v":""},"",{"$f":"IF(H1054=\"\",\"\",U1054/'3 Irrigation Schedule'!$M$19)","v":""}]
[null,null,null,"2022","December","2022-12-17",null,"","",5.1408000000000005,"",0,"",{"$f":"IF(OR('3 Irrigation Schedule'!$C$29=\"\",'3 Irrigation Schedule'!$C$31=\"\",H1055=\"\"),\"\",(('3 Irrigation Schedule'!$C$29-'3 Irrigation Schedule'!$C$31)/100)*1000*M1055)","v":""},"",{"$f":"IF(H1055=\"\",\"\",IF(H1055=1,N1055*(1-'3 Irrigation Schedule'!$C$27),S1054-U1054))","v":""},"","","",{"$f":"IF(H1055=\"\",\"\",IF('3 Irrigation Schedule'!$P$19<O1055,'3 Irrigation Schedule'!$P$19,O1055))","v":""},"",{"$f":"IF(H1055=\"\",\"\",U1055/'3 Irrigation Schedule'!$M$19)","v":""}]
[null,null,null,"2022","December","2022-12-18",null,"","",5.1408000000000005,"",0,"",{"$f":"IF(OR('3 Irrigation Schedule'!$C$29=\"\",'3 Irrigation Schedule'!$C$31=\"\",H1056=\"\"),\"\",(('3 Irrigation Schedule'!$C$29-'3 Irrigation Schedule'!$C$31)/100)*1000*M1056)","v":""},"",{"$f":"IF(H1056=\"\",\"\",IF(H1056=1,N1056*(1-'3 Irrigation Schedule'!$C$27),S1055-U1055))","v":""},"","","",{"$f":"IF(H1056=\"\",\"\",IF('3 Irrigation Schedule'!$P$19<O1056,'3 Irrigation Schedule'!$P$19,O1056))","v":""},"",{"$f":"IF(H1056=\"\",\"\",U1056/'3 Irrigation Schedule'!$M$19)","v":""}]
[null,null,null,"2022","December","2022-12-19",null,"","",5.1408000000000005,"",0,"",{"$f":"IF(OR('3 Irrigation Schedule'!$C$29=\"\",'3 Irrigation Schedule'!$C$31=\"\",H1057=\"\"),\"\",(('3 Irrigation Schedule'!$C$29-'3 Irrigation Schedule'!$C$31)/100)*1000*M1057)","v":""},"",{"$f":"IF(H1057=\"\",\"\",IF(H1057=1,N1057*(1-'3 Irrigation Schedule'!$C$27),S1056-U1056))","v":""},"","","",{"$f":"IF(H1057=\"\",\"\",IF('3 Irrigation Schedule'!$P$19<O1057,'3 Irrigation Schedule'!$P$19,O1057))","v":""},"",{"$f":"IF(H1057=\"\",\"\",U1057/'3 Irrigation Schedule'!$M$19)","v":""}]
[null,null,null,{"$f":"IFERROR(TEXT(DATE(YEAR($F1058),MONTH($F1058),1),$D$7&$D$4),\"\")","v":"2022"},{"$f":"IFERROR(TEXT(DATE(YEAR($F1058),MONTH($F1058),1),$D$7&$D$5),\"\")","v":"December"},"2022-12-20",null,"","",{"$f":"IFERROR(VLOOKUP($E1058,$B$19:$C$30,2,FALSE),\"\")","v":5.1408000000000005},"",0,"",{"$f":"IF(OR('3 Irrigation Schedule'!$C$29=\"\",'3 Irrigation Schedule'!$C$31=\"\",H1058=\"\"),\"\",(('3 Irrigation Schedule'!$C$29-'3 Irrigation Schedule'!$C$31)/100)*1000*M1058)","v":""},"",{"$f":"IF(H1058=\"\",\"\",IF(H1058=1,N1058*(1-'3 Irrigation Schedule'!$C$27),S1057-U1057))","v":""},"","","",{"$f":"IF(H1058=\"\",\"\",IF('3 Irrigation Schedule'!$P$19<O1058,'3 Irrigation Schedule'!$P$19,O1058))","v":""},"",{"$f":"IF(H1058=\"\",\"\",U1058/'3 Irrigation Schedule'!$M$19)","v":""}]
[null,null,null,"2022","December",{"$f":"IFERROR(IF(F1058+1<=$N$7, F1058+1,\"\"),\"\")","v":"2022-12-21"},null,{"$f":"IFERROR(IF(OR($F1059-$J$27+1<=0,$F1059>$K$30),\"\",$F1059-$J$27+1),\"\")","v":""},"",5.1408000000000005,"",0,"",{"$f":"IF(OR('3 Irrigation Schedule'!$C$29=\"\",'3 Irrigation Schedule'!$C$31=\"\",H1059=\"\"),\"\",(('3 Irrigation Schedule'!$C$29-'3 Irrigation Schedule'!$C$31)/100)*1000*M1059)","v":""},"",{"$f":"IF(H1059=\"\",\"\",IF(H1059=1,N1059*(1-'3 Irrigation Schedule'!$C$27),S1058-U1058))","v":""},"","","",{"$f":"IF(H1059=\"\",\"\",IF('3 Irrigation Schedule'!$P$19<O1059,'3 Irrigation Schedule'!$P$19,O1059))","v":""},"",{"$f":"IF(H1059=\"\",\"\",U1059/'3 Irrigation Schedule'!$M$19)","v":""}]
[null,null,null,"2022","December","2022-12-22",null,"","",5.1408000000000005,"",0,"",{"$f":"IF(OR('3 Irrigation Schedule'!$C$29=\"\",'3 Irrigation Schedule'!$C$31=\"\",H1060=\"\"),\"\",(('3 Irrigation Schedule'!$C$29-'3 Irrigation Schedule'!$C$31)/100)*1000*M1060)","v":""},"",{"$f":"IF(H1060=\"\",\"\",IF(H1060=1,N1060*(1-'3 Irrigation Schedule'!$C$27),S1059-U1059))","v":""},"","","",{"$f":"IF(H1060=\"\",\"\",IF('3 Irrigation Schedule'!$P$19<O1060,'3 Irrigation Schedule'!$P$19,O1060))","v":""},"",{"$f":"IF(H1060=\"\",\"\",U1060/'3 Irrigation Schedule'!$M$19)","v":""}]
[null,null,null,"2022","December","2022-12-23",null,"","",5.1408000000000005,"",0,"",{"$f":"IF(OR('3 Irrigation Schedule'!$C$29=\"\",'3 Irrigation Schedule'!$C$31=\"\",H1061=\"\"),\"\",(('3 Irrigation Schedule'!$C$29-'3 Irrigation Schedule'!$C$31)/100)*1000*M1061)","v":""},"",{"$f":"IF(H1061=\"\",\"\",IF(H1061=1,N1061*(1-'3 Irrigation Schedule'!$C$27),S1060-U1060))","v":""},"","","",{"$f":"IF(H1061=\"\",\"\",IF('3 Irrigation Schedule'!$P$19<O1061,'3 Irrigation Schedule'!$P$19,O1061))","v":""},"",{"$f":"IF(H1061=\"\",\"\",U1061/'3 Irrigation Schedule'!$M$19)","v":""}]
[null,null,null,"2022","December","2022-12-24",null,"","",5.1408000000000005,"",0,"",{"$f":"IF(OR('3 Irrigation Schedule'!$C$29=\"\",'3 Irrigation Schedule'!$C$31=\"\",H1062=\"\"),\"\",(('3 Irrigation Schedule'!$C$29-'3 Irrigation Schedule'!$C$31)/100)*1000*M1062)","v":""},"",{"$f":"IF(H1062=\"\",\"\",IF(H1062=1,N1062*(1-'3 Irrigation Schedule'!$C$27),S1061-U1061))","v":""},"","","",{"$f":"IF(H1062=\"\",\"\",IF('3 Irrigation Schedule'!$P$19<O1062,'3 Irrigation Schedule'!$P$19,O1062))","v":""},"",{"$f":"IF(H1062=\"\",\"\",U1062/'3 Irrigation Schedule'!$M$19)","v":""}]
[null,null,null,"2022","December","2022-12-25",null,"","",5.1408000000000005,"",0,"",{"$f":"IF(OR('3 Irrigation Schedule'!$C$29=\"\",'3 Irrigation Schedule'!$C$31=\"\",H1063=\"\"),\"\",(('3 Irrigation Schedule'!$C$29-'3 Irrigation Schedule'!$C$31)/100)*1000*M1063)","v":""},"",{"$f":"IF(H1063=\"\",\"\",IF(H1063=1,N1063*(1-'3 Irrigation Schedule'!$C$27),S1062-U1062))","v":""},"","","",{"$f":"IF(H1063=\"\",\"\",IF('3 Irrigation Schedule'!$P$19<O1063,'3 Irrigation Schedule'!$P$19,O1063))","v":""},"",{"$f":"IF(H1063=\"\",\"\",U1063/'3 Irrigation Schedule'!$M$19)","v":""}]
[null,null,null,"2022","December","2022-12-26",null,"","",5.1408000000000005,"",0,"",{"$f":"IF(OR('3 Irrigation Schedule'!$C$29=\"\",'3 Irrigation Schedule'!$C$31=\"\",H1064=\"\"),\"\",(('3 Irrigation Schedule'!$C$29-'3 Irrigation Schedule'!$C$31)/100)*1000*M1064)","v":""},"",{"$f":"IF(H1064=\"\",\"\",IF(H1064=1,N1064*(1-'3 Irrigation Schedule'!$C$27),S1063-U1063))","v":""},"","","",{"$f":"IF(H1064=\"\",\"\",IF('3 Irrigation Schedule'!$P$19<O1064,'3 Irrigation Schedule'!$P$19,O1064))","v":""},"",{"$f":"IF(H1064=\"\",\"\",U1064/'3 Irrigation Schedule'!$M$19)","v":""}]
[null,null,null,"2022","December","2022-12-27",null,"","",5.1408000000000005,"",0,"",{"$f":"IF(OR('3 Irrigation Schedule'!$C$29=\"\",'3 Irrigation Schedule'!$C$31=\"\",H1065=\"\"),\"\",(('3 Irrigation Schedule'!$C$29-'3 Irrigation Schedule'!$C$31)/100)*1000*M1065)","v":""},"",{"$f":"IF(H1065=\"\",\"\",IF(H1065=1,N1065*(1-'3 Irrigation Schedule'!$C$27),S1064-U1064))","v":""},"","","",{"$f":"IF(H1065=\"\",\"\",IF('3 Irrigation Schedule'!$P$19<O1065,'3 Irrigation Schedule'!$P$19,O1065))","v":""},"",{"$f":"IF(H1065=\"\",\"\",U1065/'3 Irrigation Schedule'!$M$19)","v":""}]
[null,null,null,"2022","December","2022-12-28",null,"","",5.1408000000000005,"",0,"",{"$f":"IF(OR('3 Irrigation Schedule'!$C$29=\"\",'3 Irrigation Schedule'!$C$31=\"\",H1066=\"\"),\"\",(('3 Irrigation Schedule'!$C$29-'3 Irrigation Schedule'!$C$31)/100)*1000*M1066)","v":""},"",{"$f":"IF(H1066=\"\",\"\",IF(H1066=1,N1066*(1-'3 Irrigation Schedule'!$C$27),S1065-U1065))","v":""},"","","",{"$f":"IF(H1066=\"\",\"\",IF('3 Irrigation Schedule'!$P$19<O1066,'3 Irrigation Schedule'!$P$19,O1066))","v":""},"",{"$f":"IF(H1066=\"\",\"\",U1066/'3 Irrigation Schedule'!$M$19)","v":""}]
[null,null,null,"2022","December","2022-12-29",null,"","",5.1408000000000005,"",0,"",{"$f":"IF(OR('3 Irrigation Schedule'!$C$29=\"\",'3 Irrigation Schedule'!$C$31=\"\",H1067=\"\"),\"\",(('3 Irrigation Schedule'!$C$29-'3 Irrigation Schedule'!$C$31)/100)*1000*M1067)","v":""},"",{"$f":"IF(H1067=\"\",\"\",IF(H1067=1,N1067*(1-'3 Irrigation Schedule'!$C$27),S1066-U1066))","v":""},"","","",{"$f":"IF(H1067=\"\",\"\",IF('3 Irrigation Schedule'!$P$19<O1067,'3 Irrigation Schedule'!$P$19,O1067))","v":""},"",{"$f":"IF(H1067=\"\",\"\",U1067/'3 Irrigation Schedule'!$M$19)","v":""}]
[null,null,null,"2022","December","2022-12-30",null,"","",5.1408000000000005,"",0,"",{"$f":"IF(OR('3 Irrigation Schedule'!$C$29=\"\",'3 Irrigation Schedule'!$C$31=\"\",H1068=\"\"),\"\",(('3 Irrigation Schedule'!$C$29-'3 Irrigation Schedule'!$C$31)/100)*1000*M1068)","v":""},"",{"$f":"IF(H1068=\"\",\"\",IF(H1068=1,N1068*(1-'3 Irrigation Schedule'!$C$27),S1067-U1067))","v":""},"","","",{"$f":"IF(H1068=\"\",\"\",IF('3 Irrigation Schedule'!$P$19<O1068,'3 Irrigation Schedule'!$P$19,O1068))","v":""},"",{"$f":"IF(H1068=\"\",\"\",U1068/'3 Irrigation Schedule'!$M$19)","v":""}]
[null,null,null,"2022","December","2022-12-31",null,"","",5.1408000000000005,"",0,"",{"$f":"IF(OR('3 Irrigation Schedule'!$C$29=\"\",'3 Irrigation Schedule'!$C$31=\"\",H1069=\"\"),\"\",(('3 Irrigation Schedule'!$C$29-'3 Irrigation Schedule'!$C$31)/100)*1000*M1069)","v":""},"",{"$f":"IF(H1069=\"\",\"\",IF(H1069=1,N1069*(1-'3 Irrigation Schedule'!$C$27),S1068-U1068))","v":""},"","","",{"$f":"IF(H1069=\"\",\"\",IF('3 Irrigation Schedule'!$P$19<O1069,'3 Irrigation Schedule'!$P$19,O1069))","v":""},"",{"$f":"IF(H1069=\"\",\"\",U1069/'3 Irrigation Schedule'!$M$19)","v":""}]
[null,null,null,"2023","January","2023-01-01",null,"","",5.3271000000000006,"",0,"",{"$f":"IF(OR('3 Irrigation Schedule'!$C$29=\"\",'3 Irrigation Schedule'!$C$31=\"\",H1070=\"\"),\"\",(('3 Irrigation Schedule'!$C$29-'3 Irrigation Schedule'!$C$31)/100)*1000*M1070)","v":""},"",{"$f":"IF(H1070=\"\",\"\",IF(H1070=1,N1070*(1-'3 Irrigation Schedule'!$C$27),S1069-U1069))","v":""},"","","",{"$f":"IF(H1070=\"\",\"\",IF('3 Irrigation Schedule'!$P$19<O1070,'3 Irrigation Schedule'!$P$19,O1070))","v":""},"",{"$f":"IF(H1070=\"\",\"\",U1070/'3 Irrigation Schedule'!$M$19)","v":""}]
[null,null,null,"2023","January","2023-01-02",null,"","",5.3271000000000006,"",0,"",{"$f":"IF(OR('3 Irrigation Schedule'!$C$29=\"\",'3 Irrigation Schedule'!$C$31=\"\",H1071=\"\"),\"\",(('3 Irrigation Schedule'!$C$29-'3 Irrigation Schedule'!$C$31)/100)*1000*M1071)","v":""},"",{"$f":"IF(H1071=\"\",\"\",IF(H1071=1,N1071*(1-'3 Irrigation Schedule'!$C$27),S1070-U1070))","v":""},"","","",{"$f":"IF(H1071=\"\",\"\",IF('3 Irrigation Schedule'!$P$19<O1071,'3 Irrigation Schedule'!$P$19,O1071))","v":""},"",{"$f":"IF(H1071=\"\",\"\",U1071/'3 Irrigation Schedule'!$M$19)","v":""}]
[null,null,null,"2023","January","2023-01-03",null,"","",5.3271000000000006,"",0,"",{"$f":"IF(OR('3 Irrigation Schedule'!$C$29=\"\",'3 Irrigation Schedule'!$C$31=\"\",H1072=\"\"),\"\",(('3 Irrigation Schedule'!$C$29-'3 Irrigation Schedule'!$C$31)/100)*1000*M1072)","v":""},"",{"$f":"IF(H1072=\"\",\"\",IF(H1072=1,N1072*(1-'3 Irrigation Schedule'!$C$27),S1071-U1071))","v":""},"","","",{"$f":"IF(H1072=\"\",\"\",IF('3 Irrigation Schedule'!$P$19<O1072,'3 Irrigation Schedule'!$P$19,O1072))","v":""},"",{"$f":"IF(H1072=\"\",\"\",U1072/'3 Irrigation Schedule'!$M$19)","v":""}]
[null,null,null,"2023","January","2023-01-04",null,"","",5.3271000000000006,"",0,"",{"$f":"IF(OR('3 Irrigation Schedule'!$C$29=\"\",'3 Irrigation Schedule'!$C$31=\"\",H1073=\"\"),\"\",(('3 Irrigation Schedule'!$C$29-'3 Irrigation Schedule'!$C$31)/100)*1000*M1073)","v":""},"",{"$f":"IF(H1073=\"\",\"\",IF(H1073=1,N1073*(1-'3 Irrigation Schedule'!$C$27),S1072-U1072))","v":""},"","","",{"$f":"IF(H1073=\"\",\"\",IF('3 Irrigation Schedule'!$P$19<O1073,'3 Irrigation Schedule'!$P$19,O1073))","v":""},"",{"$f":"IF(H1073=\"\",\"\",U1073/'3 Irrigation Schedule'!$M$19)","v":""}]
[null,null,null,"2023","January","2023-01-05",null,"","",5.3271000000000006,"",0,"",{"$f":"IF(OR('3 Irrigation Schedule'!$C$29=\"\",'3 Irrigation Schedule'!$C$31=\"\",H1074=\"\"),\"\",(('3 Irrigation Schedule'!$C$29-'3 Irrigation Schedule'!$C$31)/100)*1000*M1074)","v":""},"",{"$f":"IF(H1074=\"\",\"\",IF(H1074=1,N1074*(1-'3 Irrigation Schedule'!$C$27),S1073-U1073))","v":""},"","","",{"$f":"IF(H1074=\"\",\"\",IF('3 Irrigation Schedule'!$P$19<O1074,'3 Irrigation Schedule'!$P$19,O1074))","v":""},"",{"$f":"IF(H1074=\"\",\"\",U1074/'3 Irrigation Schedule'!$M$19)","v":""}]
[null,null,null,"2023","January","2023-01-06",null,"","",5.3271000000000006,"",0,"",{"$f":"IF(OR('3 Irrigation Schedule'!$C$29=\"\",'3 Irrigation Schedule'!$C$31=\"\",H1075=\"\"),\"\",(('3 Irrigation Schedule'!$C$29-'3 Irrigation Schedule'!$C$31)/100)*1000*M1075)","v":""},"",{"$f":"IF(H1075=\"\",\"\",IF(H1075=1,N1075*(1-'3 Irrigation Schedule'!$C$27),S1074-U1074))","v":""},"","","",{"$f":"IF(H1075=\"\",\"\",IF('3 Irrigation Schedule'!$P$19<O1075,'3 Irrigation Schedule'!$P$19,O1075))","v":""},"",{"$f":"IF(H1075=\"\",\"\",U1075/'3 Irrigation Schedule'!$M$19)","v":""}]
[null,null,null,"2023","January","2023-01-07",null,"","",5.3271000000000006,"",0,"",{"$f":"IF(OR('3 Irrigation Schedule'!$C$29=\"\",'3 Irrigation Schedule'!$C$31=\"\",H1076=\"\"),\"\",(('3 Irrigation Schedule'!$C$29-'3 Irrigation Schedule'!$C$31)/100)*1000*M1076)","v":""},"",{"$f":"IF(H1076=\"\",\"\",IF(H1076=1,N1076*(1-'3 Irrigation Schedule'!$C$27),S1075-U1075))","v":""},"","","",{"$f":"IF(H1076=\"\",\"\",IF('3 Irrigation Schedule'!$P$19<O1076,'3 Irrigation Schedule'!$P$19,O1076))","v":""},"",{"$f":"IF(H1076=\"\",\"\",U1076/'3 Irrigation Schedule'!$M$19)","v":""}]
[null,null,null,"2023","January","2023-01-08",null,"","",5.3271000000000006,"",0,"",{"$f":"IF(OR('3 Irrigation Schedule'!$C$29=\"\",'3 Irrigation Schedule'!$C$31=\"\",H1077=\"\"),\"\",(('3 Irrigation Schedule'!$C$29-'3 Irrigation Schedule'!$C$31)/100)*1000*M1077)","v":""},"",{"$f":"IF(H1077=\"\",\"\",IF(H1077=1,N1077*(1-'3 Irrigation Schedule'!$C$27),S1076-U1076))","v":""},"","","",{"$f":"IF(H1077=\"\",\"\",IF('3 Irrigation Schedule'!$P$19<O1077,'3 Irrigation Schedule'!$P$19,O1077))","v":""},"",{"$f":"IF(H1077=\"\",\"\",U1077/'3 Irrigation Schedule'!$M$19)","v":""}]
[null,null,null,"2023","January","2023-01-09",null,"","",5.3271000000000006,"",0,"",{"$f":"IF(OR('3 Irrigation Schedule'!$C$29=\"\",'3 Irrigation Schedule'!$C$31=\"\",H1078=\"\"),\"\",(('3 Irrigation Schedule'!$C$29-'3 Irrigation Schedule'!$C$31)/100)*1000*M1078)","v":""},"",{"$f":"IF(H1078=\"\",\"\",IF(H1078=1,N1078*(1-'3 Irrigation Schedule'!$C$27),S1077-U1077))","v":""},"","","",{"$f":"IF(H1078=\"\",\"\",IF('3 Irrigation Schedule'!$P$19<O1078,'3 Irrigation Schedule'!$P$19,O1078))","v":""},"",{"$f":"IF(H1078=\"\",\"\",U1078/'3 Irrigation Schedule'!$M$19)","v":""}]
[null,null,null,"2023","January","2023-01-10",null,"","",5.3271000000000006,"",0,"",{"$f":"IF(OR('3 Irrigation Schedule'!$C$29=\"\",'3 Irrigation Schedule'!$C$31=\"\",H1079=\"\"),\"\",(('3 Irrigation Schedule'!$C$29-'3 Irrigation Schedule'!$C$31)/100)*1000*M1079)","v":""},"",{"$f":"IF(H1079=\"\",\"\",IF(H1079=1,N1079*(1-'3 Irrigation Schedule'!$C$27),S1078-U1078))","v":""},"","","",{"$f":"IF(H1079=\"\",\"\",IF('3 Irrigation Schedule'!$P$19<O1079,'3 Irrigation Schedule'!$P$19,O1079))","v":""},"",{"$f":"IF(H1079=\"\",\"\",U1079/'3 Irrigation Schedule'!$M$19)","v":""}]
[null,null,null,"2023","January","2023-01-11",null,"","",5.3271000000000006,"",0,"",{"$f":"IF(OR('3 Irrigation Schedule'!$C$29=\"\",'3 Irrigation Schedule'!$C$31=\"\",H1080=\"\"),\"\",(('3 Irrigation Schedule'!$C$29-'3 Irrigation Schedule'!$C$31)/100)*1000*M1080)","v":""},"",{"$f":"IF(H1080=\"\",\"\",IF(H1080=1,N1080*(1-'3 Irrigation Schedule'!$C$27),S1079-U1079))","v":""},"","","",{"$f":"IF(H1080=\"\",\"\",IF('3 Irrigation Schedule'!$P$19<O1080,'3 Irrigation Schedule'!$P$19,O1080))","v":""},"",{"$f":"IF(H1080=\"\",\"\",U1080/'3 Irrigation Schedule'!$M$19)","v":""}]
[null,null,null,"2023","January","2023-01-12",null,"","",5.3271000000000006,"",0,"",{"$f":"IF(OR('3 Irrigation Schedule'!$C$29=\"\",'3 Irrigation Schedule'!$C$31=\"\",H1081=\"\"),\"\",(('3 Irrigation Schedule'!$C$29-'3 Irrigation Schedule'!$C$31)/100)*1000*M1081)","v":""},"",{"$f":"IF(H1081=\"\",\"\",IF(H1081=1,N1081*(1-'3 Irrigation Schedule'!$C$27),S1080-U1080))","v":""},"","","",{"$f":"IF(H1081=\"\",\"\",IF('3 Irrigation Schedule'!$P$19<O1081,'3 Irrigation Schedule'!$P$19,O1081))","v":""},"",{"$f":"IF(H1081=\"\",\"\",U1081/'3 Irrigation Schedule'!$M$19)","v":""}]
[null,null,null,"2023","January","2023-01-13",null,"","",5.3271000000000006,"",0,"",{"$f":"IF(OR('3 Irrigation Schedule'!$C$29=\"\",'3 Irrigation Schedule'!$C$31=\"\",H1082=\"\"),\"\",(('3 Irrigation Schedule'!$C$29-'3 Irrigation Schedule'!$C$31)/100)*1000*M1082)","v":""},"",{"$f":"IF(H1082=\"\",\"\",IF(H1082=1,N1082*(1-'3 Irrigation Schedule'!$C$27),S1081-U1081))","v":""},"","","",{"$f":"IF(H1082=\"\",\"\",IF('3 Irrigation Schedule'!$P$19<O1082,'3 Irrigation Schedule'!$P$19,O1082))","v":""},"",{"$f":"IF(H1082=\"\",\"\",U1082/'3 Irrigation Schedule'!$M$19)","v":""}]
[null,null,null,"2023","January","2023-01-14",null,"","",5.3271000000000006,"",0,"",{"$f":"IF(OR('3 Irrigation Schedule'!$C$29=\"\",'3 Irrigation Schedule'!$C$31=\"\",H1083=\"\"),\"\",(('3 Irrigation Schedule'!$C$29-'3 Irrigation Schedule'!$C$31)/100)*1000*M1083)","v":""},"",{"$f":"IF(H1083=\"\",\"\",IF(H1083=1,N1083*(1-'3 Irrigation Schedule'!$C$27),S1082-U1082))","v":""},"","","",{"$f":"IF(H1083=\"\",\"\",IF('3 Irrigation Schedule'!$P$19<O1083,'3 Irrigation Schedule'!$P$19,O1083))","v":""},"",{"$f":"IF(H1083=\"\",\"\",U1083/'3 Irrigation Schedule'!$M$19)","v":""}]
[null,null,null,"2023","January","2023-01-15",null,"","",5.3271000000000006,"",0,"",{"$f":"IF(OR('3 Irrigation Schedule'!$C$29=\"\",'3 Irrigation Schedule'!$C$31=\"\",H1084=\"\"),\"\",(('3 Irrigation Schedule'!$C$29-'3 Irrigation Schedule'!$C$31)/100)*1000*M1084)","v":""},"",{"$f":"IF(H1084=\"\",\"\",IF(H1084=1,N1084*(1-'3 Irrigation Schedule'!$C$27),S1083-U1083))","v":""},"","","",{"$f":"IF(H1084=\"\",\"\",IF('3 Irrigation Schedule'!$P$19<O1084,'3 Irrigation Schedule'!$P$19,O1084))","v":""},"",{"$f":"IF(H1084=\"\",\"\",U1084/'3 Irrigation Schedule'!$M$19)","v":""}]
[null,null,null,"2023","January","2023-01-16",null,"",{"$f":"IF(H1085=\"\",\"\",IF(H1085<=$I$27,\"Initial\",IF(AND(H1085>$I$27,H1085<=$I$28),\"Development\",IF(AND(H1085>$I$28,H1085<=$I$29),\"Mid Season\",\"Late Season\"))))","v":""},5.3271000000000006,{"$f":"IF(H1085=\"\",\"\",IF(H1085<=$I$27,$L$27,IF(AND(H1085>$I$27,H1085<=$I$28),$L$27+((H1085-$I$27)/$H$28)*($L$29-$L$27),IF(AND(H1085>$I$28,H1085<=$I$29),$L$29,$L$29+((H1085-$I$29)/$H$30)*($L$30-$L$29)))))","v":""},{"$f":"IFERROR((J1085*K1085),0)","v":0},{"$f":"IF(H1085=\"\",\"\",IF(OR(H1085=1,H1085<$I$28),$M$27+(($M$28-$M$27)*((H1085-1)/($I$28-1))),$M$28))","v":""},{"$f":"IF(OR('3 Irrigation Schedule'!$C$29=\"\",'3 Irrigation Schedule'!$C$31=\"\",H1085=\"\"),\"\",(('3 Irrigation Schedule'!$C$29-'3 Irrigation Schedule'!$C$31)/100)*1000*M1085)","v":""},{"$f":"IF(H1085=\"\",\"\",N1085*$N$27)","v":""},{"$f":"IF(H1085=\"\",\"\",IF(H1085=1,N1085*(1-'3 Irrigation Schedule'!$C$27),S1084-U1084))","v":""},{"$f":"IF(H1085=\"\",\"\",IF(P1085>O1085,(N1085-P1085)/(N1085-O1085),1))","v":""},{"$f":"IF(H1085=\"\",\"\",L1085*Q1085)","v":""},{"$f":"IF(H1085=\"\",\"\",P1085+R1085)","v":""},{"$f":"IF(H1085=\"\",\"\",IF('3 Irrigation Schedule'!$P$19<O1085,'3 Irrigation Schedule'!$P$19,O1085))","v":""},{"$f":"IF(H1085=\"\",\"\",IF(T1085<=S1085,T1085,0))","v":""},{"$f":"IF(H1085=\"\",\"\",U1085/'3 Irrigation Schedule'!$M$19)","v":""}]
[null,null,null,"2023","January","2023-01-17",null,"","",5.3271000000000006,"",0,"",{"$f":"IF(OR('3 Irrigation Schedule'!$C$29=\"\",'3 Irrigation Schedule'!$C$31=\"\",H1086=\"\"),\"\",(('3 Irrigation Schedule'!$C$29-'3 Irrigation Schedule'!$C$31)/100)*1000*M1086)","v":""},"",{"$f":"IF(H1086=\"\",\"\",IF(H1086=1,N1086*(1-'3 Irrigation Schedule'!$C$27),S1085-U1085))","v":""},"","","",{"$f":"IF(H1086=\"\",\"\",IF('3 Irrigation Schedule'!$P$19<O1086,'3 Irrigation Schedule'!$P$19,O1086))","v":""},"",{"$f":"IF(H1086=\"\",\"\",U1086/'3 Irrigation Schedule'!$M$19)","v":""}]
[null,null,null,"2023","January","2023-01-18",null,"","",5.3271000000000006,"",0,"",{"$f":"IF(OR('3 Irrigation Schedule'!$C$29=\"\",'3 Irrigation Schedule'!$C$31=\"\",H1087=\"\"),\"\",(('3 Irrigation Schedule'!$C$29-'3 Irrigation Schedule'!$C$31)/100)*1000*M1087)","v":""},"",{"$f":"IF(H1087=\"\",\"\",IF(H1087=1,N1087*(1-'3 Irrigation Schedule'!$C$27),S1086-U1086))","v":""},"","","",{"$f":"IF(H1087=\"\",\"\",IF('3 Irrigation Schedule'!$P$19<O1087,'3 Irrigation Schedule'!$P$19,O1087))","v":""},"",{"$f":"IF(H1087=\"\",\"\",U1087/'3 Irrigation Schedule'!$M$19)","v":""}]
[null,null,null,"2023","January","2023-01-19",null,"","",5.3271000000000006,"",0,"",{"$f":"IF(OR('3 Irrigation Schedule'!$C$29=\"\",'3 Irrigation Schedule'!$C$31=\"\",H1088=\"\"),\"\",(('3 Irrigation Schedule'!$C$29-'3 Irrigation Schedule'!$C$31)/100)*1000*M1088)","v":""},"",{"$f":"IF(H1088=\"\",\"\",IF(H1088=1,N1088*(1-'3 Irrigation Schedule'!$C$27),S1087-U1087))","v":""},"","","",{"$f":"IF(H1088=\"\",\"\",IF('3 Irrigation Schedule'!$P$19<O1088,'3 Irrigation Schedule'!$P$19,O1088))","v":""},"",{"$f":"IF(H1088=\"\",\"\",U1088/'3 Irrigation Schedule'!$M$19)","v":""}]
[null,null,null,"2023","January","2023-01-20",null,"","",5.3271000000000006,"",0,"",{"$f":"IF(OR('3 Irrigation Schedule'!$C$29=\"\",'3 Irrigation Schedule'!$C$31=\"\",H1089=\"\"),\"\",(('3 Irrigation Schedule'!$C$29-'3 Irrigation Schedule'!$C$31)/100)*1000*M1089)","v":""},"",{"$f":"IF(H1089=\"\",\"\",IF(H1089=1,N1089*(1-'3 Irrigation Schedule'!$C$27),S1088-U1088))","v":""},"","","",{"$f":"IF(H1089=\"\",\"\",IF('3 Irrigation Schedule'!$P$19<O1089,'3 Irrigation Schedule'!$P$19,O1089))","v":""},"",{"$f":"IF(H1089=\"\",\"\",U1089/'3 Irrigation Schedule'!$M$19)","v":""}]
[null,null,null,"2023","January","2023-01-21",null,"","",5.3271000000000006,"",0,"",{"$f":"IF(OR('3 Irrigation Schedule'!$C$29=\"\",'3 Irrigation Schedule'!$C$31=\"\",H1090=\"\"),\"\",(('3 Irrigation Schedule'!$C$29-'3 Irrigation Schedule'!$C$31)/100)*1000*M1090)","v":""},"",{"$f":"IF(H1090=\"\",\"\",IF(H1090=1,N1090*(1-'3 Irrigation Schedule'!$C$27),S1089-U1089))","v":""},"","","",{"$f":"IF(H1090=\"\",\"\",IF('3 Irrigation Schedule'!$P$19<O1090,'3 Irrigation Schedule'!$P$19,O1090))","v":""},"",{"$f":"IF(H1090=\"\",\"\",U1090/'3 Irrigation Schedule'!$M$19)","v":""}]
[null,null,null,"2023","January","2023-01-22",null,"","",5.3271000000000006,"",0,"",{"$f":"IF(OR('3 Irrigation Schedule'!$C$29=\"\",'3 Irrigation Schedule'!$C$31=\"\",H1091=\"\"),\"\",(('3 Irrigation Schedule'!$C$29-'3 Irrigation Schedule'!$C$31)/100)*1000*M1091)","v":""},"",{"$f":"IF(H1091=\"\",\"\",IF(H1091=1,N1091*(1-'3 Irrigation Schedule'!$C$27),S1090-U1090))","v":""},"","","",{"$f":"IF(H1091=\"\",\"\",IF('3 Irrigation Schedule'!$P$19<O1091,'3 Irrigation Schedule'!$P$19,O1091))","v":""},"",{"$f":"IF(H1091=\"\",\"\",U1091/'3 Irrigation Schedule'!$M$19)","v":""}]
[null,null,null,"2023","January","2023-01-23",null,"","",5.3271000000000006,"",0,"",{"$f":"IF(OR('3 Irrigation Schedule'!$C$29=\"\",'3 Irrigation Schedule'!$C$31=\"\",H1092=\"\"),\"\",(('3 Irrigation Schedule'!$C$29-'3 Irrigation Schedule'!$C$31)/100)*1000*M1092)","v":""},"",{"$f":"IF(H1092=\"\",\"\",IF(H1092=1,N1092*(1-'3 Irrigation Schedule'!$C$27),S1091-U1091))","v":""},"","","",{"$f":"IF(H1092=\"\",\"\",IF('3 Irrigation Schedule'!$P$19<O1092,'3 Irrigation Schedule'!$P$19,O1092))","v":""},"",{"$f":"IF(H1092=\"\",\"\",U1092/'3 Irrigation Schedule'!$M$19)","v":""}]
[null,null,null,"2023","January","2023-01-24",null,"","",5.3271000000000006,"",0,"",{"$f":"IF(OR('3 Irrigation Schedule'!$C$29=\"\",'3 Irrigation Schedule'!$C$31=\"\",H1093=\"\"),\"\",(('3 Irrigation Schedule'!$C$29-'3 Irrigation Schedule'!$C$31)/100)*1000*M1093)","v":""},"",{"$f":"IF(H1093=\"\",\"\",IF(H1093=1,N1093*(1-'3 Irrigation Schedule'!$C$27),S1092-U1092))","v":""},"","","",{"$f":"IF(H1093=\"\",\"\",IF('3 Irrigation Schedule'!$P$19<O1093,'3 Irrigation Schedule'!$P$19,O1093))","v":""},"",{"$f":"IF(H1093=\"\",\"\",U1093/'3 Irrigation Schedule'!$M$19)","v":""}]
[null,null,null,"2023","January","2023-01-25",null,"","",5.3271000000000006,"",0,"",{"$f":"IF(OR('3 Irrigation Schedule'!$C$29=\"\",'3 Irrigation Schedule'!$C$31=\"\",H1094=\"\"),\"\",(('3 Irrigation Schedule'!$C$29-'3 Irrigation Schedule'!$C$31)/100)*1000*M1094)","v":""},"",{"$f":"IF(H1094=\"\",\"\",IF(H1094=1,N1094*(1-'3 Irrigation Schedule'!$C$27),S1093-U1093))","v":""},"","","",{"$f":"IF(H1094=\"\",\"\",IF('3 Irrigation Schedule'!$P$19<O1094,'3 Irrigation Schedule'!$P$19,O1094))","v":""},"",{"$f":"IF(H1094=\"\",\"\",U1094/'3 Irrigation Schedule'!$M$19)","v":""}]
[null,null,null,"2023","January","2023-01-26",null,"","",5.3271000000000006,"",0,"",{"$f":"IF(OR('3 Irrigation Schedule'!$C$29=\"\",'3 Irrigation Schedule'!$C$31=\"\",H1095=\"\"),\"\",(('3 Irrigation Schedule'!$C$29-'3 Irrigation Schedule'!$C$31)/100)*1000*M1095)","v":""},"",{"$f":"IF(H1095=\"\",\"\",IF(H1095=1,N1095*(1-'3 Irrigation Schedule'!$C$27),S1094-U1094))","v":""},"","","",{"$f":"IF(H1095=\"\",\"\",IF('3 Irrigation Schedule'!$P$19<O1095,'3 Irrigation Schedule'!$P$19,O1095))","v":""},"",{"$f":"IF(H1095=\"\",\"\",U1095/'3 Irrigation Schedule'!$M$19)","v":""}]
[null,null,null,"2023","January","2023-01-27",null,"","",5.3271000000000006,"",0,"",{"$f":"IF(OR('3 Irrigation Schedule'!$C$29=\"\",'3 Irrigation Schedule'!$C$31=\"\",H1096=\"\"),\"\",(('3 Irrigation Schedule'!$C$29-'3 Irrigation Schedule'!$C$31)/100)*1000*M1096)","v":""},"",{"$f":"IF(H1096=\"\",\"\",IF(H1096=1,N1096*(1-'3 Irrigation Schedule'!$C$27),S1095-U1095))","v":""},"","","",{"$f":"IF(H1096=\"\",\"\",IF('3 Irrigation Schedule'!$P$19<O1096,'3 Irrigation Schedule'!$P$19,O1096))","v":""},"",{"$f":"IF(H1096=\"\",\"\",U1096/'3 Irrigation Schedule'!$M$19)","v":""}]
[null,null,null,"2023","January","2023-01-28",null,"","",5.3271000000000006,"",0,"",{"$f":"IF(OR('3 Irrigation Schedule'!$C$29=\"\",'3 Irrigation Schedule'!$C$31=\"\",H1097=\"\"),\"\",(('3 Irrigation Schedule'!$C$29-'3 Irrigation Schedule'!$C$31)/100)*1000*M1097)","v":""},"",{"$f":"IF(H1097=\"\",\"\",IF(H1097=1,N1097*(1-'3 Irrigation Schedule'!$C$27),S1096-U1096))","v":""},"","","",{"$f":"IF(H1097=\"\",\"\",IF('3 Irrigation Schedule'!$P$19<O1097,'3 Irrigation Schedule'!$P$19,O1097))","v":""},"",{"$f":"IF(H1097=\"\",\"\",U1097/'3 Irrigation Schedule'!$M$19)","v":""}]
[null,null,null,"2023","January","2023-01-29",null,"","",5.3271000000000006,"",0,"",{"$f":"IF(OR('3 Irrigation Schedule'!$C$29=\"\",'3 Irrigation Schedule'!$C$31=\"\",H1098=\"\"),\"\",(('3 Irrigation Schedule'!$C$29-'3 Irrigation Schedule'!$C$31)/100)*1000*M1098)","v":""},"",{"$f":"IF(H1098=\"\",\"\",IF(H1098=1,N1098*(1-'3 Irrigation Schedule'!$C$27),S1097-U1097))","v":""},"","","",{"$f":"IF(H1098=\"\",\"\",IF('3 Irrigation Schedule'!$P$19<O1098,'3 Irrigation Schedule'!$P$19,O1098))","v":""},"",{"$f":"IF(H1098=\"\",\"\",U1098/'3 Irrigation Schedule'!$M$19)","v":""}]
[null,null,null,"2023","January","2023-01-30",null,"","",5.3271000000000006,"",0,"",{"$f":"IF(OR('3 Irrigation Schedule'!$C$29=\"\",'3 Irrigation Schedule'!$C$31=\"\",H1099=\"\"),\"\",(('3 Irrigation Schedule'!$C$29-'3 Irrigation Schedule'!$C$31)/100)*1000*M1099)","v":""},"",{"$f":"IF(H1099=\"\",\"\",IF(H1099=1,N1099*(1-'3 Irrigation Schedule'!$C$27),S1098-U1098))","v":""},"","","",{"$f":"IF(H1099=\"\",\"\",IF('3 Irrigation Schedule'!$P$19<O1099,'3 Irrigation Schedule'!$P$19,O1099))","v":""},"",{"$f":"IF(H1099=\"\",\"\",U1099/'3 Irrigation Schedule'!$M$19)","v":""}]
[null,null,null,"2023","January","2023-01-31",null,"","",5.3271000000000006,"",0,"",{"$f":"IF(OR('3 Irrigation Schedule'!$C$29=\"\",'3 Irrigation Schedule'!$C$31=\"\",H1100=\"\"),\"\",(('3 Irrigation Schedule'!$C$29-'3 Irrigation Schedule'!$C$31)/100)*1000*M1100)","v":""},"",{"$f":"IF(H1100=\"\",\"\",IF(H1100=1,N1100*(1-'3 Irrigation Schedule'!$C$27),S1099-U1099))","v":""},"","","",{"$f":"IF(H1100=\"\",\"\",IF('3 Irrigation Schedule'!$P$19<O1100,'3 Irrigation Schedule'!$P$19,O1100))","v":""},"",{"$f":"IF(H1100=\"\",\"\",U1100/'3 Irrigation Schedule'!$M$19)","v":""}]
[null,null,null,"2023","February","2023-02-01",null,"","",5.2650000000000006,"",0,"",{"$f":"IF(OR('3 Irrigation Schedule'!$C$29=\"\",'3 Irrigation Schedule'!$C$31=\"\",H1101=\"\"),\"\",(('3 Irrigation Schedule'!$C$29-'3 Irrigation Schedule'!$C$31)/100)*1000*M1101)","v":""},"",{"$f":"IF(H1101=\"\",\"\",IF(H1101=1,N1101*(1-'3 Irrigation Schedule'!$C$27),S1100-U1100))","v":""},"","","",{"$f":"IF(H1101=\"\",\"\",IF('3 Irrigation Schedule'!$P$19<O1101,'3 Irrigation Schedule'!$P$19,O1101))","v":""},"",{"$f":"IF(H1101=\"\",\"\",U1101/'3 Irrigation Schedule'!$M$19)","v":""}]
[null,null,null,"2023","February","2023-02-02",null,"","",5.2650000000000006,"",0,"",{"$f":"IF(OR('3 Irrigation Schedule'!$C$29=\"\",'3 Irrigation Schedule'!$C$31=\"\",H1102=\"\"),\"\",(('3 Irrigation Schedule'!$C$29-'3 Irrigation Schedule'!$C$31)/100)*1000*M1102)","v":""},"",{"$f":"IF(H1102=\"\",\"\",IF(H1102=1,N1102*(1-'3 Irrigation Schedule'!$C$27),S1101-U1101))","v":""},"","","",{"$f":"IF(H1102=\"\",\"\",IF('3 Irrigation Schedule'!$P$19<O1102,'3 Irrigation Schedule'!$P$19,O1102))","v":""},"",{"$f":"IF(H1102=\"\",\"\",U1102/'3 Irrigation Schedule'!$M$19)","v":""}]
[null,null,null,"2023","February","2023-02-03",null,"","",5.2650000000000006,"",0,"",{"$f":"IF(OR('3 Irrigation Schedule'!$C$29=\"\",'3 Irrigation Schedule'!$C$31=\"\",H1103=\"\"),\"\",(('3 Irrigation Schedule'!$C$29-'3 Irrigation Schedule'!$C$31)/100)*1000*M1103)","v":""},"",{"$f":"IF(H1103=\"\",\"\",IF(H1103=1,N1103*(1-'3 Irrigation Schedule'!$C$27),S1102-U1102))","v":""},"","","",{"$f":"IF(H1103=\"\",\"\",IF('3 Irrigation Schedule'!$P$19<O1103,'3 Irrigation Schedule'!$P$19,O1103))","v":""},"",{"$f":"IF(H1103=\"\",\"\",U1103/'3 Irrigation Schedule'!$M$19)","v":""}]
[null,null,null,"2023","February","2023-02-04",null,"","",5.2650000000000006,"",0,"",{"$f":"IF(OR('3 Irrigation Schedule'!$C$29=\"\",'3 Irrigation Schedule'!$C$31=\"\",H1104=\"\"),\"\",(('3 Irrigation Schedule'!$C$29-'3 Irrigation Schedule'!$C$31)/100)*1000*M1104)","v":""},"",{"$f":"IF(H1104=\"\",\"\",IF(H1104=1,N1104*(1-'3 Irrigation Schedule'!$C$27),S1103-U1103))","v":""},"","","",{"$f":"IF(H1104=\"\",\"\",IF('3 Irrigation Schedule'!$P$19<O1104,'3 Irrigation Schedule'!$P$19,O1104))","v":""},"",{"$f":"IF(H1104=\"\",\"\",U1104/'3 Irrigation Schedule'!$M$19)","v":""}]
[null,null,null,"2023","February","2023-02-05",null,"","",5.2650000000000006,"",0,"",{"$f":"IF(OR('3 Irrigation Schedule'!$C$29=\"\",'3 Irrigation Schedule'!$C$31=\"\",H1105=\"\"),\"\",(('3 Irrigation Schedule'!$C$29-'3 Irrigation Schedule'!$C$31)/100)*1000*M1105)","v":""},"",{"$f":"IF(H1105=\"\",\"\",IF(H1105=1,N1105*(1-'3 Irrigation Schedule'!$C$27),S1104-U1104))","v":""},"","","",{"$f":"IF(H1105=\"\",\"\",IF('3 Irrigation Schedule'!$P$19<O1105,'3 Irrigation Schedule'!$P$19,O1105))","v":""},"",{"$f":"IF(H1105=\"\",\"\",U1105/'3 Irrigation Schedule'!$M$19)","v":""}]
[null,null,null,"2023","February","2023-02-06",null,"","",5.2650000000000006,"",0,"",{"$f":"IF(OR('3 Irrigation Schedule'!$C$29=\"\",'3 Irrigation Schedule'!$C$31=\"\",H1106=\"\"),\"\",(('3 Irrigation Schedule'!$C$29-'3 Irrigation Schedule'!$C$31)/100)*1000*M1106)","v":""},"",{"$f":"IF(H1106=\"\",\"\",IF(H1106=1,N1106*(1-'3 Irrigation Schedule'!$C$27),S1105-U1105))","v":""},"","","",{"$f":"IF(H1106=\"\",\"\",IF('3 Irrigation Schedule'!$P$19<O1106,'3 Irrigation Schedule'!$P$19,O1106))","v":""},"",{"$f":"IF(H1106=\"\",\"\",U1106/'3 Irrigation Schedule'!$M$19)","v":""}]
[null,null,null,"2023","February","2023-02-07",null,"","",5.2650000000000006,"",0,"",{"$f":"IF(OR('3 Irrigation Schedule'!$C$29=\"\",'3 Irrigation Schedule'!$C$31=\"\",H1107=\"\"),\"\",(('3 Irrigation Schedule'!$C$29-'3 Irrigation Schedule'!$C$31)/100)*1000*M1107)","v":""},"",{"$f":"IF(H1107=\"\",\"\",IF(H1107=1,N1107*(1-'3 Irrigation Schedule'!$C$27),S1106-U1106))","v":""},"","","",{"$f":"IF(H1107=\"\",\"\",IF('3 Irrigation Schedule'!$P$19<O1107,'3 Irrigation Schedule'!$P$19,O1107))","v":""},"",{"$f":"IF(H1107=\"\",\"\",U1107/'3 Irrigation Schedule'!$M$19)","v":""}]
[null,null,null,"2023","February","2023-02-08",null,"","",5.2650000000000006,"",0,"",{"$f":"IF(OR('3 Irrigation Schedule'!$C$29=\"\",'3 Irrigation Schedule'!$C$31=\"\",H1108=\"\"),\"\",(('3 Irrigation Schedule'!$C$29-'3 Irrigation Schedule'!$C$31)/100)*1000*M1108)","v":""},"",{"$f":"IF(H1108=\"\",\"\",IF(H1108=1,N1108*(1-'3 Irrigation Schedule'!$C$27),S1107-U1107))","v":""},"","","",{"$f":"IF(H1108=\"\",\"\",IF('3 Irrigation Schedule'!$P$19<O1108,'3 Irrigation Schedule'!$P$19,O1108))","v":""},"",{"$f":"IF(H1108=\"\",\"\",U1108/'3 Irrigation Schedule'!$M$19)","v":""}]
[null,null,null,"2023","February","2023-02-09",null,"","",5.2650000000000006,"",0,"",{"$f":"IF(OR('3 Irrigation Schedule'!$C$29=\"\",'3 Irrigation Schedule'!$C$31=\"\",H1109=\"\"),\"\",(('3 Irrigation Schedule'!$C$29-'3 Irrigation Schedule'!$C$31)/100)*1000*M1109)","v":""},"",{"$f":"IF(H1109=\"\",\"\",IF(H1109=1,N1109*(1-'3 Irrigation Schedule'!$C$27),S1108-U1108))","v":""},"","","",{"$f":"IF(H1109=\"\",\"\",IF('3 Irrigation Schedule'!$P$19<O1109,'3 Irrigation Schedule'!$P$19,O1109))","v":""},"",{"$f":"IF(H1109=\"\",\"\",U1109/'3 Irrigation Schedule'!$M$19)","v":""}]
[null,null,null,"2023","February","2023-02-10",null,"","",5.2650000000000006,"",0,"",{"$f":"IF(OR('3 Irrigation Schedule'!$C$29=\"\",'3 Irrigation Schedule'!$C$31=\"\",H1110=\"\"),\"\",(('3 Irrigation Schedule'!$C$29-'3 Irrigation Schedule'!$C$31)/100)*1000*M1110)","v":""},"",{"$f":"IF(H1110=\"\",\"\",IF(H1110=1,N1110*(1-'3 Irrigation Schedule'!$C$27),S1109-U1109))","v":""},"","","",{"$f":"IF(H1110=\"\",\"\",IF('3 Irrigation Schedule'!$P$19<O1110,'3 Irrigation Schedule'!$P$19,O1110))","v":""},"",{"$f":"IF(H1110=\"\",\"\",U1110/'3 Irrigation Schedule'!$M$19)","v":""}]
[null,null,null,"2023","February","2023-02-11",null,"","",5.2650000000000006,"",0,"",{"$f":"IF(OR('3 Irrigation Schedule'!$C$29=\"\",'3 Irrigation Schedule'!$C$31=\"\",H1111=\"\"),\"\",(('3 Irrigation Schedule'!$C$29-'3 Irrigation Schedule'!$C$31)/100)*1000*M1111)","v":""},"",{"$f":"IF(H1111=\"\",\"\",IF(H1111=1,N1111*(1-'3 Irrigation Schedule'!$C$27),S1110-U1110))","v":""},"","","",{"$f":"IF(H1111=\"\",\"\",IF('3 Irrigation Schedule'!$P$19<O1111,'3 Irrigation Schedule'!$P$19,O1111))","v":""},"",{"$f":"IF(H1111=\"\",\"\",U1111/'3 Irrigation Schedule'!$M$19)","v":""}]
[null,null,null,"2023","February","2023-02-12",null,"","",5.2650000000000006,"",0,"",{"$f":"IF(OR('3 Irrigation Schedule'!$C$29=\"\",'3 Irrigation Schedule'!$C$31=\"\",H1112=\"\"),\"\",(('3 Irrigation Schedule'!$C$29-'3 Irrigation Schedule'!$C$31)/100)*1000*M1112)","v":""},"",{"$f":"IF(H1112=\"\",\"\",IF(H1112=1,N1112*(1-'3 Irrigation Schedule'!$C$27),S1111-U1111))","v":""},"","","",{"$f":"IF(H1112=\"\",\"\",IF('3 Irrigation Schedule'!$P$19<O1112,'3 Irrigation Schedule'!$P$19,O1112))","v":""},"",{"$f":"IF(H1112=\"\",\"\",U1112/'3 Irrigation Schedule'!$M$19)","v":""}]
[null,null,null,"2023","February","2023-02-13",null,"","",5.2650000000000006,"",0,"",{"$f":"IF(OR('3 Irrigation Schedule'!$C$29=\"\",'3 Irrigation Schedule'!$C$31=\"\",H1113=\"\"),\"\",(('3 Irrigation Schedule'!$C$29-'3 Irrigation Schedule'!$C$31)/100)*1000*M1113)","v":""},"",{"$f":"IF(H1113=\"\",\"\",IF(H1113=1,N1113*(1-'3 Irrigation Schedule'!$C$27),S1112-U1112))","v":""},"","","",{"$f":"IF(H1113=\"\",\"\",IF('3 Irrigation Schedule'!$P$19<O1113,'3 Irrigation Schedule'!$P$19,O1113))","v":""},"",{"$f":"IF(H1113=\"\",\"\",U1113/'3 Irrigation Schedule'!$M$19)","v":""}]
[null,null,null,"2023","February","2023-02-14",null,"","",5.2650000000000006,"",0,"",{"$f":"IF(OR('3 Irrigation Schedule'!$C$29=\"\",'3 Irrigation Schedule'!$C$31=\"\",H1114=\"\"),\"\",(('3 Irrigation Schedule'!$C$29-'3 Irrigation Schedule'!$C$31)/100)*1000*M1114)","v":""},"",{"$f":"IF(H1114=\"\",\"\",IF(H1114=1,N1114*(1-'3 Irrigation Schedule'!$C$27),S1113-U1113))","v":""},"","","",{"$f":"IF(H1114=\"\",\"\",IF('3 Irrigation Schedule'!$P$19<O1114,'3 Irrigation Schedule'!$P$19,O1114))","v":""},"",{"$f":"IF(H1114=\"\",\"\",U1114/'3 Irrigation Schedule'!$M$19)","v":""}]
[null,null,null,"2023","February","2023-02-15",null,"","",5.2650000000000006,"",0,"",{"$f":"IF(OR('3 Irrigation Schedule'!$C$29=\"\",'3 Irrigation Schedule'!$C$31=\"\",H1115=\"\"),\"\",(('3 Irrigation Schedule'!$C$29-'3 Irrigation Schedule'!$C$31)/100)*1000*M1115)","v":""},"",{"$f":"IF(H1115=\"\",\"\",IF(H1115=1,N1115*(1-'3 Irrigation Schedule'!$C$27),S1114-U1114))","v":""},"","","",{"$f":"IF(H1115=\"\",\"\",IF('3 Irrigation Schedule'!$P$19<O1115,'3 Irrigation Schedule'!$P$19,O1115))","v":""},"",{"$f":"IF(H1115=\"\",\"\",U1115/'3 Irrigation Schedule'!$M$19)","v":""}]
[null,null,null,"2023","February","2023-02-16",null,"","",5.2650000000000006,"",0,"",{"$f":"IF(OR('3 Irrigation Schedule'!$C$29=\"\",'3 Irrigation Schedule'!$C$31=\"\",H1116=\"\"),\"\",(('3 Irrigation Schedule'!$C$29-'3 Irrigation Schedule'!$C$31)/100)*1000*M1116)","v":""},"",{"$f":"IF(H1116=\"\",\"\",IF(H1116=1,N1116*(1-'3 Irrigation Schedule'!$C$27),S1115-U1115))","v":""},"","","",{"$f":"IF(H1116=\"\",\"\",IF('3 Irrigation Schedule'!$P$19<O1116,'3 Irrigation Schedule'!$P$19,O1116))","v":""},"",{"$f":"IF(H1116=\"\",\"\",U1116/'3 Irrigation Schedule'!$M$19)","v":""}]
[null,null,null,"2023","February","2023-02-17",null,"","",5.2650000000000006,"",0,"",{"$f":"IF(OR('3 Irrigation Schedule'!$C$29=\"\",'3 Irrigation Schedule'!$C$31=\"\",H1117=\"\"),\"\",(('3 Irrigation Schedule'!$C$29-'3 Irrigation Schedule'!$C$31)/100)*1000*M1117)","v":""},"",{"$f":"IF(H1117=\"\",\"\",IF(H1117=1,N1117*(1-'3 Irrigation Schedule'!$C$27),S1116-U1116))","v":""},"","","",{"$f":"IF(H1117=\"\",\"\",IF('3 Irrigation Schedule'!$P$19<O1117,'3 Irrigation Schedule'!$P$19,O1117))","v":""},"",{"$f":"IF(H1117=\"\",\"\",U1117/'3 Irrigation Schedule'!$M$19)","v":""}]
[null,null,null,"2023","February","2023-02-18",null,"","",5.2650000000000006,"",0,"",{"$f":"IF(OR('3 Irrigation Schedule'!$C$29=\"\",'3 Irrigation Schedule'!$C$31=\"\",H1118=\"\"),\"\",(('3 Irrigation Schedule'!$C$29-'3 Irrigation Schedule'!$C$31)/100)*1000*M1118)","v":""},"",{"$f":"IF(H1118=\"\",\"\",IF(H1118=1,N1118*(1-'3 Irrigation Schedule'!$C$27),S1117-U1117))","v":""},"","","",{"$f":"IF(H1118=\"\",\"\",IF('3 Irrigation Schedule'!$P$19<O1118,'3 Irrigation Schedule'!$P$19,O1118))","v":""},"",{"$f":"IF(H1118=\"\",\"\",U1118/'3 Irrigation Schedule'!$M$19)","v":""}]
[null,null,null,"2023","February","2023-02-19",null,"","",5.2650000000000006,"",0,"",{"$f":"IF(OR('3 Irrigation Schedule'!$C$29=\"\",'3 Irrigation Schedule'!$C$31=\"\",H1119=\"\"),\"\",(('3 Irrigation Schedule'!$C$29-'3 Irrigation Schedule'!$C$31)/100)*1000*M1119)","v":""},"",{"$f":"IF(H1119=\"\",\"\",IF(H1119=1,N1119*(1-'3 Irrigation Schedule'!$C$27),S1118-U1118))","v":""},"","","",{"$f":"IF(H1119=\"\",\"\",IF('3 Irrigation Schedule'!$P$19<O1119,'3 Irrigation Schedule'!$P$19,O1119))","v":""},"",{"$f":"IF(H1119=\"\",\"\",U1119/'3 Irrigation Schedule'!$M$19)","v":""}]
[null,null,null,"2023","February","2023-02-20",null,"","",5.2650000000000006,"",0,"",{"$f":"IF(OR('3 Irrigation Schedule'!$C$29=\"\",'3 Irrigation Schedule'!$C$31=\"\",H1120=\"\"),\"\",(('3 Irrigation Schedule'!$C$29-'3 Irrigation Schedule'!$C$31)/100)*1000*M1120)","v":""},"",{"$f":"IF(H1120=\"\",\"\",IF(H1120=1,N1120*(1-'3 Irrigation Schedule'!$C$27),S1119-U1119))","v":""},"","","",{"$f":"IF(H1120=\"\",\"\",IF('3 Irrigation Schedule'!$P$19<O1120,'3 Irrigation Schedule'!$P$19,O1120))","v":""},"",{"$f":"IF(H1120=\"\",\"\",U1120/'3 Irrigation Schedule'!$M$19)","v":""}]
[null,null,null,"2023","February","2023-02-21",null,"","",5.2650000000000006,"",0,"",{"$f":"IF(OR('3 Irrigation Schedule'!$C$29=\"\",'3 Irrigation Schedule'!$C$31=\"\",H1121=\"\"),\"\",(('3 Irrigation Schedule'!$C$29-'3 Irrigation Schedule'!$C$31)/100)*1000*M1121)","v":""},"",{"$f":"IF(H1121=\"\",\"\",IF(H1121=1,N1121*(1-'3 Irrigation Schedule'!$C$27),S1120-U1120))","v":""},"","","",{"$f":"IF(H1121=\"\",\"\",IF('3 Irrigation Schedule'!$P$19<O1121,'3 Irrigation Schedule'!$P$19,O1121))","v":""},"",{"$f":"IF(H1121=\"\",\"\",U1121/'3 Irrigation Schedule'!$M$19)","v":""}]
[null,null,null,{"$f":"IFERROR(TEXT(DATE(YEAR($F1122),MONTH($F1122),1),$D$7&$D$4),\"\")","v":"2023"},{"$f":"IFERROR(TEXT(DATE(YEAR($F1122),MONTH($F1122),1),$D$7&$D$5),\"\")","v":"February"},"2023-02-22",null,"","",{"$f":"IFERROR(VLOOKUP($E1122,$B$19:$C$30,2,FALSE),\"\")","v":5.2650000000000006},"",0,"",{"$f":"IF(OR('3 Irrigation Schedule'!$C$29=\"\",'3 Irrigation Schedule'!$C$31=\"\",H1122=\"\"),\"\",(('3 Irrigation Schedule'!$C$29-'3 Irrigation Schedule'!$C$31)/100)*1000*M1122)","v":""},"",{"$f":"IF(H1122=\"\",\"\",IF(H1122=1,N1122*(1-'3 Irrigation Schedule'!$C$27),S1121-U1121))","v":""},"","","",{"$f":"IF(H1122=\"\",\"\",IF('3 Irrigation Schedule'!$P$19<O1122,'3 Irrigation Schedule'!$P$19,O1122))","v":""},"",{"$f":"IF(H1122=\"\",\"\",U1122/'3 Irrigation Schedule'!$M$19)","v":""}]
[null,null,null,"2023","February",{"$f":"IFERROR(IF(F1122+1<=$N$7, F1122+1,\"\"),\"\")","v":"2023-02-23"},null,{"$f":"IFERROR(IF(OR($F1123-$J$27+1<=0,$F1123>$K$30),\"\",$F1123-$J$27+1),\"\")","v":""},"",5.2650000000000006,"",0,"",{"$f":"IF(OR('3 Irrigation Schedule'!$C$29=\"\",'3 Irrigation Schedule'!$C$31=\"\",H1123=\"\"),\"\",(('3 Irrigation Schedule'!$C$29-'3 Irrigation Schedule'!$C$31)/100)*1000*M1123)","v":""},"",{"$f":"IF(H1123=\"\",\"\",IF(H1123=1,N1123*(1-'3 Irrigation Schedule'!$C$27),S1122-U1122))","v":""},"","","",{"$f":"IF(H1123=\"\",\"\",IF('3 Irrigation Schedule'!$P$19<O1123,'3 Irrigation Schedule'!$P$19,O1123))","v":""},"",{"$f":"IF(H1123=\"\",\"\",U1123/'3 Irrigation Schedule'!$M$19)","v":""}]
[null,null,null,"2023","February","2023-02-24",null,"","",5.2650000000000006,"",0,"",{"$f":"IF(OR('3 Irrigation Schedule'!$C$29=\"\",'3 Irrigation Schedule'!$C$31=\"\",H1124=\"\"),\"\",(('3 Irrigation Schedule'!$C$29-'3 Irrigation Schedule'!$C$31)/100)*1000*M1124)","v":""},"",{"$f":"IF(H1124=\"\",\"\",IF(H1124=1,N1124*(1-'3 Irrigation Schedule'!$C$27),S1123-U1123))","v":""},"","","",{"$f":"IF(H1124=\"\",\"\",IF('3 Irrigation Schedule'!$P$19<O1124,'3 Irrigation Schedule'!$P$19,O1124))","v":""},"",{"$f":"IF(H1124=\"\",\"\",U1124/'3 Irrigation Schedule'!$M$19)","v":""}]
[null,null,null,"2023","February","2023-02-25",null,"","",5.2650000000000006,"",0,"",{"$f":"IF(OR('3 Irrigation Schedule'!$C$29=\"\",'3 Irrigation Schedule'!$C$31=\"\",H1125=\"\"),\"\",(('3 Irrigation Schedule'!$C$29-'3 Irrigation Schedule'!$C$31)/100)*1000*M1125)","v":""},"",{"$f":"IF(H1125=\"\",\"\",IF(H1125=1,N1125*(1-'3 Irrigation Schedule'!$C$27),S1124-U1124))","v":""},"","","",{"$f":"IF(H1125=\"\",\"\",IF('3 Irrigation Schedule'!$P$19<O1125,'3 Irrigation Schedule'!$P$19,O1125))","v":""},"",{"$f":"IF(H1125=\"\",\"\",U1125/'3 Irrigation Schedule'!$M$19)","v":""}]
[null,null,null,"2023","February","2023-02-26",null,"","",5.2650000000000006,"",0,"",{"$f":"IF(OR('3 Irrigation Schedule'!$C$29=\"\",'3 Irrigation Schedule'!$C$31=\"\",H1126=\"\"),\"\",(('3 Irrigation Schedule'!$C$29-'3 Irrigation Schedule'!$C$31)/100)*1000*M1126)","v":""},"",{"$f":"IF(H1126=\"\",\"\",IF(H1126=1,N1126*(1-'3 Irrigation Schedule'!$C$27),S1125-U1125))","v":""},"","","",{"$f":"IF(H1126=\"\",\"\",IF('3 Irrigation Schedule'!$P$19<O1126,'3 Irrigation Schedule'!$P$19,O1126))","v":""},"",{"$f":"IF(H1126=\"\",\"\",U1126/'3 Irrigation Schedule'!$M$19)","v":""}]
[null,null,null,"2023","February","2023-02-27",null,"","",5.2650000000000006,"",0,"",{"$f":"IF(OR('3 Irrigation Schedule'!$C$29=\"\",'3 Irrigation Schedule'!$C$31=\"\",H1127=\"\"),\"\",(('3 Irrigation Schedule'!$C$29-'3 Irrigation Schedule'!$C$31)/100)*1000*M1127)","v":""},"",{"$f":"IF(H1127=\"\",\"\",IF(H1127=1,N1127*(1-'3 Irrigation Schedule'!$C$27),S1126-U1126))","v":""},"","","",{"$f":"IF(H1127=\"\",\"\",IF('3 Irrigation Schedule'!$P$19<O1127,'3 Irrigation Schedule'!$P$19,O1127))","v":""},"",{"$f":"IF(H1127=\"\",\"\",U1127/'3 Irrigation Schedule'!$M$19)","v":""}]
[null,null,null,"2023","February","2023-02-28",null,"","",5.2650000000000006,"",0,"",{"$f":"IF(OR('3 Irrigation Schedule'!$C$29=\"\",'3 Irrigation Schedule'!$C$31=\"\",H1128=\"\"),\"\",(('3 Irrigation Schedule'!$C$29-'3 Irrigation Schedule'!$C$31)/100)*1000*M1128)","v":""},"",{"$f":"IF(H1128=\"\",\"\",IF(H1128=1,N1128*(1-'3 Irrigation Schedule'!$C$27),S1127-U1127))","v":""},"","","",{"$f":"IF(H1128=\"\",\"\",IF('3 Irrigation Schedule'!$P$19<O1128,'3 Irrigation Schedule'!$P$19,O1128))","v":""},"",{"$f":"IF(H1128=\"\",\"\",U1128/'3 Irrigation Schedule'!$M$19)","v":""}]

{"sheet":"General Calculation","index":8,"n_rows":157,"n_cols":17,"rows_kept":157,"cut":false,"hidden":true,"merged":[[143,5,143,7],[119,0,119,2],[131,1,131,2],[1,4,1,6],[2,4,2,6],[3,4,3,6],[4,4,4,6],[18,2,18,6]]}
[null,"Available climatic Data","Option","Status"]
[null,null,"Option 1",true,"Blaney-Criddle method"]
[null,null,"Option 2",false,"Hargreaves method"]
[null,null,"Option 3",false,"FAO Penman-Monteith method"]
[null,null,"Option 4",false,"Reference evapotranspiration"]
[]
[null,"Hemisphere","North","East"]
[null,null,"South","West"]
[]
[null,"Option 1","Blaney-Criddle method"]
[null,null,"latitude",{"$f":"IF($D$2=TRUE,MROUND('1 Geographic Data'!$C$37,5),\"\")","v":5},"degree"]
[null,null,"Hemisphere",{"$f":"IF($D$2=TRUE,'1 Geographic Data'!$F$37,\"\")","v":"North"}]
[]
[null,null,null,{"$f":"'1 Geographic Data'!B22","v":"January"},{"$f":"'1 Geographic Data'!C22","v":"February"},{"$f":"'1 Geographic Data'!D22","v":"March"},{"$f":"'1 Geographic Data'!E22","v":"April"},{"$f":"'1 Geographic Data'!F22","v":"May"},{"$f":"'1 Geographic Data'!G22","v":"June"},{"$f":"'1 Geographic Data'!H22","v":"July"},{"$f":"'1 Geographic Data'!I22","v":"August"},{"$f":"'1 Geographic Data'!J22","v":"September"},{"$f":"'1 Geographic Data'!K22","v":"October"},{"$f":"'1 Geographic Data'!L22","v":"November"},{"$f":"'1 Geographic Data'!M22","v":"December"}]
[null,null,{"$f":"IF($D$2= TRUE,'1 Geographic Data'!A23,'1 Geographic Data'!A23)","v":"Mean daily temperature [°C]"},{"$f":"IF($D$2= TRUE,'1 Geographic Data'!B23,\"\")","v":25.5},{"$f":"IF($D$2= TRUE,'1 Geographic Data'!C23,\"\")","v":25},{"$f":"IF($D$2= TRUE,'1 Geographic Data'!D23,\"\")","v":24.6},{"$f":"IF($D$2= TRUE,'1 Geographic Data'!E23,\"\")","v":23.8},{"$f":"IF($D$2= TRUE,'1 Geographic Data'!F23,\"\")","v":23.9},{"$f":"IF($D$2= TRUE,'1 Geographic Data'!G23,\"\")","v":23.5},{"$f":"IF($D$2= TRUE,'1 Geographic Data'!H23,\"\")","v":23},{"$f":"IF($D$2= TRUE,'1 Geographic Data'!I23,\"\")","v":23},{"$f":"IF($D$2= TRUE,'1 Geographic Data'!J23,\"\")","v":23.6},{"$f":"IF($D$2= TRUE,'1 Geographic Data'!K23,\"\")","v":23.9},{"$f":"IF($D$2= TRUE,'1 Geographic Data'!L23,\"\")","v":23.6},{"$f":"IF($D$2= TRUE,'1 Geographic Data'!M23,\"\")","v":24}]
[null,null,"Daytime hours:",{"$f":"IF($D$2= TRUE, IF($D$12=\"North\",INDEX(F21:F33,VLOOKUP($D$11,$D$21:$E$33,2,FALSE)),INDEX(F35:F47,VLOOKUP($D$11,$D$21:$E$33,2,FALSE))),\"\")","v":0.27},{"$f":"IF($D$2= TRUE, IF($D$12=\"North\",INDEX(G21:G33,VLOOKUP($D$11,$D$21:$E$33,2,FALSE)),INDEX(G35:G47,VLOOKUP($D$11,$D$21:$E$33,2,FALSE))),\"\")","v":0.27},0.27,0.28000000000000003,0.28000000000000003,0.28000000000000003,0.28000000000000003,0.28000000000000003,0.28000000000000003,0.27,0.27,{"$f":"IF($D$2= TRUE, IF($D$12=\"North\",INDEX(Q21:Q33,VLOOKUP($D$11,$D$21:$E$33,2,FALSE)),INDEX(Q35:Q47,VLOOKUP($D$11,$D$21:$E$33,2,FALSE))),\"\")","v":0.27}]
[null,null,"Reference Evapotranspiration ",{"$f":"IF($D$2= TRUE, D16*(0.46*D15+8),\"\")","v":5.3271000000000006},{"$f":"IF($D$2= TRUE, E16*(0.46*E15+8),\"\")","v":5.2650000000000006},5.2153200000000011,5.3054400000000008,5.3183200000000008,5.2668000000000008,5.2023999999999999,5.2023999999999999,5.2796800000000008,5.1283799999999999,5.091120000000001,{"$f":"IF($D$2= TRUE, O16*(0.46*O15+8),\"\")","v":5.1408000000000005}]
[]
[null,null,"Mean daily percentage (p) of annual daytime hours for different latitudes"]
[null,null,"North","Latitude","#",{"$f":"D14","v":"January"},{"$f":"E14","v":"February"},"March","April","May","June","July","August","September","October","November","December"]
[null,null,null,60,1,0.15,0.2,0.26,0.32,0.38,0.41,0.4,0.34,0.28000000000000003,0.22,0.17,0.13]
[null,null,null,55,2,0.17,0.21,0.26,0.32,0.36,0.39,0.38,0.33,0.28000000000000003,0.23,0.18,0.16]
[null,null,null,50,3,0.19,0.23,0.27,0.31,0.34,0.36,0.35,0.32,0.28000000000000003,0.24,0.2,0.18]
[null,null,null,45,4,0.2,0.23,0.27,0.3,0.34,0.35,0.34,0.32,0.28000000000000003,0.24,0.21,0.2]
[null,null,null,40,5,0.22,0.24,0.27,0.3,0.32,0.34,0.33,0.31,0.28000000000000003,0.25,0.22,0.21]
[null,null,null,35,6,0.23,0.25,0.27,0.28999999999999998,0.31,0.32,0.32,0.3,0.28000000000000003,0.25,0.23,0.22]
[null,null,null,30,7,0.24,0.25,0.27,0.28999999999999998,0.31,0.32,0.31,0.3,0.28000000000000003,0.26,0.24,0.23]
[null,null,null,25,8,0.24,0.26,0.27,0.28999999999999998,0.3,0.31,0.31,0.28999999999999998,0.28000000000000003,0.26,0.25,0.24]
[null,null,null,20,9,0.25,0.26,0.27,0.28000000000000003,0.28999999999999998,0.3,0.3,0.28999999999999998,0.28000000000000003,0.26,0.25,0.25]
[null,null,null,15,10,0.26,0.26,0.27,0.28000000000000003,0.28999999999999998,0.28999999999999998,0.28999999999999998,0.28000000000000003,0.28000000000000003,0.27,0.26,0.25]
[null,null,null,10,11,0.26,0.27,0.27,0.28000000000000003,0.28000000000000003,0.28999999999999998,0.28999999999999998,0.28000000000000003,0.28000000000000003,0.27,0.26,0.26]
[null,null,null,5,12,0.27,0.27,0.27,0.28000000000000003,0.28000000000000003,0.28000000000000003,0.28000000000000003,0.28000000000000003,0.28000000000000003,0.27,0.27,0.27]
[null,null,null,0,13,0.27,0.27,0.27,0.27,0.27,0.27,0.27,0.27,0.27,0.27,0.27,0.27]
[null,null,"South","Latitude","#",{"$f":"D14","v":"January"},{"$f":"E14","v":"February"},"March","April","May","June","July","August","September","October","November","December"]
[null,null,null,60,1,0.4,0.34,0.28000000000000003,0.22,0.17,0.13,0.15,0.2,0.26,0.32,0.38,0.41]
[null,null,null,55,2,0.38,0.33,0.28000000000000003,0.23,0.18,0.16,0.17,0.21,0.26,0.32,0.36,0.39]
[null,null,null,50,3,0.35,0.32,0.28000000000000003,0.24,0.2,0.18,0.19,0.23,0.27,0.31,0.34,0.36]
[null,null,null,45,4,0.34,0.32,0.28000000000000003,0.24,0.21,0.2,0.2,0.23,0.27,0.3,0.34,0.35]
[null,null,null,40,5,0.33,0.31,0.28000000000000003,0.25,0.22,0.21,0.22,0.24,0.27,0.3,0.32,0.34]
[null,null,null,35,6,0.32,0.3,0.28000000000000003,0.25,0.23,0.22,0.23,0.25,0.27,0.28999999999999998,0.31,0.32]
[null,null,null,30,7,0.31,0.3,0.28000000000000003,0.26,0.24,0.23,0.24,0.25,0.27,0.28999999999999998,0.31,0.32]
[null,null,null,25,8,0.31,0.28999999999999998,0.28000000000000003,0.26,0.25,0.24,0.24,0.26,0.27,0.28999999999999998,0.3,0.31]
[null,null,null,20,9,0.3,0.28999999999999998,0.28000000000000003,0.26,0.25,0.25,0.25,0.26,0.27,0.28000000000000003,0.28999999999999998,0.3]
[null,null,null,15,10,0.28999999999999998,0.28000000000000003,0.28000000000000003,0.27,0.26,0.25,0.26,0.26,0.27,0.28000000000000003,0.28999999999999998,0.28999999999999998]
[null,null,null,10,11,0.28999999999999998,0.28000000000000003,0.28000000000000003,0.27,0.26,0.26,0.26,0.27,0.27,0.28000000000000003,0.28000000000000003,0.28999999999999998]
[null,null,null,5,12,0.28000000000000003,0.28000000000000003,0.28000000000000003,0.27,0.27,0.27,0.27,0.27,0.27,0.28000000000000003,0.28000000000000003,0.28000000000000003]
[null,null,null,0,13,0.27,0.27,0.27,0.27,0.27,0.27,0.27,0.27,0.27,0.27,0.27,0.27]
[]
[null,"Option 2","Hargreaves method"]
[null,null,"latitude",{"$f":"IF($D$3=TRUE,'1 Geographic Data'!$C$37,\"\")","v":""},"degree",{"$f":"IF($D$3=TRUE,'1 Geographic Data'!$F$37,\"\")","v":""},{"$f":"\"==>\"","v":"==>"},{"$f":"IF($D$3= TRUE, IF(F50=\"North\",PI()*$D$50/180, PI()*-$D$50/180),\"\")","v":""},"Radians"]
[null,null,"Longitude",{"$f":"IF($D$3=TRUE,'1 Geographic Data'!$C$38,\"\")","v":""},"degree",{"$f":"IF($D$3=TRUE,'1 Geographic Data'!$F$38,\"\")","v":""}]
[]
[null,null,null,{"$f":"D14","v":"January"},"February","March","April","May","June","July","August","September","October","November","December"]
[null,null,{"$f":"IF($D$4= TRUE,'1 Geographic Data'!A24,'1 Geographic Data'!A24)","v":"Maximum daily temperature [°C]"},{"$f":"IF($D$3= TRUE,'1 Geographic Data'!B24, \"\")","v":""},{"$f":"IF($D$3= TRUE,'1 Geographic Data'!C24, \"\")","v":""},{"$f":"IF($D$3= TRUE,'1 Geographic Data'!D24, \"\")","v":""},{"$f":"IF($D$3= TRUE,'1 Geographic Data'!E24, \"\")","v":""},{"$f":"IF($D$3= TRUE,'1 Geographic Data'!F24, \"\")","v":""},{"$f":"IF($D$3= TRUE,'1 Geographic Data'!G24, \"\")","v":""},{"$f":"IF($D$3= TRUE,'1 Geographic Data'!H24, \"\")","v":""},{"$f":"IF($D$3= TRUE,'1 Geographic Data'!I24, \"\")","v":""},{"$f":"IF($D$3= TRUE,'1 Geographic Data'!J24, \"\")","v":""},{"$f":"IF($D$3= TRUE,'1 Geographic Data'!K24, \"\")","v":""},{"$f":"IF($D$3= TRUE,'1 Geographic Data'!L24, \"\")","v":""},{"$f":"IF($D$3= TRUE,'1 Geographic Data'!M24, \"\")","v":""}]
[null,null,{"$f":"IF($D$4= TRUE,'1 Geographic Data'!A25,'1 Geographic Data'!A25)","v":"Minimum daily temperature [°C]"},{"$f":"IF($D$3= TRUE,'1 Geographic Data'!B25, \"\")","v":""},{"$f":"IF($D$3= TRUE,'1 Geographic Data'!C25, \"\")","v":""},{"$f":"IF($D$3= TRUE,'1 Geographic Data'!D25, \"\")","v":""},{"$f":"IF($D$3= TRUE,'1 Geographic Data'!E25, \"\")","v":""},{"$f":"IF($D$3= TRUE,'1 Geographic Data'!F25, \"\")","v":""},{"$f":"IF($D$3= TRUE,'1 Geographic Data'!G25, \"\")","v":""},{"$f":"IF($D$3= TRUE,'1 Geographic Data'!H25, \"\")","v":""},{"$f":"IF($D$3= TRUE,'1 Geographic Data'!I25, \"\")","v":""},{"$f":"IF($D$3= TRUE,'1 Geographic Data'!J25, \"\")","v":""},{"$f":"IF($D$3= TRUE,'1 Geographic Data'!K25, \"\")","v":""},{"$f":"IF($D$3= TRUE,'1 Geographic Data'!L25, \"\")","v":""},{"$f":"IF($D$3= TRUE,'1 Geographic Data'!M25, \"\")","v":""}]
[null,null,"Reference Evapotranspiration ",{"$f":"D65","v":""},{"$f":"E65","v":""},"","","","","","","","","",""]
[]
[null,null,"Mean Temp. [°C] ",{"$f":"IF($D$3= TRUE,(D54+D55)/2,\"\")","v":""},{"$f":"IF($D$3= TRUE,(E54+E55)/2,\"\")","v":""},"","","","","","","","","",""]
[null,null,"Month",1,2,3,4,5,6,7,8,9,10,11,12]
[null,null,"J",{"$f":"IF($D$3= TRUE,TRUNC((30.4*D59)-15),\"\")","v":""},{"$f":"IF($D$3= TRUE,TRUNC((30.4*E59)-15),\"\")","v":""},"","","","","","","","","",""]
[null,null,"dr",{"$f":"IF($D$3= TRUE,1+(0.033*COS(2*PI()*D60/365)),\"\")","v":""},{"$f":"IF($D$3= TRUE,1+(0.033*COS(2*PI()*E60/365)),\"\")","v":""},"","","","","","","","","",""]
[null,null,"Solar Decl. δ [Rad]",{"$f":"IF($D$3= TRUE,0.4093*SIN((2*PI()*D60/365)-1.39),\"\")","v":""},{"$f":"IF($D$3= TRUE,0.4093*SIN((2*PI()*E60/365)-1.39),\"\")","v":""},"","","","","","","","","",""]
[null,null,"Sunset Angle [Rad]",{"$f":"IF($D$3= TRUE,ACOS(-TAN($H$50)*TAN(D62)),\"\")","v":""},"","","","","","","","","","",""]
[null,null,"Ra [MJ m-2 day-1]",{"$f":"IF($D$3= TRUE,(24*60*0.082*D61/PI())*((D63*SIN($H$50)*SIN(D62))+(COS($H$50)*COS(D62)*SIN(D63))),\"\")","v":""},"","","","","","","","","","",""]
[null,null,"ETo [mm day-1]",{"$f":"IF($D$3= TRUE,0.408*0.0023*(D58+17.8)*(D54-D55)^0.5*D64,\"\")","v":""},{"$f":"IF($D$3= TRUE,0.408*0.0023*(E58+17.8)*(E54-E55)^0.5*E64,\"\")","v":""},"","","","","","","","","",""]
[]
[]
[null,"Option 3","FAO Penman-Monteith method"]
[null,null,"latitude",{"$f":"IF($D$4=TRUE,'1 Geographic Data'!$C$37,\"\")","v":""},"degree",{"$f":"IF($D$4=TRUE,'1 Geographic Data'!$F$37,\"\")","v":""},{"$f":"\"==>\"","v":"==>"},{"$f":"IF($D$4= TRUE,IF(F69=\"North\",PI()*$D$69/180, PI()*-$D$69/180),\"\")","v":""},"Radians"]
[null,null,"Longitude",{"$f":"IF($D$4=TRUE,'1 Geographic Data'!$C$38,\"\")","v":""},"degree",{"$f":"IF($D$4=TRUE,'1 Geographic Data'!$F$38,\"\")","v":""}]
[null,null,"Altitude",{"$f":"IF($D$4=TRUE,'1 Geographic Data'!$C$35,\"\")","v":""},"meter"]
[]
[null,null,"Angstrom values","as",0.25,null,"albedo α",0.23]
[null,null,null,"bs",0.5]
[]
[null,null,null,{"$f":"D14","v":"January"},"February","March","April","May","June","July","August","September","October","November","December"]
[null,null,{"$f":"IF($D$4= TRUE,'1 Geographic Data'!A24,'1 Geographic Data'!A24)","v":"Maximum daily temperature [°C]"},{"$f":"IF($D$4= TRUE,'1 Geographic Data'!B24,\"\")","v":""},{"$f":"IF($D$4= TRUE,'1 Geographic Data'!C24,\"\")","v":""},{"$f":"IF($D$4= TRUE,'1 Geographic Data'!D24,\"\")","v":""},{"$f":"IF($D$4= TRUE,'1 Geographic Data'!E24,\"\")","v":""},{"$f":"IF($D$4= TRUE,'1 Geographic Data'!F24,\"\")","v":""},{"$f":"IF($D$4= TRUE,'1 Geographic Data'!G24,\"\")","v":""},{"$f":"IF($D$4= TRUE,'1 Geographic Data'!H24,\"\")","v":""},{"$f":"IF($D$4= TRUE,'1 Geographic Data'!I24,\"\")","v":""},{"$f":"IF($D$4= TRUE,'1 Geographic Data'!J24,\"\")","v":""},{"$f":"IF($D$4= TRUE,'1 Geographic Data'!K24,\"\")","v":""},{"$f":"IF($D$4= TRUE,'1 Geographic Data'!L24,\"\")","v":""},{"$f":"IF($D$4= TRUE,'1 Geographic Data'!M24,\"\")","v":""}]
[null,null,{"$f":"IF($D$4= TRUE,'1 Geographic Data'!A25,'1 Geographic Data'!A25)","v":"Minimum daily temperature [°C]"},{"$f":"IF($D$4= TRUE,'1 Geographic Data'!B25,\"\")","v":""},{"$f":"IF($D$4= TRUE,'1 Geographic Data'!C25,\"\")","v":""},{"$f":"IF($D$4= TRUE,'1 Geographic Data'!D25,\"\")","v":""},{"$f":"IF($D$4= TRUE,'1 Geographic Data'!E25,\"\")","v":""},{"$f":"IF($D$4= TRUE,'1 Geographic Data'!F25,\"\")","v":""},{"$f":"IF($D$4= TRUE,'1 Geographic Data'!G25,\"\")","v":""},{"$f":"IF($D$4= TRUE,'1 Geographic Data'!H25,\"\")","v":""},{"$f":"IF($D$4= TRUE,'1 Geographic Data'!I25,\"\")","v":""},{"$f":"IF($D$4= TRUE,'1 Geographic Data'!J25,\"\")","v":""},{"$f":"IF($D$4= TRUE,'1 Geographic Data'!K25,\"\")","v":""},{"$f":"IF($D$4= TRUE,'1 Geographic Data'!L25,\"\")","v":""},{"$f":"IF($D$4= TRUE,'1 Geographic Data'!M25,\"\")","v":""}]
[null,null,{"$f":"IF($D$4= TRUE,'1 Geographic Data'!A26,'1 Geographic Data'!A26)","v":"Relative humidity [%]"},{"$f":"IF($D$4= TRUE,'1 Geographic Data'!B26,\"\")","v":""},{"$f":"IF($D$4= TRUE,'1 Geographic Data'!C26,\"\")","v":""},{"$f":"IF($D$4= TRUE,'1 Geographic Data'!D26,\"\")","v":""},{"$f":"IF($D$4= TRUE,'1 Geographic Data'!E26,\"\")","v":""},{"$f":"IF($D$4= TRUE,'1 Geographic Data'!F26,\"\")","v":""},{"$f":"IF($D$4= TRUE,'1 Geographic Data'!G26,\"\")","v":""},{"$f":"IF($D$4= TRUE,'1 Geographic Data'!H26,\"\")","v":""},{"$f":"IF($D$4= TRUE,'1 Geographic Data'!I26,\"\")","v":""},{"$f":"IF($D$4= TRUE,'1 Geographic Data'!J26,\"\")","v":""},{"$f":"IF($D$4= TRUE,'1 Geographic Data'!K26,\"\")","v":""},{"$f":"IF($D$4= TRUE,'1 Geographic Data'!L26,\"\")","v":""},{"$f":"IF($D$4= TRUE,'1 Geographic Data'!M26,\"\")","v":""}]
[null,null,{"$f":"IF($D$4= TRUE,'1 Geographic Data'!A27,'1 Geographic Data'!A27)","v":"Wind speed [m/s]"},{"$f":"IF($D$4= TRUE,'1 Geographic Data'!B27,\"\")","v":""},{"$f":"IF($D$4= TRUE,'1 Geographic Data'!C27,\"\")","v":""},{"$f":"IF($D$4= TRUE,'1 Geographic Data'!D27,\"\")","v":""},{"$f":"IF($D$4= TRUE,'1 Geographic Data'!E27,\"\")","v":""},{"$f":"IF($D$4= TRUE,'1 Geographic Data'!F27,\"\")","v":""},{"$f":"IF($D$4= TRUE,'1 Geographic Data'!G27,\"\")","v":""},{"$f":"IF($D$4= TRUE,'1 Geographic Data'!H27,\"\")","v":""},{"$f":"IF($D$4= TRUE,'1 Geographic Data'!I27,\"\")","v":""},{"$f":"IF($D$4= TRUE,'1 Geographic Data'!J27,\"\")","v":""},{"$f":"IF($D$4= TRUE,'1 Geographic Data'!K27,\"\")","v":""},{"$f":"IF($D$4= TRUE,'1 Geographic Data'!L27,\"\")","v":""},{"$f":"IF($D$4= TRUE,'1 Geographic Data'!M27,\"\")","v":""}]
[null,null,{"$f":"IF($D$4= TRUE,'1 Geographic Data'!A28,'1 Geographic Data'!A28)","v":"Sunshine [hours]"},{"$f":"IF($D$4= TRUE,'1 Geographic Data'!B28,\"\")","v":""},{"$f":"IF($D$4= TRUE,'1 Geographic Data'!C28,\"\")","v":""},{"$f":"IF($D$4= TRUE,'1 Geographic Data'!D28,\"\")","v":""},{"$f":"IF($D$4= TRUE,'1 Geographic Data'!E28,\"\")","v":""},{"$f":"IF($D$4= TRUE,'1 Geographic Data'!F28,\"\")","v":""},{"$f":"IF($D$4= TRUE,'1 Geographic Data'!G28,\"\")","v":""},{"$f":"IF($D$4= TRUE,'1 Geographic Data'!H28,\"\")","v":""},{"$f":"IF($D$4= TRUE,'1 Geographic Data'!I28,\"\")","v":""},{"$f":"IF($D$4= TRUE,'1 Geographic Data'!J28,\"\")","v":""},{"$f":"IF($D$4= TRUE,'1 Geographic Data'!K28,\"\")","v":""},{"$f":"IF($D$4= TRUE,'1 Geographic Data'!L28,\"\")","v":""},{"$f":"IF($D$4= TRUE,'1 Geographic Data'!M28,\"\")","v":""}]
[null,null,"Reference Evapotranspiration ",{"$f":"D106","v":""},{"$f":"E106","v":""},"","","","","","","","","",""]
[]
[null,null,"Mean Temp. [°C] ",{"$f":"IF($D$4= TRUE,(D77+D78)/2,\"\")","v":""},{"$f":"IF($D$4= TRUE,(E77+E78)/2,\"\")","v":""},"","","","","","","","","",""]
[null,null,"Delta [kPa °C-1]",{"$f":"IF($D$4= TRUE,4098*(0.6108*EXP((17.27*D84)/(D84+237.3)))/(D84+237.3)^2,\"\")","v":""},"","","","","","","","","","",""]
[null,null,"e° (Tmax) [KPa]",{"$f":"IF($D$4= TRUE,0.6108*EXP((17.27*D77)/(D77+237.3)),\"\")","v":""},"","","","","","","","","","",""]
[null,null,"e° (Tmin) [KPa]","","","","","","","","","","","",""]
[null,null,"es  [KPa]",{"$f":"IF($D$4= TRUE,(D86+D87)/2,\"\")","v":""},{"$f":"IF($D$4= TRUE,(E86+E87)/2,\"\")","v":""},"","","","","","","","","",""]
[null,null,"ea  [KPa]",{"$f":"IF($D$4= TRUE,D79*D88/100,\"\")","v":""},"","","","","","","","","","",""]
[null,null,"(es - ea)  [KPa]",{"$f":"IF($D$4= TRUE,D88-D89,\"\")","v":""},{"$f":"IF($D$4= TRUE,E88-E89,\"\")","v":""},"","","","","","","","","",""]
[null,null,"Atm. P  [KPa]",{"$f":"IF($D$4= TRUE,101.3*((293-0.0065*$D$71)/293)^5.26,\"\")","v":""},"","","","","","","","","","",""]
[null,null,"Gamma, γ [kPa °C-1]",{"$f":"IF($D$4= TRUE,0.000665*D91,\"\")","v":""},{"$f":"IF($D$4= TRUE,0.000665*E91,\"\")","v":""},"","","","","","","","","",""]
[null,null,"Month",1,2,3,4,5,6,7,8,9,10,11,12]
[null,null,"J",{"$f":"IF($D$4= TRUE,TRUNC((30.4*D93)-15),\"\")","v":""},{"$f":"IF($D$4= TRUE,TRUNC((30.4*E93)-15),\"\")","v":""},"","","","","","","","","",""]
[null,null,"dr",{"$f":"IF($D$4= TRUE,1+(0.033*COS(2*PI()*D94/365)),\"\")","v":""},{"$f":"IF($D$4= TRUE,1+(0.033*COS(2*PI()*E94/365)),\"\")","v":""},"","","","","","","","","",""]
[null,null,"Solar Decl. δ [Rad]",{"$f":"IF($D$4= TRUE,0.4093*SIN((2*PI()*D94/365)-1.39),\"\")","v":""},{"$f":"IF($D$4= TRUE,0.4093*SIN((2*PI()*E94/365)-1.39),\"\")","v":""},"","","","","","","","","",""]
[null,null,"Sunset Angle [Rad]",{"$f":"IF($D$4= TRUE,ACOS(-TAN($H$69)*TAN(D96)),\"\")","v":""},"","","","","","","","","","",""]
[null,null,"Ra [MJ m-2 day-1]",{"$f":"IF($D$4= TRUE,(24*60*0.082*D95/PI())*((D97*SIN($H$69)*SIN(D96))+(COS($H$69)*COS(D96)*SIN(D97))),\"\")","v":""},"","","","","","","","","","",""]
[null,null,"Daylight hours N",{"$f":"IF($D$4= TRUE,24*D97/PI(),\"\")","v":""},{"$f":"IF($D$4= TRUE,24*E97/PI(),\"\")","v":""},"","","","","","","","","",""]
[null,null,"Rs [MJ m-2 day-1]",{"$f":"IF($D$4= TRUE,($E$73+($E$74*D81/D99))*D98,\"\")","v":""},"","","","","","","","","","",""]
[null,null,"Rso [MJ m-2 day-1]",{"$f":"IF($D$4= TRUE,($E$73+$E$74)*D98,\"\")","v":""},"","","","","","","","","","",""]
[null,null,"Rns [MJ m-2 day-1]",{"$f":"IF($D$4= TRUE,(1-$H$73)*D100,\"\")","v":""},"","","","","","","","","","",""]
[null,null,"Rnl [MJ m-2 day-1]",{"$f":"IF($D$4= TRUE,4.903*10^-9*(((D77+273.16)^4+(D78+273.16)^4)/2)*(0.34-(0.14*SQRT(D89)))*((1.35*D100/D101)-0.35),\"\")","v":""},"","","","","","","","","","",""]
[null,null,"Rn [MJ m-2 day-1]",{"$f":"IF($D$4= TRUE,D102-D103,\"\")","v":""},{"$f":"IF($D$4= TRUE,E102-E103,\"\")","v":""},"","","","","","","","","",""]
[null,null,"Gmonth [MJ m-2 day-1]",{"$f":"IF($D$4= TRUE,0.14*(D84-O84),\"\")","v":""},{"$f":"IF($D$4= TRUE,0.14*(E84-D84),\"\")","v":""},"","","","","","","","","",""]
[null,null,"ETo [mm day-1]",{"$f":"IF($D$4= TRUE,((0.408*D85*(D104-D105))+(D92*900*D80*D90/(D84+273)))/(D85+(D92*(1+(0.34*D80)))),\"\")","v":""},"","","","","","","","","","",""]
[]
[null,"Option 4","Reference evapotranspiration"]
[null,null,null,{"$f":"D14","v":"January"},"February","March","April","May","June","July","August","September","October","November","December"]
[null,null,{"$f":"IF($D$5= TRUE,'1 Geographic Data'!A23,'1 Geographic Data'!A23)","v":"Mean daily temperature [°C]"},{"$f":"IF($D$5= TRUE,'1 Geographic Data'!B23,'1 Geographic Data'!B23)","v":25.5},{"$f":"IF($D$5= TRUE,'1 Geographic Data'!C23,'1 Geographic Data'!C23)","v":25},{"$f":"IF($D$5= TRUE,'1 Geographic Data'!D23,'1 Geographic Data'!D23)","v":24.6},{"$f":"IF($D$5= TRUE,'1 Geographic Data'!E23,'1 Geographic Data'!E23)","v":23.8},{"$f":"IF($D$5= TRUE,'1 Geographic Data'!F23,'1 Geographic Data'!F23)","v":23.9},{"$f":"IF($D$5= TRUE,'1 Geographic Data'!G23,'1 Geographic Data'!G23)","v":23.5},{"$f":"IF($D$5= TRUE,'1 Geographic Data'!H23,'1 Geographic Data'!H23)","v":23},{"$f":"IF($D$5= TRUE,'1 Geographic Data'!I23,'1 Geographic Data'!I23)","v":23},{"$f":"IF($D$5= TRUE,'1 Geographic Data'!J23,'1 Geographic Data'!J23)","v":23.6},{"$f":"IF($D$5= TRUE,'1 Geographic Data'!K23,'1 Geographic Data'!K23)","v":23.9},{"$f":"IF($D$5= TRUE,'1 Geographic Data'!L23,'1 Geographic Data'!L23)","v":23.6},{"$f":"IF($D$5= TRUE,'1 Geographic Data'!M23,'1 Geographic Data'!M23)","v":24}]
[null,null,{"$f":"IF($D$5= TRUE,'1 Geographic Data'!A29,'1 Geographic Data'!A29)","v":"Reference evapotranspiration [mm/day]"},{"$f":"IF($D$5= TRUE,'1 Geographic Data'!B29,\"\")","v":""},{"$f":"IF($D$5= TRUE,'1 Geographic Data'!C29,\"\")","v":""},{"$f":"IF($D$5= TRUE,'1 Geographic Data'!D29,\"\")","v":""},{"$f":"IF($D$5= TRUE,'1 Geographic Data'!E29,\"\")","v":""},{"$f":"IF($D$5= TRUE,'1 Geographic Data'!F29,\"\")","v":""},{"$f":"IF($D$5= TRUE,'1 Geographic Data'!G29,\"\")","v":""},{"$f":"IF($D$5= TRUE,'1 Geographic Data'!H29,\"\")","v":""},{"$f":"IF($D$5= TRUE,'1 Geographic Data'!I29,\"\")","v":""},{"$f":"IF($D$5= TRUE,'1 Geographic Data'!J29,\"\")","v":""},{"$f":"IF($D$5= TRUE,'1 Geographic Data'!K29,\"\")","v":""},{"$f":"IF($D$5= TRUE,'1 Geographic Data'!L29,\"\")","v":""},{"$f":"IF($D$5= TRUE,'1 Geographic Data'!M29,\"\")","v":""}]
[]
[]
[null,null,null,{"$f":"D14","v":"January"},"February","March","April","May","June","July","August","September","October","November","December"]
[null,"Final Values","Reference Evapotranspiration",{"$f":"IF($D$2= TRUE, D17, IF($D$3= TRUE, D56,IF($D$4= TRUE, D82,D111)))","v":5.3271000000000006},5.2650000000000006,5.2153200000000011,5.3054400000000008,5.3183200000000008,5.2668000000000008,5.2023999999999999,5.2023999999999999,5.2796800000000008,5.1283799999999999,5.091120000000001,5.1408000000000005]
[null,null,{"$f":"'1 Geographic Data'!$A$23","v":"Mean daily temperature [°C]"},{"$f":"IF($D$2= TRUE, D15, IF($D$3= TRUE, D58,IF($D$4= TRUE, D84,D110)))","v":25.5},25,24.6,23.8,23.9,23.5,23,23,23.6,23.9,23.6,24]
[null,null,{"$f":"'1 Geographic Data'!A30","v":"Rainfall [mm/month]"},{"$f":"'1 Geographic Data'!B30","v":45},{"$f":"'1 Geographic Data'!C30","v":33},{"$f":"'1 Geographic Data'!D30","v":69.3},{"$f":"'1 Geographic Data'!E30","v":142.80000000000001},{"$f":"'1 Geographic Data'!F30","v":109.8},{"$f":"'1 Geographic Data'!G30","v":38.1},{"$f":"'1 Geographic Data'!H30","v":27},{"$f":"'1 Geographic Data'!I30","v":21.6},{"$f":"'1 Geographic Data'!J30","v":18.3},{"$f":"'1 Geographic Data'!K30","v":48.3},{"$f":"'1 Geographic Data'!L30","v":97.2},{"$f":"'1 Geographic Data'!M30","v":86.1}]
[]
[]
["Calculation of crop water requiremnet and irrigation requirement"]
[]
[null,null,"Year",{"$f":"'Crop Calculation Sheet'!J11","v":"2020"},{"$f":"'Crop Calculation Sheet'!K11","v":"2020"},{"$f":"'Crop Calculation Sheet'!L11","v":"2020"},{"$f":"'Crop Calculation Sheet'!M11","v":"2020"},{"$f":"'Crop Calculation Sheet'!N11","v":"2020"},{"$f":"'Crop Calculation Sheet'!O11","v":"2020"},{"$f":"'Crop Calculation Sheet'!P11","v":"2020"},{"$f":"'Crop Calculation Sheet'!Q11","v":"2020"},{"$f":"'Crop Calculation Sheet'!R11","v":"2020"},{"$f":"'Crop Calculation Sheet'!S11","v":"2020"},{"$f":"'Crop Calculation Sheet'!T11","v":"2021"},{"$f":"'Crop Calculation Sheet'!U11","v":"2021"}]
[null,null,"Month of the year",{"$f":"'Crop Calculation Sheet'!J12","v":"March"},{"$f":"'Crop Calculation Sheet'!K12","v":"April"},{"$f":"'Crop Calculation Sheet'!L12","v":"May"},{"$f":"'Crop Calculation Sheet'!M12","v":"June"},{"$f":"'Crop Calculation Sheet'!N12","v":"July"},{"$f":"'Crop Calculation Sheet'!O12","v":"August"},{"$f":"'Crop Calculation Sheet'!P12","v":"September"},{"$f":"'Crop Calculation Sheet'!Q12","v":"October"},{"$f":"'Crop Calculation Sheet'!R12","v":"November"},{"$f":"'Crop Calculation Sheet'!S12","v":"December"},{"$f":"'Crop Calculation Sheet'!T12","v":"January"},{"$f":"'Crop Calculation Sheet'!U12","v":"February"}]
[null,null,"Days per month",{"$f":"'Crop Calculation Sheet'!J14","v":31},{"$f":"'Crop Calculation Sheet'!K14","v":30},{"$f":"'Crop Calculation Sheet'!L14","v":31},{"$f":"'Crop Calculation Sheet'!M14","v":30},{"$f":"'Crop Calculation Sheet'!N14","v":31},{"$f":"'Crop Calculation Sheet'!O14","v":31},{"$f":"'Crop Calculation Sheet'!P14","v":30},{"$f":"'Crop Calculation Sheet'!Q14","v":31},{"$f":"'Crop Calculation Sheet'!R14","v":30},{"$f":"'Crop Calculation Sheet'!S14","v":31},{"$f":"'Crop Calculation Sheet'!T14","v":31},{"$f":"'Crop Calculation Sheet'!U14","v":28}]
[null,null,{"$f":"$C$115","v":"Reference Evapotranspiration"},{"$f":"'Crop Calculation Sheet'!J15","v":5.2153200000000011},{"$f":"'Crop Calculation Sheet'!K15","v":5.3054400000000008},{"$f":"'Crop Calculation Sheet'!L15","v":5.3183200000000008},{"$f":"'Crop Calculation Sheet'!M15","v":5.2668000000000008},{"$f":"'Crop Calculation Sheet'!N15","v":5.2023999999999999},{"$f":"'Crop Calculation Sheet'!O15","v":5.2023999999999999},{"$f":"'Crop Calculation Sheet'!P15","v":5.2796800000000008},{"$f":"'Crop Calculation Sheet'!Q15","v":5.1283799999999999},{"$f":"'Crop Calculation Sheet'!R15","v":5.091120000000001},{"$f":"'Crop Calculation Sheet'!S15","v":5.1408000000000005},{"$f":"'Crop Calculation Sheet'!T15","v":5.3271000000000006},{"$f":"'Crop Calculation Sheet'!U15","v":5.2650000000000006}]
[null,null,{"$f":"C116","v":"Mean daily temperature [°C]"},{"$f":"VLOOKUP($C$126,$C$114:$O$117,MATCH(D$123,$C$114:$O$114,0),FALSE)","v":24.6},23.8,23.9,23.5,23,23,23.6,23.9,23.6,24,25.5,25]
[null,null,{"$f":"C117","v":"Rainfall [mm/month]"},{"$f":"VLOOKUP($C$127,$C$114:$O$117,MATCH(D$123,$C$114:$O$114,0),FALSE)","v":69.3},142.80000000000001,109.8,38.1,27,21.6,18.3,48.3,97.2,86.1,45,33]
[null,null,"Effective rainfall [mm/month]",{"$f":"IF(D127<=70,IF(0.6*D127-10>0,0.6*D127-10,0),IF(0.8*D127-24>0,0.8*D127-24,0))","v":31.58},90.240000000000009,63.84,12.86,6.1999999999999993,2.9600000000000009,0.98000000000000043,18.979999999999997,53.760000000000005,44.879999999999995,17,9.8000000000000007]
[null,null,"Average daily effective rainfall [mm/day]",{"$f":"D128/D124","v":1.0187096774193547},{"$f":"E128/E124","v":3.0080000000000005},2.0593548387096776,0.42866666666666664,0.19999999999999998,9.5483870967741968E-2,3.2666666666666684E-2,0.61225806451612896,1.7920000000000003,1.4477419354838708,0.54838709677419351,0.35000000000000003]
[]
[]
[null,"Water Need",null,{"$f":"PROPER(D123)","v":"March"},{"$f":"PROPER(E123)","v":"April"},"May","June","July","August","September","October","November","December","January","February"]
[null,"mm/month",{"$f":"IF('Data Validation Sheet'!$H$12=TRUE,'Crop Calculation Sheet'!I19,0)","v":"Total Gross Irrigation"},{"$f":"IF('Data Validation Sheet'!$H$12=TRUE,'Crop Calculation Sheet'!J19,0)","v":44.444444444444443},{"$f":"IF('Data Validation Sheet'!$H$12=TRUE,'Crop Calculation Sheet'!K19,0)","v":111.11111111111113},{"$f":"IF('Data Validation Sheet'!$H$12=TRUE,'Crop Calculation Sheet'!L19,0)","v":222.22222222222226},{"$f":"IF('Data Validation Sheet'!$H$12=TRUE,'Crop Calculation Sheet'!M19,0)","v":188.88888888888891},{"$f":"IF('Data Validation Sheet'!$H$12=TRUE,'Crop Calculation Sheet'!N19,0)","v":77.777777777777786},{"$f":"IF('Data Validation Sheet'!$H$12=TRUE,'Crop Calculation Sheet'!O19,0)","v":0},{"$f":"IF('Data Validation Sheet'!$H$12=TRUE,'Crop Calculation Sheet'!P19,0)","v":0},{"$f":"IF('Data Validation Sheet'!$H$12=TRUE,'Crop Calculation Sheet'!Q19,0)","v":0},{"$f":"IF('Data Validation Sheet'!$H$12=TRUE,'Crop Calculation Sheet'!R19,0)","v":0},{"$f":"IF('Data Validation Sheet'!$H$12=TRUE,'Crop Calculation Sheet'!S19,0)","v":0},{"$f":"IF('Data Validation Sheet'!$H$12=TRUE,'Crop Calculation Sheet'!T19,0)","v":0},{"$f":"IF('Data Validation Sheet'!$H$12=TRUE,'Crop Calculation Sheet'!U19,0)","v":0},{"$f":"\"Area in \"&'3 Irrigation Schedule'!$C$8","v":"Area in acre"},"Actual Area in ha"]
[null,"m3/month",{"$f":"C133","v":"Total Gross Irrigation"},{"$f":"D133*10*$Q$134","v":179.86056309845793},449.65140774614486,899.30281549228971,764.40739316844622,314.75598542230136,0,0,0,0,0,0,0,{"$f":"'3 Irrigation Schedule'!$E$19","v":1},{"$f":"P134/'3 Irrigation Schedule'!$E$8","v":0.40468626697153032}]
[null,"mm/day",{"$f":"IF('Data Validation Sheet'!$H$12=TRUE,'Crop Calculation Sheet'!I20,0)","v":"Max Gross Irrigation per event"},{"$f":"IF('Data Validation Sheet'!$H$12=TRUE,'Crop Calculation Sheet'!J20,0)","v":11.111111111111111},{"$f":"IF('Data Validation Sheet'!$H$12=TRUE,'Crop Calculation Sheet'!K20,0)","v":11.111111111111111},{"$f":"IF('Data Validation Sheet'!$H$12=TRUE,'Crop Calculation Sheet'!L20,0)","v":11.111111111111111},{"$f":"IF('Data Validation Sheet'!$H$12=TRUE,'Crop Calculation Sheet'!M20,0)","v":11.111111111111111},{"$f":"IF('Data Validation Sheet'!$H$12=TRUE,'Crop Calculation Sheet'!N20,0)","v":11.111111111111111},{"$f":"IF('Data Validation Sheet'!$H$12=TRUE,'Crop Calculation Sheet'!O20,0)","v":0},{"$f":"IF('Data Validation Sheet'!$H$12=TRUE,'Crop Calculation Sheet'!P20,0)","v":0},{"$f":"IF('Data Validation Sheet'!$H$12=TRUE,'Crop Calculation Sheet'!Q20,0)","v":0},{"$f":"IF('Data Validation Sheet'!$H$12=TRUE,'Crop Calculation Sheet'!R20,0)","v":0},{"$f":"IF('Data Validation Sheet'!$H$12=TRUE,'Crop Calculation Sheet'!S20,0)","v":0},{"$f":"IF('Data Validation Sheet'!$H$12=TRUE,'Crop Calculation Sheet'!T20,0)","v":0},{"$f":"IF('Data Validation Sheet'!$H$12=TRUE,'Crop Calculation Sheet'!U20,0)","v":0}]
[null,"m3/day",{"$f":"IF('Data Validation Sheet'!$H$12=TRUE,'Crop Calculation Sheet'!I20,0)","v":"Max Gross Irrigation per event"},{"$f":"D135*10*$Q$134","v":44.965140774614483},{"$f":"E135*10*$Q$134","v":44.965140774614483},44.965140774614483,44.965140774614483,44.965140774614483,0,{"$f":"J135*10*$Q$134","v":0},{"$f":"K135*10*$Q$134","v":0},{"$f":"L135*10*$Q$134","v":0},{"$f":"M135*10*$Q$134","v":0},{"$f":"N135*10*$Q$134","v":0},{"$f":"O135*10*$Q$134","v":0}]
[null,null,{"$f":"IF('Data Validation Sheet'!$H$12=TRUE,'Crop Calculation Sheet'!I21,0)","v":"Irrigation days"},{"$f":"IF('Data Validation Sheet'!$H$12=TRUE,'Crop Calculation Sheet'!J21,0)","v":4},{"$f":"IF('Data Validation Sheet'!$H$12=TRUE,'Crop Calculation Sheet'!K21,0)","v":10},{"$f":"IF('Data Validation Sheet'!$H$12=TRUE,'Crop Calculation Sheet'!L21,0)","v":20},{"$f":"IF('Data Validation Sheet'!$H$12=TRUE,'Crop Calculation Sheet'!M21,0)","v":17},{"$f":"IF('Data Validation Sheet'!$H$12=TRUE,'Crop Calculation Sheet'!N21,0)","v":7},{"$f":"IF('Data Validation Sheet'!$H$12=TRUE,'Crop Calculation Sheet'!O21,0)","v":0},{"$f":"IF('Data Validation Sheet'!$H$12=TRUE,'Crop Calculation Sheet'!P21,0)","v":0},{"$f":"IF('Data Validation Sheet'!$H$12=TRUE,'Crop Calculation Sheet'!Q21,0)","v":0},{"$f":"IF('Data Validation Sheet'!$H$12=TRUE,'Crop Calculation Sheet'!R21,0)","v":0},{"$f":"IF('Data Validation Sheet'!$H$12=TRUE,'Crop Calculation Sheet'!S21,0)","v":0},{"$f":"IF('Data Validation Sheet'!$H$12=TRUE,'Crop Calculation Sheet'!T21,0)","v":0},{"$f":"IF('Data Validation Sheet'!$H$12=TRUE,'Crop Calculation Sheet'!U21,0)","v":0}]
[]
[]
[]
[null,"Irrigation Method","Efficiency %"]
[]
[null,"Surface: Graded furrow",65]
[null,"Surface: with tailwater reuse",75]
[null,"Surface: Graded border/basins",65]
[null,"Sprinkler: Periodic move",75]
[null,"Sprinkler: Side roll",75]
[null,"Sprinkler: Moving big gun",65]
[null,"Center pivot: Impact heads with end gun",80]
[null,"Center pivot: Spray heads without end gun",90]
[null,"Center pivot: LEPA without end gun",95]
[null,"Lateral move: Spray heads with hose feed",90]
[null,"Lateral move: Spray heads with canal feed",85]
[null,"Microirrigation: Drip irrigation",90]
[null,"Microirrigation: Subsurface drip",90]
[null,"Microirrigation: Microspray",85]
[null,"Garden hose",70]

{"sheet":"Translate","index":9,"n_rows":102,"n_cols":8,"rows_kept":102,"cut":false,"hidden":true,"merged":[[1,1,2,2],[4,1,4,7],[6,1,13,1]]}
[]
[null,{"$f":"$C$16","v":"Do not modify this sheet"}]
[]
[]
[null,{"$f":"$C$17","v":"Reference Row"}]
[null,{"$f":"$C$18","v":"Selected Language:"},{"$f":"'READ ME'!$G$11","v":"English"},"English","Français","Español","العربية","Deutsch"]
[null,{"$f":"$C$19","v":"Sheet name"},{"$f":"HLOOKUP($C$6,$D$6:$H$148,ROW()-ROW($B$5),FALSE)","v":"READ ME"},"READ ME","Lisez Moi"]
[null,null,"1 Geographic Data","1 Geographic Data","1 Données géographiques"]
[null,null,"2 Soil Texture Calculator","2 Soil Texture Calculator","2 Calculateur de texture du sol"]
[null,null,"3 Irrigation Schedule","3 Irrigation Schedule","3 Programmation de l’irrigation"]
[null,null,"4 Summary","4 Summary","4 Bilan"]
[null,null,"5 How this tool works","5 How this tool works","5 Comment ça fonctionne"]
[null,null,"Crop Information","Crop Information","Information sur les cultures"]
[null,null,"Translate","Translate","Traduire"]
[]
[null,{"$f":"$C$14","v":"Translate"},{"$f":"HLOOKUP($C$6,$D$6:$H$148,ROW()-ROW($B$5),FALSE)","v":"Do not modify this sheet"},"Do not modify this sheet","Ne modifiez pas cette feuille"]
[null,null,{"$f":"HLOOKUP($C$6,$D$6:$H$148,ROW()-ROW($B$5),FALSE)","v":"Reference Row"},"Reference Row","Ligne de référence"]
[null,null,{"$f":"HLOOKUP($C$6,$D$6:$H$148,ROW()-ROW($B$5),FALSE)","v":"Selected Language:"},"Selected Language:","Langue sélectionnée:"]
[null,null,{"$f":"HLOOKUP($C$6,$D$6:$H$148,ROW()-ROW($B$5),FALSE)","v":"Sheet name"},"Sheet name","Nom de la feuille"]
[]
[null,{"$f":"$C$7","v":"READ ME"},{"$f":"HLOOKUP($C$6,$D$6:$H$148,ROW()-ROW($B$5),FALSE)","v":"Select language"},"Select language","Sélectionner la langue"]
[null,null,"Read Me Sheet","Read Me Sheet","Feuille Lisez-moi"]
[null,null,"IRRIGATE – Soil Tool","IRRIGATE – Soil Tool","IRRIGUER – Outil \"Sol\""]
[null,null,"Introduction","Introduction","Introduction"]
[null,null,"This tool serves to determine your soil profile and to find an irrigation schedule for a selected crop. \nIt complements the \"SAFEGUARD WATER – Water Requirement Tool\". A further complimentary tool is available under: ","This tool serves to determine your soil profile and to find an irrigation schedule for a selected crop. \nIt complements the \"SAFEGUARD WATER – Water Requirement Tool\". A further complimentary tool is available under: ","Cet outil vous aide déterminer le profil de votre sol et trouver un calendrier d'irrigation pour une culture sélectionnée. \nIl complète le \"PRÉSERVER L'EAU - Outil d'évaluation des besoins en eau\". Un autre outil complémentaire est disponible sous :"]
[null,null,"Tips & Tricks","Tips & Tricks","Conseils et Astuces"]
[null,null,"● Make sure that macro is always enabled for the proper functioning of this tool  ","● Make sure that macro is always enabled for the proper functioning of this tool  ","● Assurez-vous que les macros sont toujours activées pour le bon fonctionnement de cet outil "]
[null,null,"● Only enter values into white cells","● Only enter values into white cells","● Saisissez des valeurs uniquement dans les cellules blanches"]
[null,null,"● This tool comprises drop down lists and macros to simplify data entry and results review.","● This tool comprises drop down lists and macros to simplify data entry and results review.","● Cet outil contient des listes déroulantes et des macros pour simplifier la saisie des données et la présentation des résultats."]
[null,null,"● For the multilanguage option to work properly, do NOT delete sheets","● For the multilanguage option to work properly, do NOT delete sheets","● Pour que l'option multilingue fonctionne correctement, ne supprimez PAS les feuilles"]
[null,null,"● Make sure that this file is always saved as \".xlsm\"    \n","● Make sure that this file is always saved as \".xlsm\"    \n","● Assurez-vous que ce fichier est toujours enregistré sous \".xlsm\"    \n"]
[null,null,"Overview","Overview","Aperçu"]
[null,null,"This tool comprises the following sheet:","This tool comprises the following sheet:","Cet outil est composé des feuilles suivantes:"]
[null,null,"for adding basic site information and entering climatic data","for adding basic site information and entering climatic data","pour ajouter des informations de base sur le site et entrer les données climatique"]
[null,null,"for calculation of your soil type","for calculation of your soil type","pour le calcul de votre type de sol"]
[null,null,"for selecting a crop and planting period; for automatic calculation of water requirement for a single crop; for calculation of an irrigation schedule","for selecting a crop and planting period; for automatic calculation of water requirement for a single crop; for calculation of an irrigation schedule","pour le choix d'une culture et d'une période de plantation ; pour le calcul automatique des besoins en eau d'une seule culture ; pour le calcul d'un programme d'irrigation"]
[null,null,"Summary of ourputs for irrigation quantity, frequency and water storage requirements","Summary of ourputs for irrigation quantity, frequency and water storage requirements","Résumé des apports pour la quantité, la fréquence et les besoins de stockage de l'eau d'irrigation"]
[null,null,"for understanding the way this tool works and on which data it is based on","for understanding the way this tool works and on which data it is based on","pour comprendre le fonctionnement de l'outil Sols & Irrigation"]
[null,null,"for adjusting and adding the necessary crops information","for adjusting and adding the necessary crops information","pour ajuster et ajouter les informations nécessaires sur les cultures"]
[null,null,"This tool is based on the FAO Irrigation and Drainage Paper No. 56. Crop Evapotranspiration (guidelines for computing crop water requirements), available at:","This tool is based on the FAO Irrigation and Drainage Paper No. 56. Crop Evapotranspiration (guidelines for computing crop water requirements), available at:","Cet outil est basé sur le document n° 56 de la FAO sur l'irrigation et le drainage. Evapotranspiration des cultures (directives pour le calcul des besoins en eau des cultures), disponible sur: "]
[null,null,"About","About","En savoir plus"]
[null,null,"Published by: ","Published by: ","Publié par: "]
[null,null,"Resposible:","Resposible:","Responsables:"]
[null,null,"Contact:","Contact:","Contact:"]
[null,null,"Download link:","Download link:","Lien de téléchargement:"]
[null,null,"About:","About:","À propos de: "]
[null,null,"Version:","Version:","Version:"]
[null,null,"GIZ & FAO","GIZ & FAO","GIZ et FAO"]
[null,null,"GIZ project Sustainable Energy for Food - Powering Agriculture","GIZ project Sustainable Energy for Food - Powering Agriculture","Projet de la GIZ « Énergie durable pour l’alimentation – Propulser l’agriculture » (Sustainable Energy for Food - Powering Agriculture)"]
[null,null,"Powering Agriculture: An Energy Grand Challenge for Development. Available at:  ","Powering Agriculture: An Energy Grand Challenge for Development. Available at:  ","Propulser l’agriculture : un grand défi énergétique pour le développement. Disponible à l’adresse :  "]
[null,null," 2.0 (July 2020)"," 2.0 (July 2020)","2.0 (Juillet 2020)"]
[null,null,"The Toolbox on Solar Powered Irrigation Systems is made possible through the global initiative Powering Agriculture: An Energy Grand Challenge for Development (PAEGC). In 2012, the United States Agency for International Development (USAID), the Swedish International Development Cooperation Agency (Sida), the German Federal Ministry for Economic Cooperation and Development (BMZ), Duke Energy, and the Overseas Private Investment Cooperation (OPIC) combined resources to create the PAEGC initiative. The objective of PAEGC is to support new and sustainable approaches to accelerate the development and deployment of clean energy solutions for increasing agriculture productivity and/or value for farmers and agribusinesses in developing countries and emerging regions that lack access to reliable, affordable clean energy.","The Toolbox on Solar Powered Irrigation Systems is made possible through the global initiative Powering Agriculture: An Energy Grand Challenge for Development (PAEGC). In 2012, the United States Agency for International Development (USAID), the Swedish International Development Cooperation Agency (Sida), the German Federal Ministry for Economic Cooperation and Development (BMZ), Duke Energy, and the Overseas Private Investment Cooperation (OPIC) combined resources to create the PAEGC initiative. The objective of PAEGC is to support new and sustainable approaches to accelerate the development and deployment of clean energy solutions for increasing agriculture productivity and/or value for farmers and agribusinesses in developing countries and emerging regions that lack access to reliable, affordable clean energy.","La boîte à outils pour les systèmes d’irrigation à énergie solaire (Solar Powered Irrigation Systems, SPIS) est rendue possible grâce à l’initiative mondiale « Propulser l’agriculture : un grand défi énergétique pour le développement » (Powering Agriculture: An Energy Grand Challenge for Development – PAEGC). En 2012, l’Agence des États-Unis pour le développement international (USAID), l’Agence suédoise de coopération internationale au développement (SIDA), le ministère fédéral allemand de la Coopération économique et du Développement (BMZ), Duke Energy et l’Overseas Private Investment Cooperation (OPIC) ont mis leurs ressources en commun pour créer l’initiative PAEGC. Cette initiative a pour objectif d’appuyer de nouvelles approches durables afin d’accélérer le développement et le déploiement de solutions énergétiques propres visant à accroître la productivité et/ou la valeur agricole pour les agriculteurs et les agroindustries dans les pays en développement et dans les régions émergentes qui n’ont pas accès à une énergie abordable, fiable et propre."]
[null,null,"The designations employed and the presentation of material in this information product do not imply the expression of any opinion whatsoever on the part of Deutsche Gesellschaft für Internationale Zusammenarbeit (GIZ) GmbH, Food and Agriculture Organization of the United Nations (FAO) or any of the PAEGC Founding Partners concerning the legal or development status of any country, territory, city or area or of its authorities, or concerning the delimitation of its frontiers or boundaries. The mention of specific companies or products of manufacturers, whether or not these have been patented, does not imply that these have been endorsed or recommended by GIZ, FAO, or any of the PAEGC Founding Partners in preference to others of a similar nature that are not mentioned. The views expressed in this information product are those of the author and do not necessarily reflect the views or policies of GIZ, FAO, or any of the PAEGC Founding Partners.","The designations employed and the presentation of material in this information product do not imply the expression of any opinion whatsoever on the part of Deutsche Gesellschaft für Internationale Zusammenarbeit (GIZ) GmbH, Food and Agriculture Organization of the United Nations (FAO) or any of the PAEGC Founding Partners concerning the legal or development status of any country, territory, city or area or of its authorities, or concerning the delimitation of its frontiers or boundaries. The mention of specific companies or products of manufacturers, whether or not these have been patented, does not imply that these have been endorsed or recommended by GIZ, FAO, or any of the PAEGC Founding Partners in preference to others of a similar nature that are not mentioned. The views expressed in this information product are those of the author and do not necessarily reflect the views or policies of GIZ, FAO, or any of the PAEGC Founding Partners.","Les appellations employées dans ce produit d’information et la présentation des documents qui y figurent n’impliquent de la part de la Deutsche Gesellschaft für Internationale Zusammenarbeit (GIZ) GmbH, de l’Organisation des Nations unies pour l’alimentation et l’agriculture (FAO) ou de l’un des partenaires fondateurs de l’initiative PAEGC aucune prise de position quant au statut juridique ou au stade de développement des pays, territoires, villes ou zones ou de leurs autorités, ni quant au tracé de leurs frontières ou limites. La mention de sociétés déterminées ou de produits de fabricants, qu’ils soient ou non brevetés, n’entraîne de la part de la GIZ, de la FAO ou de l’un des partenaires fondateurs du PAEGC aucune approbation ou recommandation desdits produits de préférence à d’autres de nature analogue qui ne sont pas cités. Les opinions exprimées dans ce produit d’information sont celles des auteurs et ne reflètent pas nécessairement celles de la GIZ, de la FAO, ou de l’un des partenaires fondateurs du PAEGC."]
[null,null,"GIZ, FAO and the PAEGC Founding Partners encourage the use, reproduction and dissemination of material in this information product. Except where otherwise indicated, material may be copied, downloaded and printed for private study, research and teaching purposes, or for use in non-commercial products or services, provided that appropriate acknowledgement of GIZ and FAO as the source and copyright holder is given.","GIZ, FAO and the PAEGC Founding Partners encourage the use, reproduction and dissemination of material in this information product. Except where otherwise indicated, material may be copied, downloaded and printed for private study, research and teaching purposes, or for use in non-commercial products or services, provided that appropriate acknowledgement of GIZ and FAO as the source and copyright holder is given.","La GIZ, la FAO et les partenaires fondateurs du PAEGC encouragent l’utilisation, la reproduction et la diffusion des informations contenues dans ce document. Sauf indication contraire, ces dernières peuvent être copiées, téléchargées et imprimées à des fins privées d’étude, de recherche et d’enseignement, ou pour être utilisées dans des produits ou services non commerciaux, à condition que la GIZ et la FAO soient clairement indiquées en tant que sources des informations et détentrices du droit d’auteur."]
[null,null,"© GIZ and FAO, 2020","© GIZ and FAO, 2020","© GIZ et FAO, 2020"]
[]
[null,{"$f":"$C$8","v":"1 Geographic Data"},{"$f":"HLOOKUP($C$6,$D$6:$H$148,ROW()-ROW($B$5),FALSE)","v":"January"},"January","Janvier","Enero","يناير","Januar"]
[null,null,{"$f":"HLOOKUP($C$6,$D$6:$H$148,ROW()-ROW($B$5),FALSE)","v":"February"},"February","Février","Febrero","فبراير","Februar"]
[null,null,"March","March","Mars","Marzo","مارس","März"]
[null,null,"April","April","Avril","Abril","أبريل","April"]
[null,null,"May","May","Mai","Mayo","مايو","Mai"]
[null,null,"June","June","Juin","Junio","يونيو","Juni"]
[null,null,"July","July","Juillet","Julio","يوليه","Juli"]
[null,null,"August","August","Août","Agosto","أغسطس","August"]
[null,null,"September","September","Septembre","Septiembre","سبتمبر","September"]
[null,null,"October","October","Octobre","Octubre","أكتوبر","Oktober"]
[null,null,"November","November","Novembre","Noviembre","نوفمبر","November"]
[null,null,"December","December","Décembre","Diciembre","ديسمبر","Dezember"]
[null,null,0]
[null,null,0]
[null,{"$f":"$C$9","v":"2 Soil Texture Calculator"},0]
[null,null,0]
[null,null,0]
[null,{"$f":"$C$10","v":"3 Irrigation Schedule"},0]
[null,null,0]
[null,{"$f":"$C$11","v":"4 Summary"},0]
[null,null,0]
[null,{"$f":"$C$12","v":"5 How this tool works"},0]
[null,null,0]
[null,{"$f":"$C$13","v":"Crop Information"},0]
[null,null,0]
[null,null,0]
[null,null,0]
[null,null,0]
[null,null,0]
[null,null,0]
[null,null,0]
[]
[null,null,{"$f":"HLOOKUP($C$6,$D$6:$H$148,ROW()-ROW($B$5),FALSE)","v":0}]
[null,null,0]
[null,null,0]
[null,null,0]
[null,null,0]
[null,null,0]
[null,null,0]
[null,null,0]
[null,null,0]
[null,null,0]
[null,null,0]
[null,null,0]
[null,null,0]
[null,null,0]

{"sheet":"Soil Information-Calculations","index":10,"n_rows":42,"n_cols":6,"rows_kept":42,"cut":false,"hidden":true,"merged":[[1,3,1,5],[16,3,16,4],[20,1,20,4]]}
[]
[null,null,null,"Soil texture calculation"]
[null,null,null,"Status","Soil Type","Formula"]
[null,null,null,{"$f":"IFERROR(IF('2 Soil Texture Calculator'!$E$16+1.5*'2 Soil Texture Calculator'!$E$13<0.15,TRUE,FALSE),\"\")","v":false},"SAND","((silt + 1.5*clay) < 15)"]
[null,null,null,{"$f":"IFERROR(IF(AND('2 Soil Texture Calculator'!$E$16+1.5*'2 Soil Texture Calculator'!$E$13>=0.15, '2 Soil Texture Calculator'!$E$16+2*'2 Soil Texture Calculator'!$E$13<0.3), TRUE,FALSE),\"\")","v":false},"LOAMY SAND","((silt + 1.5*clay >= 15) && (silt + 2*clay < 30))"]
[null,null,null,{"$f":"IFERROR(IF(OR(AND('2 Soil Texture Calculator'!$E$13>=0.07, '2 Soil Texture Calculator'!$E$13<0.2,'2 Soil Texture Calculator'!$E$10>0.52,'2 Soil Texture Calculator'!$E$16+2*'2 Soil Texture Calculator'!$E$13>=0.3), AND('2 Soil Texture Calculator'!$E$13<0.07, '2 Soil Texture Calculator'!$E$16<0.5, '2 Soil Texture Calculator'!$E$16+2*'2 Soil Texture Calculator'!$E$13>=0.3)), TRUE,FALSE),\"\")","v":false},"SANDY LOAM","((clay >= 7 && clay < 20) && (sand > 52) && ((silt + 2*clay) >= 30) || (clay < 7 && silt < 50 && (silt+2*clay)>=30))"]
[null,null,null,{"$f":"IFERROR(IF(AND('2 Soil Texture Calculator'!$E$13>=0.07, '2 Soil Texture Calculator'!$E$13<0.27, '2 Soil Texture Calculator'!$E$16>=0.28, '2 Soil Texture Calculator'!$E$16<0.5, '2 Soil Texture Calculator'!$E$10<=0.52), TRUE,FALSE),\"\")","v":false},"LOAM","((clay >= 7 && clay < 27) && (silt >= 28 && silt < 50) && (sand <= 52))"]
[null,null,null,{"$f":"IFERROR(IF(OR(AND('2 Soil Texture Calculator'!$E$16>=0.5, '2 Soil Texture Calculator'!$E$13>=0.12,'2 Soil Texture Calculator'!$E$13<0.27), AND('2 Soil Texture Calculator'!$E$16>=0.5,'2 Soil Texture Calculator'!$E$16<0.8,'2 Soil Texture Calculator'!$E$13<0.12)), TRUE,FALSE),\"\")","v":true},"SILT LOAM","((silt >= 50 && (clay >= 12 && clay < 27)) || ((silt >= 50 && silt < 80) && clay < 12))"]
[null,null,null,{"$f":"IFERROR(IF(AND('2 Soil Texture Calculator'!$E$16>=0.8, '2 Soil Texture Calculator'!$E$13<0.12), TRUE,FALSE),\"\")","v":false},"SILT","(silt >= 80 && clay < 12)"]
[null,null,null,{"$f":"IFERROR(IF(AND('2 Soil Texture Calculator'!$E$13>=0.2, '2 Soil Texture Calculator'!$E$13<0.35, '2 Soil Texture Calculator'!$E$16<0.28, '2 Soil Texture Calculator'!$E$10>0.45), TRUE,FALSE),\"\")","v":false},"SANDY CLAY LOAM","((clay >= 20 && clay < 35) && (silt < 28) && (sand > 45)) "]
[null,null,null,{"$f":"IFERROR(IF(AND('2 Soil Texture Calculator'!$E$13>=0.27, '2 Soil Texture Calculator'!$E$13<0.4, '2 Soil Texture Calculator'!$E$10>0.2, '2 Soil Texture Calculator'!$E$10<=0.45), TRUE,FALSE),\"\")","v":false},"CLAY LOAM","((clay >= 27 && clay < 40) && (sand > 20 && sand <= 45))"]
[null,null,null,{"$f":"IFERROR(IF(AND('2 Soil Texture Calculator'!$E$13>=0.27, '2 Soil Texture Calculator'!$E$13<0.4, '2 Soil Texture Calculator'!$E$10<=0.2), TRUE,FALSE),\"\")","v":false},"SILTY CLAY LOAM","((clay >= 27 && clay < 40) && (sand  <= 20))"]
[null,null,null,{"$f":"IFERROR(IF(AND('2 Soil Texture Calculator'!$E$13>=0.35, '2 Soil Texture Calculator'!$E$10>0.45), TRUE,FALSE),\"\")","v":false},"SANDY CLAY","(clay >= 35 && sand > 45)"]
[null,null,null,{"$f":"IFERROR(IF(AND('2 Soil Texture Calculator'!$E$13>=0.4, '2 Soil Texture Calculator'!$E$16>=0.4), TRUE,FALSE),\"\")","v":false},"SILTY CLAY","(clay >= 40 && silt >= 40)"]
[null,null,null,{"$f":"IFERROR(IF(AND('2 Soil Texture Calculator'!$E$13>=0.4, '2 Soil Texture Calculator'!$E$10<=0.45,'2 Soil Texture Calculator'!$E$16<0.4), TRUE,FALSE),\"\")","v":false},"CLAY","(clay >= 40 && sand <= 45 && silt < 40)"]
[]
[null,null,null,"Soil texture chart Identifier"]
[null,null,null,{"$f":"(1.095-('2 Soil Texture Calculator'!$E$10*0.0104*100))-((0.52)*(0.0099*'2 Soil Texture Calculator'!$E$13*100))","v":0.81029999999999991},{"$f":"0.145+(0.0099*'2 Soil Texture Calculator'!$E$13*100)","v":0.39250000000000002}]
[]
[]
[null,"Soil water content"]
[null,"Texture","FC (v%)","PWP (v%)","Max infiltration (mm/h)"]
[null,"Sand",10,5,40]
[null,"Loamy sand",12,5,30]
[null,"Sandy loam",18,8,30]
[null,"Sandy clay loam",27,17,30]
[null,"Loam",28,14,30]
[null,"Sandy clay",36,25,30]
[null,"Silt loam",31,11,20]
[null,"Silt",30,6,20]
[null,"Clay loam",36,22,20]
[null,"Silty clay loam",38,22,20]
[null,"Silty clay",41,27,10]
[null,"Clay",42,30,10]
[]
[]
[null,"Initial water content"]
[null,0]
[null,0.25]
[null,0.5]
[null,0.75]
[null,1]

{"sheet":"Data Validation Sheet","index":11,"n_rows":211,"n_cols":13,"rows_kept":211,"cut":false,"hidden":true,"merged":[[0,8,2,8],[0,0,1,0],[10,0,11,0]]}
["Area Conversion","ha",1,null,null,null,null,null,"Crop Data Validation",null,"Calendar",{"$f":"COUNTIF($M$2:$M$211,\"?*\")","v":1}]
[null,"acre",2.47105,null,null,null,null,null,null,{"$f":"IF(ISNUMBER(SEARCH('3 Irrigation Schedule'!$B$19,K2)),MAX($J$1:J1)+1,0)","v":0},{"$f":"'Crop Information'!B7","v":"none"},{"$f":"OFFSET($M$2,,,COUNTIF($M$2:$M$211,\"?*\"))","v":"Maize (grain - Oct - India (dry, cool))"},{"$f":"IFERROR(VLOOKUP(ROWS($M$2:M2),$J$2:$K$763,2,FALSE),\"\")","v":"Maize (grain - Oct - India (dry, cool))"}]
[null,"Sq. km",0.01,null,null,null,null,null,null,{"$f":"IF(ISNUMBER(SEARCH('3 Irrigation Schedule'!$B$19,K3)),MAX($J$1:J2)+1,0)","v":0},{"$f":"'Crop Information'!B8","v":"Alfalfa (1st cutting cycle - Jan/Apr - USA)"},null,{"$f":"IFERROR(VLOOKUP(ROWS($M$2:M3),$J$2:$K$763,2,FALSE),\"\")","v":""}]
[null,"Sq. m",10000,null,null,null,null,null,null,{"$f":"IF(ISNUMBER(SEARCH('3 Irrigation Schedule'!$B$19,K4)),MAX($J$1:J3)+1,0)","v":0},{"$f":"'Crop Information'!B9","v":"Alfalfa (other cutting cycle - Mar/Jun - USA)"},null,{"$f":"IFERROR(VLOOKUP(ROWS($M$2:M4),$J$2:$K$763,2,FALSE),\"\")","v":""}]
[null,"Sq. yard",11959.9,null,null,null,null,null,null,{"$f":"IF(ISNUMBER(SEARCH('3 Irrigation Schedule'!$B$19,K5)),MAX($J$1:J4)+1,0)","v":0},{"$f":"'Crop Information'!B10","v":"Alfalfa (seeds - Mar/Jun - USA)"},null,{"$f":"IFERROR(VLOOKUP(ROWS($M$2:M5),$J$2:$K$763,2,FALSE),\"\")","v":""}]
[null,"Sq. ft",107639,null,null,null,null,null,null,{"$f":"IF(ISNUMBER(SEARCH('3 Irrigation Schedule'!$B$19,K6)),MAX($J$1:J5)+1,0)","v":0},{"$f":"'Crop Information'!B11","v":"Almond (no ground cover - Apr - USA)"},null,{"$f":"IFERROR(VLOOKUP(ROWS($M$2:M6),$J$2:$K$763,2,FALSE),\"\")","v":""}]
[null,null,null,null,null,null,null,null,null,{"$f":"IF(ISNUMBER(SEARCH('3 Irrigation Schedule'!$B$19,K7)),MAX($J$1:J6)+1,0)","v":0},{"$f":"'Crop Information'!B12","v":"Artichoke (1st year - Apr - California) "},null,{"$f":"IFERROR(VLOOKUP(ROWS($M$2:M7),$J$2:$K$763,2,FALSE),\"\")","v":""}]
[null,null,null,null,null,null,null,null,null,{"$f":"IF(ISNUMBER(SEARCH('3 Irrigation Schedule'!$B$19,K8)),MAX($J$1:J7)+1,0)","v":0},{"$f":"'Crop Information'!B13","v":"Artichoke (2nd year - May - cut in May) "},null,{"$f":"IFERROR(VLOOKUP(ROWS($M$2:M8),$J$2:$K$763,2,FALSE),\"\")","v":""}]
[null,null,null,null,null,null,null,null,null,{"$f":"IF(ISNUMBER(SEARCH('3 Irrigation Schedule'!$B$19,K9)),MAX($J$1:J8)+1,0)","v":0},{"$f":"'Crop Information'!B14","v":"Asparagus (Feb - warm winter)"},null,{"$f":"IFERROR(VLOOKUP(ROWS($M$2:M9),$J$2:$K$763,2,FALSE),\"\")","v":""}]
[null,null,null,null,null,null,null,null,null,{"$f":"IF(ISNUMBER(SEARCH('3 Irrigation Schedule'!$B$19,K10)),MAX($J$1:J9)+1,0)","v":0},{"$f":"'Crop Information'!B15","v":"Asparagus (Feb - Mediterranean)"},null,{"$f":"IFERROR(VLOOKUP(ROWS($M$2:M10),$J$2:$K$763,2,FALSE),\"\")","v":""}]
["Validation",{"$f":"'3 Irrigation Schedule'!$B$17","v":"Crop to be irrigated   "},{"$f":"'3 Irrigation Schedule'!$E$17","v":"Area in acre"},{"$f":"'3 Irrigation Schedule'!$G$17","v":"Planting date"},{"$f":"'3 Irrigation Schedule'!$I$17","v":"Irrigation method"},{"$f":"'3 Irrigation Schedule'!$B$25","v":"Soil: "},{"$f":"'3 Irrigation Schedule'!$N$17","v":" Maximum possible irrigation applicatiom "},"Available Crop-Soil",null,{"$f":"IF(ISNUMBER(SEARCH('3 Irrigation Schedule'!$B$19,K11)),MAX($J$1:J10)+1,0)","v":0},{"$f":"'Crop Information'!B16","v":"Avocado (Jan - Florida, USA)"},null,{"$f":"IFERROR(VLOOKUP(ROWS($M$2:M11),$J$2:$K$763,2,FALSE),\"\")","v":""}]
[null,{"$f":"AND('3 Irrigation Schedule'!$B$19<>\"none\",'3 Irrigation Schedule'!$B$19<>\"\")","v":true},{"$f":"AND('3 Irrigation Schedule'!$E$19<>0,'3 Irrigation Schedule'!$E$19<>\"\")","v":true},{"$f":"IFERROR(AND('3 Irrigation Schedule'!$G$19<>0,'3 Irrigation Schedule'!$G$19<>\"\"),FALSE)","v":true},{"$f":"'3 Irrigation Schedule'!$I$19<>\"\"","v":true},{"$f":"'3 Irrigation Schedule'!$C$25<>\"\"","v":true},{"$f":"'3 Irrigation Schedule'!$P$19<>\"\"","v":true},{"$f":"AND(B12,C12,D12,E12,F12,G12)","v":true},null,{"$f":"IF(ISNUMBER(SEARCH('3 Irrigation Schedule'!$B$19,K12)),MAX($J$1:J11)+1,0)","v":0},{"$f":"'Crop Information'!B17","v":"Banana (1st year - Mar - Mediterranean)"},null,{"$f":"IFERROR(VLOOKUP(ROWS($M$2:M12),$J$2:$K$763,2,FALSE),\"\")","v":""}]
[null,null,null,null,null,null,null,null,null,{"$f":"IF(ISNUMBER(SEARCH('3 Irrigation Schedule'!$B$19,K13)),MAX($J$1:J12)+1,0)","v":0},{"$f":"'Crop Information'!B18","v":"Banana (1st year - Mar - subtropical/humid/light to moderate wind)"},null,{"$f":"IFERROR(VLOOKUP(ROWS($M$2:M13),$J$2:$K$763,2,FALSE),\"\")","v":""}]
[null,null,null,null,null,null,null,null,null,{"$f":"IF(ISNUMBER(SEARCH('3 Irrigation Schedule'!$B$19,K14)),MAX($J$1:J13)+1,0)","v":0},{"$f":"'Crop Information'!B19","v":"Banana (1st year - Mar - subtropical/tropical)"},null,{"$f":"IFERROR(VLOOKUP(ROWS($M$2:M14),$J$2:$K$763,2,FALSE),\"\")","v":""}]
[null,null,null,null,null,null,null,null,null,{"$f":"IF(ISNUMBER(SEARCH('3 Irrigation Schedule'!$B$19,K15)),MAX($J$1:J14)+1,0)","v":0},{"$f":"'Crop Information'!B20","v":"Banana (2nd year - Mar - Mediterranean)"},null,{"$f":"IFERROR(VLOOKUP(ROWS($M$2:M15),$J$2:$K$763,2,FALSE),\"\")","v":""}]
[null,null,null,null,null,null,null,null,null,{"$f":"IF(ISNUMBER(SEARCH('3 Irrigation Schedule'!$B$19,K16)),MAX($J$1:J15)+1,0)","v":0},{"$f":"'Crop Information'!B21","v":"Banana (2nd year - Feb - subtropical/tropical)"},null,{"$f":"IFERROR(VLOOKUP(ROWS($M$2:M16),$J$2:$K$763,2,FALSE),\"\")","v":""}]
[null,null,null,null,null,null,null,null,null,{"$f":"IF(ISNUMBER(SEARCH('3 Irrigation Schedule'!$B$19,K17)),MAX($J$1:J16)+1,0)","v":0},{"$f":"'Crop Information'!B22","v":"Barley/Oats/Wheat (Nov - central India)"},null,{"$f":"IFERROR(VLOOKUP(ROWS($M$2:M17),$J$2:$K$763,2,FALSE),\"\")","v":""}]
[null,null,null,null,null,null,null,null,null,{"$f":"IF(ISNUMBER(SEARCH('3 Irrigation Schedule'!$B$19,K18)),MAX($J$1:J17)+1,0)","v":0},{"$f":"'Crop Information'!B23","v":"Barley/Oats/Wheat (Mar/Apr - 35/45 °L))"},null,{"$f":"IFERROR(VLOOKUP(ROWS($M$2:M18),$J$2:$K$763,2,FALSE),\"\")","v":""}]
[null,null,null,null,null,null,null,null,null,{"$f":"IF(ISNUMBER(SEARCH('3 Irrigation Schedule'!$B$19,K19)),MAX($J$1:J18)+1,0)","v":0},{"$f":"'Crop Information'!B24","v":"Barley/Oats/Wheat (Jul - East Africa)"},null,{"$f":"IFERROR(VLOOKUP(ROWS($M$2:M19),$J$2:$K$763,2,FALSE),\"\")","v":""}]
[null,null,null,null,null,null,null,null,null,{"$f":"IF(ISNUMBER(SEARCH('3 Irrigation Schedule'!$B$19,K20)),MAX($J$1:J19)+1,0)","v":0},{"$f":"'Crop Information'!B25","v":"Barley/Oats/Wheat (Nov)"},null,{"$f":"IFERROR(VLOOKUP(ROWS($M$2:M20),$J$2:$K$763,2,FALSE),\"\")","v":""}]
[null,null,null,null,null,null,null,null,null,{"$f":"IF(ISNUMBER(SEARCH('3 Irrigation Schedule'!$B$19,K21)),MAX($J$1:J20)+1,0)","v":0},{"$f":"'Crop Information'!B26","v":"Barley/Oats/Wheat (Dec - California desert)"},null,{"$f":"IFERROR(VLOOKUP(ROWS($M$2:M21),$J$2:$K$763,2,FALSE),\"\")","v":""}]
[null,null,null,null,null,null,null,null,null,{"$f":"IF(ISNUMBER(SEARCH('3 Irrigation Schedule'!$B$19,K22)),MAX($J$1:J21)+1,0)","v":0},{"$f":"'Crop Information'!B27","v":"Beans (dry - May/Jun - central climates)"},null,{"$f":"IFERROR(VLOOKUP(ROWS($M$2:M22),$J$2:$K$763,2,FALSE),\"\")","v":""}]
[null,null,null,null,null,null,null,null,null,{"$f":"IF(ISNUMBER(SEARCH('3 Irrigation Schedule'!$B$19,K23)),MAX($J$1:J22)+1,0)","v":0},{"$f":"'Crop Information'!B28","v":"Beans (dry - Jun - Pakistan/California)"},null,{"$f":"IFERROR(VLOOKUP(ROWS($M$2:M23),$J$2:$K$763,2,FALSE),\"\")","v":""}]
[null,null,null,null,null,null,null,null,null,{"$f":"IF(ISNUMBER(SEARCH('3 Irrigation Schedule'!$B$19,K24)),MAX($J$1:J23)+1,0)","v":0},{"$f":"'Crop Information'!B29","v":"Beans (dry - Jun - Idaho)"},null,{"$f":"IFERROR(VLOOKUP(ROWS($M$2:M24),$J$2:$K$763,2,FALSE),\"\")","v":""}]
[null,null,null,null,null,null,null,null,null,{"$f":"IF(ISNUMBER(SEARCH('3 Irrigation Schedule'!$B$19,K25)),MAX($J$1:J24)+1,0)","v":0},{"$f":"'Crop Information'!B30","v":"Beans (green - Feb/Mar - California/Mediterranean)"},null,{"$f":"IFERROR(VLOOKUP(ROWS($M$2:M25),$J$2:$K$763,2,FALSE),\"\")","v":""}]
[null,null,null,null,null,null,null,null,null,{"$f":"IF(ISNUMBER(SEARCH('3 Irrigation Schedule'!$B$19,K26)),MAX($J$1:J25)+1,0)","v":0},{"$f":"'Crop Information'!B31","v":"Beans (green - Aug/Sep - California/Egypt/Lebanon)"},null,{"$f":"IFERROR(VLOOKUP(ROWS($M$2:M26),$J$2:$K$763,2,FALSE),\"\")","v":""}]
[null,null,null,null,null,null,null,null,null,{"$f":"IF(ISNUMBER(SEARCH('3 Irrigation Schedule'!$B$19,K27)),MAX($J$1:J26)+1,0)","v":0},{"$f":"'Crop Information'!B32","v":"Beets (table - Apr/May - Mediterranean)"},null,{"$f":"IFERROR(VLOOKUP(ROWS($M$2:M27),$J$2:$K$763,2,FALSE),\"\")","v":""}]
[null,null,null,null,null,null,null,null,null,{"$f":"IF(ISNUMBER(SEARCH('3 Irrigation Schedule'!$B$19,K28)),MAX($J$1:J27)+1,0)","v":0},{"$f":"'Crop Information'!B33","v":"Beets (table - Feb/Mar - Mediterranean/Arid)"},null,{"$f":"IFERROR(VLOOKUP(ROWS($M$2:M28),$J$2:$K$763,2,FALSE),\"\")","v":""}]
[null,null,null,null,null,null,null,null,null,{"$f":"IF(ISNUMBER(SEARCH('3 Irrigation Schedule'!$B$19,K29)),MAX($J$1:J28)+1,0)","v":0},{"$f":"'Crop Information'!B34","v":"Broccoli  (Sept - California desert)"},null,{"$f":"IFERROR(VLOOKUP(ROWS($M$2:M29),$J$2:$K$763,2,FALSE),\"\")","v":""}]
[null,null,null,null,null,null,null,null,null,{"$f":"IF(ISNUMBER(SEARCH('3 Irrigation Schedule'!$B$19,K30)),MAX($J$1:J29)+1,0)","v":0},{"$f":"'Crop Information'!B35","v":"Cabbage (Sept - California desert)"},null,{"$f":"IFERROR(VLOOKUP(ROWS($M$2:M30),$J$2:$K$763,2,FALSE),\"\")","v":""}]
[null,null,null,null,null,null,null,null,null,{"$f":"IF(ISNUMBER(SEARCH('3 Irrigation Schedule'!$B$19,K31)),MAX($J$1:J30)+1,0)","v":0},{"$f":"'Crop Information'!B36","v":"Cantaloupe (Jan - California )"},null,{"$f":"IFERROR(VLOOKUP(ROWS($M$2:M31),$J$2:$K$763,2,FALSE),\"\")","v":""}]
[null,null,null,null,null,null,null,null,null,{"$f":"IF(ISNUMBER(SEARCH('3 Irrigation Schedule'!$B$19,K32)),MAX($J$1:J31)+1,0)","v":0},{"$f":"'Crop Information'!B37","v":"Cantaloupe (Aug - California )"},null,{"$f":"IFERROR(VLOOKUP(ROWS($M$2:M32),$J$2:$K$763,2,FALSE),\"\")","v":""}]
[null,null,null,null,null,null,null,null,null,{"$f":"IF(ISNUMBER(SEARCH('3 Irrigation Schedule'!$B$19,K33)),MAX($J$1:J32)+1,0)","v":0},{"$f":"'Crop Information'!B38","v":"Carrots (Oct/Jan - Arid climate )"},null,{"$f":"IFERROR(VLOOKUP(ROWS($M$2:M33),$J$2:$K$763,2,FALSE),\"\")","v":""}]
[null,null,null,null,null,null,null,null,null,{"$f":"IF(ISNUMBER(SEARCH('3 Irrigation Schedule'!$B$19,K34)),MAX($J$1:J33)+1,0)","v":0},{"$f":"'Crop Information'!B39","v":"Carrots (Feb/Mar - Mediterranean )"},null,{"$f":"IFERROR(VLOOKUP(ROWS($M$2:M34),$J$2:$K$763,2,FALSE),\"\")","v":""}]
[null,null,null,null,null,null,null,null,null,{"$f":"IF(ISNUMBER(SEARCH('3 Irrigation Schedule'!$B$19,K35)),MAX($J$1:J34)+1,0)","v":0},{"$f":"'Crop Information'!B40","v":"Carrots (Oct -  California desert)"},null,{"$f":"IFERROR(VLOOKUP(ROWS($M$2:M35),$J$2:$K$763,2,FALSE),\"\")","v":""}]
[null,null,null,null,null,null,null,null,null,{"$f":"IF(ISNUMBER(SEARCH('3 Irrigation Schedule'!$B$19,K36)),MAX($J$1:J35)+1,0)","v":0},{"$f":"'Crop Information'!B41","v":"Cassava ( 1st year - rainy season - Tropical regions)"},null,{"$f":"IFERROR(VLOOKUP(ROWS($M$2:M36),$J$2:$K$763,2,FALSE),\"\")","v":""}]
[null,null,null,null,null,null,null,null,null,{"$f":"IF(ISNUMBER(SEARCH('3 Irrigation Schedule'!$B$19,K37)),MAX($J$1:J36)+1,0)","v":0},{"$f":"'Crop Information'!B42","v":"Cassava ( 2nd year - season - Tropical regions)"},null,{"$f":"IFERROR(VLOOKUP(ROWS($M$2:M37),$J$2:$K$763,2,FALSE),\"\")","v":""}]
[null,null,null,null,null,null,null,null,null,{"$f":"IF(ISNUMBER(SEARCH('3 Irrigation Schedule'!$B$19,K38)),MAX($J$1:J37)+1,0)","v":0},{"$f":"'Crop Information'!B43","v":"Castor beans (Mar - semiarid climates )"},null,{"$f":"IFERROR(VLOOKUP(ROWS($M$2:M38),$J$2:$K$763,2,FALSE),\"\")","v":""}]
[null,null,null,null,null,null,null,null,null,{"$f":"IF(ISNUMBER(SEARCH('3 Irrigation Schedule'!$B$19,K39)),MAX($J$1:J38)+1,0)","v":0},{"$f":"'Crop Information'!B44","v":"Castor beans (Nov - Indonesia )"},null,{"$f":"IFERROR(VLOOKUP(ROWS($M$2:M39),$J$2:$K$763,2,FALSE),\"\")","v":""}]
[null,null,null,null,null,null,null,null,null,{"$f":"IF(ISNUMBER(SEARCH('3 Irrigation Schedule'!$B$19,K40)),MAX($J$1:J39)+1,0)","v":0},{"$f":"'Crop Information'!B45","v":"Cauliflower (Sept - California desert)"},null,{"$f":"IFERROR(VLOOKUP(ROWS($M$2:M40),$J$2:$K$763,2,FALSE),\"\")","v":""}]
[null,null,null,null,null,null,null,null,null,{"$f":"IF(ISNUMBER(SEARCH('3 Irrigation Schedule'!$B$19,K41)),MAX($J$1:J40)+1,0)","v":0},{"$f":"'Crop Information'!B46","v":"Celery (Oct- semiarid)"},null,{"$f":"IFERROR(VLOOKUP(ROWS($M$2:M41),$J$2:$K$763,2,FALSE),\"\")","v":""}]
[null,null,null,null,null,null,null,null,null,{"$f":"IF(ISNUMBER(SEARCH('3 Irrigation Schedule'!$B$19,K42)),MAX($J$1:J41)+1,0)","v":0},{"$f":"'Crop Information'!B47","v":"Celery (Apr - Mediterranean)"},null,{"$f":"IFERROR(VLOOKUP(ROWS($M$2:M42),$J$2:$K$763,2,FALSE),\"\")","v":""}]
[null,null,null,null,null,null,null,null,null,{"$f":"IF(ISNUMBER(SEARCH('3 Irrigation Schedule'!$B$19,K43)),MAX($J$1:J42)+1,0)","v":0},{"$f":"'Crop Information'!B48","v":"Celery (Jan - semiarid)"},null,{"$f":"IFERROR(VLOOKUP(ROWS($M$2:M43),$J$2:$K$763,2,FALSE),\"\")","v":""}]
[null,null,null,null,null,null,null,null,null,{"$f":"IF(ISNUMBER(SEARCH('3 Irrigation Schedule'!$B$19,K44)),MAX($J$1:J43)+1,0)","v":0},{"$f":"'Crop Information'!B49","v":"Chilli pepper (Brazil/Tropical)"},null,{"$f":"IFERROR(VLOOKUP(ROWS($M$2:M44),$J$2:$K$763,2,FALSE),\"\")","v":""}]
[null,null,null,null,null,null,null,null,null,{"$f":"IF(ISNUMBER(SEARCH('3 Irrigation Schedule'!$B$19,K45)),MAX($J$1:J44)+1,0)","v":0},{"$f":"'Crop Information'!B50","v":"Citrus (no ground cover/70% canopy - Jan - Mediterranean)"},null,{"$f":"IFERROR(VLOOKUP(ROWS($M$2:M45),$J$2:$K$763,2,FALSE),\"\")","v":""}]
[null,null,null,null,null,null,null,null,null,{"$f":"IF(ISNUMBER(SEARCH('3 Irrigation Schedule'!$B$19,K46)),MAX($J$1:J45)+1,0)","v":0},{"$f":"'Crop Information'!B51","v":"Citrus (no ground cover/50% canopy - Jan - Mediterranean)"},null,{"$f":"IFERROR(VLOOKUP(ROWS($M$2:M46),$J$2:$K$763,2,FALSE),\"\")","v":""}]
[null,null,null,null,null,null,null,null,null,{"$f":"IF(ISNUMBER(SEARCH('3 Irrigation Schedule'!$B$19,K47)),MAX($J$1:J46)+1,0)","v":0},{"$f":"'Crop Information'!B52","v":"Citrus (no ground cover/20% canopy - Jan - Mediterranean)"},null,{"$f":"IFERROR(VLOOKUP(ROWS($M$2:M47),$J$2:$K$763,2,FALSE),\"\")","v":""}]
[null,null,null,null,null,null,null,null,null,{"$f":"IF(ISNUMBER(SEARCH('3 Irrigation Schedule'!$B$19,K48)),MAX($J$1:J47)+1,0)","v":0},{"$f":"'Crop Information'!B53","v":"Citrus (with active ground cover or weeds/70% canopy - Jan - Mediterranean)"},null,{"$f":"IFERROR(VLOOKUP(ROWS($M$2:M48),$J$2:$K$763,2,FALSE),\"\")","v":""}]
[null,null,null,null,null,null,null,null,null,{"$f":"IF(ISNUMBER(SEARCH('3 Irrigation Schedule'!$B$19,K49)),MAX($J$1:J48)+1,0)","v":0},{"$f":"'Crop Information'!B54","v":"Citrus (with active ground cover or weeds/50% canopy - Jan - Mediterranean)"},null,{"$f":"IFERROR(VLOOKUP(ROWS($M$2:M49),$J$2:$K$763,2,FALSE),\"\")","v":""}]
[null,null,null,null,null,null,null,null,null,{"$f":"IF(ISNUMBER(SEARCH('3 Irrigation Schedule'!$B$19,K50)),MAX($J$1:J49)+1,0)","v":0},{"$f":"'Crop Information'!B55","v":"Citrus (with active ground cover or weeds/20% canopy - Jan - Mediterranean)"},null,{"$f":"IFERROR(VLOOKUP(ROWS($M$2:M50),$J$2:$K$763,2,FALSE),\"\")","v":""}]
[null,null,null,null,null,null,null,null,null,{"$f":"IF(ISNUMBER(SEARCH('3 Irrigation Schedule'!$B$19,K51)),MAX($J$1:J50)+1,0)","v":0},{"$f":"'Crop Information'!B56","v":"Cotton (Mar/May - Egypt/Pakistan/California)"},null,{"$f":"IFERROR(VLOOKUP(ROWS($M$2:M51),$J$2:$K$763,2,FALSE),\"\")","v":""}]
[null,null,null,null,null,null,null,null,null,{"$f":"IF(ISNUMBER(SEARCH('3 Irrigation Schedule'!$B$19,K52)),MAX($J$1:J51)+1,0)","v":0},{"$f":"'Crop Information'!B57","v":"Cotton (Mar - California desert)"},null,{"$f":"IFERROR(VLOOKUP(ROWS($M$2:M52),$J$2:$K$763,2,FALSE),\"\")","v":""}]
[null,null,null,null,null,null,null,null,null,{"$f":"IF(ISNUMBER(SEARCH('3 Irrigation Schedule'!$B$19,K53)),MAX($J$1:J52)+1,0)","v":0},{"$f":"'Crop Information'!B58","v":"Cotton (Sept - Yemen )"},null,{"$f":"IFERROR(VLOOKUP(ROWS($M$2:M53),$J$2:$K$763,2,FALSE),\"\")","v":""}]
[null,null,null,null,null,null,null,null,null,{"$f":"IF(ISNUMBER(SEARCH('3 Irrigation Schedule'!$B$19,K54)),MAX($J$1:J53)+1,0)","v":0},{"$f":"'Crop Information'!B59","v":"Cotton (Apr - Texas )"},null,{"$f":"IFERROR(VLOOKUP(ROWS($M$2:M54),$J$2:$K$763,2,FALSE),\"\")","v":""}]
[null,null,null,null,null,null,null,null,null,{"$f":"IF(ISNUMBER(SEARCH('3 Irrigation Schedule'!$B$19,K55)),MAX($J$1:J54)+1,0)","v":0},{"$f":"'Crop Information'!B60","v":"Cucumber (Jun/Aug - arid region )"},null,{"$f":"IFERROR(VLOOKUP(ROWS($M$2:M55),$J$2:$K$763,2,FALSE),\"\")","v":""}]
[null,null,null,null,null,null,null,null,null,{"$f":"IF(ISNUMBER(SEARCH('3 Irrigation Schedule'!$B$19,K56)),MAX($J$1:J55)+1,0)","v":0},{"$f":"'Crop Information'!B61","v":"Cucumber (Nov/Feb - arid region )"},null,{"$f":"IFERROR(VLOOKUP(ROWS($M$2:M56),$J$2:$K$763,2,FALSE),\"\")","v":""}]
[null,null,null,null,null,null,null,null,null,{"$f":"IF(ISNUMBER(SEARCH('3 Irrigation Schedule'!$B$19,K57)),MAX($J$1:J56)+1,0)","v":0},{"$f":"'Crop Information'!B62","v":"Deciduous Orchard (no ground cover/killing frost - Mar - high latitudes)"},null,{"$f":"IFERROR(VLOOKUP(ROWS($M$2:M57),$J$2:$K$763,2,FALSE),\"\")","v":""}]
[null,null,null,null,null,null,null,null,null,{"$f":"IF(ISNUMBER(SEARCH('3 Irrigation Schedule'!$B$19,K58)),MAX($J$1:J57)+1,0)","v":0},{"$f":"'Crop Information'!B63","v":"Deciduous Orchard (no ground cover/no frosts - Mar - high latitudes)"},null,{"$f":"IFERROR(VLOOKUP(ROWS($M$2:M58),$J$2:$K$763,2,FALSE),\"\")","v":""}]
[null,null,null,null,null,null,null,null,null,{"$f":"IF(ISNUMBER(SEARCH('3 Irrigation Schedule'!$B$19,K59)),MAX($J$1:J58)+1,0)","v":0},{"$f":"'Crop Information'!B64","v":"Deciduous Orchard (active ground cover/killing frost - Mar - high latitudes)"},null,{"$f":"IFERROR(VLOOKUP(ROWS($M$2:M59),$J$2:$K$763,2,FALSE),\"\")","v":""}]
[null,null,null,null,null,null,null,null,null,{"$f":"IF(ISNUMBER(SEARCH('3 Irrigation Schedule'!$B$19,K60)),MAX($J$1:J59)+1,0)","v":0},{"$f":"'Crop Information'!B65","v":"Deciduous Orchard (active ground cover/no frosts - Mar - high latitudes)"},null,{"$f":"IFERROR(VLOOKUP(ROWS($M$2:M60),$J$2:$K$763,2,FALSE),\"\")","v":""}]
[null,null,null,null,null,null,null,null,null,{"$f":"IF(ISNUMBER(SEARCH('3 Irrigation Schedule'!$B$19,K61)),MAX($J$1:J60)+1,0)","v":0},{"$f":"'Crop Information'!B66","v":"Deciduous Orchard (no ground cover/killing frost - Mar - low latitudes)"},null,{"$f":"IFERROR(VLOOKUP(ROWS($M$2:M61),$J$2:$K$763,2,FALSE),\"\")","v":""}]
[null,null,null,null,null,null,null,null,null,{"$f":"IF(ISNUMBER(SEARCH('3 Irrigation Schedule'!$B$19,K62)),MAX($J$1:J61)+1,0)","v":0},{"$f":"'Crop Information'!B67","v":"Deciduous Orchard (no ground cover/no frosts - Mar - low latitudes)"},null,{"$f":"IFERROR(VLOOKUP(ROWS($M$2:M62),$J$2:$K$763,2,FALSE),\"\")","v":""}]
[null,null,null,null,null,null,null,null,null,{"$f":"IF(ISNUMBER(SEARCH('3 Irrigation Schedule'!$B$19,K63)),MAX($J$1:J62)+1,0)","v":0},{"$f":"'Crop Information'!B68","v":"Deciduous Orchard (active ground cover/killing frost - Mar - low latitudes)"},null,{"$f":"IFERROR(VLOOKUP(ROWS($M$2:M63),$J$2:$K$763,2,FALSE),\"\")","v":""}]
[null,null,null,null,null,null,null,null,null,{"$f":"IF(ISNUMBER(SEARCH('3 Irrigation Schedule'!$B$19,K64)),MAX($J$1:J63)+1,0)","v":0},{"$f":"'Crop Information'!B69","v":"Deciduous Orchard (active ground cover/no frosts - Mar - low latitudes)"},null,{"$f":"IFERROR(VLOOKUP(ROWS($M$2:M64),$J$2:$K$763,2,FALSE),\"\")","v":""}]
[null,null,null,null,null,null,null,null,null,{"$f":"IF(ISNUMBER(SEARCH('3 Irrigation Schedule'!$B$19,K65)),MAX($J$1:J64)+1,0)","v":0},{"$f":"'Crop Information'!B70","v":"Deciduous Orchard (no ground cover/killing frost - Mar - California)"},null,{"$f":"IFERROR(VLOOKUP(ROWS($M$2:M65),$J$2:$K$763,2,FALSE),\"\")","v":""}]
[null,null,null,null,null,null,null,null,null,{"$f":"IF(ISNUMBER(SEARCH('3 Irrigation Schedule'!$B$19,K66)),MAX($J$1:J65)+1,0)","v":0},{"$f":"'Crop Information'!B71","v":"Deciduous Orchard (no ground cover/no frosts - Mar - California)"},null,{"$f":"IFERROR(VLOOKUP(ROWS($M$2:M66),$J$2:$K$763,2,FALSE),\"\")","v":""}]
[null,null,null,null,null,null,null,null,null,{"$f":"IF(ISNUMBER(SEARCH('3 Irrigation Schedule'!$B$19,K67)),MAX($J$1:J66)+1,0)","v":0},{"$f":"'Crop Information'!B72","v":"Deciduous Orchard (active ground cover/killing frost - California)"},null,{"$f":"IFERROR(VLOOKUP(ROWS($M$2:M67),$J$2:$K$763,2,FALSE),\"\")","v":""}]
[null,null,null,null,null,null,null,null,null,{"$f":"IF(ISNUMBER(SEARCH('3 Irrigation Schedule'!$B$19,K68)),MAX($J$1:J67)+1,0)","v":0},{"$f":"'Crop Information'!B73","v":"Deciduous Orchard (active ground cover/no frosts - Mar - California)"},null,{"$f":"IFERROR(VLOOKUP(ROWS($M$2:M68),$J$2:$K$763,2,FALSE),\"\")","v":""}]
[null,null,null,null,null,null,null,null,null,{"$f":"IF(ISNUMBER(SEARCH('3 Irrigation Schedule'!$B$19,K69)),MAX($J$1:J68)+1,0)","v":0},{"$f":"'Crop Information'!B74","v":"Eggplant (Oct - arid region)"},null,{"$f":"IFERROR(VLOOKUP(ROWS($M$2:M69),$J$2:$K$763,2,FALSE),\"\")","v":""}]
[null,null,null,null,null,null,null,null,null,{"$f":"IF(ISNUMBER(SEARCH('3 Irrigation Schedule'!$B$19,K70)),MAX($J$1:J69)+1,0)","v":0},{"$f":"'Crop Information'!B75","v":"Eggplant (May/Jun - Mediterranean)"},null,{"$f":"IFERROR(VLOOKUP(ROWS($M$2:M70),$J$2:$K$763,2,FALSE),\"\")","v":""}]
[null,null,null,null,null,null,null,null,null,{"$f":"IF(ISNUMBER(SEARCH('3 Irrigation Schedule'!$B$19,K71)),MAX($J$1:J70)+1,0)","v":0},{"$f":"'Crop Information'!B76","v":"Faba bean, broad bean (May - Europe)"},null,{"$f":"IFERROR(VLOOKUP(ROWS($M$2:M71),$J$2:$K$763,2,FALSE),\"\")","v":""}]
[null,null,null,null,null,null,null,null,null,{"$f":"IF(ISNUMBER(SEARCH('3 Irrigation Schedule'!$B$19,K72)),MAX($J$1:J71)+1,0)","v":0},{"$f":"'Crop Information'!B77","v":"Faba bean, broad bean (Mar/Apr - Mediterranean)"},null,{"$f":"IFERROR(VLOOKUP(ROWS($M$2:M72),$J$2:$K$763,2,FALSE),\"\")","v":""}]
[null,null,null,null,null,null,null,null,null,{"$f":"IF(ISNUMBER(SEARCH('3 Irrigation Schedule'!$B$19,K73)),MAX($J$1:J72)+1,0)","v":0},{"$f":"'Crop Information'!B78","v":"Faba bean, broad bean (dry - Nov - Europe)"},null,{"$f":"IFERROR(VLOOKUP(ROWS($M$2:M73),$J$2:$K$763,2,FALSE),\"\")","v":""}]
[null,null,null,null,null,null,null,null,null,{"$f":"IF(ISNUMBER(SEARCH('3 Irrigation Schedule'!$B$19,K74)),MAX($J$1:J73)+1,0)","v":0},{"$f":"'Crop Information'!B79","v":"Faba bean, broad bean (green - Nov - Europe)"},null,{"$f":"IFERROR(VLOOKUP(ROWS($M$2:M74),$J$2:$K$763,2,FALSE),\"\")","v":""}]
[null,null,null,null,null,null,null,null,null,{"$f":"IF(ISNUMBER(SEARCH('3 Irrigation Schedule'!$B$19,K75)),MAX($J$1:J74)+1,0)","v":0},{"$f":"'Crop Information'!B80","v":"Flax (Apr - Europe)"},null,{"$f":"IFERROR(VLOOKUP(ROWS($M$2:M75),$J$2:$K$763,2,FALSE),\"\")","v":""}]
[null,null,null,null,null,null,null,null,null,{"$f":"IF(ISNUMBER(SEARCH('3 Irrigation Schedule'!$B$19,K76)),MAX($J$1:J75)+1,0)","v":0},{"$f":"'Crop Information'!B81","v":"Flax (Oct - Arizona)"},null,{"$f":"IFERROR(VLOOKUP(ROWS($M$2:M76),$J$2:$K$763,2,FALSE),\"\")","v":""}]
[null,null,null,null,null,null,null,null,null,{"$f":"IF(ISNUMBER(SEARCH('3 Irrigation Schedule'!$B$19,K77)),MAX($J$1:J76)+1,0)","v":0},{"$f":"'Crop Information'!B82","v":"Grapes (Apr - low latitudes)"},null,{"$f":"IFERROR(VLOOKUP(ROWS($M$2:M77),$J$2:$K$763,2,FALSE),\"\")","v":""}]
[null,null,null,null,null,null,null,null,null,{"$f":"IF(ISNUMBER(SEARCH('3 Irrigation Schedule'!$B$19,K78)),MAX($J$1:J77)+1,0)","v":0},{"$f":"'Crop Information'!B83","v":"Grapes (Mar - California)"},null,{"$f":"IFERROR(VLOOKUP(ROWS($M$2:M78),$J$2:$K$763,2,FALSE),\"\")","v":""}]
[null,null,null,null,null,null,null,null,null,{"$f":"IF(ISNUMBER(SEARCH('3 Irrigation Schedule'!$B$19,K79)),MAX($J$1:J78)+1,0)","v":0},{"$f":"'Crop Information'!B84","v":"Grapes (May - high latitudes )"},null,{"$f":"IFERROR(VLOOKUP(ROWS($M$2:M79),$J$2:$K$763,2,FALSE),\"\")","v":""}]
[null,null,null,null,null,null,null,null,null,{"$f":"IF(ISNUMBER(SEARCH('3 Irrigation Schedule'!$B$19,K80)),MAX($J$1:J79)+1,0)","v":0},{"$f":"'Crop Information'!B85","v":"Grapes (wine - Apr - mid latitudes)"},null,{"$f":"IFERROR(VLOOKUP(ROWS($M$2:M80),$J$2:$K$763,2,FALSE),\"\")","v":""}]
[null,null,null,null,null,null,null,null,null,{"$f":"IF(ISNUMBER(SEARCH('3 Irrigation Schedule'!$B$19,K81)),MAX($J$1:J80)+1,0)","v":0},{"$f":"'Crop Information'!B86","v":"Green gram, cowpeas (harvest fresh - Mar -Mediterranean)"},null,{"$f":"IFERROR(VLOOKUP(ROWS($M$2:M81),$J$2:$K$763,2,FALSE),\"\")","v":""}]
[null,null,null,null,null,null,null,null,null,{"$f":"IF(ISNUMBER(SEARCH('3 Irrigation Schedule'!$B$19,K82)),MAX($J$1:J81)+1,0)","v":0},{"$f":"'Crop Information'!B87","v":"Green gram, cowpeas (harvest dry - Mar -Mediterranean)"},null,{"$f":"IFERROR(VLOOKUP(ROWS($M$2:M82),$J$2:$K$763,2,FALSE),\"\")","v":""}]
[null,null,null,null,null,null,null,null,null,{"$f":"IF(ISNUMBER(SEARCH('3 Irrigation Schedule'!$B$19,K83)),MAX($J$1:J82)+1,0)","v":0},{"$f":"'Crop Information'!B88","v":"Groundnut (Dry - West Africa )"},null,{"$f":"IFERROR(VLOOKUP(ROWS($M$2:M83),$J$2:$K$763,2,FALSE),\"\")","v":""}]
[null,null,null,null,null,null,null,null,null,{"$f":"IF(ISNUMBER(SEARCH('3 Irrigation Schedule'!$B$19,K84)),MAX($J$1:J83)+1,0)","v":0},{"$f":"'Crop Information'!B89","v":"Groundnut (season - high latitudes)"},null,{"$f":"IFERROR(VLOOKUP(ROWS($M$2:M84),$J$2:$K$763,2,FALSE),\"\")","v":""}]
[null,null,null,null,null,null,null,null,null,{"$f":"IF(ISNUMBER(SEARCH('3 Irrigation Schedule'!$B$19,K85)),MAX($J$1:J84)+1,0)","v":0},{"$f":"'Crop Information'!B90","v":"Groundnut (May/Jun - Mediterranean)"},null,{"$f":"IFERROR(VLOOKUP(ROWS($M$2:M85),$J$2:$K$763,2,FALSE),\"\")","v":""}]
[null,null,null,null,null,null,null,null,null,{"$f":"IF(ISNUMBER(SEARCH('3 Irrigation Schedule'!$B$19,K86)),MAX($J$1:J85)+1,0)","v":0},{"$f":"'Crop Information'!B91","v":"Hops (Apr - Idaho)"},null,{"$f":"IFERROR(VLOOKUP(ROWS($M$2:M86),$J$2:$K$763,2,FALSE),\"\")","v":""}]
[null,null,null,null,null,null,null,null,null,{"$f":"IF(ISNUMBER(SEARCH('3 Irrigation Schedule'!$B$19,K87)),MAX($J$1:J86)+1,0)","v":0},{"$f":"'Crop Information'!B92","v":"Kale, Rape "},null,{"$f":"IFERROR(VLOOKUP(ROWS($M$2:M87),$J$2:$K$763,2,FALSE),\"\")","v":""}]
[null,null,null,null,null,null,null,null,null,{"$f":"IF(ISNUMBER(SEARCH('3 Irrigation Schedule'!$B$19,K88)),MAX($J$1:J87)+1,0)","v":0},{"$f":"'Crop Information'!B93","v":"Lentil (Apr - Europe)"},null,{"$f":"IFERROR(VLOOKUP(ROWS($M$2:M88),$J$2:$K$763,2,FALSE),\"\")","v":""}]
[null,null,null,null,null,null,null,null,null,{"$f":"IF(ISNUMBER(SEARCH('3 Irrigation Schedule'!$B$19,K89)),MAX($J$1:J88)+1,0)","v":0},{"$f":"'Crop Information'!B94","v":"Lentil (Oct/Nov -arid region)"},null,{"$f":"IFERROR(VLOOKUP(ROWS($M$2:M89),$J$2:$K$763,2,FALSE),\"\")","v":""}]
[null,null,null,null,null,null,null,null,null,{"$f":"IF(ISNUMBER(SEARCH('3 Irrigation Schedule'!$B$19,K90)),MAX($J$1:J89)+1,0)","v":0},{"$f":"'Crop Information'!B95","v":"Lettuce (Apr - Mediterranean)"},null,{"$f":"IFERROR(VLOOKUP(ROWS($M$2:M90),$J$2:$K$763,2,FALSE),\"\")","v":""}]
[null,null,null,null,null,null,null,null,null,{"$f":"IF(ISNUMBER(SEARCH('3 Irrigation Schedule'!$B$19,K91)),MAX($J$1:J90)+1,0)","v":0},{"$f":"'Crop Information'!B96","v":"Lettuce (Nov/Jan - Mediterranean)"},null,{"$f":"IFERROR(VLOOKUP(ROWS($M$2:M91),$J$2:$K$763,2,FALSE),\"\")","v":""}]
[null,null,null,null,null,null,null,null,null,{"$f":"IF(ISNUMBER(SEARCH('3 Irrigation Schedule'!$B$19,K92)),MAX($J$1:J91)+1,0)","v":0},{"$f":"'Crop Information'!B97","v":"Lettuce (Oct/Nov - arid region)"},null,{"$f":"IFERROR(VLOOKUP(ROWS($M$2:M92),$J$2:$K$763,2,FALSE),\"\")","v":""}]
[null,null,null,null,null,null,null,null,null,{"$f":"IF(ISNUMBER(SEARCH('3 Irrigation Schedule'!$B$19,K93)),MAX($J$1:J92)+1,0)","v":0},{"$f":"'Crop Information'!B98","v":"Lettuce (Feb - Mediterranean)"},null,{"$f":"IFERROR(VLOOKUP(ROWS($M$2:M93),$J$2:$K$763,2,FALSE),\"\")","v":""}]
[null,null,null,null,null,null,null,null,null,{"$f":"IF(ISNUMBER(SEARCH('3 Irrigation Schedule'!$B$19,K94)),MAX($J$1:J93)+1,0)","v":0},{"$f":"'Crop Information'!B99","v":"Maize (grain - Apr - East Africa (alt.))"},null,{"$f":"IFERROR(VLOOKUP(ROWS($M$2:M94),$J$2:$K$763,2,FALSE),\"\")","v":""}]
[null,null,null,null,null,null,null,null,null,{"$f":"IF(ISNUMBER(SEARCH('3 Irrigation Schedule'!$B$19,K95)),MAX($J$1:J94)+1,0)","v":0},{"$f":"'Crop Information'!B100","v":"Maize (grain - Dec/Jan - arid climate)"},null,{"$f":"IFERROR(VLOOKUP(ROWS($M$2:M95),$J$2:$K$763,2,FALSE),\"\")","v":""}]
[null,null,null,null,null,null,null,null,null,{"$f":"IF(ISNUMBER(SEARCH('3 Irrigation Schedule'!$B$19,K96)),MAX($J$1:J95)+1,0)","v":0},{"$f":"'Crop Information'!B101","v":"Maize (grain - Jun - Nigeria (humid))"},null,{"$f":"IFERROR(VLOOKUP(ROWS($M$2:M96),$J$2:$K$763,2,FALSE),\"\")","v":""}]
[null,null,null,null,null,null,null,null,null,{"$f":"IF(ISNUMBER(SEARCH('3 Irrigation Schedule'!$B$19,K97)),MAX($J$1:J96)+1,0)","v":1},{"$f":"'Crop Information'!B102","v":"Maize (grain - Oct - India (dry, cool))"},null,{"$f":"IFERROR(VLOOKUP(ROWS($M$2:M97),$J$2:$K$763,2,FALSE),\"\")","v":""}]
[null,null,null,null,null,null,null,null,null,{"$f":"IF(ISNUMBER(SEARCH('3 Irrigation Schedule'!$B$19,K98)),MAX($J$1:J97)+1,0)","v":0},{"$f":"'Crop Information'!B103","v":"Maize (grain - Apr - Spain (spring/summer) - California)"},null,{"$f":"IFERROR(VLOOKUP(ROWS($M$2:M98),$J$2:$K$763,2,FALSE),\"\")","v":""}]
[null,null,null,null,null,null,null,null,null,{"$f":"IF(ISNUMBER(SEARCH('3 Irrigation Schedule'!$B$19,K99)),MAX($J$1:J98)+1,0)","v":0},{"$f":"'Crop Information'!B104","v":"Maize (grain - Apr - Idaho)"},null,{"$f":"IFERROR(VLOOKUP(ROWS($M$2:M99),$J$2:$K$763,2,FALSE),\"\")","v":""}]
[null,null,null,null,null,null,null,null,null,{"$f":"IF(ISNUMBER(SEARCH('3 Irrigation Schedule'!$B$19,K100)),MAX($J$1:J99)+1,0)","v":0},{"$f":"'Crop Information'!B105","v":"Maize (sweet - Mar - Philippines)"},null,{"$f":"IFERROR(VLOOKUP(ROWS($M$2:M100),$J$2:$K$763,2,FALSE),\"\")","v":""}]
[null,null,null,null,null,null,null,null,null,{"$f":"IF(ISNUMBER(SEARCH('3 Irrigation Schedule'!$B$19,K101)),MAX($J$1:J100)+1,0)","v":0},{"$f":"'Crop Information'!B106","v":"Maize (sweet - May/Jun - Mediterranean)"},null,{"$f":"IFERROR(VLOOKUP(ROWS($M$2:M101),$J$2:$K$763,2,FALSE),\"\")","v":""}]
[null,null,null,null,null,null,null,null,null,{"$f":"IF(ISNUMBER(SEARCH('3 Irrigation Schedule'!$B$19,K102)),MAX($J$1:J101)+1,0)","v":0},{"$f":"'Crop Information'!B107","v":"Maize (sweet - Oct/Dec - arid climate)"},null,{"$f":"IFERROR(VLOOKUP(ROWS($M$2:M102),$J$2:$K$763,2,FALSE),\"\")","v":""}]
[null,null,null,null,null,null,null,null,null,{"$f":"IF(ISNUMBER(SEARCH('3 Irrigation Schedule'!$B$19,K103)),MAX($J$1:J102)+1,0)","v":0},{"$f":"'Crop Information'!B108","v":"Maize (sweet - Apr - Idaho)"},null,{"$f":"IFERROR(VLOOKUP(ROWS($M$2:M103),$J$2:$K$763,2,FALSE),\"\")","v":""}]
[null,null,null,null,null,null,null,null,null,{"$f":"IF(ISNUMBER(SEARCH('3 Irrigation Schedule'!$B$19,K104)),MAX($J$1:J103)+1,0)","v":0},{"$f":"'Crop Information'!B109","v":"Maize (sweet - Jan - California desert)"},null,{"$f":"IFERROR(VLOOKUP(ROWS($M$2:M104),$J$2:$K$763,2,FALSE),\"\")","v":""}]
[null,null,null,null,null,null,null,null,null,{"$f":"IF(ISNUMBER(SEARCH('3 Irrigation Schedule'!$B$19,K105)),MAX($J$1:J104)+1,0)","v":0},{"$f":"'Crop Information'!B110","v":"Mango (Jun)"},null,{"$f":"IFERROR(VLOOKUP(ROWS($M$2:M105),$J$2:$K$763,2,FALSE),\"\")","v":""}]
[null,null,null,null,null,null,null,null,null,{"$f":"IF(ISNUMBER(SEARCH('3 Irrigation Schedule'!$B$19,K106)),MAX($J$1:J105)+1,0)","v":0},{"$f":"'Crop Information'!B111","v":"Millet (Jun - Pakistan)"},null,{"$f":"IFERROR(VLOOKUP(ROWS($M$2:M106),$J$2:$K$763,2,FALSE),\"\")","v":""}]
[null,null,null,null,null,null,null,null,null,{"$f":"IF(ISNUMBER(SEARCH('3 Irrigation Schedule'!$B$19,K107)),MAX($J$1:J106)+1,0)","v":0},{"$f":"'Crop Information'!B112","v":"Millet (Apr - Central USA)"},null,{"$f":"IFERROR(VLOOKUP(ROWS($M$2:M107),$J$2:$K$763,2,FALSE),\"\")","v":""}]
[null,null,null,null,null,null,null,null,null,{"$f":"IF(ISNUMBER(SEARCH('3 Irrigation Schedule'!$B$19,K108)),MAX($J$1:J107)+1,0)","v":0},{"$f":"'Crop Information'!B113","v":"Okra (sub humid)"},null,{"$f":"IFERROR(VLOOKUP(ROWS($M$2:M108),$J$2:$K$763,2,FALSE),\"\")","v":""}]
[null,null,null,null,null,null,null,null,null,{"$f":"IF(ISNUMBER(SEARCH('3 Irrigation Schedule'!$B$19,K109)),MAX($J$1:J108)+1,0)","v":0},{"$f":"'Crop Information'!B114","v":"Olives (Mar - Mediterranean)"},null,{"$f":"IFERROR(VLOOKUP(ROWS($M$2:M109),$J$2:$K$763,2,FALSE),\"\")","v":""}]
[null,null,null,null,null,null,null,null,null,{"$f":"IF(ISNUMBER(SEARCH('3 Irrigation Schedule'!$B$19,K110)),MAX($J$1:J109)+1,0)","v":0},{"$f":"'Crop Information'!B115","v":"Onion (dry - Apr - Mediterranean)"},null,{"$f":"IFERROR(VLOOKUP(ROWS($M$2:M110),$J$2:$K$763,2,FALSE),\"\")","v":""}]
[null,null,null,null,null,null,null,null,null,{"$f":"IF(ISNUMBER(SEARCH('3 Irrigation Schedule'!$B$19,K111)),MAX($J$1:J110)+1,0)","v":0},{"$f":"'Crop Information'!B116","v":"Onion (dry - Oct/Jan - arid region/California)"},null,{"$f":"IFERROR(VLOOKUP(ROWS($M$2:M111),$J$2:$K$763,2,FALSE),\"\")","v":""}]
[null,null,null,null,null,null,null,null,null,{"$f":"IF(ISNUMBER(SEARCH('3 Irrigation Schedule'!$B$19,K112)),MAX($J$1:J111)+1,0)","v":0},{"$f":"'Crop Information'!B117","v":"Onion (green - Apr/May - Mediterranean)"},null,{"$f":"IFERROR(VLOOKUP(ROWS($M$2:M112),$J$2:$K$763,2,FALSE),\"\")","v":""}]
[null,null,null,null,null,null,null,null,null,{"$f":"IF(ISNUMBER(SEARCH('3 Irrigation Schedule'!$B$19,K113)),MAX($J$1:J112)+1,0)","v":0},{"$f":"'Crop Information'!B118","v":"Onion (green - Oct - arid region)"},null,{"$f":"IFERROR(VLOOKUP(ROWS($M$2:M113),$J$2:$K$763,2,FALSE),\"\")","v":""}]
[null,null,null,null,null,null,null,null,null,{"$f":"IF(ISNUMBER(SEARCH('3 Irrigation Schedule'!$B$19,K114)),MAX($J$1:J113)+1,0)","v":0},{"$f":"'Crop Information'!B119","v":"Onion (green - Mar - California)"},null,{"$f":"IFERROR(VLOOKUP(ROWS($M$2:M114),$J$2:$K$763,2,FALSE),\"\")","v":""}]
[null,null,null,null,null,null,null,null,null,{"$f":"IF(ISNUMBER(SEARCH('3 Irrigation Schedule'!$B$19,K115)),MAX($J$1:J114)+1,0)","v":0},{"$f":"'Crop Information'!B120","v":"Onion (seed - Sept - California desert)"},null,{"$f":"IFERROR(VLOOKUP(ROWS($M$2:M115),$J$2:$K$763,2,FALSE),\"\")","v":""}]
[null,null,null,null,null,null,null,null,null,{"$f":"IF(ISNUMBER(SEARCH('3 Irrigation Schedule'!$B$19,K116)),MAX($J$1:J115)+1,0)","v":0},{"$f":"'Crop Information'!B121","v":"Peas (fresh - May - Europe)"},null,{"$f":"IFERROR(VLOOKUP(ROWS($M$2:M116),$J$2:$K$763,2,FALSE),\"\")","v":""}]
[null,null,null,null,null,null,null,null,null,{"$f":"IF(ISNUMBER(SEARCH('3 Irrigation Schedule'!$B$19,K117)),MAX($J$1:J116)+1,0)","v":0},{"$f":"'Crop Information'!B122","v":"Peas (fresh - Mar/Apr - Mediterranean)"},null,{"$f":"IFERROR(VLOOKUP(ROWS($M$2:M117),$J$2:$K$763,2,FALSE),\"\")","v":""}]
[null,null,null,null,null,null,null,null,null,{"$f":"IF(ISNUMBER(SEARCH('3 Irrigation Schedule'!$B$19,K118)),MAX($J$1:J117)+1,0)","v":0},{"$f":"'Crop Information'!B123","v":"Peas (fresh - Apr - Idaho)"},null,{"$f":"IFERROR(VLOOKUP(ROWS($M$2:M118),$J$2:$K$763,2,FALSE),\"\")","v":""}]
[null,null,null,null,null,null,null,null,null,{"$f":"IF(ISNUMBER(SEARCH('3 Irrigation Schedule'!$B$19,K119)),MAX($J$1:J118)+1,0)","v":0},{"$f":"'Crop Information'!B124","v":"Peas (dry - May - Europe)"},null,{"$f":"IFERROR(VLOOKUP(ROWS($M$2:M119),$J$2:$K$763,2,FALSE),\"\")","v":""}]
[null,null,null,null,null,null,null,null,null,{"$f":"IF(ISNUMBER(SEARCH('3 Irrigation Schedule'!$B$19,K120)),MAX($J$1:J119)+1,0)","v":0},{"$f":"'Crop Information'!B125","v":"Peas (dry - Mar/Apr - Mediterranean)"},null,{"$f":"IFERROR(VLOOKUP(ROWS($M$2:M120),$J$2:$K$763,2,FALSE),\"\")","v":""}]
[null,null,null,null,null,null,null,null,null,{"$f":"IF(ISNUMBER(SEARCH('3 Irrigation Schedule'!$B$19,K121)),MAX($J$1:J120)+1,0)","v":0},{"$f":"'Crop Information'!B126","v":"Peas (dry - Apr - Idaho)"},null,{"$f":"IFERROR(VLOOKUP(ROWS($M$2:M121),$J$2:$K$763,2,FALSE),\"\")","v":""}]
[null,null,null,null,null,null,null,null,null,{"$f":"IF(ISNUMBER(SEARCH('3 Irrigation Schedule'!$B$19,K122)),MAX($J$1:J121)+1,0)","v":0},{"$f":"'Crop Information'!B127","v":"Pigeon peas"},null,{"$f":"IFERROR(VLOOKUP(ROWS($M$2:M122),$J$2:$K$763,2,FALSE),\"\")","v":""}]
[null,null,null,null,null,null,null,null,null,{"$f":"IF(ISNUMBER(SEARCH('3 Irrigation Schedule'!$B$19,K123)),MAX($J$1:J122)+1,0)","v":0},{"$f":"'Crop Information'!B128","v":"Pineapple (bare soil - Hawaii)"},null,{"$f":"IFERROR(VLOOKUP(ROWS($M$2:M123),$J$2:$K$763,2,FALSE),\"\")","v":""}]
[null,null,null,null,null,null,null,null,null,{"$f":"IF(ISNUMBER(SEARCH('3 Irrigation Schedule'!$B$19,K124)),MAX($J$1:J123)+1,0)","v":0},{"$f":"'Crop Information'!B129","v":"Pineapple (with grass cover - Hawaii)"},null,{"$f":"IFERROR(VLOOKUP(ROWS($M$2:M124),$J$2:$K$763,2,FALSE),\"\")","v":""}]
[null,null,null,null,null,null,null,null,null,{"$f":"IF(ISNUMBER(SEARCH('3 Irrigation Schedule'!$B$19,K125)),MAX($J$1:J124)+1,0)","v":0},{"$f":"'Crop Information'!B130","v":"Pistachios (no ground cover - Feb - Mediterranean)"},null,{"$f":"IFERROR(VLOOKUP(ROWS($M$2:M125),$J$2:$K$763,2,FALSE),\"\")","v":""}]
[null,null,null,null,null,null,null,null,null,{"$f":"IF(ISNUMBER(SEARCH('3 Irrigation Schedule'!$B$19,K126)),MAX($J$1:J125)+1,0)","v":0},{"$f":"'Crop Information'!B131","v":"Potato (Jan/Nov - semiarid climate)"},null,{"$f":"IFERROR(VLOOKUP(ROWS($M$2:M126),$J$2:$K$763,2,FALSE),\"\")","v":""}]
[null,null,null,null,null,null,null,null,null,{"$f":"IF(ISNUMBER(SEARCH('3 Irrigation Schedule'!$B$19,K127)),MAX($J$1:J126)+1,0)","v":0},{"$f":"'Crop Information'!B132","v":"Potato (May - Continental Climate )"},null,{"$f":"IFERROR(VLOOKUP(ROWS($M$2:M127),$J$2:$K$763,2,FALSE),\"\")","v":""}]
[null,null,null,null,null,null,null,null,null,{"$f":"IF(ISNUMBER(SEARCH('3 Irrigation Schedule'!$B$19,K128)),MAX($J$1:J127)+1,0)","v":0},{"$f":"'Crop Information'!B133","v":"Potato (Apr - Europe)"},null,{"$f":"IFERROR(VLOOKUP(ROWS($M$2:M128),$J$2:$K$763,2,FALSE),\"\")","v":""}]
[null,null,null,null,null,null,null,null,null,{"$f":"IF(ISNUMBER(SEARCH('3 Irrigation Schedule'!$B$19,K129)),MAX($J$1:J128)+1,0)","v":0},{"$f":"'Crop Information'!B134","v":"Potato (Apr/May - Idaho, USA )"},null,{"$f":"IFERROR(VLOOKUP(ROWS($M$2:M129),$J$2:$K$763,2,FALSE),\"\")","v":""}]
[null,null,null,null,null,null,null,null,null,{"$f":"IF(ISNUMBER(SEARCH('3 Irrigation Schedule'!$B$19,K130)),MAX($J$1:J129)+1,0)","v":0},{"$f":"'Crop Information'!B135","v":"Potato (Dec - California desert)"},null,{"$f":"IFERROR(VLOOKUP(ROWS($M$2:M130),$J$2:$K$763,2,FALSE),\"\")","v":""}]
[null,null,null,null,null,null,null,null,null,{"$f":"IF(ISNUMBER(SEARCH('3 Irrigation Schedule'!$B$19,K131)),MAX($J$1:J130)+1,0)","v":0},{"$f":"'Crop Information'!B136","v":"Pumpkin, Winter squash (Mar/Aug - Mediterranean)"},null,{"$f":"IFERROR(VLOOKUP(ROWS($M$2:M131),$J$2:$K$763,2,FALSE),\"\")","v":""}]
[null,null,null,null,null,null,null,null,null,{"$f":"IF(ISNUMBER(SEARCH('3 Irrigation Schedule'!$B$19,K132)),MAX($J$1:J131)+1,0)","v":0},{"$f":"'Crop Information'!B137","v":"Pumpkin, Winter squash (Jun - Europe)"},null,{"$f":"IFERROR(VLOOKUP(ROWS($M$2:M132),$J$2:$K$763,2,FALSE),\"\")","v":""}]
[null,null,null,null,null,null,null,null,null,{"$f":"IF(ISNUMBER(SEARCH('3 Irrigation Schedule'!$B$19,K133)),MAX($J$1:J132)+1,0)","v":0},{"$f":"'Crop Information'!B138","v":"Radish (Mar/Apr - Mediterranean/Europe)"},null,{"$f":"IFERROR(VLOOKUP(ROWS($M$2:M133),$J$2:$K$763,2,FALSE),\"\")","v":""}]
[null,null,null,null,null,null,null,null,null,{"$f":"IF(ISNUMBER(SEARCH('3 Irrigation Schedule'!$B$19,K134)),MAX($J$1:J133)+1,0)","v":0},{"$f":"'Crop Information'!B139","v":"Radish (Winter - arid region)"},null,{"$f":"IFERROR(VLOOKUP(ROWS($M$2:M134),$J$2:$K$763,2,FALSE),\"\")","v":""}]
[null,null,null,null,null,null,null,null,null,{"$f":"IF(ISNUMBER(SEARCH('3 Irrigation Schedule'!$B$19,K135)),MAX($J$1:J134)+1,0)","v":0},{"$f":"'Crop Information'!B140","v":"Rice (Dec/May - Tropics/Mediterranean)"},null,{"$f":"IFERROR(VLOOKUP(ROWS($M$2:M135),$J$2:$K$763,2,FALSE),\"\")","v":""}]
[null,null,null,null,null,null,null,null,null,{"$f":"IF(ISNUMBER(SEARCH('3 Irrigation Schedule'!$B$19,K136)),MAX($J$1:J135)+1,0)","v":0},{"$f":"'Crop Information'!B141","v":"Safflower (Apr - California)"},null,{"$f":"IFERROR(VLOOKUP(ROWS($M$2:M136),$J$2:$K$763,2,FALSE),\"\")","v":""}]
[null,null,null,null,null,null,null,null,null,{"$f":"IF(ISNUMBER(SEARCH('3 Irrigation Schedule'!$B$19,K137)),MAX($J$1:J136)+1,0)","v":0},{"$f":"'Crop Information'!B142","v":"Safflower (Mar - high latitudes)"},null,{"$f":"IFERROR(VLOOKUP(ROWS($M$2:M137),$J$2:$K$763,2,FALSE),\"\")","v":""}]
[null,null,null,null,null,null,null,null,null,{"$f":"IF(ISNUMBER(SEARCH('3 Irrigation Schedule'!$B$19,K138)),MAX($J$1:J137)+1,0)","v":0},{"$f":"'Crop Information'!B143","v":"Safflower (Oct/Nov - arid region)"},null,{"$f":"IFERROR(VLOOKUP(ROWS($M$2:M138),$J$2:$K$763,2,FALSE),\"\")","v":""}]
[null,null,null,null,null,null,null,null,null,{"$f":"IF(ISNUMBER(SEARCH('3 Irrigation Schedule'!$B$19,K139)),MAX($J$1:J138)+1,0)","v":0},{"$f":"'Crop Information'!B144","v":"Sesame (Jun - China)"},null,{"$f":"IFERROR(VLOOKUP(ROWS($M$2:M139),$J$2:$K$763,2,FALSE),\"\")","v":""}]
[null,null,null,null,null,null,null,null,null,{"$f":"IF(ISNUMBER(SEARCH('3 Irrigation Schedule'!$B$19,K140)),MAX($J$1:J139)+1,0)","v":0},{"$f":"'Crop Information'!B145","v":"Sorghum (grain - May/Jun - USA/Pakistan/Mediterranean)"},null,{"$f":"IFERROR(VLOOKUP(ROWS($M$2:M140),$J$2:$K$763,2,FALSE),\"\")","v":""}]
[null,null,null,null,null,null,null,null,null,{"$f":"IF(ISNUMBER(SEARCH('3 Irrigation Schedule'!$B$19,K141)),MAX($J$1:J140)+1,0)","v":0},{"$f":"'Crop Information'!B146","v":"Sorghum (grain - Mar/Apr - arid region)"},null,{"$f":"IFERROR(VLOOKUP(ROWS($M$2:M141),$J$2:$K$763,2,FALSE),\"\")","v":""}]
[null,null,null,null,null,null,null,null,null,{"$f":"IF(ISNUMBER(SEARCH('3 Irrigation Schedule'!$B$19,K142)),MAX($J$1:J141)+1,0)","v":0},{"$f":"'Crop Information'!B147","v":"Sorghum (sweet - May/Jun - USA/Pakistan/Mediterranean)"},null,{"$f":"IFERROR(VLOOKUP(ROWS($M$2:M142),$J$2:$K$763,2,FALSE),\"\")","v":""}]
[null,null,null,null,null,null,null,null,null,{"$f":"IF(ISNUMBER(SEARCH('3 Irrigation Schedule'!$B$19,K143)),MAX($J$1:J142)+1,0)","v":0},{"$f":"'Crop Information'!B148","v":"Sorghum (sweet - Mar/Apr - arid region)"},null,{"$f":"IFERROR(VLOOKUP(ROWS($M$2:M143),$J$2:$K$763,2,FALSE),\"\")","v":""}]
[null,null,null,null,null,null,null,null,null,{"$f":"IF(ISNUMBER(SEARCH('3 Irrigation Schedule'!$B$19,K144)),MAX($J$1:J143)+1,0)","v":0},{"$f":"'Crop Information'!B149","v":"Soybeans (Dec - Tropics)"},null,{"$f":"IFERROR(VLOOKUP(ROWS($M$2:M144),$J$2:$K$763,2,FALSE),\"\")","v":""}]
[null,null,null,null,null,null,null,null,null,{"$f":"IF(ISNUMBER(SEARCH('3 Irrigation Schedule'!$B$19,K145)),MAX($J$1:J144)+1,0)","v":0},{"$f":"'Crop Information'!B150","v":"Soybeans (May - Central USA)"},null,{"$f":"IFERROR(VLOOKUP(ROWS($M$2:M145),$J$2:$K$763,2,FALSE),\"\")","v":""}]
[null,null,null,null,null,null,null,null,null,{"$f":"IF(ISNUMBER(SEARCH('3 Irrigation Schedule'!$B$19,K146)),MAX($J$1:J145)+1,0)","v":0},{"$f":"'Crop Information'!B151","v":"Soybeans (Jun - Japan )"},null,{"$f":"IFERROR(VLOOKUP(ROWS($M$2:M146),$J$2:$K$763,2,FALSE),\"\")","v":""}]
[null,null,null,null,null,null,null,null,null,{"$f":"IF(ISNUMBER(SEARCH('3 Irrigation Schedule'!$B$19,K147)),MAX($J$1:J146)+1,0)","v":0},{"$f":"'Crop Information'!B152","v":"Spinach (Apr/Sep/Oct - Mediterranean)"},null,{"$f":"IFERROR(VLOOKUP(ROWS($M$2:M147),$J$2:$K$763,2,FALSE),\"\")","v":""}]
[null,null,null,null,null,null,null,null,null,{"$f":"IF(ISNUMBER(SEARCH('3 Irrigation Schedule'!$B$19,K148)),MAX($J$1:J147)+1,0)","v":0},{"$f":"'Crop Information'!B153","v":"Spinach (Nov - arid region)"},null,{"$f":"IFERROR(VLOOKUP(ROWS($M$2:M148),$J$2:$K$763,2,FALSE),\"\")","v":""}]
[null,null,null,null,null,null,null,null,null,{"$f":"IF(ISNUMBER(SEARCH('3 Irrigation Schedule'!$B$19,K149)),MAX($J$1:J148)+1,0)","v":0},{"$f":"'Crop Information'!B154","v":"Squash, Zucchini (Apr/Dec - Mediterranean/arid region)"},null,{"$f":"IFERROR(VLOOKUP(ROWS($M$2:M149),$J$2:$K$763,2,FALSE),\"\")","v":""}]
[null,null,null,null,null,null,null,null,null,{"$f":"IF(ISNUMBER(SEARCH('3 Irrigation Schedule'!$B$19,K150)),MAX($J$1:J149)+1,0)","v":0},{"$f":"'Crop Information'!B155","v":"Squash, Zucchini (May/Jun - Mediterranean/Europe)"},null,{"$f":"IFERROR(VLOOKUP(ROWS($M$2:M150),$J$2:$K$763,2,FALSE),\"\")","v":""}]
[null,null,null,null,null,null,null,null,null,{"$f":"IF(ISNUMBER(SEARCH('3 Irrigation Schedule'!$B$19,K151)),MAX($J$1:J150)+1,0)","v":0},{"$f":"'Crop Information'!B156","v":"Sudan (1st cutting cycle - Apr - California desert)"},null,{"$f":"IFERROR(VLOOKUP(ROWS($M$2:M151),$J$2:$K$763,2,FALSE),\"\")","v":""}]
[null,null,null,null,null,null,null,null,null,{"$f":"IF(ISNUMBER(SEARCH('3 Irrigation Schedule'!$B$19,K152)),MAX($J$1:J151)+1,0)","v":0},{"$f":"'Crop Information'!B157","v":"Sudan (other cutting cycles - Jun -California desert)"},null,{"$f":"IFERROR(VLOOKUP(ROWS($M$2:M152),$J$2:$K$763,2,FALSE),\"\")","v":""}]
[null,null,null,null,null,null,null,null,null,{"$f":"IF(ISNUMBER(SEARCH('3 Irrigation Schedule'!$B$19,K153)),MAX($J$1:J152)+1,0)","v":0},{"$f":"'Crop Information'!B158","v":"Sugarbeet (Mar - California)"},null,{"$f":"IFERROR(VLOOKUP(ROWS($M$2:M153),$J$2:$K$763,2,FALSE),\"\")","v":""}]
[null,null,null,null,null,null,null,null,null,{"$f":"IF(ISNUMBER(SEARCH('3 Irrigation Schedule'!$B$19,K154)),MAX($J$1:J153)+1,0)","v":0},{"$f":"'Crop Information'!B159","v":"Sugarbeet (Jun - California)"},null,{"$f":"IFERROR(VLOOKUP(ROWS($M$2:M154),$J$2:$K$763,2,FALSE),\"\")","v":""}]
[null,null,null,null,null,null,null,null,null,{"$f":"IF(ISNUMBER(SEARCH('3 Irrigation Schedule'!$B$19,K155)),MAX($J$1:J154)+1,0)","v":0},{"$f":"'Crop Information'!B160","v":"Sugarbeet (Sep - California desert)"},null,{"$f":"IFERROR(VLOOKUP(ROWS($M$2:M155),$J$2:$K$763,2,FALSE),\"\")","v":""}]
[null,null,null,null,null,null,null,null,null,{"$f":"IF(ISNUMBER(SEARCH('3 Irrigation Schedule'!$B$19,K156)),MAX($J$1:J155)+1,0)","v":0},{"$f":"'Crop Information'!B161","v":"Sugarbeet (Apr - Idaho)"},null,{"$f":"IFERROR(VLOOKUP(ROWS($M$2:M156),$J$2:$K$763,2,FALSE),\"\")","v":""}]
[null,null,null,null,null,null,null,null,null,{"$f":"IF(ISNUMBER(SEARCH('3 Irrigation Schedule'!$B$19,K157)),MAX($J$1:J156)+1,0)","v":0},{"$f":"'Crop Information'!B162","v":"Sugarbeet (May - Mediterranean)"},null,{"$f":"IFERROR(VLOOKUP(ROWS($M$2:M157),$J$2:$K$763,2,FALSE),\"\")","v":""}]
[null,null,null,null,null,null,null,null,null,{"$f":"IF(ISNUMBER(SEARCH('3 Irrigation Schedule'!$B$19,K158)),MAX($J$1:J157)+1,0)","v":0},{"$f":"'Crop Information'!B163","v":"Sugarbeet (Nov - Mediterranean)"},null,{"$f":"IFERROR(VLOOKUP(ROWS($M$2:M158),$J$2:$K$763,2,FALSE),\"\")","v":""}]
[null,null,null,null,null,null,null,null,null,{"$f":"IF(ISNUMBER(SEARCH('3 Irrigation Schedule'!$B$19,K159)),MAX($J$1:J158)+1,0)","v":0},{"$f":"'Crop Information'!B164","v":"Sugarbeet (Nov - arid regions)"},null,{"$f":"IFERROR(VLOOKUP(ROWS($M$2:M159),$J$2:$K$763,2,FALSE),\"\")","v":""}]
[null,null,null,null,null,null,null,null,null,{"$f":"IF(ISNUMBER(SEARCH('3 Irrigation Schedule'!$B$19,K160)),MAX($J$1:J159)+1,0)","v":0},{"$f":"'Crop Information'!B165","v":"Sugarcane (ratoon - low latitudes)"},null,{"$f":"IFERROR(VLOOKUP(ROWS($M$2:M160),$J$2:$K$763,2,FALSE),\"\")","v":""}]
[null,null,null,null,null,null,null,null,null,{"$f":"IF(ISNUMBER(SEARCH('3 Irrigation Schedule'!$B$19,K161)),MAX($J$1:J160)+1,0)","v":0},{"$f":"'Crop Information'!B166","v":"Sugarcane (ratoon - Tropics)"},null,{"$f":"IFERROR(VLOOKUP(ROWS($M$2:M161),$J$2:$K$763,2,FALSE),\"\")","v":""}]
[null,null,null,null,null,null,null,null,null,{"$f":"IF(ISNUMBER(SEARCH('3 Irrigation Schedule'!$B$19,K162)),MAX($J$1:J161)+1,0)","v":0},{"$f":"'Crop Information'!B167","v":"Sugarcane (ratoon - Hawaii)"},null,{"$f":"IFERROR(VLOOKUP(ROWS($M$2:M162),$J$2:$K$763,2,FALSE),\"\")","v":""}]
[null,null,null,null,null,null,null,null,null,{"$f":"IF(ISNUMBER(SEARCH('3 Irrigation Schedule'!$B$19,K163)),MAX($J$1:J162)+1,0)","v":0},{"$f":"'Crop Information'!B168","v":"Sugarcane (virgin - low latitudes)"},null,{"$f":"IFERROR(VLOOKUP(ROWS($M$2:M163),$J$2:$K$763,2,FALSE),\"\")","v":""}]
[null,null,null,null,null,null,null,null,null,{"$f":"IF(ISNUMBER(SEARCH('3 Irrigation Schedule'!$B$19,K164)),MAX($J$1:J163)+1,0)","v":0},{"$f":"'Crop Information'!B169","v":"Sugarcane (virgin - Tropics)"},null,{"$f":"IFERROR(VLOOKUP(ROWS($M$2:M164),$J$2:$K$763,2,FALSE),\"\")","v":""}]
[null,null,null,null,null,null,null,null,null,{"$f":"IF(ISNUMBER(SEARCH('3 Irrigation Schedule'!$B$19,K165)),MAX($J$1:J164)+1,0)","v":0},{"$f":"'Crop Information'!B170","v":"Sugarcane (virgin - Hawaii)"},null,{"$f":"IFERROR(VLOOKUP(ROWS($M$2:M165),$J$2:$K$763,2,FALSE),\"\")","v":""}]
[null,null,null,null,null,null,null,null,null,{"$f":"IF(ISNUMBER(SEARCH('3 Irrigation Schedule'!$B$19,K166)),MAX($J$1:J165)+1,0)","v":0},{"$f":"'Crop Information'!B171","v":"Sunflower (Apr/May - Mediterranean/California)"},null,{"$f":"IFERROR(VLOOKUP(ROWS($M$2:M166),$J$2:$K$763,2,FALSE),\"\")","v":""}]
[null,null,null,null,null,null,null,null,null,{"$f":"IF(ISNUMBER(SEARCH('3 Irrigation Schedule'!$B$19,K167)),MAX($J$1:J166)+1,0)","v":0},{"$f":"'Crop Information'!B172","v":"Sweet melons (May - Mediterranean)"},null,{"$f":"IFERROR(VLOOKUP(ROWS($M$2:M167),$J$2:$K$763,2,FALSE),\"\")","v":""}]
[null,null,null,null,null,null,null,null,null,{"$f":"IF(ISNUMBER(SEARCH('3 Irrigation Schedule'!$B$19,K168)),MAX($J$1:J167)+1,0)","v":0},{"$f":"'Crop Information'!B173","v":"Sweet melons (Mar - California)"},null,{"$f":"IFERROR(VLOOKUP(ROWS($M$2:M168),$J$2:$K$763,2,FALSE),\"\")","v":""}]
[null,null,null,null,null,null,null,null,null,{"$f":"IF(ISNUMBER(SEARCH('3 Irrigation Schedule'!$B$19,K169)),MAX($J$1:J168)+1,0)","v":0},{"$f":"'Crop Information'!B174","v":"Sweet melons (Aug - California desert)"},null,{"$f":"IFERROR(VLOOKUP(ROWS($M$2:M169),$J$2:$K$763,2,FALSE),\"\")","v":""}]
[null,null,null,null,null,null,null,null,null,{"$f":"IF(ISNUMBER(SEARCH('3 Irrigation Schedule'!$B$19,K170)),MAX($J$1:J169)+1,0)","v":0},{"$f":"'Crop Information'!B175","v":"Sweet melons (Dec/Jan - arid region)"},null,{"$f":"IFERROR(VLOOKUP(ROWS($M$2:M170),$J$2:$K$763,2,FALSE),\"\")","v":""}]
[null,null,null,null,null,null,null,null,null,{"$f":"IF(ISNUMBER(SEARCH('3 Irrigation Schedule'!$B$19,K171)),MAX($J$1:J170)+1,0)","v":0},{"$f":"'Crop Information'!B176","v":"Sweet peppers (Apr/Jun - Europe/Mediterranean)"},null,{"$f":"IFERROR(VLOOKUP(ROWS($M$2:M171),$J$2:$K$763,2,FALSE),\"\")","v":""}]
[null,null,null,null,null,null,null,null,null,{"$f":"IF(ISNUMBER(SEARCH('3 Irrigation Schedule'!$B$19,K172)),MAX($J$1:J171)+1,0)","v":0},{"$f":"'Crop Information'!B177","v":"Sweet peppers (Oct - arid region)"},null,{"$f":"IFERROR(VLOOKUP(ROWS($M$2:M172),$J$2:$K$763,2,FALSE),\"\")","v":""}]
[null,null,null,null,null,null,null,null,null,{"$f":"IF(ISNUMBER(SEARCH('3 Irrigation Schedule'!$B$19,K173)),MAX($J$1:J172)+1,0)","v":0},{"$f":"'Crop Information'!B178","v":"Sweet potato (Apr - Mediterranean)"},null,{"$f":"IFERROR(VLOOKUP(ROWS($M$2:M173),$J$2:$K$763,2,FALSE),\"\")","v":""}]
[null,null,null,null,null,null,null,null,null,{"$f":"IF(ISNUMBER(SEARCH('3 Irrigation Schedule'!$B$19,K174)),MAX($J$1:J173)+1,0)","v":0},{"$f":"'Crop Information'!B179","v":"Sweet potato (rainy season - Tropical regions)"},null,{"$f":"IFERROR(VLOOKUP(ROWS($M$2:M174),$J$2:$K$763,2,FALSE),\"\")","v":""}]
[null,null,null,null,null,null,null,null,null,{"$f":"IF(ISNUMBER(SEARCH('3 Irrigation Schedule'!$B$19,K175)),MAX($J$1:J174)+1,0)","v":0},{"$f":"'Crop Information'!B180","v":"Tomato (Jan - arid region)"},null,{"$f":"IFERROR(VLOOKUP(ROWS($M$2:M175),$J$2:$K$763,2,FALSE),\"\")","v":""}]
[null,null,null,null,null,null,null,null,null,{"$f":"IF(ISNUMBER(SEARCH('3 Irrigation Schedule'!$B$19,K176)),MAX($J$1:J175)+1,0)","v":0},{"$f":"'Crop Information'!B181","v":"Tomato (Apr/May - California)"},null,{"$f":"IFERROR(VLOOKUP(ROWS($M$2:M176),$J$2:$K$763,2,FALSE),\"\")","v":""}]
[null,null,null,null,null,null,null,null,null,{"$f":"IF(ISNUMBER(SEARCH('3 Irrigation Schedule'!$B$19,K177)),MAX($J$1:J176)+1,0)","v":0},{"$f":"'Crop Information'!B182","v":"Tomato (Jan - California desert)"},null,{"$f":"IFERROR(VLOOKUP(ROWS($M$2:M177),$J$2:$K$763,2,FALSE),\"\")","v":""}]
[null,null,null,null,null,null,null,null,null,{"$f":"IF(ISNUMBER(SEARCH('3 Irrigation Schedule'!$B$19,K178)),MAX($J$1:J177)+1,0)","v":0},{"$f":"'Crop Information'!B183","v":"Tomato (Oct/Nov - arid region)"},null,{"$f":"IFERROR(VLOOKUP(ROWS($M$2:M178),$J$2:$K$763,2,FALSE),\"\")","v":""}]
[null,null,null,null,null,null,null,null,null,{"$f":"IF(ISNUMBER(SEARCH('3 Irrigation Schedule'!$B$19,K179)),MAX($J$1:J178)+1,0)","v":0},{"$f":"'Crop Information'!B184","v":"Tomato (Apr/May - Mediterranean)"},null,{"$f":"IFERROR(VLOOKUP(ROWS($M$2:M179),$J$2:$K$763,2,FALSE),\"\")","v":""}]
[null,null,null,null,null,null,null,null,null,{"$f":"IF(ISNUMBER(SEARCH('3 Irrigation Schedule'!$B$19,K180)),MAX($J$1:J179)+1,0)","v":0},{"$f":"'Crop Information'!B185","v":"Walnuts (Apr - Utah)"},null,{"$f":"IFERROR(VLOOKUP(ROWS($M$2:M180),$J$2:$K$763,2,FALSE),\"\")","v":""}]
[null,null,null,null,null,null,null,null,null,{"$f":"IF(ISNUMBER(SEARCH('3 Irrigation Schedule'!$B$19,K181)),MAX($J$1:J180)+1,0)","v":0},{"$f":"'Crop Information'!B186","v":"Water melons (Apr - Italy)"},null,{"$f":"IFERROR(VLOOKUP(ROWS($M$2:M181),$J$2:$K$763,2,FALSE),\"\")","v":""}]
[null,null,null,null,null,null,null,null,null,{"$f":"IF(ISNUMBER(SEARCH('3 Irrigation Schedule'!$B$19,K182)),MAX($J$1:J181)+1,0)","v":0},{"$f":"'Crop Information'!B187","v":"Water melons (Mat/Aug - Near East (desert))"},null,{"$f":"IFERROR(VLOOKUP(ROWS($M$2:M182),$J$2:$K$763,2,FALSE),\"\")","v":""}]
[null,null,null,null,null,null,null,null,null,{"$f":"IF(ISNUMBER(SEARCH('3 Irrigation Schedule'!$B$19,K183)),MAX($J$1:J182)+1,0)","v":0},{"$f":"'Crop Information'!B188","v":"Winter Wheat (Dec - California)"},null,{"$f":"IFERROR(VLOOKUP(ROWS($M$2:M183),$J$2:$K$763,2,FALSE),\"\")","v":""}]
[null,null,null,null,null,null,null,null,null,{"$f":"IF(ISNUMBER(SEARCH('3 Irrigation Schedule'!$B$19,K184)),MAX($J$1:J183)+1,0)","v":0},{"$f":"'Crop Information'!B189","v":"Winter Wheat (Nov - Mediterranean)"},null,{"$f":"IFERROR(VLOOKUP(ROWS($M$2:M184),$J$2:$K$763,2,FALSE),\"\")","v":""}]
[null,null,null,null,null,null,null,null,null,{"$f":"IF(ISNUMBER(SEARCH('3 Irrigation Schedule'!$B$19,K185)),MAX($J$1:J184)+1,0)","v":0},{"$f":"'Crop Information'!B190","v":"Winter Wheat (Oct - Idaho)"},null,{"$f":"IFERROR(VLOOKUP(ROWS($M$2:M185),$J$2:$K$763,2,FALSE),\"\")","v":""}]
[null,null,null,null,null,null,null,null,null,{"$f":"IF(ISNUMBER(SEARCH('3 Irrigation Schedule'!$B$19,K186)),MAX($J$1:J185)+1,0)","v":0},{"$f":"'Crop Information'!B191","v":"New crop"},null,{"$f":"IFERROR(VLOOKUP(ROWS($M$2:M186),$J$2:$K$763,2,FALSE),\"\")","v":""}]
[null,null,null,null,null,null,null,null,null,{"$f":"IF(ISNUMBER(SEARCH('3 Irrigation Schedule'!$B$19,K187)),MAX($J$1:J186)+1,0)","v":0},{"$f":"'Crop Information'!B192","v":"New crop"},null,{"$f":"IFERROR(VLOOKUP(ROWS($M$2:M187),$J$2:$K$763,2,FALSE),\"\")","v":""}]
[null,null,null,null,null,null,null,null,null,{"$f":"IF(ISNUMBER(SEARCH('3 Irrigation Schedule'!$B$19,K188)),MAX($J$1:J187)+1,0)","v":0},{"$f":"'Crop Information'!B193","v":"New crop"},null,{"$f":"IFERROR(VLOOKUP(ROWS($M$2:M188),$J$2:$K$763,2,FALSE),\"\")","v":""}]
[null,null,null,null,null,null,null,null,null,{"$f":"IF(ISNUMBER(SEARCH('3 Irrigation Schedule'!$B$19,K189)),MAX($J$1:J188)+1,0)","v":0},{"$f":"'Crop Information'!B194","v":"New crop"},null,{"$f":"IFERROR(VLOOKUP(ROWS($M$2:M189),$J$2:$K$763,2,FALSE),\"\")","v":""}]
[null,null,null,null,null,null,null,null,null,{"$f":"IF(ISNUMBER(SEARCH('3 Irrigation Schedule'!$B$19,K190)),MAX($J$1:J189)+1,0)","v":0},{"$f":"'Crop Information'!B195","v":"New crop"},null,{"$f":"IFERROR(VLOOKUP(ROWS($M$2:M190),$J$2:$K$763,2,FALSE),\"\")","v":""}]
[null,null,null,null,null,null,null,null,null,{"$f":"IF(ISNUMBER(SEARCH('3 Irrigation Schedule'!$B$19,K191)),MAX($J$1:J190)+1,0)","v":0},{"$f":"'Crop Information'!B196","v":"New crop"},null,{"$f":"IFERROR(VLOOKUP(ROWS($M$2:M191),$J$2:$K$763,2,FALSE),\"\")","v":""}]
[null,null,null,null,null,null,null,null,null,{"$f":"IF(ISNUMBER(SEARCH('3 Irrigation Schedule'!$B$19,K192)),MAX($J$1:J191)+1,0)","v":0},{"$f":"'Crop Information'!B197","v":"New crop"},null,{"$f":"IFERROR(VLOOKUP(ROWS($M$2:M192),$J$2:$K$763,2,FALSE),\"\")","v":""}]
[null,null,null,null,null,null,null,null,null,{"$f":"IF(ISNUMBER(SEARCH('3 Irrigation Schedule'!$B$19,K193)),MAX($J$1:J192)+1,0)","v":0},{"$f":"'Crop Information'!B198","v":"New crop"},null,{"$f":"IFERROR(VLOOKUP(ROWS($M$2:M193),$J$2:$K$763,2,FALSE),\"\")","v":""}]
[null,null,null,null,null,null,null,null,null,{"$f":"IF(ISNUMBER(SEARCH('3 Irrigation Schedule'!$B$19,K194)),MAX($J$1:J193)+1,0)","v":0},{"$f":"'Crop Information'!B199","v":"New crop"},null,{"$f":"IFERROR(VLOOKUP(ROWS($M$2:M194),$J$2:$K$763,2,FALSE),\"\")","v":""}]
[null,null,null,null,null,null,null,null,null,{"$f":"IF(ISNUMBER(SEARCH('3 Irrigation Schedule'!$B$19,K195)),MAX($J$1:J194)+1,0)","v":0},{"$f":"'Crop Information'!B200","v":"New crop"},null,{"$f":"IFERROR(VLOOKUP(ROWS($M$2:M195),$J$2:$K$763,2,FALSE),\"\")","v":""}]
[null,null,null,null,null,null,null,null,null,{"$f":"IF(ISNUMBER(SEARCH('3 Irrigation Schedule'!$B$19,K196)),MAX($J$1:J195)+1,0)","v":0},{"$f":"'Crop Information'!B201","v":"New crop"},null,{"$f":"IFERROR(VLOOKUP(ROWS($M$2:M196),$J$2:$K$763,2,FALSE),\"\")","v":""}]
[null,null,null,null,null,null,null,null,null,{"$f":"IF(ISNUMBER(SEARCH('3 Irrigation Schedule'!$B$19,K197)),MAX($J$1:J196)+1,0)","v":0},{"$f":"'Crop Information'!B202","v":"New crop"},null,{"$f":"IFERROR(VLOOKUP(ROWS($M$2:M197),$J$2:$K$763,2,FALSE),\"\")","v":""}]
[null,null,null,null,null,null,null,null,null,{"$f":"IF(ISNUMBER(SEARCH('3 Irrigation Schedule'!$B$19,K198)),MAX($J$1:J197)+1,0)","v":0},{"$f":"'Crop Information'!B203","v":"New crop"},null,{"$f":"IFERROR(VLOOKUP(ROWS($M$2:M198),$J$2:$K$763,2,FALSE),\"\")","v":""}]
[null,null,null,null,null,null,null,null,null,{"$f":"IF(ISNUMBER(SEARCH('3 Irrigation Schedule'!$B$19,K199)),MAX($J$1:J198)+1,0)","v":0},{"$f":"'Crop Information'!B204","v":"New crop"},null,{"$f":"IFERROR(VLOOKUP(ROWS($M$2:M199),$J$2:$K$763,2,FALSE),\"\")","v":""}]
[null,null,null,null,null,null,null,null,null,{"$f":"IF(ISNUMBER(SEARCH('3 Irrigation Schedule'!$B$19,K200)),MAX($J$1:J199)+1,0)","v":0},{"$f":"'Crop Information'!B205","v":"New crop"},null,{"$f":"IFERROR(VLOOKUP(ROWS($M$2:M200),$J$2:$K$763,2,FALSE),\"\")","v":""}]
[null,null,null,null,null,null,null,null,null,{"$f":"IF(ISNUMBER(SEARCH('3 Irrigation Schedule'!$B$19,K201)),MAX($J$1:J200)+1,0)","v":0},{"$f":"'Crop Information'!B206","v":"New crop"},null,{"$f":"IFERROR(VLOOKUP(ROWS($M$2:M201),$J$2:$K$763,2,FALSE),\"\")","v":""}]
[null,null,null,null,null,null,null,null,null,{"$f":"IF(ISNUMBER(SEARCH('3 Irrigation Schedule'!$B$19,K202)),MAX($J$1:J201)+1,0)","v":0},{"$f":"'Crop Information'!B207","v":"New crop"},null,{"$f":"IFERROR(VLOOKUP(ROWS($M$2:M202),$J$2:$K$763,2,FALSE),\"\")","v":""}]
[null,null,null,null,null,null,null,null,null,{"$f":"IF(ISNUMBER(SEARCH('3 Irrigation Schedule'!$B$19,K203)),MAX($J$1:J202)+1,0)","v":0},{"$f":"'Crop Information'!B208","v":"New crop"},null,{"$f":"IFERROR(VLOOKUP(ROWS($M$2:M203),$J$2:$K$763,2,FALSE),\"\")","v":""}]
[null,null,null,null,null,null,null,null,null,{"$f":"IF(ISNUMBER(SEARCH('3 Irrigation Schedule'!$B$19,K204)),MAX($J$1:J203)+1,0)","v":0},{"$f":"'Crop Information'!B209","v":"New crop"},null,{"$f":"IFERROR(VLOOKUP(ROWS($M$2:M204),$J$2:$K$763,2,FALSE),\"\")","v":""}]
[null,null,null,null,null,null,null,null,null,{"$f":"IF(ISNUMBER(SEARCH('3 Irrigation Schedule'!$B$19,K205)),MAX($J$1:J204)+1,0)","v":0},{"$f":"'Crop Information'!B210","v":"New crop"},null,{"$f":"IFERROR(VLOOKUP(ROWS($M$2:M205),$J$2:$K$763,2,FALSE),\"\")","v":""}]
[null,null,null,null,null,null,null,null,null,{"$f":"IF(ISNUMBER(SEARCH('3 Irrigation Schedule'!$B$19,K206)),MAX($J$1:J205)+1,0)","v":0},{"$f":"'Crop Information'!B211","v":"New crop"},null,{"$f":"IFERROR(VLOOKUP(ROWS($M$2:M206),$J$2:$K$763,2,FALSE),\"\")","v":""}]
[null,null,null,null,null,null,null,null,null,{"$f":"IF(ISNUMBER(SEARCH('3 Irrigation Schedule'!$B$19,K207)),MAX($J$1:J206)+1,0)","v":0},{"$f":"'Crop Information'!B212","v":"New crop"},null,{"$f":"IFERROR(VLOOKUP(ROWS($M$2:M207),$J$2:$K$763,2,FALSE),\"\")","v":""}]
[null,null,null,null,null,null,null,null,null,{"$f":"IF(ISNUMBER(SEARCH('3 Irrigation Schedule'!$B$19,K208)),MAX($J$1:J207)+1,0)","v":0},{"$f":"'Crop Information'!B213","v":"New crop"},null,{"$f":"IFERROR(VLOOKUP(ROWS($M$2:M208),$J$2:$K$763,2,FALSE),\"\")","v":""}]
[null,null,null,null,null,null,null,null,null,{"$f":"IF(ISNUMBER(SEARCH('3 Irrigation Schedule'!$B$19,K209)),MAX($J$1:J208)+1,0)","v":0},{"$f":"'Crop Information'!B214","v":"New crop"},null,{"$f":"IFERROR(VLOOKUP(ROWS($M$2:M209),$J$2:$K$763,2,FALSE),\"\")","v":""}]
[null,null,null,null,null,null,null,null,null,{"$f":"IF(ISNUMBER(SEARCH('3 Irrigation Schedule'!$B$19,K210)),MAX($J$1:J209)+1,0)","v":0},{"$f":"'Crop Information'!B215","v":"New crop"},null,{"$f":"IFERROR(VLOOKUP(ROWS($M$2:M210),$J$2:$K$763,2,FALSE),\"\")","v":""}]
[null,null,null,null,null,null,null,null,null,{"$f":"IF(ISNUMBER(SEARCH('3 Irrigation Schedule'!$B$19,K211)),MAX($J$1:J210)+1,0)","v":0},{"$f":"'Crop Information'!B216","v":"New crop"},null,{"$f":"IFERROR(VLOOKUP(ROWS($M$2:M211),$J$2:$K$763,2,FALSE),\"\")","v":""}]