{"text_format":"1","workbook":"xlsx","n_sheets":12,"sheets":["READ ME","1 Geographic Data","2 Soil Texture Calculator","3 Irrigation Schedule","4 Summary","5 How this tool works","Crop Information","Translate","General Calculation","Crop Calculation Sheet","Soil Information-Calculations","Data Validation Sheet"],"not_rendered":{"charts":4,"images":19,"macros":1,"external_links":1,"defined_names":19,"comments":2,"pivot_tables":0},"unopened":[],"bounds":{"document_bytes":16777216,"sheet_cells":100000,"rows_first":2000,"rows_last":500,"rows_between":2000,"halvings":0,"cell_chars":16384,"cell_head_chars":4096},"cells_cut":0,"cells_raw":0,"read":"whole","date_system":"1900"}

{"sheet":"READ ME","index":0,"n_rows":112,"n_cols":7,"rows_kept":112,"cut":false,"hidden":false,"merged":[[52,3,54,9],[44,6,45,9],[44,3,45,5],[49,3,50,5],[49,6,50,9],[46,3,48,5],[46,6,48,9],[38,3,39,5],[38,6,39,9],[27,3,27,9],[28,3,28,9],[29,3,29,9],[30,3,30,9],[31,3,31,9],[34,3,35,9],[55,3,55,9],[59,3,60,4],[59,5,60,9],[10,3,10,5],[10,6,10,8],[36,3,37,5],[36,6,37,9],[40,6,43,9],[40,3,43,5],[12,3,12,9],[17,3,17,9],[19,3,19,9],[26,3,26,9],[33,3,33,9],[24,3,24,9],[20,3,23,9],[61,3,61,4],[61,5,61,7],[57,3,57,9],[88,3,101,9],[103,3,109,9],[58,3,58,4],[58,5,58,6],[111,3,111,5],[62,3,62,4],[62,5,62,9],[63,3,65,4],[63,5,64,9],[65,5,65,7],[66,3,66,4],[66,5,66,7],[68,3,86,9]]}
[]
[]
[]
[]
[]
[]
[]
[]
[]
[]
[null,null,null,{"$f":"Translate!$C$24","v":"Select language"},null,null,"English"]
[]
[null,null,null,{"$f":"Translate!$C$25","v":"Read Me Sheet"}]
[]
[]
[]
[]
[null,null,null,{"$f":"Translate!$C$26","v":"IRRIGATE – Soil Tool"}]
[]
[null,null,null,{"$f":"Translate!$C$27","v":"Introduction"}]
[null,null,null,{"$f":"Translate!$C$28","v":"This tool serves to determine your soil profile and to find an irrigation schedule for a selected crop. \nIt complements the \"SAFEGUARD WATER – Water Requirement Tool\". A further complimentary tool is available under: "}]
[]
[]
[]
[null,null,null,"http://www.fao.org/nr/water/aquastat/climateinfotool/index.stm"]
[]
[null,null,null,{"$f":"Translate!$C$29","v":"Tips & Tricks"}]
[null,null,null,{"$f":"Translate!$C30","v":"● Make sure that macro is always enabled for the proper functioning of this tool  "}]
[null,null,null,{"$f":"Translate!$C31","v":"● Only enter values into white cells"}]
[null,null,null,{"$f":"Translate!$C32","v":"● This tool comprises drop down lists and macros to simplify data entry and results review."}]
[null,null,null,{"$f":"Translate!$C33","v":"● For the multilanguage option to work properly, do NOT delete sheets"}]
[null,null,null,{"$f":"Translate!$C34","v":"● Make sure that this file is always saved as \".xlsm\"    \n"}]
[]
[null,null,null,{"$f":"Translate!$C$35","v":"Overview"}]
[null,null,null,{"$f":"Translate!$C$36","v":"This tool comprises the following sheet:"}]
[]
[null,null,null,{"$f":"Translate!$C$9","v":"1 Geographic Data"},null,null,{"$f":"Translate!$C$37","v":"for adding basic site information and entering climatic data"}]
[]
[null,null,null,{"$f":"Translate!$C$10","v":"2 Soil Texture Calculator"},null,null,{"$f":"Translate!$C$38","v":"for calculation of your soil type"}]
[]
[null,null,null,{"$f":"Translate!$C$11","v":"3 Irrigation Schedule"},null,null,{"$f":"Translate!$C$39","v":"for selecting a crop and planting period; for automatic calculation of water requirement for a single crop; for calculation of an irrigation schedule"}]
[]
[]
[]
[null,null,null,{"$f":"Translate!$C$12","v":"4 Summary"},null,null,{"$f":"Translate!$C$40","v":"Summary of outputs for irrigation quantity and frequency, and water storage requirements"}]
[]
[null,null,null,{"$f":"Translate!$C$13","v":"5 How this tool works"},null,null,{"$f":"Translate!$C$41","v":"for understanding the way this tool works and on which data it is based on"}]
[]
[]
[null,null,null,{"$f":"Translate!$C$14","v":"Crop Information"},null,null,{"$f":"Translate!$C$42","v":"for adjusting and adding the necessary crops information"}]
[]
[]
[null,null,null,{"$f":"Translate!$C$43","v":"This tool is based on the FAO Irrigation and Drainage Paper No. 56. Crop Evapotranspiration (guidelines for computing crop water requirements), available at:"}]
[]
[]
[null,null,null,"http://www.fao.org/3/x0490e/x0490e00.htm"]
[]
[null,null,null,{"$f":"Translate!$C$44","v":"About"}]
[null,null,null,{"$f":"Translate!$C$45","v":"Published by: "},null,{"$f":"Translate!$C$51","v":"GIZ & FAO"}]
[null,null,null,{"$f":"Translate!$C$46","v":"Resposible:"},null,{"$f":"Translate!$C$52","v":"GIZ project \"Water and Energy for Food (WE4F)\""}]
[]
[null,null,null,{"$f":"Translate!$C$47","v":"Contact:"},null,"we4f@giz.de"]
[null,null,null,{"$f":"Translate!$C$48","v":"Download link:"},null,"https://energypedia.info/wiki/Toolbox_on_SPIS"]
[null,null,null,{"$f":"Translate!$C$49","v":"About:"},null,{"$f":"Translate!$C$53","v":"Water and Energy for Food Grand Challenge at:  "}]
[]
[null,null,null,null,null,"https://we4f.org/"]
[null,null,null,{"$f":"Translate!$C$50","v":"Version:"},null,{"$f":"Translate!$C$54","v":"3.0 (June 2021)"}]
[]
[null,null,null,{"$f":"Translate!$C$55","v":"The Toolbox on Solar Powered Irrigation Systems (SPIS) is a legacy project of the global initiative Powering Agriculture: An Energy Grand Challenge for Development (PAEGC). In 2012, the United States Agency for International Development (USAID), the Swedish International Development Cooperation Agency (Sida), the German Federal Ministry for Economic Cooperation and Development (BMZ), Duke Energy, and the Overseas Private Investment Corporation (OPIC) combined resources to support new and sustainable approaches to accelerate the development and deployment of clean energy solutions for increasing agriculture productivity.\n\nThe Toolbox on SPIS has now been embraced for further development by PAEGC's successor program Water and Energy for Food (WE4F). WE4F is a joint international initiative of the European Union (EU), the German Federal Ministry for Economic Cooperation and Development (BMZ), the Ministry of Foreign Affairs of the Kingdom of the Netherlands, Sweden through the Swedish International Development Cooperation Agency (Sida), and the U.S. Agency for International Development (USAID). WE4F aims to increase food production along the value chain through a more sustainable and efficient usage of water and/or energy."}]
[]
[]
[]
[]
[]
[]
[]
[]
[]
[]
[]
[]
[]
[]
[]
[]
[]
[]
[]
[null,null,null,{"$f":"Translate!$C$56","v":"The designations employed and the presentation of material in this information product do not imply the expression of any opinion whatsoever on the part of Deutsche Gesellschaft für Internationale Zusammenarbeit (GIZ) GmbH, Food and Agriculture Organization of the United Nations (FAO) or any of the PAEGC Founding Partners concerning the legal or development status of any country, territory, city or area or of its authorities, or concerning the delimitation of its frontiers or boundaries. The mention of specific companies or products of manufacturers, whether or not these have been patented, does not imply that these have been endorsed or recommended by GIZ, FAO, or any of the PAEGC Founding Partners in preference to others of a similar nature that are not mentioned. The views expressed in this information product are those of the author and do not necessarily reflect the views or policies of GIZ, FAO, or any of the PAEGC Founding Partners."}]
[]
[]
[]
[]
[]
[]
[]
[]
[]
[]
[]
[]
[]
[]
[null,null,null,{"$f":"Translate!$C$57","v":"GIZ, FAO and the PAEGC Founding Partners encourage the use, reproduction and dissemination of material in this information product. Except where otherwise indicated, material may be copied, downloaded and printed for private study, research and teaching purposes, or for use in non-commercial products or services, provided that appropriate acknowledgement of GIZ and FAO as the source and copyright holder is given."}]
[]
[]
[]
[]
[]
[]
[]
[null,null,null,{"$f":"Translate!$C$58","v":"© GIZ and FAO, 2021"}]

{"sheet":"1 Geographic Data","index":1,"n_rows":56,"n_cols":14,"rows_kept":56,"cut":false,"hidden":false,"merged":[[55,0,55,2],[10,2,10,4],[11,2,11,4],[12,2,12,4],[6,2,6,4],[9,2,9,9],[35,5,35,7],[36,4,36,5],[37,4,37,5],[55,3,55,5],[15,0,15,1],[16,2,16,8],[17,2,17,8],[18,2,18,9],[19,2,19,7],[30,0,30,7],[31,6,31,8],[31,9,31,12],[39,9,39,13],[0,0,0,14],[3,0,4,14],[7,2,7,4],[1,0,1,14],[6,7,6,9],[7,7,7,9]]}
[{"$f":"Translate!$C$72","v":"IRRIGATE – Soil Tool"}]
[{"$f":"Translate!$C$73","v":"Enter basic rainfall and climatic data for you location."}]
[]
[{"$f":"Translate!$C$74","v":"1 GENERAL GEOGRAPHIC INFORMATION"}]
[]
[]
[{"$f":"Translate!$C$75","v":"Country"},null,"Kenya",null,null,null,{"$f":"Translate!$C$77","v":"Region"}]
[{"$f":"Translate!$C$76","v":"Farm code"},null,null,null,null,null,{"$f":"Translate!$C$78","v":"Date"}]
[]
[{"$f":"Translate!$C$79","v":"Name of the farm"},null,"Mary"]
[{"$f":"Translate!$C$80","v":"Village"}]
[{"$f":"Translate!$C$81","v":"Division"}]
[{"$f":"Translate!$C$82","v":"District"}]
[]
[]
[{"$f":"Translate!$C$83","v":"Select available climatic data:"}]
[{"$f":"Translate!$C$84","v":"Option 1:  "},null,{"$f":"Translate!C85","v":"Only mean temperature"}]
[{"$f":"Translate!$C$86","v":"Option 2:  "},null,{"$f":"Translate!$C$87","v":"Maximum and minimum temperature"}]
[{"$f":"Translate!$C$88","v":"Option 3:  "},null,{"$f":"Translate!$C$89","v":"Maximum and minimum temperature; humidity; wind speed; and sun hours "}]
[{"$f":"Translate!$C$90","v":"Option 4:  "},null,{"$f":"Translate!$C$91","v":"Reference evapotranspiration"}]
[]
[null,null,{"$f":"TRANSPOSE(Translate!$C$60:$C$71)","v":"January"},"February","March","April","May","June","July","August","September","October","November","December"]
[{"$f":"Translate!$C$92","v":"Mean daily temperature [°C]"},null,25.5,25,24.6,23.8,23.9,23.5,23,23,23.6,23.9,23.6,24]
[{"$f":"Translate!$C$93","v":"Maximum daily temperature [°C]"}]
[{"$f":"Translate!$C$94","v":"Minimum daily temperature [°C]"}]
[{"$f":"Translate!$C$95","v":"Relative humidity [%]"}]
[{"$f":"Translate!$C$96","v":"Wind speed [m/s]"}]
[{"$f":"Translate!$C$97","v":"Sunshine [hours]"}]
[{"$f":"Translate!$C$98","v":"Reference evapotranspiration [mm/day]"}]
[{"$f":"Translate!$C$99","v":"Rainfall [mm/month]"},null,45,33,69.3,142.80000000000001,109.8,38.1,27,21.6,18.3,48.3,97.2,86.1]
[{"$f":"Translate!$C$100","v":"Use the following links to obtain indicative monthly rainfall and climatic data for the site:"}]
[null,null,null,null,null,null,"http://www.worldclimate.com",null,null,"http://www.weatherbase.com/"]
[]
[{"$f":"Translate!$C$101","v":"Select geographic location:"}]
[null,null,{"$f":"Translate!$C$112","v":"Altitude:"},null,{"$f":"Translate!$C$113","v":" meter"}]
[null,null,null,null,null,{"$f":"Translate!$C$105","v":"Hemisphere:"}]
[null,null,{"$f":"Translate!$C$102","v":"Latitude:"},3.33,{"$f":"Translate!$C$104","v":" decimal degree"},null,"North"]
[null,null,{"$f":"Translate!$C$103","v":"Longitude:"},38.549999999999997,{"$f":"Translate!$C$104","v":" decimal degree"},null,"East"]
[]
[null,null,null,null,null,null,null,null,null,{"$f":"Translate!$C$110","v":"Notes:"}]
[]
[]
[]
[]
[]
[]
[]
[]
[]
[]
[]
[]
[]
[]
[]
[{"$f":"Translate!$C$111","v":"Use the link to identify the exact coordinates of the site:"},null,null,"https://www.google.de/maps"]

{"sheet":"2 Soil Texture Calculator","index":2,"n_rows":47,"n_cols":16,"rows_kept":47,"cut":false,"hidden":false,"merged":[[0,0,0,18],[1,0,1,18],[9,1,9,3],[12,1,12,3],[5,15,5,18],[10,6,13,8],[3,0,4,18],[5,12,5,14],[46,10,46,12],[30,1,30,4],[32,1,32,4],[46,13,46,17],[41,1,43,8],[15,1,15,3],[20,1,20,3],[38,1,39,8],[36,1,36,2],[28,1,28,8],[20,4,20,7]]}
[{"$f":"Translate!$C$115","v":"IRRIGATE – Soil Tool"}]
[{"$f":"Translate!$C$116","v":"Put in values to determine your soil type"}]
[]
[{"$f":"Translate!$C$117","v":"2 SOIL TEXTURE CALCULATOR"}]
[]
[null,null,null,null,null,null,null,null,null,null,null,null,{"$f":"Translate!$C$118","v":"Farm code/name:"},null,null,{"$f":"'1 Geographic Data'!$C$10","v":"Mary"}]
[]
[]
[]
[null,{"$f":"Translate!$C$119","v":"Percentage of sand:"},null,null,0.15]
[null,null,null,null,null,null,{"$f":"IF(E10+E13>1,Translate!$C$529,\"\")","v":""}]
[]
[null,{"$f":"Translate!$C$120","v":"Percentage of clay:"},null,null,0.3]
[]
[]
[null,{"$f":"Translate!$C$121","v":"Percentage of silt:"},null,null,{"$f":"IF(1-E10-E13<0,\"\",1-E10-E13)","v":0.55000000000000004}]
[]
[]
[]
[]
[null,{"$f":"Translate!$C$122","v":"Soil Texture:"},null,null,{"$f":"IFERROR(IF(E10+E13>1,\"\",VLOOKUP(TRUE,'Soil Information-Calculations'!$D$4:$E$15,2,FALSE)),Translate!$C$530)","v":"SILTY CLAY LOAM"}]
[]
[]
[]
[]
[]
[]
[]
[null,{"$f":"Translate!C155&\" \"&IFERROR(VLOOKUP($E$21,'Soil Information-Calculations'!$B$23:$D$34,1,FALSE),\"\")","v":"Characteristics of soils of the type: Silty clay loam"}]
[]
[null,{"$f":"Translate!$C$123","v":"Field Capacity (FC):"},null,null,null,{"$f":"IFERROR(VLOOKUP($E$21,'Soil Information-Calculations'!$B$23:$D$34,2,FALSE),\"\")","v":38}]
[]
[null,{"$f":"Translate!$C$124","v":"Permanent Wilting Point (PWP):"},null,null,null,{"$f":"IFERROR(VLOOKUP($E$21,'Soil Information-Calculations'!$B$23:$D$34,3,FALSE),\"\")","v":22}]
[]
[]
[]
[null,{"$f":"Translate!$C$125","v":"Definitions:"}]
[]
[null,{"$f":"Translate!$C$126","v":"Field Capacity is the amount of soil moisture or water content held in the soil after excess water has drained."}]
[]
[]
[null,{"$f":"Translate!$C$127","v":"Permanent wilting point is the minimal point of soil moisture the plant requires not to wilt."}]
[]
[]
[]
[]
[null,null,null,null,null,null,null,null,null,null,{"$f":"Translate!$C$128","v":"Calculator adapted from:"},null,null,{"$f":"Translate!C129","v":"United States Department of Agriculture"}]

{"sheet":"3 Irrigation Schedule","index":3,"n_rows":42,"n_cols":21,"rows_kept":42,"cut":false,"hidden":false,"merged":[[41,1,41,2],[23,0,33,0],[35,12,35,14],[17,1,17,2],[18,8,18,10],[38,1,38,2],[39,1,39,2],[15,0,20,0],[18,1,18,2],[16,6,16,7],[35,1,35,2],[35,3,35,5],[35,6,35,7],[35,8,35,10],[0,0,0,17],[3,0,4,17],[1,0,1,17],[12,1,12,2],[11,1,11,2],[7,4,7,6],[5,11,5,13],[5,14,5,17],[24,19,24,20],[16,8,16,10],[16,11,16,12],[16,13,16,16],[13,1,14,2],[15,19,16,20]]}
[{"$f":"Translate!C157","v":"IRRIGATE – Soil Tool"}]
[{"$f":"Translate!$C$158","v":"Select crop intended for planting at your location, for automatic indication of water requirements"}]
[]
[{"$f":"Translate!$C$159","v":"3 IRRIGATION SCHEDULE"}]
[]
[null,null,null,null,null,null,null,null,null,null,null,{"$f":"Translate!$C$160","v":"Farm code/name:"},null,null,{"$f":"'1 Geographic Data'!$C$10","v":"Mary"}]
[]
[null,{"$f":"Translate!$C$162","v":"Area measurement unit: "},"ha",null,{"$f":"Translate!$C$161","v":"Conversion factor to 1 ha:"},null,null,{"$f":"INDEX('Data Validation Sheet'!C1:$C$6,MATCH($C$8,'Data Validation Sheet'!$B$1:$B$6,0))","v":1}]
[]
[]
[null,null,null,{"$f":"'General Calculation'!D132","v":"March"},{"$f":"'General Calculation'!E132","v":"April"},{"$f":"'General Calculation'!F132","v":"May"},{"$f":"'General Calculation'!G132","v":"June"},{"$f":"'General Calculation'!H132","v":"July"},{"$f":"'General Calculation'!I132","v":"August"},{"$f":"'General Calculation'!J132","v":"September"},{"$f":"'General Calculation'!K132","v":"October"},{"$f":"'General Calculation'!L132","v":"November"},{"$f":"'General Calculation'!M132","v":"December"},{"$f":"'General Calculation'!N132","v":"January"},{"$f":"'General Calculation'!O132","v":"February"}]
[null,{"$f":"'1 Geographic Data'!A23","v":"Mean daily temperature [°C]"},null,{"$f":"'General Calculation'!D126","v":24.6},{"$f":"'General Calculation'!E126","v":23.8},{"$f":"'General Calculation'!F126","v":23.9},{"$f":"'General Calculation'!G126","v":23.5},{"$f":"'General Calculation'!H126","v":23},{"$f":"'General Calculation'!I126","v":23},{"$f":"'General Calculation'!J126","v":23.6},{"$f":"'General Calculation'!K126","v":23.9},{"$f":"'General Calculation'!L126","v":23.6},{"$f":"'General Calculation'!M126","v":24},{"$f":"'General Calculation'!N126","v":25.5},{"$f":"'General Calculation'!O126","v":25},{"$f":"Translate!$C$170","v":"°C"},{"$f":"Translate!$C$172","v":"Above average temperature"}]
[null,{"$f":"'1 Geographic Data'!A30","v":"Rainfall [mm/month]"},null,{"$f":"'General Calculation'!D127","v":69.3},{"$f":"'General Calculation'!E127","v":142.80000000000001},{"$f":"'General Calculation'!F127","v":109.8},{"$f":"'General Calculation'!G127","v":38.1},{"$f":"'General Calculation'!H127","v":27},{"$f":"'General Calculation'!I127","v":21.6},{"$f":"'General Calculation'!J127","v":18.3},{"$f":"'General Calculation'!K127","v":48.3},{"$f":"'General Calculation'!L127","v":97.2},{"$f":"'General Calculation'!M127","v":86.1},{"$f":"'General Calculation'!N127","v":45},{"$f":"'General Calculation'!O127","v":33},{"$f":"Translate!$C$171","v":"mm/month"},{"$f":"Translate!$C$173","v":"Above average rainfall"}]
[null,{"$f":"Translate!C233&\" \"&'Crop Calculation Sheet'!$H$17 &\" \"&Translate!C234","v":"Gross irrigation water requirement for  [mm/month]"},null,{"$f":"'General Calculation'!D133","v":0},{"$f":"'General Calculation'!E133","v":0},{"$f":"'General Calculation'!F133","v":0},{"$f":"'General Calculation'!G133","v":0},{"$f":"'General Calculation'!H133","v":0},{"$f":"'General Calculation'!I133","v":0},{"$f":"'General Calculation'!J133","v":0},{"$f":"'General Calculation'!K133","v":0},{"$f":"'General Calculation'!L133","v":0},{"$f":"'General Calculation'!M133","v":0},{"$f":"'General Calculation'!N133","v":0},{"$f":"'General Calculation'!O133","v":0},{"$f":"Translate!$C$171","v":"mm/month"}]
[]
[{"$f":"Translate!C174","v":"Estimation of crop uptake"},null,null,null,null,null,null,null,null,null,null,null,null,null,null,null,null,null,null,{"$f":"Translate!$C$196","v":"Indicative values for application depths of the various irrigation methods"}]
[null,{"$f":"Translate!$C$175","v":"Crop to be irrigated "},null,null,{"$f":"Translate!$C$176","v":"Area"},null,{"$f":"Translate!$C$177","v":"Planting Date"},null,{"$f":"Translate!$C$178","v":"Irrigation method"},null,null,{"$f":"Translate!$C$179","v":"Irrigation Efficiency"},null,{"$f":"Translate!$C$180","v":"Maximum possible irrigation application"}]
[null,null,null,null,{"$f":"$C$8","v":"ha"},null,{"$f":"TODAY()","v":"2021-08-02"},null,null,null,null,null,null,null,null,null,null,null,null,{"$f":"Translate!$C$178","v":"Irrigation method"},{"$f":"Translate!$C$197","v":"Application Depth (mm)"}]
[null,null,null,null,1,null,"2020-03-15",null,null,null,null,null,{"$f":"IFERROR(VLOOKUP($I$19,'General Calculation'!$B$142:$C$159,2,FALSE)/100,\"\")","v":""},null,null,10,{"$f":"Translate!$C$204","v":"mm"},null,null,{"$f":"Translate!C198","v":"Small basins (<200 m2)"},"40 - 80"]
[null,null,null,null,null,null,null,null,null,null,null,null,null,null,null,null,null,null,null,{"$f":"Translate!$C$199","v":"Large basins (>500 m2)"},"80 - 150 "]
[null,null,null,null,null,null,null,null,null,null,null,null,null,null,null,null,null,null,null,{"$f":"Translate!$C$200","v":"Furrows"},"30 - 60"]
[null,null,null,null,null,null,null,null,null,null,null,null,null,null,null,null,null,null,null,{"$f":"Translate!$C$201","v":"Borders"},"40 - 80 "]
[null,null,null,null,null,null,null,null,null,null,null,null,null,null,null,null,null,null,null,{"$f":"Translate!$C$202","v":"Sprinkler"},"30 - 60 "]
[{"$f":"Translate!$C$205","v":"Estimation of soil reservoir"},null,null,null,null,null,null,null,null,null,null,null,null,null,null,null,null,null,null,{"$f":"Translate!$C$203","v":"Drip"},"10 - 20 "]
[null,{"$f":"Translate!$C$206","v":"Soil: "},null,null,null,null,null,null,null,null,null,null,null,null,null,null,null,null,null,"http://www.fao.org/tempref/agl/AGLW/Morini/07_IRRIGATION.pdf"]
[]
[null,{"$f":"Translate!$C$207","v":"Initial water content (% TAW): "},0.5]
[]
[null,{"$f":"Translate!$C$208","v":"Field Capacity (FC):"},{"$f":"IFERROR(VLOOKUP($C$25,'Soil Information-Calculations'!$B$23:$D$34,2,FALSE),\"\")","v":""}]
[]
[null,{"$f":"Translate!$C$209","v":"Permanent Wilting Point (PWP):"},{"$f":"IFERROR(VLOOKUP($C$25,'Soil Information-Calculations'!$B$23:$D$34,3,FALSE),\"\")","v":""}]
[]
[null,{"$f":"Translate!$C$210","v":"Maximum rooting depth [m]: "},{"$f":"'Crop Calculation Sheet'!$M$28","v":1.2}]
[]
[]
[null,{"$f":"Translate!$C$221","v":"Irrigation Schedule for"},null,{"$f":"'Crop Calculation Sheet'!$H$17","v":""},null,null,{"$f":"Translate!$C$222","v":"for soil type"},null,{"$f":"C25","v":0},null,null,{"$f":"Translate!$C$223","v":"in"},{"$f":"'1 Geographic Data'!$C$7","v":"Kenya"}]
[]
[null,null,null,{"$f":"D11","v":"March"},{"$f":"E11","v":"April"},"May","June","July","August","September","October","November","December","January","February"]
[null,{"$f":"Translate!$C$224","v":"Irrigation amount (m³):  "},null,{"$f":"'General Calculation'!D134","v":0},{"$f":"'General Calculation'!E134","v":0},{"$f":"'General Calculation'!F134","v":0},{"$f":"'General Calculation'!G134","v":0},{"$f":"'General Calculation'!H134","v":0},{"$f":"'General Calculation'!I134","v":0},{"$f":"'General Calculation'!J134","v":0},{"$f":"'General Calculation'!K134","v":0},{"$f":"'General Calculation'!L134","v":0},{"$f":"'General Calculation'!M134","v":0},{"$f":"'General Calculation'!N134","v":0},{"$f":"'General Calculation'!O134","v":0}]
[null,{"$f":"Translate!$C$225","v":"Number of irrigation events (number of days):  "},null,{"$f":"'General Calculation'!D137","v":0},{"$f":"'General Calculation'!E137","v":0},{"$f":"'General Calculation'!F137","v":0},{"$f":"'General Calculation'!G137","v":0},{"$f":"'General Calculation'!H137","v":0},{"$f":"'General Calculation'!I137","v":0},{"$f":"'General Calculation'!J137","v":0},{"$f":"'General Calculation'!K137","v":0},{"$f":"'General Calculation'!L137","v":0},{"$f":"'General Calculation'!M137","v":0},{"$f":"'General Calculation'!N137","v":0},{"$f":"'General Calculation'!O137","v":0}]
[]
[null,{"$f":"Translate!$C$226","v":"Minimum water storage reservoir capacity for an irrigation event [m³]:"},null,{"$f":"'General Calculation'!D136","v":0},{"$f":"'General Calculation'!E136","v":0},{"$f":"'General Calculation'!F136","v":0},{"$f":"'General Calculation'!G136","v":0},{"$f":"'General Calculation'!H136","v":0},{"$f":"'General Calculation'!I136","v":0},{"$f":"'General Calculation'!J136","v":0},{"$f":"'General Calculation'!K136","v":0},{"$f":"'General Calculation'!L136","v":0},{"$f":"'General Calculation'!M136","v":0},{"$f":"'General Calculation'!N136","v":0},{"$f":"'General Calculation'!O136","v":0}]

{"sheet":"4 Summary","index":4,"n_rows":18,"n_cols":16,"rows_kept":18,"cut":false,"hidden":false,"merged":[[11,1,11,6],[17,1,17,9],[7,3,7,5],[8,3,8,5],[9,3,9,5],[7,7,7,10],[8,7,8,10],[9,7,9,10],[14,1,15,2],[11,7,11,8],[13,1,13,3],[9,0,9,2],[8,0,8,2],[7,0,7,2],[11,9,11,10],[0,0,0,17],[1,0,1,17],[3,0,4,17],[5,10,5,12],[5,13,5,17]]}
[{"$f":"Translate!$C$237","v":"IRRIGATE – Soil Tool"}]
[{"$f":"Translate!$C$238","v":"Summary of Crop Water Requirements"}]
[]
[{"$f":"Translate!$C$239","v":"4 Summary"}]
[]
[null,null,null,null,null,null,null,null,null,null,{"$f":"Translate!$C$240","v":"Farm code/name:"},null,null,{"$f":"'1 Geographic Data'!$C$10","v":"Mary"}]
[]
[{"$f":"Translate!$C$241","v":"Soil type:"},null,null,{"$f":"'2 Soil Texture Calculator'!E21","v":"SILTY CLAY LOAM"},null,null,{"$f":"Translate!$C$244","v":"from sheet:"},{"$f":"Translate!$C$245","v":"Soil texture calculator"}]
[{"$f":"Translate!$C$242","v":"Selected soil type:"},null,null,{"$f":"'3 Irrigation Schedule'!C25","v":0},null,null,{"$f":"Translate!$C$244","v":"from sheet:"},{"$f":"Translate!$C$246","v":"Irrigation schedule"}]
[{"$f":"Translate!$C$243","v":"Crop root depth:"},null,null,{"$f":"'3 Irrigation Schedule'!C33","v":1.2},null,null,{"$f":"Translate!$C$244","v":"from sheet:"},{"$f":"Translate!$C$246","v":"Irrigation schedule"}]
[]
[null,{"$f":"Translate!$C$249","v":"Irrigation quantity and number of irrigation events:"},null,null,null,null,null,{"$f":"Translate!$C$248&\" \" & '3 Irrigation Schedule'!$C$8 &\": \"","v":"Area in ha: "},null,{"$f":"'3 Irrigation Schedule'!$E$19","v":1}]
[]
[null,{"$f":"Translate!$C$247","v":"Crop"},null,null,{"$f":"'3 Irrigation Schedule'!D38","v":"March"},{"$f":"'3 Irrigation Schedule'!E38","v":"April"},{"$f":"'3 Irrigation Schedule'!F38","v":"May"},{"$f":"'3 Irrigation Schedule'!G38","v":"June"},{"$f":"'3 Irrigation Schedule'!H38","v":"July"},{"$f":"'3 Irrigation Schedule'!I38","v":"August"},{"$f":"'3 Irrigation Schedule'!J38","v":"September"},{"$f":"'3 Irrigation Schedule'!K38","v":"October"},{"$f":"'3 Irrigation Schedule'!L38","v":"November"},{"$f":"'3 Irrigation Schedule'!M38","v":"December"},{"$f":"'3 Irrigation Schedule'!N38","v":"January"},{"$f":"'3 Irrigation Schedule'!O38","v":"February"}]
[null,{"$f":"'Crop Calculation Sheet'!$H$17","v":""},null,{"$f":"Translate!$C$250","v":"m3/month"},{"$f":"'3 Irrigation Schedule'!D39","v":0},{"$f":"'3 Irrigation Schedule'!E39","v":0},{"$f":"'3 Irrigation Schedule'!F39","v":0},{"$f":"'3 Irrigation Schedule'!G39","v":0},{"$f":"'3 Irrigation Schedule'!H39","v":0},{"$f":"'3 Irrigation Schedule'!I39","v":0},{"$f":"'3 Irrigation Schedule'!J39","v":0},{"$f":"'3 Irrigation Schedule'!K39","v":0},{"$f":"'3 Irrigation Schedule'!L39","v":0},{"$f":"'3 Irrigation Schedule'!M39","v":0},{"$f":"'3 Irrigation Schedule'!N39","v":0},{"$f":"'3 Irrigation Schedule'!O39","v":0}]
[null,null,null,{"$f":"Translate!$C$251","v":"№ of events"},{"$f":"'3 Irrigation Schedule'!D40","v":0},{"$f":"'3 Irrigation Schedule'!E40","v":0},{"$f":"'3 Irrigation Schedule'!F40","v":0},{"$f":"'3 Irrigation Schedule'!G40","v":0},{"$f":"'3 Irrigation Schedule'!H40","v":0},{"$f":"'3 Irrigation Schedule'!I40","v":0},{"$f":"'3 Irrigation Schedule'!J40","v":0},{"$f":"'3 Irrigation Schedule'!K40","v":0},{"$f":"'3 Irrigation Schedule'!L40","v":0},{"$f":"'3 Irrigation Schedule'!M40","v":0},{"$f":"'3 Irrigation Schedule'!N40","v":0},{"$f":"'3 Irrigation Schedule'!O40","v":0}]
[]
[null,{"$f":"Translate!C252","v":"Required water storage reservoir capacity for an irrigation event:"},null,null,null,null,null,null,null,null,{"$f":"MAX('3 Irrigation Schedule'!D42:O42)","v":0},{"$f":"Translate!$C$253","v":"m3"}]

{"sheet":"5 How this tool works","index":5,"n_rows":152,"n_cols":40,"rows_kept":152,"cut":false,"hidden":false,"merged":[[150,5,150,50],[151,5,151,47],[62,4,62,38],[133,6,133,51],[134,6,134,51],[144,23,144,33],[95,1,96,35],[112,5,113,34],[128,5,128,23],[129,5,129,23],[130,6,130,51],[131,6,131,51],[132,6,132,51],[90,8,90,20],[90,21,90,32],[94,2,94,16],[0,0,1,52],[97,12,97,26],[21,11,21,15],[3,4,4,46],[5,2,5,6],[7,7,7,22],[8,7,8,22],[9,7,9,22],[13,2,13,13],[16,3,18,31],[19,4,19,9],[20,4,20,9],[21,4,21,9],[38,3,38,19],[23,3,24,31],[27,34,27,50],[31,3,31,8],[31,9,31,14],[31,15,31,25],[33,16,33,20],[34,16,34,20],[35,16,35,20],[36,16,36,20],[38,20,38,22],[33,3,33,6],[34,3,34,6],[35,3,35,6],[36,3,36,6],[33,10,33,14],[34,10,34,14],[35,10,35,14],[36,10,36,14],[47,28,47,51],[48,28,48,51],[54,2,54,16],[59,3,59,36],[60,4,60,33],[57,3,58,51],[61,4,61,33],[63,4,63,33],[64,4,64,33],[67,3,68,35],[74,39,74,48],[126,6,126,48],[109,3,109,30],[109,33,109,48],[111,5,111,33],[114,5,114,50]]}
[{"$f":"Translate!$C$255","v":"How the Soil Tool works"}]
[]
[]
[null,null,null,null,{"$f":"Translate!$C$256","v":"This tool is based on the Water Requirement Tool. To understand how the water requirement is calculated, please check the  Water Requirement Tool. "}]
[]
[null,null,{"$f":"Translate!$C$257","v":"Overview "}]
[]
[null,null,null,null,null,1,null,{"$f":"Translate!$C$258","v":"The soil type"}]
[null,null,null,null,null,2,null,{"$f":"Translate!$C$259","v":"Determination the soil type"}]
[null,null,null,null,null,"3",null,{"$f":"Translate!$C$260","v":"Calculation of the irrigation schedule"}]
[]
[]
[]
[1,null,{"$f":"Translate!$C$258","v":"The soil type"}]
[]
[]
[null,null,null,{"$f":"Translate!$C$261","v":"The soil type is an important factor in determining how fast and how often irrigation should be scheduled. Like a sponge, the soil absorbs and holds water, depending on the percentage of the three main components: "}]
[]
[]
[null,null,null,null,{"$f":"Translate!$C$262","v":"Sand"}]
[null,null,null,null,{"$f":"Translate!$C$263","v":"Silt "}]
[null,null,null,null,{"$f":"Translate!$C$264","v":"Clay"}]
[]
[null,null,null,{"$f":"Translate!$C$265","v":"With different percentages of the main components, the soil type changes it's bevavior, as shown in table 2. "}]
[]
[]
[]
[null,null,null,null,null,null,null,null,null,null,null,null,null,null,null,null,null,null,null,null,null,null,null,null,null,null,null,null,null,null,null,null,null,null,{"$f":"Translate!$C$282","v":"Figure 1: Water distribution in different soil types"}]
[]
[]
[]
[null,null,null,{"$f":"Translate!$C$266","v":"Name of the particle"},null,null,null,null,null,{"$f":"Translate!$C$267","v":"Size limit in mm"},null,null,null,null,null,{"$f":"Translate!$C$268","v":"Distinguisable with the naked eye"}]
[]
[null,null,null,{"$f":"Translate!$C$269","v":"gravel"},null,null,null,null,null,null,{"$f":"Translate!$C$273","v":"larger than 1"},null,null,null,null,null,{"$f":"Translate!$C$277","v":"obviously"}]
[null,null,null,{"$f":"Translate!$C$270","v":"sand"},null,null,null,null,null,null,{"$f":"Translate!$C$274","v":"1 to 0.5"},null,null,null,null,null,{"$f":"Translate!$C$278","v":"easily"}]
[null,null,null,{"$f":"Translate!$C$271","v":"silt"},null,null,null,null,null,null,{"$f":"Translate!$C$275","v":"0.5 to 0.002"},null,null,null,null,null,{"$f":"Translate!$C$279","v":"barely"}]
[null,null,null,{"$f":"Translate!$C$272","v":"clay"},null,null,null,null,null,null,{"$f":"Translate!$C$276","v":"less than 0.002"},null,null,null,null,null,{"$f":"Translate!$C$280","v":"impossible"}]
[]
[null,null,null,{"$f":"Translate!$C$281","v":"Table 1: Classification of mineral particles, from: "},null,null,null,null,null,null,null,null,null,null,null,null,null,null,null,null,"FAO"]
[]
[]
[]
[]
[]
[]
[]
[]
[null,null,null,null,null,null,null,null,null,null,null,null,null,null,null,null,null,null,null,null,null,null,null,null,null,null,null,null,{"$f":"Translate!$C$283","v":"Table 2: Characteristics of the different soil components, from:"}]
[null,null,null,null,null,null,null,null,null,null,null,null,null,null,null,null,null,null,null,null,null,null,null,null,null,null,null,null,"Michigan State University"]
[]
[]
[]
[]
[]
[2,null,{"$f":"Translate!$C$259","v":"Determination the soil type"}]
[]
[]
[null,null,null,{"$f":"Translate!$C$284","v":"The soil type can be determined in the laboratory using a particle size analysis. Sand, silt and clay have different diameters, by sieving them their distribution delivers information about the soil type. "}]
[]
[null,null,null,{"$f":"Translate!$C$285","v":"Another way to determine the soil type is the \"Jar Test\": "}]
[null,null,null,1,{"$f":"Translate!$C$286","v":"Remove soil from the zone to be irrigated"}]
[null,null,null,2,{"$f":"Translate!$C$287","v":"Place the soil sample into the jar and fill it with water"}]
[null,null,null,3,{"$f":"Translate!$C$288","v":"Shake the jar and let it sit for two hours, the particles will settle to the bottom, in their different layers"}]
[null,null,null,4,{"$f":"Translate!$C$289","v":"Measure the total height of all layers, than the height of each layer. "}]
[null,null,null,5,{"$f":"Translate!$C$290","v":"Divide the height of each layer by the total height which gives you the percentage of clay, silt and sand. "}]
[]
[]
[null,null,null,{"$f":"Translate!$C$291","v":"Putting in the obtained percentages of clay, silt and sand, soil texture triangles as seen in Figure 3 show the type of soil you have. "}]
[]
[]
[]
[]
[]
[]
[null,null,null,null,null,null,null,null,null,null,null,null,null,null,null,null,null,null,null,null,null,null,null,null,null,null,null,null,null,null,null,null,null,null,null,null,null,null,null,{"$f":"Translate!$C$292","v":"Figure 2: The Jar Test"}]
[]
[]
[]
[]
[]
[]
[]
[]
[]
[]
[]
[]
[]
[]
[]
[null,null,null,null,null,null,null,null,{"$f":"Translate!$C$294","v":"Figure 3: The Soil Texture Triangle from:"},null,null,null,null,null,null,null,null,null,null,null,null,"United States Department of Agriculture"]
[]
[]
[]
[3,null,{"$f":"Translate!$C$260","v":"Calculation of the irrigation schedule"}]
[null,{"$f":"Translate!$C$295","v":"This tool is based on the FAO Irrigation and Drainage Paper No. 56. Crop Evapotranspiration (guidelines for computing crop water requirements), available at:"}]
[]
[null,null,null,null,null,null,null,null,null,null,null,null,"http://www.fao.org/docrep/t7202e/t7202e00.htm"]
[]
[]
[]
[]
[]
[]
[]
[]
[]
[]
[]
[null,null,null,{"$f":"Translate!$C$296","v":"Soil water balance is estimated on a daily basis using the following steps:"},null,null,null,null,null,null,null,null,null,null,null,null,null,null,null,null,null,null,null,null,null,null,null,null,null,null,null,null,null,{"$f":"Translate!$C$297","v":"Figure 4: Soil water balance components"}]
[]
[null,null,null,null,1,{"$f":"Translate!$C$298","v":"Calculate daily reference evapotranspiration"}]
[null,null,null,null,2,{"$f":"Translate!$C$299","v":"Calculate Total Available Water (TAW) in the root zone considering the Field Capacity (FC), the Permanent Wilting Point (PWP), and the rooting depth"}]
[]
[null,null,null,null,3,{"$f":"Translate!$C$300","v":"Calculate Readily Available Water (RAW) considering the depletion factor;"}]
[]
[]
[]
[]
[]
[]
[]
[]
[]
[]
[]
[null,null,null,null,null,null,{"$f":"Translate!$C$301","v":"Table 2: Example for ranges of maximum effective rooting depth and soil water depletion fraction for no stress"}]
[]
[null,null,null,null,4,{"$f":"Translate!$C$302","v":"Calculate water stress coefficient"}]
[null,null,null,null,5,{"$f":"Translate!$C$303","v":"Calculate daily soil water balance "}]
[null,null,null,null,null,"*",{"$f":"Translate!$C$304","v":"estimating daily root zone depletion "}]
[null,null,null,null,null,"*",{"$f":"Translate!$C$305","v":"when the depletion exceeds a certain threshold, it is time to irrigate"}]
[null,null,null,null,null,"*",{"$f":"Translate!$C$306","v":"if the maximum possible irrigation method application is lower than RAW, then the threshold is the maximum application for the irrigation system"}]
[null,null,null,null,null,"*",{"$f":"Translate!$C$307","v":"else if the maximum possible irrigation method application is greater than RAW, then the threshold is RAW"}]
[null,null,null,null,null,"*",{"$f":"Translate!$C$308","v":"these considerations thus, allow irrigation considering the capacity of the irrigation system and avoid at the same time water stress"}]
[]
[]
[]
[]
[]
[]
[]
[]
[]
[null,null,null,null,null,null,null,null,null,null,null,null,null,null,null,null,null,null,null,null,null,null,null,{"$f":"Translate!$C$309","v":"Figure 5: Soil water balance"}]
[]
[]
[]
[]
[]
[null,null,null,null,6,{"$f":"Translate!$C$310","v":"The amount of irrigation water and the irrigation day are determined for the entire crop growth period"}]
[null,null,null,null,7,{"$f":"Translate!$C$311","v":"Water storage size is determined by taking into account the greatest amount of water for an irrigation event"}]

{"sheet":"Crop Information","index":6,"n_rows":216,"n_cols":14,"rows_kept":216,"cut":false,"hidden":false,"merged":[[1,12,1,15],[2,12,2,18],[1,1,1,11],[2,1,2,11],[4,3,4,7],[4,8,4,10],[4,11,4,12],[4,13,5,13]]}
[]
[null,{"$f":"Translate!$C$313","v":"This data is based on the FAO Irrigation and Drainage Paper No. 56: Crop Evapotranspiration (guidelines for computing crop water requirements), available at:"},null,null,null,null,null,null,null,null,null,null,"http://www.fao.org/3/x0490e/x0490e00.htm"]
[null,{"$f":"Translate!$C$314","v":"Information on row and plant spacing, planting depth and date of seeds can be found at: "},null,null,null,null,null,null,null,null,null,null,"https://www.edenseeds.com.au/flux-content/eden/pdf/EdenSeeds-PlantingGuide.pdf"]
[]
[null,null,null,{"$f":"Translate!$C$317","v":"Crop Growing Period"},null,null,null,null,{"$f":"Translate!$C$318","v":"Crop factor of the development stages"},null,null,{"$f":"Translate!$C$324","v":"Maximum Root Depth"},null,{"$f":"Translate!$C$327","v":"Depletion Fraction"}]
[null,{"$f":"Translate!$C$315","v":"Crop"},"#",{"$f":"Translate!$C$319","v":"Initial stage"},{"$f":"Translate!$C$320","v":"Crop development stage"},{"$f":"Translate!$C$321","v":"Mid-season stage"},{"$f":"Translate!$C$322","v":"late season stage"},{"$f":"Translate!$C$323","v":"Total"},{"$f":"Translate!$C$319","v":"Initial stage"},{"$f":"Translate!$C$321","v":"Mid-season stage"},{"$f":"Translate!$C$322","v":"late season stage"},{"$f":"Translate!$C$325","v":"Initial"},{"$f":"Translate!$C$326","v":"Maximum"}]
[null,{"$f":"Translate!$C$316","v":"none"},1]
[null,{"$f":"Translate!C328","v":"Alfalfa (1st cutting cycle - Jan/Apr - USA)"},2,10,25,23,10,{"$f":"SUM(D8:G8)","v":68},0.4,1.1000000000000001,1,1.2,1.2,0.55000000000000004]
[null,{"$f":"Translate!C329","v":"Alfalfa (other cutting cycle - Mar/Jun - USA)"},3,5,15,10,8,{"$f":"SUM(D9:G9)","v":38},0.4,1.1000000000000001,1,1.2,1.2,0.55000000000000004]
[null,{"$f":"Translate!C330","v":"Alfalfa (seeds - Mar/Jun - USA)"},4,5,15,10,8,38,0.4,0.5,0.5,1.2,1.2,0.6]
[null,{"$f":"Translate!C331","v":"Almond (no ground cover - Apr - USA)"},5,20,10,130,30,190,0.4,0.9,0.65,1.5,1.5,0.5]
[null,{"$f":"Translate!C332","v":"Artichoke (1st year - Apr - California) "},6,40,40,250,30,360,0.5,1,0.95,0.25,0.9,0.45]
[null,{"$f":"Translate!C333","v":"Artichoke (2nd year - May - cut in May) "},7,20,25,250,30,325,0.5,1,0.95,0.9,0.9,0.45]
[null,{"$f":"Translate!C334","v":"Asparagus (Feb - warm winter)"},8,50,30,100,50,230,0.5,0.95,0.3,0.25,1.5,0.45]
[null,{"$f":"Translate!C335","v":"Asparagus (Feb - Mediterranean)"},9,90,30,200,45,365,0.5,0.95,0.3,0.25,1.5,0.45]
[null,{"$f":"Translate!C336","v":"Avocado (Jan - Florida, USA)"},10,60,60,120,120,360,0.7,0.98,0.7,0.25,1,0.7]
[null,{"$f":"Translate!C337","v":"Banana (1st year - Mar - Mediterranean)"},11,120,90,120,60,390,0.5,1.1000000000000001,1,0.3,0.9,0.45]
[null,{"$f":"Translate!C338","v":"Banana (1st year - Mar - subtropical/humid/light to moderate wind)"},12,120,90,120,60,390,0.60000000000000009,1,0.8,0.3,0.9,0.45]
[null,{"$f":"Translate!C339","v":"Banana (1st year - Mar - subtropical/tropical)"},13,90,165,45,30,330,0.5,1.1000000000000001,1,0.3,0.9,0.45]
[null,{"$f":"Translate!C340","v":"Banana (2nd year - Mar - Mediterranean)"},14,120,60,180,5,365,1,1.2,1.1000000000000001,0.9,0.9,0.45]
[null,{"$f":"Translate!C341","v":"Banana (2nd year - Feb - subtropical/tropical)"},15,60,60,75,45,240,1,1.2,1.1000000000000001,0.9,0.9,0.45]
[null,{"$f":"Translate!C342","v":"Barley/Oats/Wheat (Nov - central India)"},16,15,25,50,30,120,0.3,1.1499999999999999,0.25,0.3,1.1000000000000001,0.55000000000000004]
[null,{"$f":"Translate!C343","v":"Barley/Oats/Wheat (Mar/Apr - 35/45 °L))"},17,20,25,60,30,135,0.3,1.1499999999999999,0.25,0.3,1.1000000000000001,0.55000000000000004]
[null,{"$f":"Translate!C344","v":"Barley/Oats/Wheat (Jul - East Africa)"},18,15,30,65,40,150,0.3,1.1499999999999999,0.25,0.3,1.1000000000000001,0.55000000000000004]
[null,{"$f":"Translate!C345","v":"Barley/Oats/Wheat (Nov)"},19,40,60,60,40,200,0.4,1.1499999999999999,0.3,0.3,1.1000000000000001,0.55000000000000004]
[null,{"$f":"Translate!C346","v":"Barley/Oats/Wheat (Dec - California desert)"},20,20,50,60,30,160,0.7,1.1499999999999999,0.3,0.3,1.1000000000000001,0.55000000000000004]
[null,{"$f":"Translate!C347","v":"Beans (dry - May/Jun - central climates)"},21,20,30,40,20,110,0.4,1.1499999999999999,0.35,0.3,0.9,0.45]
[null,{"$f":"Translate!C348","v":"Beans (dry - Jun - Pakistan/California)"},22,15,25,35,20,95,0.4,1.1499999999999999,0.35,0.3,0.9,0.45]
[null,{"$f":"Translate!C349","v":"Beans (dry - Jun - Idaho)"},23,25,25,30,20,100,0.4,1.1499999999999999,0.35,0.3,0.9,0.45]
[null,{"$f":"Translate!C350","v":"Beans (green - Feb/Mar - California/Mediterranean)"},24,20,30,30,10,90,0.5,1.05,0.9,0.3,0.7,0.45]
[null,{"$f":"Translate!C351","v":"Beans (green - Aug/Sep - California/Egypt/Lebanon)"},25,15,25,25,10,75,0.5,1.05,0.9,0.3,0.7,0.45]
[null,{"$f":"Translate!C352","v":"Beets (table - Apr/May - Mediterranean)"},26,15,25,20,10,70,0.5,1.05,0.95,0.25,0.8,0.5]
[null,{"$f":"Translate!C353","v":"Beets (table - Feb/Mar - Mediterranean/Arid)"},27,25,30,25,10,90,0.5,1.05,0.95,0.25,0.8,0.5]
[null,{"$f":"Translate!C354","v":"Broccoli  (Sept - California desert)"},28,35,45,40,15,135,0.7,1.05,0.95,0.25,0.5,0.45]
[null,{"$f":"Translate!C355","v":"Cabbage (Sept - California desert)"},29,40,60,50,15,165,0.7,1.05,0.95,0.25,0.5,0.45]
[null,{"$f":"Translate!C356","v":"Cantaloupe (Jan - California )"},30,30,45,35,10,120,0.5,0.85,0.6,0.25,1.2,0.45]
[null,{"$f":"Translate!C357","v":"Cantaloupe (Aug - California )"},31,10,60,25,25,120,0.5,0.85,0.6,0.25,1.2,0.45]
[null,{"$f":"Translate!C358","v":"Carrots (Oct/Jan - Arid climate )"},32,20,30,30,20,100,0.7,1.05,0.95,0.25,0.8,0.35]
[null,{"$f":"Translate!C359","v":"Carrots (Feb/Mar - Mediterranean )"},33,30,40,60,20,150,0.7,1.05,0.95,0.25,0.8,0.35]
[null,{"$f":"Translate!C360","v":"Carrots (Oct -  California desert)"},34,30,50,90,30,200,0.7,1.05,0.95,0.25,0.8,0.35]
[null,{"$f":"Translate!C361","v":"Cassava ( 1st year - rainy season - Tropical regions)"},35,20,40,90,60,210,0.3,0.8,0.3,0.25,0.8,0.35]
[null,{"$f":"Translate!C362","v":"Cassava ( 2nd year - season - Tropical regions)"},36,150,40,110,60,360,0.3,1.1000000000000001,0.5,0.8,0.8,0.4]
[null,{"$f":"Translate!C363","v":"Castor beans (Mar - semiarid climates )"},37,25,40,65,50,180,0.35,1.1499999999999999,0.55000000000000004,0.25,1,0.5]
[null,{"$f":"Translate!C364","v":"Castor beans (Nov - Indonesia )"},38,20,40,50,25,135,0.35,1.1499999999999999,0.55000000000000004,0.25,1,0.5]
[null,{"$f":"Translate!C365","v":"Cauliflower (Sept - California desert)"},39,35,50,40,15,140,0.7,1.05,0.95,0.25,0.7,0.45]
[null,{"$f":"Translate!C366","v":"Celery (Oct- semiarid)"},40,25,40,95,20,180,0.7,1.05,1,0.2,0.5,0.2]
[null,{"$f":"Translate!C367","v":"Celery (Apr - Mediterranean)"},41,25,40,45,15,125,0.7,1.05,1,0.2,0.5,0.2]
[null,{"$f":"Translate!C368","v":"Celery (Jan - semiarid)"},42,30,55,105,20,210,0.7,1.05,1,0.2,0.5,0.2]
[null,{"$f":"Translate!C369","v":"Chilli pepper (Brazil/Tropical)"},43,30,15,20,10,75,0.63,1.4,0.86,0.25,0.8,0.3]
[null,{"$f":"Translate!C370","v":"Citrus (no ground cover/70% canopy - Jan - Mediterranean)"},44,60,90,120,95,365,0.7,0.65,0.7,1.5,1.5,0.5]
[null,{"$f":"Translate!C371","v":"Citrus (no ground cover/50% canopy - Jan - Mediterranean)"},45,60,90,120,95,365,0.65,0.6,0.65,1.3,1.3,0.5]
[null,{"$f":"Translate!C372","v":"Citrus (no ground cover/20% canopy - Jan - Mediterranean)"},46,60,90,120,95,365,0.5,0.45,0.55000000000000004,1,1,0.5]
[null,{"$f":"Translate!C373","v":"Citrus (with active ground cover or weeds/70% canopy - Jan - Mediterranean)"},47,60,90,120,95,365,0.75,0.7,0.75,1.5,1.5,0.5]
[null,{"$f":"Translate!C374","v":"Citrus (with active ground cover or weeds/50% canopy - Jan - Mediterranean)"},48,60,90,120,95,365,0.8,0.8,0.8,1.3,1.3,0.5]
[null,{"$f":"Translate!C375","v":"Citrus (with active ground cover or weeds/20% canopy - Jan - Mediterranean)"},49,60,90,120,95,365,0.85,0.85,0.85,1,1,0.5]
[null,{"$f":"Translate!C376","v":"Cotton (Mar/May - Egypt/Pakistan/California)"},50,30,50,60,55,195,0.35,1.2,0.6,0.3,1.4,0.65]
[null,{"$f":"Translate!C377","v":"Cotton (Mar - California desert)"},51,45,90,45,45,225,0.35,1.2,0.6,0.3,1.4,0.65]
[null,{"$f":"Translate!C378","v":"Cotton (Sept - Yemen )"},52,30,50,60,55,195,0.35,1.2,0.6,0.3,1.4,0.65]
[null,{"$f":"Translate!C379","v":"Cotton (Apr - Texas )"},53,30,50,55,45,180,0.35,1.2,0.6,0.3,1.4,0.65]
[null,{"$f":"Translate!C380","v":"Cucumber (Jun/Aug - arid region )"},54,20,30,40,15,105,0.6,1,0.75,0.25,1,0.5]
[null,{"$f":"Translate!C381","v":"Cucumber (Nov/Feb - arid region )"},55,25,35,50,20,130,0.6,1,0.75,0.25,1,0.5]
[null,{"$f":"Translate!C382","v":"Deciduous Orchard (no ground cover/killing frost - Mar - high latitudes)"},56,20,70,90,30,210,0.45,0.93,0.68,1.5,1.5,0.5]
[null,{"$f":"Translate!C383","v":"Deciduous Orchard (no ground cover/no frosts - Mar - high latitudes)"},57,20,70,90,30,210,0.57999999999999996,0.93,0.7,1.5,1.5,0.5]
[null,{"$f":"Translate!C384","v":"Deciduous Orchard (active ground cover/killing frost - Mar - high latitudes)"},58,20,70,90,30,210,0.5,1.18,0.93,1.5,1.5,0.5]
[null,{"$f":"Translate!C385","v":"Deciduous Orchard (active ground cover/no frosts - Mar - high latitudes)"},59,20,70,90,30,210,0.8,1.18,0.85,1.5,1.5,0.5]
[null,{"$f":"Translate!C386","v":"Deciduous Orchard (no ground cover/killing frost - Mar - low latitudes)"},60,20,70,120,60,270,0.45,0.93,0.68,1.5,1.5,0.5]
[null,{"$f":"Translate!C387","v":"Deciduous Orchard (no ground cover/no frosts - Mar - low latitudes)"},61,20,70,120,60,270,0.57999999999999996,0.93,0.7,1.5,1.5,0.5]
[null,{"$f":"Translate!C388","v":"Deciduous Orchard (active ground cover/killing frost - Mar - low latitudes)"},62,20,70,120,60,270,0.5,1.18,0.93,1.5,1.5,0.5]
[null,{"$f":"Translate!C389","v":"Deciduous Orchard (active ground cover/no frosts - Mar - low latitudes)"},63,20,70,120,60,270,0.8,1.18,0.85,1.5,1.5,0.5]
[null,{"$f":"Translate!C390","v":"Deciduous Orchard (no ground cover/killing frost - Mar - California)"},64,30,50,130,30,240,0.45,0.93,0.68,1.5,1.5,0.5]
[null,{"$f":"Translate!C391","v":"Deciduous Orchard (no ground cover/no frosts - Mar - California)"},65,30,50,130,30,240,0.57999999999999996,0.93,0.7,1.5,1.5,0.5]
[null,{"$f":"Translate!C392","v":"Deciduous Orchard (active ground cover/killing frost - California)"},66,30,50,130,30,240,0.5,1.18,0.93,1.5,1.5,0.5]
[null,{"$f":"Translate!C393","v":"Deciduous Orchard (active ground cover/no frosts - Mar - California)"},67,30,50,130,30,{"$f":"SUM(D73:G73)","v":240},0.8,1.18,0.85,1.5,1.5,0.5]
[null,{"$f":"Translate!C394","v":"Eggplant (Oct - arid region)"},68,30,40,40,20,130,0.6,1.05,0.9,0.25,1,0.45]
[null,{"$f":"Translate!C395","v":"Eggplant (May/Jun - Mediterranean)"},69,30,45,40,25,140,0.6,1.05,0.9,0.25,1,0.45]
[null,{"$f":"Translate!C396","v":"Faba bean, broad bean (May - Europe)"},70,15,25,35,15,90,0.5,1.1499999999999999,1.1000000000000001,0.25,1,0.5]
[null,{"$f":"Translate!C397","v":"Faba bean, broad bean (Mar/Apr - Mediterranean)"},71,20,30,35,15,100,0.5,1.1499999999999999,1.1000000000000001,0.25,1,0.5]
[null,{"$f":"Translate!C398","v":"Faba bean, broad bean (dry - Nov - Europe)"},72,90,45,40,60,235,0.5,1.1499999999999999,1.1000000000000001,0.25,1,0.5]
[null,{"$f":"Translate!C399","v":"Faba bean, broad bean (green - Nov - Europe)"},73,90,45,40,0,175,0.5,1.1499999999999999,0.3,0.25,1,0.5]
[null,{"$f":"Translate!C400","v":"Flax (Apr - Europe)"},74,25,35,50,40,150,0.35,1.1000000000000001,0.25,0.3,1.2,0.5]
[null,{"$f":"Translate!C401","v":"Flax (Oct - Arizona)"},75,30,40,100,50,220,0.35,1.1000000000000001,0.25,0.3,1.2,0.5]
[null,{"$f":"Translate!C402","v":"Grapes (Apr - low latitudes)"},76,20,40,120,60,240,0.3,0.85,0.45,1.5,1.5,0.35]
[null,{"$f":"Translate!C403","v":"Grapes (Mar - California)"},77,20,50,75,60,205,0.3,0.85,0.45,1.5,1.5,0.35]
[null,{"$f":"Translate!C404","v":"Grapes (May - high latitudes )"},78,20,50,90,20,180,0.3,0.85,0.45,1.5,1.5,0.35]
[null,{"$f":"Translate!C405","v":"Grapes (wine - Apr - mid latitudes)"},79,30,60,40,80,210,0.3,0.7,0.45,1.5,1.5,0.45]
[null,{"$f":"Translate!C406","v":"Green gram, cowpeas (harvest fresh - Mar -Mediterranean)"},80,20,30,30,20,100,0.4,1.05,0.6,0.3,1,0.45]
[null,{"$f":"Translate!C407","v":"Green gram, cowpeas (harvest dry - Mar -Mediterranean)"},81,20,30,30,20,100,0.4,1.05,0.35,0.3,1,0.45]
[null,{"$f":"Translate!C408","v":"Groundnut (Dry - West Africa )"},82,25,35,45,25,130,0.4,1.1499999999999999,0.6,0.3,0.8,0.45]
[null,{"$f":"Translate!C409","v":"Groundnut (season - high latitudes)"},83,35,35,35,35,140,0.4,1.1499999999999999,0.6,0.3,0.8,0.45]
[null,{"$f":"Translate!C410","v":"Groundnut (May/Jun - Mediterranean)"},84,35,45,35,25,140,0.4,1.1499999999999999,0.6,0.3,0.8,0.45]
[null,{"$f":"Translate!C411","v":"Hops (Apr - Idaho)"},85,25,40,80,10,155,0.3,1.05,0.85,0.3,1,0.5]
[null,{"$f":"Translate!C412","v":"Kale, Rape "},86,20,20,30,50,120,0.7,1,0.95,0.2,0.4,0.5]
[null,{"$f":"Translate!C413","v":"Lentil (Apr - Europe)"},87,20,30,60,40,150,0.4,1.1000000000000001,0.3,0.3,0.8,0.5]
[null,{"$f":"Translate!C414","v":"Lentil (Oct/Nov -arid region)"},88,25,35,70,40,170,0.4,1.1000000000000001,0.3,0.3,0.8,0.5]
[null,{"$f":"Translate!C415","v":"Lettuce (Apr - Mediterranean)"},89,20,30,15,10,75,0.7,1,0.95,0.2,0.5,0.3]
[null,{"$f":"Translate!C416","v":"Lettuce (Nov/Jan - Mediterranean)"},90,30,40,25,10,105,0.7,1,0.95,0.2,0.5,0.3]
[null,{"$f":"Translate!C417","v":"Lettuce (Oct/Nov - arid region)"},91,25,35,30,10,100,0.7,1,0.95,0.2,0.5,0.3]
[null,{"$f":"Translate!C418","v":"Lettuce (Feb - Mediterranean)"},92,35,50,45,10,140,0.7,1,0.95,0.2,0.5,0.3]
[null,{"$f":"Translate!C419","v":"Maize (grain - Apr - East Africa (alt.))"},93,30,50,60,40,180,0.3,1.2,0.5,0.3,1,0.55000000000000004]
[null,{"$f":"Translate!C420","v":"Maize (grain - Dec/Jan - arid climate)"},94,25,40,45,30,140,0.3,1.2,0.5,0.3,1,0.55000000000000004]
[null,{"$f":"Translate!C421","v":"Maize (grain - Jun - Nigeria (humid))"},95,20,35,40,30,125,0.3,1.2,0.5,0.3,1,0.55000000000000004]
[null,{"$f":"Translate!C422","v":"Maize (grain - Oct - India (dry, cool))"},96,20,35,40,30,125,0.3,1.2,0.5,0.3,1,0.55000000000000004]
[null,{"$f":"Translate!C423","v":"Maize (grain - Apr - Spain (spring, summer)/California)"},97,30,40,50,30,150,0.3,1.2,0.5,0.3,1,0.55000000000000004]
[null,{"$f":"Translate!C424","v":"Maize (grain - Apr - Idaho)"},98,30,40,50,50,170,0.3,1.2,0.5,0.3,1,0.55000000000000004]
[null,{"$f":"Translate!C425","v":"Maize (sweet - Mar - Philippines)"},99,20,20,30,10,80,0.3,1.1499999999999999,1.05,0.3,1,0.55000000000000004]
[null,{"$f":"Translate!C426","v":"Maize (sweet - May/Jun - Mediterranean)"},100,20,25,25,10,80,0.3,1.1499999999999999,1.05,0.3,1,0.55000000000000004]
[null,{"$f":"Translate!C427","v":"Maize (sweet - Oct/Dec - arid climate)"},101,20,30,40,10,100,0.3,1.1499999999999999,1.05,0.3,1,0.55000000000000004]
[null,{"$f":"Translate!C428","v":"Maize (sweet - Apr - Idaho)"},102,30,30,30,103,193,0.3,1.1499999999999999,1.05,0.3,1,0.55000000000000004]
[null,{"$f":"Translate!C429","v":"Maize (sweet - Jan - California desert)"},103,20,40,70,10,140,0.3,1.1499999999999999,1.05,0.3,1,0.55000000000000004]
[null,{"$f":"Translate!C430","v":"Mango (Jun)"},104,90,90,90,95,365,0.9,1.1000000000000001,0.9,2,2,0.6]
[null,{"$f":"Translate!C431","v":"Millet (Jun - Pakistan)"},105,15,25,40,25,105,0.3,1,0.3,0.3,1.2,0.6]
[null,{"$f":"Translate!C432","v":"Millet (Apr - Central USA)"},106,20,30,55,35,140,0.3,1,0.3,0.3,1.2,0.6]
[null,{"$f":"Translate!C433","v":"Okra (sub humid)"},107,20,20,40,20,100,0.5,0.95,0.55000000000000004,0.3,0.5,0.5]
[null,{"$f":"Translate!C434","v":"Olives (Mar - Mediterranean)"},108,30,90,60,90,270,0.65,0.7,0.7,1.5,1.5,0.65]
[null,{"$f":"Translate!C435","v":"Onion (dry - Apr - Mediterranean)"},109,15,25,70,40,150,0.7,1.05,0.75,0.3,0.6,0.3]
[null,{"$f":"Translate!C436","v":"Onion (dry - Oct/Jan - arid region/California)"},110,20,35,110,45,210,0.7,1.05,0.75,0.3,0.6,0.3]
[null,{"$f":"Translate!C437","v":"Onion (green - Apr/May - Mediterranean)"},111,25,30,10,5,70,0.7,1,1,0.3,0.6,0.3]
[null,{"$f":"Translate!C438","v":"Onion (green - Oct - arid region)"},112,20,45,20,10,95,0.7,1,1,0.3,0.6,0.3]
[null,{"$f":"Translate!C439","v":"Onion (green - Mar - California)"},113,30,55,55,40,180,0.7,1,1,0.3,0.6,0.3]
[null,{"$f":"Translate!C440","v":"Onion (seed - Sept - California desert)"},114,20,45,165,45,275,0.7,1.05,0.8,0.3,0.6,0.3]
[null,{"$f":"Translate!C441","v":"Peas (fresh - May - Europe)"},115,15,25,35,15,90,0.5,1.1519999999999999,1.1000000000000001,0.3,1,0.35]
[null,{"$f":"Translate!C442","v":"Peas (fresh - Mar/Apr - Mediterranean)"},116,20,30,35,15,100,0.5,1.1519999999999999,1.1000000000000001,0.3,1,0.35]
[null,{"$f":"Translate!C443","v":"Peas (fresh - Apr - Idaho)"},117,35,25,30,20,110,0.5,1.1519999999999999,1.1000000000000001,0.3,1,0.35]
[null,{"$f":"Translate!C444","v":"Peas (dry - May - Europe)"},118,15,25,35,15,90,0.4,1.1499999999999999,0.3,0.3,1,0.4]
[null,{"$f":"Translate!C445","v":"Peas (dry - Mar/Apr - Mediterranean)"},119,20,30,35,15,100,0.4,1.1499999999999999,0.3,0.3,1,0.4]
[null,{"$f":"Translate!C446","v":"Peas (dry - Apr - Idaho)"},120,35,25,30,20,110,0.4,1.1499999999999999,0.3,0.3,1,0.4]
[null,{"$f":"Translate!C447","v":"Pigeon peas"},121,20,30,30,20,100,0.4,1.05,0.35,0.3,1,0.4]
[null,{"$f":"Translate!C448","v":"Pineapple (bare soil - Hawaii)"},122,60,120,600,10,790,0.5,0.3,0.3,0.3,0.6,0.5]
[null,{"$f":"Translate!C449","v":"Pineapple (with grass cover - Hawaii)"},123,60,120,600,10,790,0.5,0.5,0.5,0.3,0.6,0.5]
[null,{"$f":"Translate!C450","v":"Pistachios (no ground cover - Feb - Mediterranean)"},124,20,60,30,40,150,0.4,1.1000000000000001,0.45,1.2,1.2,0.4]
[null,{"$f":"Translate!C451","v":"Potato (Jan/Nov - semiarid climate)"},125,25,30,47,30,132,0.5,1.1499999999999999,0.75,0.25,0.6,0.35]
[null,{"$f":"Translate!C452","v":"Potato (May - Continental Climate )"},126,25,30,45,30,130,0.5,1.1499999999999999,0.75,0.25,0.6,0.35]
[null,{"$f":"Translate!C453","v":"Potato (Apr - Europe)"},127,30,35,50,30,145,0.5,1.1499999999999999,0.75,0.25,0.6,0.35]
[null,{"$f":"Translate!C454","v":"Potato (Apr/May - Idaho, USA )"},128,45,30,70,20,165,0.5,1.1499999999999999,0.75,0.25,0.6,0.35]
[null,{"$f":"Translate!C455","v":"Potato (Dec - California desert)"},129,30,35,50,25,140,0.5,1.1499999999999999,0.75,0.25,0.6,0.35]
[null,{"$f":"Translate!C456","v":"Pumpkin, Winter squash (Mar/Aug - Mediterranean)"},130,20,30,30,20,100,0.5,1,0.8,0.3,1.2,0.35]
[null,{"$f":"Translate!C457","v":"Pumpkin, Winter squash (Jun - Europe)"},131,25,35,35,25,{"$f":"SUM(D137:G137)","v":120},0.5,1,0.8,0.3,1.2,0.35]
[null,{"$f":"Translate!C458","v":"Radish (Mar/Apr - Mediterranean/Europe)"},132,5,10,15,5,35,0.7,0.9,0.85,0.2,0.5,0.3]
[null,{"$f":"Translate!C459","v":"Radish (Winter - arid region)"},133,10,10,15,5,40,0.7,0.9,0.85,0.2,0.5,0.3]
[null,{"$f":"Translate!C460","v":"Rice (Dec/May - Tropics/Mediterranean)"},134,30,30,60,30,150,1.05,1.2,0.75,0.1,0.6,0.2]
[null,{"$f":"Translate!C461","v":"Safflower (Apr - California)"},135,20,35,45,25,125,0.35,1.1000000000000001,0.25,0.3,1.2,0.6]
[null,{"$f":"Translate!C462","v":"Safflower (Mar - high latitudes)"},136,25,35,55,30,145,0.35,1.1000000000000001,0.25,0.3,1.2,0.6]
[null,{"$f":"Translate!C463","v":"Safflower (Oct/Nov - arid region)"},137,35,55,60,40,190,0.35,1.1000000000000001,0.25,0.3,1.2,0.6]
[null,{"$f":"Translate!C464","v":"Sesame (Jun - China)"},138,20,30,40,20,110,0.35,1.1000000000000001,0.25,0.3,1.2,0.6]
[null,{"$f":"Translate!C465","v":"Sorghum (grain - May/Jun - USA/Pakistan/Mediterranean)"},139,20,35,40,30,125,0.3,1.05,0.55000000000000004,0.3,1.4,0.55000000000000004]
[null,{"$f":"Translate!C466","v":"Sorghum (grain - Mar/Apr - arid region)"},140,20,35,45,30,130,0.3,1.05,0.55000000000000004,0.3,1.4,0.55000000000000004]
[null,{"$f":"Translate!C467","v":"Sorghum (sweet - May/Jun - USA/Pakistan/Mediterranean)"},141,20,35,40,30,125,0.3,1.2,1.05,0.3,1.4,0.5]
[null,{"$f":"Translate!C468","v":"Sorghum (sweet - Mar/Apr - arid region)"},142,20,35,45,30,130,0.3,1.2,1.05,0.3,1.4,0.5]
[null,{"$f":"Translate!C469","v":"Soybeans (Dec - Tropics)"},143,15,15,40,15,85,0.4,1.1499999999999999,0.5,0.3,1,0.5]
[null,{"$f":"Translate!C470","v":"Soybeans (May - Central USA)"},144,20,32,60,25,137,0.4,1.1499999999999999,0.5,0.3,1,0.5]
[null,{"$f":"Translate!C471","v":"Soybeans (Jun - Japan )"},145,20,25,75,30,150,0.4,1.1499999999999999,0.5,0.3,1,0.5]
[null,{"$f":"Translate!C472","v":"Spinach (Apr/Sep/Oct - Mediterranean)"},146,20,20,20,5,65,0.7,1,0.95,0.1,0.5,0.2]
[null,{"$f":"Translate!C473","v":"Spinach (Nov - arid region)"},147,20,30,40,10,100,0.7,1,0.95,0.1,0.5,0.2]
[null,{"$f":"Translate!C474","v":"Squash, Zucchini (Apr/Dec - Mediterranean/arid region)"},148,25,35,25,15,100,0.5,0.95,0.75,0.3,0.8,0.5]
[null,{"$f":"Translate!C475","v":"Squash, Zucchini (May/Jun - Mediterranean/Europe)"},149,20,30,25,15,90,0.5,0.95,0.75,0.3,0.8,0.5]
[null,{"$f":"Translate!C476","v":"Sudan (1st cutting cycle - Apr - California desert)"},150,25,25,15,10,75,0.5,1,0.95,1,1,0.55000000000000004]
[null,{"$f":"Translate!C477","v":"Sudan (other cutting cycles - Jun -California desert)"},151,3,15,12,7,37,0.5,1,0.95,1,1,0.55000000000000004]
[null,{"$f":"Translate!C478","v":"Sugarbeet (Mar - California)"},152,30,45,90,15,180,0.35,1.2,0.7,0.3,1,0.6]
[null,{"$f":"Translate!C479","v":"Sugarbeet (Jun - California)"},153,25,30,90,10,155,0.35,1.2,0.7,0.3,1,0.6]
[null,{"$f":"Translate!C480","v":"Sugarbeet (Sep - California desert)"},154,25,65,100,65,255,0.35,1.2,0.7,0.3,1,0.6]
[null,{"$f":"Translate!C481","v":"Sugarbeet (Apr - Idaho)"},155,50,40,50,40,180,0.35,1.2,0.7,0.3,1,0.6]
[null,{"$f":"Translate!C482","v":"Sugarbeet (May - Mediterranean)"},156,25,35,50,50,160,0.35,1.2,0.7,0.3,1,0.6]
[null,{"$f":"Translate!C483","v":"Sugarbeet (Nov - Mediterranean)"},157,45,75,80,30,230,0.35,1.2,0.7,0.3,1,0.6]
[null,{"$f":"Translate!C484","v":"Sugarbeet (Nov - arid regions)"},158,35,60,70,40,205,0.35,1.2,0.7,0.3,1,0.6]
[null,{"$f":"Translate!C485","v":"Sugarcane (ratoon - low latitudes)"},159,25,70,135,50,280,0.4,1.25,0.75,1.5,1.5,0.65]
[null,{"$f":"Translate!C486","v":"Sugarcane (ratoon - Tropics)"},160,30,50,180,60,320,0.4,1.25,0.75,1.5,1.5,0.65]
[null,{"$f":"Translate!C487","v":"Sugarcane (ratoon - Hawaii)"},161,35,105,210,70,420,0.4,1.25,0.75,1.5,1.5,0.65]
[null,{"$f":"Translate!C488","v":"Sugarcane (virgin - low latitudes)"},162,35,60,190,120,405,0.4,1.25,0.75,1.5,1.5,0.65]
[null,{"$f":"Translate!C489","v":"Sugarcane (virgin - Tropics)"},163,50,70,220,140,480,0.4,1.25,0.75,1.5,1.5,0.65]
[null,{"$f":"Translate!C490","v":"Sugarcane (virgin - Hawaii)"},164,75,105,330,210,720,0.4,1.25,0.75,1.5,1.5,0.65]
[null,{"$f":"Translate!C491","v":"Sunflower (Apr/May - Mediterranean/California)"},165,25,35,45,25,130,0.35,1.1000000000000001,0.35,0.3,1.3,0.5]
[null,{"$f":"Translate!C492","v":"Sweet melons (May - Mediterranean)"},166,25,35,40,20,120,0.5,1.05,0.75,0.3,1,0.4]
[null,{"$f":"Translate!C493","v":"Sweet melons (Mar - California)"},167,30,30,50,30,140,0.5,1.05,0.75,0.3,1,0.4]
[null,{"$f":"Translate!C494","v":"Sweet melons (Aug - California desert)"},168,15,40,65,15,135,0.5,1.05,0.75,0.3,1,0.4]
[null,{"$f":"Translate!C495","v":"Sweet melons (Dec/Jan - arid region)"},169,30,45,65,20,160,0.5,1.05,0.75,0.3,1,0.4]
[null,{"$f":"Translate!C496","v":"Sweet peppers (Apr/Jun - Europe/Mediterranean)"},170,28,35,40,20,123,0.6,1.05,0.9,0.25,0.8,0.3]
[null,{"$f":"Translate!C497","v":"Sweet peppers (Oct - arid region)"},171,30,40,110,30,210,0.6,1.05,0.9,0.25,0.8,0.3]
[null,{"$f":"Translate!C498","v":"Sweet potato (Apr - Mediterranean)"},172,20,30,60,40,150,0.5,1.1499999999999999,0.65,0.3,1,0.65]
[null,{"$f":"Translate!C499","v":"Sweet potato (rainy season - Tropical regions)"},173,15,30,50,30,125,0.5,1.1499999999999999,0.65,0.3,1,0.65]
[null,{"$f":"Translate!C500","v":"Tomato (Jan - arid region)"},174,30,40,40,25,135,0.6,1.1499999999999999,0.8,0.25,0.8,0.5]
[null,{"$f":"Translate!C501","v":"Tomato (Apr/May - California)"},175,35,40,50,30,155,0.6,1.1499999999999999,0.8,0.25,0.8,0.5]
[null,{"$f":"Translate!C502","v":"Tomato (Jan - California desert)"},176,25,40,60,30,155,0.6,1.1499999999999999,0.8,0.25,0.8,0.5]
[null,{"$f":"Translate!C503","v":"Tomato (Oct/Nov - arid region)"},177,35,45,70,30,180,0.6,1.1499999999999999,0.8,0.25,0.8,0.5]
[null,{"$f":"Translate!C504","v":"Tomato (Apr/May - Mediterranean)"},178,30,40,45,30,145,0.6,1.1499999999999999,0.8,0.25,0.8,0.5]
[null,{"$f":"Translate!C505","v":"Walnuts (Apr - Utah)"},179,20,10,130,30,190,0.5,1.1000000000000001,0.65,2,2,0.5]
[null,{"$f":"Translate!C506","v":"Water melons (Apr - Italy)"},180,20,30,30,30,110,0.4,1,0.75,0.3,1,0.4]
[null,{"$f":"Translate!C507","v":"Water melons (Mat/Aug - Near East (desert))"},181,10,20,20,30,80,0.4,1,0.75,0.3,1,0.4]
[null,{"$f":"Translate!C508","v":"Winter Wheat (Dec - California)"},182,202,602,70,30,904,0.4,1.1499999999999999,0.35,0.3,1.5,0.55000000000000004]
[null,{"$f":"Translate!C509","v":"Winter Wheat (Nov - Mediterranean)"},183,30,140,40,30,240,0.4,1.1499999999999999,0.35,0.3,1.5,0.55000000000000004]
[null,{"$f":"Translate!C510","v":"Winter Wheat (Oct - Idaho)"},184,160,75,75,25,335,0.7,1.1499999999999999,0.35,0.3,1.5,0.55000000000000004]
[null,{"$f":"Translate!$C$511","v":"New crop"},185,{"$f":"Translate!$C$512","v":"Insert value"},{"$f":"Translate!$C$512","v":"Insert value"},{"$f":"Translate!$C$512","v":"Insert value"},{"$f":"Translate!$C$512","v":"Insert value"},0,{"$f":"Translate!$C$512","v":"Insert value"},{"$f":"Translate!$C$512","v":"Insert value"},{"$f":"Translate!$C$512","v":"Insert value"},{"$f":"Translate!$C$512","v":"Insert value"},{"$f":"Translate!$C$512","v":"Insert value"},{"$f":"Translate!$C$512","v":"Insert value"}]
[null,{"$f":"Translate!$C$511","v":"New crop"},186,{"$f":"Translate!$C$512","v":"Insert value"},{"$f":"Translate!$C$512","v":"Insert value"},{"$f":"Translate!$C$512","v":"Insert value"},{"$f":"Translate!$C$512","v":"Insert value"},0,{"$f":"Translate!$C$512","v":"Insert value"},{"$f":"Translate!$C$512","v":"Insert value"},{"$f":"Translate!$C$512","v":"Insert value"},{"$f":"Translate!$C$512","v":"Insert value"},{"$f":"Translate!$C$512","v":"Insert value"},{"$f":"Translate!$C$512","v":"Insert value"}]
[null,{"$f":"Translate!$C$511","v":"New crop"},187,{"$f":"Translate!$C$512","v":"Insert value"},{"$f":"Translate!$C$512","v":"Insert value"},{"$f":"Translate!$C$512","v":"Insert value"},{"$f":"Translate!$C$512","v":"Insert value"},0,{"$f":"Translate!$C$512","v":"Insert value"},{"$f":"Translate!$C$512","v":"Insert value"},{"$f":"Translate!$C$512","v":"Insert value"},{"$f":"Translate!$C$512","v":"Insert value"},{"$f":"Translate!$C$512","v":"Insert value"},{"$f":"Translate!$C$512","v":"Insert value"}]
[null,{"$f":"Translate!$C$511","v":"New crop"},188,{"$f":"Translate!$C$512","v":"Insert value"},{"$f":"Translate!$C$512","v":"Insert value"},{"$f":"Translate!$C$512","v":"Insert value"},{"$f":"Translate!$C$512","v":"Insert value"},0,{"$f":"Translate!$C$512","v":"Insert value"},{"$f":"Translate!$C$512","v":"Insert value"},{"$f":"Translate!$C$512","v":"Insert value"},{"$f":"Translate!$C$512","v":"Insert value"},{"$f":"Translate!$C$512","v":"Insert value"},{"$f":"Translate!$C$512","v":"Insert value"}]
[null,{"$f":"Translate!$C$511","v":"New crop"},189,{"$f":"Translate!$C$512","v":"Insert value"},{"$f":"Translate!$C$512","v":"Insert value"},{"$f":"Translate!$C$512","v":"Insert value"},{"$f":"Translate!$C$512","v":"Insert value"},0,{"$f":"Translate!$C$512","v":"Insert value"},{"$f":"Translate!$C$512","v":"Insert value"},{"$f":"Translate!$C$512","v":"Insert value"},{"$f":"Translate!$C$512","v":"Insert value"},{"$f":"Translate!$C$512","v":"Insert value"},{"$f":"Translate!$C$512","v":"Insert value"}]
[null,{"$f":"Translate!$C$511","v":"New crop"},190,{"$f":"Translate!$C$512","v":"Insert value"},{"$f":"Translate!$C$512","v":"Insert value"},{"$f":"Translate!$C$512","v":"Insert value"},{"$f":"Translate!$C$512","v":"Insert value"},0,{"$f":"Translate!$C$512","v":"Insert value"},{"$f":"Translate!$C$512","v":"Insert value"},{"$f":"Translate!$C$512","v":"Insert value"},{"$f":"Translate!$C$512","v":"Insert value"},{"$f":"Translate!$C$512","v":"Insert value"},{"$f":"Translate!$C$512","v":"Insert value"}]
[null,{"$f":"Translate!$C$511","v":"New crop"},191,{"$f":"Translate!$C$512","v":"Insert value"},{"$f":"Translate!$C$512","v":"Insert value"},{"$f":"Translate!$C$512","v":"Insert value"},{"$f":"Translate!$C$512","v":"Insert value"},0,{"$f":"Translate!$C$512","v":"Insert value"},{"$f":"Translate!$C$512","v":"Insert value"},{"$f":"Translate!$C$512","v":"Insert value"},{"$f":"Translate!$C$512","v":"Insert value"},{"$f":"Translate!$C$512","v":"Insert value"},{"$f":"Translate!$C$512","v":"Insert value"}]
[null,{"$f":"Translate!$C$511","v":"New crop"},192,{"$f":"Translate!$C$512","v":"Insert value"},{"$f":"Translate!$C$512","v":"Insert value"},{"$f":"Translate!$C$512","v":"Insert value"},{"$f":"Translate!$C$512","v":"Insert value"},0,{"$f":"Translate!$C$512","v":"Insert value"},{"$f":"Translate!$C$512","v":"Insert value"},{"$f":"Translate!$C$512","v":"Insert value"},{"$f":"Translate!$C$512","v":"Insert value"},{"$f":"Translate!$C$512","v":"Insert value"},{"$f":"Translate!$C$512","v":"Insert value"}]
[null,{"$f":"Translate!$C$511","v":"New crop"},193,{"$f":"Translate!$C$512","v":"Insert value"},{"$f":"Translate!$C$512","v":"Insert value"},{"$f":"Translate!$C$512","v":"Insert value"},{"$f":"Translate!$C$512","v":"Insert value"},0,{"$f":"Translate!$C$512","v":"Insert value"},{"$f":"Translate!$C$512","v":"Insert value"},{"$f":"Translate!$C$512","v":"Insert value"},{"$f":"Translate!$C$512","v":"Insert value"},{"$f":"Translate!$C$512","v":"Insert value"},{"$f":"Translate!$C$512","v":"Insert value"}]
[null,{"$f":"Translate!$C$511","v":"New crop"},194,{"$f":"Translate!$C$512","v":"Insert value"},{"$f":"Translate!$C$512","v":"Insert value"},{"$f":"Translate!$C$512","v":"Insert value"},{"$f":"Translate!$C$512","v":"Insert value"},0,{"$f":"Translate!$C$512","v":"Insert value"},{"$f":"Translate!$C$512","v":"Insert value"},{"$f":"Translate!$C$512","v":"Insert value"},{"$f":"Translate!$C$512","v":"Insert value"},{"$f":"Translate!$C$512","v":"Insert value"},{"$f":"Translate!$C$512","v":"Insert value"}]
[null,{"$f":"Translate!$C$511","v":"New crop"},195,{"$f":"Translate!$C$512","v":"Insert value"},{"$f":"Translate!$C$512","v":"Insert value"},{"$f":"Translate!$C$512","v":"Insert value"},{"$f":"Translate!$C$512","v":"Insert value"},{"$f":"SUM(D201:G201)","v":0},{"$f":"Translate!$C$512","v":"Insert value"},{"$f":"Translate!$C$512","v":"Insert value"},{"$f":"Translate!$C$512","v":"Insert value"},{"$f":"Translate!$C$512","v":"Insert value"},{"$f":"Translate!$C$512","v":"Insert value"},{"$f":"Translate!$C$512","v":"Insert value"}]
[null,{"$f":"Translate!$C$511","v":"New crop"},196,{"$f":"Translate!$C$512","v":"Insert value"},{"$f":"Translate!$C$512","v":"Insert value"},{"$f":"Translate!$C$512","v":"Insert value"},{"$f":"Translate!$C$512","v":"Insert value"},0,{"$f":"Translate!$C$512","v":"Insert value"},{"$f":"Translate!$C$512","v":"Insert value"},{"$f":"Translate!$C$512","v":"Insert value"},{"$f":"Translate!$C$512","v":"Insert value"},{"$f":"Translate!$C$512","v":"Insert value"},{"$f":"Translate!$C$512","v":"Insert value"}]
[null,{"$f":"Translate!$C$511","v":"New crop"},197,{"$f":"Translate!$C$512","v":"Insert value"},{"$f":"Translate!$C$512","v":"Insert value"},{"$f":"Translate!$C$512","v":"Insert value"},{"$f":"Translate!$C$512","v":"Insert value"},0,{"$f":"Translate!$C$512","v":"Insert value"},{"$f":"Translate!$C$512","v":"Insert value"},{"$f":"Translate!$C$512","v":"Insert value"},{"$f":"Translate!$C$512","v":"Insert value"},{"$f":"Translate!$C$512","v":"Insert value"},{"$f":"Translate!$C$512","v":"Insert value"}]
[null,{"$f":"Translate!$C$511","v":"New crop"},198,{"$f":"Translate!$C$512","v":"Insert value"},{"$f":"Translate!$C$512","v":"Insert value"},{"$f":"Translate!$C$512","v":"Insert value"},{"$f":"Translate!$C$512","v":"Insert value"},0,{"$f":"Translate!$C$512","v":"Insert value"},{"$f":"Translate!$C$512","v":"Insert value"},{"$f":"Translate!$C$512","v":"Insert value"},{"$f":"Translate!$C$512","v":"Insert value"},{"$f":"Translate!$C$512","v":"Insert value"},{"$f":"Translate!$C$512","v":"Insert value"}]
[null,{"$f":"Translate!$C$511","v":"New crop"},199,{"$f":"Translate!$C$512","v":"Insert value"},{"$f":"Translate!$C$512","v":"Insert value"},{"$f":"Translate!$C$512","v":"Insert value"},{"$f":"Translate!$C$512","v":"Insert value"},0,{"$f":"Translate!$C$512","v":"Insert value"},{"$f":"Translate!$C$512","v":"Insert value"},{"$f":"Translate!$C$512","v":"Insert value"},{"$f":"Translate!$C$512","v":"Insert value"},{"$f":"Translate!$C$512","v":"Insert value"},{"$f":"Translate!$C$512","v":"Insert value"}]
[null,{"$f":"Translate!$C$511","v":"New crop"},200,{"$f":"Translate!$C$512","v":"Insert value"},{"$f":"Translate!$C$512","v":"Insert value"},{"$f":"Translate!$C$512","v":"Insert value"},{"$f":"Translate!$C$512","v":"Insert value"},0,{"$f":"Translate!$C$512","v":"Insert value"},{"$f":"Translate!$C$512","v":"Insert value"},{"$f":"Translate!$C$512","v":"Insert value"},{"$f":"Translate!$C$512","v":"Insert value"},{"$f":"Translate!$C$512","v":"Insert value"},{"$f":"Translate!$C$512","v":"Insert value"}]
[null,{"$f":"Translate!$C$511","v":"New crop"},201,{"$f":"Translate!$C$512","v":"Insert value"},{"$f":"Translate!$C$512","v":"Insert value"},{"$f":"Translate!$C$512","v":"Insert value"},{"$f":"Translate!$C$512","v":"Insert value"},0,{"$f":"Translate!$C$512","v":"Insert value"},{"$f":"Translate!$C$512","v":"Insert value"},{"$f":"Translate!$C$512","v":"Insert value"},{"$f":"Translate!$C$512","v":"Insert value"},{"$f":"Translate!$C$512","v":"Insert value"},{"$f":"Translate!$C$512","v":"Insert value"}]
[null,{"$f":"Translate!$C$511","v":"New crop"},202,{"$f":"Translate!$C$512","v":"Insert value"},{"$f":"Translate!$C$512","v":"Insert value"},{"$f":"Translate!$C$512","v":"Insert value"},{"$f":"Translate!$C$512","v":"Insert value"},0,{"$f":"Translate!$C$512","v":"Insert value"},{"$f":"Translate!$C$512","v":"Insert value"},{"$f":"Translate!$C$512","v":"Insert value"},{"$f":"Translate!$C$512","v":"Insert value"},{"$f":"Translate!$C$512","v":"Insert value"},{"$f":"Translate!$C$512","v":"Insert value"}]
[null,{"$f":"Translate!$C$511","v":"New crop"},203,{"$f":"Translate!$C$512","v":"Insert value"},{"$f":"Translate!$C$512","v":"Insert value"},{"$f":"Translate!$C$512","v":"Insert value"},{"$f":"Translate!$C$512","v":"Insert value"},0,{"$f":"Translate!$C$512","v":"Insert value"},{"$f":"Translate!$C$512","v":"Insert value"},{"$f":"Translate!$C$512","v":"Insert value"},{"$f":"Translate!$C$512","v":"Insert value"},{"$f":"Translate!$C$512","v":"Insert value"},{"$f":"Translate!$C$512","v":"Insert value"}]
[null,{"$f":"Translate!$C$511","v":"New crop"},204,{"$f":"Translate!$C$512","v":"Insert value"},{"$f":"Translate!$C$512","v":"Insert value"},{"$f":"Translate!$C$512","v":"Insert value"},{"$f":"Translate!$C$512","v":"Insert value"},0,{"$f":"Translate!$C$512","v":"Insert value"},{"$f":"Translate!$C$512","v":"Insert value"},{"$f":"Translate!$C$512","v":"Insert value"},{"$f":"Translate!$C$512","v":"Insert value"},{"$f":"Translate!$C$512","v":"Insert value"},{"$f":"Translate!$C$512","v":"Insert value"}]
[null,{"$f":"Translate!$C$511","v":"New crop"},205,{"$f":"Translate!$C$512","v":"Insert value"},{"$f":"Translate!$C$512","v":"Insert value"},{"$f":"Translate!$C$512","v":"Insert value"},{"$f":"Translate!$C$512","v":"Insert value"},0,{"$f":"Translate!$C$512","v":"Insert value"},{"$f":"Translate!$C$512","v":"Insert value"},{"$f":"Translate!$C$512","v":"Insert value"},{"$f":"Translate!$C$512","v":"Insert value"},{"$f":"Translate!$C$512","v":"Insert value"},{"$f":"Translate!$C$512","v":"Insert value"}]
[null,{"$f":"Translate!$C$511","v":"New crop"},206,{"$f":"Translate!$C$512","v":"Insert value"},{"$f":"Translate!$C$512","v":"Insert value"},{"$f":"Translate!$C$512","v":"Insert value"},{"$f":"Translate!$C$512","v":"Insert value"},0,{"$f":"Translate!$C$512","v":"Insert value"},{"$f":"Translate!$C$512","v":"Insert value"},{"$f":"Translate!$C$512","v":"Insert value"},{"$f":"Translate!$C$512","v":"Insert value"},{"$f":"Translate!$C$512","v":"Insert value"},{"$f":"Translate!$C$512","v":"Insert value"}]
[null,{"$f":"Translate!$C$511","v":"New crop"},207,{"$f":"Translate!$C$512","v":"Insert value"},{"$f":"Translate!$C$512","v":"Insert value"},{"$f":"Translate!$C$512","v":"Insert value"},{"$f":"Translate!$C$512","v":"Insert value"},0,{"$f":"Translate!$C$512","v":"Insert value"},{"$f":"Translate!$C$512","v":"Insert value"},{"$f":"Translate!$C$512","v":"Insert value"},{"$f":"Translate!$C$512","v":"Insert value"},{"$f":"Translate!$C$512","v":"Insert value"},{"$f":"Translate!$C$512","v":"Insert value"}]
[null,{"$f":"Translate!$C$511","v":"New crop"},208,{"$f":"Translate!$C$512","v":"Insert value"},{"$f":"Translate!$C$512","v":"Insert value"},{"$f":"Translate!$C$512","v":"Insert value"},{"$f":"Translate!$C$512","v":"Insert value"},0,{"$f":"Translate!$C$512","v":"Insert value"},{"$f":"Translate!$C$512","v":"Insert value"},{"$f":"Translate!$C$512","v":"Insert value"},{"$f":"Translate!$C$512","v":"Insert value"},{"$f":"Translate!$C$512","v":"Insert value"},{"$f":"Translate!$C$512","v":"Insert value"}]
[null,{"$f":"Translate!$C$511","v":"New crop"},209,{"$f":"Translate!$C$512","v":"Insert value"},{"$f":"Translate!$C$512","v":"Insert value"},{"$f":"Translate!$C$512","v":"Insert value"},{"$f":"Translate!$C$512","v":"Insert value"},0,{"$f":"Translate!$C$512","v":"Insert value"},{"$f":"Translate!$C$512","v":"Insert value"},{"$f":"Translate!$C$512","v":"Insert value"},{"$f":"Translate!$C$512","v":"Insert value"},{"$f":"Translate!$C$512","v":"Insert value"},{"$f":"Translate!$C$512","v":"Insert value"}]
[null,{"$f":"Translate!$C$511","v":"New crop"},210,{"$f":"Translate!$C$512","v":"Insert value"},{"$f":"Translate!$C$512","v":"Insert value"},{"$f":"Translate!$C$512","v":"Insert value"},{"$f":"Translate!$C$512","v":"Insert value"},0,{"$f":"Translate!$C$512","v":"Insert value"},{"$f":"Translate!$C$512","v":"Insert value"},{"$f":"Translate!$C$512","v":"Insert value"},{"$f":"Translate!$C$512","v":"Insert value"},{"$f":"Translate!$C$512","v":"Insert value"},{"$f":"Translate!$C$512","v":"Insert value"}]

{"sheet":"Translate","index":7,"n_rows":585,"n_cols":9,"rows_kept":585,"cut":false,"hidden":false,"merged":[[1,1,2,2],[7,1,14,1],[4,1,4,8]]}
[]
[null,{"$f":"$C$17","v":"Do not modify this sheet"}]
[]
[]
[null,{"$f":"$C$18","v":"Reference Row"}]
[null,{"$f":"$C$19","v":"Selected Language:"},{"$f":"'READ ME'!$G$11","v":"English"},"English","Français","Español","العربية"]
[null,{"$f":"C21","v":"Language code:"},{"$f":"$C$22","v":"Must specify language code (as indicated in the existing languages) to format dates "},"[$-409]","[$-40C]","[$-C0A]","[$-401]"]
[null,{"$f":"$C$20","v":"Sheet name"},{"$f":"HLOOKUP($C$6,$D$6:$I$585,ROW()-ROW($B$5),FALSE)","v":"READ ME"},"READ ME","LISER MOI","LÉEME","اقرأ هذه الصفحة"]
[null,null,"1 Geographic Data","1 Geographic Data","1 Données géographiques","1 Datos geográficos","1 البيانات الجغرافية"]
[null,null,"2 Soil Texture Calculator","2 Soil Texture Calculator","2 Calculateur de texture du sol","2 Calculadora de textura del suelo","2 الحاسبة الآلية لقوام التربة"]
[null,null,"3 Irrigation Schedule","3 Irrigation Schedule","3 Calendrier de l’irrigation","3 Programación de riego","3 جدولة الري"]
[null,null,"4 Summary","4 Summary","4 Bilan","4 Resumen","4 ملخص"]
[null,null,"5 How this tool works","5 How this tool works","5 Comment ça fonctionne","5 Funcionamiento","5 كيف تعمل هذه الأداة"]
[null,null,"Crop Information","Crop Information","Information sur les cultures","Información sobre cultivos","معلومات المحاصيل"]
[null,null,"Translate","Translate","Traduire","Traducción","ترجمة"]
[]
[null,{"$f":"$C$15","v":"Translate"},{"$f":"HLOOKUP($C$6,$D$6:$I$585,ROW()-ROW($B$5),FALSE)","v":"Do not modify this sheet"},"Do not modify this sheet","Ne modifiez pas cette feuille","No modifique esta hoja","لا تعدل هذه الصفحة"]
[null,null,"Reference Row","Reference Row","Ligne de référence","Fila de referencia","صف مرجعي"]
[null,null,"Selected Language:","Selected Language:","Langue sélectionnée:","Idioma seleccionado:","اللغة المختارة:"]
[null,null,"Sheet name","Sheet name","Nom de la feuille","Nombre de la hoja","اسم الصفحة"]
[null,null,"Language code:","Language code:","Code langue :","Código de lenguaje:","رمز اللغة:"]
[null,null,"Must specify language code (as indicated in the existing languages) to format dates ","Must specify language code (as indicated in the existing languages) to format dates ","Doit spécifier le code de langue (comme indiqué dans les langues existantes) pour formater les dates","Debe especificar el código de idioma (como se indica en los idiomas existentes) para formatear las fechas","يجب تحديد رمز اللغة (كما هو موضح في اللغات الموجودة) لضبط التواريخ"]
[]
[null,{"$f":"$C$8","v":"READ ME"},{"$f":"HLOOKUP($C$6,$D$6:$I$585,ROW()-ROW($B$5),FALSE)","v":"Select language"},"Select language","Sélectionner la langue","Seleccione el idioma","اختار اللغة"]
[null,null,"Read Me Sheet","Read Me Sheet","Feuille Lisez-moi","Léeme","اقرأ هذه الصفحة"]
[null,null,"IRRIGATE – Soil Tool","IRRIGATE – Soil Tool","IRRIGUER – Outil \"Sol\"","RIEGA – Herramienta de suelos","الري - أداة التربة"]
[null,null,"Introduction","Introduction","Introduction","Introducción","مقدمة"]
[null,null,"This tool serves to determine your soil profile and to find an irrigation schedule for a selected crop. \nIt complements the \"SAFEGUARD WATER – Water Requirement Tool\". A further complimentary tool is available under: ","This tool serves to determine your soil profile and to find an irrigation schedule for a selected crop. \nIt complements the \"SAFEGUARD WATER – Water Requirement Tool\". A further complimentary tool is available under: ","Cet outil vous aide déterminer le profil de votre sol et trouver un calendrier d'irrigation pour une culture sélectionnée. \nIl complète le \"PRÉSERVER L'EAU - Outil d'évaluation des besoins en eau\". Un autre outil complémentaire est disponible sous :","Esta herramienta sirve para determinar el perfil del suelo y para encontrar un programa de riego para un cultivo seleccionado.                                                        Viene a complementar a \"SALVAGUARDA EL AGUA - Herramienta de Estimación de las Necesidades de Agua\". Otra herramienta complementaria está disponible en: ","تعمل هذه الأداة على تحديد خصائص التربة و جدولة  الري المناسبة وفقا للمحصول المحدد.                                      هذه الأداة مكمّلة لأداة  \"حماية المياه: أداة احتياجات المياه\". تتوفر أداة إضافية أخرى تحت:"]
[null,null,"Tips & Tricks","Tips & Tricks","Conseils et Astuces","Consejos y trucos","نصائح وحيل"]
[null,null,"● Make sure that macro is always enabled for the proper functioning of this tool  ","● Make sure that macro is always enabled for the proper functioning of this tool  ","● Assurez-vous que les macros sont toujours activées pour le bon fonctionnement de cet outil ","● Asegúrese de que la macro esté siempre habilitada para el correcto funcionamiento de esta herramienta.","● تأكد من تمكين الماكرو دائمًا من أجل حسن سير هذه الأداة"]
[null,null,"● Only enter values into white cells","● Only enter values into white cells","● Saisissez des valeurs uniquement dans les cellules blanches","● Solo ingrese valores en las celdas blancas.","● أدخل القيم فقط في الخلايا البيضاء"]
[null,null,"● This tool comprises drop down lists and macros to simplify data entry and results review.","● This tool comprises drop down lists and macros to simplify data entry and results review.","● Cet outil contient des listes déroulantes et des macros pour simplifier la saisie des données et la présentation des résultats.","● Esta herramienta incluye listas desplegables y macros para simplificar la entrada de datos y la revisión de resultados.","● تتضمن هذه الأداة قوائم منسدلة ووحدات ماكرو لتبسيط إدخال البيانات ومراجعة النتائج."]
[null,null,"● For the multilanguage option to work properly, do NOT delete sheets","● For the multilanguage option to work properly, do NOT delete sheets","● Pour que l'option multilingue fonctionne correctement, ne supprimez PAS les feuilles","● Para que la opción de varios idiomas funcione correctamente, NO elimine las hojas.","● لكي يعمل خيار اللغات المتعددة بشكل صحيح ، لا تحذف الصفحات"]
[null,null,"● Make sure that this file is always saved as \".xlsm\"    \n","● Make sure that this file is always saved as \".xlsm\"    \n","● Assurez-vous que ce fichier est toujours enregistré sous \".xlsm\"    \n","● Asegúrese de que este archivo siempre se guarde como \".xlsm\"","● تأكد من حفظ هذا الملف دائمًا باسم \".xlsm\""]
[null,null,"Overview","Overview","Aperçu","Sinopsis","نظرة عامة"]
[null,null,"This tool comprises the following sheet:","This tool comprises the following sheet:","Cet outil est composé des feuilles suivantes:","Esta herramienta incluye las siguientes hojas:","تتكون هذه الأداة من الصفحات التالية:"]
[null,null,"for adding basic site information and entering climatic data","for adding basic site information and entering climatic data","pour ajouter des informations de base sur le site et entrer les données climatique","Información básica del lugar y datos de precipitación y temperatura","لإضافة معلومات الموقع الأساسية وإدخال البيانات المناخية"]
[null,null,"for calculation of your soil type","for calculation of your soil type","pour le calcul de votre type de sol","para calcular tipo de suelo","لحساب نوع التربة الخاصة بك"]
[null,null,"for selecting a crop and planting period; for automatic calculation of water requirement for a single crop; for calculation of an irrigation schedule","for selecting a crop and planting period; for automatic calculation of water requirement for a single crop; for calculation of an irrigation schedule","pour le choix d'une culture et d'une période de plantation ; pour le calcul automatique des besoins en eau d'une seule culture ; pour le calcul d'un calendrier d'irrigation","seleccionar un cultivo y un período de siembra; para el cálculo automático de las necesidades de agua de un solo cultivo; para el cálculo de un planificación de riego","لاختيار المحصول وفترة الزرع ؛ للحساب التلقائي للاحتياجات المائية لمحصول واحد ؛ لحساب جدول الري"]
[null,null,"Summary of outputs for irrigation quantity and frequency, and water storage requirements","Summary of outputs for irrigation quantity and frequency, and water storage requirements","Résumé des apports pour la quantité et la fréquence d'irrigation, et les besoins de stockage de l'eau d'irrigation","Resumen de la cantidad y frecuencia de riego, y las necesidades de almacenamiento de agua de riego","ملخص كمية ووتيرة الري، ومتطلبات تخزين المياه"]
[null,null,"for understanding the way this tool works and on which data it is based on","for understanding the way this tool works and on which data it is based on","pour comprendre le fonctionnement de l'outil Sols & Irrigation","Explicación del funcionamiento de esta herramienta y en qué datos se basa","لفهم طريقة عمل هذه الأداة والبيانات التي تستند إليها"]
[null,null,"for adjusting and adding the necessary crops information","for adjusting and adding the necessary crops information","pour ajuster et ajouter les informations nécessaires sur les cultures","Con posibilidad de adaptar y añadir cultivos y sus respectivas necesidades de agua","لضبط وإضافة معلومات المحاصيل اللازمة"]
[null,null,"This tool is based on the FAO Irrigation and Drainage Paper No. 56. Crop Evapotranspiration (guidelines for computing crop water requirements), available at:","This tool is based on the FAO Irrigation and Drainage Paper No. 56. Crop Evapotranspiration (guidelines for computing crop water requirements), available at:","Cet outil est basé sur le document n° 56 de la FAO sur l'irrigation et le drainage. Evapotranspiration des cultures (directives pour le calcul des besoins en eau des cultures), disponible sur: ","Esta herramienta se basa en el documento de riego y drenaje de la FAO n° 56: Evapotranspiración de cultivos (directrices para calcular los necesidades de agua de los cultivos), disponible en:","تعتمد هذه الأداة على ورقة الري والصرف رقم 56 الصادرة عن منظمة الأغذية والزراعة: البخر- نتح  المحاصيل (مبادئ توجيهية لحساب الإحتياجات المائية للمحاصيل) ، وهي متاحة على الموقع:"]
[null,null,"About","About","En savoir plus","Acerca de","حول"]
[null,null,"Published by: ","Published by: ","Publié par: ","Publicado por: ","نشرت من قبل:"]
[null,null,"Resposible:","Resposible:","Responsables:","Responsable:","مسؤول:"]
[null,null,"Contact:","Contact:","Contact:","Contacto: ","اتصال:"]
[null,null,"Download link:","Download link:","Lien de téléchargement:","Enlace descarga: ","رابط التحميل:"]
[null,null,"About:","About:","À propos de: ","Acerca de:","حول:"]
[null,null,"Version:","Version:","Version:","Versión:","إصدار:"]
[null,null,"GIZ & FAO","GIZ & FAO","GIZ et FAO","GIZ & FAO","الوكالة الألمانية للتعاون الدولي (GIZ) ومنظمة الأغذية والزراعة (FAO)"]
[null,null,"GIZ project \"Water and Energy for Food (WE4F)\"","GIZ project \"Water and Energy for Food (WE4F)\"","Projet de la GIZ « Les innovations dans l’agriculture et la production alimentaire protègent le climat (PEEPA/WE4F) » (Water and Energy for Food)","GIZ project \"Water and Energy for Food (WE4F)\"","مشروع الوكالة الألمانية للتعاون الدولي \"المياه والطاقة من أجل الغذاء Water and Energy for Food (WE4F)\""]
[null,null,"Water and Energy for Food Grand Challenge at:  ","Water and Energy for Food Grand Challenge at:  ","Eau et Energie pour l'Alimentation (PEEPA). Disponible à l’adresse :  ","Water and Energy for Food Grand Challenge at:  ","التحدي الكبير للمياه والطاقة من أجل الغذاء في:"]
[null,null,"3.0 (June 2021)","3.0 (June 2021)","3.0 (Juin 2021)","3.0 (Junio 2021)","3.0 (يونيو 2021)"]
[null,null,"The Toolbox on Solar Powered Irrigation Systems (SPIS) is a legacy project of the global initiative Powering Agriculture: An Energy Grand Challenge for Development (PAEGC). In 2012, the United States Agency for International Development (USAID), the Swedish International Development Cooperation Agency (Sida), the German Federal Ministry for Economic Cooperation and Development (BMZ), Duke Energy, and the Overseas Private Investment Corporation (OPIC) combined resources to support new and sustainable approaches to accelerate the development and deployment of clean energy solutions for increasing agriculture productivity.\n\nThe Toolbox on SPIS has now been embraced for further development by PAEGC's successor program Water and Energy for Food (WE4F). WE4F is a joint international initiative of the European Union (EU), the German Federal Ministry for Economic Cooperation and Development (BMZ), the Ministry of Foreign Affairs of the Kingdom of the Netherlands, Sweden through the Swedish International Development Cooperation Agency (Sida), and the U.S. Agency for International Development (USAID). WE4F aims to increase food production along the value chain through a more sustainable and efficient usage of water and/or energy.","The Toolbox on Solar Powered Irrigation Systems (SPIS) is a legacy project of the global initiative Powering Agriculture: An Energy Grand Challenge for Development (PAEGC). In 2012, the United States Agency for International Development (USAID), the Swedish International Development Cooperation Agency (Sida), the German Federal Ministry for Economic Cooperation and Development (BMZ), Duke Energy, and the Overseas Private Investment Corporation (OPIC) combined resources to support new and sustainable approaches to accelerate the development and deployment of clean energy solutions for increasing agriculture productivity.\n\nThe Toolbox on SPIS has now been embraced for further development by PAEGC's successor program Water and Energy for Food (WE4F). WE4F is a joint international initiative of the European Union (EU), the German Federal Ministry for Economic Cooperation and Development (BMZ), the Ministry of Foreign Affairs of the Kingdom of the Netherlands, Sweden through the Swedish International Development Cooperation Agency (Sida), and the U.S. Agency for International Development (USAID). WE4F aims to increase food production along the value chain through a more sustainable and efficient usage of water and/or energy.","La boîte à outils pour les systèmes d’irrigation à énergie solaire (Solar Powered Irrigation Systems, SPIS) est un projet hérité de l'initiative mondiale « Propulser l’agriculture : un grand défi énergétique pour le développement » (Powering Agriculture: An Energy Grand Challenge for Development – PAEGC). En 2012, l’Agence des États-Unis pour le développement international (USAID), l’Agence suédoise de coopération internationale au développement (Sida), le ministère fédéral allemand de la Coopération économique et du Développement (BMZ), Duke Energy et l’Overseas Private Investment Cooperation (OPIC) ont mis leurs ressources en commun pour soutenir des approches nouvelles et durables afin d'accélérer le développement et le déploiement des solutions énergétiques propres pour accroître la productivité agricole.\n\nLa boîte à outils sur les SPIS a maintenant été adoptée pour un développement ultérieur par le programme successeur du PAEGC, Eau et Energie pour l'Alimentation (PEEPA) - Water and Energy for Food (WE4F). WE4F/PEEPA est une initiative commune de l'Union européenne, du Ministère fédéral allemand de la coopération économique et du développement (BMZ), du Ministère des affaires étrangères du royaume des Pays-Bas, de l’Agence suédoise de développement (Sida) et de l’Agence de développement des États-Unis (USAID). WE4F/PEEPA vise à accroître la production alimentaire tout au long de la chaîne de valeur grâce à une utilisation plus durable et plus efficace de l'eau et/ou de l'énergie.","La publicación de la Caja de herramientas de sistemas de riego solar ha sido posible gracias al apoyo brindado por la iniciativa mundial Powering Agriculture: An Energy Grand Challenge for Development (PAEGC) (Energización Rural: Un gran desafío energético para el desarrollo). En 2012, la Agencia de los Estados Unidos para el Desarrollo Internacional (USAID), la Agencia Sueca de Cooperación Internacional para el Desarrollo (Sida), el Ministerio Federal de Cooperación Económica y Desarrollo (BMZ) de Alemania, la empresa de energía Duke Energy Corporation y la Corporación de Inversiones Privadas en el Extranjero (OPIC) juntaron recursos para crear la iniciativa PAEGC. El objetivo de PAEGC es fomentar nuevos enfoques sostenibles con el fin de acelerar el desarrollo y asegurar el establecimiento de energías limpias que incrementen la productividad y/o el valor de la agricultura en países en desarrollo y regiones emergentes sin acceso a fuentes de energía confiables, asequibles y limpias.","يعتبر صندوق الأدوات الخاص بأنظمة الري التي تعمل بالطاقة الشمسية (SPIS) مشروعًا هاما للمبادرة العالمية \"دعم الزراعة: تحدي الطاقة الكبير من أجل التنمية\" Powering Agriculture: An Energy Grand Challenge for Development (PAEGC). في عام 2012 ، قامت الوكالة الأمريكية للتنمية الدولية (USAID) ، والوكالة السويدية للتعاون الإنمائي الدولي (ٍSida) ، والوزارة الفيدرالية الألمانية للتعاون الاقتصادي والتنمية (BMZ) ، وشركة Duke Energy ، ومؤسسة الاستثمار الخاص لما وراء البحار (OPIC) بجهود مشتركة لدعم الأساليب الجديدة والمستدامة لتسريع تطوير ونشر حلول الطاقة النظيفة لزيادة الإنتاجية الزراعية.\n\nتم اعتماد صندوق SPIS الآن لمزيد من التطوير من قبل البرنامج اللاحق لـ PAEGC \"الماء والطاقة من اجل الغذاء\" Water and Energy for Food (WE4F). الاخير هو مبادرة دولية مشتركة من الاتحاد الأوروبي (EU) ، والوزارة الاتحادية الألمانية للتعاون الاقتصادي والتنمية (BMZ) ، ووزارة الشؤون الخارجية لمملكة هولندا ، والسويد من خلال الوكالة السويدية للتعاون الإنمائي الدولي (Sida) ، والوكالة الأمريكية للتنمية الدولية (USAID). تهدف WE4F إلى زيادة إنتاج الغذاء على امتداد سلاسل القيمة الغذائية من خلال استخدام المياه و / أو الطاقة بطريقة أكثر استدامة وكفاءة."]
[null,null,"The designations employed and the presentation of material in this information product do not imply the expression of any opinion whatsoever on the part of Deutsche Gesellschaft für Internationale Zusammenarbeit (GIZ) GmbH, Food and Agriculture Organization of the United Nations (FAO) or any of the PAEGC Founding Partners concerning the legal or development status of any country, territory, city or area or of its authorities, or concerning the delimitation of its frontiers or boundaries. The mention of specific companies or products of manufacturers, whether or not these have been patented, does not imply that these have been endorsed or recommended by GIZ, FAO, or any of the PAEGC Founding Partners in preference to others of a similar nature that are not mentioned. The views expressed in this information product are those of the author and do not necessarily reflect the views or policies of GIZ, FAO, or any of the PAEGC Founding Partners.","The designations employed and the presentation of material in this information product do not imply the expression of any opinion whatsoever on the part of Deutsche Gesellschaft für Internationale Zusammenarbeit (GIZ) GmbH, Food and Agriculture Organization of the United Nations (FAO) or any of the PAEGC Founding Partners concerning the legal or development status of any country, territory, city or area or of its authorities, or concerning the delimitation of its frontiers or boundaries. The mention of specific companies or products of manufacturers, whether or not these have been patented, does not imply that these have been endorsed or recommended by GIZ, FAO, or any of the PAEGC Founding Partners in preference to others of a similar nature that are not mentioned. The views expressed in this information product are those of the author and do not necessarily reflect the views or policies of GIZ, FAO, or any of the PAEGC Founding Partners.","Les appellations employées dans ce produit d’information et la présentation des documents qui y figurent n’impliquent de la part de la Deutsche Gesellschaft für Internationale Zusammenarbeit (GIZ) GmbH, de l’Organisation des Nations unies pour l’alimentation et l’agriculture (FAO) ou de l’un des partenaires fondateurs de l’initiative PAEGC aucune prise de position quant au statut juridique ou au stade de développement des pays, territoires, villes ou zones ou de leurs autorités, ni quant au tracé de leurs frontières ou limites. La mention de sociétés déterminées ou de produits de fabricants, qu’ils soient ou non brevetés, n’entraîne de la part de la GIZ, de la FAO ou de l’un des partenaires fondateurs du PAEGC aucune approbation ou recommandation desdits produits de préférence à d’autres de nature analogue qui ne sont pas cités. Les opinions exprimées dans ce produit d’information sont celles des auteurs et ne reflètent pas nécessairement celles de la GIZ, de la FAO, ou de l’un des partenaires fondateurs du PAEGC.","Las denominaciones empleadas y la presentación del material en este producto informativo no implican juicio alguno por parte de la Deutsche Gesellschaft für Internationale Zusammenarbeit (GIZ) GmbH, la Organización de las Naciones Unidas para la Alimentación y la Agricultura (FAO), o los socios fundadores de la iniciativa PAEGC, sobre la condición jurídica o el grado de desarrollo de ninguno de los países, territorios, ciudades o zonas citados o de sus autoridades, ni respecto de la delimitación de sus fronteras o límites. La mención de empresas o productos de fabricantes en particular, estén o no patentados, no implica que la GIZ, la FAO o alguno de los socios fundadores de la iniciativa PAEGC los aprueben o recomienden, dándoles preferencia sobre otros de naturaleza similar que no se mencionan. Las opiniones expresadas en este producto informativo son las de su(s) autor(es) o autora(s), y no reflejan necesariamente los puntos de vista o las políticas de la GIZ, la FAO o ninguno de los socios fundadores de la iniciativa PAEGC.\n","التسميات المستخدمة وطريقة عرض المواد في هذا المنتج المعلوماتي لا تعبر عن أي رأي من جانب Deutsche Gesellschaft für Internationale Zusammenarbeit (GIZ) GmbH أو منظمة الأغذية والزراعة للأمم المتحدة (FAO) أو أي من الشركاء المؤسسين لـ PAEGC فيما يتعلق بالوضع القانوني أو التنموي لأي بلد أو إقليم أو مدينة أو منطقة أو لسلطاتها ، أو فيما يتعلق بترسيم حدودها أو نطاقاتها. إن ذكر شركات أو منتجات معينة من الشركات المصنعة ، سواء تم تسجيل براءات اختراع لها أم لا ، لا يعني أن هذه الشركات أو المنتجات قد تم اعتمادها أو التوصية بها من قبل GIZ أو منظمة الأغذية والزراعة أو أي من الشركاء المؤسسين لـ PAEGC او تفضيلها على الشركات أو المنتجات الاخرى غير مذكورة من نفس الطبيعة. الآراء الواردة في هذا المنتج المعلوماتي هي آراء المؤلف ولا تعكس بالضرورة آراء أو سياسات الوكالة الألمانية للتعاون الدولي أو منظمة الأغذية والزراعة أو أي من الشركاء المؤسسين  لـ PAEGC."]
[null,null,"GIZ, FAO and the PAEGC Founding Partners encourage the use, reproduction and dissemination of material in this information product. Except where otherwise indicated, material may be copied, downloaded and printed for private study, research and teaching purposes, or for use in non-commercial products or services, provided that appropriate acknowledgement of GIZ and FAO as the source and copyright holder is given.","GIZ, FAO and the PAEGC Founding Partners encourage the use, reproduction and dissemination of material in this information product. Except where otherwise indicated, material may be copied, downloaded and printed for private study, research and teaching purposes, or for use in non-commercial products or services, provided that appropriate acknowledgement of GIZ and FAO as the source and copyright holder is given.","La GIZ, la FAO et les partenaires fondateurs du PAEGC encouragent l’utilisation, la reproduction et la diffusion des informations contenues dans ce document. Sauf indication contraire, ces dernières peuvent être copiées, téléchargées et imprimées à des fins privées d’étude, de recherche et d’enseignement, ou pour être utilisées dans des produits ou services non commerciaux, à condition que la GIZ et la FAO soient clairement indiquées en tant que sources des informations et détentrices du droit d’auteur.","La GIZ, la FAO y los socios fundadores de la iniciativa PAEGC fomentan la utilización, la reproducción y la difusión del material presentado en este producto informativo. A menos que se indique lo contrario, el material puede ser copiado, descargado e impreso con fines de estudio privado, enseñanza e investigación científica, o para su utilización en productos o servicios no comerciales, siempre que se otorgue a la GIZ y la FAO el debido reconocimiento como fuentes y como titulares de los derechos de autor.","تشجع الوكالة الألمانية للتعاون الدولي ومنظمة الأغذية والزراعة والشركاء المؤسسين لـ PAEGC على استخدام واستنساخ ونشر المواد في هذا المنتج المعلوماتي. يمكن نسخ المواد وتنزيلها وطباعتها للدراسة الخاصة ، ولأغراض البحث والتعليم ، أو لاستخدامها في المنتجات أو الخدمات غير التجارية ، ما لم يُذكر خلاف ذلك ، شريطة تقديم إقرار مناسب من الوكالة الألمانية للتعاون الدولي ومنظمة الأغذية والزراعة كمصدر وصاحب حقوق التأليف والنشر."]
[null,null,"© GIZ and FAO, 2021","© GIZ and FAO, 2021","© GIZ et FAO, 2021","© GIZ & FAO, 2021","© GIZ و FAO, 2021"]
[]
[null,{"$f":"$C$9","v":"1 Geographic Data"},{"$f":"HLOOKUP($C$6,$D$6:$I$585,ROW()-ROW($B$5),FALSE)","v":"January"},"January","Janvier","Enero","يناير"]
[null,null,"February","February","Février","Febrero","فبراير"]
[null,null,"March","March","Mars","Marzo","مارس"]
[null,null,"April","April","Avril","Abril","أبريل"]
[null,null,"May","May","Mai","Mayo","مايو"]
[null,null,"June","June","Juin","Junio","يونيو"]
[null,null,"July","July","Juillet","Julio","يوليو"]
[null,null,"August","August","Août","Agosto","أغسطس"]
[null,null,"September","September","Septembre","Septiembre","سبتمبر"]
[null,null,"October","October","Octobre","Octubre","أكتوبر"]
[null,null,"November","November","Novembre","Noviembre","نوفمبر"]
[null,null,"December","December","Décembre","Diciembre","ديسمبر"]
[null,null,"IRRIGATE – Soil Tool","IRRIGATE – Soil Tool","IRRIGUER – Outil \"Sol\"","RIEGA – Herramienta de suelos","الري - أداة التربة"]
[null,null,"Enter basic rainfall and climatic data for you location.","Enter basic rainfall and climatic data for you location.","Saisissez les données pluviométriques et climatiques de base de votre site.","Introduzca los datos climáticos de su ubicación.","أدخل البيانات الأساسية للأمطار والمناخ للموقع الخاص بك."]
[null,null,"1 GENERAL GEOGRAPHIC INFORMATION","1 GENERAL GEOGRAPHIC INFORMATION","1 INFORMATIONS GÉOGRAPHIQUES D’ORDRE GÉNÉRAL","1 INFORMACIÓN GEOGRÁFICA GENERAL","1 معلومات جغرافية عامة"]
[null,null,"Country","Country","Pays","País","الدولة"]
[null,null,"Farm code","Farm code","Code de l’exploitation","Código de la granja","رمز المزرعة"]
[null,null,"Region","Region","Région","Región","المنطقة"]
[null,null,"Date","Date","Date","Fecha","التاريخ"]
[null,null,"Name of the farm","Name of the farm","Nom de l’exploitation","Nombre de la granja","اسم المزرعة"]
[null,null,"Village","Village","Village","Localidad","القرية"]
[null,null,"Division","Division","Division","División","القسم"]
[null,null,"District","District","District","Distrito","الحي"]
[null,null,"Select available climatic data:","Select available climatic data:","Sélectionnez les données climatiques disponibles :","Seleccione los datos climáticos disponibles:","حدد البيانات المناخية المتاحة:"]
[null,null,"Option 1:  ","Option 1:  ","Option 1:","Opción 1:","الخيار 1:"]
[null,null,"Only mean temperature","Only mean temperature","Seulement température moyenne","Solo temperatura media","فقط متوسط درجات الحرارة"]
[null,null,"Option 2:  ","Option 2:  ","Option 2:","Opcion 2:","الخيار 2:"]
[null,null,"Maximum and minimum temperature","Maximum and minimum temperature","Température maximale et minimale","Temperatura máxima y mínima","درجة الحرارة العظمى والصغرى"]
[null,null,"Option 3:  ","Option 3:  ","Option 3:","Opcion 3:","الخيار 3:"]
[null,null,"Maximum and minimum temperature; humidity; wind speed; and sun hours ","Maximum and minimum temperature; humidity; wind speed; and sun hours ","Température maximale et minimale ; humidité; vitesse du vent; et heures d'ensoleillement","Temperatura máxima y mínima; humedad; velocidad del viento; y horas de insolación","درجتي الحرارة العظمى والصغرى؛ الرطوبة؛ سرعة الرياح؛ وساعات سطوع الشمس"]
[null,null,"Option 4:  ","Option 4:  ","Option 4:","Opcion 4:","الخيار 4:"]
[null,null,"Reference evapotranspiration","Reference evapotranspiration","Évapotranspiration de référence","Evapotranspiración de referencia","البخر- نتح المرجعي"]
[null,null,{"$f":"HLOOKUP($C$6,$D$6:$I$585,ROW()-ROW($B$5),FALSE)","v":"Mean daily temperature [°C]"},"Mean daily temperature [°C]","Température quotidienne moyenne [°C]","Temperatura media diaria [°C]","المتوسط اليومي لدرجة الحرارة [درجة مئوية]"]
[null,null,"Maximum daily temperature [°C]","Maximum daily temperature [°C]","Température maximale quotidienne [°C]","Temperatura máxima diaria [°C]","درجة الحرارة العظمى اليومية [درجة مئوية]"]
[null,null,"Minimum daily temperature [°C]","Minimum daily temperature [°C]","Température minimale quotidienne [°C]","Temperatura mínima diaria [°C]","درجة الحرارة الصغرى اليومية [درجة مئوية]"]
[null,null,"Relative humidity [%]","Relative humidity [%]","Humidité relative [%]","Humedad relativa [%]","الرطوبة النسبية [٪]"]
[null,null,"Wind speed [m/s]","Wind speed [m/s]","Vitesse du vent [m/s]","Velocidad del viento [m / s]","سرعة الرياح [م / ث]"]
[null,null,"Sunshine [hours]","Sunshine [hours]","Heures d'ensoleillement [heures]","Horas de insolación [horas]","سطوع الشمس [عدد الساعات]"]
[null,null,"Reference evapotranspiration [mm/day]","Reference evapotranspiration [mm/day]","Evapotranspiration de référence [mm/jour]","Evapotranspiración de referencia [mm/día]","البخر- نتح المرجعي [ملم / اليوم]"]
[null,null,"Rainfall [mm/month]","Rainfall [mm/month]","Pluviométrie [mm/mois]","Lluvias [mm/mes]","الأمطار [ملم / الشهر]"]
[null,null,"Use the following links to obtain indicative monthly rainfall and climatic data for the site:","Use the following links to obtain indicative monthly rainfall and climatic data for the site:","Utilisez les liens suivants pour obtenir les données des précipitations mensuelles et les données climatiques indicatives du site :","Usar los siguientes enlaces para obtener datos indicativos de precipitaciones mensuales y datos climáticos del lugar:","استخدم الروابط التالية للحصول على بيانات إرشادية شهرية عن الأمطار و المناخ للموقع:"]
[null,null,"Select geographic location:","Select geographic location:","Sélectionnez l'emplacement géographique:","Seleccionar ubicación geográfica:","حدد الموقع الجغرافي:"]
[null,null,"Latitude:","Latitude:","Latitude:","Latitud:","خط العرض:"]
[null,null,"Longitude:","Longitude:","Longitude:","Longitud:","خط الطول:"]
[null,null," decimal degree"," decimal degree","  degré décimal","  grado decimal","درجة عشرية"]
[null,null,"Hemisphere:","Hemisphere:","Hémisphère:","Hemisferio:","نصف الكرة الأرضية:"]
[null,null,"North","North","Nord","Norte","الشمالي","North","North"]
[null,null,"South","South","Sud","Sur","الجنوبي","South","South"]
[null,null,"East","East","Est","Este","الشرقي","East","East"]
[null,null,"West","West","Ouest","Oeste","الغربي","West","West"]
[null,null,"Notes:","Notes:","Remarques:","Notas:","ملاحظات:"]
[null,null,"Use the link to identify the exact coordinates of the site:","Use the link to identify the exact coordinates of the site:","Utilisez le lien pour identifier les coordonnées exactes du site :","Usar el enlace para la identificación exacta de coordenadas: ","استخدم الرابط لتحديد الإحداثيات الدقيقة للموقع:"]
[null,null,"Altitude:","Altitude:","Altitude:","Altitud:","ارتفاع:"]
[null,null," meter"," meter"," mètre"," metro","متر"]
[]
[null,{"$f":"$C$10","v":"2 Soil Texture Calculator"},{"$f":"HLOOKUP($C$6,$D$6:$I$585,ROW()-ROW($B$5),FALSE)","v":"IRRIGATE – Soil Tool"},"IRRIGATE – Soil Tool","IRRIGUER – Outil \"Sol\"","RIEGA – Herramienta de suelos","الري - أداة التربة"]
[null,null,"Put in values to determine your soil type","Put in values to determine your soil type","Mettez des valeurs pour déterminer votre type de sol","Introduzca valores para determinar su tipo de suelo","ضع القيم لتحديد نوع التربة"]
[null,null,"2 SOIL TEXTURE CALCULATOR","2 SOIL TEXTURE CALCULATOR","2 CALCULATEUR DE TEXTURE DU SOL","2 CALCULADORA DE TEXTURA DEL SUELO","2 الحاسبة الآلية لقوام التربة"]
[null,null,"Farm code/name:","Farm code/name:","Code/Nom de l’exploitation:","Código/nombre de la granja:","رمز / اسم المزرعة:"]
[null,null,"Percentage of sand:","Percentage of sand:","Pourcentage de sable :","Porcentaje de arena:"," نسبة الرمل"]
[null,null,"Percentage of clay:","Percentage of clay:","Pourcentage d'argile :","Porcentaje de arcilla:","نسبة الطين"]
[null,null,"Percentage of silt:","Percentage of silt:","Pourcentage de limon :","Porcentaje de limo:","نسبة الطمي"]
[null,null,"Soil Texture:","Soil Texture:","Texture du sol:","Textura del suelo:","قوام التربة"]
[null,null,"Field Capacity (FC):","Field Capacity (FC):","Capacité au Champ (CC)","Capacidad de Campo (CC)","السعة الحقلية"]
[null,null,"Permanent Wilting Point (PWP):","Permanent Wilting Point (PWP):","Point de Flétrissement Permanent (PFP)","Punto de Marchitez Permanente (PMP)","نقطة الذبول الدائم"]
[null,null,"Definitions:","Definitions:","Définitions :","Definiciones:","تعريفات:"]
[null,null,"Field Capacity is the amount of soil moisture or water content held in the soil after excess water has drained.","Field Capacity is the amount of soil moisture or water content held in the soil after excess water has drained.","La Capacité au Champ correspond à la quantité d'eau retenue ans le sol après le drainage de l'excès d'eau.","La Capacidad de Campo es la cantidad de humedad del suelo o el contenido de agua que se mantiene en el suelo una vez se ha drenado el exceso de agua y ha disminuido la velocidad del movimiento descendente.","السعة الحقلية هي كمية رطوبة التربة أو محتوى الماء المحتفظ بها في التربة بعد تصريف المياه الزائدة."]
[null,null,"Permanent wilting point is the minimal point of soil moisture the plant requires not to wilt.","Permanent wilting point is the minimal point of soil moisture the plant requires not to wilt.","Le point de flétrissement permanent correspond au seuil en dessus duquel l’humidité du sol ne permet plus à la plante de prélever l'eau dont elle a besoin, car la réserve utile en eau du sol a été entièrement consommée. ","El punto de marchitez permanente es el punto mínimo de humedad del suelo que necesita para que la planta no se marchite.","نقطة الذبول الدائمة هي النقطة الدنيا لرطوبة التربة التي يحتاجها النبات حتى لا يذبل."]
[null,null,"Calculator adapted from:","Calculator adapted from:","Calculateur adapté de:","Calculador adaptado de: ","حاسبة مقتبسة من:"]
[null,null,"United States Department of Agriculture","United States Department of Agriculture","Département de l'Agriculture des États-Unis","Departamento de Agricultura de los Estados Unidos","وزارة الزراعة في الولايات المتحدة"]
[null,null,"Soil Texture Triangle","Soil Texture Triangle","Triangle de texture de sol","Triángulo de textura del suelo","مثلث قوام التربة"]
[null,null,"SAND","SAND","SABLE","ARENA","رمل"]
[null,null,"LOAMY SAND","LOAMY SAND","SABLE LIMONEUX","ARENA FRANCO","رمل طًفلي"]
[null,null,"SANDY LOAM","SANDY LOAM","LIMON SABLEUX","FRANCO ARENOSO","طًفل رملي"]
[null,null,"LOAM","LOAM","LIMON","FRANCO","طًفل"]
[null,null,"SILT LOAM","SILT LOAM","LIMON FIN","FRANCO LIMOSO","طًفل طميي"]
[null,null,"SILT","SILT","LIMON TRES FIN","LIMO","طمي"]
[null,null,"SANDY CLAY LOAM","SANDY CLAY LOAM","LIMON ARGILO-SABLEUSE","FRANCO ARCILLO-ARENOSA","طًفل طيني رملي"]
[null,null,"CLAY LOAM","CLAY LOAM","LIMON ARGILEUX","FRANCO ARCILLOSO","طًفل طيني"]
[null,null,"SILTY CLAY LOAM","SILTY CLAY LOAM","LIMON ARGILEUX FIN","FRANCO ARCILLO-LIMOSO","طًفل طيني طميي "]
[null,null,"SANDY CLAY","SANDY CLAY","ARGILE SABLEUSE","ARCILLO ARENOSO","طين رملي"]
[null,null,"SILTY CLAY","SILTY CLAY","ARGILE LIMONEUSE","ARCILLO LIMOSO","طين طميي"]
[null,null,"CLAY","CLAY","ARGILE","ARCILLA","طين"]
[null,null,"Sand","Sand","Sable","Arena","رمل"]
[null,null,"Loamy sand","Loamy sand","Sable limoneux","Arena franco","رمل طًفلي"]
[null,null,"Sandy loam","Sandy loam","Limon sableux","Franco arenoso","طًفل رملي"]
[null,null,"Sandy clay loam","Sandy clay loam","Limon argilo-sableuse","Franco arcillo-arenosa","طًفل طيني رملي"]
[null,null,"Loam","Loam","Limon","Franco","طًفل"]
[null,null,"Sandy clay","Sandy clay","Argile sableuse","Arcillo arenoso","طين رملي"]
[null,null,"Silt loam","Silt loam","Limon fin","Franco limoso","طًفل طميي"]
[null,null,"Silt","Silt","Limon très fin","Limo","طمي"]
[null,null,"Clay loam","Clay loam","Limon argileux","Franco arcilloso","طًفل طيني"]
[null,null,"Silty clay loam","Silty clay loam","Limon argileux fin","Franco arcillo-limoso","طًفل طيني طميي "]
[null,null,"Silty clay","Silty clay","Argile limoneuse","Arcillo limoso","طين طميي"]
[null,null,"Clay","Clay","Argile","Arcilla","طين"]
[null,null,"Characteristics of soils of the type:","Characteristics of soils of the type:","Caractéristiques des sols de type :","Características de los suelos de tipo:","خصائص التربة من النوع:"]
[]
[null,{"$f":"$C$11","v":"3 Irrigation Schedule"},{"$f":"HLOOKUP($C$6,$D$6:$I$585,ROW()-ROW($B$5),FALSE)","v":"IRRIGATE – Soil Tool"},"IRRIGATE – Soil Tool","IRRIGUER – Outil \"Sol\"","RIEGA – Herramienta de suelos","الري - أداة التربة"]
[null,null,"Select crop intended for planting at your location, for automatic indication of water requirements","Select crop intended for planting at your location, for automatic indication of water requirements","Sélectionnez la culture qui va être plantée sur votre site afin d’obtenir une indication requirements","Seleccione el cultivo que desee plantar para indicación automática de necesidades de agua","حدد المحاصيل المخصصة للزراعة في موقعك ، للإشارة التلقائية لمتطلبات المياه"]
[null,null,"3 IRRIGATION SCHEDULE","3 IRRIGATION SCHEDULE","3 CALENDRIER DE L’IRRIGATION","3 PROGRAMACIÓN DEL RIEGO","3 جدولة الري"]
[null,null,"Farm code/name:","Farm code/name:","Code/Nom de l’exploitation:","Código/nombre de la granja:","رمز / اسم المزرعة:"]
[null,null,"Conversion factor to 1 ha:","Conversion factor to 1 ha:","Facteur de conversion pour 1 ha :","Factor de conversión a 1 ha:","عامل التحويل إلى 1 هكتار:"]
[null,null,"Area measurement unit: ","Area measurement unit: ","Unité de mesure de surface :","Unidad de medida del área: ","وحدة قياس المساحة:"]
[null,null,"ha","ha","ha","ha","هكتار"]
[null,null,"acre","acre","acre","acre","أكر"]
[null,null,"Sq. km","Sq. km","km carré","km cuad.","كيلومتر مربع"]
[null,null,"Sq. m","Sq. m","m carré","m cuad.","متر مربع"]
[null,null,"Sq. yard","Sq. yard","verge carrée","yarda cuad.","ياردة مربعة"]
[null,null,"Sq. ft","Sq. ft","pied carré","pie cuad.","قدم مربع"]
[null,null,"Irrigation water need [mm/day]","Irrigation water need [mm/day]","Besoin en eau d'irrigation [mm/mois]","Necesidad de agua de riego [mm/mes]","الإحتياجات المائية للري [مم / الشهر]"]
[null,null,"°C","°C","°C","°C","درجة مئوية"]
[null,null,"mm/month","mm/month","mm/mois","mm/mes","مم / الشهر"]
[null,null,"Above average temperature","Above average temperature","Température au dessus de la moyenne","Temperatura por encima del promedio","درجة الحرارة فوق المتوسط"]
[null,null,"Above average rainfall","Above average rainfall","Pluviométrie supérieure à la moyenne","Lluvia por encima del promedio","تساقط الأمطار فوق المتوسط "]
[null,null,"Estimation of crop uptake","Estimation of crop uptake","Estimation de l’absorption de la culture","Estimación de la absorción del cultivo","تقدير امتصاص المحاصيل"]
[null,null,"Crop to be irrigated ","Crop to be irrigated ","Culture à irriguer","Cultivo a regar","المحاصيل المراد ريها"]
[null,null,"Area","Area","Superficie","Área","المساحة"]
[null,null,"Planting Date","Planting Date","Date de plantation","Fecha de siembra","تاريخ الزراعة"]
[null,null,"Irrigation method","Irrigation method","Méthode d'irrigation","Método de riego","طريقة الري"]
[null,null,"Irrigation Efficiency","Irrigation Efficiency","Efficacité de l'irrigation","Eficiencia de riego","كفاءة الري"]
[null,null,"Maximum possible irrigation application","Maximum possible irrigation application","Application d'irrigation maximale possible","Aplicación máxima posible de riego","الحد الأقصى من المياه الممكن إضافتها "]
[null,null,"Surface: Graded furrow","Surface: Graded furrow","Surface: Irrigation à la raie (inclinée)","Superficie: Riego por surcos (inclinado)","الري السطحي: الري على الخطوط"]
[null,null,"Surface: with tailwater reuse","Surface: with tailwater reuse","Surface: avec réutilisation des eaux en aval","Superficie: con reutilización de agua de drenaje","الري السطحي: مع اعادة استخدام مياه الصرف الزراعي"]
[null,null,"Surface: Graded border/basins","Surface: Graded border/basins","Surface: Bassins/planches (inclinées)","Superficie: Riego por fajas/tablares (inclinado)","الري السطحي: الري بالاحواض و الري الشريطي"]
[null,null,"Sprinkler: Periodic move","Sprinkler: Periodic move","Aspersion: Déplacement périodique","Aspersión: Desplazamiento periódico","الري بالرش: النقالي"]
[null,null,"Sprinkler: Side roll","Sprinkler: Side roll","Aspersion: Rouleau latéral","Aspersión: Side Roll","الري بالرش: المتدحرج"]
[null,null,"Sprinkler: Moving big gun","Sprinkler: Moving big gun","Aspersion: Canon déplaçable","Aspersión: Cañón movible","الري بالرش: الري المدفعي"]
[null,null,"Center pivot: Impact heads with end gun","Center pivot: Impact heads with end gun","Pivot central: Asperseurs à batteur avec canon d'extrémité","Pivote central: Aspersores de impacto con cañón final","الري المحوري: رشاش ارتدادي مع رشاش مدفعي على الطرف"]
[null,null,"Center pivot: Spray heads without end gun","Center pivot: Spray heads without end gun","Pivot central: Arroseur sans canon d'extrémité","Pivote central: Rociador sin cañón final","الري المحوري: رشاش بدون رشاش مدفعي على الطرف"]
[null,null,{"$f":"HLOOKUP($C$6,$D$6:$I$585,ROW()-ROW($B$5),FALSE)","v":"Center pivot: LEPA without end gun"},"Center pivot: LEPA without end gun","Pivot central : Système LEPA sans canon d'extrémité","Pivote central: LEPA sin cañón final","الري المحوري: تدفق المياه منخفضة الطاقة (LEPA) بدون رشاش مدفعي على الطرف"]
[null,null,"Lateral move: Spray heads with hose feed","Lateral move: Spray heads with hose feed","Mouvement latéral: Arroseur avec alimentation par tuyau","Movimiento lateral: Rociador con alimentación por manguera","الري الجانبي: بخاخ - مغدى من خرطوم"]
[null,null,"Lateral move: Spray heads with canal feed","Lateral move: Spray heads with canal feed","Mouvement latéral: Arroseur avec alimentation par canal","Movimiento lateral: Rociador con alimentación del canal","الري الجانبي: بخاخ - مغدى من قناة"]
[null,null,"Microirrigation: Drip irrigation","Microirrigation: Drip irrigation","Microirrigation: Goutte à goutte","microirrigación: Goteo","الري الدقيق: الري بالتنقيط السطحي"]
[null,null,"Microirrigation: Subsurface drip","Microirrigation: Subsurface drip","Microirrigation: Goutte à goutte enterrée","microirrigación: Sub-Irrigación","الري الدقيق: الري بالتنقيط تحت السطحي"]
[null,null,"Microirrigation: Microspray","Microirrigation: Microspray","Microirrigation: Micro-asperseur","microirrigación: Micro-aspersión","الري الدقيق: رشاشات متناهية الصغر"]
[null,null,"Garden hose","Garden hose","Tuyau d'arrosage","Manguera de riego","الري بالخرطوم"]
[null,null,"Indicative values for application depths of the various irrigation methods","Indicative values for application depths of the various irrigation methods","Valeurs indicatives pour les profondeurs d'application des différentes méthodes d'irrigation","Valores indicativos para las profundidades de aplicación de los distintos métodos de riego","القيم الإرشادية لمياه الري الممكن إضافتها "]
[null,null,"Application Depth (mm)","Application Depth (mm)","Profondeur d'application (mm)","Profundidad de aplicación (mm)","مياه الري (مم)"]
[null,null,"Small basins (<200 m2)","Small basins (<200 m2)","Petits bassins (<200 m2)","Tablares pequeñas (<200 m2)","الري بالاحواض الصغيرة (<200 م2)"]
[null,null,"Large basins (>500 m2)","Large basins (>500 m2)","Grands bassins (>500 m2)","Tablares grandes (>500 m2)","الري بالاحواض الكبيرة (>500 م2)"]
[null,null,"Furrows","Furrows","A la raie","Surcos","الري على الخطوط"]
[null,null,"Borders","Borders","Planches","Fajas","الري الشريطي"]
[null,null,"Sprinkler","Sprinkler","Aspersion","Aspersión","الري بالرش"]
[null,null,"Drip","Drip","Goutte à goutte","Goteo","الري بالتنقيط"]
[null,null,"mm","mm","mm","mm","مم"]
[null,null,"Estimation of soil reservoir","Estimation of soil reservoir","Estimation du réservoir de sol","Estimación de reservorio en suelo","تقدير محتوى الرطوبة في التربة"]
[null,null,"Soil: ","Soil: ","Sol:","Suelo: ","التربة:"]
[null,null,"Initial water content (% TAW): ","Initial water content (% TAW): ","Teneur en eau initiale (% RU):","Contenido de agua inicial (% ADP):","محتوى الرطوبة الأولي:"]
[null,null,"Field Capacity (FC):","Field Capacity (FC):","Capacité au Champ (CC):","Capacidad de Campo (CC):","السعة الحقلية:"]
[null,null,"Permanent Wilting Point (PWP):","Permanent Wilting Point (PWP):","Point de Flétrissement Permanent (PFP):","Punto de Marchitez Permanente (PMP):","نقطة الذبول الدائم:"]
[null,null,"Maximum rooting depth [m]: ","Maximum rooting depth [m]: ","Profondeur d'enracinement maximale [m]:","Profundidad máxima de enraizamiento [m]:","أقصى عمق للجذور [م]:"]
[null,null,"Total Available Water (TAW)","Total Available Water (TAW)","Réserve Utile en Eau (RU)","Agua total Disponible para la Planta (ADP)","إجمالي كمية المياه المتاحة "]
[null,null,"Saturation","Saturation","Saturation","Saturación","التشبع"]
[null,null,"FC (100% of TAW)","FC (100% of TAW)","CC (100% de la RU)","CC (100% de ADP)","السعة الحقلية (100٪ من إجمالي كمية المياه المتاحة)"]
[null,null,"Readily Available Water (RAW)","Readily Available Water (RAW)","Réserve Facilement Utilisable (RFU)","Reserva Fácilmente Utilizable (RFU)","المياه المتاحة بسهولة "]
[null,null,"RAW (-% of TAW)","RAW (-% of TAW)","RFU (-% de la RU)","RFU (-% de ADP)","المياه المتاحة بسهولة (-٪ من إجمالي كمية المياه المتاحة)"]
[null,null,"PWP (0% of TAW)","PWP (0% of TAW)","PFP (0% de la RU)","PMP (0% de ADP)","نقطة الذبول الدائم (0٪ من إجمالي كمية المياه المتاحة)"]
[null,null,"Excess water","Excess water","Eau gravitaire","Agua en exceso","ماء فائض"]
[null,null,"Water managed for irrigation scheduling","Water managed for irrigation scheduling","Eau gérée pour le calendrier l'irrigation","Agua gestionada para la programación del riego","إدارة المياه لجدولة الري"]
[null,null,"Water available to plants under stress","Water available to plants under stress","Eau disponible pour les plantes sous stress hydrique","Agua disponible para plantas bajo estrés hídrico","المياه المتاحة للنباتات تحت الإجهاد المائي"]
[null,null,"Water unavailable to plants","Water unavailable to plants","Eau indisponible pour les plantes","Agua no disponible para las plantas","المياه غير متوفرة للنباتات"]
[null,null,{"$f":"HLOOKUP($C$6,$D$6:$I$585,ROW()-ROW($B$5),FALSE)","v":"Irrigation Schedule for"},"Irrigation Schedule for","Calendrier l'irrigation pour","Programación del riego para","جدولة الري لـ"]
[null,null,"for soil type","for soil type","pour le type de sol","para el tipo de suelo","لنوع التربة"]
[null,null,"in","in","au","en","في"]
[null,null,"Irrigation amount (m³):  ","Irrigation amount (m³):  ","Quantité d'eau d'irrigation (m³):","Cantidad de agua de riego (m³):","كمية مياه الري (م):"]
[null,null,"Number of irrigation events (number of days):  ","Number of irrigation events (number of days):  ","Nombre d'événements d'irrigation (nombre de jours) :","Número de eventos de riego (número de días):","عدد الرياة (عدد الأيام):"]
[null,null,"Minimum water storage reservoir capacity for an irrigation event [m³]:","Minimum water storage reservoir capacity for an irrigation event [m³]:","Capacité minimale du réservoir de stockage d'eau pour un événement d'irrigation [m³]:","Capacidad mínima del depósito de almacenamiento de agua para un evento de riego [m³]:","الحد الأدنى لسعة خزان تخزين المياه للرية الواحدة [متر مكعب]:"]
[null,null,"Irrigation","Irrigation","Irrigation","Irrigación","الري"]
[null,null,"TAW","TAW","RU","ADP","إجمالي كمية المياه المتاحة "]
[null,null,"RAW","RAW","RFU","RFU","المياه المتاحة بسهولة "]
[null,null,"Depletion","Depletion","Déficit en eau du sol","Agotamiento","العجز المائي للتربة"]
[null,null,"Soil water depletion, TAW, RAW  in mm","Soil water depletion, TAW, RAW  in mm","Déficit en eau du sol, RU, RFU en mm","Agotamiento de agua del suelo, ADP, RFU en mm","العجز المائي للتربة ، إجمالي كمية المياه المتاحة ، المياه المتاحة بسهولة بالمم"]
[null,null,"Irrigation in mm","Irrigation in mm","Irrigation en mm","Irrigación en mm","الري بالمم"]
[null,null,"Gross irrigation water requirement for","Gross irrigation water requirement for","Besoins bruts en eau d'irrigation pour","Necesidades brutas de agua de riego para","المتطلبات  الإجمالية لمياه الري لـ"]
[null,null,"[mm/month]","[mm/month]","[mm/mois]","[mm/mes]","[مم / الشهر]"]
[null,null,"Days after Sowing","Days after Sowing","Jours après le semis","Días después de la siembra","أيام بعد البذر"]
[]
[null,{"$f":"$C$12","v":"4 Summary"},{"$f":"HLOOKUP($C$6,$D$6:$I$585,ROW()-ROW($B$5),FALSE)","v":"IRRIGATE – Soil Tool"},"IRRIGATE – Soil Tool","IRRIGUER – Outil \"Sol\"","RIEGA – Herramienta de suelos","الري - أداة التربة"]
[null,null,"Summary of Crop Water Requirements","Summary of Crop Water Requirements","Résumé des besoins en eau des cultures","Resumen de los necesidades de agua de los cultivos","ملخص الاحتياجات المائية للمحاصيل"]
[null,null,"4 Summary","4 Summary","4 Bilan","4 Resumen","4 ملخص"]
[null,null,"Farm code/name:","Farm code/name:","Code/Nom de l’exploitation:","Código/nombre de la granja:","رمز / اسم المزرعة:"]
[null,null,"Soil type:","Soil type:","Type de sol:","Tipo de suelo:","نوع التربة:"]
[null,null,"Selected soil type:","Selected soil type:","Type de sol sélectionné:","Tipo de suelo seleccionado:","نوع التربة المختار:"]
[null,null,"Crop root depth:","Crop root depth:","Profondeur des racines de la culture:","Profundidad de las raíces del cultivo:","عمق جذور المحصول:"]
[null,null,"from sheet:","from sheet:","de la feuille:","de la hoja:","من الورقة:"]
[null,null,"Soil texture calculator","Soil texture calculator","Calculateur de texture du sol","Calculadora de textura del suelo","الحاسبة الآلية لقوام التربة"]
[null,null,"Irrigation schedule","Irrigation schedule","Calendrier de l’irrigation","Programación del riego","جدولة الري"]
[null,null,"Crop","Crop","Culture","Cultivo","المحصول"]
[null,null,"Area in","Area in","Superficie en","Área en","المساحة بـ"]
[null,null,"Irrigation quantity and number of irrigation events:","Irrigation quantity and number of irrigation events:","Quantité d'irrigation et nombre d'événements d'irrigation :","Cantidad de riego y número de eventos de riego:","كمية مياه الري و عدد الرياة:"]
[null,null,"m3/month","m3/month","m3/mois","m3/mes","م3 / الشهر"]
[null,null,"№ of events","№ of events","№ d'événements","№ de eventos","عدد الرياة"]
[null,null,"Required water storage reservoir capacity for an irrigation event:","Required water storage reservoir capacity for an irrigation event:","Capacité requise du réservoir de stockage d'eau pour un événement d'irrigation :","Capacidad requerida del depósito de almacenamiento de agua para un evento de riego:","سعة خزان تخزين المياه المطلوبة لرية واحدة:"]
[null,null,"m3","m3","m3","m3","م3"]
[]
[null,{"$f":"$C$13","v":"5 How this tool works"},{"$f":"HLOOKUP($C$6,$D$6:$I$585,ROW()-ROW($B$5),FALSE)","v":"How the Soil Tool works"},"How the Soil Tool works","Fonctionnement de cet outil \"sol\"","Funcionamiento de la herramienta de suelos","كيف تعمل أداة التربة"]
[null,null,"This tool is based on the Water Requirement Tool. To understand how the water requirement is calculated, please check the  Water Requirement Tool. ","This tool is based on the Water Requirement Tool. To understand how the water requirement is calculated, please check the  Water Requirement Tool. ","Cet outil est basé sur l’outil sur les besoins en eau. Pour comprendre comment les besoins en eau sont calculés, consultez l’outil sur les besoins en eau. ","Esta herramienta se basa en la herramienta de estimación de las necesidades de agua. Para comprender cómo se calculan las necesidades de agua, consulte la Herramienta de Estimación de las Necesidades de Agua. ","تعتمد هذه الأداة على أداة احتياجات المياه. لفهم كيفية حساب الاحتياجات الميائية للمحاصيل ، يرجى الرجوع إلى أداة احتياجات المياه."]
[null,null,"Overview ","Overview ","Aperçu ","Sinopsis ","ملخص"]
[null,null,"The soil type","The soil type","Type de sol","El tipo de suelo","نوع التربة"]
[null,null,"Determination the soil type","Determination the soil type","Détermination du type de sol","Determinación del tipo de suelo","تحديد نوع التربة"]
[null,null,"Calculation of the irrigation schedule","Calculation of the irrigation schedule","Calcul du calendrier d’irrigation","Cálculo del programa de riego","حساب جدولة الري"]
[null,null,"The soil type is an important factor in determining how fast and how often irrigation should be scheduled. Like a sponge, the soil absorbs and holds water, depending on the percentage of the three main components: ","The soil type is an important factor in determining how fast and how often irrigation should be scheduled. Like a sponge, the soil absorbs and holds water, depending on the percentage of the three main components: ","Le type de sol est un facteur important pour déterminer à quelle vitesse et à quel rythme l’irrigation doit être programmée. Comme une éponge, le sol absorbe et retient l’eau en fonction de sa composition, c’est-à-dire:","El tipo de suelo es un factor importante para determinar con qué velocidad y frecuencia debe programarse el riego. Igual que una esponja, el suelo absorbe y retiene agua en función del porcentaje de sus tres componentes principales: ","يعد نوع التربة عاملاً مهمًا في تحديد السرعة و عدد المرات التي يجب أن تتم بها جدولة الري. مثل الإسفنج ، تمتص التربة الماء وتحجزه ، اعتمادًا على النسبة المئوية للمكونات الرئيسية الثلاثة:"]
[null,null,"Sand","Sand","Sable","Arena","الرمل"]
[null,null,"Silt ","Silt ","Limon ","Limo ","الطمي"]
[null,null,"Clay","Clay","Argile","Arcilla","الطين"]
[null,null,"With different percentages of the main components, the soil type changes it's bevavior, as shown in table 2. ","With different percentages of the main components, the soil type changes it's bevavior, as shown in table 2. ","Comme le montre le tableau 2, le sol change de comportement en fonction de la répartition des principaux composants. ","Con diferentes porcentajes de los componentes principales, el tipo de suelo cambia su comportamiento, tal y como se muestra en la tabla 2. ","تتغير خصائص نوع التربة تبعا لتغير نسب المكونات الرئيسية ، كما هو موضح في الجدول 2."]
[null,null,"Name of the particle","Name of the particle","Nom de la particule","Nombre de la partícula","نوع جزيئات التربة"]
[null,null,"Size limit in mm","Size limit in mm","Nom de la particule","Límite tamaño en mm","حد الحجم بالملم"]
[null,null,"Distinguisable with the naked eye","Distinguisable with the naked eye","Distinguable à l’œil nu","Apreciable a simple vista","يمكن تمييزه بالعين المجردة"]
[null,null,"gravel","gravel","gravier","gravilla","الحصى"]
[null,null,"sand","sand","sable","arena","الرمل"]
[null,null,"silt","silt","limon","limo","الطمي"]
[null,null,"clay","clay","argile","arcilla","طين"]
[null,null,"larger than 1","larger than 1","> 1","mayor de 1","أكبر من 1"]
[null,null,"1 to 0.5","1 to 0.5","1 à 0,5","de 1 a 0,5","من 0.5 إلى 1"]
[null,null,"0.5 to 0.002","0.5 to 0.002","0,5 à 0,002","de 0,5 a 0,002","من 0.002 إلى 0.5"]
[null,null,"less than 0.002","less than 0.002","moins de 0,002","menos de 0,002","أقل من 0.002"]
[null,null,"obviously","obviously","évidemment","evidentemente","بوضوح"]
[null,null,"easily","easily","facilement","fácilmente","بسهولة"]
[null,null,"barely","barely","à peine","escasamente","بالكاد"]
[null,null,"impossible","impossible","impossible","imposible","مستحيل"]
[null,null,"Table 1: Classification of mineral particles, from: ","Table 1: Classification of mineral particles, from: ","Tableau 1 : Classification des particules minérales, tiré de : ","Tabla 1: Clasificación de partículas minerales extraída de: ","الجدول 1: تصنيف الميكانيكي للجزيئات ، من:"]
[null,null,"Figure 1: Water distribution in different soil types","Figure 1: Water distribution in different soil types","Figure 1 : Distribution de l’eau dans différents types de sols","Figura 1: Distribución de agua en diferentes tipos de suelo","الشكل 1: توزيع المياه في أنواع التربة المختلفة"]
[null,null,"Table 2: Characteristics of the different soil components, from:","Table 2: Characteristics of the different soil components, from:","Tableau 2 : Caractéristiques des différents composants du sol, tiré de :","Tabla 2: Características de dif. componentes del suelo extraídas de:","الجدول 2: خصائص مكونات التربة المختلفة ، من:"]
[null,null,"The soil type can be determined in the laboratory using a particle size analysis. Sand, silt and clay have different diameters, by sieving them their distribution delivers information about the soil type. ","The soil type can be determined in the laboratory using a particle size analysis. Sand, silt and clay have different diameters, by sieving them their distribution delivers information about the soil type. ","Le type de sol peut être déterminé en laboratoire au moyen d’une analyse granulométrique. Le sable, le limon et l’argile ont des diamètres différents. En les tamisant, il est possible d’obtenir leur répartition qui donne des informations sur le type de sol. ","El tipo de suelo se puede determinar en el laboratorio usando un análisis del tamaño de partículas. La arena, el limo y la arcilla tienen diferentes diámetros, al tamizarlos su distribución proporciona información sobre el tipo de suelo. ","يمكن تحديد نوع التربة في المختبر باستخدام تحليل حجم الجزيئات. جزيئات الرمل والطمي والطين لها أقطار مختلفة ، ومن خلال غربلتها ، يوفر توزيعها معلومات حول نوع التربة."]
[null,null,"Another way to determine the soil type is the \"Jar Test\": ","Another way to determine the soil type is the \"Jar Test\": ","Il est également possible d’utiliser un essai de floculation (le Jar Test) : ","Otra forma de determinar el tipo de suelo es el ensayo de coagulación-floculación o “Jar Test”: ","هناك طريقة أخرى لتحديد نوع التربة وهي \"اختبار الجرة\":"]
[null,null,"Remove soil from the zone to be irrigated","Remove soil from the zone to be irrigated","Extrayez un peu de terre de la zone à irriguer","Extraiga suelo de la zona a regar","أزل التربة من المنطقة المراد ريها"]
[null,null,{"$f":"HLOOKUP($C$6,$D$6:$I$585,ROW()-ROW($B$5),FALSE)","v":"Place the soil sample into the jar and fill it with water"},"Place the soil sample into the jar and fill it with water","Placez l’échantillon dans le flacon et remplissez celui-ci d’eau","Coloque la muestra de suelo en el tarro y llénelo de agua","ضع عينة التربة في جرة واملأها بالماء"]
[null,null,"Shake the jar and let it sit for two hours, the particles will settle to the bottom, in their different layers","Shake the jar and let it sit for two hours, the particles will settle to the bottom, in their different layers","Secouez le flacon, puis laissez reposer pendant deux heures : les particules se déposent au fond en plusieurs couches","Agite el tarro y déjelo reposar durante dos horas, las partículas se depositarán en el fondo en diferentes capas","حرك الجرة ثم اتركها لمدة ساعتين ، وستستقر الجزيئات في طبقاتها المختلفة في القاع"]
[null,null,"Measure the total height of all layers, than the height of each layer. ","Measure the total height of all layers, than the height of each layer. ","Mesurez la hauteur totale de l’ensemble des couches, puis la hauteur de chaque couche. ","Mida la altura total de todas las capas, luego la altura de cada capa ","قم بقياس الارتفاع الإجمالي لجميع الطبقات ، ثم ارتفاع كل طبقة."]
[null,null,"Divide the height of each layer by the total height which gives you the percentage of clay, silt and sand. ","Divide the height of each layer by the total height which gives you the percentage of clay, silt and sand. ","Divisez la hauteur de chaque couche par la hauteur totale. Vous obtenez ainsi le pourcentage d’argile, de limon et de sable. ","Dividiendo la altura de cada capa por la altura total obtendrá los porcentajes de arcilla, limo y arena. ","اقسم ارتفاع كل طبقة على الارتفاع الإجمالي لكي تتحصل على النسبة المئوية للطين والطمي والرمل."]
[null,null,"Putting in the obtained percentages of clay, silt and sand, soil texture triangles as seen in Figure 3 show the type of soil you have. ","Putting in the obtained percentages of clay, silt and sand, soil texture triangles as seen in Figure 3 show the type of soil you have. ","Comparez les pourcentages obtenus au triangle de la texture des sols (figure 3) pour déterminer le type de sol dont vous disposez. ","Introduciendo los porcentajes de arcilla, limo y arena obtenidos, el triángulo de textura del suelo tal y como aparece en la Figura 3 mostrará el tipo de suelo que tiene. ","يوضح وضع النسب المئوية التي تم الحصول عليها من الطين والطمي والرمل في مثلثات قوام التربة نوع التربة لديك كما هو موضح في الشكل 3 ."]
[null,null,"Figure 2: The Jar Test","Figure 2: The Jar Test","Figure 2: Le Jar Test","Figura 2: “Jar Test”","الشكل 2: اختبار الجرة"]
[null,null,"Soil Texture Triangle","Soil Texture Triangle","Triangle de texture des sols","Triángulo de textura del suelo","مثلث قوام التربة"]
[null,null,"Figure 3: The Soil Texture Triangle from:","Figure 3: The Soil Texture Triangle from:","Figure 3 : Triangle de texture des sols, tiré de :","Figura 3: Triángulo textura suelo, extraído de:","الشكل 3: مثلث قوام التربة من:"]
[null,null,"This tool is based on the FAO Irrigation and Drainage Paper No. 56. Crop Evapotranspiration (guidelines for computing crop water requirements), available at:","This tool is based on the FAO Irrigation and Drainage Paper No. 56. Crop Evapotranspiration (guidelines for computing crop water requirements), available at:","Ce calcul est basé sur le document n° 56 de la FAO sur l'irrigation et le drainage. Evapotranspiration des cultures (directives pour le calcul des besoins en eau des cultures), disponible sur: ","Este cálculo se basa en el documento de riego y drenaje de la FAO n° 56: Evapotranspiración de cultivos (directrices para calcular los necesidades de agua de los cultivos), disponible en:","يعتمد هذا الحساب على ورقة الري والصرف رقم 56 الصادرة عن منظمة الأغذية والزراعة: البخر- نتح  المحاصيل (مبادئ توجيهية لحساب الإحتياجات المائية للمحاصيل) ، وهي متاحة على الموقع:"]
[null,null,"Soil water balance is estimated on a daily basis using the following steps:","Soil water balance is estimated on a daily basis using the following steps:","Le bilan hydrique du sol est estimé quotidiennement selon les étapes suivantes :","El balance hídrico del suelo se estima diariamente mediante los siguientes pasos:","يتم تقدير التوازن المائي للتربة على أساس يومي باتباع الخطوات التالية:"]
[null,null,"Figure 4: Soil water balance components","Figure 4: Soil water balance components","Figure 4 : Composants du bilan hydrique du sol","Figura 4: Componentes del balance hídrico del suelo","الشكل 4: مكونات التوازن المائي للتربة"]
[null,null,"Calculate daily reference evapotranspiration","Calculate daily reference evapotranspiration","Calculer l'évapotranspiration de référence journalière","Calcule la evapotranspiración de referencia diaria","احسب البخر- نتح المرجع"]
[null,null,"Calculate Total Available Water (TAW) in the root zone considering the Field Capacity (FC), the Permanent Wilting Point (PWP), and the rooting depth","Calculate Total Available Water (TAW) in the root zone considering the Field Capacity (FC), the Permanent Wilting Point (PWP), and the rooting depth","Calculer la Réserve Utile en Eau (RU) dans la zone racinaire en considérant la Capacité au Champ (CC), Point de Flétrissement Permanent (PFP), et la profondeur d'enracinement","Calcule el agua total disponible (TAW) en la zona de la raíz considerando la Capacidad de Campo (CC), el Punto de Marchitez Permanente (PMP), y la profundidad de enraizamiento","احسب إجمالي كمية المياه المتاحة في منطقة الجذور مع مراعاة السعة الحقلية ، ونقطة الذبول الدائم ، وعمق الجذور"]
[null,null,"Calculate Readily Available Water (RAW) considering the depletion factor;","Calculate Readily Available Water (RAW) considering the depletion factor;","Calculer la Réserve Facilement Utilisable (RFU) en tenant compte du facteur du déficit en eau du sol;","Calcular la Reserva Fácilmente Utilizable (RFU) en cuenta el factor de agotamiento;","حساب كمية المياه المتاحة بسهولة مع الأخذ في الاعتبار عامل تناقص المياه في التربة ؛"]
[null,null,"Table 2: Example for ranges of maximum effective rooting depth and soil water depletion fraction for no stress","Table 2: Example for ranges of maximum effective rooting depth and soil water depletion fraction for no stress","Tableau 2 : Exemple de plages de profondeur d'enracinement effective maximale et de fraction du déficit en eau du sol pour éviter le stress hydrique","Tabla 2: Ejemplo de rangos de profundidad máxima efectiva de enraizamiento y fracción de agotamiento del agua del suelo para evitar el estrés hídrico","الجدول 2: مثال لنطاقات أقصى عمق فعال للجذور وجزء نقصان مياه التربة لتجنب الإجهاد المائي"]
[null,null,"Calculate water stress coefficient","Calculate water stress coefficient","Calculer le coefficient de stress hydrique","Calcular el coeficiente de estrés hídrico","حساب معامل الإجهاد المائي"]
[null,null,"Calculate daily soil water balance ","Calculate daily soil water balance ","Calculer le bilan hydrique quotidien du sol","Calcular el balance hídrico diario del suelo","حساب التوازن المائي اليومي للتربة"]
[null,null,"estimating daily root zone depletion ","estimating daily root zone depletion ","estimer le déficit en eau quotidien dans la zone racinaire","estimar el agotamiento diario zona de las raíces","تقدير تناقص المياه اليومي في منطقة الجذور "]
[null,null,"when the depletion exceeds a certain threshold, it is time to irrigate","when the depletion exceeds a certain threshold, it is time to irrigate","lorsque le déficit en eau dépasse un certain seuil, il est temps d'irriguer","cuando el agotamiento excede un cierto umbral, es el momento de regar","عندما يتجاوز تناقص المياه حدًا معينًا ، فقد حان وقت الري"]
[null,null,"if the maximum possible irrigation method application is lower than RAW, then the threshold is the maximum application for the irrigation system","if the maximum possible irrigation method application is lower than RAW, then the threshold is the maximum application for the irrigation system","si l'application maximale possible de la méthode d'irrigation est inférieure à RFU, alors le seuil est l'application maximale pour le système d'irrigation","Si la aplicación máxima posible del método de riego es menor que RFU, entonces el umbral es la aplicación máxima para el sistema de riego.","إذا كان الحد الأقصى من المياه الممكن إضافتها عن طريق نظام الري أقل من كمية المياه المتاحة بسهولة، فإن الحد المعين هو الحد الأقصى لنظام الري"]
[null,null,"else if the maximum possible irrigation method application is greater than RAW, then the threshold is RAW","else if the maximum possible irrigation method application is greater than RAW, then the threshold is RAW","sinon si l'application maximale possible de la méthode d'irrigation est supérieure à RFU, alors le seuil est égal à RFU","de lo contrario, si la aplicación máxima posible del método de riego es mayor que RFU, entonces el umbral es igual a RFU","أما إذا كان الحد الأقصى من المياه الممكن إضافتها عن طريق نظام الري أكبر من كمية المياه المتاحة بسهولة، فإن الحد المعين هو كمية المياه المتاحة بسهولة"]
[null,null,"these considerations thus, allow irrigation considering the capacity of the irrigation system and avoid at the same time water stress","these considerations thus, allow irrigation considering the capacity of the irrigation system and avoid at the same time water stress","ces considérations permettent donc d'irriguer compte tenu de la capacité du système d'irrigation et d'éviter en même temps le stress hydrique","por tanto, estas consideraciones permiten regar dada la capacidad del sistema de riego y al mismo tiempo evitar el estrés hídrico.","وبالتالي ، تسمح هذه الاعتبارات بالري مع مراعاة قدرة نظام الري وتجنب الإجهاد المائي في نفس الوقت"]
[null,null,"Figure 5: Soil water balance","Figure 5: Soil water balance","Figure 5 : Bilan hydrique du sol","Figura 5: Balance hídrico del suelo","الشكل 5: التوازن المائي للتربة"]
[null,null,"The amount of irrigation water and the irrigation day are determined for the entire crop growth period","The amount of irrigation water and the irrigation day are determined for the entire crop growth period","La quantité d'eau d'irrigation et le jour d'irrigation sont déterminés pour toute la période de croissance de la culture","La cantidad de agua de riego y el día de riego se determinan para todo el período de crecimiento del cultivo","يتم تحديد كمية مياه الري ويوم الري لكامل فترة نمو المحصول"]
[null,null,"Water storage size is determined by taking into account the greatest amount of water for an irrigation event","Water storage size is determined by taking into account the greatest amount of water for an irrigation event","La taille du stockage d'eau est déterminée en tenant compte de la plus grande quantité d'eau nécessaire pour un événement d'irrigation","El tamaño del almacenamiento de agua se determina teniendo en cuenta la mayor cantidad de agua necesaria para un evento de riego","يتم تحديد حجم تخزين المياه من خلال مراعاة أكبر كمية من المياه اللازمة لرية واحدة"]
[]
[null,{"$f":"$C$14","v":"Crop Information"},{"$f":"HLOOKUP($C$6,$D$6:$I$585,ROW()-ROW($B$5),FALSE)","v":"This data is based on the FAO Irrigation and Drainage Paper No. 56: Crop Evapotranspiration (guidelines for computing crop water requirements), available at:"},"This data is based on the FAO Irrigation and Drainage Paper No. 56: Crop Evapotranspiration (guidelines for computing crop water requirements), available at:","Ces données sont basées  sur le document n° 56 de la FAO sur l'irrigation et le drainage: Evapotranspiration des cultures (directives pour le calcul des besoins en eau des cultures), disponible sur: ","Estos datos se basan en el documento de riego y drenaje de la FAO n° 56: Evapotranspiración de cultivos (directrices para calcular los necesidades de agua de los cultivos), disponible en:","تستند هذه البيانات على ورقة الري والصرف رقم 56 الصادرة عن منظمة الأغذية والزراعة: البخر- نتح المحاصيل (مبادئ توجيهية لحساب الإحتياجات المائية للمحاصيل) ، وهي متاحة على الموقع:"]
[null,null,"Information on row and plant spacing, planting depth and date of seeds can be found at: ","Information on row and plant spacing, planting depth and date of seeds can be found at: ","Des informations sur l'espacement des rangs et des plants, la profondeur et la date de plantation des graines peuvent être trouvées sur :","Se puede encontrar información sobre el espaciamiento entre hileras y plántulas, la profundidad de la semilla y la fecha de siembra en:","يمكن العثور على معلومات عن تباعد الصفوف والنباتات ، وعمق وتاريخ زراعة البذور في:"]
[null,null,"Crop","Crop","Culture","Cultivo","المحصول"]
[null,null,"none","none","aucune","ninguna","لا شيء"]
[null,null,"Crop Growing Period","Crop Growing Period","Période de croissance des cultures","Período de crecimiento del cultivo","فترة زراعة المحاصيل"]
[null,null,"Crop factor of the development stages","Crop factor of the development stages","Coefficient de culture des stades de développement","Coeficiente de cultivo de las etapas de desarrollo","معامل المحصول لمراحل التطور"]
[null,null,"Initial stage","Initial stage","Stade initial","Etapa inicial","المرحلة االبتدائية"]
[null,null,"Crop development stage","Crop development stage","Stade de développement des cultures","Etapa de desarrollo del cultivo","مرحلة التطور او نمو المحصول"]
[null,null,"Mid-season stage","Mid-season stage","Stade de mi-saison","Etapa de mediados de temporada","المرحلة الوسطى"]
[null,null,"late season stage","late season stage","Stade de fin de saison","Etapa de final de temporada","المرحلة المتأخرة"]
[null,null,"Total","Total","Total","Total","المجموع"]
[null,null,"Maximum Root Depth","Maximum Root Depth","Profondeur de racine maximale","Máxima profundidad de las raíces","العمق الأقصى  للجذور"]
[null,null,"Initial","Initial","Initiale","Inicial","العمق الأولي"]
[null,null,"Maximum","Maximum","Maximum","Máximo","العمق الأقصى"]
[null,null,"Depletion Fraction","Depletion Fraction","Fraction d'épuisement","Fracción de agotamiento","جزء العجز المائي للتربة"]
[null,null,"Alfalfa (1st cutting cycle - Jan/Apr - USA)","Alfalfa (1st cutting cycle - Jan/Apr - USA)","Luzerne (1er cycle de coupe - Jan/Avr - USA)","Alfalfa (1er ciclo de corte - Ene / Abr - EE. UU.)","البرسيم (دورة القطع الأولى - يناير / أبريل - الولايات المتحدة الأمريكية)"]
[null,null,"Alfalfa (other cutting cycle - Mar/Jun - USA)","Alfalfa (other cutting cycle - Mar/Jun - USA)","Luzerne (autre cycle de coupe - mars/juin - USA)","Alfalfa (otro ciclo de corte - Mar / Jun - EE. UU.)","البرسيم (دورة قطع أخرى - مارس / يونيو - الولايات المتحدة الأمريكية)"]
[null,null,"Alfalfa (seeds - Mar/Jun - USA)","Alfalfa (seeds - Mar/Jun - USA)","Luzerne (graines - mars/juin - USA)","Alfalfa (semillas - Mar / Jun - USA)","البرسيم (بذور - مارس / يونيو - الولايات المتحدة الأمريكية)"]
[null,null,"Almond (no ground cover - Apr - USA)","Almond (no ground cover - Apr - USA)","Amande (pas de couvre-sol - Avr - USA)","Almendra (sin cobertura del suelo - abril - EE. UU.)","اللوز (بدون غطاء أرضي - أبريل - الولايات المتحدة الأمريكية)"]
[null,null,"Artichoke (1st year - Apr - California) ","Artichoke (1st year - Apr - California) ","Artichaut (1ère année - Avr - Californie)","Alcachofa (1er año - abril - California)","الخرشوف (السنة الأولى - أبريل - كاليفورنيا)"]
[null,null,"Artichoke (2nd year - May - cut in May) ","Artichoke (2nd year - May - cut in May) ","Artichaut (2ème année - mai - coupé en mai)","Alcachofa (2do año - mayo - cortado en mayo)","الخرشوف (السنة الثانية - مايو - قطع مايو)"]
[null,null,"Asparagus (Feb - warm winter)","Asparagus (Feb - warm winter)","Asperges (février - hiver chaud)","Espárragos (febrero - invierno cálido)","الهليون (فبراير - شتاء دافئ)"]
[null,null,"Asparagus (Feb - Mediterranean)","Asparagus (Feb - Mediterranean)","Asperges (Fév - Méditerranée)","Espárragos (febrero - Mediterráneo)","الهليون (فبراير - البحر الأبيض المتوسط)"]
[null,null,"Avocado (Jan - Florida, USA)","Avocado (Jan - Florida, USA)","Avocat (janvier - Floride, USA)","Aguacate (enero - Florida, EE. UU.)","الأفوكادو (يناير - فلوريدا ، الولايات المتحدة الأمريكية)"]
[null,null,"Banana (1st year - Mar - Mediterranean)","Banana (1st year - Mar - Mediterranean)","Banane (1ère année - Mars - Méditerranée)","Plátano (1er año - Mar - Mediterráneo)","الموز (السنة الأولى - مارس - البحر الأبيض المتوسط)"]
[null,null,"Banana (1st year - Mar - subtropical/humid/light to moderate wind)","Banana (1st year - Mar - subtropical/humid/light to moderate wind)","Banane (1ère année - mars - subtropical/humide/vent léger à modéré)","Plátano (1er año - Mar - subtropical / húmedo / viento ligero a moderado)","الموز (السنة الأولى - مارس - شبه استوائي / رطب /رياح خفيفة إلى معتدلة)"]
[null,null,"Banana (1st year - Mar - subtropical/tropical)","Banana (1st year - Mar - subtropical/tropical)","Banane (1ère année - mars - subtropical/tropical)","Plátano (1er año - Mar - subtropical / tropical)","الموز (السنة الأولى - مارس - شبه استوائي / استوائي)"]
[null,null,"Banana (2nd year - Mar - Mediterranean)","Banana (2nd year - Mar - Mediterranean)","Banane (2ème année - Mars - Méditerranée)","Plátano (2o año - Mar - Mediterráneo)","الموز (السنة الثانية - مارس - البحر الأبيض المتوسط)"]
[null,null,"Banana (2nd year - Feb - subtropical/tropical)","Banana (2nd year - Feb - subtropical/tropical)","Banane (2e année - février - subtropical/tropical)","Plátano (2do año - febrero - subtropical / tropical)","الموز (السنة الثانية - فبراير - شبه استوائي / استوائي)"]
[null,null,"Barley/Oats/Wheat (Nov - central India)","Barley/Oats/Wheat (Nov - central India)","Orge/Avoine/Blé (novembre - Inde centrale)","Cebada / avena / trigo (noviembre - centro de la India)","الشعير / الشوفان / القمح (نوفمبر - وسط الهند)"]
[null,null,"Barley/Oats/Wheat (Mar/Apr - 35/45 °L))","Barley/Oats/Wheat (Mar/Apr - 35/45 °L))","Orge/Avoine/Blé (Mar/Avr - 35/45 °L))","Cebada / Avena / Trigo (Mar / Abr - 35/45 ° L))","الشعير / الشوفان / القمح (مارس / أبريل - 35/45 درجة مئوية))"]
[null,null,"Barley/Oats/Wheat (Jul - East Africa)","Barley/Oats/Wheat (Jul - East Africa)","Orge/Avoine/Blé (Juil - Afrique de l'Est)","Cebada / Avena / Trigo (julio - África Oriental)","الشعير / الشوفان / القمح (يوليو - شرق إفريقيا)"]
[null,null,{"$f":"HLOOKUP($C$6,$D$6:$I$585,ROW()-ROW($B$5),FALSE)","v":"Barley/Oats/Wheat (Nov)"},"Barley/Oats/Wheat (Nov)","Orge/Avoine/Blé (novembre)","Cebada / Avena / Trigo (noviembre)","الشعير / الشوفان / القمح (نوفمبر)"]
[null,null,"Barley/Oats/Wheat (Dec - California desert)","Barley/Oats/Wheat (Dec - California desert)","Orge/Avoine/Blé (Déc - Désert californien)","Cebada / avena / trigo (diciembre - desierto de California)","الشعير / الشوفان / القمح (ديسمبر - صحراء كاليفورنيا)"]
[null,null,"Beans (dry - May/Jun - central climates)","Beans (dry - May/Jun - central climates)","Haricots (secs - mai/juin - climats centraux)","Frijoles (secos - mayo / junio - climas centrales)","الفاصولياء (جاف - مايو / يونيو - المناخات المركزية)"]
[null,null,"Beans (dry - Jun - Pakistan/California)","Beans (dry - Jun - Pakistan/California)","Haricots (secs - juin - Pakistan/Californie)","Frijoles (secos - junio - Pakistán / California)","الفاصولياء (جاف - يونيو - باكستان / كاليفورنيا)"]
[null,null,"Beans (dry - Jun - Idaho)","Beans (dry - Jun - Idaho)","Haricots (secs - juin - Idaho)","Frijoles (secos - Jun - Idaho)","الفاصولياء (جاف - يونيو - ايداهو)"]
[null,null,"Beans (green - Feb/Mar - California/Mediterranean)","Beans (green - Feb/Mar - California/Mediterranean)","Haricots (verts - février/mars - Californie/méditerranée)","Frijoles (verdes - Feb / Mar - California / Mediterráneo)","الفاصولياء (أخضر - فبراير / مارس - كاليفورنيا / البحر الأبيض المتوسط)"]
[null,null,"Beans (green - Aug/Sep - California/Egypt/Lebanon)","Beans (green - Aug/Sep - California/Egypt/Lebanon)","Haricots (verts - août/septembre - Californie/Egypte/Liban)","Frijoles (verde - agosto / septiembre - California / Egipto / Líbano)","الفاصولياء (أخضر - أغسطس / سبتمبر - كاليفورنيا / مصر / لبنان)"]
[null,null,"Beets (table - Apr/May - Mediterranean)","Beets (table - Apr/May - Mediterranean)","Betteraves (table - Avr/Mai - Méditerranée)","Remolacha (mesa - Abr / Mayo - Mediterráneo)","الشمندر (مائدة - أبريل / مايو - البحر الأبيض المتوسط)"]
[null,null,"Beets (table - Feb/Mar - Mediterranean/Arid)","Beets (table - Feb/Mar - Mediterranean/Arid)","Betteraves (table - Fév/Mar - Méditerranée/Aride)","Remolacha (mesa - Feb / Mar - Mediterráneo / Áridos)","الشمندر (مائدة - فبراير / مارس - البحر الأبيض المتوسط / المناطق القاحلة)"]
[null,null,"Broccoli  (Sept - California desert)","Broccoli  (Sept - California desert)","Brocoli (septembre - désert californien)","Brócoli (septiembre - desierto de California)","البروكلي (سبتمبر - صحراء كاليفورنيا)"]
[null,null,"Cabbage (Sept - California desert)","Cabbage (Sept - California desert)","Chou (septembre - désert californien)","Repollo (septiembre - desierto de California)","الملفوف (سبتمبر - صحراء كاليفورنيا)"]
[null,null,"Cantaloupe (Jan - California )","Cantaloupe (Jan - California )","Cantaloup (Jan - Californie )","Melón (enero - California)","الشمام (يناير - كاليفورنيا)"]
[null,null,"Cantaloupe (Aug - California )","Cantaloupe (Aug - California )","Cantaloup (août - Californie)","Melón (agosto - California)","الشمام (أغسطس - كاليفورنيا)"]
[null,null,"Carrots (Oct/Jan - Arid climate )","Carrots (Oct/Jan - Arid climate )","Carottes (Oct/Jan - Climat aride )","Zanahorias (octubre / enero - clima árido)","الجزر (أكتوبر / يناير - مناخ جاف)"]
[null,null,"Carrots (Feb/Mar - Mediterranean )","Carrots (Feb/Mar - Mediterranean )","Carottes (Fév/Mar - Méditerranée )","Zanahorias (febrero / marzo - Mediterráneo)","الجزر (فبراير / مارس - البحر الأبيض المتوسط)"]
[null,null,"Carrots (Oct -  California desert)","Carrots (Oct -  California desert)","Carottes (Oct - Désert californien)","Zanahorias (octubre - desierto de California)","الجزر (أكتوبر - صحراء كاليفورنيا)"]
[null,null,"Cassava ( 1st year - rainy season - Tropical regions)","Cassava ( 1st year - rainy season - Tropical regions)","Manioc (1ère année - saison des pluies - régions tropicales)","Yuca (1er año - temporada de lluvias - regiones tropicales)","الكسافا (السنة الأولى - موسم الأمطار - المناطق الاستوائية)"]
[null,null,"Cassava ( 2nd year - season - Tropical regions)","Cassava ( 2nd year - season - Tropical regions)","Manioc (2ème année - saison - Régions tropicales)","Yuca (2do año - temporada - Regiones tropicales)","الكسافا (السنة الثانية - الموسم - المناطق الاستوائية)"]
[null,null,"Castor beans (Mar - semiarid climates )","Castor beans (Mar - semiarid climates )","Ricin (mars - climats semi-arides)","Habas de ricino (Mar - climas semiáridos)","حبوب الخروع (مارس - المناخات شبه الجافة)"]
[null,null,"Castor beans (Nov - Indonesia )","Castor beans (Nov - Indonesia )","Ricin (Nov - Indonésie )","Habas de ricino (noviembre - Indonesia)","حبوب الخروع (نوفمبر - إندونيسيا)"]
[null,null,"Cauliflower (Sept - California desert)","Cauliflower (Sept - California desert)","Chou-fleur (septembre - désert californien)","Coliflor (septiembre - desierto de California)","القرنبيط (سبتمبر - صحراء كاليفورنيا)"]
[null,null,"Celery (Oct- semiarid)","Celery (Oct- semiarid)","Céleri (oct-semi-aride)","Apio (Oct- semiárido)","الكرفس (أكتوبر- شبه جاف)"]
[null,null,"Celery (Apr - Mediterranean)","Celery (Apr - Mediterranean)","Céleri (Avr - Méditerranée)","Apio (abril - Mediterráneo)","الكرفس (أبريل - البحر الأبيض المتوسط)"]
[null,null,"Celery (Jan - semiarid)","Celery (Jan - semiarid)","Céleri (janvier - semi-aride)","Apio (enero - semiárido)","الكرفس (يناير - شبه جاف)"]
[null,null,"Chilli pepper (Brazil/Tropical)","Chilli pepper (Brazil/Tropical)","Piment (Brésil/Tropical)","Ají (Brasil / Tropical)","فلفل حار (برازيلي / استوائي)"]
[null,null,"Citrus (no ground cover/70% canopy - Jan - Mediterranean)","Citrus (no ground cover/70% canopy - Jan - Mediterranean)","Agrumes (pas de couverture végétale/70% de canopée - Jan - Méditerranée)","Cítricos (sin cobertura del suelo / 70% de dosel - Ene - Mediterráneo)","الحمضيات (بدون غطاء أرضي / 70٪ ظلة - يناير - البحر الأبيض المتوسط)"]
[null,null,"Citrus (no ground cover/50% canopy - Jan - Mediterranean)","Citrus (no ground cover/50% canopy - Jan - Mediterranean)","Agrumes (pas de couverture végétale/50% canopée - Jan - Méditerranée)","Cítricos (sin cobertura del suelo / 50% de dosel - Ene - Mediterráneo)","الحمضيات (بدون غطاء أرضي / 50٪ ظلة - يناير - البحر الأبيض المتوسط)"]
[null,null,"Citrus (no ground cover/20% canopy - Jan - Mediterranean)","Citrus (no ground cover/20% canopy - Jan - Mediterranean)","Agrumes (pas de couverture végétale/20% de canopée - Jan - Méditerranée)","Cítricos (sin cobertura del suelo / 20% de dosel - enero - Mediterráneo)","الحمضيات (بدون غطاء أرضي / 20٪ ظلة - يناير - البحر الأبيض المتوسط)"]
[null,null,"Citrus (with active ground cover or weeds/70% canopy - Jan - Mediterranean)","Citrus (with active ground cover or weeds/70% canopy - Jan - Mediterranean)","Agrumes (avec couverture végétale active ou adventices/70% canopée - Jan - Méditerranée)","Cítricos (con cobertura vegetal activa o malezas / 70% de dosel - Ene - Mediterráneo)","الحمضيات (مع غطاء أرضي نشط أو حشائش / 70٪ ظلة - يناير - البحر الأبيض المتوسط)"]
[null,null,"Citrus (with active ground cover or weeds/50% canopy - Jan - Mediterranean)","Citrus (with active ground cover or weeds/50% canopy - Jan - Mediterranean)","Agrumes (avec couverture végétale active ou adventices/50% canopée - Jan - Méditerranée)","Cítricos (con cobertura vegetal activa o malezas / 50% de dosel - Ene - Mediterráneo)","الحمضيات (مع غطاء أرضي نشط أو حشائش / 50٪ ظلة - يناير - البحر الأبيض المتوسط)"]
[null,null,"Citrus (with active ground cover or weeds/20% canopy - Jan - Mediterranean)","Citrus (with active ground cover or weeds/20% canopy - Jan - Mediterranean)","Agrumes (avec couverture végétale active ou adventices/20% canopée - Jan - Méditerranée)","Cítricos (con cobertura vegetal activa o malezas / 20% de dosel - Ene - Mediterráneo)","الحمضيات (مع غطاء أرضي نشط أو حشائش / 20٪ ظلة - يناير - البحر الأبيض المتوسط)"]
[null,null,"Cotton (Mar/May - Egypt/Pakistan/California)","Cotton (Mar/May - Egypt/Pakistan/California)","Coton (Mar/Mai - Egypte/Pakistan/Californie)","Algodón (marzo / mayo - Egipto / Pakistán / California)","القطن (مارس / مايو - مصر / باكستان / كاليفورنيا)"]
[null,null,{"$f":"HLOOKUP($C$6,$D$6:$I$585,ROW()-ROW($B$5),FALSE)","v":"Cotton (Mar - California desert)"},"Cotton (Mar - California desert)","Coton (Mar - Désert californien)","Algodón (Mar - Desierto de California)","القطن (مارس - صحراء كاليفورنيا)"]
[null,null,"Cotton (Sept - Yemen )","Cotton (Sept - Yemen )","Coton (Sept - Yémen )","Algodón (septiembre - Yemen)","القطن (سبتمبر - اليمن)"]
[null,null,"Cotton (Apr - Texas )","Cotton (Apr - Texas )","Coton (Avr - Texas )","Algodón (abril - Texas)","قطن (أبريل - تكساس)"]
[null,null,"Cucumber (Jun/Aug - arid region )","Cucumber (Jun/Aug - arid region )","Concombre (juin/août - région aride)","Pepino (junio / agosto - región árida)","الخيار (يونيو / أغسطس - المنطقة القاحلة)"]
[null,null,"Cucumber (Nov/Feb - arid region )","Cucumber (Nov/Feb - arid region )","Concombre (Nov/Fév - région aride)","Pepino (noviembre / febrero - región árida)","الخيار (نوفمبر / فبراير - المنطقة الجافة)"]
[null,null,"Deciduous Orchard (no ground cover/killing frost - Mar - high latitudes)","Deciduous Orchard (no ground cover/killing frost - Mar - high latitudes)","Verger à feuilles caduques (pas de couverture végétale/gel meurtrier - mars - hautes latitudes)","Huerto de hojas caducas (sin cobertura de suelo / heladas letales - marzo - latitudes altas)","بستان الفاكهة المتساقطة الاوراق (لا غطاء أرضي / صقيع قاتل - مارس - خطوط العرض العليا)"]
[null,null,"Deciduous Orchard (no ground cover/no frosts - Mar - high latitudes)","Deciduous Orchard (no ground cover/no frosts - Mar - high latitudes)","Verger à feuilles caduques (pas de couverture végétale/pas de gelées - mars - hautes latitudes)","Huerto de hojas caducas (sin cobertura del suelo / sin heladas - Mar - latitudes altas)","بستان الفاكهة المتساقطة الاوراق (بدون غطاء أرضي / لا صقيع - مارس - خطوط العرض العليا)"]
[null,null,"Deciduous Orchard (active ground cover/killing frost - Mar - high latitudes)","Deciduous Orchard (active ground cover/killing frost - Mar - high latitudes)","Verger à feuilles caduques (couvre-sol actif/gel meurtrier - mars - hautes latitudes)","Huerto de hojas caducas (cobertura de suelo activa / matando heladas - marzo - latitudes altas)","بستان الفاكهة المتساقطة الاوراق (غطاء أرضي نشط /  صقيع  قاتل - مارس - خطوط العرض العليا)"]
[null,null,"Deciduous Orchard (active ground cover/no frosts - Mar - high latitudes)","Deciduous Orchard (active ground cover/no frosts - Mar - high latitudes)","Verger à feuilles caduques (couvre-sol actif/pas de gelées - mars - hautes latitudes)","Huerto de hojas caducas (cobertura del suelo activa / sin heladas - marzo - latitudes altas)","بستان الفاكهة المتساقطة الاوراق (غطاء أرضي نشط / لا صقيع - مارس - خطوط العرض العليا)"]
[null,null,"Deciduous Orchard (no ground cover/killing frost - Mar - low latitudes)","Deciduous Orchard (no ground cover/killing frost - Mar - low latitudes)","Verger à feuilles caduques (pas de couverture végétale/gel meurtrier - mars - basses latitudes)","Huerto de hojas caducas (sin cobertura del suelo / matando heladas - marzo - latitudes bajas)","بستان الفاكهة المتساقطة الاوراق (بدون غطاء أرضي / صقيع  قاتل - مارس - خطوط العرض المنخفضة)"]
[null,null,"Deciduous Orchard (no ground cover/no frosts - Mar - low latitudes)","Deciduous Orchard (no ground cover/no frosts - Mar - low latitudes)","Verger à feuilles caduques (pas de couverture végétale/pas de gelées - mars - basses latitudes)","Huerto de hojas caducas (sin cobertura del suelo / sin heladas - Mar - latitudes bajas)","بستان الفاكهة المتساقطة الاوراق (بدون غطاء أرضي / لا صقيع - مارس - خطوط العرض المنخفضة)"]
[null,null,"Deciduous Orchard (active ground cover/killing frost - Mar - low latitudes)","Deciduous Orchard (active ground cover/killing frost - Mar - low latitudes)","Verger à feuilles caduques (couvre-sol actif/gel meurtrier - mars - basses latitudes)","Huerto de hojas caducas (cobertura de suelo activa / matando heladas - marzo - latitudes bajas)","بستان نفضي (غطاء أرضي نشط / صقيع قاتل - مارس - خطوط العرض المنخفضة)"]
[null,null,"Deciduous Orchard (active ground cover/no frosts - Mar - low latitudes)","Deciduous Orchard (active ground cover/no frosts - Mar - low latitudes)","Verger à feuilles caduques (couvre-sol actif/pas de gelées - mars - basses latitudes)","Huerto de hojas caducas (cobertura del suelo activa / sin heladas - marzo - latitudes bajas)","بستان الفاكهة المتساقطة الاوراق (غطاء أرضي نشط / لا صقيع - مارس - خطوط عرض منخفضة)"]
[null,null,"Deciduous Orchard (no ground cover/killing frost - Mar - California)","Deciduous Orchard (no ground cover/killing frost - Mar - California)","Verger à feuilles caduques (pas de couverture végétale/gel meurtrier - mars - Californie)","Huerto de hojas caducas (sin cobertura del suelo / matando las heladas - Mar - California)","بستان الفاكهة المتساقطة الاوراق (لا غطاء أرضي / صقيع قاتل - مارس - كاليفورنيا)"]
[null,null,"Deciduous Orchard (no ground cover/no frosts - Mar - California)","Deciduous Orchard (no ground cover/no frosts - Mar - California)","Verger à feuilles caduques (pas de couverture végétale/pas de gelées - mars - Californie)","Huerto de hojas caducas (sin cobertura del suelo / sin heladas - Mar - California)","بستان الفاكهة المتساقطة الاوراق (بدون غطاء أرضي / لا صقيع - مارس - كاليفورنيا)"]
[null,null,"Deciduous Orchard (active ground cover/killing frost - California)","Deciduous Orchard (active ground cover/killing frost - California)","Verger à feuilles caduques (couvre-sol actif/gel meurtrier - Californie)","Huerto de hoja caduca (cobertura de suelo activa / matando heladas - California)","بستان الفاكهة المتساقطة الاوراق (غطاء أرضي نشط / صقيع قاتل - كاليفورنيا)"]
[null,null,"Deciduous Orchard (active ground cover/no frosts - Mar - California)","Deciduous Orchard (active ground cover/no frosts - Mar - California)","Verger à feuilles caduques (couvre-sol actif/pas de gelées - mars - Californie)","Huerto de hojas caducas (cobertura de suelo activa / sin heladas - Mar - California)","بستان الفاكهة المتساقطة الاوراق (غطاء أرضي نشط / لا صقيع - مارس - كاليفورنيا)"]
[null,null,"Eggplant (Oct - arid region)","Eggplant (Oct - arid region)","Aubergine (Oct - région aride)","Berenjena (octubre - región árida)","الباذنجان (أكتوبر - المنطقة القاحلة)"]
[null,null,"Eggplant (May/Jun - Mediterranean)","Eggplant (May/Jun - Mediterranean)","Aubergine (Mai/Juin - Méditerranée)","Berenjena (Mayo / Junio ​​- Mediterráneo)","الباذنجان (مايو / يونيو - البحر الأبيض المتوسط)"]
[null,null,"Faba bean, broad bean (May - Europe)","Faba bean, broad bean (May - Europe)","Fève (mai - Europe)","Haba (mayo - Europa)","الفول (مايو - أوروبا)"]
[null,null,"Faba bean, broad bean (Mar/Apr - Mediterranean)","Faba bean, broad bean (Mar/Apr - Mediterranean)","Fève (mars/avril - Méditerranée)","Haba (Mar / Abr - Mediterráneo)","الفول (مارس / أبريل - البحر الأبيض المتوسط)"]
[null,null,"Faba bean, broad bean (dry - Nov - Europe)","Faba bean, broad bean (dry - Nov - Europe)","Fève (sec - Nov - Europe)","Haba (seca - noviembre - Europa)","الفول (جاف - نوفمبر - أوروبا)"]
[null,null,"Faba bean, broad bean (green - Nov - Europe)","Faba bean, broad bean (green - Nov - Europe)","Fève (verte - Nov - Europe)","Haba (verde - noviembre - Europa)","الفول (أخضر - نوفمبر - أوروبا)"]
[null,null,"Flax (Apr - Europe)","Flax (Apr - Europe)","Lin (Avr - Europe)","Lino (abril - Europa)","الكتان (أبريل - أوروبا)"]
[null,null,"Flax (Oct - Arizona)","Flax (Oct - Arizona)","Lin (Oct - Arizona)","Lino (octubre - Arizona)","الكتان (أكتوبر - أريزونا)"]
[null,null,"Grapes (Apr - low latitudes)","Grapes (Apr - low latitudes)","Raisins (avril - basses latitudes)","Uvas (abril - latitudes bajas)","العنب (أبريل - خطوط العرض المنخفضة)"]
[null,null,"Grapes (Mar - California)","Grapes (Mar - California)","Raisins (Mars - Californie)","Uvas (Mar - California)","العنب (مارس - كاليفورنيا)"]
[null,null,"Grapes (May - high latitudes )","Grapes (May - high latitudes )","Raisins (mai - hautes latitudes)","Uvas (mayo - latitudes altas)","العنب (مايو - خطوط العرض العليا)"]
[null,null,"Grapes (wine - Apr - mid latitudes)","Grapes (wine - Apr - mid latitudes)","Raisins (vin - avril - latitudes moyennes)","Uvas (vino - abril - latitudes medias)","العنب (النبيذ - أبريل - خطوط العرض الوسطى)"]
[null,null,"Green gram, cowpeas (harvest fresh - Mar -Mediterranean)","Green gram, cowpeas (harvest fresh - Mar -Mediterranean)","Ambérique verte, niébé (récolte fraîche - Mars -Méditerranée)","Frejolito chino, caupí (cosecha fresca - Mar-Mediterráneo)","بقلة الماش ، اللوبياء الظفرية (حصاد طازج - مارس - البحر الأبيض المتوسط)"]
[null,null,"Green gram, cowpeas (harvest dry - Mar -Mediterranean)","Green gram, cowpeas (harvest dry - Mar -Mediterranean)","Ambérique verte, niébé (récolte sèche - Mars -Méditerranée)","Frejolito chino, caupí (cosecha seca - Mar-Mediterráneo)","بقلة الماش ، اللوبياء الظفرية (الحصاد الجاف - مارس - البحر الأبيض المتوسط)"]
[null,null,"Groundnut (Dry - West Africa )","Groundnut (Dry - West Africa )","Arachide (Sec - Afrique de l'Ouest )","Cacahuete (seco - África occidental)","الفول السوداني (جاف - غرب إفريقيا)"]
[null,null,{"$f":"HLOOKUP($C$6,$D$6:$I$585,ROW()-ROW($B$5),FALSE)","v":"Groundnut (season - high latitudes)"},"Groundnut (season - high latitudes)","Arachide (saison - hautes latitudes)","Cacahuete (temporada - latitudes altas)","الفول السوداني (الموسم - خطوط العرض العالية)"]
[null,null,"Groundnut (May/Jun - Mediterranean)","Groundnut (May/Jun - Mediterranean)","Arachide (Mai/Juin - Méditerranée)","Cacahuete (mayo / junio - Mediterráneo)","الفول السوداني (مايو / يونيو - البحر الأبيض المتوسط)"]
[null,null,"Hops (Apr - Idaho)","Hops (Apr - Idaho)","Houblon (avril - Idaho)","Lúpulo (abril - Idaho)","عشبة الدينار - هوب (أبريل - أيداهو)"]
[null,null,"Kale, Rape ","Kale, Rape ","Chou kale, Rapini","Col crespa, Grelo","الكرنب الأجعد ، الرابيني"]
[null,null,"Lentil (Apr - Europe)","Lentil (Apr - Europe)","Lentille (Avr - Europe)","Lenteja (abril - Europa)","العدس (أبريل - أوروبا)"]
[null,null,"Lentil (Oct/Nov -arid region)","Lentil (Oct/Nov -arid region)","Lentille (Oct/Nov -région aride)","Lenteja (Oct / Nov-región árida)","العدس (أكتوبر / تشرين الثاني - المنطقة الجافة)"]
[null,null,"Lettuce (Apr - Mediterranean)","Lettuce (Apr - Mediterranean)","Laitue (Avr - Méditerranée)","Lechuga (Abr - Mediterráneo)","الخس (أبريل - البحر الأبيض المتوسط)"]
[null,null,"Lettuce (Nov/Jan - Mediterranean)","Lettuce (Nov/Jan - Mediterranean)","Laitue (Nov/Jan - Méditerranée)","Lechuga (Nov / Ene - Mediterráneo)","الخس (نوفمبر / يناير - البحر الأبيض المتوسط)"]
[null,null,"Lettuce (Oct/Nov - arid region)","Lettuce (Oct/Nov - arid region)","Laitue (Oct/Nov - région aride)","Lechuga (octubre / noviembre - región árida)","الخس (أكتوبر / نوفمبر - المنطقة القاحلة)"]
[null,null,"Lettuce (Feb - Mediterranean)","Lettuce (Feb - Mediterranean)","Laitue (fév - Méditerranée)","Lechuga (Feb - Mediterráneo)","الخس (فبراير - البحر الأبيض المتوسط)"]
[null,null,"Maize (grain - Apr - East Africa (alt.))","Maize (grain - Apr - East Africa (alt.))","Maïs (grain - Avr - Afrique de l'Est (alt.))","Maíz (grano - abril - África oriental (alt.))","الذرة (حبة - أبريل - شرق إفريقيا (بديل))"]
[null,null,"Maize (grain - Dec/Jan - arid climate)","Maize (grain - Dec/Jan - arid climate)","Maïs (grain - déc./janv. - climat aride)","Maíz (grano - diciembre / enero - clima árido)","الذرة (حبوب - ديسمبر / يناير - المناخ الجاف)"]
[null,null,"Maize (grain - Jun - Nigeria (humid))","Maize (grain - Jun - Nigeria (humid))","Maïs (grain - juin - Nigeria (humide))","Maíz (grano - junio - Nigeria (húmedo))","الذرة (حبوب  - يونيو - نيجيريا (رطبة))"]
[null,null,"Maize (grain - Oct - India (dry, cool))","Maize (grain - Oct - India (dry, cool))","Maïs (grain - Oct - Inde (sec, frais))","Maíz (grano - octubre - India (seco, fresco))","الذرة (حبوب  - أكتوبر - الهند (جاف ، بارد))"]
[null,null,"Maize (grain - Apr - Spain (spring, summer)/California)","Maize (grain - Apr - Spain (spring, summer)/California)","Maïs (grain - Avr - Espagne (printemps, été)/Californie)","Maíz (grano - abril - España (primavera, verano) / California)","الذرة (حبوب - أبريل - أسبانيا (الربيع ، الصيف) / كاليفورنيا)"]
[null,null,"Maize (grain - Apr - Idaho)","Maize (grain - Apr - Idaho)","Maïs (grain - Avr - Idaho)","Maíz (grano - abril - Idaho)","الذرة (حبوب  - أبريل - أيداهو)"]
[null,null,"Maize (sweet - Mar - Philippines)","Maize (sweet - Mar - Philippines)","Maïs (doux - mars - Philippines)","Maíz (dulce - Mar - Filipinas)","الذرة (حلوة - مارس - الفلبين)"]
[null,null,"Maize (sweet - May/Jun - Mediterranean)","Maize (sweet - May/Jun - Mediterranean)","Maïs (doux - mai/juin - Méditerranéen)","Maíz (dulce - mayo / junio - mediterráneo)","الذرة (حلوة - مايو / يونيو - البحر الأبيض المتوسط)"]
[null,null,"Maize (sweet - Oct/Dec - arid climate)","Maize (sweet - Oct/Dec - arid climate)","Maïs (doux - oct/déc - climat aride)","Maíz (dulce - octubre / diciembre - clima árido)","الذرة (حلوة - أكتوبر / ديسمبر - مناخ جاف)"]
[null,null,"Maize (sweet - Apr - Idaho)","Maize (sweet - Apr - Idaho)","Maïs (sucré - Avr - Idaho)","Maíz (dulce - abril - Idaho)","ذرة (حلوة - أبريل - أيداهو)"]
[null,null,"Maize (sweet - Jan - California desert)","Maize (sweet - Jan - California desert)","Maïs (sucré - Jan - Désert Californien)","Maíz (dulce - enero - desierto de California)","الذرة (حلوة - يناير - صحراء كاليفورنيا)"]
[null,null,"Mango (Jun)","Mango (Jun)","Mangue (juin)","Mango (junio)","مانجو (يونيو)"]
[null,null,"Millet (Jun - Pakistan)","Millet (Jun - Pakistan)","Millet (Juin - Pakistan)","Mijo (junio - Pakistán)","الدخن (يونيو - باكستان)"]
[null,null,"Millet (Apr - Central USA)","Millet (Apr - Central USA)","Millet (avril - Centre des États-Unis)","Mijo (abril - Centro de EE. UU.)","الدخن (أبريل - وسط الولايات المتحدة الأمريكية)"]
[null,null,"Okra (sub humid)","Okra (sub humid)","Okra (sub humide)","Okra (subhúmedo)","بامية (شبه رطبة)"]
[null,null,"Olives (Mar - Mediterranean)","Olives (Mar - Mediterranean)","Olives (Mar - Méditerranée)","Aceitunas (Mar - Mediterráneo)","الزيتون (مارس - البحر الأبيض المتوسط)"]
[null,null,"Onion (dry - Apr - Mediterranean)","Onion (dry - Apr - Mediterranean)","Oignon (sec - Avr - Méditerranéen)","Cebolla (seca - Abril - Mediterráneo)","البصل (جاف - ابريل - متوسطي)"]
[null,null,"Onion (dry - Oct/Jan - arid region/California)","Onion (dry - Oct/Jan - arid region/California)","Oignon (sec - Oct/Jan - région aride/Californie)","Cebolla (seca - octubre / enero - región árida / California)","البصل (جاف - أكتوبر / يناير - المنطقة القاحلة / كاليفورنيا)"]
[null,null,"Onion (green - Apr/May - Mediterranean)","Onion (green - Apr/May - Mediterranean)","Oignon (vert - Avr/Mai - Méditerranéen)","Cebolla (verde - abril / mayo - mediterráneo)","البصل (أخضر - أبريل / مايو - البحر الأبيض المتوسط)"]
[null,null,"Onion (green - Oct - arid region)","Onion (green - Oct - arid region)","Oignon (vert - Oct - région aride)","Cebolla (verde - Oct - región árida)","البصل (أخضر - أكتوبر - منطقة قاحلة)"]
[null,null,"Onion (green - Mar - California)","Onion (green - Mar - California)","Oignon (vert - mars - Californie)","Cebolla (verde - Mar - California)","البصل (أخضر - مارس - كاليفورنيا)"]
[null,null,"Onion (seed - Sept - California desert)","Onion (seed - Sept - California desert)","Oignon (graine - Sept - Désert Californien)","Cebolla (semilla - septiembre - desierto de California)","البصل (بذور - سبتمبر - صحراء كاليفورنيا)"]
[null,null,{"$f":"HLOOKUP($C$6,$D$6:$I$585,ROW()-ROW($B$5),FALSE)","v":"Peas (fresh - May - Europe)"},"Peas (fresh - May - Europe)","Pois (frais - Mai - Europe)","Guisantes (frescos - mayo - Europa)","البازلاء (طازجة - مايو - اوروبا)"]
[null,null,"Peas (fresh - Mar/Apr - Mediterranean)","Peas (fresh - Mar/Apr - Mediterranean)","Pois (frais - mars/avril - méditerranéen)","Guisantes (frescos - Mar / Abr - Mediterráneo)","البازلاء (طازجة - مارس / أبريل - البحر الأبيض المتوسط)"]
[null,null,"Peas (fresh - Apr - Idaho)","Peas (fresh - Apr - Idaho)","Pois (frais - Avr - Idaho)","Guisantes (frescos - abril - Idaho)","البازلاء (طازجة - أبريل - أيداهو)"]
[null,null,"Peas (dry - May - Europe)","Peas (dry - May - Europe)","Pois (sec - Mai - Europe)","Guisantes (secos - mayo - Europa)","البازيلاء (جافه - مايو - اوروبا)"]
[null,null,"Peas (dry - Mar/Apr - Mediterranean)","Peas (dry - Mar/Apr - Mediterranean)","Pois (sec - mars/avril - méditerranéen)","Guisantes (secos - Mar / Abr - Mediterráneo)","البازلاء (جافة - مارس / أبريل - البحر الأبيض المتوسط)"]
[null,null,"Peas (dry - Apr - Idaho)","Peas (dry - Apr - Idaho)","Pois (secs - Avr - Idaho)","Guisantes (secos - abril - Idaho)","البازلاء (جافة - أبريل - ايداهو)"]
[null,null,"Pigeon peas","Pigeon peas","Pois d'Angole","Guandú","البازلاء الهندية"]
[null,null,"Pineapple (bare soil - Hawaii)","Pineapple (bare soil - Hawaii)","Ananas (sol nu - Hawaï)","Piña (suelo desnudo - Hawaii)","الأناناس (تربة عارية - هاواي)"]
[null,null,"Pineapple (with grass cover - Hawaii)","Pineapple (with grass cover - Hawaii)","Ananas (avec couvert d'herbe - Hawaï)","Piña (con cubierta de hierba - Hawái)","الأناناس (غطاء عشبي - هاواي)"]
[null,null,"Pistachios (no ground cover - Feb - Mediterranean)","Pistachios (no ground cover - Feb - Mediterranean)","Pistaches (pas de couvre-sol - Février - Méditerranée)","Pistachos (sin cobertura del suelo - febrero - Mediterráneo)","الفستق (بدون غطاء أرضي - فبراير - متوسطي)"]
[null,null,"Potato (Jan/Nov - semiarid climate)","Potato (Jan/Nov - semiarid climate)","Pomme de terre (janv/nov - climat semi-aride)","Papa (Ene / Nov - clima semiárido)","البطاطس (يناير / نوفمبر - مناخ شبه جاف)"]
[null,null,"Potato (May - Continental Climate )","Potato (May - Continental Climate )","Pomme de terre (mai - climat continental)","Papa (mayo - clima continental)","البطاطس (مايو - المناخ القاري)"]
[null,null,"Potato (Apr - Europe)","Potato (Apr - Europe)","Pomme de terre (Avr - Europe)","Papa (abril - Europa)","البطاطس (أبريل - أوروبا)"]
[null,null,"Potato (Apr/May - Idaho, USA )","Potato (Apr/May - Idaho, USA )","Pomme de terre (Avr/Mai - Idaho, USA )","Papa (abril / mayo - Idaho, EE. UU.)","البطاطس (أبريل / مايو - أيداهو ، الولايات المتحدة الأمريكية)"]
[null,null,"Potato (Dec - California desert)","Potato (Dec - California desert)","Pomme de terre (Déc - Désert californien)","Papa (diciembre - desierto de California)","البطاطس (ديسمبر - صحراء كاليفورنيا)"]
[null,null,"Pumpkin, Winter squash (Mar/Aug - Mediterranean)","Pumpkin, Winter squash (Mar/Aug - Mediterranean)","Citrouille, Courge d'hiver (Mar/Août - Méditerranée)","Calabaza, Calabaza de invierno (Mar / Ago - Mediterráneo)","القرع والقرع الشتوي (مارس / أغسطس - البحر الأبيض المتوسط)"]
[null,null,"Pumpkin, Winter squash (Jun - Europe)","Pumpkin, Winter squash (Jun - Europe)","Citrouille, Courge d'hiver (Juin - Europe)","Calabaza, Calabaza de invierno (junio - Europa)","القرع والقرع الشتوي (يونيو - أوروبا)"]
[null,null,"Radish (Mar/Apr - Mediterranean/Europe)","Radish (Mar/Apr - Mediterranean/Europe)","Rábano (Mar/Avr - Méditerranée/Europe)","Rábano (Mar / Abr - Mediterráneo / Europa)","الفجل (مارس / أبريل - البحر الأبيض المتوسط / أوروبا)"]
[null,null,"Radish (Winter - arid region)","Radish (Winter - arid region)","Rábano (Hiver - région aride)","Rábano (invierno - región árida)","الفجل (الشتاء - المنطقة القاحلة)"]
[null,null,"Rice (Dec/May - Tropics/Mediterranean)","Rice (Dec/May - Tropics/Mediterranean)","Riz (Déc/Mai - Tropiques/Méditerranée)","Arroz (diciembre / mayo - Trópicos / Mediterráneo)","الأرز (ديسمبر / مايو - الاستوائية / البحر الأبيض المتوسط)"]
[null,null,"Safflower (Apr - California)","Safflower (Apr - California)","Carthame (Avr - Californie)","Cártamo (abril - California)","العُصْفُر (أبريل - كاليفورنيا)"]
[null,null,"Safflower (Mar - high latitudes)","Safflower (Mar - high latitudes)","Carthame (Mar - hautes latitudes)","Cártamo (marzo - latitudes altas)","العُصْفُر (مارس - خطوط العرض العليا)"]
[null,null,"Safflower (Oct/Nov - arid region)","Safflower (Oct/Nov - arid region)","Carthame (oct/nov - région aride)","Cártamo (octubre / noviembre - región árida)","العُصْفُر (أكتوبر / نوفمبر - المنطقة القاحلة)"]
[null,null,"Sesame (Jun - China)","Sesame (Jun - China)","Sésame (Juin - Chine)","Sésamo (junio - China)","السمسم (يونيو - الصين)"]
[null,null,"Sorghum (grain - May/Jun - USA/Pakistan/Mediterranean)","Sorghum (grain - May/Jun - USA/Pakistan/Mediterranean)","Sorgho (céréale - Mai/Juin - USA/Pakistan/Méditerranée)","Sorgo (grano - mayo / junio - Estados Unidos / Pakistán / Mediterráneo)","السورغم (حبوب - مايو / يونيو - الولايات المتحدة الأمريكية / باكستان / البحر الأبيض المتوسط)"]
[null,null,"Sorghum (grain - Mar/Apr - arid region)","Sorghum (grain - Mar/Apr - arid region)","Sorgho (céréale - mars/avril - région aride)","Sorgo (grano - Mar / Abr - región árida)","السورغم (حبوب - مارس / أبريل - المنطقة القاحلة)"]
[null,null,"Sorghum (sweet - May/Jun - USA/Pakistan/Mediterranean)","Sorghum (sweet - May/Jun - USA/Pakistan/Mediterranean)","Sorgho (doux - mai/juin - USA/Pakistan/Méditerranée)","Sorgo (dulce - mayo / junio - Estados Unidos / Pakistán / Mediterráneo)","السورغم (حلو - مايو / يونيو - الولايات المتحدة الأمريكية / باكستان / البحر الأبيض المتوسط)"]
[null,null,"Sorghum (sweet - Mar/Apr - arid region)","Sorghum (sweet - Mar/Apr - arid region)","Sorgho (doux - mars/avril - région aride)","Sorgo (dulce - Mar / Abr - región árida)","السورغم (حلو - مارس / أبريل - المنطقة القاحلة)"]
[null,null,"Soybeans (Dec - Tropics)","Soybeans (Dec - Tropics)","Soja (Déc - Tropiques)","Soja (diciembre - trópicos)","فول الصويا (ديسمبر - المناطق المدارية)"]
[null,null,"Soybeans (May - Central USA)","Soybeans (May - Central USA)","Soja (Mai - Centre des États-Unis)","Soja (mayo - Centro de EE. UU.)","فول الصويا (مايو - وسط الولايات المتحدة الأمريكية)"]
[null,null,"Soybeans (Jun - Japan )","Soybeans (Jun - Japan )","Soja (Juin - Japon )","Soja (junio - Japón)","فول الصويا (يونيو - اليابان)"]
[null,null,"Spinach (Apr/Sep/Oct - Mediterranean)","Spinach (Apr/Sep/Oct - Mediterranean)","Épinards (Avr/Sep/Oct - Méditerranéen)","Espinaca (Abr / Sep / Oct - Mediterráneo)","السبانخ (أبريل / سبتمبر / أكتوبر - البحر الأبيض المتوسط)"]
[null,null,{"$f":"HLOOKUP($C$6,$D$6:$I$585,ROW()-ROW($B$5),FALSE)","v":"Spinach (Nov - arid region)"},"Spinach (Nov - arid region)","Épinards (Nov - région aride)","Espinaca (noviembre - región árida)","السبانخ (نوفمبر - المنطقة القاحلة)"]
[null,null,"Squash, Zucchini (Apr/Dec - Mediterranean/arid region)","Squash, Zucchini (Apr/Dec - Mediterranean/arid region)","Cucurbita, Courgettes (Avr/Déc - Méditerranée/région aride)","Cucurbita, calabacín (abril / diciembre - región mediterránea / árida)","الاسكواش والكوسا (أبريل / ديسمبر - منطقة البحر الأبيض المتوسط ​​/ القاحلة)"]
[null,null,"Squash, Zucchini (May/Jun - Mediterranean/Europe)","Squash, Zucchini (May/Jun - Mediterranean/Europe)","Cucurbita, Courgettes (Mai/Juin - Méditerranée/Europe)","Cucurbita, calabacín (mayo / junio - Mediterráneo / Europa)","الاسكواش والكوسا (مايو / يونيو - البحر الأبيض المتوسط ​​/ أوروبا)"]
[null,null,"Sudan (1st cutting cycle - Apr - California desert)","Sudan (1st cutting cycle - Apr - California desert)","Herbe du Soudan (1er cycle de coupe - Avr - Désert californien)","Pasto del Sudán (1er ciclo de tala - abril - desierto de California)","عشب السودان (دورة القطع الأولى - أبريل - صحراء كاليفورنيا)"]
[null,null,"Sudan (other cutting cycles - Jun -California desert)","Sudan (other cutting cycles - Jun -California desert)","Herbe du Soudan (autres cycles de coupe - juin - désert californien)","Pasto del Sudán (otros ciclos de corta - junio-desierto de California)","عشب السودان (دورات قطع أخرى - يونيو - صحراء كاليفورنيا)"]
[null,null,"Sugarbeet (Mar - California)","Sugarbeet (Mar - California)","Betterave sucrière (Mars - Californie)","Remolacha azucarera (Mar - California)","الشمندر السكري (مارس - كاليفورنيا)"]
[null,null,"Sugarbeet (Jun - California)","Sugarbeet (Jun - California)","Betterave sucrière (juin - Californie)","Remolacha azucarera (junio - California)","الشمندر السكري (يونيو - كاليفورنيا)"]
[null,null,"Sugarbeet (Sep - California desert)","Sugarbeet (Sep - California desert)","Betterave sucrière (septembre - désert californien)","Remolacha azucarera (septiembre - desierto de California)","الشمندر السكري (سبتمبر - صحراء كاليفورنيا)"]
[null,null,"Sugarbeet (Apr - Idaho)","Sugarbeet (Apr - Idaho)","Betterave sucrière (avril - Idaho)","Remolacha azucarera (abril - Idaho)","الشمندر السكري (أبريل - أيداهو)"]
[null,null,"Sugarbeet (May - Mediterranean)","Sugarbeet (May - Mediterranean)","Betterave sucrière (Mai - Méditerranée)","Remolacha azucarera (mayo - Mediterráneo)","الشمندر السكري (مايو - البحر الأبيض المتوسط)"]
[null,null,"Sugarbeet (Nov - Mediterranean)","Sugarbeet (Nov - Mediterranean)","Betterave sucrière (Nov - Méditerranée)","Remolacha azucarera (Nov - Mediterráneo)","الشمندر السكري (نوفمبر - البحر الأبيض المتوسط)"]
[null,null,"Sugarbeet (Nov - arid regions)","Sugarbeet (Nov - arid regions)","Betterave sucrière (novembre - régions arides)","Remolacha azucarera (noviembre - regiones áridas)","الشمندر السكري (نوفمبر - المناطق القاحلة)"]
[null,null,"Sugarcane (ratoon - low latitudes)","Sugarcane (ratoon - low latitudes)","Canne à sucre (ratoon - basses latitudes)","Caña de azúcar (ratoon - latitudes bajas)","قصب السكر (راتون - خطوط العرض المنخفضة)"]
[null,null,"Sugarcane (ratoon - Tropics)","Sugarcane (ratoon - Tropics)","Canne à sucre (pouponnière - Tropiques)","Caña de azúcar (ratoon - trópicos)","قصب السكر (راتون - مداري)"]
[null,null,"Sugarcane (ratoon - Hawaii)","Sugarcane (ratoon - Hawaii)","Canne à sucre (rodée - Hawaï)","Caña de azúcar (ratoon - Hawaii)","قصب السكر (راتون - هاواي)"]
[null,null,"Sugarcane (virgin - low latitudes)","Sugarcane (virgin - low latitudes)","Canne à sucre (vierge - basses latitudes)","Caña de azúcar (virgen - latitudes bajas)","قصب السكر (عذراء - خطوط العرض المنخفضة)"]
[null,null,"Sugarcane (virgin - Tropics)","Sugarcane (virgin - Tropics)","Canne à sucre (vierge - Tropiques)","Caña de azúcar (virgen - Trópicos)","قصب السكر (عذراء - مدارية)"]
[null,null,"Sugarcane (virgin - Hawaii)","Sugarcane (virgin - Hawaii)","Canne à sucre (vierge - Hawaï)","Caña de azúcar (virgen - Hawaii)","قصب السكر (عذراء - هاواي)"]
[null,null,"Sunflower (Apr/May - Mediterranean/California)","Sunflower (Apr/May - Mediterranean/California)","Tournesol (Avr/Mai - Méditerranée/Californie)","Girasol (abril / mayo - Mediterráneo / California)","عباد الشمس (أبريل / مايو - البحر الأبيض المتوسط ​​/ كاليفورنيا)"]
[null,null,"Sweet melons (May - Mediterranean)","Sweet melons (May - Mediterranean)","Melons doux (mai - méditerranéen)","Melones dulces (mayo - Mediterráneo)","البطيخ الحلو (مايو - البحر الأبيض المتوسط)"]
[null,null,"Sweet melons (Mar - California)","Sweet melons (Mar - California)","Melons doux (Mars - Californie)","Melones dulces (Mar - California)","البطيخ الحلو (مارس - كاليفورنيا)"]
[null,null,"Sweet melons (Aug - California desert)","Sweet melons (Aug - California desert)","Melons doux (août - désert californien)","Melones dulces (agosto - desierto de California)","البطيخ الحلو (أغسطس - صحراء كاليفورنيا)"]
[null,null,"Sweet melons (Dec/Jan - arid region)","Sweet melons (Dec/Jan - arid region)","Melons doux (déc/jan - région aride)","Melones dulces (diciembre / enero - región árida)","البطيخ الحلو (ديسمبر / يناير - المنطقة القاحلة)"]
[null,null,"Sweet peppers (Apr/Jun - Europe/Mediterranean)","Sweet peppers (Apr/Jun - Europe/Mediterranean)","Poivrons doux (Avr/Juin - Europe/Méditerranée)","Pimientos dulces (Abr / Jun - Europa / Mediterráneo)","الفلفل الحلو (أبريل / يونيو - أوروبا / البحر الأبيض المتوسط)"]
[null,null,"Sweet peppers (Oct - arid region)","Sweet peppers (Oct - arid region)","Poivrons doux (oct - région aride)","Pimientos dulces (octubre - región árida)","الفلفل الحلو (أكتوبر - المنطقة القاحلة)"]
[null,null,"Sweet potato (Apr - Mediterranean)","Sweet potato (Apr - Mediterranean)","Patate douce (Avr - Méditerranée)","Batata (abril - Mediterráneo)","البطاطا الحلوة (أبريل - البحر الأبيض المتوسط)"]
[null,null,"Sweet potato (rainy season - Tropical regions)","Sweet potato (rainy season - Tropical regions)","Patate douce (saison des pluies - régions tropicales)","Batata (temporada de lluvias - Regiones tropicales)","البطاطا الحلوة (موسم الأمطار - المناطق الاستوائية)"]
[null,null,"Tomato (Jan - arid region)","Tomato (Jan - arid region)","Tomate (Jan - région aride)","Tomate (enero - región árida)","الطماطم (يناير - المنطقة القاحلة)"]
[null,null,"Tomato (Apr/May - California)","Tomato (Apr/May - California)","Tomate (Avr/Mai - Californie)","Tomate (abril / mayo - California)","الطماطم (أبريل / مايو - كاليفورنيا)"]
[null,null,"Tomato (Jan - California desert)","Tomato (Jan - California desert)","Tomate (janvier - désert californien)","Tomate (enero - desierto de California)","الطماطم (يناير - صحراء كاليفورنيا)"]
[null,null,"Tomato (Oct/Nov - arid region)","Tomato (Oct/Nov - arid region)","Tomate (Oct/Nov - région aride)","Tomate (octubre / noviembre - región árida)","الطماطم (أكتوبر / نوفمبر - المنطقة القاحلة)"]
[null,null,"Tomato (Apr/May - Mediterranean)","Tomato (Apr/May - Mediterranean)","Tomate (Avr/Mai - Méditerranée)","Tomate (Abr / Mayo - Mediterráneo)","الطماطم (أبريل / مايو - البحر الأبيض المتوسط)"]
[null,null,{"$f":"HLOOKUP($C$6,$D$6:$I$585,ROW()-ROW($B$5),FALSE)","v":"Walnuts (Apr - Utah)"},"Walnuts (Apr - Utah)","Noix (avril - Utah)","Nueces (abril - Utah)","الجوز (أبريل - يوتا)"]
[null,null,"Water melons (Apr - Italy)","Water melons (Apr - Italy)","Pastèques (Avr - Italie)","Sandías (abril - Italia)","البطيخ الأحمر (أبريل - إيطاليا)"]
[null,null,"Water melons (Mat/Aug - Near East (desert))","Water melons (Mat/Aug - Near East (desert))","Pastèques (Mat/Aug - Proche-Orient (désert))","Sandías (Mat / Ago - Cercano Oriente (desierto))","البطيخ الأحمر (حصيرة / أغسطس - الشرق الأدنى (صحراء))"]
[null,null,"Winter Wheat (Dec - California)","Winter Wheat (Dec - California)","Blé d'hiver (décembre - Californie)","Trigo de invierno (diciembre - California)","القمح الشتوي (ديسمبر - كاليفورنيا)"]
[null,null,"Winter Wheat (Nov - Mediterranean)","Winter Wheat (Nov - Mediterranean)","Blé d'hiver (novembre - méditerranéen)","Trigo de invierno (noviembre - Mediterráneo)","القمح الشتوي (نوفمبر - البحر الأبيض المتوسط)"]
[null,null,"Winter Wheat (Oct - Idaho)","Winter Wheat (Oct - Idaho)","Blé d'hiver (octobre - Idaho)","Trigo de invierno (octubre - Idaho)","القمح الشتوي (أكتوبر - أيداهو)"]
[null,null,"New crop","New crop","Nouvelle récolte","Nueva planta","محصول جديد"]
[null,null,"Insert value","Insert value","Insérer la valeur","Insertar valor","أدخل القيمة"]
[]
[null,"COMMENTS (Note Boxes)"]
[null,{"$f":"$C$9","v":"1 Geographic Data"},{"$f":"HLOOKUP($C$6,$D$6:$I$585,ROW()-ROW($B$5),FALSE)","v":"Select one of the following options according to the available data"},"Select one of the following options according to the available data","Sélectionnez l'une des options suivantes en fonction des données disponibles","Seleccione una de las siguientes opciones según los datos disponibles","حدد أحد الخيارات التالية وفقًا للبيانات المتاحة"]
[null,null,"Temperature is given in degrees Celsius (°C).\n\nData can be obtained from:\nhttp://www.weatherbase.com/","Temperature is given in degrees Celsius (°C).\n\nData can be obtained from:\nhttp://www.weatherbase.com/","La température est exprimée en degrés Celsius (°C).\n\nLes données peuvent être obtenues auprès de :\nhttp://www.weatherbase.com/","La temperatura se expresa en grados Celsius (° C).\n\nLos datos se pueden obtener de:\nhttp://www.weatherbase.com/","تعطى درجة الحرارة بالدرجات المئوية (درجة مئوية)\n\nيمكن الحصول على البيانات من:\nhttp://www.weatherbase.com/"]
[null,null,"Relative humidity expresses the degree of saturation of the air, as the ratio between the amount of water the ambient air actually holds and the maximum amount it could hold at the same temperature.\n\nData can be obtained from:\nhttp://www.weatherbase.com/","Relative humidity expresses the degree of saturation of the air, as the ratio between the amount of water the ambient air actually holds and the maximum amount it could hold at the same temperature.\n\nData can be obtained from:\nhttp://www.weatherbase.com/","L'humidité relative exprime le degré de saturation de l'air, comme le rapport entre la quantité d'eau que l'air ambiant contient réellement et la quantité maximale qu'il pourrait contenir à la même température.\n\nLes données peuvent être obtenues à partir de :\nhttp://www.weatherbase.com/","La humedad relativa expresa el grado de saturación del aire, como la relación entre la cantidad de agua que realmente contiene el aire ambiente y la cantidad máxima que podría contener a la misma temperatura.\n\nLos datos se pueden obtener en:\nhttp://www.weatherbase.com/","تعبر الرطوبة النسبية عن درجة تشبع الهواء ، ويتم التعبير عنها باستخدام النسبة المئوية وهي تشير إلى الحالة الحالية للرطوبة المطلقة بالنسبة إلى الرطوبة القصوى مع نفس درجة الحرارة\n\nيمكن الحصول على البيانات من:\nhttp://www.weatherbase.com/"]
[null,null,"Wind speed is given in meters/second (m/s).\nIn line with agrometeorological standards, wind speed data is obtained from instruments at a standard height of 2 meters.\n\nData can be obtained from:\nhttp://www.weatherbase.com/","Wind speed is given in meters/second (m/s).\nIn line with agrometeorological standards, wind speed data is obtained from instruments at a standard height of 2 meters.\n\nData can be obtained from:\nhttp://www.weatherbase.com/","La vitesse du vent est donnée en mètres/seconde (m/s).\nConformément aux normes agrométéorologiques, les données de vitesse du vent sont obtenues à partir d'instruments à une hauteur standard de 2 mètres.\n\nLes données peuvent être obtenues auprès de :\nhttp://www.weatherbase.com/","La velocidad del viento se expresa en metros / segundo (m / s).\nDe acuerdo con los estándares agrometeorológicos, los datos de velocidad del viento se obtienen de instrumentos a una altura estándar de 2 metros.\n\nLos datos se pueden obtener de:\nhttp://www.weatherbase.com/","يتم تحديد سرعة الرياح بالأمتار / الثانية (م / ث).\nتماشيا مع معايير الأرصاد الجوية الزراعية ، يتم الحصول على بيانات سرعة الرياح من الأجهزة على ارتفاع 2 متر.\n\nيمكن الحصول على البيانات من:\nhttp://www.weatherbase.com/"]
[null,null,"Sunshine is expressed as hours of sunshine (hours). Sunshine represents the duration of the daylight without clouds.\n\nData can be obtained from:\nhttp://www.weatherbase.com/","Sunshine is expressed as hours of sunshine (hours). Sunshine represents the duration of the daylight without clouds.\n\nData can be obtained from:\nhttp://www.weatherbase.com/","L'ensoleillement est exprimé en heures d'ensoleillement (heures). L'ensoleillement représente la durée de la lumière du jour sans nuages.\n\nLes données peuvent être obtenues à partir de :\nhttp://www.weatherbase.com/","Horas de insolación se expresa en horas de luz solar (horas). Horas de insolación representa la duración de la luz del día sin nubes.\n\nLos datos se pueden obtener en:\nhttp://www.weatherbase.com/","يتم التعبير عن سطوع الشمس في صورة ساعات من سطوع الشمس (ساعات). يمثل سطوع الشمس مدة ضوء النهار بدون غيوم.\n\nيمكن الحصول على البيانات من:\nhttp://www.weatherbase.com/"]
[null,null,"Reference evapotranspiration is expressed in millimeters per day (mm/day).\nIt is the evapotranspiration rate of a reference crop not short of water.\n\nFor detailed information, consult the FAO guidelines:\nhttp://www.fao.org/3/x0490e/x0490e00.htm","Reference evapotranspiration is expressed in millimeters per day (mm/day).\nIt is the evapotranspiration rate of a reference crop not short of water.\n\nFor detailed information, consult the FAO guidelines:\nhttp://www.fao.org/3/x0490e/x0490e00.htm","L'évapotranspiration de référence est exprimée en millimètres par jour (mm/jour).\nC'est le taux d'évapotranspiration d'une culture de référence qui ne manque pas d'eau.\n\nPour des informations détaillées, consultez les directives de la FAO :\nhttp://www.fao.org/3/x0490e/x0490e00.htm","La evapotranspiración de referencia se expresa en milímetros por día (mm / día).\nEs la tasa de evapotranspiración de un cultivo de referencia al que no le falta agua.\n\nPara obtener información detallada, consulte las directrices de la FAO:\nhttp://www.fao.org/3/x0490e/x0490e00.htm","يتم التعبير عن البخر- نتح المرجعي بالمليمترات في اليوم (مم / اليوم).\nهو معدل البخر- نتح لمحصول مرجعي لا ينقصه الماء.\n\nللحصول على معلومات مفصلة ، راجع المبادئ التوجيهية لمنظمة الأغذية والزراعة:\nhttp://www.fao.org/3/x0490e/x0490e00.htm"]
[null,null,"The monthly rainfall given in mm/month. \n1 mm = 1 l/m² = 10 m³/ha\n\nData can be obtained from:\nhttp://www.weatherbase.com/","The monthly rainfall given in mm/month. \n1 mm = 1 l/m² = 10 m³/ha\n\nData can be obtained from:\nhttp://www.weatherbase.com/","Les précipitations mensuelles sont données en mm/mois.\n1 mm = 1 l/m² = 10 m³/ha\n\nLes données peuvent être obtenues auprès de :\nhttp://www.weatherbase.com/","La precipitación mensual se expresa en mm / mes.\n1 mm = 1 l / m² = 10 m³ / ha\n\nLos datos se pueden obtener de:\nhttp://www.weatherbase.com/","معدل هطول الأمطار الشهري بالملليمتر / الشهر.\n1 مم = 1 لتر / م² = 10 م³ / هكتار\n\nيمكن الحصول على البيانات من:\nhttp://www.weatherbase.com/"]
[]
[null,{"$f":"$C$11","v":"3 Irrigation Schedule"},{"$f":"HLOOKUP($C$6,$D$6:$I$585,ROW()-ROW($B$5),FALSE)","v":"To facilitate the selection of crops from the list of crops, start entering the crop's name, then select from the list of available crops."},"To facilitate the selection of crops from the list of crops, start entering the crop's name, then select from the list of available crops.","Pour faciliter la sélection des cultures dans la liste des cultures, commencez par saisir le nom de la culture, puis sélectionnez dans la liste des cultures disponibles.","Para facilitar la selección de cultivos de la lista de cultivos, primero ingrese el nombre del cultivo y luego seleccione de la lista de cultivos disponibles.","لتسهيل اختيار المحاصيل من قائمة المحاصيل ، ابدأ في إدخال اسم المحصول ، ثم اختر من قائمة المحاصيل المتاحة"]
[null,null,{"$f":"HLOOKUP($C$6,$D$6:$I$585,ROW()-ROW($B$5),FALSE)","v":"Date format is dependent on the settings of your computer or your operating system.\nExample: Today's date"},"Date format is dependent on the settings of your computer or your operating system.\nExample: Today's date","Le format de la date dépend des paramètres de votre ordinateur ou de votre système d'exploitation.\nExemple : date d'aujourd'hui","El formato de la fecha depende de la configuración de su computadora o del sistema operativo.\nEjemplo: fecha de hoy","تعتمد صيغة التاريخ على إعدادات الكمبيوتر أو نظام التشغيل الخاص بك.\nمثال: تاريخ اليوم"]
[null,null,{"$f":"HLOOKUP($C$6,$D$6:$I$585,ROW()-ROW($B$5),FALSE)","v":"The maximum possible water application should be adjusted to the field irrigation method, as a fixed water application is given at each irrigation."},"The maximum possible water application should be adjusted to the field irrigation method, as a fixed water application is given at each irrigation.","L'application d'eau maximale possible doit être ajustée à la méthode d'irrigation du champ, car une application d'eau fixe est donnée à chaque irrigation.","La aplicación de agua máxima posible debe ajustarse al método de riego del campo, ya que se da una aplicación de agua fija con cada riego.","يجب ضبط الكمية القصوى الممكن استخدمها في الري وفقًا لطريقة الري الحقلي ، حيث يتم استخدم كمية ماء ثابتة في كل رية"]
[]
[]
[null,"Additional Translations"]
[null,{"$f":"$C$10","v":"2 Soil Texture Calculator"},{"$f":"HLOOKUP($C$6,$D$6:$I$585,ROW()-ROW($B$5),FALSE)","v":"Please ensure your inputs (percentage of sand, clay, and silt) add up to 100%"},"Please ensure your inputs (percentage of sand, clay, and silt) add up to 100%","Veuillez vous assurer que vos apports (pourcentage de sable, d'argile et de limon) totalisent 100 %","Asegúrese de que sus aportes (porcentaje de arena, arcilla y limo) sumen el 100%","يرجى التأكد من أن مجموع النسب المئوية للرمل والطين والطمي لا يتجاوز 100٪"]
[null,null,"Could not determine soil texture","Could not determine soil texture","Impossible de déterminer la texture du sol","No se pudo determinar la textura del suelo","لا يمكن تحديد قوام التربة"]
[null,null,0]
[null,null,0]
[null,null,0]
[null,null,0]
[null,null,0]
[null,null,0]
[null,null,0]
[null,null,0]
[null,null,0]
[null,null,0]
[null,null,0]
[null,null,0]
[null,null,0]
[null,null,0]
[null,null,0]
[null,null,0]
[null,null,0]
[null,null,0]
[null,null,0]
[null,null,0]
[null,null,0]
[null,null,0]
[null,null,0]
[null,null,0]
[null,null,0]
[null,null,0]
[null,null,0]
[null,null,0]
[null,null,0]
[null,null,0]
[null,null,{"$f":"HLOOKUP($C$6,$D$6:$I$585,ROW()-ROW($B$5),FALSE)","v":0}]
[null,null,0]
[null,null,0]
[null,null,0]
[null,null,0]
[null,null,0]
[null,null,0]
[null,null,0]
[null,null,0]
[null,null,0]
[null,null,0]
[null,null,0]
[null,null,0]
[null,null,0]
[null,null,0]
[null,null,0]
[null,null,0]
[null,null,0]
[null,null,0]
[null,null,0]
[null,null,0]
[null,null,0]
[null,null,0]
[null,null,0]
[null,null,0]

{"sheet":"General Calculation","index":8,"n_rows":157,"n_cols":17,"rows_kept":157,"cut":false,"hidden":true,"merged":[[143,5,143,7],[119,0,119,2],[131,1,131,2],[1,4,1,6],[2,4,2,6],[3,4,3,6],[4,4,4,6],[18,2,18,6],[10,6,10,11]]}
[null,"Available climatic Data","Option","Status"]
[null,null,"Option 1",true,"Blaney-Criddle method"]
[null,null,"Option 2",false,"Hargreaves method"]
[null,null,"Option 3",false,"FAO Penman-Monteith method"]
[null,null,"Option 4",false,"Reference evapotranspiration"]
[]
[null,"Hemisphere",{"$f":"Translate!$C$106","v":"North"},{"$f":"Translate!$C$108","v":"East"}]
[null,null,{"$f":"Translate!$C$107","v":"South"},{"$f":"Translate!$C$109","v":"West"}]
[]
[null,"Option 1","Blaney-Criddle method"]
[null,null,"latitude",{"$f":"IF($D$2=TRUE,MROUND('1 Geographic Data'!$D$37,5),\"\")","v":5},"degree",null,"Translate Hemisphere to be used in formula"]
[null,null,"Hemisphere",{"$f":"IF($D$2=TRUE,'1 Geographic Data'!$G$37,\"\")","v":"North"},{"$f":"IF(OR(D12=$G$12,D12=$H$12,D12=$I$12,D12=$J$12,D12=$K$12,D12=$L$12),$G$12,\"South\")","v":"North"},null,{"$f":"Translate!D106","v":"North"},{"$f":"Translate!E106","v":"Nord"},{"$f":"Translate!F106","v":"Norte"},{"$f":"Translate!G106","v":"الشمالي"},{"$f":"Translate!H106","v":"North"},{"$f":"Translate!I106","v":"North"}]
[]
[null,null,null,{"$f":"'1 Geographic Data'!C22","v":"January"},{"$f":"'1 Geographic Data'!D22","v":"February"},{"$f":"'1 Geographic Data'!E22","v":"March"},{"$f":"'1 Geographic Data'!F22","v":"April"},{"$f":"'1 Geographic Data'!G22","v":"May"},{"$f":"'1 Geographic Data'!H22","v":"June"},{"$f":"'1 Geographic Data'!I22","v":"July"},{"$f":"'1 Geographic Data'!J22","v":"August"},{"$f":"'1 Geographic Data'!K22","v":"September"},{"$f":"'1 Geographic Data'!L22","v":"October"},{"$f":"'1 Geographic Data'!M22","v":"November"},{"$f":"'1 Geographic Data'!N22","v":"December"}]
[null,null,{"$f":"IF($D$2= TRUE,'1 Geographic Data'!A23,'1 Geographic Data'!A23)","v":"Mean daily temperature [°C]"},{"$f":"IF($D$2= TRUE,'1 Geographic Data'!C23,\"\")","v":25.5},{"$f":"IF($D$2= TRUE,'1 Geographic Data'!D23,\"\")","v":25},{"$f":"IF($D$2= TRUE,'1 Geographic Data'!E23,\"\")","v":24.6},{"$f":"IF($D$2= TRUE,'1 Geographic Data'!F23,\"\")","v":23.8},{"$f":"IF($D$2= TRUE,'1 Geographic Data'!G23,\"\")","v":23.9},{"$f":"IF($D$2= TRUE,'1 Geographic Data'!H23,\"\")","v":23.5},{"$f":"IF($D$2= TRUE,'1 Geographic Data'!I23,\"\")","v":23},{"$f":"IF($D$2= TRUE,'1 Geographic Data'!J23,\"\")","v":23},{"$f":"IF($D$2= TRUE,'1 Geographic Data'!K23,\"\")","v":23.6},{"$f":"IF($D$2= TRUE,'1 Geographic Data'!L23,\"\")","v":23.9},{"$f":"IF($D$2= TRUE,'1 Geographic Data'!M23,\"\")","v":23.6},{"$f":"IF($D$2= TRUE,'1 Geographic Data'!N23,\"\")","v":24}]
[null,null,"Daytime hours:",{"$f":"IF($D$2= TRUE, IF($E$12=\"North\",INDEX(F21:F33,VLOOKUP($D$11,$D$21:$E$33,2,FALSE)),INDEX(F35:F47,VLOOKUP($D$11,$D$21:$E$33,2,FALSE))),\"\")","v":0.27},{"$f":"IF($D$2= TRUE, IF($E$12=\"North\",INDEX(G21:G33,VLOOKUP($D$11,$D$21:$E$33,2,FALSE)),INDEX(G35:G47,VLOOKUP($D$11,$D$21:$E$33,2,FALSE))),\"\")","v":0.27},0.27,0.28000000000000003,0.28000000000000003,0.28000000000000003,0.28000000000000003,0.28000000000000003,0.28000000000000003,0.27,0.27,0.27]
[null,null,"Reference Evapotranspiration ",{"$f":"IF($D$2= TRUE, D16*(0.46*D15+8),\"\")","v":5.3271000000000006},{"$f":"IF($D$2= TRUE, E16*(0.46*E15+8),\"\")","v":5.2650000000000006},5.2153200000000011,5.3054400000000008,5.3183200000000008,5.2668000000000008,5.2023999999999999,5.2023999999999999,5.2796800000000008,5.1283799999999999,5.091120000000001,{"$f":"IF($D$2= TRUE, O16*(0.46*O15+8),\"\")","v":5.1408000000000005}]
[]
[null,null,"Mean daily percentage (p) of annual daytime hours for different latitudes"]
[null,null,"North","Latitude","#",{"$f":"D14","v":"January"},{"$f":"E14","v":"February"},"March","April","May","June","July","August","September","October","November","December"]
[null,null,null,60,1,0.15,0.2,0.26,0.32,0.38,0.41,0.4,0.34,0.28000000000000003,0.22,0.17,0.13]
[null,null,null,55,2,0.17,0.21,0.26,0.32,0.36,0.39,0.38,0.33,0.28000000000000003,0.23,0.18,0.16]
[null,null,null,50,3,0.19,0.23,0.27,0.31,0.34,0.36,0.35,0.32,0.28000000000000003,0.24,0.2,0.18]
[null,null,null,45,4,0.2,0.23,0.27,0.3,0.34,0.35,0.34,0.32,0.28000000000000003,0.24,0.21,0.2]
[null,null,null,40,5,0.22,0.24,0.27,0.3,0.32,0.34,0.33,0.31,0.28000000000000003,0.25,0.22,0.21]
[null,null,null,35,6,0.23,0.25,0.27,0.28999999999999998,0.31,0.32,0.32,0.3,0.28000000000000003,0.25,0.23,0.22]
[null,null,null,30,7,0.24,0.25,0.27,0.28999999999999998,0.31,0.32,0.31,0.3,0.28000000000000003,0.26,0.24,0.23]
[null,null,null,25,8,0.24,0.26,0.27,0.28999999999999998,0.3,0.31,0.31,0.28999999999999998,0.28000000000000003,0.26,0.25,0.24]
[null,null,null,20,9,0.25,0.26,0.27,0.28000000000000003,0.28999999999999998,0.3,0.3,0.28999999999999998,0.28000000000000003,0.26,0.25,0.25]
[null,null,null,15,10,0.26,0.26,0.27,0.28000000000000003,0.28999999999999998,0.28999999999999998,0.28999999999999998,0.28000000000000003,0.28000000000000003,0.27,0.26,0.25]
[null,null,null,10,11,0.26,0.27,0.27,0.28000000000000003,0.28000000000000003,0.28999999999999998,0.28999999999999998,0.28000000000000003,0.28000000000000003,0.27,0.26,0.26]
[null,null,null,5,12,0.27,0.27,0.27,0.28000000000000003,0.28000000000000003,0.28000000000000003,0.28000000000000003,0.28000000000000003,0.28000000000000003,0.27,0.27,0.27]
[null,null,null,0,13,0.27,0.27,0.27,0.27,0.27,0.27,0.27,0.27,0.27,0.27,0.27,0.27]
[null,null,"South","Latitude","#",{"$f":"D14","v":"January"},{"$f":"E14","v":"February"},"March","April","May","June","July","August","September","October","November","December"]
[null,null,null,60,1,0.4,0.34,0.28000000000000003,0.22,0.17,0.13,0.15,0.2,0.26,0.32,0.38,0.41]
[null,null,null,55,2,0.38,0.33,0.28000000000000003,0.23,0.18,0.16,0.17,0.21,0.26,0.32,0.36,0.39]
[null,null,null,50,3,0.35,0.32,0.28000000000000003,0.24,0.2,0.18,0.19,0.23,0.27,0.31,0.34,0.36]
[null,null,null,45,4,0.34,0.32,0.28000000000000003,0.24,0.21,0.2,0.2,0.23,0.27,0.3,0.34,0.35]
[null,null,null,40,5,0.33,0.31,0.28000000000000003,0.25,0.22,0.21,0.22,0.24,0.27,0.3,0.32,0.34]
[null,null,null,35,6,0.32,0.3,0.28000000000000003,0.25,0.23,0.22,0.23,0.25,0.27,0.28999999999999998,0.31,0.32]
[null,null,null,30,7,0.31,0.3,0.28000000000000003,0.26,0.24,0.23,0.24,0.25,0.27,0.28999999999999998,0.31,0.32]
[null,null,null,25,8,0.31,0.28999999999999998,0.28000000000000003,0.26,0.25,0.24,0.24,0.26,0.27,0.28999999999999998,0.3,0.31]
[null,null,null,20,9,0.3,0.28999999999999998,0.28000000000000003,0.26,0.25,0.25,0.25,0.26,0.27,0.28000000000000003,0.28999999999999998,0.3]
[null,null,null,15,10,0.28999999999999998,0.28000000000000003,0.28000000000000003,0.27,0.26,0.25,0.26,0.26,0.27,0.28000000000000003,0.28999999999999998,0.28999999999999998]
[null,null,null,10,11,0.28999999999999998,0.28000000000000003,0.28000000000000003,0.27,0.26,0.26,0.26,0.27,0.27,0.28000000000000003,0.28000000000000003,0.28999999999999998]
[null,null,null,5,12,0.28000000000000003,0.28000000000000003,0.28000000000000003,0.27,0.27,0.27,0.27,0.27,0.27,0.28000000000000003,0.28000000000000003,0.28000000000000003]
[null,null,null,0,13,0.27,0.27,0.27,0.27,0.27,0.27,0.27,0.27,0.27,0.27,0.27,0.27]
[]
[null,"Option 2","Hargreaves method"]
[null,null,"latitude",{"$f":"IF($D$3=TRUE,'1 Geographic Data'!$D$37,\"\")","v":""},"degree",{"$f":"IF($D$3=TRUE,'1 Geographic Data'!$G$37,\"\")","v":""},{"$f":"IF(OR(F50=$G$12,F50=$H$12,F50=$I$12,F50=$J$12,F50=$K$12,F50=$L$12),$G$12,\"South\")","v":"South"},{"$f":"\"==>\"","v":"==>"},{"$f":"IF($D$3= TRUE, IF(G50=\"North\",PI()*$D$50/180, PI()*-$D$50/180),\"\")","v":""},"Radians"]
[null,null,"Longitude",{"$f":"IF($D$3=TRUE,'1 Geographic Data'!$D$38,\"\")","v":""},"degree",{"$f":"IF($D$3=TRUE,'1 Geographic Data'!$G$38,\"\")","v":""}]
[]
[null,null,null,{"$f":"D14","v":"January"},"February","March","April","May","June","July","August","September","October","November","December"]
[null,null,{"$f":"IF($D$4= TRUE,'1 Geographic Data'!A24,'1 Geographic Data'!A24)","v":"Maximum daily temperature [°C]"},{"$f":"IF($D$3= TRUE,'1 Geographic Data'!C24, \"\")","v":""},{"$f":"IF($D$3= TRUE,'1 Geographic Data'!D24, \"\")","v":""},{"$f":"IF($D$3= TRUE,'1 Geographic Data'!E24, \"\")","v":""},{"$f":"IF($D$3= TRUE,'1 Geographic Data'!F24, \"\")","v":""},{"$f":"IF($D$3= TRUE,'1 Geographic Data'!G24, \"\")","v":""},{"$f":"IF($D$3= TRUE,'1 Geographic Data'!H24, \"\")","v":""},{"$f":"IF($D$3= TRUE,'1 Geographic Data'!I24, \"\")","v":""},{"$f":"IF($D$3= TRUE,'1 Geographic Data'!J24, \"\")","v":""},{"$f":"IF($D$3= TRUE,'1 Geographic Data'!K24, \"\")","v":""},{"$f":"IF($D$3= TRUE,'1 Geographic Data'!L24, \"\")","v":""},{"$f":"IF($D$3= TRUE,'1 Geographic Data'!M24, \"\")","v":""},{"$f":"IF($D$3= TRUE,'1 Geographic Data'!N24, \"\")","v":""}]
[null,null,{"$f":"IF($D$4= TRUE,'1 Geographic Data'!A25,'1 Geographic Data'!A25)","v":"Minimum daily temperature [°C]"},{"$f":"IF($D$3= TRUE,'1 Geographic Data'!C25, \"\")","v":""},{"$f":"IF($D$3= TRUE,'1 Geographic Data'!D25, \"\")","v":""},{"$f":"IF($D$3= TRUE,'1 Geographic Data'!E25, \"\")","v":""},{"$f":"IF($D$3= TRUE,'1 Geographic Data'!F25, \"\")","v":""},{"$f":"IF($D$3= TRUE,'1 Geographic Data'!G25, \"\")","v":""},{"$f":"IF($D$3= TRUE,'1 Geographic Data'!H25, \"\")","v":""},{"$f":"IF($D$3= TRUE,'1 Geographic Data'!I25, \"\")","v":""},{"$f":"IF($D$3= TRUE,'1 Geographic Data'!J25, \"\")","v":""},{"$f":"IF($D$3= TRUE,'1 Geographic Data'!K25, \"\")","v":""},{"$f":"IF($D$3= TRUE,'1 Geographic Data'!L25, \"\")","v":""},{"$f":"IF($D$3= TRUE,'1 Geographic Data'!M25, \"\")","v":""},{"$f":"IF($D$3= TRUE,'1 Geographic Data'!N25, \"\")","v":""}]
[null,null,"Reference Evapotranspiration ",{"$f":"D65","v":""},{"$f":"E65","v":""},"","","","","","","","","",""]
[]
[null,null,"Mean Temp. [°C] ",{"$f":"IF($D$3= TRUE,(D54+D55)/2,\"\")","v":""},{"$f":"IF($D$3= TRUE,(E54+E55)/2,\"\")","v":""},"","","","","","","","","",""]
[null,null,"Month",1,2,3,4,5,6,7,8,9,10,11,12]
[null,null,"J",{"$f":"IF($D$3= TRUE,TRUNC((30.4*D59)-15),\"\")","v":""},{"$f":"IF($D$3= TRUE,TRUNC((30.4*E59)-15),\"\")","v":""},"","","","","","","","","",""]
[null,null,"dr",{"$f":"IF($D$3= TRUE,1+(0.033*COS(2*PI()*D60/365)),\"\")","v":""},{"$f":"IF($D$3= TRUE,1+(0.033*COS(2*PI()*E60/365)),\"\")","v":""},"","","","","","","","","",""]
[null,null,"Solar Decl. δ [Rad]",{"$f":"IF($D$3= TRUE,0.4093*SIN((2*PI()*D60/365)-1.39),\"\")","v":""},{"$f":"IF($D$3= TRUE,0.4093*SIN((2*PI()*E60/365)-1.39),\"\")","v":""},"","","","","","","","","",""]
[null,null,"Sunset Angle [Rad]",{"$f":"IF($D$3= TRUE,ACOS(-TAN($I$50)*TAN(D62)),\"\")","v":""},"","","","","","","","","","",""]
[null,null,"Ra [MJ m-2 day-1]",{"$f":"IF($D$3= TRUE,(24*60*0.082*D61/PI())*((D63*SIN($I$50)*SIN(D62))+(COS($I$50)*COS(D62)*SIN(D63))),\"\")","v":""},"","","","","","","","","","",""]
[null,null,"ETo [mm day-1]",{"$f":"IF($D$3= TRUE,0.408*0.0023*(D58+17.8)*(D54-D55)^0.5*D64,\"\")","v":""},{"$f":"IF($D$3= TRUE,0.408*0.0023*(E58+17.8)*(E54-E55)^0.5*E64,\"\")","v":""},"","","","","","","","","",""]
[]
[]
[null,"Option 3","FAO Penman-Monteith method"]
[null,null,"latitude",{"$f":"IF($D$4=TRUE,'1 Geographic Data'!$D$37,\"\")","v":""},"degree",{"$f":"IF($D$4=TRUE,'1 Geographic Data'!$G$37,\"\")","v":""},{"$f":"IF(OR(F69=$G$12,F69=$H$12,F69=$I$12,F69=$J$12,F69=$K$12,F69=$L$12),$G$12,\"South\")","v":"South"},{"$f":"\"==>\"","v":"==>"},{"$f":"IF($D$4= TRUE,IF(G69=\"North\",PI()*$D$69/180, PI()*-$D$69/180),\"\")","v":""},"Radians"]
[null,null,"Longitude",{"$f":"IF($D$4=TRUE,'1 Geographic Data'!$D$38,\"\")","v":""},"degree",{"$f":"IF($D$4=TRUE,'1 Geographic Data'!$G$38,\"\")","v":""}]
[null,null,"Altitude",{"$f":"IF($D$4=TRUE,'1 Geographic Data'!$D$35,\"\")","v":""},"meter"]
[]
[null,null,"Angstrom values","as",0.25,null,"albedo α",0.23]
[null,null,null,"bs",0.5]
[]
[null,null,null,{"$f":"D14","v":"January"},"February","March","April","May","June","July","August","September","October","November","December"]
[null,null,{"$f":"IF($D$4= TRUE,'1 Geographic Data'!A24,'1 Geographic Data'!A24)","v":"Maximum daily temperature [°C]"},{"$f":"IF($D$4= TRUE,'1 Geographic Data'!C24,\"\")","v":""},{"$f":"IF($D$4= TRUE,'1 Geographic Data'!D24,\"\")","v":""},{"$f":"IF($D$4= TRUE,'1 Geographic Data'!E24,\"\")","v":""},{"$f":"IF($D$4= TRUE,'1 Geographic Data'!F24,\"\")","v":""},{"$f":"IF($D$4= TRUE,'1 Geographic Data'!G24,\"\")","v":""},{"$f":"IF($D$4= TRUE,'1 Geographic Data'!H24,\"\")","v":""},{"$f":"IF($D$4= TRUE,'1 Geographic Data'!I24,\"\")","v":""},{"$f":"IF($D$4= TRUE,'1 Geographic Data'!J24,\"\")","v":""},{"$f":"IF($D$4= TRUE,'1 Geographic Data'!K24,\"\")","v":""},{"$f":"IF($D$4= TRUE,'1 Geographic Data'!L24,\"\")","v":""},{"$f":"IF($D$4= TRUE,'1 Geographic Data'!M24,\"\")","v":""},{"$f":"IF($D$4= TRUE,'1 Geographic Data'!N24,\"\")","v":""}]
[null,null,{"$f":"IF($D$4= TRUE,'1 Geographic Data'!A25,'1 Geographic Data'!A25)","v":"Minimum daily temperature [°C]"},{"$f":"IF($D$4= TRUE,'1 Geographic Data'!C25,\"\")","v":""},{"$f":"IF($D$4= TRUE,'1 Geographic Data'!D25,\"\")","v":""},{"$f":"IF($D$4= TRUE,'1 Geographic Data'!E25,\"\")","v":""},{"$f":"IF($D$4= TRUE,'1 Geographic Data'!F25,\"\")","v":""},{"$f":"IF($D$4= TRUE,'1 Geographic Data'!G25,\"\")","v":""},{"$f":"IF($D$4= TRUE,'1 Geographic Data'!H25,\"\")","v":""},{"$f":"IF($D$4= TRUE,'1 Geographic Data'!I25,\"\")","v":""},{"$f":"IF($D$4= TRUE,'1 Geographic Data'!J25,\"\")","v":""},{"$f":"IF($D$4= TRUE,'1 Geographic Data'!K25,\"\")","v":""},{"$f":"IF($D$4= TRUE,'1 Geographic Data'!L25,\"\")","v":""},{"$f":"IF($D$4= TRUE,'1 Geographic Data'!M25,\"\")","v":""},{"$f":"IF($D$4= TRUE,'1 Geographic Data'!N25,\"\")","v":""}]
[null,null,{"$f":"IF($D$4= TRUE,'1 Geographic Data'!A26,'1 Geographic Data'!A26)","v":"Relative humidity [%]"},{"$f":"IF($D$4= TRUE,'1 Geographic Data'!C26,\"\")","v":""},{"$f":"IF($D$4= TRUE,'1 Geographic Data'!D26,\"\")","v":""},{"$f":"IF($D$4= TRUE,'1 Geographic Data'!E26,\"\")","v":""},{"$f":"IF($D$4= TRUE,'1 Geographic Data'!F26,\"\")","v":""},{"$f":"IF($D$4= TRUE,'1 Geographic Data'!G26,\"\")","v":""},{"$f":"IF($D$4= TRUE,'1 Geographic Data'!H26,\"\")","v":""},{"$f":"IF($D$4= TRUE,'1 Geographic Data'!I26,\"\")","v":""},{"$f":"IF($D$4= TRUE,'1 Geographic Data'!J26,\"\")","v":""},{"$f":"IF($D$4= TRUE,'1 Geographic Data'!K26,\"\")","v":""},{"$f":"IF($D$4= TRUE,'1 Geographic Data'!L26,\"\")","v":""},{"$f":"IF($D$4= TRUE,'1 Geographic Data'!M26,\"\")","v":""},{"$f":"IF($D$4= TRUE,'1 Geographic Data'!N26,\"\")","v":""}]
[null,null,{"$f":"IF($D$4= TRUE,'1 Geographic Data'!A27,'1 Geographic Data'!A27)","v":"Wind speed [m/s]"},{"$f":"IF($D$4= TRUE,'1 Geographic Data'!C27,\"\")","v":""},{"$f":"IF($D$4= TRUE,'1 Geographic Data'!D27,\"\")","v":""},{"$f":"IF($D$4= TRUE,'1 Geographic Data'!E27,\"\")","v":""},{"$f":"IF($D$4= TRUE,'1 Geographic Data'!F27,\"\")","v":""},{"$f":"IF($D$4= TRUE,'1 Geographic Data'!G27,\"\")","v":""},{"$f":"IF($D$4= TRUE,'1 Geographic Data'!H27,\"\")","v":""},{"$f":"IF($D$4= TRUE,'1 Geographic Data'!I27,\"\")","v":""},{"$f":"IF($D$4= TRUE,'1 Geographic Data'!J27,\"\")","v":""},{"$f":"IF($D$4= TRUE,'1 Geographic Data'!K27,\"\")","v":""},{"$f":"IF($D$4= TRUE,'1 Geographic Data'!L27,\"\")","v":""},{"$f":"IF($D$4= TRUE,'1 Geographic Data'!M27,\"\")","v":""},{"$f":"IF($D$4= TRUE,'1 Geographic Data'!N27,\"\")","v":""}]
[null,null,{"$f":"IF($D$4= TRUE,'1 Geographic Data'!A28,'1 Geographic Data'!A28)","v":"Sunshine [hours]"},{"$f":"IF($D$4= TRUE,'1 Geographic Data'!C28,\"\")","v":""},{"$f":"IF($D$4= TRUE,'1 Geographic Data'!D28,\"\")","v":""},{"$f":"IF($D$4= TRUE,'1 Geographic Data'!E28,\"\")","v":""},{"$f":"IF($D$4= TRUE,'1 Geographic Data'!F28,\"\")","v":""},{"$f":"IF($D$4= TRUE,'1 Geographic Data'!G28,\"\")","v":""},{"$f":"IF($D$4= TRUE,'1 Geographic Data'!H28,\"\")","v":""},{"$f":"IF($D$4= TRUE,'1 Geographic Data'!I28,\"\")","v":""},{"$f":"IF($D$4= TRUE,'1 Geographic Data'!J28,\"\")","v":""},{"$f":"IF($D$4= TRUE,'1 Geographic Data'!K28,\"\")","v":""},{"$f":"IF($D$4= TRUE,'1 Geographic Data'!L28,\"\")","v":""},{"$f":"IF($D$4= TRUE,'1 Geographic Data'!M28,\"\")","v":""},{"$f":"IF($D$4= TRUE,'1 Geographic Data'!N28,\"\")","v":""}]
[null,null,"Reference Evapotranspiration ",{"$f":"D106","v":""},{"$f":"E106","v":""},"","","","","","","","","",""]
[]
[null,null,"Mean Temp. [°C] ",{"$f":"IF($D$4= TRUE,(D77+D78)/2,\"\")","v":""},{"$f":"IF($D$4= TRUE,(E77+E78)/2,\"\")","v":""},"","","","","","","","","",""]
[null,null,"Delta [kPa °C-1]",{"$f":"IF($D$4= TRUE,4098*(0.6108*EXP((17.27*D84)/(D84+237.3)))/(D84+237.3)^2,\"\")","v":""},"","","","","","","","","","",""]
[null,null,"e° (Tmax) [KPa]",{"$f":"IF($D$4= TRUE,0.6108*EXP((17.27*D77)/(D77+237.3)),\"\")","v":""},"","","","","","","","","","",""]
[null,null,"e° (Tmin) [KPa]","","","","","","","","","","","",""]
[null,null,"es  [KPa]",{"$f":"IF($D$4= TRUE,(D86+D87)/2,\"\")","v":""},{"$f":"IF($D$4= TRUE,(E86+E87)/2,\"\")","v":""},"","","","","","","","","",""]
[null,null,"ea  [KPa]",{"$f":"IF($D$4= TRUE,D79*D88/100,\"\")","v":""},"","","","","","","","","","",""]
[null,null,"(es - ea)  [KPa]",{"$f":"IF($D$4= TRUE,D88-D89,\"\")","v":""},{"$f":"IF($D$4= TRUE,E88-E89,\"\")","v":""},"","","","","","","","","",""]
[null,null,"Atm. P  [KPa]",{"$f":"IF($D$4= TRUE,101.3*((293-0.0065*$D$71)/293)^5.26,\"\")","v":""},"","","","","","","","","","",""]
[null,null,"Gamma, γ [kPa °C-1]",{"$f":"IF($D$4= TRUE,0.000665*D91,\"\")","v":""},{"$f":"IF($D$4= TRUE,0.000665*E91,\"\")","v":""},"","","","","","","","","",""]
[null,null,"Month",1,2,3,4,5,6,7,8,9,10,11,12]
[null,null,"J",{"$f":"IF($D$4= TRUE,TRUNC((30.4*D93)-15),\"\")","v":""},{"$f":"IF($D$4= TRUE,TRUNC((30.4*E93)-15),\"\")","v":""},"","","","","","","","","",""]
[null,null,"dr",{"$f":"IF($D$4= TRUE,1+(0.033*COS(2*PI()*D94/365)),\"\")","v":""},{"$f":"IF($D$4= TRUE,1+(0.033*COS(2*PI()*E94/365)),\"\")","v":""},"","","","","","","","","",""]
[null,null,"Solar Decl. δ [Rad]",{"$f":"IF($D$4= TRUE,0.4093*SIN((2*PI()*D94/365)-1.39),\"\")","v":""},{"$f":"IF($D$4= TRUE,0.4093*SIN((2*PI()*E94/365)-1.39),\"\")","v":""},"","","","","","","","","",""]
[null,null,"Sunset Angle [Rad]",{"$f":"IF($D$4= TRUE,ACOS(-TAN($I$69)*TAN(D96)),\"\")","v":""},"","","","","","","","","","",""]
[null,null,"Ra [MJ m-2 day-1]",{"$f":"IF($D$4= TRUE,(24*60*0.082*D95/PI())*((D97*SIN($I$69)*SIN(D96))+(COS($I$69)*COS(D96)*SIN(D97))),\"\")","v":""},"","","","","","","","","","",""]
[null,null,"Daylight hours N",{"$f":"IF($D$4= TRUE,24*D97/PI(),\"\")","v":""},{"$f":"IF($D$4= TRUE,24*E97/PI(),\"\")","v":""},"","","","","","","","","",""]
[null,null,"Rs [MJ m-2 day-1]",{"$f":"IF($D$4= TRUE,($E$73+($E$74*D81/D99))*D98,\"\")","v":""},"","","","","","","","","","",""]
[null,null,"Rso [MJ m-2 day-1]",{"$f":"IF($D$4= TRUE,($E$73+$E$74)*D98,\"\")","v":""},"","","","","","","","","","",""]
[null,null,"Rns [MJ m-2 day-1]",{"$f":"IF($D$4= TRUE,(1-$H$73)*D100,\"\")","v":""},"","","","","","","","","","",""]
[null,null,"Rnl [MJ m-2 day-1]",{"$f":"IF($D$4= TRUE,4.903*10^-9*(((D77+273.16)^4+(D78+273.16)^4)/2)*(0.34-(0.14*SQRT(D89)))*((1.35*D100/D101)-0.35),\"\")","v":""},"","","","","","","","","","",""]
[null,null,"Rn [MJ m-2 day-1]",{"$f":"IF($D$4= TRUE,D102-D103,\"\")","v":""},{"$f":"IF($D$4= TRUE,E102-E103,\"\")","v":""},"","","","","","","","","",""]
[null,null,"Gmonth [MJ m-2 day-1]",{"$f":"IF($D$4= TRUE,0.14*(D84-O84),\"\")","v":""},{"$f":"IF($D$4= TRUE,0.14*(E84-D84),\"\")","v":""},"","","","","","","","","",""]
[null,null,"ETo [mm day-1]",{"$f":"IF($D$4= TRUE,((0.408*D85*(D104-D105))+(D92*900*D80*D90/(D84+273)))/(D85+(D92*(1+(0.34*D80)))),\"\")","v":""},"","","","","","","","","","",""]
[]
[null,"Option 4","Reference evapotranspiration"]
[null,null,null,{"$f":"D14","v":"January"},"February","March","April","May","June","July","August","September","October","November","December"]
[null,null,{"$f":"IF($D$5= TRUE,'1 Geographic Data'!A23,'1 Geographic Data'!A23)","v":"Mean daily temperature [°C]"},{"$f":"IF($D$5= TRUE,'1 Geographic Data'!C23,'1 Geographic Data'!C23)","v":25.5},{"$f":"IF($D$5= TRUE,'1 Geographic Data'!D23,'1 Geographic Data'!D23)","v":25},{"$f":"IF($D$5= TRUE,'1 Geographic Data'!E23,'1 Geographic Data'!E23)","v":24.6},{"$f":"IF($D$5= TRUE,'1 Geographic Data'!F23,'1 Geographic Data'!F23)","v":23.8},{"$f":"IF($D$5= TRUE,'1 Geographic Data'!G23,'1 Geographic Data'!G23)","v":23.9},{"$f":"IF($D$5= TRUE,'1 Geographic Data'!H23,'1 Geographic Data'!H23)","v":23.5},{"$f":"IF($D$5= TRUE,'1 Geographic Data'!I23,'1 Geographic Data'!I23)","v":23},{"$f":"IF($D$5= TRUE,'1 Geographic Data'!J23,'1 Geographic Data'!J23)","v":23},{"$f":"IF($D$5= TRUE,'1 Geographic Data'!K23,'1 Geographic Data'!K23)","v":23.6},{"$f":"IF($D$5= TRUE,'1 Geographic Data'!L23,'1 Geographic Data'!L23)","v":23.9},{"$f":"IF($D$5= TRUE,'1 Geographic Data'!M23,'1 Geographic Data'!M23)","v":23.6},{"$f":"IF($D$5= TRUE,'1 Geographic Data'!N23,'1 Geographic Data'!N23)","v":24}]
[null,null,{"$f":"IF($D$5= TRUE,'1 Geographic Data'!A29,'1 Geographic Data'!A29)","v":"Reference evapotranspiration [mm/day]"},{"$f":"IF($D$5= TRUE,'1 Geographic Data'!C29,\"\")","v":""},{"$f":"IF($D$5= TRUE,'1 Geographic Data'!D29,\"\")","v":""},{"$f":"IF($D$5= TRUE,'1 Geographic Data'!E29,\"\")","v":""},{"$f":"IF($D$5= TRUE,'1 Geographic Data'!F29,\"\")","v":""},{"$f":"IF($D$5= TRUE,'1 Geographic Data'!G29,\"\")","v":""},{"$f":"IF($D$5= TRUE,'1 Geographic Data'!H29,\"\")","v":""},{"$f":"IF($D$5= TRUE,'1 Geographic Data'!I29,\"\")","v":""},{"$f":"IF($D$5= TRUE,'1 Geographic Data'!J29,\"\")","v":""},{"$f":"IF($D$5= TRUE,'1 Geographic Data'!K29,\"\")","v":""},{"$f":"IF($D$5= TRUE,'1 Geographic Data'!L29,\"\")","v":""},{"$f":"IF($D$5= TRUE,'1 Geographic Data'!M29,\"\")","v":""},{"$f":"IF($D$5= TRUE,'1 Geographic Data'!N29,\"\")","v":""}]
[]
[]
[null,null,null,{"$f":"D14","v":"January"},"February","March","April","May","June","July","August","September","October","November","December"]
[null,"Final Values","Reference Evapotranspiration",{"$f":"IF($D$2= TRUE, D17, IF($D$3= TRUE, D56,IF($D$4= TRUE, D82,D111)))","v":5.3271000000000006},5.2650000000000006,5.2153200000000011,5.3054400000000008,5.3183200000000008,5.2668000000000008,5.2023999999999999,5.2023999999999999,5.2796800000000008,5.1283799999999999,5.091120000000001,5.1408000000000005]
[null,null,{"$f":"'1 Geographic Data'!$A$23","v":"Mean daily temperature [°C]"},{"$f":"IF($D$2= TRUE, D15, IF($D$3= TRUE, D58,IF($D$4= TRUE, D84,D110)))","v":25.5},25,24.6,23.8,23.9,23.5,23,23,23.6,23.9,23.6,24]
[null,null,{"$f":"'1 Geographic Data'!A30","v":"Rainfall [mm/month]"},{"$f":"'1 Geographic Data'!C30","v":45},{"$f":"'1 Geographic Data'!D30","v":33},{"$f":"'1 Geographic Data'!E30","v":69.3},{"$f":"'1 Geographic Data'!F30","v":142.80000000000001},{"$f":"'1 Geographic Data'!G30","v":109.8},{"$f":"'1 Geographic Data'!H30","v":38.1},{"$f":"'1 Geographic Data'!I30","v":27},{"$f":"'1 Geographic Data'!J30","v":21.6},{"$f":"'1 Geographic Data'!K30","v":18.3},{"$f":"'1 Geographic Data'!L30","v":48.3},{"$f":"'1 Geographic Data'!M30","v":97.2},{"$f":"'1 Geographic Data'!N30","v":86.1}]
[]
[]
["Calculation of crop water requiremnet and irrigation requirement"]
[]
[null,null,"Year",{"$f":"'Crop Calculation Sheet'!J11","v":"2020"},{"$f":"'Crop Calculation Sheet'!K11","v":"2020"},{"$f":"'Crop Calculation Sheet'!L11","v":"2020"},{"$f":"'Crop Calculation Sheet'!M11","v":"2020"},{"$f":"'Crop Calculation Sheet'!N11","v":"2020"},{"$f":"'Crop Calculation Sheet'!O11","v":"2020"},{"$f":"'Crop Calculation Sheet'!P11","v":"2020"},{"$f":"'Crop Calculation Sheet'!Q11","v":"2020"},{"$f":"'Crop Calculation Sheet'!R11","v":"2020"},{"$f":"'Crop Calculation Sheet'!S11","v":"2020"},{"$f":"'Crop Calculation Sheet'!T11","v":"2021"},{"$f":"'Crop Calculation Sheet'!U11","v":"2021"}]
[null,null,"Month of the year",{"$f":"'Crop Calculation Sheet'!J12","v":"March"},{"$f":"'Crop Calculation Sheet'!K12","v":"April"},{"$f":"'Crop Calculation Sheet'!L12","v":"May"},{"$f":"'Crop Calculation Sheet'!M12","v":"June"},{"$f":"'Crop Calculation Sheet'!N12","v":"July"},{"$f":"'Crop Calculation Sheet'!O12","v":"August"},{"$f":"'Crop Calculation Sheet'!P12","v":"September"},{"$f":"'Crop Calculation Sheet'!Q12","v":"October"},{"$f":"'Crop Calculation Sheet'!R12","v":"November"},{"$f":"'Crop Calculation Sheet'!S12","v":"December"},{"$f":"'Crop Calculation Sheet'!T12","v":"January"},{"$f":"'Crop Calculation Sheet'!U12","v":"February"}]
[null,null,"Days per month",{"$f":"'Crop Calculation Sheet'!J14","v":31},{"$f":"'Crop Calculation Sheet'!K14","v":30},{"$f":"'Crop Calculation Sheet'!L14","v":31},{"$f":"'Crop Calculation Sheet'!M14","v":30},{"$f":"'Crop Calculation Sheet'!N14","v":31},{"$f":"'Crop Calculation Sheet'!O14","v":31},{"$f":"'Crop Calculation Sheet'!P14","v":30},{"$f":"'Crop Calculation Sheet'!Q14","v":31},{"$f":"'Crop Calculation Sheet'!R14","v":30},{"$f":"'Crop Calculation Sheet'!S14","v":31},{"$f":"'Crop Calculation Sheet'!T14","v":31},{"$f":"'Crop Calculation Sheet'!U14","v":28}]
[null,null,{"$f":"$C$115","v":"Reference Evapotranspiration"},{"$f":"'Crop Calculation Sheet'!J15","v":5.2153200000000011},{"$f":"'Crop Calculation Sheet'!K15","v":5.3054400000000008},{"$f":"'Crop Calculation Sheet'!L15","v":5.3183200000000008},{"$f":"'Crop Calculation Sheet'!M15","v":5.2668000000000008},{"$f":"'Crop Calculation Sheet'!N15","v":5.2023999999999999},{"$f":"'Crop Calculation Sheet'!O15","v":5.2023999999999999},{"$f":"'Crop Calculation Sheet'!P15","v":5.2796800000000008},{"$f":"'Crop Calculation Sheet'!Q15","v":5.1283799999999999},{"$f":"'Crop Calculation Sheet'!R15","v":5.091120000000001},{"$f":"'Crop Calculation Sheet'!S15","v":5.1408000000000005},{"$f":"'Crop Calculation Sheet'!T15","v":5.3271000000000006},{"$f":"'Crop Calculation Sheet'!U15","v":5.2650000000000006}]
[null,null,{"$f":"C116","v":"Mean daily temperature [°C]"},{"$f":"VLOOKUP($C$126,$C$114:$O$117,MATCH(D$123,$C$114:$O$114,0),FALSE)","v":24.6},23.8,23.9,23.5,23,23,23.6,23.9,23.6,24,25.5,25]
[null,null,{"$f":"C117","v":"Rainfall [mm/month]"},{"$f":"VLOOKUP($C$127,$C$114:$O$117,MATCH(D$123,$C$114:$O$114,0),FALSE)","v":69.3},142.80000000000001,109.8,38.1,27,21.6,18.3,48.3,97.2,86.1,45,33]
[null,null,"Effective rainfall [mm/month]",{"$f":"IF(D127<=70,IF(0.6*D127-10>0,0.6*D127-10,0),IF(0.8*D127-24>0,0.8*D127-24,0))","v":31.58},90.240000000000009,63.84,12.86,6.1999999999999993,2.9600000000000009,0.98000000000000043,18.979999999999997,53.760000000000005,44.879999999999995,17,9.8000000000000007]
[null,null,"Average daily effective rainfall [mm/day]",{"$f":"D128/D124","v":1.0187096774193547},{"$f":"E128/E124","v":3.0080000000000005},2.0593548387096776,0.42866666666666664,0.19999999999999998,9.5483870967741968E-2,3.2666666666666684E-2,0.61225806451612896,1.7920000000000003,1.4477419354838708,0.54838709677419351,0.35000000000000003]
[]
[]
[null,"Water Need",null,{"$f":"PROPER(D123)","v":"March"},{"$f":"PROPER(E123)","v":"April"},"May","June","July","August","September","October","November","December","January","February"]
[null,"mm/month",{"$f":"IF('Data Validation Sheet'!$H$12=TRUE,'Crop Calculation Sheet'!I19,0)","v":0},{"$f":"IF('Data Validation Sheet'!$H$12=TRUE,'Crop Calculation Sheet'!J19,0)","v":0},{"$f":"IF('Data Validation Sheet'!$H$12=TRUE,'Crop Calculation Sheet'!K19,0)","v":0},{"$f":"IF('Data Validation Sheet'!$H$12=TRUE,'Crop Calculation Sheet'!L19,0)","v":0},{"$f":"IF('Data Validation Sheet'!$H$12=TRUE,'Crop Calculation Sheet'!M19,0)","v":0},{"$f":"IF('Data Validation Sheet'!$H$12=TRUE,'Crop Calculation Sheet'!N19,0)","v":0},{"$f":"IF('Data Validation Sheet'!$H$12=TRUE,'Crop Calculation Sheet'!O19,0)","v":0},{"$f":"IF('Data Validation Sheet'!$H$12=TRUE,'Crop Calculation Sheet'!P19,0)","v":0},{"$f":"IF('Data Validation Sheet'!$H$12=TRUE,'Crop Calculation Sheet'!Q19,0)","v":0},{"$f":"IF('Data Validation Sheet'!$H$12=TRUE,'Crop Calculation Sheet'!R19,0)","v":0},{"$f":"IF('Data Validation Sheet'!$H$12=TRUE,'Crop Calculation Sheet'!S19,0)","v":0},{"$f":"IF('Data Validation Sheet'!$H$12=TRUE,'Crop Calculation Sheet'!T19,0)","v":0},{"$f":"IF('Data Validation Sheet'!$H$12=TRUE,'Crop Calculation Sheet'!U19,0)","v":0},{"$f":"\"Area in \"&'3 Irrigation Schedule'!$C$8","v":"Area in ha"},"Actual Area in ha"]
[null,"m3/month",{"$f":"C133","v":0},{"$f":"D133*10*$Q$134","v":0},0,0,0,0,0,0,0,0,0,0,0,{"$f":"'3 Irrigation Schedule'!$E$19","v":1},{"$f":"P134/'3 Irrigation Schedule'!$H$8","v":1}]
[null,"mm/day",{"$f":"IF('Data Validation Sheet'!$H$12=TRUE,'Crop Calculation Sheet'!I20,0)","v":0},{"$f":"IF('Data Validation Sheet'!$H$12=TRUE,'Crop Calculation Sheet'!J20,0)","v":0},{"$f":"IF('Data Validation Sheet'!$H$12=TRUE,'Crop Calculation Sheet'!K20,0)","v":0},{"$f":"IF('Data Validation Sheet'!$H$12=TRUE,'Crop Calculation Sheet'!L20,0)","v":0},{"$f":"IF('Data Validation Sheet'!$H$12=TRUE,'Crop Calculation Sheet'!M20,0)","v":0},{"$f":"IF('Data Validation Sheet'!$H$12=TRUE,'Crop Calculation Sheet'!N20,0)","v":0},{"$f":"IF('Data Validation Sheet'!$H$12=TRUE,'Crop Calculation Sheet'!O20,0)","v":0},{"$f":"IF('Data Validation Sheet'!$H$12=TRUE,'Crop Calculation Sheet'!P20,0)","v":0},{"$f":"IF('Data Validation Sheet'!$H$12=TRUE,'Crop Calculation Sheet'!Q20,0)","v":0},{"$f":"IF('Data Validation Sheet'!$H$12=TRUE,'Crop Calculation Sheet'!R20,0)","v":0},{"$f":"IF('Data Validation Sheet'!$H$12=TRUE,'Crop Calculation Sheet'!S20,0)","v":0},{"$f":"IF('Data Validation Sheet'!$H$12=TRUE,'Crop Calculation Sheet'!T20,0)","v":0},{"$f":"IF('Data Validation Sheet'!$H$12=TRUE,'Crop Calculation Sheet'!U20,0)","v":0}]
[null,"m3/day",{"$f":"IF('Data Validation Sheet'!$H$12=TRUE,'Crop Calculation Sheet'!I20,0)","v":0},{"$f":"D135*10*$Q$134","v":0},{"$f":"E135*10*$Q$134","v":0},0,0,0,0,{"$f":"J135*10*$Q$134","v":0},{"$f":"K135*10*$Q$134","v":0},{"$f":"L135*10*$Q$134","v":0},{"$f":"M135*10*$Q$134","v":0},{"$f":"N135*10*$Q$134","v":0},{"$f":"O135*10*$Q$134","v":0}]
[null,null,{"$f":"IF('Data Validation Sheet'!$H$12=TRUE,'Crop Calculation Sheet'!I21,0)","v":0},{"$f":"IF('Data Validation Sheet'!$H$12=TRUE,'Crop Calculation Sheet'!J21,0)","v":0},{"$f":"IF('Data Validation Sheet'!$H$12=TRUE,'Crop Calculation Sheet'!K21,0)","v":0},{"$f":"IF('Data Validation Sheet'!$H$12=TRUE,'Crop Calculation Sheet'!L21,0)","v":0},{"$f":"IF('Data Validation Sheet'!$H$12=TRUE,'Crop Calculation Sheet'!M21,0)","v":0},{"$f":"IF('Data Validation Sheet'!$H$12=TRUE,'Crop Calculation Sheet'!N21,0)","v":0},{"$f":"IF('Data Validation Sheet'!$H$12=TRUE,'Crop Calculation Sheet'!O21,0)","v":0},{"$f":"IF('Data Validation Sheet'!$H$12=TRUE,'Crop Calculation Sheet'!P21,0)","v":0},{"$f":"IF('Data Validation Sheet'!$H$12=TRUE,'Crop Calculation Sheet'!Q21,0)","v":0},{"$f":"IF('Data Validation Sheet'!$H$12=TRUE,'Crop Calculation Sheet'!R21,0)","v":0},{"$f":"IF('Data Validation Sheet'!$H$12=TRUE,'Crop Calculation Sheet'!S21,0)","v":0},{"$f":"IF('Data Validation Sheet'!$H$12=TRUE,'Crop Calculation Sheet'!T21,0)","v":0},{"$f":"IF('Data Validation Sheet'!$H$12=TRUE,'Crop Calculation Sheet'!U21,0)","v":0}]
[]
[]
[]
[null,"Irrigation Method","Efficiency %"]
[]
[null,{"$f":"Translate!C181","v":"Surface: Graded furrow"},65]
[null,{"$f":"Translate!C182","v":"Surface: with tailwater reuse"},75]
[null,{"$f":"Translate!C183","v":"Surface: Graded border/basins"},65]
[null,{"$f":"Translate!C184","v":"Sprinkler: Periodic move"},75]
[null,{"$f":"Translate!C185","v":"Sprinkler: Side roll"},75]
[null,{"$f":"Translate!C186","v":"Sprinkler: Moving big gun"},65]
[null,{"$f":"Translate!C187","v":"Center pivot: Impact heads with end gun"},80]
[null,{"$f":"Translate!C188","v":"Center pivot: Spray heads without end gun"},90]
[null,{"$f":"Translate!C189","v":"Center pivot: LEPA without end gun"},95]
[null,{"$f":"Translate!C190","v":"Lateral move: Spray heads with hose feed"},90]
[null,{"$f":"Translate!C191","v":"Lateral move: Spray heads with canal feed"},85]
[null,{"$f":"Translate!C192","v":"Microirrigation: Drip irrigation"},90]
[null,{"$f":"Translate!C193","v":"Microirrigation: Subsurface drip"},90]
[null,{"$f":"Translate!C194","v":"Microirrigation: Microspray"},85]
[null,{"$f":"Translate!C195","v":"Garden hose"},70]

{"sheet":"Crop Calculation Sheet","index":9,"n_rows":1128,"n_cols":23,"rows_kept":1128,"cut":false,"hidden":true,"merged":[[6,11,6,12],[1,1,1,3],[2,1,2,3],[6,1,6,2],[5,1,5,2]]}
[]
[null,"Do not modify"]
[null,"Date format"]
[null,"Year",null,"yyyy"]
[null,"Month",null,"mmmm"]
[null,"Selected language",null,{"$f":"'READ ME'!$G$11","v":"English"}]
[null,"Selected code",null,{"$f":"VLOOKUP($D$6,$B$9:$C$14,2,FALSE)","v":"[$-409]"},null,null,null,null,"Earliest planting date:",{"$f":"'3 Irrigation Schedule'!$G$19","v":"2020-03-15"},null,"Last simulated date:",null,{"$f":"DATE(YEAR($J$7)+3,MONTH($J$7),0)","v":"2023-02-28"}]
[null,"Language ","Code"]
[null,{"$f":"Translate!D6","v":"English"},{"$f":"Translate!D7","v":"[$-409]"}]
[null,{"$f":"Translate!E6","v":"Français"},{"$f":"Translate!E7","v":"[$-40C]"},null,null,null,null,null,"Month after Planthing",1,2,3,4,5,6,7,8,9,10,11,12]
[null,{"$f":"Translate!F6","v":"Español"},{"$f":"Translate!F7","v":"[$-C0A]"},null,null,null,null,null,"Year",{"$f":"TEXT(DATE(YEAR($J$7),MONTH($J$7),1),$D$7&$D$4)","v":"2020"},{"$f":"TEXT((DATE(YEAR($J$7),MONTH($J$7)+K10-1,1)),$D$7&$D$4)","v":"2020"},"2020","2020","2020","2020","2020","2020","2020","2020","2021","2021"]
[null,{"$f":"Translate!G6","v":"العربية"},{"$f":"Translate!G7","v":"[$-401]"},null,null,null,null,null,"Month of the year",{"$f":"TEXT(DATE(YEAR($J$7),MONTH($J$7),1),$D$7&$D$5)","v":"March"},{"$f":"TEXT(DATE(YEAR($J$7),MONTH($J$7)+K10-1,1),$D$7&$D$5)","v":"April"},"May","June","July","August","September","October","November","December","January","February"]
[null,{"$f":"Translate!H6","v":0},{"$f":"Translate!H7","v":0},null,null,null,null,null,"1st day of the month",{"$f":"(DATE(YEAR($J$7),MONTH($J$7)+J10-1,1))","v":"2020-03-01"},"2020-04-01","2020-05-01","2020-06-01","2020-07-01","2020-08-01","2020-09-01","2020-10-01","2020-11-01","2020-12-01","2021-01-01","2021-02-01"]
[null,{"$f":"Translate!I6","v":0},{"$f":"Translate!I7","v":0},null,null,null,null,null,"Days per month",{"$f":"DAY(DATE(YEAR(J13),MONTH(J13)+1,1)-1)","v":31},{"$f":"DAY(DATE(YEAR(K13),MONTH(K13)+1,1)-1)","v":30},{"$f":"DAY(DATE(YEAR(L13),MONTH(L13)+1,1)-1)","v":31},30,31,31,30,31,30,31,31,28]
[null,null,null,null,null,null,null,null,"Reference Evapotranspiration",{"$f":"VLOOKUP($I$15,'General Calculation'!$C$115:$O$115,MATCH(J12,'General Calculation'!$C$114:$O$114,0))","v":5.2153200000000011},5.3054400000000008,5.3183200000000008,5.2668000000000008,5.2023999999999999,5.2023999999999999,5.2796800000000008,5.1283799999999999,5.091120000000001,5.1408000000000005,5.3271000000000006,5.2650000000000006]
[]
[null,null,"ETo","Eff. Rainfall",null,null,"Crop 1",{"$f":"IFERROR(LEFT($H$24,FIND(\"(\",$H$24)-1),$H$24)","v":""},"Crop Water Requirement",{"$f":"SUMIFS($M$34:$M$399,$D$34:$D$399,J$11,$E$34:$E$399,J$12)","v":39.552986880000013},152.35101503999996,119.92811600000002,0,0,0,0,0,0,0,0,0]
[null,"Month","mm/day","mm/day",null,null,null,null,"Number of day/month",{"$f":"COUNTIFS($M$34:$M$399,\">0\",$D$34:$D$399,J$11,$E$34:$E$399,J$12)","v":17},30,21,0,0,0,0,0,0,0,0,0]
[null,{"$f":"TRANSPOSE(J12:U12)","v":"March"},{"$f":"TRANSPOSE(J15:U15)","v":5.2153200000000011},{"$f":"TRANSPOSE('General Calculation'!D129:O129)","v":1.0187096774193547},null,null,null,null,"Total Gross Irrigation",{"$f":"SUMIFS($W$34:$W$399,$D$34:$D$399,J$11,$E$34:$E$399,J$12)","v":{"$error":"#VALUE!"}},{"$error":"#VALUE!"},{"$error":"#VALUE!"},0,0,0,0,0,0,0,0,0]
[null,"April",5.3054400000000008,3.0080000000000005,null,null,null,null,"Max Gross Irrigation per event",{"$f":"_xlfn.AGGREGATE(14,3,($D$34:$D$399=J$11)*($E$34:$E$399=J$12)*$W$34:$W$399,1)","v":{"$error":"#NUM!"}},{"$error":"#NUM!"},{"$error":"#NUM!"},{"$error":"#NUM!"},{"$error":"#NUM!"},{"$error":"#NUM!"},{"$error":"#NUM!"},{"$error":"#NUM!"},{"$error":"#NUM!"},{"$error":"#NUM!"},{"$error":"#NUM!"},{"$error":"#NUM!"}]
[null,"May",5.3183200000000008,2.0593548387096776,null,null,null,null,"Irrigation days",{"$f":"COUNTIFS($W$34:$W$399,\">0\",$D$34:$D$399,J$11,$E$34:$E$399,J$12)","v":0},0,0,0,0,0,0,0,0,0,0,0]
[null,"June",5.2668000000000008,0.42866666666666664]
[null,"July",5.2023999999999999,0.19999999999999998]
[null,"August",5.2023999999999999,9.5483870967741968E-2,null,null,"Crop 1",{"$f":"IF(OR('3 Irrigation Schedule'!$B$19=\"\",'3 Irrigation Schedule'!$B$19=\"none\"),\"\",'3 Irrigation Schedule'!$B$19)","v":""},null,null,null,{"$f":"IFERROR(VLOOKUP($H$24,'Crop Information'!$B$7:$C$216,2,FALSE),2)","v":2}]
[null,"September",5.2796800000000008,3.2666666666666684E-2,null,null,null,null,"Date after Sowing"]
[null,"October",5.1283799999999999,0.61225806451612896,null,null,"Crop 1","Days","DAS","From","To","Crop Factor","Root Depth","Depletion"]
[null,"November",5.091120000000001,1.7920000000000003,null,null,"Initial:",{"$f":"IFERROR(INDEX('Crop Information'!$D$7:$D$216,$L$24),NA())","v":10},{"$f":"H27","v":10},{"$f":"$J$7","v":"2020-03-15"},{"$f":"J27+H27-1","v":"2020-03-24"},{"$f":"INDEX('Crop Information'!$I$7:$I$216,$L$24)","v":0.4},{"$f":"INDEX('Crop Information'!$L$7:$L$216,$L$24)","v":1.2},{"$f":"INDEX('Crop Information'!$N$7:$N$216,$L$24)","v":0.55000000000000004}]
[null,"December",5.1408000000000005,1.4477419354838708,null,null,"Development:",{"$f":"IFERROR(INDEX('Crop Information'!$E$7:$E$216,$L$24),NA())","v":25},{"$f":"I27+H28","v":35},{"$f":"K27+1","v":"2020-03-25"},{"$f":"K27+H28","v":"2020-04-18"},{"$f":"\"-\"","v":"-"},{"$f":"INDEX('Crop Information'!$M$7:$M$216,$L$24)","v":1.2},{"$f":"\"-\"","v":"-"}]
[null,"January",5.3271000000000006,0.54838709677419351,null,null,"Mid season:",{"$f":"IFERROR(INDEX('Crop Information'!$F$7:$F$216,$L$24),NA())","v":23},{"$f":"I28+H29","v":58},{"$f":"K28+1","v":"2020-04-19"},{"$f":"K28+H29","v":"2020-05-11"},{"$f":"INDEX('Crop Information'!$J$7:$J$216,$L$24)","v":1.1000000000000001},{"$f":"INDEX('Crop Information'!$M$7:$M$216,$L$24)","v":1.2},{"$f":"\"-\"","v":"-"}]
[null,"February",5.2650000000000006,0.35000000000000003,null,null,"Late season:",{"$f":"IFERROR(INDEX('Crop Information'!$G$7:$G$216,$L$24),NA())","v":10},{"$f":"I29+H30","v":68},{"$f":"K29+1","v":"2020-05-12"},{"$f":"H30+K29","v":"2020-05-21"},{"$f":"INDEX('Crop Information'!$K$7:$K$216,$L$24)","v":1},{"$f":"INDEX('Crop Information'!$M$7:$M$216,$L$24)","v":1.2},{"$f":"\"-\"","v":"-"}]
[null,null,null,null,null,null,"Total growing days:",{"$f":"IFERROR(SUM(H27:H30),NA())","v":68}]
[null,null,null,null,null,null,null,null,null,"mm","mm",null,"mm","m","mm","mm","mm",null,"mm","mm","mm","mm","mm"]
[null,null,null,"Year","Month","Date",null,"DAS","Stage:","ETo ","Rainfall","Kc","ETc","Rooting Depth ","TAW","RAW","Dep. Start","Ks","ETc adj","Dep. End","Threshold","NIR","GIR"]
[null,null,null,{"$f":"IFERROR(TEXT(DATE(YEAR($F34),MONTH($F34),1),$D$7&$D$4),\"\")","v":"2020"},{"$f":"IFERROR(TEXT(DATE(YEAR($F34),MONTH($F34),1),$D$7&$D$5),\"\")","v":"March"},{"$f":"DATE(YEAR($J$7),MONTH($J$7),1)","v":"2020-03-01"},null,{"$f":"IFERROR(IF(OR($F34-$J$27+1<=0,$F34>$K$30),\"\",$F34-$J$27+1),\"\")","v":""},{"$f":"IF(H34=\"\",\"\",IF(H34<=$I$27,\"Initial\",IF(AND(H34>$I$27,H34<=$I$28),\"Development\",IF(AND(H34>$I$28,H34<=$I$29),\"Mid Season\",\"Late Season\"))))","v":""},{"$f":"IFERROR(VLOOKUP($E34,$B$19:$C$30,2,FALSE),\"\")","v":5.2153200000000011},{"$f":"IFERROR(VLOOKUP($E34,$B$19:$D$30,3,FALSE),\"\")","v":1.0187096774193547},{"$f":"IF(H34=\"\",\"\",IF(H34<=$I$27,$L$27,IF(AND(H34>$I$27,H34<=$I$28),$L$27+((H34-$I$27)/$H$28)*($L$29-$L$27),IF(AND(H34>$I$28,H34<=$I$29),$L$29,$L$29+((H34-$I$29)/$H$30)*($L$30-$L$29)))))","v":""},{"$f":"IFERROR((J34*L34),0)","v":0},{"$f":"IF(H34=\"\",\"\",IF(OR(H34=1,H34<$I$28),$M$27+(($M$28-$M$27)*((H34-1)/($I$28-1))),$M$28))","v":""},{"$f":"IF(OR('3 Irrigation Schedule'!$C$29=\"\",'3 Irrigation Schedule'!$C$31=\"\",H34=\"\"),\"\",(('3 Irrigation Schedule'!$C$29-'3 Irrigation Schedule'!$C$31)/100)*1000*N34)","v":""},{"$f":"IF(H34=\"\",\"\",O34*$N$27)","v":""},{"$f":"IF(H34=\"\",\"\",IF(H34=1,O34*(1-'3 Irrigation Schedule'!$C$27),T33-V33))","v":""},{"$f":"IF(H34=\"\",\"\",IF(Q34>P34,(O34-Q34)/(O34-P34),1))","v":""},{"$f":"IF(H34=\"\",\"\",M34*R34)","v":""},{"$f":"IF(H34=\"\",\"\",IF(Q34+S34-K34<0,0,Q34+S34-K34))","v":""},{"$f":"IF(H34=\"\",\"\",IF('3 Irrigation Schedule'!$P$19<P34,'3 Irrigation Schedule'!$P$19,P34))","v":""},{"$f":"IF(H34=\"\",\"\",IF(U34<=T34,U34,0))","v":""},{"$f":"IF(H34=\"\",\"\",V34/'3 Irrigation Schedule'!$M$19)","v":""}]
[null,null,null,"2020","March",{"$f":"IFERROR(IF(F34+1<=$N$7, F34+1,\"\"),\"\")","v":"2020-03-02"},null,{"$f":"IFERROR(IF(OR($F35-$J$27+1<=0,$F35>$K$30),\"\",$F35-$J$27+1),\"\")","v":""},"",5.2153200000000011,{"$f":"IFERROR(VLOOKUP($E35,$B$19:$D$30,3,FALSE),\"\")","v":1.0187096774193547},"",0,"",{"$f":"IF(OR('3 Irrigation Schedule'!$C$29=\"\",'3 Irrigation Schedule'!$C$31=\"\",H35=\"\"),\"\",(('3 Irrigation Schedule'!$C$29-'3 Irrigation Schedule'!$C$31)/100)*1000*N35)","v":""},"",{"$f":"IF(H35=\"\",\"\",IF(H35=1,O35*(1-'3 Irrigation Schedule'!$C$27),T34-V34))","v":""},"","","",{"$f":"IF(H35=\"\",\"\",IF('3 Irrigation Schedule'!$P$19<P35,'3 Irrigation Schedule'!$P$19,P35))","v":""},"",{"$f":"IF(H35=\"\",\"\",V35/'3 Irrigation Schedule'!$M$19)","v":""}]
[null,null,null,"2020","March","2020-03-03",null,"","",5.2153200000000011,1.0187096774193547,"",0,"",{"$f":"IF(OR('3 Irrigation Schedule'!$C$29=\"\",'3 Irrigation Schedule'!$C$31=\"\",H36=\"\"),\"\",(('3 Irrigation Schedule'!$C$29-'3 Irrigation Schedule'!$C$31)/100)*1000*N36)","v":""},"",{"$f":"IF(H36=\"\",\"\",IF(H36=1,O36*(1-'3 Irrigation Schedule'!$C$27),T35-V35))","v":""},"","","",{"$f":"IF(H36=\"\",\"\",IF('3 Irrigation Schedule'!$P$19<P36,'3 Irrigation Schedule'!$P$19,P36))","v":""},"",{"$f":"IF(H36=\"\",\"\",V36/'3 Irrigation Schedule'!$M$19)","v":""}]
[null,null,null,"2020","March","2020-03-04",null,"","",5.2153200000000011,1.0187096774193547,"",0,"",{"$f":"IF(OR('3 Irrigation Schedule'!$C$29=\"\",'3 Irrigation Schedule'!$C$31=\"\",H37=\"\"),\"\",(('3 Irrigation Schedule'!$C$29-'3 Irrigation Schedule'!$C$31)/100)*1000*N37)","v":""},"",{"$f":"IF(H37=\"\",\"\",IF(H37=1,O37*(1-'3 Irrigation Schedule'!$C$27),T36-V36))","v":""},"","","",{"$f":"IF(H37=\"\",\"\",IF('3 Irrigation Schedule'!$P$19<P37,'3 Irrigation Schedule'!$P$19,P37))","v":""},"",{"$f":"IF(H37=\"\",\"\",V37/'3 Irrigation Schedule'!$M$19)","v":""}]
[null,null,null,"2020","March","2020-03-05",null,"","",5.2153200000000011,1.0187096774193547,"",0,"",{"$f":"IF(OR('3 Irrigation Schedule'!$C$29=\"\",'3 Irrigation Schedule'!$C$31=\"\",H38=\"\"),\"\",(('3 Irrigation Schedule'!$C$29-'3 Irrigation Schedule'!$C$31)/100)*1000*N38)","v":""},"",{"$f":"IF(H38=\"\",\"\",IF(H38=1,O38*(1-'3 Irrigation Schedule'!$C$27),T37-V37))","v":""},"","","",{"$f":"IF(H38=\"\",\"\",IF('3 Irrigation Schedule'!$P$19<P38,'3 Irrigation Schedule'!$P$19,P38))","v":""},"",{"$f":"IF(H38=\"\",\"\",V38/'3 Irrigation Schedule'!$M$19)","v":""}]
[null,null,null,"2020","March","2020-03-06",null,"","",5.2153200000000011,1.0187096774193547,"",0,"",{"$f":"IF(OR('3 Irrigation Schedule'!$C$29=\"\",'3 Irrigation Schedule'!$C$31=\"\",H39=\"\"),\"\",(('3 Irrigation Schedule'!$C$29-'3 Irrigation Schedule'!$C$31)/100)*1000*N39)","v":""},"",{"$f":"IF(H39=\"\",\"\",IF(H39=1,O39*(1-'3 Irrigation Schedule'!$C$27),T38-V38))","v":""},"","","",{"$f":"IF(H39=\"\",\"\",IF('3 Irrigation Schedule'!$P$19<P39,'3 Irrigation Schedule'!$P$19,P39))","v":""},"",{"$f":"IF(H39=\"\",\"\",V39/'3 Irrigation Schedule'!$M$19)","v":""}]
[null,null,null,"2020","March","2020-03-07",null,"","",5.2153200000000011,1.0187096774193547,"",0,"",{"$f":"IF(OR('3 Irrigation Schedule'!$C$29=\"\",'3 Irrigation Schedule'!$C$31=\"\",H40=\"\"),\"\",(('3 Irrigation Schedule'!$C$29-'3 Irrigation Schedule'!$C$31)/100)*1000*N40)","v":""},"",{"$f":"IF(H40=\"\",\"\",IF(H40=1,O40*(1-'3 Irrigation Schedule'!$C$27),T39-V39))","v":""},"","","",{"$f":"IF(H40=\"\",\"\",IF('3 Irrigation Schedule'!$P$19<P40,'3 Irrigation Schedule'!$P$19,P40))","v":""},"",{"$f":"IF(H40=\"\",\"\",V40/'3 Irrigation Schedule'!$M$19)","v":""}]
[null,null,null,"2020","March","2020-03-08",null,"","",5.2153200000000011,1.0187096774193547,"",0,"",{"$f":"IF(OR('3 Irrigation Schedule'!$C$29=\"\",'3 Irrigation Schedule'!$C$31=\"\",H41=\"\"),\"\",(('3 Irrigation Schedule'!$C$29-'3 Irrigation Schedule'!$C$31)/100)*1000*N41)","v":""},"",{"$f":"IF(H41=\"\",\"\",IF(H41=1,O41*(1-'3 Irrigation Schedule'!$C$27),T40-V40))","v":""},"","","",{"$f":"IF(H41=\"\",\"\",IF('3 Irrigation Schedule'!$P$19<P41,'3 Irrigation Schedule'!$P$19,P41))","v":""},"",{"$f":"IF(H41=\"\",\"\",V41/'3 Irrigation Schedule'!$M$19)","v":""}]
[null,null,null,"2020","March","2020-03-09",null,"","",5.2153200000000011,1.0187096774193547,"",0,"",{"$f":"IF(OR('3 Irrigation Schedule'!$C$29=\"\",'3 Irrigation Schedule'!$C$31=\"\",H42=\"\"),\"\",(('3 Irrigation Schedule'!$C$29-'3 Irrigation Schedule'!$C$31)/100)*1000*N42)","v":""},"",{"$f":"IF(H42=\"\",\"\",IF(H42=1,O42*(1-'3 Irrigation Schedule'!$C$27),T41-V41))","v":""},"","","",{"$f":"IF(H42=\"\",\"\",IF('3 Irrigation Schedule'!$P$19<P42,'3 Irrigation Schedule'!$P$19,P42))","v":""},"",{"$f":"IF(H42=\"\",\"\",V42/'3 Irrigation Schedule'!$M$19)","v":""}]
[null,null,null,"2020","March","2020-03-10",null,"","",5.2153200000000011,1.0187096774193547,"",0,"",{"$f":"IF(OR('3 Irrigation Schedule'!$C$29=\"\",'3 Irrigation Schedule'!$C$31=\"\",H43=\"\"),\"\",(('3 Irrigation Schedule'!$C$29-'3 Irrigation Schedule'!$C$31)/100)*1000*N43)","v":""},"",{"$f":"IF(H43=\"\",\"\",IF(H43=1,O43*(1-'3 Irrigation Schedule'!$C$27),T42-V42))","v":""},"","","",{"$f":"IF(H43=\"\",\"\",IF('3 Irrigation Schedule'!$P$19<P43,'3 Irrigation Schedule'!$P$19,P43))","v":""},"",{"$f":"IF(H43=\"\",\"\",V43/'3 Irrigation Schedule'!$M$19)","v":""}]
[null,null,null,"2020","March","2020-03-11",null,"","",5.2153200000000011,1.0187096774193547,"",0,"",{"$f":"IF(OR('3 Irrigation Schedule'!$C$29=\"\",'3 Irrigation Schedule'!$C$31=\"\",H44=\"\"),\"\",(('3 Irrigation Schedule'!$C$29-'3 Irrigation Schedule'!$C$31)/100)*1000*N44)","v":""},"",{"$f":"IF(H44=\"\",\"\",IF(H44=1,O44*(1-'3 Irrigation Schedule'!$C$27),T43-V43))","v":""},"","","",{"$f":"IF(H44=\"\",\"\",IF('3 Irrigation Schedule'!$P$19<P44,'3 Irrigation Schedule'!$P$19,P44))","v":""},"",{"$f":"IF(H44=\"\",\"\",V44/'3 Irrigation Schedule'!$M$19)","v":""}]
[null,null,null,"2020","March","2020-03-12",null,"","",5.2153200000000011,1.0187096774193547,"",0,"",{"$f":"IF(OR('3 Irrigation Schedule'!$C$29=\"\",'3 Irrigation Schedule'!$C$31=\"\",H45=\"\"),\"\",(('3 Irrigation Schedule'!$C$29-'3 Irrigation Schedule'!$C$31)/100)*1000*N45)","v":""},"",{"$f":"IF(H45=\"\",\"\",IF(H45=1,O45*(1-'3 Irrigation Schedule'!$C$27),T44-V44))","v":""},"","","",{"$f":"IF(H45=\"\",\"\",IF('3 Irrigation Schedule'!$P$19<P45,'3 Irrigation Schedule'!$P$19,P45))","v":""},"",{"$f":"IF(H45=\"\",\"\",V45/'3 Irrigation Schedule'!$M$19)","v":""}]
[null,null,null,"2020","March","2020-03-13",null,"","",5.2153200000000011,1.0187096774193547,"",0,"",{"$f":"IF(OR('3 Irrigation Schedule'!$C$29=\"\",'3 Irrigation Schedule'!$C$31=\"\",H46=\"\"),\"\",(('3 Irrigation Schedule'!$C$29-'3 Irrigation Schedule'!$C$31)/100)*1000*N46)","v":""},"",{"$f":"IF(H46=\"\",\"\",IF(H46=1,O46*(1-'3 Irrigation Schedule'!$C$27),T45-V45))","v":""},"","","",{"$f":"IF(H46=\"\",\"\",IF('3 Irrigation Schedule'!$P$19<P46,'3 Irrigation Schedule'!$P$19,P46))","v":""},"",{"$f":"IF(H46=\"\",\"\",V46/'3 Irrigation Schedule'!$M$19)","v":""}]
[null,null,null,"2020","March","2020-03-14",null,"","",5.2153200000000011,1.0187096774193547,"",0,"",{"$f":"IF(OR('3 Irrigation Schedule'!$C$29=\"\",'3 Irrigation Schedule'!$C$31=\"\",H47=\"\"),\"\",(('3 Irrigation Schedule'!$C$29-'3 Irrigation Schedule'!$C$31)/100)*1000*N47)","v":""},"",{"$f":"IF(H47=\"\",\"\",IF(H47=1,O47*(1-'3 Irrigation Schedule'!$C$27),T46-V46))","v":""},"","","",{"$f":"IF(H47=\"\",\"\",IF('3 Irrigation Schedule'!$P$19<P47,'3 Irrigation Schedule'!$P$19,P47))","v":""},"",{"$f":"IF(H47=\"\",\"\",V47/'3 Irrigation Schedule'!$M$19)","v":""}]
[null,null,null,"2020","March","2020-03-15",null,1,"Initial",5.2153200000000011,1.0187096774193547,0.4,2.0861280000000004,1.2,{"$f":"IF(OR('3 Irrigation Schedule'!$C$29=\"\",'3 Irrigation Schedule'!$C$31=\"\",H48=\"\"),\"\",(('3 Irrigation Schedule'!$C$29-'3 Irrigation Schedule'!$C$31)/100)*1000*N48)","v":""},{"$error":"#VALUE!"},{"$f":"IF(H48=\"\",\"\",IF(H48=1,O48*(1-'3 Irrigation Schedule'!$C$27),T47-V47))","v":{"$error":"#VALUE!"}},{"$error":"#VALUE!"},{"$error":"#VALUE!"},{"$error":"#VALUE!"},{"$f":"IF(H48=\"\",\"\",IF('3 Irrigation Schedule'!$P$19<P48,'3 Irrigation Schedule'!$P$19,P48))","v":{"$error":"#VALUE!"}},{"$error":"#VALUE!"},{"$f":"IF(H48=\"\",\"\",V48/'3 Irrigation Schedule'!$M$19)","v":{"$error":"#VALUE!"}}]
[null,null,null,"2020","March","2020-03-16",null,2,"Initial",5.2153200000000011,1.0187096774193547,0.4,2.0861280000000004,1.2,{"$f":"IF(OR('3 Irrigation Schedule'!$C$29=\"\",'3 Irrigation Schedule'!$C$31=\"\",H49=\"\"),\"\",(('3 Irrigation Schedule'!$C$29-'3 Irrigation Schedule'!$C$31)/100)*1000*N49)","v":""},{"$error":"#VALUE!"},{"$f":"IF(H49=\"\",\"\",IF(H49=1,O49*(1-'3 Irrigation Schedule'!$C$27),T48-V48))","v":{"$error":"#VALUE!"}},{"$error":"#VALUE!"},{"$error":"#VALUE!"},{"$error":"#VALUE!"},{"$f":"IF(H49=\"\",\"\",IF('3 Irrigation Schedule'!$P$19<P49,'3 Irrigation Schedule'!$P$19,P49))","v":{"$error":"#VALUE!"}},{"$error":"#VALUE!"},{"$f":"IF(H49=\"\",\"\",V49/'3 Irrigation Schedule'!$M$19)","v":{"$error":"#VALUE!"}}]
[null,null,null,"2020","March","2020-03-17",null,3,"Initial",5.2153200000000011,1.0187096774193547,0.4,2.0861280000000004,1.2,{"$f":"IF(OR('3 Irrigation Schedule'!$C$29=\"\",'3 Irrigation Schedule'!$C$31=\"\",H50=\"\"),\"\",(('3 Irrigation Schedule'!$C$29-'3 Irrigation Schedule'!$C$31)/100)*1000*N50)","v":""},{"$error":"#VALUE!"},{"$f":"IF(H50=\"\",\"\",IF(H50=1,O50*(1-'3 Irrigation Schedule'!$C$27),T49-V49))","v":{"$error":"#VALUE!"}},{"$error":"#VALUE!"},{"$error":"#VALUE!"},{"$error":"#VALUE!"},{"$f":"IF(H50=\"\",\"\",IF('3 Irrigation Schedule'!$P$19<P50,'3 Irrigation Schedule'!$P$19,P50))","v":{"$error":"#VALUE!"}},{"$error":"#VALUE!"},{"$f":"IF(H50=\"\",\"\",V50/'3 Irrigation Schedule'!$M$19)","v":{"$error":"#VALUE!"}}]
[null,null,null,"2020","March","2020-03-18",null,4,"Initial",5.2153200000000011,1.0187096774193547,0.4,2.0861280000000004,1.2,{"$f":"IF(OR('3 Irrigation Schedule'!$C$29=\"\",'3 Irrigation Schedule'!$C$31=\"\",H51=\"\"),\"\",(('3 Irrigation Schedule'!$C$29-'3 Irrigation Schedule'!$C$31)/100)*1000*N51)","v":""},{"$error":"#VALUE!"},{"$f":"IF(H51=\"\",\"\",IF(H51=1,O51*(1-'3 Irrigation Schedule'!$C$27),T50-V50))","v":{"$error":"#VALUE!"}},{"$error":"#VALUE!"},{"$error":"#VALUE!"},{"$error":"#VALUE!"},{"$f":"IF(H51=\"\",\"\",IF('3 Irrigation Schedule'!$P$19<P51,'3 Irrigation Schedule'!$P$19,P51))","v":{"$error":"#VALUE!"}},{"$error":"#VALUE!"},{"$f":"IF(H51=\"\",\"\",V51/'3 Irrigation Schedule'!$M$19)","v":{"$error":"#VALUE!"}}]
[null,null,null,"2020","March","2020-03-19",null,5,"Initial",5.2153200000000011,1.0187096774193547,0.4,2.0861280000000004,1.2,{"$f":"IF(OR('3 Irrigation Schedule'!$C$29=\"\",'3 Irrigation Schedule'!$C$31=\"\",H52=\"\"),\"\",(('3 Irrigation Schedule'!$C$29-'3 Irrigation Schedule'!$C$31)/100)*1000*N52)","v":""},{"$error":"#VALUE!"},{"$f":"IF(H52=\"\",\"\",IF(H52=1,O52*(1-'3 Irrigation Schedule'!$C$27),T51-V51))","v":{"$error":"#VALUE!"}},{"$error":"#VALUE!"},{"$error":"#VALUE!"},{"$error":"#VALUE!"},{"$f":"IF(H52=\"\",\"\",IF('3 Irrigation Schedule'!$P$19<P52,'3 Irrigation Schedule'!$P$19,P52))","v":{"$error":"#VALUE!"}},{"$error":"#VALUE!"},{"$f":"IF(H52=\"\",\"\",V52/'3 Irrigation Schedule'!$M$19)","v":{"$error":"#VALUE!"}}]
[null,null,null,"2020","March","2020-03-20",null,6,"Initial",5.2153200000000011,1.0187096774193547,0.4,2.0861280000000004,1.2,{"$f":"IF(OR('3 Irrigation Schedule'!$C$29=\"\",'3 Irrigation Schedule'!$C$31=\"\",H53=\"\"),\"\",(('3 Irrigation Schedule'!$C$29-'3 Irrigation Schedule'!$C$31)/100)*1000*N53)","v":""},{"$error":"#VALUE!"},{"$f":"IF(H53=\"\",\"\",IF(H53=1,O53*(1-'3 Irrigation Schedule'!$C$27),T52-V52))","v":{"$error":"#VALUE!"}},{"$error":"#VALUE!"},{"$error":"#VALUE!"},{"$error":"#VALUE!"},{"$f":"IF(H53=\"\",\"\",IF('3 Irrigation Schedule'!$P$19<P53,'3 Irrigation Schedule'!$P$19,P53))","v":{"$error":"#VALUE!"}},{"$error":"#VALUE!"},{"$f":"IF(H53=\"\",\"\",V53/'3 Irrigation Schedule'!$M$19)","v":{"$error":"#VALUE!"}}]
[null,null,null,"2020","March","2020-03-21",null,7,"Initial",5.2153200000000011,1.0187096774193547,0.4,2.0861280000000004,1.2,{"$f":"IF(OR('3 Irrigation Schedule'!$C$29=\"\",'3 Irrigation Schedule'!$C$31=\"\",H54=\"\"),\"\",(('3 Irrigation Schedule'!$C$29-'3 Irrigation Schedule'!$C$31)/100)*1000*N54)","v":""},{"$error":"#VALUE!"},{"$f":"IF(H54=\"\",\"\",IF(H54=1,O54*(1-'3 Irrigation Schedule'!$C$27),T53-V53))","v":{"$error":"#VALUE!"}},{"$error":"#VALUE!"},{"$error":"#VALUE!"},{"$error":"#VALUE!"},{"$f":"IF(H54=\"\",\"\",IF('3 Irrigation Schedule'!$P$19<P54,'3 Irrigation Schedule'!$P$19,P54))","v":{"$error":"#VALUE!"}},{"$error":"#VALUE!"},{"$f":"IF(H54=\"\",\"\",V54/'3 Irrigation Schedule'!$M$19)","v":{"$error":"#VALUE!"}}]
[null,null,null,"2020","March","2020-03-22",null,8,"Initial",5.2153200000000011,1.0187096774193547,0.4,2.0861280000000004,1.2,{"$f":"IF(OR('3 Irrigation Schedule'!$C$29=\"\",'3 Irrigation Schedule'!$C$31=\"\",H55=\"\"),\"\",(('3 Irrigation Schedule'!$C$29-'3 Irrigation Schedule'!$C$31)/100)*1000*N55)","v":""},{"$error":"#VALUE!"},{"$f":"IF(H55=\"\",\"\",IF(H55=1,O55*(1-'3 Irrigation Schedule'!$C$27),T54-V54))","v":{"$error":"#VALUE!"}},{"$error":"#VALUE!"},{"$error":"#VALUE!"},{"$error":"#VALUE!"},{"$f":"IF(H55=\"\",\"\",IF('3 Irrigation Schedule'!$P$19<P55,'3 Irrigation Schedule'!$P$19,P55))","v":{"$error":"#VALUE!"}},{"$error":"#VALUE!"},{"$f":"IF(H55=\"\",\"\",V55/'3 Irrigation Schedule'!$M$19)","v":{"$error":"#VALUE!"}}]
[null,null,null,"2020","March","2020-03-23",null,9,"Initial",5.2153200000000011,1.0187096774193547,0.4,2.0861280000000004,1.2,{"$f":"IF(OR('3 Irrigation Schedule'!$C$29=\"\",'3 Irrigation Schedule'!$C$31=\"\",H56=\"\"),\"\",(('3 Irrigation Schedule'!$C$29-'3 Irrigation Schedule'!$C$31)/100)*1000*N56)","v":""},{"$error":"#VALUE!"},{"$f":"IF(H56=\"\",\"\",IF(H56=1,O56*(1-'3 Irrigation Schedule'!$C$27),T55-V55))","v":{"$error":"#VALUE!"}},{"$error":"#VALUE!"},{"$error":"#VALUE!"},{"$error":"#VALUE!"},{"$f":"IF(H56=\"\",\"\",IF('3 Irrigation Schedule'!$P$19<P56,'3 Irrigation Schedule'!$P$19,P56))","v":{"$error":"#VALUE!"}},{"$error":"#VALUE!"},{"$f":"IF(H56=\"\",\"\",V56/'3 Irrigation Schedule'!$M$19)","v":{"$error":"#VALUE!"}}]
[null,null,null,"2020","March","2020-03-24",null,10,"Initial",5.2153200000000011,1.0187096774193547,0.4,2.0861280000000004,1.2,{"$f":"IF(OR('3 Irrigation Schedule'!$C$29=\"\",'3 Irrigation Schedule'!$C$31=\"\",H57=\"\"),\"\",(('3 Irrigation Schedule'!$C$29-'3 Irrigation Schedule'!$C$31)/100)*1000*N57)","v":""},{"$error":"#VALUE!"},{"$f":"IF(H57=\"\",\"\",IF(H57=1,O57*(1-'3 Irrigation Schedule'!$C$27),T56-V56))","v":{"$error":"#VALUE!"}},{"$error":"#VALUE!"},{"$error":"#VALUE!"},{"$error":"#VALUE!"},{"$f":"IF(H57=\"\",\"\",IF('3 Irrigation Schedule'!$P$19<P57,'3 Irrigation Schedule'!$P$19,P57))","v":{"$error":"#VALUE!"}},{"$error":"#VALUE!"},{"$f":"IF(H57=\"\",\"\",V57/'3 Irrigation Schedule'!$M$19)","v":{"$error":"#VALUE!"}}]
[null,null,null,"2020","March","2020-03-25",null,11,"Development",5.2153200000000011,1.0187096774193547,0.42800000000000005,2.2321569600000006,1.2,{"$f":"IF(OR('3 Irrigation Schedule'!$C$29=\"\",'3 Irrigation Schedule'!$C$31=\"\",H58=\"\"),\"\",(('3 Irrigation Schedule'!$C$29-'3 Irrigation Schedule'!$C$31)/100)*1000*N58)","v":""},{"$error":"#VALUE!"},{"$f":"IF(H58=\"\",\"\",IF(H58=1,O58*(1-'3 Irrigation Schedule'!$C$27),T57-V57))","v":{"$error":"#VALUE!"}},{"$error":"#VALUE!"},{"$error":"#VALUE!"},{"$error":"#VALUE!"},{"$f":"IF(H58=\"\",\"\",IF('3 Irrigation Schedule'!$P$19<P58,'3 Irrigation Schedule'!$P$19,P58))","v":{"$error":"#VALUE!"}},{"$error":"#VALUE!"},{"$f":"IF(H58=\"\",\"\",V58/'3 Irrigation Schedule'!$M$19)","v":{"$error":"#VALUE!"}}]
[null,null,null,"2020","March","2020-03-26",null,12,"Development",5.2153200000000011,1.0187096774193547,0.45600000000000002,2.3781859200000004,1.2,{"$f":"IF(OR('3 Irrigation Schedule'!$C$29=\"\",'3 Irrigation Schedule'!$C$31=\"\",H59=\"\"),\"\",(('3 Irrigation Schedule'!$C$29-'3 Irrigation Schedule'!$C$31)/100)*1000*N59)","v":""},{"$error":"#VALUE!"},{"$f":"IF(H59=\"\",\"\",IF(H59=1,O59*(1-'3 Irrigation Schedule'!$C$27),T58-V58))","v":{"$error":"#VALUE!"}},{"$error":"#VALUE!"},{"$error":"#VALUE!"},{"$error":"#VALUE!"},{"$f":"IF(H59=\"\",\"\",IF('3 Irrigation Schedule'!$P$19<P59,'3 Irrigation Schedule'!$P$19,P59))","v":{"$error":"#VALUE!"}},{"$error":"#VALUE!"},{"$f":"IF(H59=\"\",\"\",V59/'3 Irrigation Schedule'!$M$19)","v":{"$error":"#VALUE!"}}]
[null,null,null,"2020","March","2020-03-27",null,13,"Development",5.2153200000000011,1.0187096774193547,0.48400000000000004,2.5242148800000006,1.2,{"$f":"IF(OR('3 Irrigation Schedule'!$C$29=\"\",'3 Irrigation Schedule'!$C$31=\"\",H60=\"\"),\"\",(('3 Irrigation Schedule'!$C$29-'3 Irrigation Schedule'!$C$31)/100)*1000*N60)","v":""},{"$error":"#VALUE!"},{"$f":"IF(H60=\"\",\"\",IF(H60=1,O60*(1-'3 Irrigation Schedule'!$C$27),T59-V59))","v":{"$error":"#VALUE!"}},{"$error":"#VALUE!"},{"$error":"#VALUE!"},{"$error":"#VALUE!"},{"$f":"IF(H60=\"\",\"\",IF('3 Irrigation Schedule'!$P$19<P60,'3 Irrigation Schedule'!$P$19,P60))","v":{"$error":"#VALUE!"}},{"$error":"#VALUE!"},{"$f":"IF(H60=\"\",\"\",V60/'3 Irrigation Schedule'!$M$19)","v":{"$error":"#VALUE!"}}]
[null,null,null,"2020","March","2020-03-28",null,14,"Development",5.2153200000000011,1.0187096774193547,0.51200000000000001,2.6702438400000008,1.2,{"$f":"IF(OR('3 Irrigation Schedule'!$C$29=\"\",'3 Irrigation Schedule'!$C$31=\"\",H61=\"\"),\"\",(('3 Irrigation Schedule'!$C$29-'3 Irrigation Schedule'!$C$31)/100)*1000*N61)","v":""},{"$error":"#VALUE!"},{"$f":"IF(H61=\"\",\"\",IF(H61=1,O61*(1-'3 Irrigation Schedule'!$C$27),T60-V60))","v":{"$error":"#VALUE!"}},{"$error":"#VALUE!"},{"$error":"#VALUE!"},{"$error":"#VALUE!"},{"$f":"IF(H61=\"\",\"\",IF('3 Irrigation Schedule'!$P$19<P61,'3 Irrigation Schedule'!$P$19,P61))","v":{"$error":"#VALUE!"}},{"$error":"#VALUE!"},{"$f":"IF(H61=\"\",\"\",V61/'3 Irrigation Schedule'!$M$19)","v":{"$error":"#VALUE!"}}]
[null,null,null,"2020","March","2020-03-29",null,15,"Development",5.2153200000000011,1.0187096774193547,0.54,2.8162728000000006,1.2,{"$f":"IF(OR('3 Irrigation Schedule'!$C$29=\"\",'3 Irrigation Schedule'!$C$31=\"\",H62=\"\"),\"\",(('3 Irrigation Schedule'!$C$29-'3 Irrigation Schedule'!$C$31)/100)*1000*N62)","v":""},{"$error":"#VALUE!"},{"$f":"IF(H62=\"\",\"\",IF(H62=1,O62*(1-'3 Irrigation Schedule'!$C$27),T61-V61))","v":{"$error":"#VALUE!"}},{"$error":"#VALUE!"},{"$error":"#VALUE!"},{"$error":"#VALUE!"},{"$f":"IF(H62=\"\",\"\",IF('3 Irrigation Schedule'!$P$19<P62,'3 Irrigation Schedule'!$P$19,P62))","v":{"$error":"#VALUE!"}},{"$error":"#VALUE!"},{"$f":"IF(H62=\"\",\"\",V62/'3 Irrigation Schedule'!$M$19)","v":{"$error":"#VALUE!"}}]
[null,null,null,"2020","March","2020-03-30",null,16,"Development",5.2153200000000011,1.0187096774193547,0.56800000000000006,2.9623017600000008,1.2,{"$f":"IF(OR('3 Irrigation Schedule'!$C$29=\"\",'3 Irrigation Schedule'!$C$31=\"\",H63=\"\"),\"\",(('3 Irrigation Schedule'!$C$29-'3 Irrigation Schedule'!$C$31)/100)*1000*N63)","v":""},{"$error":"#VALUE!"},{"$f":"IF(H63=\"\",\"\",IF(H63=1,O63*(1-'3 Irrigation Schedule'!$C$27),T62-V62))","v":{"$error":"#VALUE!"}},{"$error":"#VALUE!"},{"$error":"#VALUE!"},{"$error":"#VALUE!"},{"$f":"IF(H63=\"\",\"\",IF('3 Irrigation Schedule'!$P$19<P63,'3 Irrigation Schedule'!$P$19,P63))","v":{"$error":"#VALUE!"}},{"$error":"#VALUE!"},{"$f":"IF(H63=\"\",\"\",V63/'3 Irrigation Schedule'!$M$19)","v":{"$error":"#VALUE!"}}]
[null,null,null,"2020","March","2020-03-31",null,17,"Development",5.2153200000000011,1.0187096774193547,0.59600000000000009,3.108330720000001,1.2,{"$f":"IF(OR('3 Irrigation Schedule'!$C$29=\"\",'3 Irrigation Schedule'!$C$31=\"\",H64=\"\"),\"\",(('3 Irrigation Schedule'!$C$29-'3 Irrigation Schedule'!$C$31)/100)*1000*N64)","v":""},{"$error":"#VALUE!"},{"$f":"IF(H64=\"\",\"\",IF(H64=1,O64*(1-'3 Irrigation Schedule'!$C$27),T63-V63))","v":{"$error":"#VALUE!"}},{"$error":"#VALUE!"},{"$error":"#VALUE!"},{"$error":"#VALUE!"},{"$f":"IF(H64=\"\",\"\",IF('3 Irrigation Schedule'!$P$19<P64,'3 Irrigation Schedule'!$P$19,P64))","v":{"$error":"#VALUE!"}},{"$error":"#VALUE!"},{"$f":"IF(H64=\"\",\"\",V64/'3 Irrigation Schedule'!$M$19)","v":{"$error":"#VALUE!"}}]
[null,null,null,"2020","April","2020-04-01",null,18,"Development",5.3054400000000008,3.0080000000000005,0.62400000000000011,3.3105945600000011,1.2,{"$f":"IF(OR('3 Irrigation Schedule'!$C$29=\"\",'3 Irrigation Schedule'!$C$31=\"\",H65=\"\"),\"\",(('3 Irrigation Schedule'!$C$29-'3 Irrigation Schedule'!$C$31)/100)*1000*N65)","v":""},{"$error":"#VALUE!"},{"$f":"IF(H65=\"\",\"\",IF(H65=1,O65*(1-'3 Irrigation Schedule'!$C$27),T64-V64))","v":{"$error":"#VALUE!"}},{"$error":"#VALUE!"},{"$error":"#VALUE!"},{"$error":"#VALUE!"},{"$f":"IF(H65=\"\",\"\",IF('3 Irrigation Schedule'!$P$19<P65,'3 Irrigation Schedule'!$P$19,P65))","v":{"$error":"#VALUE!"}},{"$error":"#VALUE!"},{"$f":"IF(H65=\"\",\"\",V65/'3 Irrigation Schedule'!$M$19)","v":{"$error":"#VALUE!"}}]
[null,null,null,"2020","April","2020-04-02",null,19,"Development",5.3054400000000008,3.0080000000000005,0.65200000000000002,3.4591468800000005,1.2,{"$f":"IF(OR('3 Irrigation Schedule'!$C$29=\"\",'3 Irrigation Schedule'!$C$31=\"\",H66=\"\"),\"\",(('3 Irrigation Schedule'!$C$29-'3 Irrigation Schedule'!$C$31)/100)*1000*N66)","v":""},{"$error":"#VALUE!"},{"$f":"IF(H66=\"\",\"\",IF(H66=1,O66*(1-'3 Irrigation Schedule'!$C$27),T65-V65))","v":{"$error":"#VALUE!"}},{"$error":"#VALUE!"},{"$error":"#VALUE!"},{"$error":"#VALUE!"},{"$f":"IF(H66=\"\",\"\",IF('3 Irrigation Schedule'!$P$19<P66,'3 Irrigation Schedule'!$P$19,P66))","v":{"$error":"#VALUE!"}},{"$error":"#VALUE!"},{"$f":"IF(H66=\"\",\"\",V66/'3 Irrigation Schedule'!$M$19)","v":{"$error":"#VALUE!"}}]
[null,null,null,"2020","April","2020-04-03",null,20,"Development",5.3054400000000008,3.0080000000000005,0.68,3.6076992000000008,1.2,{"$f":"IF(OR('3 Irrigation Schedule'!$C$29=\"\",'3 Irrigation Schedule'!$C$31=\"\",H67=\"\"),\"\",(('3 Irrigation Schedule'!$C$29-'3 Irrigation Schedule'!$C$31)/100)*1000*N67)","v":""},{"$error":"#VALUE!"},{"$f":"IF(H67=\"\",\"\",IF(H67=1,O67*(1-'3 Irrigation Schedule'!$C$27),T66-V66))","v":{"$error":"#VALUE!"}},{"$error":"#VALUE!"},{"$error":"#VALUE!"},{"$error":"#VALUE!"},{"$f":"IF(H67=\"\",\"\",IF('3 Irrigation Schedule'!$P$19<P67,'3 Irrigation Schedule'!$P$19,P67))","v":{"$error":"#VALUE!"}},{"$error":"#VALUE!"},{"$f":"IF(H67=\"\",\"\",V67/'3 Irrigation Schedule'!$M$19)","v":{"$error":"#VALUE!"}}]
[null,null,null,"2020","April","2020-04-04",null,21,"Development",5.3054400000000008,3.0080000000000005,0.70800000000000007,3.7562515200000011,1.2,{"$f":"IF(OR('3 Irrigation Schedule'!$C$29=\"\",'3 Irrigation Schedule'!$C$31=\"\",H68=\"\"),\"\",(('3 Irrigation Schedule'!$C$29-'3 Irrigation Schedule'!$C$31)/100)*1000*N68)","v":""},{"$error":"#VALUE!"},{"$f":"IF(H68=\"\",\"\",IF(H68=1,O68*(1-'3 Irrigation Schedule'!$C$27),T67-V67))","v":{"$error":"#VALUE!"}},{"$error":"#VALUE!"},{"$error":"#VALUE!"},{"$error":"#VALUE!"},{"$f":"IF(H68=\"\",\"\",IF('3 Irrigation Schedule'!$P$19<P68,'3 Irrigation Schedule'!$P$19,P68))","v":{"$error":"#VALUE!"}},{"$error":"#VALUE!"},{"$f":"IF(H68=\"\",\"\",V68/'3 Irrigation Schedule'!$M$19)","v":{"$error":"#VALUE!"}}]
[null,null,null,"2020","April","2020-04-05",null,22,"Development",5.3054400000000008,3.0080000000000005,0.73599999999999999,3.9048038400000005,1.2,{"$f":"IF(OR('3 Irrigation Schedule'!$C$29=\"\",'3 Irrigation Schedule'!$C$31=\"\",H69=\"\"),\"\",(('3 Irrigation Schedule'!$C$29-'3 Irrigation Schedule'!$C$31)/100)*1000*N69)","v":""},{"$error":"#VALUE!"},{"$f":"IF(H69=\"\",\"\",IF(H69=1,O69*(1-'3 Irrigation Schedule'!$C$27),T68-V68))","v":{"$error":"#VALUE!"}},{"$error":"#VALUE!"},{"$error":"#VALUE!"},{"$error":"#VALUE!"},{"$f":"IF(H69=\"\",\"\",IF('3 Irrigation Schedule'!$P$19<P69,'3 Irrigation Schedule'!$P$19,P69))","v":{"$error":"#VALUE!"}},{"$error":"#VALUE!"},{"$f":"IF(H69=\"\",\"\",V69/'3 Irrigation Schedule'!$M$19)","v":{"$error":"#VALUE!"}}]
[null,null,null,"2020","April","2020-04-06",null,23,"Development",5.3054400000000008,3.0080000000000005,0.76400000000000001,4.0533561600000008,1.2,{"$f":"IF(OR('3 Irrigation Schedule'!$C$29=\"\",'3 Irrigation Schedule'!$C$31=\"\",H70=\"\"),\"\",(('3 Irrigation Schedule'!$C$29-'3 Irrigation Schedule'!$C$31)/100)*1000*N70)","v":""},{"$error":"#VALUE!"},{"$f":"IF(H70=\"\",\"\",IF(H70=1,O70*(1-'3 Irrigation Schedule'!$C$27),T69-V69))","v":{"$error":"#VALUE!"}},{"$error":"#VALUE!"},{"$error":"#VALUE!"},{"$error":"#VALUE!"},{"$f":"IF(H70=\"\",\"\",IF('3 Irrigation Schedule'!$P$19<P70,'3 Irrigation Schedule'!$P$19,P70))","v":{"$error":"#VALUE!"}},{"$error":"#VALUE!"},{"$f":"IF(H70=\"\",\"\",V70/'3 Irrigation Schedule'!$M$19)","v":{"$error":"#VALUE!"}}]
[null,null,null,"2020","April","2020-04-07",null,24,"Development",5.3054400000000008,3.0080000000000005,0.79200000000000004,4.2019084800000011,1.2,{"$f":"IF(OR('3 Irrigation Schedule'!$C$29=\"\",'3 Irrigation Schedule'!$C$31=\"\",H71=\"\"),\"\",(('3 Irrigation Schedule'!$C$29-'3 Irrigation Schedule'!$C$31)/100)*1000*N71)","v":""},{"$error":"#VALUE!"},{"$f":"IF(H71=\"\",\"\",IF(H71=1,O71*(1-'3 Irrigation Schedule'!$C$27),T70-V70))","v":{"$error":"#VALUE!"}},{"$error":"#VALUE!"},{"$error":"#VALUE!"},{"$error":"#VALUE!"},{"$f":"IF(H71=\"\",\"\",IF('3 Irrigation Schedule'!$P$19<P71,'3 Irrigation Schedule'!$P$19,P71))","v":{"$error":"#VALUE!"}},{"$error":"#VALUE!"},{"$f":"IF(H71=\"\",\"\",V71/'3 Irrigation Schedule'!$M$19)","v":{"$error":"#VALUE!"}}]
[null,null,null,"2020","April","2020-04-08",null,25,"Development",5.3054400000000008,3.0080000000000005,0.82000000000000006,4.3504608000000013,1.2,{"$f":"IF(OR('3 Irrigation Schedule'!$C$29=\"\",'3 Irrigation Schedule'!$C$31=\"\",H72=\"\"),\"\",(('3 Irrigation Schedule'!$C$29-'3 Irrigation Schedule'!$C$31)/100)*1000*N72)","v":""},{"$error":"#VALUE!"},{"$f":"IF(H72=\"\",\"\",IF(H72=1,O72*(1-'3 Irrigation Schedule'!$C$27),T71-V71))","v":{"$error":"#VALUE!"}},{"$error":"#VALUE!"},{"$error":"#VALUE!"},{"$error":"#VALUE!"},{"$f":"IF(H72=\"\",\"\",IF('3 Irrigation Schedule'!$P$19<P72,'3 Irrigation Schedule'!$P$19,P72))","v":{"$error":"#VALUE!"}},{"$error":"#VALUE!"},{"$f":"IF(H72=\"\",\"\",V72/'3 Irrigation Schedule'!$M$19)","v":{"$error":"#VALUE!"}}]
[null,null,null,"2020","April","2020-04-09",null,26,"Development",5.3054400000000008,3.0080000000000005,0.84800000000000009,4.4990131200000008,1.2,{"$f":"IF(OR('3 Irrigation Schedule'!$C$29=\"\",'3 Irrigation Schedule'!$C$31=\"\",H73=\"\"),\"\",(('3 Irrigation Schedule'!$C$29-'3 Irrigation Schedule'!$C$31)/100)*1000*N73)","v":""},{"$error":"#VALUE!"},{"$f":"IF(H73=\"\",\"\",IF(H73=1,O73*(1-'3 Irrigation Schedule'!$C$27),T72-V72))","v":{"$error":"#VALUE!"}},{"$error":"#VALUE!"},{"$error":"#VALUE!"},{"$error":"#VALUE!"},{"$f":"IF(H73=\"\",\"\",IF('3 Irrigation Schedule'!$P$19<P73,'3 Irrigation Schedule'!$P$19,P73))","v":{"$error":"#VALUE!"}},{"$error":"#VALUE!"},{"$f":"IF(H73=\"\",\"\",V73/'3 Irrigation Schedule'!$M$19)","v":{"$error":"#VALUE!"}}]
[null,null,null,"2020","April","2020-04-10",null,27,"Development",5.3054400000000008,3.0080000000000005,0.87600000000000011,4.647565440000001,1.2,{"$f":"IF(OR('3 Irrigation Schedule'!$C$29=\"\",'3 Irrigation Schedule'!$C$31=\"\",H74=\"\"),\"\",(('3 Irrigation Schedule'!$C$29-'3 Irrigation Schedule'!$C$31)/100)*1000*N74)","v":""},{"$error":"#VALUE!"},{"$f":"IF(H74=\"\",\"\",IF(H74=1,O74*(1-'3 Irrigation Schedule'!$C$27),T73-V73))","v":{"$error":"#VALUE!"}},{"$error":"#VALUE!"},{"$error":"#VALUE!"},{"$error":"#VALUE!"},{"$f":"IF(H74=\"\",\"\",IF('3 Irrigation Schedule'!$P$19<P74,'3 Irrigation Schedule'!$P$19,P74))","v":{"$error":"#VALUE!"}},{"$error":"#VALUE!"},{"$f":"IF(H74=\"\",\"\",V74/'3 Irrigation Schedule'!$M$19)","v":{"$error":"#VALUE!"}}]
[null,null,null,"2020","April","2020-04-11",null,28,"Development",5.3054400000000008,3.0080000000000005,0.90400000000000003,4.7961177600000005,1.2,{"$f":"IF(OR('3 Irrigation Schedule'!$C$29=\"\",'3 Irrigation Schedule'!$C$31=\"\",H75=\"\"),\"\",(('3 Irrigation Schedule'!$C$29-'3 Irrigation Schedule'!$C$31)/100)*1000*N75)","v":""},{"$error":"#VALUE!"},{"$f":"IF(H75=\"\",\"\",IF(H75=1,O75*(1-'3 Irrigation Schedule'!$C$27),T74-V74))","v":{"$error":"#VALUE!"}},{"$error":"#VALUE!"},{"$error":"#VALUE!"},{"$error":"#VALUE!"},{"$f":"IF(H75=\"\",\"\",IF('3 Irrigation Schedule'!$P$19<P75,'3 Irrigation Schedule'!$P$19,P75))","v":{"$error":"#VALUE!"}},{"$error":"#VALUE!"},{"$f":"IF(H75=\"\",\"\",V75/'3 Irrigation Schedule'!$M$19)","v":{"$error":"#VALUE!"}}]
[null,null,null,"2020","April","2020-04-12",null,29,"Development",5.3054400000000008,3.0080000000000005,0.93200000000000005,4.9446700800000007,1.2,{"$f":"IF(OR('3 Irrigation Schedule'!$C$29=\"\",'3 Irrigation Schedule'!$C$31=\"\",H76=\"\"),\"\",(('3 Irrigation Schedule'!$C$29-'3 Irrigation Schedule'!$C$31)/100)*1000*N76)","v":""},{"$error":"#VALUE!"},{"$f":"IF(H76=\"\",\"\",IF(H76=1,O76*(1-'3 Irrigation Schedule'!$C$27),T75-V75))","v":{"$error":"#VALUE!"}},{"$error":"#VALUE!"},{"$error":"#VALUE!"},{"$error":"#VALUE!"},{"$f":"IF(H76=\"\",\"\",IF('3 Irrigation Schedule'!$P$19<P76,'3 Irrigation Schedule'!$P$19,P76))","v":{"$error":"#VALUE!"}},{"$error":"#VALUE!"},{"$f":"IF(H76=\"\",\"\",V76/'3 Irrigation Schedule'!$M$19)","v":{"$error":"#VALUE!"}}]
[null,null,null,"2020","April","2020-04-13",null,30,"Development",5.3054400000000008,3.0080000000000005,0.96000000000000008,5.093222400000001,1.2,{"$f":"IF(OR('3 Irrigation Schedule'!$C$29=\"\",'3 Irrigation Schedule'!$C$31=\"\",H77=\"\"),\"\",(('3 Irrigation Schedule'!$C$29-'3 Irrigation Schedule'!$C$31)/100)*1000*N77)","v":""},{"$error":"#VALUE!"},{"$f":"IF(H77=\"\",\"\",IF(H77=1,O77*(1-'3 Irrigation Schedule'!$C$27),T76-V76))","v":{"$error":"#VALUE!"}},{"$error":"#VALUE!"},{"$error":"#VALUE!"},{"$error":"#VALUE!"},{"$f":"IF(H77=\"\",\"\",IF('3 Irrigation Schedule'!$P$19<P77,'3 Irrigation Schedule'!$P$19,P77))","v":{"$error":"#VALUE!"}},{"$error":"#VALUE!"},{"$f":"IF(H77=\"\",\"\",V77/'3 Irrigation Schedule'!$M$19)","v":{"$error":"#VALUE!"}}]
[null,null,null,"2020","April","2020-04-14",null,31,"Development",5.3054400000000008,3.0080000000000005,0.9880000000000001,5.2417747200000013,1.2,{"$f":"IF(OR('3 Irrigation Schedule'!$C$29=\"\",'3 Irrigation Schedule'!$C$31=\"\",H78=\"\"),\"\",(('3 Irrigation Schedule'!$C$29-'3 Irrigation Schedule'!$C$31)/100)*1000*N78)","v":""},{"$error":"#VALUE!"},{"$f":"IF(H78=\"\",\"\",IF(H78=1,O78*(1-'3 Irrigation Schedule'!$C$27),T77-V77))","v":{"$error":"#VALUE!"}},{"$error":"#VALUE!"},{"$error":"#VALUE!"},{"$error":"#VALUE!"},{"$f":"IF(H78=\"\",\"\",IF('3 Irrigation Schedule'!$P$19<P78,'3 Irrigation Schedule'!$P$19,P78))","v":{"$error":"#VALUE!"}},{"$error":"#VALUE!"},{"$f":"IF(H78=\"\",\"\",V78/'3 Irrigation Schedule'!$M$19)","v":{"$error":"#VALUE!"}}]
[null,null,null,"2020","April","2020-04-15",null,32,"Development",5.3054400000000008,3.0080000000000005,1.016,5.3903270400000007,1.2,{"$f":"IF(OR('3 Irrigation Schedule'!$C$29=\"\",'3 Irrigation Schedule'!$C$31=\"\",H79=\"\"),\"\",(('3 Irrigation Schedule'!$C$29-'3 Irrigation Schedule'!$C$31)/100)*1000*N79)","v":""},{"$error":"#VALUE!"},{"$f":"IF(H79=\"\",\"\",IF(H79=1,O79*(1-'3 Irrigation Schedule'!$C$27),T78-V78))","v":{"$error":"#VALUE!"}},{"$error":"#VALUE!"},{"$error":"#VALUE!"},{"$error":"#VALUE!"},{"$f":"IF(H79=\"\",\"\",IF('3 Irrigation Schedule'!$P$19<P79,'3 Irrigation Schedule'!$P$19,P79))","v":{"$error":"#VALUE!"}},{"$error":"#VALUE!"},{"$f":"IF(H79=\"\",\"\",V79/'3 Irrigation Schedule'!$M$19)","v":{"$error":"#VALUE!"}}]
[null,null,null,"2020","April","2020-04-16",null,33,"Development",5.3054400000000008,3.0080000000000005,1.044,5.538879360000001,1.2,{"$f":"IF(OR('3 Irrigation Schedule'!$C$29=\"\",'3 Irrigation Schedule'!$C$31=\"\",H80=\"\"),\"\",(('3 Irrigation Schedule'!$C$29-'3 Irrigation Schedule'!$C$31)/100)*1000*N80)","v":""},{"$error":"#VALUE!"},{"$f":"IF(H80=\"\",\"\",IF(H80=1,O80*(1-'3 Irrigation Schedule'!$C$27),T79-V79))","v":{"$error":"#VALUE!"}},{"$error":"#VALUE!"},{"$error":"#VALUE!"},{"$error":"#VALUE!"},{"$f":"IF(H80=\"\",\"\",IF('3 Irrigation Schedule'!$P$19<P80,'3 Irrigation Schedule'!$P$19,P80))","v":{"$error":"#VALUE!"}},{"$error":"#VALUE!"},{"$f":"IF(H80=\"\",\"\",V80/'3 Irrigation Schedule'!$M$19)","v":{"$error":"#VALUE!"}}]
[null,null,null,"2020","April","2020-04-17",null,34,"Development",5.3054400000000008,3.0080000000000005,1.0720000000000001,5.6874316800000013,1.2,{"$f":"IF(OR('3 Irrigation Schedule'!$C$29=\"\",'3 Irrigation Schedule'!$C$31=\"\",H81=\"\"),\"\",(('3 Irrigation Schedule'!$C$29-'3 Irrigation Schedule'!$C$31)/100)*1000*N81)","v":""},{"$error":"#VALUE!"},{"$f":"IF(H81=\"\",\"\",IF(H81=1,O81*(1-'3 Irrigation Schedule'!$C$27),T80-V80))","v":{"$error":"#VALUE!"}},{"$error":"#VALUE!"},{"$error":"#VALUE!"},{"$error":"#VALUE!"},{"$f":"IF(H81=\"\",\"\",IF('3 Irrigation Schedule'!$P$19<P81,'3 Irrigation Schedule'!$P$19,P81))","v":{"$error":"#VALUE!"}},{"$error":"#VALUE!"},{"$f":"IF(H81=\"\",\"\",V81/'3 Irrigation Schedule'!$M$19)","v":{"$error":"#VALUE!"}}]
[null,null,null,"2020","April","2020-04-18",null,35,"Development",5.3054400000000008,3.0080000000000005,1.1000000000000001,5.8359840000000016,1.2,{"$f":"IF(OR('3 Irrigation Schedule'!$C$29=\"\",'3 Irrigation Schedule'!$C$31=\"\",H82=\"\"),\"\",(('3 Irrigation Schedule'!$C$29-'3 Irrigation Schedule'!$C$31)/100)*1000*N82)","v":""},{"$error":"#VALUE!"},{"$f":"IF(H82=\"\",\"\",IF(H82=1,O82*(1-'3 Irrigation Schedule'!$C$27),T81-V81))","v":{"$error":"#VALUE!"}},{"$error":"#VALUE!"},{"$error":"#VALUE!"},{"$error":"#VALUE!"},{"$f":"IF(H82=\"\",\"\",IF('3 Irrigation Schedule'!$P$19<P82,'3 Irrigation Schedule'!$P$19,P82))","v":{"$error":"#VALUE!"}},{"$error":"#VALUE!"},{"$f":"IF(H82=\"\",\"\",V82/'3 Irrigation Schedule'!$M$19)","v":{"$error":"#VALUE!"}}]
[null,null,null,"2020","April","2020-04-19",null,36,"Mid Season",5.3054400000000008,3.0080000000000005,1.1000000000000001,5.8359840000000016,1.2,{"$f":"IF(OR('3 Irrigation Schedule'!$C$29=\"\",'3 Irrigation Schedule'!$C$31=\"\",H83=\"\"),\"\",(('3 Irrigation Schedule'!$C$29-'3 Irrigation Schedule'!$C$31)/100)*1000*N83)","v":""},{"$error":"#VALUE!"},{"$f":"IF(H83=\"\",\"\",IF(H83=1,O83*(1-'3 Irrigation Schedule'!$C$27),T82-V82))","v":{"$error":"#VALUE!"}},{"$error":"#VALUE!"},{"$error":"#VALUE!"},{"$error":"#VALUE!"},{"$f":"IF(H83=\"\",\"\",IF('3 Irrigation Schedule'!$P$19<P83,'3 Irrigation Schedule'!$P$19,P83))","v":{"$error":"#VALUE!"}},{"$error":"#VALUE!"},{"$f":"IF(H83=\"\",\"\",V83/'3 Irrigation Schedule'!$M$19)","v":{"$error":"#VALUE!"}}]
[null,null,null,"2020","April","2020-04-20",null,37,"Mid Season",5.3054400000000008,3.0080000000000005,1.1000000000000001,5.8359840000000016,1.2,{"$f":"IF(OR('3 Irrigation Schedule'!$C$29=\"\",'3 Irrigation Schedule'!$C$31=\"\",H84=\"\"),\"\",(('3 Irrigation Schedule'!$C$29-'3 Irrigation Schedule'!$C$31)/100)*1000*N84)","v":""},{"$error":"#VALUE!"},{"$f":"IF(H84=\"\",\"\",IF(H84=1,O84*(1-'3 Irrigation Schedule'!$C$27),T83-V83))","v":{"$error":"#VALUE!"}},{"$error":"#VALUE!"},{"$error":"#VALUE!"},{"$error":"#VALUE!"},{"$f":"IF(H84=\"\",\"\",IF('3 Irrigation Schedule'!$P$19<P84,'3 Irrigation Schedule'!$P$19,P84))","v":{"$error":"#VALUE!"}},{"$error":"#VALUE!"},{"$f":"IF(H84=\"\",\"\",V84/'3 Irrigation Schedule'!$M$19)","v":{"$error":"#VALUE!"}}]
[null,null,null,"2020","April","2020-04-21",null,38,"Mid Season",5.3054400000000008,3.0080000000000005,1.1000000000000001,5.8359840000000016,1.2,{"$f":"IF(OR('3 Irrigation Schedule'!$C$29=\"\",'3 Irrigation Schedule'!$C$31=\"\",H85=\"\"),\"\",(('3 Irrigation Schedule'!$C$29-'3 Irrigation Schedule'!$C$31)/100)*1000*N85)","v":""},{"$error":"#VALUE!"},{"$f":"IF(H85=\"\",\"\",IF(H85=1,O85*(1-'3 Irrigation Schedule'!$C$27),T84-V84))","v":{"$error":"#VALUE!"}},{"$error":"#VALUE!"},{"$error":"#VALUE!"},{"$error":"#VALUE!"},{"$f":"IF(H85=\"\",\"\",IF('3 Irrigation Schedule'!$P$19<P85,'3 Irrigation Schedule'!$P$19,P85))","v":{"$error":"#VALUE!"}},{"$error":"#VALUE!"},{"$f":"IF(H85=\"\",\"\",V85/'3 Irrigation Schedule'!$M$19)","v":{"$error":"#VALUE!"}}]
[null,null,null,"2020","April","2020-04-22",null,39,"Mid Season",5.3054400000000008,3.0080000000000005,1.1000000000000001,5.8359840000000016,1.2,{"$f":"IF(OR('3 Irrigation Schedule'!$C$29=\"\",'3 Irrigation Schedule'!$C$31=\"\",H86=\"\"),\"\",(('3 Irrigation Schedule'!$C$29-'3 Irrigation Schedule'!$C$31)/100)*1000*N86)","v":""},{"$error":"#VALUE!"},{"$f":"IF(H86=\"\",\"\",IF(H86=1,O86*(1-'3 Irrigation Schedule'!$C$27),T85-V85))","v":{"$error":"#VALUE!"}},{"$error":"#VALUE!"},{"$error":"#VALUE!"},{"$error":"#VALUE!"},{"$f":"IF(H86=\"\",\"\",IF('3 Irrigation Schedule'!$P$19<P86,'3 Irrigation Schedule'!$P$19,P86))","v":{"$error":"#VALUE!"}},{"$error":"#VALUE!"},{"$f":"IF(H86=\"\",\"\",V86/'3 Irrigation Schedule'!$M$19)","v":{"$error":"#VALUE!"}}]
[null,null,null,"2020","April","2020-04-23",null,40,"Mid Season",5.3054400000000008,3.0080000000000005,1.1000000000000001,5.8359840000000016,1.2,{"$f":"IF(OR('3 Irrigation Schedule'!$C$29=\"\",'3 Irrigation Schedule'!$C$31=\"\",H87=\"\"),\"\",(('3 Irrigation Schedule'!$C$29-'3 Irrigation Schedule'!$C$31)/100)*1000*N87)","v":""},{"$error":"#VALUE!"},{"$f":"IF(H87=\"\",\"\",IF(H87=1,O87*(1-'3 Irrigation Schedule'!$C$27),T86-V86))","v":{"$error":"#VALUE!"}},{"$error":"#VALUE!"},{"$error":"#VALUE!"},{"$error":"#VALUE!"},{"$f":"IF(H87=\"\",\"\",IF('3 Irrigation Schedule'!$P$19<P87,'3 Irrigation Schedule'!$P$19,P87))","v":{"$error":"#VALUE!"}},{"$error":"#VALUE!"},{"$f":"IF(H87=\"\",\"\",V87/'3 Irrigation Schedule'!$M$19)","v":{"$error":"#VALUE!"}}]
[null,null,null,"2020","April","2020-04-24",null,41,"Mid Season",5.3054400000000008,3.0080000000000005,1.1000000000000001,5.8359840000000016,1.2,{"$f":"IF(OR('3 Irrigation Schedule'!$C$29=\"\",'3 Irrigation Schedule'!$C$31=\"\",H88=\"\"),\"\",(('3 Irrigation Schedule'!$C$29-'3 Irrigation Schedule'!$C$31)/100)*1000*N88)","v":""},{"$error":"#VALUE!"},{"$f":"IF(H88=\"\",\"\",IF(H88=1,O88*(1-'3 Irrigation Schedule'!$C$27),T87-V87))","v":{"$error":"#VALUE!"}},{"$error":"#VALUE!"},{"$error":"#VALUE!"},{"$error":"#VALUE!"},{"$f":"IF(H88=\"\",\"\",IF('3 Irrigation Schedule'!$P$19<P88,'3 Irrigation Schedule'!$P$19,P88))","v":{"$error":"#VALUE!"}},{"$error":"#VALUE!"},{"$f":"IF(H88=\"\",\"\",V88/'3 Irrigation Schedule'!$M$19)","v":{"$error":"#VALUE!"}}]
[null,null,null,"2020","April","2020-04-25",null,42,"Mid Season",5.3054400000000008,3.0080000000000005,1.1000000000000001,5.8359840000000016,1.2,{"$f":"IF(OR('3 Irrigation Schedule'!$C$29=\"\",'3 Irrigation Schedule'!$C$31=\"\",H89=\"\"),\"\",(('3 Irrigation Schedule'!$C$29-'3 Irrigation Schedule'!$C$31)/100)*1000*N89)","v":""},{"$error":"#VALUE!"},{"$f":"IF(H89=\"\",\"\",IF(H89=1,O89*(1-'3 Irrigation Schedule'!$C$27),T88-V88))","v":{"$error":"#VALUE!"}},{"$error":"#VALUE!"},{"$error":"#VALUE!"},{"$error":"#VALUE!"},{"$f":"IF(H89=\"\",\"\",IF('3 Irrigation Schedule'!$P$19<P89,'3 Irrigation Schedule'!$P$19,P89))","v":{"$error":"#VALUE!"}},{"$error":"#VALUE!"},{"$f":"IF(H89=\"\",\"\",V89/'3 Irrigation Schedule'!$M$19)","v":{"$error":"#VALUE!"}}]
[null,null,null,"2020","April","2020-04-26",null,43,"Mid Season",5.3054400000000008,3.0080000000000005,1.1000000000000001,5.8359840000000016,1.2,{"$f":"IF(OR('3 Irrigation Schedule'!$C$29=\"\",'3 Irrigation Schedule'!$C$31=\"\",H90=\"\"),\"\",(('3 Irrigation Schedule'!$C$29-'3 Irrigation Schedule'!$C$31)/100)*1000*N90)","v":""},{"$error":"#VALUE!"},{"$f":"IF(H90=\"\",\"\",IF(H90=1,O90*(1-'3 Irrigation Schedule'!$C$27),T89-V89))","v":{"$error":"#VALUE!"}},{"$error":"#VALUE!"},{"$error":"#VALUE!"},{"$error":"#VALUE!"},{"$f":"IF(H90=\"\",\"\",IF('3 Irrigation Schedule'!$P$19<P90,'3 Irrigation Schedule'!$P$19,P90))","v":{"$error":"#VALUE!"}},{"$error":"#VALUE!"},{"$f":"IF(H90=\"\",\"\",V90/'3 Irrigation Schedule'!$M$19)","v":{"$error":"#VALUE!"}}]
[null,null,null,"2020","April","2020-04-27",null,44,"Mid Season",5.3054400000000008,3.0080000000000005,1.1000000000000001,5.8359840000000016,1.2,{"$f":"IF(OR('3 Irrigation Schedule'!$C$29=\"\",'3 Irrigation Schedule'!$C$31=\"\",H91=\"\"),\"\",(('3 Irrigation Schedule'!$C$29-'3 Irrigation Schedule'!$C$31)/100)*1000*N91)","v":""},{"$error":"#VALUE!"},{"$f":"IF(H91=\"\",\"\",IF(H91=1,O91*(1-'3 Irrigation Schedule'!$C$27),T90-V90))","v":{"$error":"#VALUE!"}},{"$error":"#VALUE!"},{"$error":"#VALUE!"},{"$error":"#VALUE!"},{"$f":"IF(H91=\"\",\"\",IF('3 Irrigation Schedule'!$P$19<P91,'3 Irrigation Schedule'!$P$19,P91))","v":{"$error":"#VALUE!"}},{"$error":"#VALUE!"},{"$f":"IF(H91=\"\",\"\",V91/'3 Irrigation Schedule'!$M$19)","v":{"$error":"#VALUE!"}}]
[null,null,null,"2020","April","2020-04-28",null,45,"Mid Season",5.3054400000000008,3.0080000000000005,1.1000000000000001,5.8359840000000016,1.2,{"$f":"IF(OR('3 Irrigation Schedule'!$C$29=\"\",'3 Irrigation Schedule'!$C$31=\"\",H92=\"\"),\"\",(('3 Irrigation Schedule'!$C$29-'3 Irrigation Schedule'!$C$31)/100)*1000*N92)","v":""},{"$error":"#VALUE!"},{"$f":"IF(H92=\"\",\"\",IF(H92=1,O92*(1-'3 Irrigation Schedule'!$C$27),T91-V91))","v":{"$error":"#VALUE!"}},{"$error":"#VALUE!"},{"$error":"#VALUE!"},{"$error":"#VALUE!"},{"$f":"IF(H92=\"\",\"\",IF('3 Irrigation Schedule'!$P$19<P92,'3 Irrigation Schedule'!$P$19,P92))","v":{"$error":"#VALUE!"}},{"$error":"#VALUE!"},{"$f":"IF(H92=\"\",\"\",V92/'3 Irrigation Schedule'!$M$19)","v":{"$error":"#VALUE!"}}]
[null,null,null,"2020","April","2020-04-29",null,46,"Mid Season",5.3054400000000008,3.0080000000000005,1.1000000000000001,5.8359840000000016,1.2,{"$f":"IF(OR('3 Irrigation Schedule'!$C$29=\"\",'3 Irrigation Schedule'!$C$31=\"\",H93=\"\"),\"\",(('3 Irrigation Schedule'!$C$29-'3 Irrigation Schedule'!$C$31)/100)*1000*N93)","v":""},{"$error":"#VALUE!"},{"$f":"IF(H93=\"\",\"\",IF(H93=1,O93*(1-'3 Irrigation Schedule'!$C$27),T92-V92))","v":{"$error":"#VALUE!"}},{"$error":"#VALUE!"},{"$error":"#VALUE!"},{"$error":"#VALUE!"},{"$f":"IF(H93=\"\",\"\",IF('3 Irrigation Schedule'!$P$19<P93,'3 Irrigation Schedule'!$P$19,P93))","v":{"$error":"#VALUE!"}},{"$error":"#VALUE!"},{"$f":"IF(H93=\"\",\"\",V93/'3 Irrigation Schedule'!$M$19)","v":{"$error":"#VALUE!"}}]
[null,null,null,"2020","April","2020-04-30",null,47,"Mid Season",5.3054400000000008,3.0080000000000005,1.1000000000000001,5.8359840000000016,1.2,{"$f":"IF(OR('3 Irrigation Schedule'!$C$29=\"\",'3 Irrigation Schedule'!$C$31=\"\",H94=\"\"),\"\",(('3 Irrigation Schedule'!$C$29-'3 Irrigation Schedule'!$C$31)/100)*1000*N94)","v":""},{"$error":"#VALUE!"},{"$f":"IF(H94=\"\",\"\",IF(H94=1,O94*(1-'3 Irrigation Schedule'!$C$27),T93-V93))","v":{"$error":"#VALUE!"}},{"$error":"#VALUE!"},{"$error":"#VALUE!"},{"$error":"#VALUE!"},{"$f":"IF(H94=\"\",\"\",IF('3 Irrigation Schedule'!$P$19<P94,'3 Irrigation Schedule'!$P$19,P94))","v":{"$error":"#VALUE!"}},{"$error":"#VALUE!"},{"$f":"IF(H94=\"\",\"\",V94/'3 Irrigation Schedule'!$M$19)","v":{"$error":"#VALUE!"}}]
[null,null,null,"2020","May","2020-05-01",null,48,"Mid Season",5.3183200000000008,2.0593548387096776,1.1000000000000001,5.8501520000000014,1.2,{"$f":"IF(OR('3 Irrigation Schedule'!$C$29=\"\",'3 Irrigation Schedule'!$C$31=\"\",H95=\"\"),\"\",(('3 Irrigation Schedule'!$C$29-'3 Irrigation Schedule'!$C$31)/100)*1000*N95)","v":""},{"$error":"#VALUE!"},{"$f":"IF(H95=\"\",\"\",IF(H95=1,O95*(1-'3 Irrigation Schedule'!$C$27),T94-V94))","v":{"$error":"#VALUE!"}},{"$error":"#VALUE!"},{"$error":"#VALUE!"},{"$error":"#VALUE!"},{"$f":"IF(H95=\"\",\"\",IF('3 Irrigation Schedule'!$P$19<P95,'3 Irrigation Schedule'!$P$19,P95))","v":{"$error":"#VALUE!"}},{"$error":"#VALUE!"},{"$f":"IF(H95=\"\",\"\",V95/'3 Irrigation Schedule'!$M$19)","v":{"$error":"#VALUE!"}}]
[null,null,null,"2020","May","2020-05-02",null,49,"Mid Season",5.3183200000000008,2.0593548387096776,1.1000000000000001,5.8501520000000014,1.2,{"$f":"IF(OR('3 Irrigation Schedule'!$C$29=\"\",'3 Irrigation Schedule'!$C$31=\"\",H96=\"\"),\"\",(('3 Irrigation Schedule'!$C$29-'3 Irrigation Schedule'!$C$31)/100)*1000*N96)","v":""},{"$error":"#VALUE!"},{"$f":"IF(H96=\"\",\"\",IF(H96=1,O96*(1-'3 Irrigation Schedule'!$C$27),T95-V95))","v":{"$error":"#VALUE!"}},{"$error":"#VALUE!"},{"$error":"#VALUE!"},{"$error":"#VALUE!"},{"$f":"IF(H96=\"\",\"\",IF('3 Irrigation Schedule'!$P$19<P96,'3 Irrigation Schedule'!$P$19,P96))","v":{"$error":"#VALUE!"}},{"$error":"#VALUE!"},{"$f":"IF(H96=\"\",\"\",V96/'3 Irrigation Schedule'!$M$19)","v":{"$error":"#VALUE!"}}]
[null,null,null,"2020","May","2020-05-03",null,50,"Mid Season",5.3183200000000008,2.0593548387096776,1.1000000000000001,5.8501520000000014,1.2,{"$f":"IF(OR('3 Irrigation Schedule'!$C$29=\"\",'3 Irrigation Schedule'!$C$31=\"\",H97=\"\"),\"\",(('3 Irrigation Schedule'!$C$29-'3 Irrigation Schedule'!$C$31)/100)*1000*N97)","v":""},{"$error":"#VALUE!"},{"$f":"IF(H97=\"\",\"\",IF(H97=1,O97*(1-'3 Irrigation Schedule'!$C$27),T96-V96))","v":{"$error":"#VALUE!"}},{"$error":"#VALUE!"},{"$error":"#VALUE!"},{"$error":"#VALUE!"},{"$f":"IF(H97=\"\",\"\",IF('3 Irrigation Schedule'!$P$19<P97,'3 Irrigation Schedule'!$P$19,P97))","v":{"$error":"#VALUE!"}},{"$error":"#VALUE!"},{"$f":"IF(H97=\"\",\"\",V97/'3 Irrigation Schedule'!$M$19)","v":{"$error":"#VALUE!"}}]
[null,null,null,{"$f":"IFERROR(TEXT(DATE(YEAR($F98),MONTH($F98),1),$D$7&$D$4),\"\")","v":"2020"},{"$f":"IFERROR(TEXT(DATE(YEAR($F98),MONTH($F98),1),$D$7&$D$5),\"\")","v":"May"},"2020-05-04",null,51,{"$f":"IF(H98=\"\",\"\",IF(H98<=$I$27,\"Initial\",IF(AND(H98>$I$27,H98<=$I$28),\"Development\",IF(AND(H98>$I$28,H98<=$I$29),\"Mid Season\",\"Late Season\"))))","v":"Mid Season"},{"$f":"IFERROR(VLOOKUP($E98,$B$19:$C$30,2,FALSE),\"\")","v":5.3183200000000008},2.0593548387096776,{"$f":"IF(H98=\"\",\"\",IF(H98<=$I$27,$L$27,IF(AND(H98>$I$27,H98<=$I$28),$L$27+((H98-$I$27)/$H$28)*($L$29-$L$27),IF(AND(H98>$I$28,H98<=$I$29),$L$29,$L$29+((H98-$I$29)/$H$30)*($L$30-$L$29)))))","v":1.1000000000000001},{"$f":"IFERROR((J98*L98),0)","v":5.8501520000000014},{"$f":"IF(H98=\"\",\"\",IF(OR(H98=1,H98<$I$28),$M$27+(($M$28-$M$27)*((H98-1)/($I$28-1))),$M$28))","v":1.2},{"$f":"IF(OR('3 Irrigation Schedule'!$C$29=\"\",'3 Irrigation Schedule'!$C$31=\"\",H98=\"\"),\"\",(('3 Irrigation Schedule'!$C$29-'3 Irrigation Schedule'!$C$31)/100)*1000*N98)","v":""},{"$f":"IF(H98=\"\",\"\",O98*$N$27)","v":{"$error":"#VALUE!"}},{"$f":"IF(H98=\"\",\"\",IF(H98=1,O98*(1-'3 Irrigation Schedule'!$C$27),T97-V97))","v":{"$error":"#VALUE!"}},{"$f":"IF(H98=\"\",\"\",IF(Q98>P98,(O98-Q98)/(O98-P98),1))","v":{"$error":"#VALUE!"}},{"$f":"IF(H98=\"\",\"\",M98*R98)","v":{"$error":"#VALUE!"}},{"$f":"IF(H98=\"\",\"\",IF(Q98+S98-K98<0,0,Q98+S98-K98))","v":{"$error":"#VALUE!"}},{"$f":"IF(H98=\"\",\"\",IF('3 Irrigation Schedule'!$P$19<P98,'3 Irrigation Schedule'!$P$19,P98))","v":{"$error":"#VALUE!"}},{"$f":"IF(H98=\"\",\"\",IF(U98<=T98,U98,0))","v":{"$error":"#VALUE!"}},{"$f":"IF(H98=\"\",\"\",V98/'3 Irrigation Schedule'!$M$19)","v":{"$error":"#VALUE!"}}]
[null,null,null,"2020","May",{"$f":"IFERROR(IF(F98+1<=$N$7, F98+1,\"\"),\"\")","v":"2020-05-05"},null,{"$f":"IFERROR(IF(OR($F99-$J$27+1<=0,$F99>$K$30),\"\",$F99-$J$27+1),\"\")","v":52},"Mid Season",5.3183200000000008,{"$f":"IFERROR(VLOOKUP($E99,$B$19:$D$30,3,FALSE),\"\")","v":2.0593548387096776},1.1000000000000001,5.8501520000000014,1.2,{"$f":"IF(OR('3 Irrigation Schedule'!$C$29=\"\",'3 Irrigation Schedule'!$C$31=\"\",H99=\"\"),\"\",(('3 Irrigation Schedule'!$C$29-'3 Irrigation Schedule'!$C$31)/100)*1000*N99)","v":""},{"$error":"#VALUE!"},{"$f":"IF(H99=\"\",\"\",IF(H99=1,O99*(1-'3 Irrigation Schedule'!$C$27),T98-V98))","v":{"$error":"#VALUE!"}},{"$error":"#VALUE!"},{"$error":"#VALUE!"},{"$error":"#VALUE!"},{"$f":"IF(H99=\"\",\"\",IF('3 Irrigation Schedule'!$P$19<P99,'3 Irrigation Schedule'!$P$19,P99))","v":{"$error":"#VALUE!"}},{"$error":"#VALUE!"},{"$f":"IF(H99=\"\",\"\",V99/'3 Irrigation Schedule'!$M$19)","v":{"$error":"#VALUE!"}}]
[null,null,null,"2020","May","2020-05-06",null,53,"Mid Season",5.3183200000000008,2.0593548387096776,1.1000000000000001,5.8501520000000014,1.2,{"$f":"IF(OR('3 Irrigation Schedule'!$C$29=\"\",'3 Irrigation Schedule'!$C$31=\"\",H100=\"\"),\"\",(('3 Irrigation Schedule'!$C$29-'3 Irrigation Schedule'!$C$31)/100)*1000*N100)","v":""},{"$error":"#VALUE!"},{"$f":"IF(H100=\"\",\"\",IF(H100=1,O100*(1-'3 Irrigation Schedule'!$C$27),T99-V99))","v":{"$error":"#VALUE!"}},{"$error":"#VALUE!"},{"$error":"#VALUE!"},{"$error":"#VALUE!"},{"$f":"IF(H100=\"\",\"\",IF('3 Irrigation Schedule'!$P$19<P100,'3 Irrigation Schedule'!$P$19,P100))","v":{"$error":"#VALUE!"}},{"$error":"#VALUE!"},{"$f":"IF(H100=\"\",\"\",V100/'3 Irrigation Schedule'!$M$19)","v":{"$error":"#VALUE!"}}]
[null,null,null,"2020","May","2020-05-07",null,54,"Mid Season",5.3183200000000008,2.0593548387096776,1.1000000000000001,5.8501520000000014,1.2,{"$f":"IF(OR('3 Irrigation Schedule'!$C$29=\"\",'3 Irrigation Schedule'!$C$31=\"\",H101=\"\"),\"\",(('3 Irrigation Schedule'!$C$29-'3 Irrigation Schedule'!$C$31)/100)*1000*N101)","v":""},{"$error":"#VALUE!"},{"$f":"IF(H101=\"\",\"\",IF(H101=1,O101*(1-'3 Irrigation Schedule'!$C$27),T100-V100))","v":{"$error":"#VALUE!"}},{"$error":"#VALUE!"},{"$error":"#VALUE!"},{"$error":"#VALUE!"},{"$f":"IF(H101=\"\",\"\",IF('3 Irrigation Schedule'!$P$19<P101,'3 Irrigation Schedule'!$P$19,P101))","v":{"$error":"#VALUE!"}},{"$error":"#VALUE!"},{"$f":"IF(H101=\"\",\"\",V101/'3 Irrigation Schedule'!$M$19)","v":{"$error":"#VALUE!"}}]
[null,null,null,"2020","May","2020-05-08",null,55,"Mid Season",5.3183200000000008,2.0593548387096776,1.1000000000000001,5.8501520000000014,1.2,{"$f":"IF(OR('3 Irrigation Schedule'!$C$29=\"\",'3 Irrigation Schedule'!$C$31=\"\",H102=\"\"),\"\",(('3 Irrigation Schedule'!$C$29-'3 Irrigation Schedule'!$C$31)/100)*1000*N102)","v":""},{"$error":"#VALUE!"},{"$f":"IF(H102=\"\",\"\",IF(H102=1,O102*(1-'3 Irrigation Schedule'!$C$27),T101-V101))","v":{"$error":"#VALUE!"}},{"$error":"#VALUE!"},{"$error":"#VALUE!"},{"$error":"#VALUE!"},{"$f":"IF(H102=\"\",\"\",IF('3 Irrigation Schedule'!$P$19<P102,'3 Irrigation Schedule'!$P$19,P102))","v":{"$error":"#VALUE!"}},{"$error":"#VALUE!"},{"$f":"IF(H102=\"\",\"\",V102/'3 Irrigation Schedule'!$M$19)","v":{"$error":"#VALUE!"}}]
[null,null,null,"2020","May","2020-05-09",null,56,"Mid Season",5.3183200000000008,2.0593548387096776,1.1000000000000001,5.8501520000000014,1.2,{"$f":"IF(OR('3 Irrigation Schedule'!$C$29=\"\",'3 Irrigation Schedule'!$C$31=\"\",H103=\"\"),\"\",(('3 Irrigation Schedule'!$C$29-'3 Irrigation Schedule'!$C$31)/100)*1000*N103)","v":""},{"$error":"#VALUE!"},{"$f":"IF(H103=\"\",\"\",IF(H103=1,O103*(1-'3 Irrigation Schedule'!$C$27),T102-V102))","v":{"$error":"#VALUE!"}},{"$error":"#VALUE!"},{"$error":"#VALUE!"},{"$error":"#VALUE!"},{"$f":"IF(H103=\"\",\"\",IF('3 Irrigation Schedule'!$P$19<P103,'3 Irrigation Schedule'!$P$19,P103))","v":{"$error":"#VALUE!"}},{"$error":"#VALUE!"},{"$f":"IF(H103=\"\",\"\",V103/'3 Irrigation Schedule'!$M$19)","v":{"$error":"#VALUE!"}}]
[null,null,null,"2020","May","2020-05-10",null,57,"Mid Season",5.3183200000000008,2.0593548387096776,1.1000000000000001,5.8501520000000014,1.2,{"$f":"IF(OR('3 Irrigation Schedule'!$C$29=\"\",'3 Irrigation Schedule'!$C$31=\"\",H104=\"\"),\"\",(('3 Irrigation Schedule'!$C$29-'3 Irrigation Schedule'!$C$31)/100)*1000*N104)","v":""},{"$error":"#VALUE!"},{"$f":"IF(H104=\"\",\"\",IF(H104=1,O104*(1-'3 Irrigation Schedule'!$C$27),T103-V103))","v":{"$error":"#VALUE!"}},{"$error":"#VALUE!"},{"$error":"#VALUE!"},{"$error":"#VALUE!"},{"$f":"IF(H104=\"\",\"\",IF('3 Irrigation Schedule'!$P$19<P104,'3 Irrigation Schedule'!$P$19,P104))","v":{"$error":"#VALUE!"}},{"$error":"#VALUE!"},{"$f":"IF(H104=\"\",\"\",V104/'3 Irrigation Schedule'!$M$19)","v":{"$error":"#VALUE!"}}]
[null,null,null,"2020","May","2020-05-11",null,58,"Mid Season",5.3183200000000008,2.0593548387096776,1.1000000000000001,5.8501520000000014,1.2,{"$f":"IF(OR('3 Irrigation Schedule'!$C$29=\"\",'3 Irrigation Schedule'!$C$31=\"\",H105=\"\"),\"\",(('3 Irrigation Schedule'!$C$29-'3 Irrigation Schedule'!$C$31)/100)*1000*N105)","v":""},{"$error":"#VALUE!"},{"$f":"IF(H105=\"\",\"\",IF(H105=1,O105*(1-'3 Irrigation Schedule'!$C$27),T104-V104))","v":{"$error":"#VALUE!"}},{"$error":"#VALUE!"},{"$error":"#VALUE!"},{"$error":"#VALUE!"},{"$f":"IF(H105=\"\",\"\",IF('3 Irrigation Schedule'!$P$19<P105,'3 Irrigation Schedule'!$P$19,P105))","v":{"$error":"#VALUE!"}},{"$error":"#VALUE!"},{"$f":"IF(H105=\"\",\"\",V105/'3 Irrigation Schedule'!$M$19)","v":{"$error":"#VALUE!"}}]
[null,null,null,"2020","May","2020-05-12",null,59,"Late Season",5.3183200000000008,2.0593548387096776,1.0900000000000001,5.796968800000001,1.2,{"$f":"IF(OR('3 Irrigation Schedule'!$C$29=\"\",'3 Irrigation Schedule'!$C$31=\"\",H106=\"\"),\"\",(('3 Irrigation Schedule'!$C$29-'3 Irrigation Schedule'!$C$31)/100)*1000*N106)","v":""},{"$error":"#VALUE!"},{"$f":"IF(H106=\"\",\"\",IF(H106=1,O106*(1-'3 Irrigation Schedule'!$C$27),T105-V105))","v":{"$error":"#VALUE!"}},{"$error":"#VALUE!"},{"$error":"#VALUE!"},{"$error":"#VALUE!"},{"$f":"IF(H106=\"\",\"\",IF('3 Irrigation Schedule'!$P$19<P106,'3 Irrigation Schedule'!$P$19,P106))","v":{"$error":"#VALUE!"}},{"$error":"#VALUE!"},{"$f":"IF(H106=\"\",\"\",V106/'3 Irrigation Schedule'!$M$19)","v":{"$error":"#VALUE!"}}]
[null,null,null,"2020","May","2020-05-13",null,60,"Late Season",5.3183200000000008,2.0593548387096776,1.08,5.7437856000000016,1.2,{"$f":"IF(OR('3 Irrigation Schedule'!$C$29=\"\",'3 Irrigation Schedule'!$C$31=\"\",H107=\"\"),\"\",(('3 Irrigation Schedule'!$C$29-'3 Irrigation Schedule'!$C$31)/100)*1000*N107)","v":""},{"$error":"#VALUE!"},{"$f":"IF(H107=\"\",\"\",IF(H107=1,O107*(1-'3 Irrigation Schedule'!$C$27),T106-V106))","v":{"$error":"#VALUE!"}},{"$error":"#VALUE!"},{"$error":"#VALUE!"},{"$error":"#VALUE!"},{"$f":"IF(H107=\"\",\"\",IF('3 Irrigation Schedule'!$P$19<P107,'3 Irrigation Schedule'!$P$19,P107))","v":{"$error":"#VALUE!"}},{"$error":"#VALUE!"},{"$f":"IF(H107=\"\",\"\",V107/'3 Irrigation Schedule'!$M$19)","v":{"$error":"#VALUE!"}}]
[null,null,null,"2020","May","2020-05-14",null,61,"Late Season",5.3183200000000008,2.0593548387096776,1.07,5.6906024000000013,1.2,{"$f":"IF(OR('3 Irrigation Schedule'!$C$29=\"\",'3 Irrigation Schedule'!$C$31=\"\",H108=\"\"),\"\",(('3 Irrigation Schedule'!$C$29-'3 Irrigation Schedule'!$C$31)/100)*1000*N108)","v":""},{"$error":"#VALUE!"},{"$f":"IF(H108=\"\",\"\",IF(H108=1,O108*(1-'3 Irrigation Schedule'!$C$27),T107-V107))","v":{"$error":"#VALUE!"}},{"$error":"#VALUE!"},{"$error":"#VALUE!"},{"$error":"#VALUE!"},{"$f":"IF(H108=\"\",\"\",IF('3 Irrigation Schedule'!$P$19<P108,'3 Irrigation Schedule'!$P$19,P108))","v":{"$error":"#VALUE!"}},{"$error":"#VALUE!"},{"$f":"IF(H108=\"\",\"\",V108/'3 Irrigation Schedule'!$M$19)","v":{"$error":"#VALUE!"}}]
[null,null,null,"2020","May","2020-05-15",null,62,"Late Season",5.3183200000000008,2.0593548387096776,1.06,5.637419200000001,1.2,{"$f":"IF(OR('3 Irrigation Schedule'!$C$29=\"\",'3 Irrigation Schedule'!$C$31=\"\",H109=\"\"),\"\",(('3 Irrigation Schedule'!$C$29-'3 Irrigation Schedule'!$C$31)/100)*1000*N109)","v":""},{"$error":"#VALUE!"},{"$f":"IF(H109=\"\",\"\",IF(H109=1,O109*(1-'3 Irrigation Schedule'!$C$27),T108-V108))","v":{"$error":"#VALUE!"}},{"$error":"#VALUE!"},{"$error":"#VALUE!"},{"$error":"#VALUE!"},{"$f":"IF(H109=\"\",\"\",IF('3 Irrigation Schedule'!$P$19<P109,'3 Irrigation Schedule'!$P$19,P109))","v":{"$error":"#VALUE!"}},{"$error":"#VALUE!"},{"$f":"IF(H109=\"\",\"\",V109/'3 Irrigation Schedule'!$M$19)","v":{"$error":"#VALUE!"}}]
[null,null,null,"2020","May","2020-05-16",null,63,"Late Season",5.3183200000000008,2.0593548387096776,1.05,5.5842360000000015,1.2,{"$f":"IF(OR('3 Irrigation Schedule'!$C$29=\"\",'3 Irrigation Schedule'!$C$31=\"\",H110=\"\"),\"\",(('3 Irrigation Schedule'!$C$29-'3 Irrigation Schedule'!$C$31)/100)*1000*N110)","v":""},{"$error":"#VALUE!"},{"$f":"IF(H110=\"\",\"\",IF(H110=1,O110*(1-'3 Irrigation Schedule'!$C$27),T109-V109))","v":{"$error":"#VALUE!"}},{"$error":"#VALUE!"},{"$error":"#VALUE!"},{"$error":"#VALUE!"},{"$f":"IF(H110=\"\",\"\",IF('3 Irrigation Schedule'!$P$19<P110,'3 Irrigation Schedule'!$P$19,P110))","v":{"$error":"#VALUE!"}},{"$error":"#VALUE!"},{"$f":"IF(H110=\"\",\"\",V110/'3 Irrigation Schedule'!$M$19)","v":{"$error":"#VALUE!"}}]
[null,null,null,"2020","May","2020-05-17",null,64,"Late Season",5.3183200000000008,2.0593548387096776,1.04,5.5310528000000012,1.2,{"$f":"IF(OR('3 Irrigation Schedule'!$C$29=\"\",'3 Irrigation Schedule'!$C$31=\"\",H111=\"\"),\"\",(('3 Irrigation Schedule'!$C$29-'3 Irrigation Schedule'!$C$31)/100)*1000*N111)","v":""},{"$error":"#VALUE!"},{"$f":"IF(H111=\"\",\"\",IF(H111=1,O111*(1-'3 Irrigation Schedule'!$C$27),T110-V110))","v":{"$error":"#VALUE!"}},{"$error":"#VALUE!"},{"$error":"#VALUE!"},{"$error":"#VALUE!"},{"$f":"IF(H111=\"\",\"\",IF('3 Irrigation Schedule'!$P$19<P111,'3 Irrigation Schedule'!$P$19,P111))","v":{"$error":"#VALUE!"}},{"$error":"#VALUE!"},{"$f":"IF(H111=\"\",\"\",V111/'3 Irrigation Schedule'!$M$19)","v":{"$error":"#VALUE!"}}]
[null,null,null,"2020","May","2020-05-18",null,65,"Late Season",5.3183200000000008,2.0593548387096776,1.03,5.4778696000000009,1.2,{"$f":"IF(OR('3 Irrigation Schedule'!$C$29=\"\",'3 Irrigation Schedule'!$C$31=\"\",H112=\"\"),\"\",(('3 Irrigation Schedule'!$C$29-'3 Irrigation Schedule'!$C$31)/100)*1000*N112)","v":""},{"$error":"#VALUE!"},{"$f":"IF(H112=\"\",\"\",IF(H112=1,O112*(1-'3 Irrigation Schedule'!$C$27),T111-V111))","v":{"$error":"#VALUE!"}},{"$error":"#VALUE!"},{"$error":"#VALUE!"},{"$error":"#VALUE!"},{"$f":"IF(H112=\"\",\"\",IF('3 Irrigation Schedule'!$P$19<P112,'3 Irrigation Schedule'!$P$19,P112))","v":{"$error":"#VALUE!"}},{"$error":"#VALUE!"},{"$f":"IF(H112=\"\",\"\",V112/'3 Irrigation Schedule'!$M$19)","v":{"$error":"#VALUE!"}}]
[null,null,null,"2020","May","2020-05-19",null,66,"Late Season",5.3183200000000008,2.0593548387096776,1.02,5.4246864000000006,1.2,{"$f":"IF(OR('3 Irrigation Schedule'!$C$29=\"\",'3 Irrigation Schedule'!$C$31=\"\",H113=\"\"),\"\",(('3 Irrigation Schedule'!$C$29-'3 Irrigation Schedule'!$C$31)/100)*1000*N113)","v":""},{"$error":"#VALUE!"},{"$f":"IF(H113=\"\",\"\",IF(H113=1,O113*(1-'3 Irrigation Schedule'!$C$27),T112-V112))","v":{"$error":"#VALUE!"}},{"$error":"#VALUE!"},{"$error":"#VALUE!"},{"$error":"#VALUE!"},{"$f":"IF(H113=\"\",\"\",IF('3 Irrigation Schedule'!$P$19<P113,'3 Irrigation Schedule'!$P$19,P113))","v":{"$error":"#VALUE!"}},{"$error":"#VALUE!"},{"$f":"IF(H113=\"\",\"\",V113/'3 Irrigation Schedule'!$M$19)","v":{"$error":"#VALUE!"}}]
[null,null,null,"2020","May","2020-05-20",null,67,"Late Season",5.3183200000000008,2.0593548387096776,1.01,5.3715032000000011,1.2,{"$f":"IF(OR('3 Irrigation Schedule'!$C$29=\"\",'3 Irrigation Schedule'!$C$31=\"\",H114=\"\"),\"\",(('3 Irrigation Schedule'!$C$29-'3 Irrigation Schedule'!$C$31)/100)*1000*N114)","v":""},{"$error":"#VALUE!"},{"$f":"IF(H114=\"\",\"\",IF(H114=1,O114*(1-'3 Irrigation Schedule'!$C$27),T113-V113))","v":{"$error":"#VALUE!"}},{"$error":"#VALUE!"},{"$error":"#VALUE!"},{"$error":"#VALUE!"},{"$f":"IF(H114=\"\",\"\",IF('3 Irrigation Schedule'!$P$19<P114,'3 Irrigation Schedule'!$P$19,P114))","v":{"$error":"#VALUE!"}},{"$error":"#VALUE!"},{"$f":"IF(H114=\"\",\"\",V114/'3 Irrigation Schedule'!$M$19)","v":{"$error":"#VALUE!"}}]
[null,null,null,"2020","May","2020-05-21",null,68,"Late Season",5.3183200000000008,2.0593548387096776,1,5.3183200000000008,1.2,{"$f":"IF(OR('3 Irrigation Schedule'!$C$29=\"\",'3 Irrigation Schedule'!$C$31=\"\",H115=\"\"),\"\",(('3 Irrigation Schedule'!$C$29-'3 Irrigation Schedule'!$C$31)/100)*1000*N115)","v":""},{"$error":"#VALUE!"},{"$f":"IF(H115=\"\",\"\",IF(H115=1,O115*(1-'3 Irrigation Schedule'!$C$27),T114-V114))","v":{"$error":"#VALUE!"}},{"$error":"#VALUE!"},{"$error":"#VALUE!"},{"$error":"#VALUE!"},{"$f":"IF(H115=\"\",\"\",IF('3 Irrigation Schedule'!$P$19<P115,'3 Irrigation Schedule'!$P$19,P115))","v":{"$error":"#VALUE!"}},{"$error":"#VALUE!"},{"$f":"IF(H115=\"\",\"\",V115/'3 Irrigation Schedule'!$M$19)","v":{"$error":"#VALUE!"}}]
[null,null,null,"2020","May","2020-05-22",null,"","",5.3183200000000008,2.0593548387096776,"",0,"",{"$f":"IF(OR('3 Irrigation Schedule'!$C$29=\"\",'3 Irrigation Schedule'!$C$31=\"\",H116=\"\"),\"\",(('3 Irrigation Schedule'!$C$29-'3 Irrigation Schedule'!$C$31)/100)*1000*N116)","v":""},"",{"$f":"IF(H116=\"\",\"\",IF(H116=1,O116*(1-'3 Irrigation Schedule'!$C$27),T115-V115))","v":""},"","","",{"$f":"IF(H116=\"\",\"\",IF('3 Irrigation Schedule'!$P$19<P116,'3 Irrigation Schedule'!$P$19,P116))","v":""},"",{"$f":"IF(H116=\"\",\"\",V116/'3 Irrigation Schedule'!$M$19)","v":""}]
[null,null,null,"2020","May","2020-05-23",null,"","",5.3183200000000008,2.0593548387096776,"",0,"",{"$f":"IF(OR('3 Irrigation Schedule'!$C$29=\"\",'3 Irrigation Schedule'!$C$31=\"\",H117=\"\"),\"\",(('3 Irrigation Schedule'!$C$29-'3 Irrigation Schedule'!$C$31)/100)*1000*N117)","v":""},"",{"$f":"IF(H117=\"\",\"\",IF(H117=1,O117*(1-'3 Irrigation Schedule'!$C$27),T116-V116))","v":""},"","","",{"$f":"IF(H117=\"\",\"\",IF('3 Irrigation Schedule'!$P$19<P117,'3 Irrigation Schedule'!$P$19,P117))","v":""},"",{"$f":"IF(H117=\"\",\"\",V117/'3 Irrigation Schedule'!$M$19)","v":""}]
[null,null,null,"2020","May","2020-05-24",null,"","",5.3183200000000008,2.0593548387096776,"",0,"",{"$f":"IF(OR('3 Irrigation Schedule'!$C$29=\"\",'3 Irrigation Schedule'!$C$31=\"\",H118=\"\"),\"\",(('3 Irrigation Schedule'!$C$29-'3 Irrigation Schedule'!$C$31)/100)*1000*N118)","v":""},"",{"$f":"IF(H118=\"\",\"\",IF(H118=1,O118*(1-'3 Irrigation Schedule'!$C$27),T117-V117))","v":""},"","","",{"$f":"IF(H118=\"\",\"\",IF('3 Irrigation Schedule'!$P$19<P118,'3 Irrigation Schedule'!$P$19,P118))","v":""},"",{"$f":"IF(H118=\"\",\"\",V118/'3 Irrigation Schedule'!$M$19)","v":""}]
[null,null,null,"2020","May","2020-05-25",null,"","",5.3183200000000008,2.0593548387096776,"",0,"",{"$f":"IF(OR('3 Irrigation Schedule'!$C$29=\"\",'3 Irrigation Schedule'!$C$31=\"\",H119=\"\"),\"\",(('3 Irrigation Schedule'!$C$29-'3 Irrigation Schedule'!$C$31)/100)*1000*N119)","v":""},"",{"$f":"IF(H119=\"\",\"\",IF(H119=1,O119*(1-'3 Irrigation Schedule'!$C$27),T118-V118))","v":""},"","","",{"$f":"IF(H119=\"\",\"\",IF('3 Irrigation Schedule'!$P$19<P119,'3 Irrigation Schedule'!$P$19,P119))","v":""},"",{"$f":"IF(H119=\"\",\"\",V119/'3 Irrigation Schedule'!$M$19)","v":""}]
[null,null,null,"2020","May","2020-05-26",null,"","",5.3183200000000008,2.0593548387096776,"",0,"",{"$f":"IF(OR('3 Irrigation Schedule'!$C$29=\"\",'3 Irrigation Schedule'!$C$31=\"\",H120=\"\"),\"\",(('3 Irrigation Schedule'!$C$29-'3 Irrigation Schedule'!$C$31)/100)*1000*N120)","v":""},"",{"$f":"IF(H120=\"\",\"\",IF(H120=1,O120*(1-'3 Irrigation Schedule'!$C$27),T119-V119))","v":""},"","","",{"$f":"IF(H120=\"\",\"\",IF('3 Irrigation Schedule'!$P$19<P120,'3 Irrigation Schedule'!$P$19,P120))","v":""},"",{"$f":"IF(H120=\"\",\"\",V120/'3 Irrigation Schedule'!$M$19)","v":""}]
[null,null,null,"2020","May","2020-05-27",null,"","",5.3183200000000008,2.0593548387096776,"",0,"",{"$f":"IF(OR('3 Irrigation Schedule'!$C$29=\"\",'3 Irrigation Schedule'!$C$31=\"\",H121=\"\"),\"\",(('3 Irrigation Schedule'!$C$29-'3 Irrigation Schedule'!$C$31)/100)*1000*N121)","v":""},"",{"$f":"IF(H121=\"\",\"\",IF(H121=1,O121*(1-'3 Irrigation Schedule'!$C$27),T120-V120))","v":""},"","","",{"$f":"IF(H121=\"\",\"\",IF('3 Irrigation Schedule'!$P$19<P121,'3 Irrigation Schedule'!$P$19,P121))","v":""},"",{"$f":"IF(H121=\"\",\"\",V121/'3 Irrigation Schedule'!$M$19)","v":""}]
[null,null,null,"2020","May","2020-05-28",null,"","",5.3183200000000008,2.0593548387096776,"",0,"",{"$f":"IF(OR('3 Irrigation Schedule'!$C$29=\"\",'3 Irrigation Schedule'!$C$31=\"\",H122=\"\"),\"\",(('3 Irrigation Schedule'!$C$29-'3 Irrigation Schedule'!$C$31)/100)*1000*N122)","v":""},"",{"$f":"IF(H122=\"\",\"\",IF(H122=1,O122*(1-'3 Irrigation Schedule'!$C$27),T121-V121))","v":""},"","","",{"$f":"IF(H122=\"\",\"\",IF('3 Irrigation Schedule'!$P$19<P122,'3 Irrigation Schedule'!$P$19,P122))","v":""},"",{"$f":"IF(H122=\"\",\"\",V122/'3 Irrigation Schedule'!$M$19)","v":""}]
[null,null,null,"2020","May","2020-05-29",null,"","",5.3183200000000008,2.0593548387096776,"",0,"",{"$f":"IF(OR('3 Irrigation Schedule'!$C$29=\"\",'3 Irrigation Schedule'!$C$31=\"\",H123=\"\"),\"\",(('3 Irrigation Schedule'!$C$29-'3 Irrigation Schedule'!$C$31)/100)*1000*N123)","v":""},"",{"$f":"IF(H123=\"\",\"\",IF(H123=1,O123*(1-'3 Irrigation Schedule'!$C$27),T122-V122))","v":""},"","","",{"$f":"IF(H123=\"\",\"\",IF('3 Irrigation Schedule'!$P$19<P123,'3 Irrigation Schedule'!$P$19,P123))","v":""},"",{"$f":"IF(H123=\"\",\"\",V123/'3 Irrigation Schedule'!$M$19)","v":""}]
[null,null,null,"2020","May","2020-05-30",null,"","",5.3183200000000008,2.0593548387096776,"",0,"",{"$f":"IF(OR('3 Irrigation Schedule'!$C$29=\"\",'3 Irrigation Schedule'!$C$31=\"\",H124=\"\"),\"\",(('3 Irrigation Schedule'!$C$29-'3 Irrigation Schedule'!$C$31)/100)*1000*N124)","v":""},"",{"$f":"IF(H124=\"\",\"\",IF(H124=1,O124*(1-'3 Irrigation Schedule'!$C$27),T123-V123))","v":""},"","","",{"$f":"IF(H124=\"\",\"\",IF('3 Irrigation Schedule'!$P$19<P124,'3 Irrigation Schedule'!$P$19,P124))","v":""},"",{"$f":"IF(H124=\"\",\"\",V124/'3 Irrigation Schedule'!$M$19)","v":""}]
[null,null,null,"2020","May","2020-05-31",null,"","",5.3183200000000008,2.0593548387096776,"",0,"",{"$f":"IF(OR('3 Irrigation Schedule'!$C$29=\"\",'3 Irrigation Schedule'!$C$31=\"\",H125=\"\"),\"\",(('3 Irrigation Schedule'!$C$29-'3 Irrigation Schedule'!$C$31)/100)*1000*N125)","v":""},"",{"$f":"IF(H125=\"\",\"\",IF(H125=1,O125*(1-'3 Irrigation Schedule'!$C$27),T124-V124))","v":""},"","","",{"$f":"IF(H125=\"\",\"\",IF('3 Irrigation Schedule'!$P$19<P125,'3 Irrigation Schedule'!$P$19,P125))","v":""},"",{"$f":"IF(H125=\"\",\"\",V125/'3 Irrigation Schedule'!$M$19)","v":""}]
[null,null,null,"2020","June","2020-06-01",null,"","",5.2668000000000008,0.42866666666666664,"",0,"",{"$f":"IF(OR('3 Irrigation Schedule'!$C$29=\"\",'3 Irrigation Schedule'!$C$31=\"\",H126=\"\"),\"\",(('3 Irrigation Schedule'!$C$29-'3 Irrigation Schedule'!$C$31)/100)*1000*N126)","v":""},"",{"$f":"IF(H126=\"\",\"\",IF(H126=1,O126*(1-'3 Irrigation Schedule'!$C$27),T125-V125))","v":""},"","","",{"$f":"IF(H126=\"\",\"\",IF('3 Irrigation Schedule'!$P$19<P126,'3 Irrigation Schedule'!$P$19,P126))","v":""},"",{"$f":"IF(H126=\"\",\"\",V126/'3 Irrigation Schedule'!$M$19)","v":""}]
[null,null,null,"2020","June","2020-06-02",null,"","",5.2668000000000008,0.42866666666666664,"",0,"",{"$f":"IF(OR('3 Irrigation Schedule'!$C$29=\"\",'3 Irrigation Schedule'!$C$31=\"\",H127=\"\"),\"\",(('3 Irrigation Schedule'!$C$29-'3 Irrigation Schedule'!$C$31)/100)*1000*N127)","v":""},"",{"$f":"IF(H127=\"\",\"\",IF(H127=1,O127*(1-'3 Irrigation Schedule'!$C$27),T126-V126))","v":""},"","","",{"$f":"IF(H127=\"\",\"\",IF('3 Irrigation Schedule'!$P$19<P127,'3 Irrigation Schedule'!$P$19,P127))","v":""},"",{"$f":"IF(H127=\"\",\"\",V127/'3 Irrigation Schedule'!$M$19)","v":""}]
[null,null,null,"2020","June","2020-06-03",null,"","",5.2668000000000008,0.42866666666666664,"",0,"",{"$f":"IF(OR('3 Irrigation Schedule'!$C$29=\"\",'3 Irrigation Schedule'!$C$31=\"\",H128=\"\"),\"\",(('3 Irrigation Schedule'!$C$29-'3 Irrigation Schedule'!$C$31)/100)*1000*N128)","v":""},"",{"$f":"IF(H128=\"\",\"\",IF(H128=1,O128*(1-'3 Irrigation Schedule'!$C$27),T127-V127))","v":""},"","","",{"$f":"IF(H128=\"\",\"\",IF('3 Irrigation Schedule'!$P$19<P128,'3 Irrigation Schedule'!$P$19,P128))","v":""},"",{"$f":"IF(H128=\"\",\"\",V128/'3 Irrigation Schedule'!$M$19)","v":""}]
[null,null,null,"2020","June","2020-06-04",null,"","",5.2668000000000008,0.42866666666666664,"",0,"",{"$f":"IF(OR('3 Irrigation Schedule'!$C$29=\"\",'3 Irrigation Schedule'!$C$31=\"\",H129=\"\"),\"\",(('3 Irrigation Schedule'!$C$29-'3 Irrigation Schedule'!$C$31)/100)*1000*N129)","v":""},"",{"$f":"IF(H129=\"\",\"\",IF(H129=1,O129*(1-'3 Irrigation Schedule'!$C$27),T128-V128))","v":""},"","","",{"$f":"IF(H129=\"\",\"\",IF('3 Irrigation Schedule'!$P$19<P129,'3 Irrigation Schedule'!$P$19,P129))","v":""},"",{"$f":"IF(H129=\"\",\"\",V129/'3 Irrigation Schedule'!$M$19)","v":""}]
[null,null,null,"2020","June","2020-06-05",null,"","",5.2668000000000008,0.42866666666666664,"",0,"",{"$f":"IF(OR('3 Irrigation Schedule'!$C$29=\"\",'3 Irrigation Schedule'!$C$31=\"\",H130=\"\"),\"\",(('3 Irrigation Schedule'!$C$29-'3 Irrigation Schedule'!$C$31)/100)*1000*N130)","v":""},"",{"$f":"IF(H130=\"\",\"\",IF(H130=1,O130*(1-'3 Irrigation Schedule'!$C$27),T129-V129))","v":""},"","","",{"$f":"IF(H130=\"\",\"\",IF('3 Irrigation Schedule'!$P$19<P130,'3 Irrigation Schedule'!$P$19,P130))","v":""},"",{"$f":"IF(H130=\"\",\"\",V130/'3 Irrigation Schedule'!$M$19)","v":""}]
[null,null,null,"2020","June","2020-06-06",null,"","",5.2668000000000008,0.42866666666666664,"",0,"",{"$f":"IF(OR('3 Irrigation Schedule'!$C$29=\"\",'3 Irrigation Schedule'!$C$31=\"\",H131=\"\"),\"\",(('3 Irrigation Schedule'!$C$29-'3 Irrigation Schedule'!$C$31)/100)*1000*N131)","v":""},"",{"$f":"IF(H131=\"\",\"\",IF(H131=1,O131*(1-'3 Irrigation Schedule'!$C$27),T130-V130))","v":""},"","","",{"$f":"IF(H131=\"\",\"\",IF('3 Irrigation Schedule'!$P$19<P131,'3 Irrigation Schedule'!$P$19,P131))","v":""},"",{"$f":"IF(H131=\"\",\"\",V131/'3 Irrigation Schedule'!$M$19)","v":""}]
[null,null,null,"2020","June","2020-06-07",null,"","",5.2668000000000008,0.42866666666666664,"",0,"",{"$f":"IF(OR('3 Irrigation Schedule'!$C$29=\"\",'3 Irrigation Schedule'!$C$31=\"\",H132=\"\"),\"\",(('3 Irrigation Schedule'!$C$29-'3 Irrigation Schedule'!$C$31)/100)*1000*N132)","v":""},"",{"$f":"IF(H132=\"\",\"\",IF(H132=1,O132*(1-'3 Irrigation Schedule'!$C$27),T131-V131))","v":""},"","","",{"$f":"IF(H132=\"\",\"\",IF('3 Irrigation Schedule'!$P$19<P132,'3 Irrigation Schedule'!$P$19,P132))","v":""},"",{"$f":"IF(H132=\"\",\"\",V132/'3 Irrigation Schedule'!$M$19)","v":""}]
[null,null,null,"2020","June","2020-06-08",null,"","",5.2668000000000008,0.42866666666666664,"",0,"",{"$f":"IF(OR('3 Irrigation Schedule'!$C$29=\"\",'3 Irrigation Schedule'!$C$31=\"\",H133=\"\"),\"\",(('3 Irrigation Schedule'!$C$29-'3 Irrigation Schedule'!$C$31)/100)*1000*N133)","v":""},"",{"$f":"IF(H133=\"\",\"\",IF(H133=1,O133*(1-'3 Irrigation Schedule'!$C$27),T132-V132))","v":""},"","","",{"$f":"IF(H133=\"\",\"\",IF('3 Irrigation Schedule'!$P$19<P133,'3 Irrigation Schedule'!$P$19,P133))","v":""},"",{"$f":"IF(H133=\"\",\"\",V133/'3 Irrigation Schedule'!$M$19)","v":""}]
[null,null,null,"2020","June","2020-06-09",null,"","",5.2668000000000008,0.42866666666666664,"",0,"",{"$f":"IF(OR('3 Irrigation Schedule'!$C$29=\"\",'3 Irrigation Schedule'!$C$31=\"\",H134=\"\"),\"\",(('3 Irrigation Schedule'!$C$29-'3 Irrigation Schedule'!$C$31)/100)*1000*N134)","v":""},"",{"$f":"IF(H134=\"\",\"\",IF(H134=1,O134*(1-'3 Irrigation Schedule'!$C$27),T133-V133))","v":""},"","","",{"$f":"IF(H134=\"\",\"\",IF('3 Irrigation Schedule'!$P$19<P134,'3 Irrigation Schedule'!$P$19,P134))","v":""},"",{"$f":"IF(H134=\"\",\"\",V134/'3 Irrigation Schedule'!$M$19)","v":""}]
[null,null,null,"2020","June","2020-06-10",null,"","",5.2668000000000008,0.42866666666666664,"",0,"",{"$f":"IF(OR('3 Irrigation Schedule'!$C$29=\"\",'3 Irrigation Schedule'!$C$31=\"\",H135=\"\"),\"\",(('3 Irrigation Schedule'!$C$29-'3 Irrigation Schedule'!$C$31)/100)*1000*N135)","v":""},"",{"$f":"IF(H135=\"\",\"\",IF(H135=1,O135*(1-'3 Irrigation Schedule'!$C$27),T134-V134))","v":""},"","","",{"$f":"IF(H135=\"\",\"\",IF('3 Irrigation Schedule'!$P$19<P135,'3 Irrigation Schedule'!$P$19,P135))","v":""},"",{"$f":"IF(H135=\"\",\"\",V135/'3 Irrigation Schedule'!$M$19)","v":""}]
[null,null,null,"2020","June","2020-06-11",null,"","",5.2668000000000008,0.42866666666666664,"",0,"",{"$f":"IF(OR('3 Irrigation Schedule'!$C$29=\"\",'3 Irrigation Schedule'!$C$31=\"\",H136=\"\"),\"\",(('3 Irrigation Schedule'!$C$29-'3 Irrigation Schedule'!$C$31)/100)*1000*N136)","v":""},"",{"$f":"IF(H136=\"\",\"\",IF(H136=1,O136*(1-'3 Irrigation Schedule'!$C$27),T135-V135))","v":""},"","","",{"$f":"IF(H136=\"\",\"\",IF('3 Irrigation Schedule'!$P$19<P136,'3 Irrigation Schedule'!$P$19,P136))","v":""},"",{"$f":"IF(H136=\"\",\"\",V136/'3 Irrigation Schedule'!$M$19)","v":""}]
[null,null,null,"2020","June","2020-06-12",null,"","",5.2668000000000008,0.42866666666666664,"",0,"",{"$f":"IF(OR('3 Irrigation Schedule'!$C$29=\"\",'3 Irrigation Schedule'!$C$31=\"\",H137=\"\"),\"\",(('3 Irrigation Schedule'!$C$29-'3 Irrigation Schedule'!$C$31)/100)*1000*N137)","v":""},"",{"$f":"IF(H137=\"\",\"\",IF(H137=1,O137*(1-'3 Irrigation Schedule'!$C$27),T136-V136))","v":""},"","","",{"$f":"IF(H137=\"\",\"\",IF('3 Irrigation Schedule'!$P$19<P137,'3 Irrigation Schedule'!$P$19,P137))","v":""},"",{"$f":"IF(H137=\"\",\"\",V137/'3 Irrigation Schedule'!$M$19)","v":""}]
[null,null,null,"2020","June","2020-06-13",null,"","",5.2668000000000008,0.42866666666666664,"",0,"",{"$f":"IF(OR('3 Irrigation Schedule'!$C$29=\"\",'3 Irrigation Schedule'!$C$31=\"\",H138=\"\"),\"\",(('3 Irrigation Schedule'!$C$29-'3 Irrigation Schedule'!$C$31)/100)*1000*N138)","v":""},"",{"$f":"IF(H138=\"\",\"\",IF(H138=1,O138*(1-'3 Irrigation Schedule'!$C$27),T137-V137))","v":""},"","","",{"$f":"IF(H138=\"\",\"\",IF('3 Irrigation Schedule'!$P$19<P138,'3 Irrigation Schedule'!$P$19,P138))","v":""},"",{"$f":"IF(H138=\"\",\"\",V138/'3 Irrigation Schedule'!$M$19)","v":""}]
[null,null,null,"2020","June","2020-06-14",null,"","",5.2668000000000008,0.42866666666666664,"",0,"",{"$f":"IF(OR('3 Irrigation Schedule'!$C$29=\"\",'3 Irrigation Schedule'!$C$31=\"\",H139=\"\"),\"\",(('3 Irrigation Schedule'!$C$29-'3 Irrigation Schedule'!$C$31)/100)*1000*N139)","v":""},"",{"$f":"IF(H139=\"\",\"\",IF(H139=1,O139*(1-'3 Irrigation Schedule'!$C$27),T138-V138))","v":""},"","","",{"$f":"IF(H139=\"\",\"\",IF('3 Irrigation Schedule'!$P$19<P139,'3 Irrigation Schedule'!$P$19,P139))","v":""},"",{"$f":"IF(H139=\"\",\"\",V139/'3 Irrigation Schedule'!$M$19)","v":""}]
[null,null,null,"2020","June","2020-06-15",null,"","",5.2668000000000008,0.42866666666666664,"",0,"",{"$f":"IF(OR('3 Irrigation Schedule'!$C$29=\"\",'3 Irrigation Schedule'!$C$31=\"\",H140=\"\"),\"\",(('3 Irrigation Schedule'!$C$29-'3 Irrigation Schedule'!$C$31)/100)*1000*N140)","v":""},"",{"$f":"IF(H140=\"\",\"\",IF(H140=1,O140*(1-'3 Irrigation Schedule'!$C$27),T139-V139))","v":""},"","","",{"$f":"IF(H140=\"\",\"\",IF('3 Irrigation Schedule'!$P$19<P140,'3 Irrigation Schedule'!$P$19,P140))","v":""},"",{"$f":"IF(H140=\"\",\"\",V140/'3 Irrigation Schedule'!$M$19)","v":""}]
[null,null,null,"2020","June","2020-06-16",null,"","",5.2668000000000008,0.42866666666666664,"",0,"",{"$f":"IF(OR('3 Irrigation Schedule'!$C$29=\"\",'3 Irrigation Schedule'!$C$31=\"\",H141=\"\"),\"\",(('3 Irrigation Schedule'!$C$29-'3 Irrigation Schedule'!$C$31)/100)*1000*N141)","v":""},"",{"$f":"IF(H141=\"\",\"\",IF(H141=1,O141*(1-'3 Irrigation Schedule'!$C$27),T140-V140))","v":""},"","","",{"$f":"IF(H141=\"\",\"\",IF('3 Irrigation Schedule'!$P$19<P141,'3 Irrigation Schedule'!$P$19,P141))","v":""},"",{"$f":"IF(H141=\"\",\"\",V141/'3 Irrigation Schedule'!$M$19)","v":""}]
[null,null,null,"2020","June","2020-06-17",null,"","",5.2668000000000008,0.42866666666666664,"",0,"",{"$f":"IF(OR('3 Irrigation Schedule'!$C$29=\"\",'3 Irrigation Schedule'!$C$31=\"\",H142=\"\"),\"\",(('3 Irrigation Schedule'!$C$29-'3 Irrigation Schedule'!$C$31)/100)*1000*N142)","v":""},"",{"$f":"IF(H142=\"\",\"\",IF(H142=1,O142*(1-'3 Irrigation Schedule'!$C$27),T141-V141))","v":""},"","","",{"$f":"IF(H142=\"\",\"\",IF('3 Irrigation Schedule'!$P$19<P142,'3 Irrigation Schedule'!$P$19,P142))","v":""},"",{"$f":"IF(H142=\"\",\"\",V142/'3 Irrigation Schedule'!$M$19)","v":""}]
[null,null,null,"2020","June","2020-06-18",null,"","",5.2668000000000008,0.42866666666666664,"",0,"",{"$f":"IF(OR('3 Irrigation Schedule'!$C$29=\"\",'3 Irrigation Schedule'!$C$31=\"\",H143=\"\"),\"\",(('3 Irrigation Schedule'!$C$29-'3 Irrigation Schedule'!$C$31)/100)*1000*N143)","v":""},"",{"$f":"IF(H143=\"\",\"\",IF(H143=1,O143*(1-'3 Irrigation Schedule'!$C$27),T142-V142))","v":""},"","","",{"$f":"IF(H143=\"\",\"\",IF('3 Irrigation Schedule'!$P$19<P143,'3 Irrigation Schedule'!$P$19,P143))","v":""},"",{"$f":"IF(H143=\"\",\"\",V143/'3 Irrigation Schedule'!$M$19)","v":""}]
[null,null,null,"2020","June","2020-06-19",null,"","",5.2668000000000008,0.42866666666666664,"",0,"",{"$f":"IF(OR('3 Irrigation Schedule'!$C$29=\"\",'3 Irrigation Schedule'!$C$31=\"\",H144=\"\"),\"\",(('3 Irrigation Schedule'!$C$29-'3 Irrigation Schedule'!$C$31)/100)*1000*N144)","v":""},"",{"$f":"IF(H144=\"\",\"\",IF(H144=1,O144*(1-'3 Irrigation Schedule'!$C$27),T143-V143))","v":""},"","","",{"$f":"IF(H144=\"\",\"\",IF('3 Irrigation Schedule'!$P$19<P144,'3 Irrigation Schedule'!$P$19,P144))","v":""},"",{"$f":"IF(H144=\"\",\"\",V144/'3 Irrigation Schedule'!$M$19)","v":""}]
[null,null,null,"2020","June","2020-06-20",null,"","",5.2668000000000008,0.42866666666666664,"",0,"",{"$f":"IF(OR('3 Irrigation Schedule'!$C$29=\"\",'3 Irrigation Schedule'!$C$31=\"\",H145=\"\"),\"\",(('3 Irrigation Schedule'!$C$29-'3 Irrigation Schedule'!$C$31)/100)*1000*N145)","v":""},"",{"$f":"IF(H145=\"\",\"\",IF(H145=1,O145*(1-'3 Irrigation Schedule'!$C$27),T144-V144))","v":""},"","","",{"$f":"IF(H145=\"\",\"\",IF('3 Irrigation Schedule'!$P$19<P145,'3 Irrigation Schedule'!$P$19,P145))","v":""},"",{"$f":"IF(H145=\"\",\"\",V145/'3 Irrigation Schedule'!$M$19)","v":""}]
[null,null,null,"2020","June","2020-06-21",null,"","",5.2668000000000008,0.42866666666666664,"",0,"",{"$f":"IF(OR('3 Irrigation Schedule'!$C$29=\"\",'3 Irrigation Schedule'!$C$31=\"\",H146=\"\"),\"\",(('3 Irrigation Schedule'!$C$29-'3 Irrigation Schedule'!$C$31)/100)*1000*N146)","v":""},"",{"$f":"IF(H146=\"\",\"\",IF(H146=1,O146*(1-'3 Irrigation Schedule'!$C$27),T145-V145))","v":""},"","","",{"$f":"IF(H146=\"\",\"\",IF('3 Irrigation Schedule'!$P$19<P146,'3 Irrigation Schedule'!$P$19,P146))","v":""},"",{"$f":"IF(H146=\"\",\"\",V146/'3 Irrigation Schedule'!$M$19)","v":""}]
[null,null,null,"2020","June","2020-06-22",null,"","",5.2668000000000008,0.42866666666666664,"",0,"",{"$f":"IF(OR('3 Irrigation Schedule'!$C$29=\"\",'3 Irrigation Schedule'!$C$31=\"\",H147=\"\"),\"\",(('3 Irrigation Schedule'!$C$29-'3 Irrigation Schedule'!$C$31)/100)*1000*N147)","v":""},"",{"$f":"IF(H147=\"\",\"\",IF(H147=1,O147*(1-'3 Irrigation Schedule'!$C$27),T146-V146))","v":""},"","","",{"$f":"IF(H147=\"\",\"\",IF('3 Irrigation Schedule'!$P$19<P147,'3 Irrigation Schedule'!$P$19,P147))","v":""},"",{"$f":"IF(H147=\"\",\"\",V147/'3 Irrigation Schedule'!$M$19)","v":""}]
[null,null,null,"2020","June","2020-06-23",null,"","",5.2668000000000008,0.42866666666666664,"",0,"",{"$f":"IF(OR('3 Irrigation Schedule'!$C$29=\"\",'3 Irrigation Schedule'!$C$31=\"\",H148=\"\"),\"\",(('3 Irrigation Schedule'!$C$29-'3 Irrigation Schedule'!$C$31)/100)*1000*N148)","v":""},"",{"$f":"IF(H148=\"\",\"\",IF(H148=1,O148*(1-'3 Irrigation Schedule'!$C$27),T147-V147))","v":""},"","","",{"$f":"IF(H148=\"\",\"\",IF('3 Irrigation Schedule'!$P$19<P148,'3 Irrigation Schedule'!$P$19,P148))","v":""},"",{"$f":"IF(H148=\"\",\"\",V148/'3 Irrigation Schedule'!$M$19)","v":""}]
[null,null,null,"2020","June","2020-06-24",null,"","",5.2668000000000008,0.42866666666666664,"",0,"",{"$f":"IF(OR('3 Irrigation Schedule'!$C$29=\"\",'3 Irrigation Schedule'!$C$31=\"\",H149=\"\"),\"\",(('3 Irrigation Schedule'!$C$29-'3 Irrigation Schedule'!$C$31)/100)*1000*N149)","v":""},"",{"$f":"IF(H149=\"\",\"\",IF(H149=1,O149*(1-'3 Irrigation Schedule'!$C$27),T148-V148))","v":""},"","","",{"$f":"IF(H149=\"\",\"\",IF('3 Irrigation Schedule'!$P$19<P149,'3 Irrigation Schedule'!$P$19,P149))","v":""},"",{"$f":"IF(H149=\"\",\"\",V149/'3 Irrigation Schedule'!$M$19)","v":""}]
[null,null,null,"2020","June","2020-06-25",null,"","",5.2668000000000008,0.42866666666666664,"",0,"",{"$f":"IF(OR('3 Irrigation Schedule'!$C$29=\"\",'3 Irrigation Schedule'!$C$31=\"\",H150=\"\"),\"\",(('3 Irrigation Schedule'!$C$29-'3 Irrigation Schedule'!$C$31)/100)*1000*N150)","v":""},"",{"$f":"IF(H150=\"\",\"\",IF(H150=1,O150*(1-'3 Irrigation Schedule'!$C$27),T149-V149))","v":""},"","","",{"$f":"IF(H150=\"\",\"\",IF('3 Irrigation Schedule'!$P$19<P150,'3 Irrigation Schedule'!$P$19,P150))","v":""},"",{"$f":"IF(H150=\"\",\"\",V150/'3 Irrigation Schedule'!$M$19)","v":""}]
[null,null,null,"2020","June","2020-06-26",null,"","",5.2668000000000008,0.42866666666666664,"",0,"",{"$f":"IF(OR('3 Irrigation Schedule'!$C$29=\"\",'3 Irrigation Schedule'!$C$31=\"\",H151=\"\"),\"\",(('3 Irrigation Schedule'!$C$29-'3 Irrigation Schedule'!$C$31)/100)*1000*N151)","v":""},"",{"$f":"IF(H151=\"\",\"\",IF(H151=1,O151*(1-'3 Irrigation Schedule'!$C$27),T150-V150))","v":""},"","","",{"$f":"IF(H151=\"\",\"\",IF('3 Irrigation Schedule'!$P$19<P151,'3 Irrigation Schedule'!$P$19,P151))","v":""},"",{"$f":"IF(H151=\"\",\"\",V151/'3 Irrigation Schedule'!$M$19)","v":""}]
[null,null,null,"2020","June","2020-06-27",null,"","",5.2668000000000008,0.42866666666666664,"",0,"",{"$f":"IF(OR('3 Irrigation Schedule'!$C$29=\"\",'3 Irrigation Schedule'!$C$31=\"\",H152=\"\"),\"\",(('3 Irrigation Schedule'!$C$29-'3 Irrigation Schedule'!$C$31)/100)*1000*N152)","v":""},"",{"$f":"IF(H152=\"\",\"\",IF(H152=1,O152*(1-'3 Irrigation Schedule'!$C$27),T151-V151))","v":""},"","","",{"$f":"IF(H152=\"\",\"\",IF('3 Irrigation Schedule'!$P$19<P152,'3 Irrigation Schedule'!$P$19,P152))","v":""},"",{"$f":"IF(H152=\"\",\"\",V152/'3 Irrigation Schedule'!$M$19)","v":""}]
[null,null,null,"2020","June","2020-06-28",null,"","",5.2668000000000008,0.42866666666666664,"",0,"",{"$f":"IF(OR('3 Irrigation Schedule'!$C$29=\"\",'3 Irrigation Schedule'!$C$31=\"\",H153=\"\"),\"\",(('3 Irrigation Schedule'!$C$29-'3 Irrigation Schedule'!$C$31)/100)*1000*N153)","v":""},"",{"$f":"IF(H153=\"\",\"\",IF(H153=1,O153*(1-'3 Irrigation Schedule'!$C$27),T152-V152))","v":""},"","","",{"$f":"IF(H153=\"\",\"\",IF('3 Irrigation Schedule'!$P$19<P153,'3 Irrigation Schedule'!$P$19,P153))","v":""},"",{"$f":"IF(H153=\"\",\"\",V153/'3 Irrigation Schedule'!$M$19)","v":""}]
[null,null,null,"2020","June","2020-06-29",null,"","",5.2668000000000008,0.42866666666666664,"",0,"",{"$f":"IF(OR('3 Irrigation Schedule'!$C$29=\"\",'3 Irrigation Schedule'!$C$31=\"\",H154=\"\"),\"\",(('3 Irrigation Schedule'!$C$29-'3 Irrigation Schedule'!$C$31)/100)*1000*N154)","v":""},"",{"$f":"IF(H154=\"\",\"\",IF(H154=1,O154*(1-'3 Irrigation Schedule'!$C$27),T153-V153))","v":""},"","","",{"$f":"IF(H154=\"\",\"\",IF('3 Irrigation Schedule'!$P$19<P154,'3 Irrigation Schedule'!$P$19,P154))","v":""},"",{"$f":"IF(H154=\"\",\"\",V154/'3 Irrigation Schedule'!$M$19)","v":""}]
[null,null,null,"2020","June","2020-06-30",null,"","",5.2668000000000008,0.42866666666666664,"",0,"",{"$f":"IF(OR('3 Irrigation Schedule'!$C$29=\"\",'3 Irrigation Schedule'!$C$31=\"\",H155=\"\"),\"\",(('3 Irrigation Schedule'!$C$29-'3 Irrigation Schedule'!$C$31)/100)*1000*N155)","v":""},"",{"$f":"IF(H155=\"\",\"\",IF(H155=1,O155*(1-'3 Irrigation Schedule'!$C$27),T154-V154))","v":""},"","","",{"$f":"IF(H155=\"\",\"\",IF('3 Irrigation Schedule'!$P$19<P155,'3 Irrigation Schedule'!$P$19,P155))","v":""},"",{"$f":"IF(H155=\"\",\"\",V155/'3 Irrigation Schedule'!$M$19)","v":""}]
[null,null,null,"2020","July","2020-07-01",null,"","",5.2023999999999999,0.19999999999999998,"",0,"",{"$f":"IF(OR('3 Irrigation Schedule'!$C$29=\"\",'3 Irrigation Schedule'!$C$31=\"\",H156=\"\"),\"\",(('3 Irrigation Schedule'!$C$29-'3 Irrigation Schedule'!$C$31)/100)*1000*N156)","v":""},"",{"$f":"IF(H156=\"\",\"\",IF(H156=1,O156*(1-'3 Irrigation Schedule'!$C$27),T155-V155))","v":""},"","","",{"$f":"IF(H156=\"\",\"\",IF('3 Irrigation Schedule'!$P$19<P156,'3 Irrigation Schedule'!$P$19,P156))","v":""},"",{"$f":"IF(H156=\"\",\"\",V156/'3 Irrigation Schedule'!$M$19)","v":""}]
[null,null,null,"2020","July","2020-07-02",null,"","",5.2023999999999999,0.19999999999999998,"",0,"",{"$f":"IF(OR('3 Irrigation Schedule'!$C$29=\"\",'3 Irrigation Schedule'!$C$31=\"\",H157=\"\"),\"\",(('3 Irrigation Schedule'!$C$29-'3 Irrigation Schedule'!$C$31)/100)*1000*N157)","v":""},"",{"$f":"IF(H157=\"\",\"\",IF(H157=1,O157*(1-'3 Irrigation Schedule'!$C$27),T156-V156))","v":""},"","","",{"$f":"IF(H157=\"\",\"\",IF('3 Irrigation Schedule'!$P$19<P157,'3 Irrigation Schedule'!$P$19,P157))","v":""},"",{"$f":"IF(H157=\"\",\"\",V157/'3 Irrigation Schedule'!$M$19)","v":""}]
[null,null,null,"2020","July","2020-07-03",null,"","",5.2023999999999999,0.19999999999999998,"",0,"",{"$f":"IF(OR('3 Irrigation Schedule'!$C$29=\"\",'3 Irrigation Schedule'!$C$31=\"\",H158=\"\"),\"\",(('3 Irrigation Schedule'!$C$29-'3 Irrigation Schedule'!$C$31)/100)*1000*N158)","v":""},"",{"$f":"IF(H158=\"\",\"\",IF(H158=1,O158*(1-'3 Irrigation Schedule'!$C$27),T157-V157))","v":""},"","","",{"$f":"IF(H158=\"\",\"\",IF('3 Irrigation Schedule'!$P$19<P158,'3 Irrigation Schedule'!$P$19,P158))","v":""},"",{"$f":"IF(H158=\"\",\"\",V158/'3 Irrigation Schedule'!$M$19)","v":""}]
[null,null,null,"2020","July","2020-07-04",null,"","",5.2023999999999999,0.19999999999999998,"",0,"",{"$f":"IF(OR('3 Irrigation Schedule'!$C$29=\"\",'3 Irrigation Schedule'!$C$31=\"\",H159=\"\"),\"\",(('3 Irrigation Schedule'!$C$29-'3 Irrigation Schedule'!$C$31)/100)*1000*N159)","v":""},"",{"$f":"IF(H159=\"\",\"\",IF(H159=1,O159*(1-'3 Irrigation Schedule'!$C$27),T158-V158))","v":""},"","","",{"$f":"IF(H159=\"\",\"\",IF('3 Irrigation Schedule'!$P$19<P159,'3 Irrigation Schedule'!$P$19,P159))","v":""},"",{"$f":"IF(H159=\"\",\"\",V159/'3 Irrigation Schedule'!$M$19)","v":""}]
[null,null,null,"2020","July","2020-07-05",null,"","",5.2023999999999999,0.19999999999999998,"",0,"",{"$f":"IF(OR('3 Irrigation Schedule'!$C$29=\"\",'3 Irrigation Schedule'!$C$31=\"\",H160=\"\"),\"\",(('3 Irrigation Schedule'!$C$29-'3 Irrigation Schedule'!$C$31)/100)*1000*N160)","v":""},"",{"$f":"IF(H160=\"\",\"\",IF(H160=1,O160*(1-'3 Irrigation Schedule'!$C$27),T159-V159))","v":""},"","","",{"$f":"IF(H160=\"\",\"\",IF('3 Irrigation Schedule'!$P$19<P160,'3 Irrigation Schedule'!$P$19,P160))","v":""},"",{"$f":"IF(H160=\"\",\"\",V160/'3 Irrigation Schedule'!$M$19)","v":""}]
[null,null,null,"2020","July","2020-07-06",null,"","",5.2023999999999999,0.19999999999999998,"",0,"",{"$f":"IF(OR('3 Irrigation Schedule'!$C$29=\"\",'3 Irrigation Schedule'!$C$31=\"\",H161=\"\"),\"\",(('3 Irrigation Schedule'!$C$29-'3 Irrigation Schedule'!$C$31)/100)*1000*N161)","v":""},"",{"$f":"IF(H161=\"\",\"\",IF(H161=1,O161*(1-'3 Irrigation Schedule'!$C$27),T160-V160))","v":""},"","","",{"$f":"IF(H161=\"\",\"\",IF('3 Irrigation Schedule'!$P$19<P161,'3 Irrigation Schedule'!$P$19,P161))","v":""},"",{"$f":"IF(H161=\"\",\"\",V161/'3 Irrigation Schedule'!$M$19)","v":""}]
[null,null,null,{"$f":"IFERROR(TEXT(DATE(YEAR($F162),MONTH($F162),1),$D$7&$D$4),\"\")","v":"2020"},{"$f":"IFERROR(TEXT(DATE(YEAR($F162),MONTH($F162),1),$D$7&$D$5),\"\")","v":"July"},"2020-07-07",null,"",{"$f":"IF(H162=\"\",\"\",IF(H162<=$I$27,\"Initial\",IF(AND(H162>$I$27,H162<=$I$28),\"Development\",IF(AND(H162>$I$28,H162<=$I$29),\"Mid Season\",\"Late Season\"))))","v":""},{"$f":"IFERROR(VLOOKUP($E162,$B$19:$C$30,2,FALSE),\"\")","v":5.2023999999999999},0.19999999999999998,{"$f":"IF(H162=\"\",\"\",IF(H162<=$I$27,$L$27,IF(AND(H162>$I$27,H162<=$I$28),$L$27+((H162-$I$27)/$H$28)*($L$29-$L$27),IF(AND(H162>$I$28,H162<=$I$29),$L$29,$L$29+((H162-$I$29)/$H$30)*($L$30-$L$29)))))","v":""},{"$f":"IFERROR((J162*L162),0)","v":0},{"$f":"IF(H162=\"\",\"\",IF(OR(H162=1,H162<$I$28),$M$27+(($M$28-$M$27)*((H162-1)/($I$28-1))),$M$28))","v":""},{"$f":"IF(OR('3 Irrigation Schedule'!$C$29=\"\",'3 Irrigation Schedule'!$C$31=\"\",H162=\"\"),\"\",(('3 Irrigation Schedule'!$C$29-'3 Irrigation Schedule'!$C$31)/100)*1000*N162)","v":""},{"$f":"IF(H162=\"\",\"\",O162*$N$27)","v":""},{"$f":"IF(H162=\"\",\"\",IF(H162=1,O162*(1-'3 Irrigation Schedule'!$C$27),T161-V161))","v":""},{"$f":"IF(H162=\"\",\"\",IF(Q162>P162,(O162-Q162)/(O162-P162),1))","v":""},{"$f":"IF(H162=\"\",\"\",M162*R162)","v":""},{"$f":"IF(H162=\"\",\"\",IF(Q162+S162-K162<0,0,Q162+S162-K162))","v":""},{"$f":"IF(H162=\"\",\"\",IF('3 Irrigation Schedule'!$P$19<P162,'3 Irrigation Schedule'!$P$19,P162))","v":""},{"$f":"IF(H162=\"\",\"\",IF(U162<=T162,U162,0))","v":""},{"$f":"IF(H162=\"\",\"\",V162/'3 Irrigation Schedule'!$M$19)","v":""}]
[null,null,null,"2020","July",{"$f":"IFERROR(IF(F162+1<=$N$7, F162+1,\"\"),\"\")","v":"2020-07-08"},null,{"$f":"IFERROR(IF(OR($F163-$J$27+1<=0,$F163>$K$30),\"\",$F163-$J$27+1),\"\")","v":""},"",5.2023999999999999,{"$f":"IFERROR(VLOOKUP($E163,$B$19:$D$30,3,FALSE),\"\")","v":0.19999999999999998},"",0,"",{"$f":"IF(OR('3 Irrigation Schedule'!$C$29=\"\",'3 Irrigation Schedule'!$C$31=\"\",H163=\"\"),\"\",(('3 Irrigation Schedule'!$C$29-'3 Irrigation Schedule'!$C$31)/100)*1000*N163)","v":""},"",{"$f":"IF(H163=\"\",\"\",IF(H163=1,O163*(1-'3 Irrigation Schedule'!$C$27),T162-V162))","v":""},"","","",{"$f":"IF(H163=\"\",\"\",IF('3 Irrigation Schedule'!$P$19<P163,'3 Irrigation Schedule'!$P$19,P163))","v":""},"",{"$f":"IF(H163=\"\",\"\",V163/'3 Irrigation Schedule'!$M$19)","v":""}]
[null,null,null,"2020","July","2020-07-09",null,"","",5.2023999999999999,0.19999999999999998,"",0,"",{"$f":"IF(OR('3 Irrigation Schedule'!$C$29=\"\",'3 Irrigation Schedule'!$C$31=\"\",H164=\"\"),\"\",(('3 Irrigation Schedule'!$C$29-'3 Irrigation Schedule'!$C$31)/100)*1000*N164)","v":""},"",{"$f":"IF(H164=\"\",\"\",IF(H164=1,O164*(1-'3 Irrigation Schedule'!$C$27),T163-V163))","v":""},"","","",{"$f":"IF(H164=\"\",\"\",IF('3 Irrigation Schedule'!$P$19<P164,'3 Irrigation Schedule'!$P$19,P164))","v":""},"",{"$f":"IF(H164=\"\",\"\",V164/'3 Irrigation Schedule'!$M$19)","v":""}]
[null,null,null,"2020","July","2020-07-10",null,"","",5.2023999999999999,0.19999999999999998,"",0,"",{"$f":"IF(OR('3 Irrigation Schedule'!$C$29=\"\",'3 Irrigation Schedule'!$C$31=\"\",H165=\"\"),\"\",(('3 Irrigation Schedule'!$C$29-'3 Irrigation Schedule'!$C$31)/100)*1000*N165)","v":""},"",{"$f":"IF(H165=\"\",\"\",IF(H165=1,O165*(1-'3 Irrigation Schedule'!$C$27),T164-V164))","v":""},"","","",{"$f":"IF(H165=\"\",\"\",IF('3 Irrigation Schedule'!$P$19<P165,'3 Irrigation Schedule'!$P$19,P165))","v":""},"",{"$f":"IF(H165=\"\",\"\",V165/'3 Irrigation Schedule'!$M$19)","v":""}]
[null,null,null,"2020","July","2020-07-11",null,"","",5.2023999999999999,0.19999999999999998,"",0,"",{"$f":"IF(OR('3 Irrigation Schedule'!$C$29=\"\",'3 Irrigation Schedule'!$C$31=\"\",H166=\"\"),\"\",(('3 Irrigation Schedule'!$C$29-'3 Irrigation Schedule'!$C$31)/100)*1000*N166)","v":""},"",{"$f":"IF(H166=\"\",\"\",IF(H166=1,O166*(1-'3 Irrigation Schedule'!$C$27),T165-V165))","v":""},"","","",{"$f":"IF(H166=\"\",\"\",IF('3 Irrigation Schedule'!$P$19<P166,'3 Irrigation Schedule'!$P$19,P166))","v":""},"",{"$f":"IF(H166=\"\",\"\",V166/'3 Irrigation Schedule'!$M$19)","v":""}]
[null,null,null,"2020","July","2020-07-12",null,"","",5.2023999999999999,0.19999999999999998,"",0,"",{"$f":"IF(OR('3 Irrigation Schedule'!$C$29=\"\",'3 Irrigation Schedule'!$C$31=\"\",H167=\"\"),\"\",(('3 Irrigation Schedule'!$C$29-'3 Irrigation Schedule'!$C$31)/100)*1000*N167)","v":""},"",{"$f":"IF(H167=\"\",\"\",IF(H167=1,O167*(1-'3 Irrigation Schedule'!$C$27),T166-V166))","v":""},"","","",{"$f":"IF(H167=\"\",\"\",IF('3 Irrigation Schedule'!$P$19<P167,'3 Irrigation Schedule'!$P$19,P167))","v":""},"",{"$f":"IF(H167=\"\",\"\",V167/'3 Irrigation Schedule'!$M$19)","v":""}]
[null,null,null,"2020","July","2020-07-13",null,"","",5.2023999999999999,0.19999999999999998,"",0,"",{"$f":"IF(OR('3 Irrigation Schedule'!$C$29=\"\",'3 Irrigation Schedule'!$C$31=\"\",H168=\"\"),\"\",(('3 Irrigation Schedule'!$C$29-'3 Irrigation Schedule'!$C$31)/100)*1000*N168)","v":""},"",{"$f":"IF(H168=\"\",\"\",IF(H168=1,O168*(1-'3 Irrigation Schedule'!$C$27),T167-V167))","v":""},"","","",{"$f":"IF(H168=\"\",\"\",IF('3 Irrigation Schedule'!$P$19<P168,'3 Irrigation Schedule'!$P$19,P168))","v":""},"",{"$f":"IF(H168=\"\",\"\",V168/'3 Irrigation Schedule'!$M$19)","v":""}]
[null,null,null,"2020","July","2020-07-14",null,"","",5.2023999999999999,0.19999999999999998,"",0,"",{"$f":"IF(OR('3 Irrigation Schedule'!$C$29=\"\",'3 Irrigation Schedule'!$C$31=\"\",H169=\"\"),\"\",(('3 Irrigation Schedule'!$C$29-'3 Irrigation Schedule'!$C$31)/100)*1000*N169)","v":""},"",{"$f":"IF(H169=\"\",\"\",IF(H169=1,O169*(1-'3 Irrigation Schedule'!$C$27),T168-V168))","v":""},"","","",{"$f":"IF(H169=\"\",\"\",IF('3 Irrigation Schedule'!$P$19<P169,'3 Irrigation Schedule'!$P$19,P169))","v":""},"",{"$f":"IF(H169=\"\",\"\",V169/'3 Irrigation Schedule'!$M$19)","v":""}]
[null,null,null,"2020","July","2020-07-15",null,"","",5.2023999999999999,0.19999999999999998,"",0,"",{"$f":"IF(OR('3 Irrigation Schedule'!$C$29=\"\",'3 Irrigation Schedule'!$C$31=\"\",H170=\"\"),\"\",(('3 Irrigation Schedule'!$C$29-'3 Irrigation Schedule'!$C$31)/100)*1000*N170)","v":""},"",{"$f":"IF(H170=\"\",\"\",IF(H170=1,O170*(1-'3 Irrigation Schedule'!$C$27),T169-V169))","v":""},"","","",{"$f":"IF(H170=\"\",\"\",IF('3 Irrigation Schedule'!$P$19<P170,'3 Irrigation Schedule'!$P$19,P170))","v":""},"",{"$f":"IF(H170=\"\",\"\",V170/'3 Irrigation Schedule'!$M$19)","v":""}]
[null,null,null,"2020","July","2020-07-16",null,"","",5.2023999999999999,0.19999999999999998,"",0,"",{"$f":"IF(OR('3 Irrigation Schedule'!$C$29=\"\",'3 Irrigation Schedule'!$C$31=\"\",H171=\"\"),\"\",(('3 Irrigation Schedule'!$C$29-'3 Irrigation Schedule'!$C$31)/100)*1000*N171)","v":""},"",{"$f":"IF(H171=\"\",\"\",IF(H171=1,O171*(1-'3 Irrigation Schedule'!$C$27),T170-V170))","v":""},"","","",{"$f":"IF(H171=\"\",\"\",IF('3 Irrigation Schedule'!$P$19<P171,'3 Irrigation Schedule'!$P$19,P171))","v":""},"",{"$f":"IF(H171=\"\",\"\",V171/'3 Irrigation Schedule'!$M$19)","v":""}]
[null,null,null,"2020","July","2020-07-17",null,"","",5.2023999999999999,0.19999999999999998,"",0,"",{"$f":"IF(OR('3 Irrigation Schedule'!$C$29=\"\",'3 Irrigation Schedule'!$C$31=\"\",H172=\"\"),\"\",(('3 Irrigation Schedule'!$C$29-'3 Irrigation Schedule'!$C$31)/100)*1000*N172)","v":""},"",{"$f":"IF(H172=\"\",\"\",IF(H172=1,O172*(1-'3 Irrigation Schedule'!$C$27),T171-V171))","v":""},"","","",{"$f":"IF(H172=\"\",\"\",IF('3 Irrigation Schedule'!$P$19<P172,'3 Irrigation Schedule'!$P$19,P172))","v":""},"",{"$f":"IF(H172=\"\",\"\",V172/'3 Irrigation Schedule'!$M$19)","v":""}]
[null,null,null,"2020","July","2020-07-18",null,"","",5.2023999999999999,0.19999999999999998,"",0,"",{"$f":"IF(OR('3 Irrigation Schedule'!$C$29=\"\",'3 Irrigation Schedule'!$C$31=\"\",H173=\"\"),\"\",(('3 Irrigation Schedule'!$C$29-'3 Irrigation Schedule'!$C$31)/100)*1000*N173)","v":""},"",{"$f":"IF(H173=\"\",\"\",IF(H173=1,O173*(1-'3 Irrigation Schedule'!$C$27),T172-V172))","v":""},"","","",{"$f":"IF(H173=\"\",\"\",IF('3 Irrigation Schedule'!$P$19<P173,'3 Irrigation Schedule'!$P$19,P173))","v":""},"",{"$f":"IF(H173=\"\",\"\",V173/'3 Irrigation Schedule'!$M$19)","v":""}]
[null,null,null,"2020","July","2020-07-19",null,"","",5.2023999999999999,0.19999999999999998,"",0,"",{"$f":"IF(OR('3 Irrigation Schedule'!$C$29=\"\",'3 Irrigation Schedule'!$C$31=\"\",H174=\"\"),\"\",(('3 Irrigation Schedule'!$C$29-'3 Irrigation Schedule'!$C$31)/100)*1000*N174)","v":""},"",{"$f":"IF(H174=\"\",\"\",IF(H174=1,O174*(1-'3 Irrigation Schedule'!$C$27),T173-V173))","v":""},"","","",{"$f":"IF(H174=\"\",\"\",IF('3 Irrigation Schedule'!$P$19<P174,'3 Irrigation Schedule'!$P$19,P174))","v":""},"",{"$f":"IF(H174=\"\",\"\",V174/'3 Irrigation Schedule'!$M$19)","v":""}]
[null,null,null,"2020","July","2020-07-20",null,"","",5.2023999999999999,0.19999999999999998,"",0,"",{"$f":"IF(OR('3 Irrigation Schedule'!$C$29=\"\",'3 Irrigation Schedule'!$C$31=\"\",H175=\"\"),\"\",(('3 Irrigation Schedule'!$C$29-'3 Irrigation Schedule'!$C$31)/100)*1000*N175)","v":""},"",{"$f":"IF(H175=\"\",\"\",IF(H175=1,O175*(1-'3 Irrigation Schedule'!$C$27),T174-V174))","v":""},"","","",{"$f":"IF(H175=\"\",\"\",IF('3 Irrigation Schedule'!$P$19<P175,'3 Irrigation Schedule'!$P$19,P175))","v":""},"",{"$f":"IF(H175=\"\",\"\",V175/'3 Irrigation Schedule'!$M$19)","v":""}]
[null,null,null,"2020","July","2020-07-21",null,"","",5.2023999999999999,0.19999999999999998,"",0,"",{"$f":"IF(OR('3 Irrigation Schedule'!$C$29=\"\",'3 Irrigation Schedule'!$C$31=\"\",H176=\"\"),\"\",(('3 Irrigation Schedule'!$C$29-'3 Irrigation Schedule'!$C$31)/100)*1000*N176)","v":""},"",{"$f":"IF(H176=\"\",\"\",IF(H176=1,O176*(1-'3 Irrigation Schedule'!$C$27),T175-V175))","v":""},"","","",{"$f":"IF(H176=\"\",\"\",IF('3 Irrigation Schedule'!$P$19<P176,'3 Irrigation Schedule'!$P$19,P176))","v":""},"",{"$f":"IF(H176=\"\",\"\",V176/'3 Irrigation Schedule'!$M$19)","v":""}]
[null,null,null,"2020","July","2020-07-22",null,"","",5.2023999999999999,0.19999999999999998,"",0,"",{"$f":"IF(OR('3 Irrigation Schedule'!$C$29=\"\",'3 Irrigation Schedule'!$C$31=\"\",H177=\"\"),\"\",(('3 Irrigation Schedule'!$C$29-'3 Irrigation Schedule'!$C$31)/100)*1000*N177)","v":""},"",{"$f":"IF(H177=\"\",\"\",IF(H177=1,O177*(1-'3 Irrigation Schedule'!$C$27),T176-V176))","v":""},"","","",{"$f":"IF(H177=\"\",\"\",IF('3 Irrigation Schedule'!$P$19<P177,'3 Irrigation Schedule'!$P$19,P177))","v":""},"",{"$f":"IF(H177=\"\",\"\",V177/'3 Irrigation Schedule'!$M$19)","v":""}]
[null,null,null,"2020","July","2020-07-23",null,"","",5.2023999999999999,0.19999999999999998,"",0,"",{"$f":"IF(OR('3 Irrigation Schedule'!$C$29=\"\",'3 Irrigation Schedule'!$C$31=\"\",H178=\"\"),\"\",(('3 Irrigation Schedule'!$C$29-'3 Irrigation Schedule'!$C$31)/100)*1000*N178)","v":""},"",{"$f":"IF(H178=\"\",\"\",IF(H178=1,O178*(1-'3 Irrigation Schedule'!$C$27),T177-V177))","v":""},"","","",{"$f":"IF(H178=\"\",\"\",IF('3 Irrigation Schedule'!$P$19<P178,'3 Irrigation Schedule'!$P$19,P178))","v":""},"",{"$f":"IF(H178=\"\",\"\",V178/'3 Irrigation Schedule'!$M$19)","v":""}]
[null,null,null,"2020","July","2020-07-24",null,"","",5.2023999999999999,0.19999999999999998,"",0,"",{"$f":"IF(OR('3 Irrigation Schedule'!$C$29=\"\",'3 Irrigation Schedule'!$C$31=\"\",H179=\"\"),\"\",(('3 Irrigation Schedule'!$C$29-'3 Irrigation Schedule'!$C$31)/100)*1000*N179)","v":""},"",{"$f":"IF(H179=\"\",\"\",IF(H179=1,O179*(1-'3 Irrigation Schedule'!$C$27),T178-V178))","v":""},"","","",{"$f":"IF(H179=\"\",\"\",IF('3 Irrigation Schedule'!$P$19<P179,'3 Irrigation Schedule'!$P$19,P179))","v":""},"",{"$f":"IF(H179=\"\",\"\",V179/'3 Irrigation Schedule'!$M$19)","v":""}]
[null,null,null,"2020","July","2020-07-25",null,"","",5.2023999999999999,0.19999999999999998,"",0,"",{"$f":"IF(OR('3 Irrigation Schedule'!$C$29=\"\",'3 Irrigation Schedule'!$C$31=\"\",H180=\"\"),\"\",(('3 Irrigation Schedule'!$C$29-'3 Irrigation Schedule'!$C$31)/100)*1000*N180)","v":""},"",{"$f":"IF(H180=\"\",\"\",IF(H180=1,O180*(1-'3 Irrigation Schedule'!$C$27),T179-V179))","v":""},"","","",{"$f":"IF(H180=\"\",\"\",IF('3 Irrigation Schedule'!$P$19<P180,'3 Irrigation Schedule'!$P$19,P180))","v":""},"",{"$f":"IF(H180=\"\",\"\",V180/'3 Irrigation Schedule'!$M$19)","v":""}]
[null,null,null,"2020","July","2020-07-26",null,"","",5.2023999999999999,0.19999999999999998,"",0,"",{"$f":"IF(OR('3 Irrigation Schedule'!$C$29=\"\",'3 Irrigation Schedule'!$C$31=\"\",H181=\"\"),\"\",(('3 Irrigation Schedule'!$C$29-'3 Irrigation Schedule'!$C$31)/100)*1000*N181)","v":""},"",{"$f":"IF(H181=\"\",\"\",IF(H181=1,O181*(1-'3 Irrigation Schedule'!$C$27),T180-V180))","v":""},"","","",{"$f":"IF(H181=\"\",\"\",IF('3 Irrigation Schedule'!$P$19<P181,'3 Irrigation Schedule'!$P$19,P181))","v":""},"",{"$f":"IF(H181=\"\",\"\",V181/'3 Irrigation Schedule'!$M$19)","v":""}]
[null,null,null,"2020","July","2020-07-27",null,"","",5.2023999999999999,0.19999999999999998,"",0,"",{"$f":"IF(OR('3 Irrigation Schedule'!$C$29=\"\",'3 Irrigation Schedule'!$C$31=\"\",H182=\"\"),\"\",(('3 Irrigation Schedule'!$C$29-'3 Irrigation Schedule'!$C$31)/100)*1000*N182)","v":""},"",{"$f":"IF(H182=\"\",\"\",IF(H182=1,O182*(1-'3 Irrigation Schedule'!$C$27),T181-V181))","v":""},"","","",{"$f":"IF(H182=\"\",\"\",IF('3 Irrigation Schedule'!$P$19<P182,'3 Irrigation Schedule'!$P$19,P182))","v":""},"",{"$f":"IF(H182=\"\",\"\",V182/'3 Irrigation Schedule'!$M$19)","v":""}]
[null,null,null,"2020","July","2020-07-28",null,"","",5.2023999999999999,0.19999999999999998,"",0,"",{"$f":"IF(OR('3 Irrigation Schedule'!$C$29=\"\",'3 Irrigation Schedule'!$C$31=\"\",H183=\"\"),\"\",(('3 Irrigation Schedule'!$C$29-'3 Irrigation Schedule'!$C$31)/100)*1000*N183)","v":""},"",{"$f":"IF(H183=\"\",\"\",IF(H183=1,O183*(1-'3 Irrigation Schedule'!$C$27),T182-V182))","v":""},"","","",{"$f":"IF(H183=\"\",\"\",IF('3 Irrigation Schedule'!$P$19<P183,'3 Irrigation Schedule'!$P$19,P183))","v":""},"",{"$f":"IF(H183=\"\",\"\",V183/'3 Irrigation Schedule'!$M$19)","v":""}]
[null,null,null,"2020","July","2020-07-29",null,"","",5.2023999999999999,0.19999999999999998,"",0,"",{"$f":"IF(OR('3 Irrigation Schedule'!$C$29=\"\",'3 Irrigation Schedule'!$C$31=\"\",H184=\"\"),\"\",(('3 Irrigation Schedule'!$C$29-'3 Irrigation Schedule'!$C$31)/100)*1000*N184)","v":""},"",{"$f":"IF(H184=\"\",\"\",IF(H184=1,O184*(1-'3 Irrigation Schedule'!$C$27),T183-V183))","v":""},"","","",{"$f":"IF(H184=\"\",\"\",IF('3 Irrigation Schedule'!$P$19<P184,'3 Irrigation Schedule'!$P$19,P184))","v":""},"",{"$f":"IF(H184=\"\",\"\",V184/'3 Irrigation Schedule'!$M$19)","v":""}]
[null,null,null,"2020","July","2020-07-30",null,"","",5.2023999999999999,0.19999999999999998,"",0,"",{"$f":"IF(OR('3 Irrigation Schedule'!$C$29=\"\",'3 Irrigation Schedule'!$C$31=\"\",H185=\"\"),\"\",(('3 Irrigation Schedule'!$C$29-'3 Irrigation Schedule'!$C$31)/100)*1000*N185)","v":""},"",{"$f":"IF(H185=\"\",\"\",IF(H185=1,O185*(1-'3 Irrigation Schedule'!$C$27),T184-V184))","v":""},"","","",{"$f":"IF(H185=\"\",\"\",IF('3 Irrigation Schedule'!$P$19<P185,'3 Irrigation Schedule'!$P$19,P185))","v":""},"",{"$f":"IF(H185=\"\",\"\",V185/'3 Irrigation Schedule'!$M$19)","v":""}]
[null,null,null,"2020","July","2020-07-31",null,"","",5.2023999999999999,0.19999999999999998,"",0,"",{"$f":"IF(OR('3 Irrigation Schedule'!$C$29=\"\",'3 Irrigation Schedule'!$C$31=\"\",H186=\"\"),\"\",(('3 Irrigation Schedule'!$C$29-'3 Irrigation Schedule'!$C$31)/100)*1000*N186)","v":""},"",{"$f":"IF(H186=\"\",\"\",IF(H186=1,O186*(1-'3 Irrigation Schedule'!$C$27),T185-V185))","v":""},"","","",{"$f":"IF(H186=\"\",\"\",IF('3 Irrigation Schedule'!$P$19<P186,'3 Irrigation Schedule'!$P$19,P186))","v":""},"",{"$f":"IF(H186=\"\",\"\",V186/'3 Irrigation Schedule'!$M$19)","v":""}]
[null,null,null,"2020","August","2020-08-01",null,"","",5.2023999999999999,9.5483870967741968E-2,"",0,"",{"$f":"IF(OR('3 Irrigation Schedule'!$C$29=\"\",'3 Irrigation Schedule'!$C$31=\"\",H187=\"\"),\"\",(('3 Irrigation Schedule'!$C$29-'3 Irrigation Schedule'!$C$31)/100)*1000*N187)","v":""},"",{"$f":"IF(H187=\"\",\"\",IF(H187=1,O187*(1-'3 Irrigation Schedule'!$C$27),T186-V186))","v":""},"","","",{"$f":"IF(H187=\"\",\"\",IF('3 Irrigation Schedule'!$P$19<P187,'3 Irrigation Schedule'!$P$19,P187))","v":""},"",{"$f":"IF(H187=\"\",\"\",V187/'3 Irrigation Schedule'!$M$19)","v":""}]
[null,null,null,"2020","August","2020-08-02",null,"","",5.2023999999999999,9.5483870967741968E-2,"",0,"",{"$f":"IF(OR('3 Irrigation Schedule'!$C$29=\"\",'3 Irrigation Schedule'!$C$31=\"\",H188=\"\"),\"\",(('3 Irrigation Schedule'!$C$29-'3 Irrigation Schedule'!$C$31)/100)*1000*N188)","v":""},"",{"$f":"IF(H188=\"\",\"\",IF(H188=1,O188*(1-'3 Irrigation Schedule'!$C$27),T187-V187))","v":""},"","","",{"$f":"IF(H188=\"\",\"\",IF('3 Irrigation Schedule'!$P$19<P188,'3 Irrigation Schedule'!$P$19,P188))","v":""},"",{"$f":"IF(H188=\"\",\"\",V188/'3 Irrigation Schedule'!$M$19)","v":""}]
[null,null,null,"2020","August","2020-08-03",null,"","",5.2023999999999999,9.5483870967741968E-2,"",0,"",{"$f":"IF(OR('3 Irrigation Schedule'!$C$29=\"\",'3 Irrigation Schedule'!$C$31=\"\",H189=\"\"),\"\",(('3 Irrigation Schedule'!$C$29-'3 Irrigation Schedule'!$C$31)/100)*1000*N189)","v":""},"",{"$f":"IF(H189=\"\",\"\",IF(H189=1,O189*(1-'3 Irrigation Schedule'!$C$27),T188-V188))","v":""},"","","",{"$f":"IF(H189=\"\",\"\",IF('3 Irrigation Schedule'!$P$19<P189,'3 Irrigation Schedule'!$P$19,P189))","v":""},"",{"$f":"IF(H189=\"\",\"\",V189/'3 Irrigation Schedule'!$M$19)","v":""}]
[null,null,null,"2020","August","2020-08-04",null,"","",5.2023999999999999,9.5483870967741968E-2,"",0,"",{"$f":"IF(OR('3 Irrigation Schedule'!$C$29=\"\",'3 Irrigation Schedule'!$C$31=\"\",H190=\"\"),\"\",(('3 Irrigation Schedule'!$C$29-'3 Irrigation Schedule'!$C$31)/100)*1000*N190)","v":""},"",{"$f":"IF(H190=\"\",\"\",IF(H190=1,O190*(1-'3 Irrigation Schedule'!$C$27),T189-V189))","v":""},"","","",{"$f":"IF(H190=\"\",\"\",IF('3 Irrigation Schedule'!$P$19<P190,'3 Irrigation Schedule'!$P$19,P190))","v":""},"",{"$f":"IF(H190=\"\",\"\",V190/'3 Irrigation Schedule'!$M$19)","v":""}]
[null,null,null,"2020","August","2020-08-05",null,"","",5.2023999999999999,9.5483870967741968E-2,"",0,"",{"$f":"IF(OR('3 Irrigation Schedule'!$C$29=\"\",'3 Irrigation Schedule'!$C$31=\"\",H191=\"\"),\"\",(('3 Irrigation Schedule'!$C$29-'3 Irrigation Schedule'!$C$31)/100)*1000*N191)","v":""},"",{"$f":"IF(H191=\"\",\"\",IF(H191=1,O191*(1-'3 Irrigation Schedule'!$C$27),T190-V190))","v":""},"","","",{"$f":"IF(H191=\"\",\"\",IF('3 Irrigation Schedule'!$P$19<P191,'3 Irrigation Schedule'!$P$19,P191))","v":""},"",{"$f":"IF(H191=\"\",\"\",V191/'3 Irrigation Schedule'!$M$19)","v":""}]
[null,null,null,"2020","August","2020-08-06",null,"","",5.2023999999999999,9.5483870967741968E-2,"",0,"",{"$f":"IF(OR('3 Irrigation Schedule'!$C$29=\"\",'3 Irrigation Schedule'!$C$31=\"\",H192=\"\"),\"\",(('3 Irrigation Schedule'!$C$29-'3 Irrigation Schedule'!$C$31)/100)*1000*N192)","v":""},"",{"$f":"IF(H192=\"\",\"\",IF(H192=1,O192*(1-'3 Irrigation Schedule'!$C$27),T191-V191))","v":""},"","","",{"$f":"IF(H192=\"\",\"\",IF('3 Irrigation Schedule'!$P$19<P192,'3 Irrigation Schedule'!$P$19,P192))","v":""},"",{"$f":"IF(H192=\"\",\"\",V192/'3 Irrigation Schedule'!$M$19)","v":""}]
[null,null,null,"2020","August","2020-08-07",null,"","",5.2023999999999999,9.5483870967741968E-2,"",0,"",{"$f":"IF(OR('3 Irrigation Schedule'!$C$29=\"\",'3 Irrigation Schedule'!$C$31=\"\",H193=\"\"),\"\",(('3 Irrigation Schedule'!$C$29-'3 Irrigation Schedule'!$C$31)/100)*1000*N193)","v":""},"",{"$f":"IF(H193=\"\",\"\",IF(H193=1,O193*(1-'3 Irrigation Schedule'!$C$27),T192-V192))","v":""},"","","",{"$f":"IF(H193=\"\",\"\",IF('3 Irrigation Schedule'!$P$19<P193,'3 Irrigation Schedule'!$P$19,P193))","v":""},"",{"$f":"IF(H193=\"\",\"\",V193/'3 Irrigation Schedule'!$M$19)","v":""}]
[null,null,null,"2020","August","2020-08-08",null,"","",5.2023999999999999,9.5483870967741968E-2,"",0,"",{"$f":"IF(OR('3 Irrigation Schedule'!$C$29=\"\",'3 Irrigation Schedule'!$C$31=\"\",H194=\"\"),\"\",(('3 Irrigation Schedule'!$C$29-'3 Irrigation Schedule'!$C$31)/100)*1000*N194)","v":""},"",{"$f":"IF(H194=\"\",\"\",IF(H194=1,O194*(1-'3 Irrigation Schedule'!$C$27),T193-V193))","v":""},"","","",{"$f":"IF(H194=\"\",\"\",IF('3 Irrigation Schedule'!$P$19<P194,'3 Irrigation Schedule'!$P$19,P194))","v":""},"",{"$f":"IF(H194=\"\",\"\",V194/'3 Irrigation Schedule'!$M$19)","v":""}]
[null,null,null,"2020","August","2020-08-09",null,"","",5.2023999999999999,9.5483870967741968E-2,"",0,"",{"$f":"IF(OR('3 Irrigation Schedule'!$C$29=\"\",'3 Irrigation Schedule'!$C$31=\"\",H195=\"\"),\"\",(('3 Irrigation Schedule'!$C$29-'3 Irrigation Schedule'!$C$31)/100)*1000*N195)","v":""},"",{"$f":"IF(H195=\"\",\"\",IF(H195=1,O195*(1-'3 Irrigation Schedule'!$C$27),T194-V194))","v":""},"","","",{"$f":"IF(H195=\"\",\"\",IF('3 Irrigation Schedule'!$P$19<P195,'3 Irrigation Schedule'!$P$19,P195))","v":""},"",{"$f":"IF(H195=\"\",\"\",V195/'3 Irrigation Schedule'!$M$19)","v":""}]
[null,null,null,"2020","August","2020-08-10",null,"","",5.2023999999999999,9.5483870967741968E-2,"",0,"",{"$f":"IF(OR('3 Irrigation Schedule'!$C$29=\"\",'3 Irrigation Schedule'!$C$31=\"\",H196=\"\"),\"\",(('3 Irrigation Schedule'!$C$29-'3 Irrigation Schedule'!$C$31)/100)*1000*N196)","v":""},"",{"$f":"IF(H196=\"\",\"\",IF(H196=1,O196*(1-'3 Irrigation Schedule'!$C$27),T195-V195))","v":""},"","","",{"$f":"IF(H196=\"\",\"\",IF('3 Irrigation Schedule'!$P$19<P196,'3 Irrigation Schedule'!$P$19,P196))","v":""},"",{"$f":"IF(H196=\"\",\"\",V196/'3 Irrigation Schedule'!$M$19)","v":""}]
[null,null,null,"2020","August","2020-08-11",null,"","",5.2023999999999999,9.5483870967741968E-2,"",0,"",{"$f":"IF(OR('3 Irrigation Schedule'!$C$29=\"\",'3 Irrigation Schedule'!$C$31=\"\",H197=\"\"),\"\",(('3 Irrigation Schedule'!$C$29-'3 Irrigation Schedule'!$C$31)/100)*1000*N197)","v":""},"",{"$f":"IF(H197=\"\",\"\",IF(H197=1,O197*(1-'3 Irrigation Schedule'!$C$27),T196-V196))","v":""},"","","",{"$f":"IF(H197=\"\",\"\",IF('3 Irrigation Schedule'!$P$19<P197,'3 Irrigation Schedule'!$P$19,P197))","v":""},"",{"$f":"IF(H197=\"\",\"\",V197/'3 Irrigation Schedule'!$M$19)","v":""}]
[null,null,null,"2020","August","2020-08-12",null,"","",5.2023999999999999,9.5483870967741968E-2,"",0,"",{"$f":"IF(OR('3 Irrigation Schedule'!$C$29=\"\",'3 Irrigation Schedule'!$C$31=\"\",H198=\"\"),\"\",(('3 Irrigation Schedule'!$C$29-'3 Irrigation Schedule'!$C$31)/100)*1000*N198)","v":""},"",{"$f":"IF(H198=\"\",\"\",IF(H198=1,O198*(1-'3 Irrigation Schedule'!$C$27),T197-V197))","v":""},"","","",{"$f":"IF(H198=\"\",\"\",IF('3 Irrigation Schedule'!$P$19<P198,'3 Irrigation Schedule'!$P$19,P198))","v":""},"",{"$f":"IF(H198=\"\",\"\",V198/'3 Irrigation Schedule'!$M$19)","v":""}]
[null,null,null,"2020","August","2020-08-13",null,"","",5.2023999999999999,9.5483870967741968E-2,"",0,"",{"$f":"IF(OR('3 Irrigation Schedule'!$C$29=\"\",'3 Irrigation Schedule'!$C$31=\"\",H199=\"\"),\"\",(('3 Irrigation Schedule'!$C$29-'3 Irrigation Schedule'!$C$31)/100)*1000*N199)","v":""},"",{"$f":"IF(H199=\"\",\"\",IF(H199=1,O199*(1-'3 Irrigation Schedule'!$C$27),T198-V198))","v":""},"","","",{"$f":"IF(H199=\"\",\"\",IF('3 Irrigation Schedule'!$P$19<P199,'3 Irrigation Schedule'!$P$19,P199))","v":""},"",{"$f":"IF(H199=\"\",\"\",V199/'3 Irrigation Schedule'!$M$19)","v":""}]
[null,null,null,"2020","August","2020-08-14",null,"","",5.2023999999999999,9.5483870967741968E-2,"",0,"",{"$f":"IF(OR('3 Irrigation Schedule'!$C$29=\"\",'3 Irrigation Schedule'!$C$31=\"\",H200=\"\"),\"\",(('3 Irrigation Schedule'!$C$29-'3 Irrigation Schedule'!$C$31)/100)*1000*N200)","v":""},"",{"$f":"IF(H200=\"\",\"\",IF(H200=1,O200*(1-'3 Irrigation Schedule'!$C$27),T199-V199))","v":""},"","","",{"$f":"IF(H200=\"\",\"\",IF('3 Irrigation Schedule'!$P$19<P200,'3 Irrigation Schedule'!$P$19,P200))","v":""},"",{"$f":"IF(H200=\"\",\"\",V200/'3 Irrigation Schedule'!$M$19)","v":""}]
[null,null,null,"2020","August","2020-08-15",null,"","",5.2023999999999999,9.5483870967741968E-2,"",0,"",{"$f":"IF(OR('3 Irrigation Schedule'!$C$29=\"\",'3 Irrigation Schedule'!$C$31=\"\",H201=\"\"),\"\",(('3 Irrigation Schedule'!$C$29-'3 Irrigation Schedule'!$C$31)/100)*1000*N201)","v":""},"",{"$f":"IF(H201=\"\",\"\",IF(H201=1,O201*(1-'3 Irrigation Schedule'!$C$27),T200-V200))","v":""},"","","",{"$f":"IF(H201=\"\",\"\",IF('3 Irrigation Schedule'!$P$19<P201,'3 Irrigation Schedule'!$P$19,P201))","v":""},"",{"$f":"IF(H201=\"\",\"\",V201/'3 Irrigation Schedule'!$M$19)","v":""}]
[null,null,null,"2020","August","2020-08-16",null,"","",5.2023999999999999,9.5483870967741968E-2,"",0,"",{"$f":"IF(OR('3 Irrigation Schedule'!$C$29=\"\",'3 Irrigation Schedule'!$C$31=\"\",H202=\"\"),\"\",(('3 Irrigation Schedule'!$C$29-'3 Irrigation Schedule'!$C$31)/100)*1000*N202)","v":""},"",{"$f":"IF(H202=\"\",\"\",IF(H202=1,O202*(1-'3 Irrigation Schedule'!$C$27),T201-V201))","v":""},"","","",{"$f":"IF(H202=\"\",\"\",IF('3 Irrigation Schedule'!$P$19<P202,'3 Irrigation Schedule'!$P$19,P202))","v":""},"",{"$f":"IF(H202=\"\",\"\",V202/'3 Irrigation Schedule'!$M$19)","v":""}]
[null,null,null,"2020","August","2020-08-17",null,"","",5.2023999999999999,9.5483870967741968E-2,"",0,"",{"$f":"IF(OR('3 Irrigation Schedule'!$C$29=\"\",'3 Irrigation Schedule'!$C$31=\"\",H203=\"\"),\"\",(('3 Irrigation Schedule'!$C$29-'3 Irrigation Schedule'!$C$31)/100)*1000*N203)","v":""},"",{"$f":"IF(H203=\"\",\"\",IF(H203=1,O203*(1-'3 Irrigation Schedule'!$C$27),T202-V202))","v":""},"","","",{"$f":"IF(H203=\"\",\"\",IF('3 Irrigation Schedule'!$P$19<P203,'3 Irrigation Schedule'!$P$19,P203))","v":""},"",{"$f":"IF(H203=\"\",\"\",V203/'3 Irrigation Schedule'!$M$19)","v":""}]
[null,null,null,"2020","August","2020-08-18",null,"","",5.2023999999999999,9.5483870967741968E-2,"",0,"",{"$f":"IF(OR('3 Irrigation Schedule'!$C$29=\"\",'3 Irrigation Schedule'!$C$31=\"\",H204=\"\"),\"\",(('3 Irrigation Schedule'!$C$29-'3 Irrigation Schedule'!$C$31)/100)*1000*N204)","v":""},"",{"$f":"IF(H204=\"\",\"\",IF(H204=1,O204*(1-'3 Irrigation Schedule'!$C$27),T203-V203))","v":""},"","","",{"$f":"IF(H204=\"\",\"\",IF('3 Irrigation Schedule'!$P$19<P204,'3 Irrigation Schedule'!$P$19,P204))","v":""},"",{"$f":"IF(H204=\"\",\"\",V204/'3 Irrigation Schedule'!$M$19)","v":""}]
[null,null,null,"2020","August","2020-08-19",null,"","",5.2023999999999999,9.5483870967741968E-2,"",0,"",{"$f":"IF(OR('3 Irrigation Schedule'!$C$29=\"\",'3 Irrigation Schedule'!$C$31=\"\",H205=\"\"),\"\",(('3 Irrigation Schedule'!$C$29-'3 Irrigation Schedule'!$C$31)/100)*1000*N205)","v":""},"",{"$f":"IF(H205=\"\",\"\",IF(H205=1,O205*(1-'3 Irrigation Schedule'!$C$27),T204-V204))","v":""},"","","",{"$f":"IF(H205=\"\",\"\",IF('3 Irrigation Schedule'!$P$19<P205,'3 Irrigation Schedule'!$P$19,P205))","v":""},"",{"$f":"IF(H205=\"\",\"\",V205/'3 Irrigation Schedule'!$M$19)","v":""}]
[null,null,null,"2020","August","2020-08-20",null,"","",5.2023999999999999,9.5483870967741968E-2,"",0,"",{"$f":"IF(OR('3 Irrigation Schedule'!$C$29=\"\",'3 Irrigation Schedule'!$C$31=\"\",H206=\"\"),\"\",(('3 Irrigation Schedule'!$C$29-'3 Irrigation Schedule'!$C$31)/100)*1000*N206)","v":""},"",{"$f":"IF(H206=\"\",\"\",IF(H206=1,O206*(1-'3 Irrigation Schedule'!$C$27),T205-V205))","v":""},"","","",{"$f":"IF(H206=\"\",\"\",IF('3 Irrigation Schedule'!$P$19<P206,'3 Irrigation Schedule'!$P$19,P206))","v":""},"",{"$f":"IF(H206=\"\",\"\",V206/'3 Irrigation Schedule'!$M$19)","v":""}]
[null,null,null,"2020","August","2020-08-21",null,"","",5.2023999999999999,9.5483870967741968E-2,"",0,"",{"$f":"IF(OR('3 Irrigation Schedule'!$C$29=\"\",'3 Irrigation Schedule'!$C$31=\"\",H207=\"\"),\"\",(('3 Irrigation Schedule'!$C$29-'3 Irrigation Schedule'!$C$31)/100)*1000*N207)","v":""},"",{"$f":"IF(H207=\"\",\"\",IF(H207=1,O207*(1-'3 Irrigation Schedule'!$C$27),T206-V206))","v":""},"","","",{"$f":"IF(H207=\"\",\"\",IF('3 Irrigation Schedule'!$P$19<P207,'3 Irrigation Schedule'!$P$19,P207))","v":""},"",{"$f":"IF(H207=\"\",\"\",V207/'3 Irrigation Schedule'!$M$19)","v":""}]
[null,null,null,"2020","August","2020-08-22",null,"","",5.2023999999999999,9.5483870967741968E-2,"",0,"",{"$f":"IF(OR('3 Irrigation Schedule'!$C$29=\"\",'3 Irrigation Schedule'!$C$31=\"\",H208=\"\"),\"\",(('3 Irrigation Schedule'!$C$29-'3 Irrigation Schedule'!$C$31)/100)*1000*N208)","v":""},"",{"$f":"IF(H208=\"\",\"\",IF(H208=1,O208*(1-'3 Irrigation Schedule'!$C$27),T207-V207))","v":""},"","","",{"$f":"IF(H208=\"\",\"\",IF('3 Irrigation Schedule'!$P$19<P208,'3 Irrigation Schedule'!$P$19,P208))","v":""},"",{"$f":"IF(H208=\"\",\"\",V208/'3 Irrigation Schedule'!$M$19)","v":""}]
[null,null,null,"2020","August","2020-08-23",null,"","",5.2023999999999999,9.5483870967741968E-2,"",0,"",{"$f":"IF(OR('3 Irrigation Schedule'!$C$29=\"\",'3 Irrigation Schedule'!$C$31=\"\",H209=\"\"),\"\",(('3 Irrigation Schedule'!$C$29-'3 Irrigation Schedule'!$C$31)/100)*1000*N209)","v":""},"",{"$f":"IF(H209=\"\",\"\",IF(H209=1,O209*(1-'3 Irrigation Schedule'!$C$27),T208-V208))","v":""},"","","",{"$f":"IF(H209=\"\",\"\",IF('3 Irrigation Schedule'!$P$19<P209,'3 Irrigation Schedule'!$P$19,P209))","v":""},"",{"$f":"IF(H209=\"\",\"\",V209/'3 Irrigation Schedule'!$M$19)","v":""}]
[null,null,null,"2020","August","2020-08-24",null,"","",5.2023999999999999,9.5483870967741968E-2,"",0,"",{"$f":"IF(OR('3 Irrigation Schedule'!$C$29=\"\",'3 Irrigation Schedule'!$C$31=\"\",H210=\"\"),\"\",(('3 Irrigation Schedule'!$C$29-'3 Irrigation Schedule'!$C$31)/100)*1000*N210)","v":""},"",{"$f":"IF(H210=\"\",\"\",IF(H210=1,O210*(1-'3 Irrigation Schedule'!$C$27),T209-V209))","v":""},"","","",{"$f":"IF(H210=\"\",\"\",IF('3 Irrigation Schedule'!$P$19<P210,'3 Irrigation Schedule'!$P$19,P210))","v":""},"",{"$f":"IF(H210=\"\",\"\",V210/'3 Irrigation Schedule'!$M$19)","v":""}]
[null,null,null,"2020","August","2020-08-25",null,"","",5.2023999999999999,9.5483870967741968E-2,"",0,"",{"$f":"IF(OR('3 Irrigation Schedule'!$C$29=\"\",'3 Irrigation Schedule'!$C$31=\"\",H211=\"\"),\"\",(('3 Irrigation Schedule'!$C$29-'3 Irrigation Schedule'!$C$31)/100)*1000*N211)","v":""},"",{"$f":"IF(H211=\"\",\"\",IF(H211=1,O211*(1-'3 Irrigation Schedule'!$C$27),T210-V210))","v":""},"","","",{"$f":"IF(H211=\"\",\"\",IF('3 Irrigation Schedule'!$P$19<P211,'3 Irrigation Schedule'!$P$19,P211))","v":""},"",{"$f":"IF(H211=\"\",\"\",V211/'3 Irrigation Schedule'!$M$19)","v":""}]
[null,null,null,"2020","August","2020-08-26",null,"","",5.2023999999999999,9.5483870967741968E-2,"",0,"",{"$f":"IF(OR('3 Irrigation Schedule'!$C$29=\"\",'3 Irrigation Schedule'!$C$31=\"\",H212=\"\"),\"\",(('3 Irrigation Schedule'!$C$29-'3 Irrigation Schedule'!$C$31)/100)*1000*N212)","v":""},"",{"$f":"IF(H212=\"\",\"\",IF(H212=1,O212*(1-'3 Irrigation Schedule'!$C$27),T211-V211))","v":""},"","","",{"$f":"IF(H212=\"\",\"\",IF('3 Irrigation Schedule'!$P$19<P212,'3 Irrigation Schedule'!$P$19,P212))","v":""},"",{"$f":"IF(H212=\"\",\"\",V212/'3 Irrigation Schedule'!$M$19)","v":""}]
[null,null,null,"2020","August","2020-08-27",null,"","",5.2023999999999999,9.5483870967741968E-2,"",0,"",{"$f":"IF(OR('3 Irrigation Schedule'!$C$29=\"\",'3 Irrigation Schedule'!$C$31=\"\",H213=\"\"),\"\",(('3 Irrigation Schedule'!$C$29-'3 Irrigation Schedule'!$C$31)/100)*1000*N213)","v":""},"",{"$f":"IF(H213=\"\",\"\",IF(H213=1,O213*(1-'3 Irrigation Schedule'!$C$27),T212-V212))","v":""},"","","",{"$f":"IF(H213=\"\",\"\",IF('3 Irrigation Schedule'!$P$19<P213,'3 Irrigation Schedule'!$P$19,P213))","v":""},"",{"$f":"IF(H213=\"\",\"\",V213/'3 Irrigation Schedule'!$M$19)","v":""}]
[null,null,null,"2020","August","2020-08-28",null,"","",5.2023999999999999,9.5483870967741968E-2,"",0,"",{"$f":"IF(OR('3 Irrigation Schedule'!$C$29=\"\",'3 Irrigation Schedule'!$C$31=\"\",H214=\"\"),\"\",(('3 Irrigation Schedule'!$C$29-'3 Irrigation Schedule'!$C$31)/100)*1000*N214)","v":""},"",{"$f":"IF(H214=\"\",\"\",IF(H214=1,O214*(1-'3 Irrigation Schedule'!$C$27),T213-V213))","v":""},"","","",{"$f":"IF(H214=\"\",\"\",IF('3 Irrigation Schedule'!$P$19<P214,'3 Irrigation Schedule'!$P$19,P214))","v":""},"",{"$f":"IF(H214=\"\",\"\",V214/'3 Irrigation Schedule'!$M$19)","v":""}]
[null,null,null,"2020","August","2020-08-29",null,"","",5.2023999999999999,9.5483870967741968E-2,"",0,"",{"$f":"IF(OR('3 Irrigation Schedule'!$C$29=\"\",'3 Irrigation Schedule'!$C$31=\"\",H215=\"\"),\"\",(('3 Irrigation Schedule'!$C$29-'3 Irrigation Schedule'!$C$31)/100)*1000*N215)","v":""},"",{"$f":"IF(H215=\"\",\"\",IF(H215=1,O215*(1-'3 Irrigation Schedule'!$C$27),T214-V214))","v":""},"","","",{"$f":"IF(H215=\"\",\"\",IF('3 Irrigation Schedule'!$P$19<P215,'3 Irrigation Schedule'!$P$19,P215))","v":""},"",{"$f":"IF(H215=\"\",\"\",V215/'3 Irrigation Schedule'!$M$19)","v":""}]
[null,null,null,"2020","August","2020-08-30",null,"","",5.2023999999999999,9.5483870967741968E-2,"",0,"",{"$f":"IF(OR('3 Irrigation Schedule'!$C$29=\"\",'3 Irrigation Schedule'!$C$31=\"\",H216=\"\"),\"\",(('3 Irrigation Schedule'!$C$29-'3 Irrigation Schedule'!$C$31)/100)*1000*N216)","v":""},"",{"$f":"IF(H216=\"\",\"\",IF(H216=1,O216*(1-'3 Irrigation Schedule'!$C$27),T215-V215))","v":""},"","","",{"$f":"IF(H216=\"\",\"\",IF('3 Irrigation Schedule'!$P$19<P216,'3 Irrigation Schedule'!$P$19,P216))","v":""},"",{"$f":"IF(H216=\"\",\"\",V216/'3 Irrigation Schedule'!$M$19)","v":""}]
[null,null,null,"2020","August","2020-08-31",null,"","",5.2023999999999999,9.5483870967741968E-2,"",0,"",{"$f":"IF(OR('3 Irrigation Schedule'!$C$29=\"\",'3 Irrigation Schedule'!$C$31=\"\",H217=\"\"),\"\",(('3 Irrigation Schedule'!$C$29-'3 Irrigation Schedule'!$C$31)/100)*1000*N217)","v":""},"",{"$f":"IF(H217=\"\",\"\",IF(H217=1,O217*(1-'3 Irrigation Schedule'!$C$27),T216-V216))","v":""},"","","",{"$f":"IF(H217=\"\",\"\",IF('3 Irrigation Schedule'!$P$19<P217,'3 Irrigation Schedule'!$P$19,P217))","v":""},"",{"$f":"IF(H217=\"\",\"\",V217/'3 Irrigation Schedule'!$M$19)","v":""}]
[null,null,null,"2020","September","2020-09-01",null,"","",5.2796800000000008,3.2666666666666684E-2,"",0,"",{"$f":"IF(OR('3 Irrigation Schedule'!$C$29=\"\",'3 Irrigation Schedule'!$C$31=\"\",H218=\"\"),\"\",(('3 Irrigation Schedule'!$C$29-'3 Irrigation Schedule'!$C$31)/100)*1000*N218)","v":""},"",{"$f":"IF(H218=\"\",\"\",IF(H218=1,O218*(1-'3 Irrigation Schedule'!$C$27),T217-V217))","v":""},"","","",{"$f":"IF(H218=\"\",\"\",IF('3 Irrigation Schedule'!$P$19<P218,'3 Irrigation Schedule'!$P$19,P218))","v":""},"",{"$f":"IF(H218=\"\",\"\",V218/'3 Irrigation Schedule'!$M$19)","v":""}]
[null,null,null,"2020","September","2020-09-02",null,"","",5.2796800000000008,3.2666666666666684E-2,"",0,"",{"$f":"IF(OR('3 Irrigation Schedule'!$C$29=\"\",'3 Irrigation Schedule'!$C$31=\"\",H219=\"\"),\"\",(('3 Irrigation Schedule'!$C$29-'3 Irrigation Schedule'!$C$31)/100)*1000*N219)","v":""},"",{"$f":"IF(H219=\"\",\"\",IF(H219=1,O219*(1-'3 Irrigation Schedule'!$C$27),T218-V218))","v":""},"","","",{"$f":"IF(H219=\"\",\"\",IF('3 Irrigation Schedule'!$P$19<P219,'3 Irrigation Schedule'!$P$19,P219))","v":""},"",{"$f":"IF(H219=\"\",\"\",V219/'3 Irrigation Schedule'!$M$19)","v":""}]
[null,null,null,"2020","September","2020-09-03",null,"","",5.2796800000000008,3.2666666666666684E-2,"",0,"",{"$f":"IF(OR('3 Irrigation Schedule'!$C$29=\"\",'3 Irrigation Schedule'!$C$31=\"\",H220=\"\"),\"\",(('3 Irrigation Schedule'!$C$29-'3 Irrigation Schedule'!$C$31)/100)*1000*N220)","v":""},"",{"$f":"IF(H220=\"\",\"\",IF(H220=1,O220*(1-'3 Irrigation Schedule'!$C$27),T219-V219))","v":""},"","","",{"$f":"IF(H220=\"\",\"\",IF('3 Irrigation Schedule'!$P$19<P220,'3 Irrigation Schedule'!$P$19,P220))","v":""},"",{"$f":"IF(H220=\"\",\"\",V220/'3 Irrigation Schedule'!$M$19)","v":""}]
[null,null,null,"2020","September","2020-09-04",null,"","",5.2796800000000008,3.2666666666666684E-2,"",0,"",{"$f":"IF(OR('3 Irrigation Schedule'!$C$29=\"\",'3 Irrigation Schedule'!$C$31=\"\",H221=\"\"),\"\",(('3 Irrigation Schedule'!$C$29-'3 Irrigation Schedule'!$C$31)/100)*1000*N221)","v":""},"",{"$f":"IF(H221=\"\",\"\",IF(H221=1,O221*(1-'3 Irrigation Schedule'!$C$27),T220-V220))","v":""},"","","",{"$f":"IF(H221=\"\",\"\",IF('3 Irrigation Schedule'!$P$19<P221,'3 Irrigation Schedule'!$P$19,P221))","v":""},"",{"$f":"IF(H221=\"\",\"\",V221/'3 Irrigation Schedule'!$M$19)","v":""}]
[null,null,null,"2020","September","2020-09-05",null,"","",5.2796800000000008,3.2666666666666684E-2,"",0,"",{"$f":"IF(OR('3 Irrigation Schedule'!$C$29=\"\",'3 Irrigation Schedule'!$C$31=\"\",H222=\"\"),\"\",(('3 Irrigation Schedule'!$C$29-'3 Irrigation Schedule'!$C$31)/100)*1000*N222)","v":""},"",{"$f":"IF(H222=\"\",\"\",IF(H222=1,O222*(1-'3 Irrigation Schedule'!$C$27),T221-V221))","v":""},"","","",{"$f":"IF(H222=\"\",\"\",IF('3 Irrigation Schedule'!$P$19<P222,'3 Irrigation Schedule'!$P$19,P222))","v":""},"",{"$f":"IF(H222=\"\",\"\",V222/'3 Irrigation Schedule'!$M$19)","v":""}]
[null,null,null,"2020","September","2020-09-06",null,"","",5.2796800000000008,3.2666666666666684E-2,"",0,"",{"$f":"IF(OR('3 Irrigation Schedule'!$C$29=\"\",'3 Irrigation Schedule'!$C$31=\"\",H223=\"\"),\"\",(('3 Irrigation Schedule'!$C$29-'3 Irrigation Schedule'!$C$31)/100)*1000*N223)","v":""},"",{"$f":"IF(H223=\"\",\"\",IF(H223=1,O223*(1-'3 Irrigation Schedule'!$C$27),T222-V222))","v":""},"","","",{"$f":"IF(H223=\"\",\"\",IF('3 Irrigation Schedule'!$P$19<P223,'3 Irrigation Schedule'!$P$19,P223))","v":""},"",{"$f":"IF(H223=\"\",\"\",V223/'3 Irrigation Schedule'!$M$19)","v":""}]
[null,null,null,"2020","September","2020-09-07",null,"","",5.2796800000000008,3.2666666666666684E-2,"",0,"",{"$f":"IF(OR('3 Irrigation Schedule'!$C$29=\"\",'3 Irrigation Schedule'!$C$31=\"\",H224=\"\"),\"\",(('3 Irrigation Schedule'!$C$29-'3 Irrigation Schedule'!$C$31)/100)*1000*N224)","v":""},"",{"$f":"IF(H224=\"\",\"\",IF(H224=1,O224*(1-'3 Irrigation Schedule'!$C$27),T223-V223))","v":""},"","","",{"$f":"IF(H224=\"\",\"\",IF('3 Irrigation Schedule'!$P$19<P224,'3 Irrigation Schedule'!$P$19,P224))","v":""},"",{"$f":"IF(H224=\"\",\"\",V224/'3 Irrigation Schedule'!$M$19)","v":""}]
[null,null,null,"2020","September","2020-09-08",null,"","",5.2796800000000008,3.2666666666666684E-2,"",0,"",{"$f":"IF(OR('3 Irrigation Schedule'!$C$29=\"\",'3 Irrigation Schedule'!$C$31=\"\",H225=\"\"),\"\",(('3 Irrigation Schedule'!$C$29-'3 Irrigation Schedule'!$C$31)/100)*1000*N225)","v":""},"",{"$f":"IF(H225=\"\",\"\",IF(H225=1,O225*(1-'3 Irrigation Schedule'!$C$27),T224-V224))","v":""},"","","",{"$f":"IF(H225=\"\",\"\",IF('3 Irrigation Schedule'!$P$19<P225,'3 Irrigation Schedule'!$P$19,P225))","v":""},"",{"$f":"IF(H225=\"\",\"\",V225/'3 Irrigation Schedule'!$M$19)","v":""}]
[null,null,null,{"$f":"IFERROR(TEXT(DATE(YEAR($F226),MONTH($F226),1),$D$7&$D$4),\"\")","v":"2020"},{"$f":"IFERROR(TEXT(DATE(YEAR($F226),MONTH($F226),1),$D$7&$D$5),\"\")","v":"September"},"2020-09-09",null,"",{"$f":"IF(H226=\"\",\"\",IF(H226<=$I$27,\"Initial\",IF(AND(H226>$I$27,H226<=$I$28),\"Development\",IF(AND(H226>$I$28,H226<=$I$29),\"Mid Season\",\"Late Season\"))))","v":""},{"$f":"IFERROR(VLOOKUP($E226,$B$19:$C$30,2,FALSE),\"\")","v":5.2796800000000008},3.2666666666666684E-2,{"$f":"IF(H226=\"\",\"\",IF(H226<=$I$27,$L$27,IF(AND(H226>$I$27,H226<=$I$28),$L$27+((H226-$I$27)/$H$28)*($L$29-$L$27),IF(AND(H226>$I$28,H226<=$I$29),$L$29,$L$29+((H226-$I$29)/$H$30)*($L$30-$L$29)))))","v":""},{"$f":"IFERROR((J226*L226),0)","v":0},{"$f":"IF(H226=\"\",\"\",IF(OR(H226=1,H226<$I$28),$M$27+(($M$28-$M$27)*((H226-1)/($I$28-1))),$M$28))","v":""},{"$f":"IF(OR('3 Irrigation Schedule'!$C$29=\"\",'3 Irrigation Schedule'!$C$31=\"\",H226=\"\"),\"\",(('3 Irrigation Schedule'!$C$29-'3 Irrigation Schedule'!$C$31)/100)*1000*N226)","v":""},{"$f":"IF(H226=\"\",\"\",O226*$N$27)","v":""},{"$f":"IF(H226=\"\",\"\",IF(H226=1,O226*(1-'3 Irrigation Schedule'!$C$27),T225-V225))","v":""},{"$f":"IF(H226=\"\",\"\",IF(Q226>P226,(O226-Q226)/(O226-P226),1))","v":""},{"$f":"IF(H226=\"\",\"\",M226*R226)","v":""},{"$f":"IF(H226=\"\",\"\",IF(Q226+S226-K226<0,0,Q226+S226-K226))","v":""},{"$f":"IF(H226=\"\",\"\",IF('3 Irrigation Schedule'!$P$19<P226,'3 Irrigation Schedule'!$P$19,P226))","v":""},{"$f":"IF(H226=\"\",\"\",IF(U226<=T226,U226,0))","v":""},{"$f":"IF(H226=\"\",\"\",V226/'3 Irrigation Schedule'!$M$19)","v":""}]
[null,null,null,"2020","September",{"$f":"IFERROR(IF(F226+1<=$N$7, F226+1,\"\"),\"\")","v":"2020-09-10"},null,{"$f":"IFERROR(IF(OR($F227-$J$27+1<=0,$F227>$K$30),\"\",$F227-$J$27+1),\"\")","v":""},"",5.2796800000000008,{"$f":"IFERROR(VLOOKUP($E227,$B$19:$D$30,3,FALSE),\"\")","v":3.2666666666666684E-2},"",0,"",{"$f":"IF(OR('3 Irrigation Schedule'!$C$29=\"\",'3 Irrigation Schedule'!$C$31=\"\",H227=\"\"),\"\",(('3 Irrigation Schedule'!$C$29-'3 Irrigation Schedule'!$C$31)/100)*1000*N227)","v":""},"",{"$f":"IF(H227=\"\",\"\",IF(H227=1,O227*(1-'3 Irrigation Schedule'!$C$27),T226-V226))","v":""},"","","",{"$f":"IF(H227=\"\",\"\",IF('3 Irrigation Schedule'!$P$19<P227,'3 Irrigation Schedule'!$P$19,P227))","v":""},"",{"$f":"IF(H227=\"\",\"\",V227/'3 Irrigation Schedule'!$M$19)","v":""}]
[null,null,null,"2020","September","2020-09-11",null,"","",5.2796800000000008,3.2666666666666684E-2,"",0,"",{"$f":"IF(OR('3 Irrigation Schedule'!$C$29=\"\",'3 Irrigation Schedule'!$C$31=\"\",H228=\"\"),\"\",(('3 Irrigation Schedule'!$C$29-'3 Irrigation Schedule'!$C$31)/100)*1000*N228)","v":""},"",{"$f":"IF(H228=\"\",\"\",IF(H228=1,O228*(1-'3 Irrigation Schedule'!$C$27),T227-V227))","v":""},"","","",{"$f":"IF(H228=\"\",\"\",IF('3 Irrigation Schedule'!$P$19<P228,'3 Irrigation Schedule'!$P$19,P228))","v":""},"",{"$f":"IF(H228=\"\",\"\",V228/'3 Irrigation Schedule'!$M$19)","v":""}]
[null,null,null,"2020","September","2020-09-12",null,"","",5.2796800000000008,3.2666666666666684E-2,"",0,"",{"$f":"IF(OR('3 Irrigation Schedule'!$C$29=\"\",'3 Irrigation Schedule'!$C$31=\"\",H229=\"\"),\"\",(('3 Irrigation Schedule'!$C$29-'3 Irrigation Schedule'!$C$31)/100)*1000*N229)","v":""},"",{"$f":"IF(H229=\"\",\"\",IF(H229=1,O229*(1-'3 Irrigation Schedule'!$C$27),T228-V228))","v":""},"","","",{"$f":"IF(H229=\"\",\"\",IF('3 Irrigation Schedule'!$P$19<P229,'3 Irrigation Schedule'!$P$19,P229))","v":""},"",{"$f":"IF(H229=\"\",\"\",V229/'3 Irrigation Schedule'!$M$19)","v":""}]
[null,null,null,"2020","September","2020-09-13",null,"","",5.2796800000000008,3.2666666666666684E-2,"",0,"",{"$f":"IF(OR('3 Irrigation Schedule'!$C$29=\"\",'3 Irrigation Schedule'!$C$31=\"\",H230=\"\"),\"\",(('3 Irrigation Schedule'!$C$29-'3 Irrigation Schedule'!$C$31)/100)*1000*N230)","v":""},"",{"$f":"IF(H230=\"\",\"\",IF(H230=1,O230*(1-'3 Irrigation Schedule'!$C$27),T229-V229))","v":""},"","","",{"$f":"IF(H230=\"\",\"\",IF('3 Irrigation Schedule'!$P$19<P230,'3 Irrigation Schedule'!$P$19,P230))","v":""},"",{"$f":"IF(H230=\"\",\"\",V230/'3 Irrigation Schedule'!$M$19)","v":""}]
[null,null,null,"2020","September","2020-09-14",null,"","",5.2796800000000008,3.2666666666666684E-2,"",0,"",{"$f":"IF(OR('3 Irrigation Schedule'!$C$29=\"\",'3 Irrigation Schedule'!$C$31=\"\",H231=\"\"),\"\",(('3 Irrigation Schedule'!$C$29-'3 Irrigation Schedule'!$C$31)/100)*1000*N231)","v":""},"",{"$f":"IF(H231=\"\",\"\",IF(H231=1,O231*(1-'3 Irrigation Schedule'!$C$27),T230-V230))","v":""},"","","",{"$f":"IF(H231=\"\",\"\",IF('3 Irrigation Schedule'!$P$19<P231,'3 Irrigation Schedule'!$P$19,P231))","v":""},"",{"$f":"IF(H231=\"\",\"\",V231/'3 Irrigation Schedule'!$M$19)","v":""}]
[null,null,null,"2020","September","2020-09-15",null,"","",5.2796800000000008,3.2666666666666684E-2,"",0,"",{"$f":"IF(OR('3 Irrigation Schedule'!$C$29=\"\",'3 Irrigation Schedule'!$C$31=\"\",H232=\"\"),\"\",(('3 Irrigation Schedule'!$C$29-'3 Irrigation Schedule'!$C$31)/100)*1000*N232)","v":""},"",{"$f":"IF(H232=\"\",\"\",IF(H232=1,O232*(1-'3 Irrigation Schedule'!$C$27),T231-V231))","v":""},"","","",{"$f":"IF(H232=\"\",\"\",IF('3 Irrigation Schedule'!$P$19<P232,'3 Irrigation Schedule'!$P$19,P232))","v":""},"",{"$f":"IF(H232=\"\",\"\",V232/'3 Irrigation Schedule'!$M$19)","v":""}]
[null,null,null,"2020","September","2020-09-16",null,"","",5.2796800000000008,3.2666666666666684E-2,"",0,"",{"$f":"IF(OR('3 Irrigation Schedule'!$C$29=\"\",'3 Irrigation Schedule'!$C$31=\"\",H233=\"\"),\"\",(('3 Irrigation Schedule'!$C$29-'3 Irrigation Schedule'!$C$31)/100)*1000*N233)","v":""},"",{"$f":"IF(H233=\"\",\"\",IF(H233=1,O233*(1-'3 Irrigation Schedule'!$C$27),T232-V232))","v":""},"","","",{"$f":"IF(H233=\"\",\"\",IF('3 Irrigation Schedule'!$P$19<P233,'3 Irrigation Schedule'!$P$19,P233))","v":""},"",{"$f":"IF(H233=\"\",\"\",V233/'3 Irrigation Schedule'!$M$19)","v":""}]
[null,null,null,"2020","September","2020-09-17",null,"","",5.2796800000000008,3.2666666666666684E-2,"",0,"",{"$f":"IF(OR('3 Irrigation Schedule'!$C$29=\"\",'3 Irrigation Schedule'!$C$31=\"\",H234=\"\"),\"\",(('3 Irrigation Schedule'!$C$29-'3 Irrigation Schedule'!$C$31)/100)*1000*N234)","v":""},"",{"$f":"IF(H234=\"\",\"\",IF(H234=1,O234*(1-'3 Irrigation Schedule'!$C$27),T233-V233))","v":""},"","","",{"$f":"IF(H234=\"\",\"\",IF('3 Irrigation Schedule'!$P$19<P234,'3 Irrigation Schedule'!$P$19,P234))","v":""},"",{"$f":"IF(H234=\"\",\"\",V234/'3 Irrigation Schedule'!$M$19)","v":""}]
[null,null,null,"2020","September","2020-09-18",null,"","",5.2796800000000008,3.2666666666666684E-2,"",0,"",{"$f":"IF(OR('3 Irrigation Schedule'!$C$29=\"\",'3 Irrigation Schedule'!$C$31=\"\",H235=\"\"),\"\",(('3 Irrigation Schedule'!$C$29-'3 Irrigation Schedule'!$C$31)/100)*1000*N235)","v":""},"",{"$f":"IF(H235=\"\",\"\",IF(H235=1,O235*(1-'3 Irrigation Schedule'!$C$27),T234-V234))","v":""},"","","",{"$f":"IF(H235=\"\",\"\",IF('3 Irrigation Schedule'!$P$19<P235,'3 Irrigation Schedule'!$P$19,P235))","v":""},"",{"$f":"IF(H235=\"\",\"\",V235/'3 Irrigation Schedule'!$M$19)","v":""}]
[null,null,null,"2020","September","2020-09-19",null,"","",5.2796800000000008,3.2666666666666684E-2,"",0,"",{"$f":"IF(OR('3 Irrigation Schedule'!$C$29=\"\",'3 Irrigation Schedule'!$C$31=\"\",H236=\"\"),\"\",(('3 Irrigation Schedule'!$C$29-'3 Irrigation Schedule'!$C$31)/100)*1000*N236)","v":""},"",{"$f":"IF(H236=\"\",\"\",IF(H236=1,O236*(1-'3 Irrigation Schedule'!$C$27),T235-V235))","v":""},"","","",{"$f":"IF(H236=\"\",\"\",IF('3 Irrigation Schedule'!$P$19<P236,'3 Irrigation Schedule'!$P$19,P236))","v":""},"",{"$f":"IF(H236=\"\",\"\",V236/'3 Irrigation Schedule'!$M$19)","v":""}]
[null,null,null,"2020","September","2020-09-20",null,"","",5.2796800000000008,3.2666666666666684E-2,"",0,"",{"$f":"IF(OR('3 Irrigation Schedule'!$C$29=\"\",'3 Irrigation Schedule'!$C$31=\"\",H237=\"\"),\"\",(('3 Irrigation Schedule'!$C$29-'3 Irrigation Schedule'!$C$31)/100)*1000*N237)","v":""},"",{"$f":"IF(H237=\"\",\"\",IF(H237=1,O237*(1-'3 Irrigation Schedule'!$C$27),T236-V236))","v":""},"","","",{"$f":"IF(H237=\"\",\"\",IF('3 Irrigation Schedule'!$P$19<P237,'3 Irrigation Schedule'!$P$19,P237))","v":""},"",{"$f":"IF(H237=\"\",\"\",V237/'3 Irrigation Schedule'!$M$19)","v":""}]
[null,null,null,"2020","September","2020-09-21",null,"","",5.2796800000000008,3.2666666666666684E-2,"",0,"",{"$f":"IF(OR('3 Irrigation Schedule'!$C$29=\"\",'3 Irrigation Schedule'!$C$31=\"\",H238=\"\"),\"\",(('3 Irrigation Schedule'!$C$29-'3 Irrigation Schedule'!$C$31)/100)*1000*N238)","v":""},"",{"$f":"IF(H238=\"\",\"\",IF(H238=1,O238*(1-'3 Irrigation Schedule'!$C$27),T237-V237))","v":""},"","","",{"$f":"IF(H238=\"\",\"\",IF('3 Irrigation Schedule'!$P$19<P238,'3 Irrigation Schedule'!$P$19,P238))","v":""},"",{"$f":"IF(H238=\"\",\"\",V238/'3 Irrigation Schedule'!$M$19)","v":""}]
[null,null,null,"2020","September","2020-09-22",null,"","",5.2796800000000008,3.2666666666666684E-2,"",0,"",{"$f":"IF(OR('3 Irrigation Schedule'!$C$29=\"\",'3 Irrigation Schedule'!$C$31=\"\",H239=\"\"),\"\",(('3 Irrigation Schedule'!$C$29-'3 Irrigation Schedule'!$C$31)/100)*1000*N239)","v":""},"",{"$f":"IF(H239=\"\",\"\",IF(H239=1,O239*(1-'3 Irrigation Schedule'!$C$27),T238-V238))","v":""},"","","",{"$f":"IF(H239=\"\",\"\",IF('3 Irrigation Schedule'!$P$19<P239,'3 Irrigation Schedule'!$P$19,P239))","v":""},"",{"$f":"IF(H239=\"\",\"\",V239/'3 Irrigation Schedule'!$M$19)","v":""}]
[null,null,null,"2020","September","2020-09-23",null,"","",5.2796800000000008,3.2666666666666684E-2,"",0,"",{"$f":"IF(OR('3 Irrigation Schedule'!$C$29=\"\",'3 Irrigation Schedule'!$C$31=\"\",H240=\"\"),\"\",(('3 Irrigation Schedule'!$C$29-'3 Irrigation Schedule'!$C$31)/100)*1000*N240)","v":""},"",{"$f":"IF(H240=\"\",\"\",IF(H240=1,O240*(1-'3 Irrigation Schedule'!$C$27),T239-V239))","v":""},"","","",{"$f":"IF(H240=\"\",\"\",IF('3 Irrigation Schedule'!$P$19<P240,'3 Irrigation Schedule'!$P$19,P240))","v":""},"",{"$f":"IF(H240=\"\",\"\",V240/'3 Irrigation Schedule'!$M$19)","v":""}]
[null,null,null,"2020","September","2020-09-24",null,"","",5.2796800000000008,3.2666666666666684E-2,"",0,"",{"$f":"IF(OR('3 Irrigation Schedule'!$C$29=\"\",'3 Irrigation Schedule'!$C$31=\"\",H241=\"\"),\"\",(('3 Irrigation Schedule'!$C$29-'3 Irrigation Schedule'!$C$31)/100)*1000*N241)","v":""},"",{"$f":"IF(H241=\"\",\"\",IF(H241=1,O241*(1-'3 Irrigation Schedule'!$C$27),T240-V240))","v":""},"","","",{"$f":"IF(H241=\"\",\"\",IF('3 Irrigation Schedule'!$P$19<P241,'3 Irrigation Schedule'!$P$19,P241))","v":""},"",{"$f":"IF(H241=\"\",\"\",V241/'3 Irrigation Schedule'!$M$19)","v":""}]
[null,null,null,"2020","September","2020-09-25",null,"","",5.2796800000000008,3.2666666666666684E-2,"",0,"",{"$f":"IF(OR('3 Irrigation Schedule'!$C$29=\"\",'3 Irrigation Schedule'!$C$31=\"\",H242=\"\"),\"\",(('3 Irrigation Schedule'!$C$29-'3 Irrigation Schedule'!$C$31)/100)*1000*N242)","v":""},"",{"$f":"IF(H242=\"\",\"\",IF(H242=1,O242*(1-'3 Irrigation Schedule'!$C$27),T241-V241))","v":""},"","","",{"$f":"IF(H242=\"\",\"\",IF('3 Irrigation Schedule'!$P$19<P242,'3 Irrigation Schedule'!$P$19,P242))","v":""},"",{"$f":"IF(H242=\"\",\"\",V242/'3 Irrigation Schedule'!$M$19)","v":""}]
[null,null,null,"2020","September","2020-09-26",null,"","",5.2796800000000008,3.2666666666666684E-2,"",0,"",{"$f":"IF(OR('3 Irrigation Schedule'!$C$29=\"\",'3 Irrigation Schedule'!$C$31=\"\",H243=\"\"),\"\",(('3 Irrigation Schedule'!$C$29-'3 Irrigation Schedule'!$C$31)/100)*1000*N243)","v":""},"",{"$f":"IF(H243=\"\",\"\",IF(H243=1,O243*(1-'3 Irrigation Schedule'!$C$27),T242-V242))","v":""},"","","",{"$f":"IF(H243=\"\",\"\",IF('3 Irrigation Schedule'!$P$19<P243,'3 Irrigation Schedule'!$P$19,P243))","v":""},"",{"$f":"IF(H243=\"\",\"\",V243/'3 Irrigation Schedule'!$M$19)","v":""}]
[null,null,null,"2020","September","2020-09-27",null,"","",5.2796800000000008,3.2666666666666684E-2,"",0,"",{"$f":"IF(OR('3 Irrigation Schedule'!$C$29=\"\",'3 Irrigation Schedule'!$C$31=\"\",H244=\"\"),\"\",(('3 Irrigation Schedule'!$C$29-'3 Irrigation Schedule'!$C$31)/100)*1000*N244)","v":""},"",{"$f":"IF(H244=\"\",\"\",IF(H244=1,O244*(1-'3 Irrigation Schedule'!$C$27),T243-V243))","v":""},"","","",{"$f":"IF(H244=\"\",\"\",IF('3 Irrigation Schedule'!$P$19<P244,'3 Irrigation Schedule'!$P$19,P244))","v":""},"",{"$f":"IF(H244=\"\",\"\",V244/'3 Irrigation Schedule'!$M$19)","v":""}]
[null,null,null,"2020","September","2020-09-28",null,"","",5.2796800000000008,3.2666666666666684E-2,"",0,"",{"$f":"IF(OR('3 Irrigation Schedule'!$C$29=\"\",'3 Irrigation Schedule'!$C$31=\"\",H245=\"\"),\"\",(('3 Irrigation Schedule'!$C$29-'3 Irrigation Schedule'!$C$31)/100)*1000*N245)","v":""},"",{"$f":"IF(H245=\"\",\"\",IF(H245=1,O245*(1-'3 Irrigation Schedule'!$C$27),T244-V244))","v":""},"","","",{"$f":"IF(H245=\"\",\"\",IF('3 Irrigation Schedule'!$P$19<P245,'3 Irrigation Schedule'!$P$19,P245))","v":""},"",{"$f":"IF(H245=\"\",\"\",V245/'3 Irrigation Schedule'!$M$19)","v":""}]
[null,null,null,"2020","September","2020-09-29",null,"","",5.2796800000000008,3.2666666666666684E-2,"",0,"",{"$f":"IF(OR('3 Irrigation Schedule'!$C$29=\"\",'3 Irrigation Schedule'!$C$31=\"\",H246=\"\"),\"\",(('3 Irrigation Schedule'!$C$29-'3 Irrigation Schedule'!$C$31)/100)*1000*N246)","v":""},"",{"$f":"IF(H246=\"\",\"\",IF(H246=1,O246*(1-'3 Irrigation Schedule'!$C$27),T245-V245))","v":""},"","","",{"$f":"IF(H246=\"\",\"\",IF('3 Irrigation Schedule'!$P$19<P246,'3 Irrigation Schedule'!$P$19,P246))","v":""},"",{"$f":"IF(H246=\"\",\"\",V246/'3 Irrigation Schedule'!$M$19)","v":""}]
[null,null,null,"2020","September","2020-09-30",null,"","",5.2796800000000008,3.2666666666666684E-2,"",0,"",{"$f":"IF(OR('3 Irrigation Schedule'!$C$29=\"\",'3 Irrigation Schedule'!$C$31=\"\",H247=\"\"),\"\",(('3 Irrigation Schedule'!$C$29-'3 Irrigation Schedule'!$C$31)/100)*1000*N247)","v":""},"",{"$f":"IF(H247=\"\",\"\",IF(H247=1,O247*(1-'3 Irrigation Schedule'!$C$27),T246-V246))","v":""},"","","",{"$f":"IF(H247=\"\",\"\",IF('3 Irrigation Schedule'!$P$19<P247,'3 Irrigation Schedule'!$P$19,P247))","v":""},"",{"$f":"IF(H247=\"\",\"\",V247/'3 Irrigation Schedule'!$M$19)","v":""}]
[null,null,null,"2020","October","2020-10-01",null,"","",5.1283799999999999,0.61225806451612896,"",0,"",{"$f":"IF(OR('3 Irrigation Schedule'!$C$29=\"\",'3 Irrigation Schedule'!$C$31=\"\",H248=\"\"),\"\",(('3 Irrigation Schedule'!$C$29-'3 Irrigation Schedule'!$C$31)/100)*1000*N248)","v":""},"",{"$f":"IF(H248=\"\",\"\",IF(H248=1,O248*(1-'3 Irrigation Schedule'!$C$27),T247-V247))","v":""},"","","",{"$f":"IF(H248=\"\",\"\",IF('3 Irrigation Schedule'!$P$19<P248,'3 Irrigation Schedule'!$P$19,P248))","v":""},"",{"$f":"IF(H248=\"\",\"\",V248/'3 Irrigation Schedule'!$M$19)","v":""}]
[null,null,null,"2020","October","2020-10-02",null,"","",5.1283799999999999,0.61225806451612896,"",0,"",{"$f":"IF(OR('3 Irrigation Schedule'!$C$29=\"\",'3 Irrigation Schedule'!$C$31=\"\",H249=\"\"),\"\",(('3 Irrigation Schedule'!$C$29-'3 Irrigation Schedule'!$C$31)/100)*1000*N249)","v":""},"",{"$f":"IF(H249=\"\",\"\",IF(H249=1,O249*(1-'3 Irrigation Schedule'!$C$27),T248-V248))","v":""},"","","",{"$f":"IF(H249=\"\",\"\",IF('3 Irrigation Schedule'!$P$19<P249,'3 Irrigation Schedule'!$P$19,P249))","v":""},"",{"$f":"IF(H249=\"\",\"\",V249/'3 Irrigation Schedule'!$M$19)","v":""}]
[null,null,null,"2020","October","2020-10-03",null,"","",5.1283799999999999,0.61225806451612896,"",0,"",{"$f":"IF(OR('3 Irrigation Schedule'!$C$29=\"\",'3 Irrigation Schedule'!$C$31=\"\",H250=\"\"),\"\",(('3 Irrigation Schedule'!$C$29-'3 Irrigation Schedule'!$C$31)/100)*1000*N250)","v":""},"",{"$f":"IF(H250=\"\",\"\",IF(H250=1,O250*(1-'3 Irrigation Schedule'!$C$27),T249-V249))","v":""},"","","",{"$f":"IF(H250=\"\",\"\",IF('3 Irrigation Schedule'!$P$19<P250,'3 Irrigation Schedule'!$P$19,P250))","v":""},"",{"$f":"IF(H250=\"\",\"\",V250/'3 Irrigation Schedule'!$M$19)","v":""}]
[null,null,null,"2020","October","2020-10-04",null,"","",5.1283799999999999,0.61225806451612896,"",0,"",{"$f":"IF(OR('3 Irrigation Schedule'!$C$29=\"\",'3 Irrigation Schedule'!$C$31=\"\",H251=\"\"),\"\",(('3 Irrigation Schedule'!$C$29-'3 Irrigation Schedule'!$C$31)/100)*1000*N251)","v":""},"",{"$f":"IF(H251=\"\",\"\",IF(H251=1,O251*(1-'3 Irrigation Schedule'!$C$27),T250-V250))","v":""},"","","",{"$f":"IF(H251=\"\",\"\",IF('3 Irrigation Schedule'!$P$19<P251,'3 Irrigation Schedule'!$P$19,P251))","v":""},"",{"$f":"IF(H251=\"\",\"\",V251/'3 Irrigation Schedule'!$M$19)","v":""}]
[null,null,null,"2020","October","2020-10-05",null,"","",5.1283799999999999,0.61225806451612896,"",0,"",{"$f":"IF(OR('3 Irrigation Schedule'!$C$29=\"\",'3 Irrigation Schedule'!$C$31=\"\",H252=\"\"),\"\",(('3 Irrigation Schedule'!$C$29-'3 Irrigation Schedule'!$C$31)/100)*1000*N252)","v":""},"",{"$f":"IF(H252=\"\",\"\",IF(H252=1,O252*(1-'3 Irrigation Schedule'!$C$27),T251-V251))","v":""},"","","",{"$f":"IF(H252=\"\",\"\",IF('3 Irrigation Schedule'!$P$19<P252,'3 Irrigation Schedule'!$P$19,P252))","v":""},"",{"$f":"IF(H252=\"\",\"\",V252/'3 Irrigation Schedule'!$M$19)","v":""}]
[null,null,null,"2020","October","2020-10-06",null,"","",5.1283799999999999,0.61225806451612896,"",0,"",{"$f":"IF(OR('3 Irrigation Schedule'!$C$29=\"\",'3 Irrigation Schedule'!$C$31=\"\",H253=\"\"),\"\",(('3 Irrigation Schedule'!$C$29-'3 Irrigation Schedule'!$C$31)/100)*1000*N253)","v":""},"",{"$f":"IF(H253=\"\",\"\",IF(H253=1,O253*(1-'3 Irrigation Schedule'!$C$27),T252-V252))","v":""},"","","",{"$f":"IF(H253=\"\",\"\",IF('3 Irrigation Schedule'!$P$19<P253,'3 Irrigation Schedule'!$P$19,P253))","v":""},"",{"$f":"IF(H253=\"\",\"\",V253/'3 Irrigation Schedule'!$M$19)","v":""}]
[null,null,null,"2020","October","2020-10-07",null,"","",5.1283799999999999,0.61225806451612896,"",0,"",{"$f":"IF(OR('3 Irrigation Schedule'!$C$29=\"\",'3 Irrigation Schedule'!$C$31=\"\",H254=\"\"),\"\",(('3 Irrigation Schedule'!$C$29-'3 Irrigation Schedule'!$C$31)/100)*1000*N254)","v":""},"",{"$f":"IF(H254=\"\",\"\",IF(H254=1,O254*(1-'3 Irrigation Schedule'!$C$27),T253-V253))","v":""},"","","",{"$f":"IF(H254=\"\",\"\",IF('3 Irrigation Schedule'!$P$19<P254,'3 Irrigation Schedule'!$P$19,P254))","v":""},"",{"$f":"IF(H254=\"\",\"\",V254/'3 Irrigation Schedule'!$M$19)","v":""}]
[null,null,null,"2020","October","2020-10-08",null,"","",5.1283799999999999,0.61225806451612896,"",0,"",{"$f":"IF(OR('3 Irrigation Schedule'!$C$29=\"\",'3 Irrigation Schedule'!$C$31=\"\",H255=\"\"),\"\",(('3 Irrigation Schedule'!$C$29-'3 Irrigation Schedule'!$C$31)/100)*1000*N255)","v":""},"",{"$f":"IF(H255=\"\",\"\",IF(H255=1,O255*(1-'3 Irrigation Schedule'!$C$27),T254-V254))","v":""},"","","",{"$f":"IF(H255=\"\",\"\",IF('3 Irrigation Schedule'!$P$19<P255,'3 Irrigation Schedule'!$P$19,P255))","v":""},"",{"$f":"IF(H255=\"\",\"\",V255/'3 Irrigation Schedule'!$M$19)","v":""}]
[null,null,null,"2020","October","2020-10-09",null,"","",5.1283799999999999,0.61225806451612896,"",0,"",{"$f":"IF(OR('3 Irrigation Schedule'!$C$29=\"\",'3 Irrigation Schedule'!$C$31=\"\",H256=\"\"),\"\",(('3 Irrigation Schedule'!$C$29-'3 Irrigation Schedule'!$C$31)/100)*1000*N256)","v":""},"",{"$f":"IF(H256=\"\",\"\",IF(H256=1,O256*(1-'3 Irrigation Schedule'!$C$27),T255-V255))","v":""},"","","",{"$f":"IF(H256=\"\",\"\",IF('3 Irrigation Schedule'!$P$19<P256,'3 Irrigation Schedule'!$P$19,P256))","v":""},"",{"$f":"IF(H256=\"\",\"\",V256/'3 Irrigation Schedule'!$M$19)","v":""}]
[null,null,null,"2020","October","2020-10-10",null,"","",5.1283799999999999,0.61225806451612896,"",0,"",{"$f":"IF(OR('3 Irrigation Schedule'!$C$29=\"\",'3 Irrigation Schedule'!$C$31=\"\",H257=\"\"),\"\",(('3 Irrigation Schedule'!$C$29-'3 Irrigation Schedule'!$C$31)/100)*1000*N257)","v":""},"",{"$f":"IF(H257=\"\",\"\",IF(H257=1,O257*(1-'3 Irrigation Schedule'!$C$27),T256-V256))","v":""},"","","",{"$f":"IF(H257=\"\",\"\",IF('3 Irrigation Schedule'!$P$19<P257,'3 Irrigation Schedule'!$P$19,P257))","v":""},"",{"$f":"IF(H257=\"\",\"\",V257/'3 Irrigation Schedule'!$M$19)","v":""}]
[null,null,null,"2020","October","2020-10-11",null,"","",5.1283799999999999,0.61225806451612896,"",0,"",{"$f":"IF(OR('3 Irrigation Schedule'!$C$29=\"\",'3 Irrigation Schedule'!$C$31=\"\",H258=\"\"),\"\",(('3 Irrigation Schedule'!$C$29-'3 Irrigation Schedule'!$C$31)/100)*1000*N258)","v":""},"",{"$f":"IF(H258=\"\",\"\",IF(H258=1,O258*(1-'3 Irrigation Schedule'!$C$27),T257-V257))","v":""},"","","",{"$f":"IF(H258=\"\",\"\",IF('3 Irrigation Schedule'!$P$19<P258,'3 Irrigation Schedule'!$P$19,P258))","v":""},"",{"$f":"IF(H258=\"\",\"\",V258/'3 Irrigation Schedule'!$M$19)","v":""}]
[null,null,null,"2020","October","2020-10-12",null,"","",5.1283799999999999,0.61225806451612896,"",0,"",{"$f":"IF(OR('3 Irrigation Schedule'!$C$29=\"\",'3 Irrigation Schedule'!$C$31=\"\",H259=\"\"),\"\",(('3 Irrigation Schedule'!$C$29-'3 Irrigation Schedule'!$C$31)/100)*1000*N259)","v":""},"",{"$f":"IF(H259=\"\",\"\",IF(H259=1,O259*(1-'3 Irrigation Schedule'!$C$27),T258-V258))","v":""},"","","",{"$f":"IF(H259=\"\",\"\",IF('3 Irrigation Schedule'!$P$19<P259,'3 Irrigation Schedule'!$P$19,P259))","v":""},"",{"$f":"IF(H259=\"\",\"\",V259/'3 Irrigation Schedule'!$M$19)","v":""}]
[null,null,null,"2020","October","2020-10-13",null,"","",5.1283799999999999,0.61225806451612896,"",0,"",{"$f":"IF(OR('3 Irrigation Schedule'!$C$29=\"\",'3 Irrigation Schedule'!$C$31=\"\",H260=\"\"),\"\",(('3 Irrigation Schedule'!$C$29-'3 Irrigation Schedule'!$C$31)/100)*1000*N260)","v":""},"",{"$f":"IF(H260=\"\",\"\",IF(H260=1,O260*(1-'3 Irrigation Schedule'!$C$27),T259-V259))","v":""},"","","",{"$f":"IF(H260=\"\",\"\",IF('3 Irrigation Schedule'!$P$19<P260,'3 Irrigation Schedule'!$P$19,P260))","v":""},"",{"$f":"IF(H260=\"\",\"\",V260/'3 Irrigation Schedule'!$M$19)","v":""}]
[null,null,null,"2020","October","2020-10-14",null,"","",5.1283799999999999,0.61225806451612896,"",0,"",{"$f":"IF(OR('3 Irrigation Schedule'!$C$29=\"\",'3 Irrigation Schedule'!$C$31=\"\",H261=\"\"),\"\",(('3 Irrigation Schedule'!$C$29-'3 Irrigation Schedule'!$C$31)/100)*1000*N261)","v":""},"",{"$f":"IF(H261=\"\",\"\",IF(H261=1,O261*(1-'3 Irrigation Schedule'!$C$27),T260-V260))","v":""},"","","",{"$f":"IF(H261=\"\",\"\",IF('3 Irrigation Schedule'!$P$19<P261,'3 Irrigation Schedule'!$P$19,P261))","v":""},"",{"$f":"IF(H261=\"\",\"\",V261/'3 Irrigation Schedule'!$M$19)","v":""}]
[null,null,null,"2020","October","2020-10-15",null,"","",5.1283799999999999,0.61225806451612896,"",0,"",{"$f":"IF(OR('3 Irrigation Schedule'!$C$29=\"\",'3 Irrigation Schedule'!$C$31=\"\",H262=\"\"),\"\",(('3 Irrigation Schedule'!$C$29-'3 Irrigation Schedule'!$C$31)/100)*1000*N262)","v":""},"",{"$f":"IF(H262=\"\",\"\",IF(H262=1,O262*(1-'3 Irrigation Schedule'!$C$27),T261-V261))","v":""},"","","",{"$f":"IF(H262=\"\",\"\",IF('3 Irrigation Schedule'!$P$19<P262,'3 Irrigation Schedule'!$P$19,P262))","v":""},"",{"$f":"IF(H262=\"\",\"\",V262/'3 Irrigation Schedule'!$M$19)","v":""}]
[null,null,null,"2020","October","2020-10-16",null,"","",5.1283799999999999,0.61225806451612896,"",0,"",{"$f":"IF(OR('3 Irrigation Schedule'!$C$29=\"\",'3 Irrigation Schedule'!$C$31=\"\",H263=\"\"),\"\",(('3 Irrigation Schedule'!$C$29-'3 Irrigation Schedule'!$C$31)/100)*1000*N263)","v":""},"",{"$f":"IF(H263=\"\",\"\",IF(H263=1,O263*(1-'3 Irrigation Schedule'!$C$27),T262-V262))","v":""},"","","",{"$f":"IF(H263=\"\",\"\",IF('3 Irrigation Schedule'!$P$19<P263,'3 Irrigation Schedule'!$P$19,P263))","v":""},"",{"$f":"IF(H263=\"\",\"\",V263/'3 Irrigation Schedule'!$M$19)","v":""}]
[null,null,null,"2020","October","2020-10-17",null,"","",5.1283799999999999,0.61225806451612896,"",0,"",{"$f":"IF(OR('3 Irrigation Schedule'!$C$29=\"\",'3 Irrigation Schedule'!$C$31=\"\",H264=\"\"),\"\",(('3 Irrigation Schedule'!$C$29-'3 Irrigation Schedule'!$C$31)/100)*1000*N264)","v":""},"",{"$f":"IF(H264=\"\",\"\",IF(H264=1,O264*(1-'3 Irrigation Schedule'!$C$27),T263-V263))","v":""},"","","",{"$f":"IF(H264=\"\",\"\",IF('3 Irrigation Schedule'!$P$19<P264,'3 Irrigation Schedule'!$P$19,P264))","v":""},"",{"$f":"IF(H264=\"\",\"\",V264/'3 Irrigation Schedule'!$M$19)","v":""}]
[null,null,null,"2020","October","2020-10-18",null,"","",5.1283799999999999,0.61225806451612896,"",0,"",{"$f":"IF(OR('3 Irrigation Schedule'!$C$29=\"\",'3 Irrigation Schedule'!$C$31=\"\",H265=\"\"),\"\",(('3 Irrigation Schedule'!$C$29-'3 Irrigation Schedule'!$C$31)/100)*1000*N265)","v":""},"",{"$f":"IF(H265=\"\",\"\",IF(H265=1,O265*(1-'3 Irrigation Schedule'!$C$27),T264-V264))","v":""},"","","",{"$f":"IF(H265=\"\",\"\",IF('3 Irrigation Schedule'!$P$19<P265,'3 Irrigation Schedule'!$P$19,P265))","v":""},"",{"$f":"IF(H265=\"\",\"\",V265/'3 Irrigation Schedule'!$M$19)","v":""}]
[null,null,null,"2020","October","2020-10-19",null,"","",5.1283799999999999,0.61225806451612896,"",0,"",{"$f":"IF(OR('3 Irrigation Schedule'!$C$29=\"\",'3 Irrigation Schedule'!$C$31=\"\",H266=\"\"),\"\",(('3 Irrigation Schedule'!$C$29-'3 Irrigation Schedule'!$C$31)/100)*1000*N266)","v":""},"",{"$f":"IF(H266=\"\",\"\",IF(H266=1,O266*(1-'3 Irrigation Schedule'!$C$27),T265-V265))","v":""},"","","",{"$f":"IF(H266=\"\",\"\",IF('3 Irrigation Schedule'!$P$19<P266,'3 Irrigation Schedule'!$P$19,P266))","v":""},"",{"$f":"IF(H266=\"\",\"\",V266/'3 Irrigation Schedule'!$M$19)","v":""}]
[null,null,null,"2020","October","2020-10-20",null,"","",5.1283799999999999,0.61225806451612896,"",0,"",{"$f":"IF(OR('3 Irrigation Schedule'!$C$29=\"\",'3 Irrigation Schedule'!$C$31=\"\",H267=\"\"),\"\",(('3 Irrigation Schedule'!$C$29-'3 Irrigation Schedule'!$C$31)/100)*1000*N267)","v":""},"",{"$f":"IF(H267=\"\",\"\",IF(H267=1,O267*(1-'3 Irrigation Schedule'!$C$27),T266-V266))","v":""},"","","",{"$f":"IF(H267=\"\",\"\",IF('3 Irrigation Schedule'!$P$19<P267,'3 Irrigation Schedule'!$P$19,P267))","v":""},"",{"$f":"IF(H267=\"\",\"\",V267/'3 Irrigation Schedule'!$M$19)","v":""}]
[null,null,null,"2020","October","2020-10-21",null,"","",5.1283799999999999,0.61225806451612896,"",0,"",{"$f":"IF(OR('3 Irrigation Schedule'!$C$29=\"\",'3 Irrigation Schedule'!$C$31=\"\",H268=\"\"),\"\",(('3 Irrigation Schedule'!$C$29-'3 Irrigation Schedule'!$C$31)/100)*1000*N268)","v":""},"",{"$f":"IF(H268=\"\",\"\",IF(H268=1,O268*(1-'3 Irrigation Schedule'!$C$27),T267-V267))","v":""},"","","",{"$f":"IF(H268=\"\",\"\",IF('3 Irrigation Schedule'!$P$19<P268,'3 Irrigation Schedule'!$P$19,P268))","v":""},"",{"$f":"IF(H268=\"\",\"\",V268/'3 Irrigation Schedule'!$M$19)","v":""}]
[null,null,null,"2020","October","2020-10-22",null,"","",5.1283799999999999,0.61225806451612896,"",0,"",{"$f":"IF(OR('3 Irrigation Schedule'!$C$29=\"\",'3 Irrigation Schedule'!$C$31=\"\",H269=\"\"),\"\",(('3 Irrigation Schedule'!$C$29-'3 Irrigation Schedule'!$C$31)/100)*1000*N269)","v":""},"",{"$f":"IF(H269=\"\",\"\",IF(H269=1,O269*(1-'3 Irrigation Schedule'!$C$27),T268-V268))","v":""},"","","",{"$f":"IF(H269=\"\",\"\",IF('3 Irrigation Schedule'!$P$19<P269,'3 Irrigation Schedule'!$P$19,P269))","v":""},"",{"$f":"IF(H269=\"\",\"\",V269/'3 Irrigation Schedule'!$M$19)","v":""}]
[null,null,null,"2020","October","2020-10-23",null,"","",5.1283799999999999,0.61225806451612896,"",0,"",{"$f":"IF(OR('3 Irrigation Schedule'!$C$29=\"\",'3 Irrigation Schedule'!$C$31=\"\",H270=\"\"),\"\",(('3 Irrigation Schedule'!$C$29-'3 Irrigation Schedule'!$C$31)/100)*1000*N270)","v":""},"",{"$f":"IF(H270=\"\",\"\",IF(H270=1,O270*(1-'3 Irrigation Schedule'!$C$27),T269-V269))","v":""},"","","",{"$f":"IF(H270=\"\",\"\",IF('3 Irrigation Schedule'!$P$19<P270,'3 Irrigation Schedule'!$P$19,P270))","v":""},"",{"$f":"IF(H270=\"\",\"\",V270/'3 Irrigation Schedule'!$M$19)","v":""}]
[null,null,null,"2020","October","2020-10-24",null,"","",5.1283799999999999,0.61225806451612896,"",0,"",{"$f":"IF(OR('3 Irrigation Schedule'!$C$29=\"\",'3 Irrigation Schedule'!$C$31=\"\",H271=\"\"),\"\",(('3 Irrigation Schedule'!$C$29-'3 Irrigation Schedule'!$C$31)/100)*1000*N271)","v":""},"",{"$f":"IF(H271=\"\",\"\",IF(H271=1,O271*(1-'3 Irrigation Schedule'!$C$27),T270-V270))","v":""},"","","",{"$f":"IF(H271=\"\",\"\",IF('3 Irrigation Schedule'!$P$19<P271,'3 Irrigation Schedule'!$P$19,P271))","v":""},"",{"$f":"IF(H271=\"\",\"\",V271/'3 Irrigation Schedule'!$M$19)","v":""}]
[null,null,null,"2020","October","2020-10-25",null,"","",5.1283799999999999,0.61225806451612896,"",0,"",{"$f":"IF(OR('3 Irrigation Schedule'!$C$29=\"\",'3 Irrigation Schedule'!$C$31=\"\",H272=\"\"),\"\",(('3 Irrigation Schedule'!$C$29-'3 Irrigation Schedule'!$C$31)/100)*1000*N272)","v":""},"",{"$f":"IF(H272=\"\",\"\",IF(H272=1,O272*(1-'3 Irrigation Schedule'!$C$27),T271-V271))","v":""},"","","",{"$f":"IF(H272=\"\",\"\",IF('3 Irrigation Schedule'!$P$19<P272,'3 Irrigation Schedule'!$P$19,P272))","v":""},"",{"$f":"IF(H272=\"\",\"\",V272/'3 Irrigation Schedule'!$M$19)","v":""}]
[null,null,null,"2020","October","2020-10-26",null,"","",5.1283799999999999,0.61225806451612896,"",0,"",{"$f":"IF(OR('3 Irrigation Schedule'!$C$29=\"\",'3 Irrigation Schedule'!$C$31=\"\",H273=\"\"),\"\",(('3 Irrigation Schedule'!$C$29-'3 Irrigation Schedule'!$C$31)/100)*1000*N273)","v":""},"",{"$f":"IF(H273=\"\",\"\",IF(H273=1,O273*(1-'3 Irrigation Schedule'!$C$27),T272-V272))","v":""},"","","",{"$f":"IF(H273=\"\",\"\",IF('3 Irrigation Schedule'!$P$19<P273,'3 Irrigation Schedule'!$P$19,P273))","v":""},"",{"$f":"IF(H273=\"\",\"\",V273/'3 Irrigation Schedule'!$M$19)","v":""}]
[null,null,null,"2020","October","2020-10-27",null,"","",5.1283799999999999,0.61225806451612896,"",0,"",{"$f":"IF(OR('3 Irrigation Schedule'!$C$29=\"\",'3 Irrigation Schedule'!$C$31=\"\",H274=\"\"),\"\",(('3 Irrigation Schedule'!$C$29-'3 Irrigation Schedule'!$C$31)/100)*1000*N274)","v":""},"",{"$f":"IF(H274=\"\",\"\",IF(H274=1,O274*(1-'3 Irrigation Schedule'!$C$27),T273-V273))","v":""},"","","",{"$f":"IF(H274=\"\",\"\",IF('3 Irrigation Schedule'!$P$19<P274,'3 Irrigation Schedule'!$P$19,P274))","v":""},"",{"$f":"IF(H274=\"\",\"\",V274/'3 Irrigation Schedule'!$M$19)","v":""}]
[null,null,null,"2020","October","2020-10-28",null,"","",5.1283799999999999,0.61225806451612896,"",0,"",{"$f":"IF(OR('3 Irrigation Schedule'!$C$29=\"\",'3 Irrigation Schedule'!$C$31=\"\",H275=\"\"),\"\",(('3 Irrigation Schedule'!$C$29-'3 Irrigation Schedule'!$C$31)/100)*1000*N275)","v":""},"",{"$f":"IF(H275=\"\",\"\",IF(H275=1,O275*(1-'3 Irrigation Schedule'!$C$27),T274-V274))","v":""},"","","",{"$f":"IF(H275=\"\",\"\",IF('3 Irrigation Schedule'!$P$19<P275,'3 Irrigation Schedule'!$P$19,P275))","v":""},"",{"$f":"IF(H275=\"\",\"\",V275/'3 Irrigation Schedule'!$M$19)","v":""}]
[null,null,null,"2020","October","2020-10-29",null,"","",5.1283799999999999,0.61225806451612896,"",0,"",{"$f":"IF(OR('3 Irrigation Schedule'!$C$29=\"\",'3 Irrigation Schedule'!$C$31=\"\",H276=\"\"),\"\",(('3 Irrigation Schedule'!$C$29-'3 Irrigation Schedule'!$C$31)/100)*1000*N276)","v":""},"",{"$f":"IF(H276=\"\",\"\",IF(H276=1,O276*(1-'3 Irrigation Schedule'!$C$27),T275-V275))","v":""},"","","",{"$f":"IF(H276=\"\",\"\",IF('3 Irrigation Schedule'!$P$19<P276,'3 Irrigation Schedule'!$P$19,P276))","v":""},"",{"$f":"IF(H276=\"\",\"\",V276/'3 Irrigation Schedule'!$M$19)","v":""}]
[null,null,null,"2020","October","2020-10-30",null,"","",5.1283799999999999,0.61225806451612896,"",0,"",{"$f":"IF(OR('3 Irrigation Schedule'!$C$29=\"\",'3 Irrigation Schedule'!$C$31=\"\",H277=\"\"),\"\",(('3 Irrigation Schedule'!$C$29-'3 Irrigation Schedule'!$C$31)/100)*1000*N277)","v":""},"",{"$f":"IF(H277=\"\",\"\",IF(H277=1,O277*(1-'3 Irrigation Schedule'!$C$27),T276-V276))","v":""},"","","",{"$f":"IF(H277=\"\",\"\",IF('3 Irrigation Schedule'!$P$19<P277,'3 Irrigation Schedule'!$P$19,P277))","v":""},"",{"$f":"IF(H277=\"\",\"\",V277/'3 Irrigation Schedule'!$M$19)","v":""}]
[null,null,null,"2020","October","2020-10-31",null,"","",5.1283799999999999,0.61225806451612896,"",0,"",{"$f":"IF(OR('3 Irrigation Schedule'!$C$29=\"\",'3 Irrigation Schedule'!$C$31=\"\",H278=\"\"),\"\",(('3 Irrigation Schedule'!$C$29-'3 Irrigation Schedule'!$C$31)/100)*1000*N278)","v":""},"",{"$f":"IF(H278=\"\",\"\",IF(H278=1,O278*(1-'3 Irrigation Schedule'!$C$27),T277-V277))","v":""},"","","",{"$f":"IF(H278=\"\",\"\",IF('3 Irrigation Schedule'!$P$19<P278,'3 Irrigation Schedule'!$P$19,P278))","v":""},"",{"$f":"IF(H278=\"\",\"\",V278/'3 Irrigation Schedule'!$M$19)","v":""}]
[null,null,null,"2020","November","2020-11-01",null,"","",5.091120000000001,1.7920000000000003,"",0,"",{"$f":"IF(OR('3 Irrigation Schedule'!$C$29=\"\",'3 Irrigation Schedule'!$C$31=\"\",H279=\"\"),\"\",(('3 Irrigation Schedule'!$C$29-'3 Irrigation Schedule'!$C$31)/100)*1000*N279)","v":""},"",{"$f":"IF(H279=\"\",\"\",IF(H279=1,O279*(1-'3 Irrigation Schedule'!$C$27),T278-V278))","v":""},"","","",{"$f":"IF(H279=\"\",\"\",IF('3 Irrigation Schedule'!$P$19<P279,'3 Irrigation Schedule'!$P$19,P279))","v":""},"",{"$f":"IF(H279=\"\",\"\",V279/'3 Irrigation Schedule'!$M$19)","v":""}]
[null,null,null,"2020","November","2020-11-02",null,"","",5.091120000000001,1.7920000000000003,"",0,"",{"$f":"IF(OR('3 Irrigation Schedule'!$C$29=\"\",'3 Irrigation Schedule'!$C$31=\"\",H280=\"\"),\"\",(('3 Irrigation Schedule'!$C$29-'3 Irrigation Schedule'!$C$31)/100)*1000*N280)","v":""},"",{"$f":"IF(H280=\"\",\"\",IF(H280=1,O280*(1-'3 Irrigation Schedule'!$C$27),T279-V279))","v":""},"","","",{"$f":"IF(H280=\"\",\"\",IF('3 Irrigation Schedule'!$P$19<P280,'3 Irrigation Schedule'!$P$19,P280))","v":""},"",{"$f":"IF(H280=\"\",\"\",V280/'3 Irrigation Schedule'!$M$19)","v":""}]
[null,null,null,"2020","November","2020-11-03",null,"","",5.091120000000001,1.7920000000000003,"",0,"",{"$f":"IF(OR('3 Irrigation Schedule'!$C$29=\"\",'3 Irrigation Schedule'!$C$31=\"\",H281=\"\"),\"\",(('3 Irrigation Schedule'!$C$29-'3 Irrigation Schedule'!$C$31)/100)*1000*N281)","v":""},"",{"$f":"IF(H281=\"\",\"\",IF(H281=1,O281*(1-'3 Irrigation Schedule'!$C$27),T280-V280))","v":""},"","","",{"$f":"IF(H281=\"\",\"\",IF('3 Irrigation Schedule'!$P$19<P281,'3 Irrigation Schedule'!$P$19,P281))","v":""},"",{"$f":"IF(H281=\"\",\"\",V281/'3 Irrigation Schedule'!$M$19)","v":""}]
[null,null,null,"2020","November","2020-11-04",null,"","",5.091120000000001,1.7920000000000003,"",0,"",{"$f":"IF(OR('3 Irrigation Schedule'!$C$29=\"\",'3 Irrigation Schedule'!$C$31=\"\",H282=\"\"),\"\",(('3 Irrigation Schedule'!$C$29-'3 Irrigation Schedule'!$C$31)/100)*1000*N282)","v":""},"",{"$f":"IF(H282=\"\",\"\",IF(H282=1,O282*(1-'3 Irrigation Schedule'!$C$27),T281-V281))","v":""},"","","",{"$f":"IF(H282=\"\",\"\",IF('3 Irrigation Schedule'!$P$19<P282,'3 Irrigation Schedule'!$P$19,P282))","v":""},"",{"$f":"IF(H282=\"\",\"\",V282/'3 Irrigation Schedule'!$M$19)","v":""}]
[null,null,null,"2020","November","2020-11-05",null,"","",5.091120000000001,1.7920000000000003,"",0,"",{"$f":"IF(OR('3 Irrigation Schedule'!$C$29=\"\",'3 Irrigation Schedule'!$C$31=\"\",H283=\"\"),\"\",(('3 Irrigation Schedule'!$C$29-'3 Irrigation Schedule'!$C$31)/100)*1000*N283)","v":""},"",{"$f":"IF(H283=\"\",\"\",IF(H283=1,O283*(1-'3 Irrigation Schedule'!$C$27),T282-V282))","v":""},"","","",{"$f":"IF(H283=\"\",\"\",IF('3 Irrigation Schedule'!$P$19<P283,'3 Irrigation Schedule'!$P$19,P283))","v":""},"",{"$f":"IF(H283=\"\",\"\",V283/'3 Irrigation Schedule'!$M$19)","v":""}]
[null,null,null,"2020","November","2020-11-06",null,"","",5.091120000000001,1.7920000000000003,"",0,"",{"$f":"IF(OR('3 Irrigation Schedule'!$C$29=\"\",'3 Irrigation Schedule'!$C$31=\"\",H284=\"\"),\"\",(('3 Irrigation Schedule'!$C$29-'3 Irrigation Schedule'!$C$31)/100)*1000*N284)","v":""},"",{"$f":"IF(H284=\"\",\"\",IF(H284=1,O284*(1-'3 Irrigation Schedule'!$C$27),T283-V283))","v":""},"","","",{"$f":"IF(H284=\"\",\"\",IF('3 Irrigation Schedule'!$P$19<P284,'3 Irrigation Schedule'!$P$19,P284))","v":""},"",{"$f":"IF(H284=\"\",\"\",V284/'3 Irrigation Schedule'!$M$19)","v":""}]
[null,null,null,"2020","November","2020-11-07",null,"","",5.091120000000001,1.7920000000000003,"",0,"",{"$f":"IF(OR('3 Irrigation Schedule'!$C$29=\"\",'3 Irrigation Schedule'!$C$31=\"\",H285=\"\"),\"\",(('3 Irrigation Schedule'!$C$29-'3 Irrigation Schedule'!$C$31)/100)*1000*N285)","v":""},"",{"$f":"IF(H285=\"\",\"\",IF(H285=1,O285*(1-'3 Irrigation Schedule'!$C$27),T284-V284))","v":""},"","","",{"$f":"IF(H285=\"\",\"\",IF('3 Irrigation Schedule'!$P$19<P285,'3 Irrigation Schedule'!$P$19,P285))","v":""},"",{"$f":"IF(H285=\"\",\"\",V285/'3 Irrigation Schedule'!$M$19)","v":""}]
[null,null,null,"2020","November","2020-11-08",null,"","",5.091120000000001,1.7920000000000003,"",0,"",{"$f":"IF(OR('3 Irrigation Schedule'!$C$29=\"\",'3 Irrigation Schedule'!$C$31=\"\",H286=\"\"),\"\",(('3 Irrigation Schedule'!$C$29-'3 Irrigation Schedule'!$C$31)/100)*1000*N286)","v":""},"",{"$f":"IF(H286=\"\",\"\",IF(H286=1,O286*(1-'3 Irrigation Schedule'!$C$27),T285-V285))","v":""},"","","",{"$f":"IF(H286=\"\",\"\",IF('3 Irrigation Schedule'!$P$19<P286,'3 Irrigation Schedule'!$P$19,P286))","v":""},"",{"$f":"IF(H286=\"\",\"\",V286/'3 Irrigation Schedule'!$M$19)","v":""}]
[null,null,null,"2020","November","2020-11-09",null,"","",5.091120000000001,1.7920000000000003,"",0,"",{"$f":"IF(OR('3 Irrigation Schedule'!$C$29=\"\",'3 Irrigation Schedule'!$C$31=\"\",H287=\"\"),\"\",(('3 Irrigation Schedule'!$C$29-'3 Irrigation Schedule'!$C$31)/100)*1000*N287)","v":""},"",{"$f":"IF(H287=\"\",\"\",IF(H287=1,O287*(1-'3 Irrigation Schedule'!$C$27),T286-V286))","v":""},"","","",{"$f":"IF(H287=\"\",\"\",IF('3 Irrigation Schedule'!$P$19<P287,'3 Irrigation Schedule'!$P$19,P287))","v":""},"",{"$f":"IF(H287=\"\",\"\",V287/'3 Irrigation Schedule'!$M$19)","v":""}]
[null,null,null,"2020","November","2020-11-10",null,"","",5.091120000000001,1.7920000000000003,"",0,"",{"$f":"IF(OR('3 Irrigation Schedule'!$C$29=\"\",'3 Irrigation Schedule'!$C$31=\"\",H288=\"\"),\"\",(('3 Irrigation Schedule'!$C$29-'3 Irrigation Schedule'!$C$31)/100)*1000*N288)","v":""},"",{"$f":"IF(H288=\"\",\"\",IF(H288=1,O288*(1-'3 Irrigation Schedule'!$C$27),T287-V287))","v":""},"","","",{"$f":"IF(H288=\"\",\"\",IF('3 Irrigation Schedule'!$P$19<P288,'3 Irrigation Schedule'!$P$19,P288))","v":""},"",{"$f":"IF(H288=\"\",\"\",V288/'3 Irrigation Schedule'!$M$19)","v":""}]
[null,null,null,"2020","November","2020-11-11",null,"","",5.091120000000001,1.7920000000000003,"",0,"",{"$f":"IF(OR('3 Irrigation Schedule'!$C$29=\"\",'3 Irrigation Schedule'!$C$31=\"\",H289=\"\"),\"\",(('3 Irrigation Schedule'!$C$29-'3 Irrigation Schedule'!$C$31)/100)*1000*N289)","v":""},"",{"$f":"IF(H289=\"\",\"\",IF(H289=1,O289*(1-'3 Irrigation Schedule'!$C$27),T288-V288))","v":""},"","","",{"$f":"IF(H289=\"\",\"\",IF('3 Irrigation Schedule'!$P$19<P289,'3 Irrigation Schedule'!$P$19,P289))","v":""},"",{"$f":"IF(H289=\"\",\"\",V289/'3 Irrigation Schedule'!$M$19)","v":""}]
[null,null,null,{"$f":"IFERROR(TEXT(DATE(YEAR($F290),MONTH($F290),1),$D$7&$D$4),\"\")","v":"2020"},{"$f":"IFERROR(TEXT(DATE(YEAR($F290),MONTH($F290),1),$D$7&$D$5),\"\")","v":"November"},"2020-11-12",null,"",{"$f":"IF(H290=\"\",\"\",IF(H290<=$I$27,\"Initial\",IF(AND(H290>$I$27,H290<=$I$28),\"Development\",IF(AND(H290>$I$28,H290<=$I$29),\"Mid Season\",\"Late Season\"))))","v":""},{"$f":"IFERROR(VLOOKUP($E290,$B$19:$C$30,2,FALSE),\"\")","v":5.091120000000001},1.7920000000000003,{"$f":"IF(H290=\"\",\"\",IF(H290<=$I$27,$L$27,IF(AND(H290>$I$27,H290<=$I$28),$L$27+((H290-$I$27)/$H$28)*($L$29-$L$27),IF(AND(H290>$I$28,H290<=$I$29),$L$29,$L$29+((H290-$I$29)/$H$30)*($L$30-$L$29)))))","v":""},{"$f":"IFERROR((J290*L290),0)","v":0},{"$f":"IF(H290=\"\",\"\",IF(OR(H290=1,H290<$I$28),$M$27+(($M$28-$M$27)*((H290-1)/($I$28-1))),$M$28))","v":""},{"$f":"IF(OR('3 Irrigation Schedule'!$C$29=\"\",'3 Irrigation Schedule'!$C$31=\"\",H290=\"\"),\"\",(('3 Irrigation Schedule'!$C$29-'3 Irrigation Schedule'!$C$31)/100)*1000*N290)","v":""},{"$f":"IF(H290=\"\",\"\",O290*$N$27)","v":""},{"$f":"IF(H290=\"\",\"\",IF(H290=1,O290*(1-'3 Irrigation Schedule'!$C$27),T289-V289))","v":""},{"$f":"IF(H290=\"\",\"\",IF(Q290>P290,(O290-Q290)/(O290-P290),1))","v":""},{"$f":"IF(H290=\"\",\"\",M290*R290)","v":""},{"$f":"IF(H290=\"\",\"\",IF(Q290+S290-K290<0,0,Q290+S290-K290))","v":""},{"$f":"IF(H290=\"\",\"\",IF('3 Irrigation Schedule'!$P$19<P290,'3 Irrigation Schedule'!$P$19,P290))","v":""},{"$f":"IF(H290=\"\",\"\",IF(U290<=T290,U290,0))","v":""},{"$f":"IF(H290=\"\",\"\",V290/'3 Irrigation Schedule'!$M$19)","v":""}]
[null,null,null,"2020","November",{"$f":"IFERROR(IF(F290+1<=$N$7, F290+1,\"\"),\"\")","v":"2020-11-13"},null,{"$f":"IFERROR(IF(OR($F291-$J$27+1<=0,$F291>$K$30),\"\",$F291-$J$27+1),\"\")","v":""},"",5.091120000000001,{"$f":"IFERROR(VLOOKUP($E291,$B$19:$D$30,3,FALSE),\"\")","v":1.7920000000000003},"",0,"",{"$f":"IF(OR('3 Irrigation Schedule'!$C$29=\"\",'3 Irrigation Schedule'!$C$31=\"\",H291=\"\"),\"\",(('3 Irrigation Schedule'!$C$29-'3 Irrigation Schedule'!$C$31)/100)*1000*N291)","v":""},"",{"$f":"IF(H291=\"\",\"\",IF(H291=1,O291*(1-'3 Irrigation Schedule'!$C$27),T290-V290))","v":""},"","","",{"$f":"IF(H291=\"\",\"\",IF('3 Irrigation Schedule'!$P$19<P291,'3 Irrigation Schedule'!$P$19,P291))","v":""},"",{"$f":"IF(H291=\"\",\"\",V291/'3 Irrigation Schedule'!$M$19)","v":""}]
[null,null,null,"2020","November","2020-11-14",null,"","",5.091120000000001,1.7920000000000003,"",0,"",{"$f":"IF(OR('3 Irrigation Schedule'!$C$29=\"\",'3 Irrigation Schedule'!$C$31=\"\",H292=\"\"),\"\",(('3 Irrigation Schedule'!$C$29-'3 Irrigation Schedule'!$C$31)/100)*1000*N292)","v":""},"",{"$f":"IF(H292=\"\",\"\",IF(H292=1,O292*(1-'3 Irrigation Schedule'!$C$27),T291-V291))","v":""},"","","",{"$f":"IF(H292=\"\",\"\",IF('3 Irrigation Schedule'!$P$19<P292,'3 Irrigation Schedule'!$P$19,P292))","v":""},"",{"$f":"IF(H292=\"\",\"\",V292/'3 Irrigation Schedule'!$M$19)","v":""}]
[null,null,null,"2020","November","2020-11-15",null,"","",5.091120000000001,1.7920000000000003,"",0,"",{"$f":"IF(OR('3 Irrigation Schedule'!$C$29=\"\",'3 Irrigation Schedule'!$C$31=\"\",H293=\"\"),\"\",(('3 Irrigation Schedule'!$C$29-'3 Irrigation Schedule'!$C$31)/100)*1000*N293)","v":""},"",{"$f":"IF(H293=\"\",\"\",IF(H293=1,O293*(1-'3 Irrigation Schedule'!$C$27),T292-V292))","v":""},"","","",{"$f":"IF(H293=\"\",\"\",IF('3 Irrigation Schedule'!$P$19<P293,'3 Irrigation Schedule'!$P$19,P293))","v":""},"",{"$f":"IF(H293=\"\",\"\",V293/'3 Irrigation Schedule'!$M$19)","v":""}]
[null,null,null,"2020","November","2020-11-16",null,"","",5.091120000000001,1.7920000000000003,"",0,"",{"$f":"IF(OR('3 Irrigation Schedule'!$C$29=\"\",'3 Irrigation Schedule'!$C$31=\"\",H294=\"\"),\"\",(('3 Irrigation Schedule'!$C$29-'3 Irrigation Schedule'!$C$31)/100)*1000*N294)","v":""},"",{"$f":"IF(H294=\"\",\"\",IF(H294=1,O294*(1-'3 Irrigation Schedule'!$C$27),T293-V293))","v":""},"","","",{"$f":"IF(H294=\"\",\"\",IF('3 Irrigation Schedule'!$P$19<P294,'3 Irrigation Schedule'!$P$19,P294))","v":""},"",{"$f":"IF(H294=\"\",\"\",V294/'3 Irrigation Schedule'!$M$19)","v":""}]
[null,null,null,"2020","November","2020-11-17",null,"","",5.091120000000001,1.7920000000000003,"",0,"",{"$f":"IF(OR('3 Irrigation Schedule'!$C$29=\"\",'3 Irrigation Schedule'!$C$31=\"\",H295=\"\"),\"\",(('3 Irrigation Schedule'!$C$29-'3 Irrigation Schedule'!$C$31)/100)*1000*N295)","v":""},"",{"$f":"IF(H295=\"\",\"\",IF(H295=1,O295*(1-'3 Irrigation Schedule'!$C$27),T294-V294))","v":""},"","","",{"$f":"IF(H295=\"\",\"\",IF('3 Irrigation Schedule'!$P$19<P295,'3 Irrigation Schedule'!$P$19,P295))","v":""},"",{"$f":"IF(H295=\"\",\"\",V295/'3 Irrigation Schedule'!$M$19)","v":""}]
[null,null,null,"2020","November","2020-11-18",null,"","",5.091120000000001,1.7920000000000003,"",0,"",{"$f":"IF(OR('3 Irrigation Schedule'!$C$29=\"\",'3 Irrigation Schedule'!$C$31=\"\",H296=\"\"),\"\",(('3 Irrigation Schedule'!$C$29-'3 Irrigation Schedule'!$C$31)/100)*1000*N296)","v":""},"",{"$f":"IF(H296=\"\",\"\",IF(H296=1,O296*(1-'3 Irrigation Schedule'!$C$27),T295-V295))","v":""},"","","",{"$f":"IF(H296=\"\",\"\",IF('3 Irrigation Schedule'!$P$19<P296,'3 Irrigation Schedule'!$P$19,P296))","v":""},"",{"$f":"IF(H296=\"\",\"\",V296/'3 Irrigation Schedule'!$M$19)","v":""}]
[null,null,null,"2020","November","2020-11-19",null,"","",5.091120000000001,1.7920000000000003,"",0,"",{"$f":"IF(OR('3 Irrigation Schedule'!$C$29=\"\",'3 Irrigation Schedule'!$C$31=\"\",H297=\"\"),\"\",(('3 Irrigation Schedule'!$C$29-'3 Irrigation Schedule'!$C$31)/100)*1000*N297)","v":""},"",{"$f":"IF(H297=\"\",\"\",IF(H297=1,O297*(1-'3 Irrigation Schedule'!$C$27),T296-V296))","v":""},"","","",{"$f":"IF(H297=\"\",\"\",IF('3 Irrigation Schedule'!$P$19<P297,'3 Irrigation Schedule'!$P$19,P297))","v":""},"",{"$f":"IF(H297=\"\",\"\",V297/'3 Irrigation Schedule'!$M$19)","v":""}]
[null,null,null,"2020","November","2020-11-20",null,"","",5.091120000000001,1.7920000000000003,"",0,"",{"$f":"IF(OR('3 Irrigation Schedule'!$C$29=\"\",'3 Irrigation Schedule'!$C$31=\"\",H298=\"\"),\"\",(('3 Irrigation Schedule'!$C$29-'3 Irrigation Schedule'!$C$31)/100)*1000*N298)","v":""},"",{"$f":"IF(H298=\"\",\"\",IF(H298=1,O298*(1-'3 Irrigation Schedule'!$C$27),T297-V297))","v":""},"","","",{"$f":"IF(H298=\"\",\"\",IF('3 Irrigation Schedule'!$P$19<P298,'3 Irrigation Schedule'!$P$19,P298))","v":""},"",{"$f":"IF(H298=\"\",\"\",V298/'3 Irrigation Schedule'!$M$19)","v":""}]
[null,null,null,"2020","November","2020-11-21",null,"","",5.091120000000001,1.7920000000000003,"",0,"",{"$f":"IF(OR('3 Irrigation Schedule'!$C$29=\"\",'3 Irrigation Schedule'!$C$31=\"\",H299=\"\"),\"\",(('3 Irrigation Schedule'!$C$29-'3 Irrigation Schedule'!$C$31)/100)*1000*N299)","v":""},"",{"$f":"IF(H299=\"\",\"\",IF(H299=1,O299*(1-'3 Irrigation Schedule'!$C$27),T298-V298))","v":""},"","","",{"$f":"IF(H299=\"\",\"\",IF('3 Irrigation Schedule'!$P$19<P299,'3 Irrigation Schedule'!$P$19,P299))","v":""},"",{"$f":"IF(H299=\"\",\"\",V299/'3 Irrigation Schedule'!$M$19)","v":""}]
[null,null,null,"2020","November","2020-11-22",null,"","",5.091120000000001,1.7920000000000003,"",0,"",{"$f":"IF(OR('3 Irrigation Schedule'!$C$29=\"\",'3 Irrigation Schedule'!$C$31=\"\",H300=\"\"),\"\",(('3 Irrigation Schedule'!$C$29-'3 Irrigation Schedule'!$C$31)/100)*1000*N300)","v":""},"",{"$f":"IF(H300=\"\",\"\",IF(H300=1,O300*(1-'3 Irrigation Schedule'!$C$27),T299-V299))","v":""},"","","",{"$f":"IF(H300=\"\",\"\",IF('3 Irrigation Schedule'!$P$19<P300,'3 Irrigation Schedule'!$P$19,P300))","v":""},"",{"$f":"IF(H300=\"\",\"\",V300/'3 Irrigation Schedule'!$M$19)","v":""}]
[null,null,null,"2020","November","2020-11-23",null,"","",5.091120000000001,1.7920000000000003,"",0,"",{"$f":"IF(OR('3 Irrigation Schedule'!$C$29=\"\",'3 Irrigation Schedule'!$C$31=\"\",H301=\"\"),\"\",(('3 Irrigation Schedule'!$C$29-'3 Irrigation Schedule'!$C$31)/100)*1000*N301)","v":""},"",{"$f":"IF(H301=\"\",\"\",IF(H301=1,O301*(1-'3 Irrigation Schedule'!$C$27),T300-V300))","v":""},"","","",{"$f":"IF(H301=\"\",\"\",IF('3 Irrigation Schedule'!$P$19<P301,'3 Irrigation Schedule'!$P$19,P301))","v":""},"",{"$f":"IF(H301=\"\",\"\",V301/'3 Irrigation Schedule'!$M$19)","v":""}]
[null,null,null,"2020","November","2020-11-24",null,"","",5.091120000000001,1.7920000000000003,"",0,"",{"$f":"IF(OR('3 Irrigation Schedule'!$C$29=\"\",'3 Irrigation Schedule'!$C$31=\"\",H302=\"\"),\"\",(('3 Irrigation Schedule'!$C$29-'3 Irrigation Schedule'!$C$31)/100)*1000*N302)","v":""},"",{"$f":"IF(H302=\"\",\"\",IF(H302=1,O302*(1-'3 Irrigation Schedule'!$C$27),T301-V301))","v":""},"","","",{"$f":"IF(H302=\"\",\"\",IF('3 Irrigation Schedule'!$P$19<P302,'3 Irrigation Schedule'!$P$19,P302))","v":""},"",{"$f":"IF(H302=\"\",\"\",V302/'3 Irrigation Schedule'!$M$19)","v":""}]
[null,null,null,"2020","November","2020-11-25",null,"","",5.091120000000001,1.7920000000000003,"",0,"",{"$f":"IF(OR('3 Irrigation Schedule'!$C$29=\"\",'3 Irrigation Schedule'!$C$31=\"\",H303=\"\"),\"\",(('3 Irrigation Schedule'!$C$29-'3 Irrigation Schedule'!$C$31)/100)*1000*N303)","v":""},"",{"$f":"IF(H303=\"\",\"\",IF(H303=1,O303*(1-'3 Irrigation Schedule'!$C$27),T302-V302))","v":""},"","","",{"$f":"IF(H303=\"\",\"\",IF('3 Irrigation Schedule'!$P$19<P303,'3 Irrigation Schedule'!$P$19,P303))","v":""},"",{"$f":"IF(H303=\"\",\"\",V303/'3 Irrigation Schedule'!$M$19)","v":""}]
[null,null,null,"2020","November","2020-11-26",null,"","",5.091120000000001,1.7920000000000003,"",0,"",{"$f":"IF(OR('3 Irrigation Schedule'!$C$29=\"\",'3 Irrigation Schedule'!$C$31=\"\",H304=\"\"),\"\",(('3 Irrigation Schedule'!$C$29-'3 Irrigation Schedule'!$C$31)/100)*1000*N304)","v":""},"",{"$f":"IF(H304=\"\",\"\",IF(H304=1,O304*(1-'3 Irrigation Schedule'!$C$27),T303-V303))","v":""},"","","",{"$f":"IF(H304=\"\",\"\",IF('3 Irrigation Schedule'!$P$19<P304,'3 Irrigation Schedule'!$P$19,P304))","v":""},"",{"$f":"IF(H304=\"\",\"\",V304/'3 Irrigation Schedule'!$M$19)","v":""}]
[null,null,null,"2020","November","2020-11-27",null,"","",5.091120000000001,1.7920000000000003,"",0,"",{"$f":"IF(OR('3 Irrigation Schedule'!$C$29=\"\",'3 Irrigation Schedule'!$C$31=\"\",H305=\"\"),\"\",(('3 Irrigation Schedule'!$C$29-'3 Irrigation Schedule'!$C$31)/100)*1000*N305)","v":""},"",{"$f":"IF(H305=\"\",\"\",IF(H305=1,O305*(1-'3 Irrigation Schedule'!$C$27),T304-V304))","v":""},"","","",{"$f":"IF(H305=\"\",\"\",IF('3 Irrigation Schedule'!$P$19<P305,'3 Irrigation Schedule'!$P$19,P305))","v":""},"",{"$f":"IF(H305=\"\",\"\",V305/'3 Irrigation Schedule'!$M$19)","v":""}]
[null,null,null,"2020","November","2020-11-28",null,"","",5.091120000000001,1.7920000000000003,"",0,"",{"$f":"IF(OR('3 Irrigation Schedule'!$C$29=\"\",'3 Irrigation Schedule'!$C$31=\"\",H306=\"\"),\"\",(('3 Irrigation Schedule'!$C$29-'3 Irrigation Schedule'!$C$31)/100)*1000*N306)","v":""},"",{"$f":"IF(H306=\"\",\"\",IF(H306=1,O306*(1-'3 Irrigation Schedule'!$C$27),T305-V305))","v":""},"","","",{"$f":"IF(H306=\"\",\"\",IF('3 Irrigation Schedule'!$P$19<P306,'3 Irrigation Schedule'!$P$19,P306))","v":""},"",{"$f":"IF(H306=\"\",\"\",V306/'3 Irrigation Schedule'!$M$19)","v":""}]
[null,null,null,"2020","November","2020-11-29",null,"","",5.091120000000001,1.7920000000000003,"",0,"",{"$f":"IF(OR('3 Irrigation Schedule'!$C$29=\"\",'3 Irrigation Schedule'!$C$31=\"\",H307=\"\"),\"\",(('3 Irrigation Schedule'!$C$29-'3 Irrigation Schedule'!$C$31)/100)*1000*N307)","v":""},"",{"$f":"IF(H307=\"\",\"\",IF(H307=1,O307*(1-'3 Irrigation Schedule'!$C$27),T306-V306))","v":""},"","","",{"$f":"IF(H307=\"\",\"\",IF('3 Irrigation Schedule'!$P$19<P307,'3 Irrigation Schedule'!$P$19,P307))","v":""},"",{"$f":"IF(H307=\"\",\"\",V307/'3 Irrigation Schedule'!$M$19)","v":""}]
[null,null,null,"2020","November","2020-11-30",null,"","",5.091120000000001,1.7920000000000003,"",0,"",{"$f":"IF(OR('3 Irrigation Schedule'!$C$29=\"\",'3 Irrigation Schedule'!$C$31=\"\",H308=\"\"),\"\",(('3 Irrigation Schedule'!$C$29-'3 Irrigation Schedule'!$C$31)/100)*1000*N308)","v":""},"",{"$f":"IF(H308=\"\",\"\",IF(H308=1,O308*(1-'3 Irrigation Schedule'!$C$27),T307-V307))","v":""},"","","",{"$f":"IF(H308=\"\",\"\",IF('3 Irrigation Schedule'!$P$19<P308,'3 Irrigation Schedule'!$P$19,P308))","v":""},"",{"$f":"IF(H308=\"\",\"\",V308/'3 Irrigation Schedule'!$M$19)","v":""}]
[null,null,null,"2020","December","2020-12-01",null,"","",5.1408000000000005,1.4477419354838708,"",0,"",{"$f":"IF(OR('3 Irrigation Schedule'!$C$29=\"\",'3 Irrigation Schedule'!$C$31=\"\",H309=\"\"),\"\",(('3 Irrigation Schedule'!$C$29-'3 Irrigation Schedule'!$C$31)/100)*1000*N309)","v":""},"",{"$f":"IF(H309=\"\",\"\",IF(H309=1,O309*(1-'3 Irrigation Schedule'!$C$27),T308-V308))","v":""},"","","",{"$f":"IF(H309=\"\",\"\",IF('3 Irrigation Schedule'!$P$19<P309,'3 Irrigation Schedule'!$P$19,P309))","v":""},"",{"$f":"IF(H309=\"\",\"\",V309/'3 Irrigation Schedule'!$M$19)","v":""}]
[null,null,null,"2020","December","2020-12-02",null,"","",5.1408000000000005,1.4477419354838708,"",0,"",{"$f":"IF(OR('3 Irrigation Schedule'!$C$29=\"\",'3 Irrigation Schedule'!$C$31=\"\",H310=\"\"),\"\",(('3 Irrigation Schedule'!$C$29-'3 Irrigation Schedule'!$C$31)/100)*1000*N310)","v":""},"",{"$f":"IF(H310=\"\",\"\",IF(H310=1,O310*(1-'3 Irrigation Schedule'!$C$27),T309-V309))","v":""},"","","",{"$f":"IF(H310=\"\",\"\",IF('3 Irrigation Schedule'!$P$19<P310,'3 Irrigation Schedule'!$P$19,P310))","v":""},"",{"$f":"IF(H310=\"\",\"\",V310/'3 Irrigation Schedule'!$M$19)","v":""}]
[null,null,null,"2020","December","2020-12-03",null,"","",5.1408000000000005,1.4477419354838708,"",0,"",{"$f":"IF(OR('3 Irrigation Schedule'!$C$29=\"\",'3 Irrigation Schedule'!$C$31=\"\",H311=\"\"),\"\",(('3 Irrigation Schedule'!$C$29-'3 Irrigation Schedule'!$C$31)/100)*1000*N311)","v":""},"",{"$f":"IF(H311=\"\",\"\",IF(H311=1,O311*(1-'3 Irrigation Schedule'!$C$27),T310-V310))","v":""},"","","",{"$f":"IF(H311=\"\",\"\",IF('3 Irrigation Schedule'!$P$19<P311,'3 Irrigation Schedule'!$P$19,P311))","v":""},"",{"$f":"IF(H311=\"\",\"\",V311/'3 Irrigation Schedule'!$M$19)","v":""}]
[null,null,null,"2020","December","2020-12-04",null,"","",5.1408000000000005,1.4477419354838708,"",0,"",{"$f":"IF(OR('3 Irrigation Schedule'!$C$29=\"\",'3 Irrigation Schedule'!$C$31=\"\",H312=\"\"),\"\",(('3 Irrigation Schedule'!$C$29-'3 Irrigation Schedule'!$C$31)/100)*1000*N312)","v":""},"",{"$f":"IF(H312=\"\",\"\",IF(H312=1,O312*(1-'3 Irrigation Schedule'!$C$27),T311-V311))","v":""},"","","",{"$f":"IF(H312=\"\",\"\",IF('3 Irrigation Schedule'!$P$19<P312,'3 Irrigation Schedule'!$P$19,P312))","v":""},"",{"$f":"IF(H312=\"\",\"\",V312/'3 Irrigation Schedule'!$M$19)","v":""}]
[null,null,null,"2020","December","2020-12-05",null,"","",5.1408000000000005,1.4477419354838708,"",0,"",{"$f":"IF(OR('3 Irrigation Schedule'!$C$29=\"\",'3 Irrigation Schedule'!$C$31=\"\",H313=\"\"),\"\",(('3 Irrigation Schedule'!$C$29-'3 Irrigation Schedule'!$C$31)/100)*1000*N313)","v":""},"",{"$f":"IF(H313=\"\",\"\",IF(H313=1,O313*(1-'3 Irrigation Schedule'!$C$27),T312-V312))","v":""},"","","",{"$f":"IF(H313=\"\",\"\",IF('3 Irrigation Schedule'!$P$19<P313,'3 Irrigation Schedule'!$P$19,P313))","v":""},"",{"$f":"IF(H313=\"\",\"\",V313/'3 Irrigation Schedule'!$M$19)","v":""}]
[null,null,null,"2020","December","2020-12-06",null,"","",5.1408000000000005,1.4477419354838708,"",0,"",{"$f":"IF(OR('3 Irrigation Schedule'!$C$29=\"\",'3 Irrigation Schedule'!$C$31=\"\",H314=\"\"),\"\",(('3 Irrigation Schedule'!$C$29-'3 Irrigation Schedule'!$C$31)/100)*1000*N314)","v":""},"",{"$f":"IF(H314=\"\",\"\",IF(H314=1,O314*(1-'3 Irrigation Schedule'!$C$27),T313-V313))","v":""},"","","",{"$f":"IF(H314=\"\",\"\",IF('3 Irrigation Schedule'!$P$19<P314,'3 Irrigation Schedule'!$P$19,P314))","v":""},"",{"$f":"IF(H314=\"\",\"\",V314/'3 Irrigation Schedule'!$M$19)","v":""}]
[null,null,null,"2020","December","2020-12-07",null,"","",5.1408000000000005,1.4477419354838708,"",0,"",{"$f":"IF(OR('3 Irrigation Schedule'!$C$29=\"\",'3 Irrigation Schedule'!$C$31=\"\",H315=\"\"),\"\",(('3 Irrigation Schedule'!$C$29-'3 Irrigation Schedule'!$C$31)/100)*1000*N315)","v":""},"",{"$f":"IF(H315=\"\",\"\",IF(H315=1,O315*(1-'3 Irrigation Schedule'!$C$27),T314-V314))","v":""},"","","",{"$f":"IF(H315=\"\",\"\",IF('3 Irrigation Schedule'!$P$19<P315,'3 Irrigation Schedule'!$P$19,P315))","v":""},"",{"$f":"IF(H315=\"\",\"\",V315/'3 Irrigation Schedule'!$M$19)","v":""}]
[null,null,null,"2020","December","2020-12-08",null,"","",5.1408000000000005,1.4477419354838708,"",0,"",{"$f":"IF(OR('3 Irrigation Schedule'!$C$29=\"\",'3 Irrigation Schedule'!$C$31=\"\",H316=\"\"),\"\",(('3 Irrigation Schedule'!$C$29-'3 Irrigation Schedule'!$C$31)/100)*1000*N316)","v":""},"",{"$f":"IF(H316=\"\",\"\",IF(H316=1,O316*(1-'3 Irrigation Schedule'!$C$27),T315-V315))","v":""},"","","",{"$f":"IF(H316=\"\",\"\",IF('3 Irrigation Schedule'!$P$19<P316,'3 Irrigation Schedule'!$P$19,P316))","v":""},"",{"$f":"IF(H316=\"\",\"\",V316/'3 Irrigation Schedule'!$M$19)","v":""}]
[null,null,null,"2020","December","2020-12-09",null,"","",5.1408000000000005,1.4477419354838708,"",0,"",{"$f":"IF(OR('3 Irrigation Schedule'!$C$29=\"\",'3 Irrigation Schedule'!$C$31=\"\",H317=\"\"),\"\",(('3 Irrigation Schedule'!$C$29-'3 Irrigation Schedule'!$C$31)/100)*1000*N317)","v":""},"",{"$f":"IF(H317=\"\",\"\",IF(H317=1,O317*(1-'3 Irrigation Schedule'!$C$27),T316-V316))","v":""},"","","",{"$f":"IF(H317=\"\",\"\",IF('3 Irrigation Schedule'!$P$19<P317,'3 Irrigation Schedule'!$P$19,P317))","v":""},"",{"$f":"IF(H317=\"\",\"\",V317/'3 Irrigation Schedule'!$M$19)","v":""}]
[null,null,null,"2020","December","2020-12-10",null,"","",5.1408000000000005,1.4477419354838708,"",0,"",{"$f":"IF(OR('3 Irrigation Schedule'!$C$29=\"\",'3 Irrigation Schedule'!$C$31=\"\",H318=\"\"),\"\",(('3 Irrigation Schedule'!$C$29-'3 Irrigation Schedule'!$C$31)/100)*1000*N318)","v":""},"",{"$f":"IF(H318=\"\",\"\",IF(H318=1,O318*(1-'3 Irrigation Schedule'!$C$27),T317-V317))","v":""},"","","",{"$f":"IF(H318=\"\",\"\",IF('3 Irrigation Schedule'!$P$19<P318,'3 Irrigation Schedule'!$P$19,P318))","v":""},"",{"$f":"IF(H318=\"\",\"\",V318/'3 Irrigation Schedule'!$M$19)","v":""}]
[null,null,null,"2020","December","2020-12-11",null,"","",5.1408000000000005,1.4477419354838708,"",0,"",{"$f":"IF(OR('3 Irrigation Schedule'!$C$29=\"\",'3 Irrigation Schedule'!$C$31=\"\",H319=\"\"),\"\",(('3 Irrigation Schedule'!$C$29-'3 Irrigation Schedule'!$C$31)/100)*1000*N319)","v":""},"",{"$f":"IF(H319=\"\",\"\",IF(H319=1,O319*(1-'3 Irrigation Schedule'!$C$27),T318-V318))","v":""},"","","",{"$f":"IF(H319=\"\",\"\",IF('3 Irrigation Schedule'!$P$19<P319,'3 Irrigation Schedule'!$P$19,P319))","v":""},"",{"$f":"IF(H319=\"\",\"\",V319/'3 Irrigation Schedule'!$M$19)","v":""}]
[null,null,null,"2020","December","2020-12-12",null,"","",5.1408000000000005,1.4477419354838708,"",0,"",{"$f":"IF(OR('3 Irrigation Schedule'!$C$29=\"\",'3 Irrigation Schedule'!$C$31=\"\",H320=\"\"),\"\",(('3 Irrigation Schedule'!$C$29-'3 Irrigation Schedule'!$C$31)/100)*1000*N320)","v":""},"",{"$f":"IF(H320=\"\",\"\",IF(H320=1,O320*(1-'3 Irrigation Schedule'!$C$27),T319-V319))","v":""},"","","",{"$f":"IF(H320=\"\",\"\",IF('3 Irrigation Schedule'!$P$19<P320,'3 Irrigation Schedule'!$P$19,P320))","v":""},"",{"$f":"IF(H320=\"\",\"\",V320/'3 Irrigation Schedule'!$M$19)","v":""}]
[null,null,null,"2020","December","2020-12-13",null,"","",5.1408000000000005,1.4477419354838708,"",0,"",{"$f":"IF(OR('3 Irrigation Schedule'!$C$29=\"\",'3 Irrigation Schedule'!$C$31=\"\",H321=\"\"),\"\",(('3 Irrigation Schedule'!$C$29-'3 Irrigation Schedule'!$C$31)/100)*1000*N321)","v":""},"",{"$f":"IF(H321=\"\",\"\",IF(H321=1,O321*(1-'3 Irrigation Schedule'!$C$27),T320-V320))","v":""},"","","",{"$f":"IF(H321=\"\",\"\",IF('3 Irrigation Schedule'!$P$19<P321,'3 Irrigation Schedule'!$P$19,P321))","v":""},"",{"$f":"IF(H321=\"\",\"\",V321/'3 Irrigation Schedule'!$M$19)","v":""}]
[null,null,null,"2020","December","2020-12-14",null,"","",5.1408000000000005,1.4477419354838708,"",0,"",{"$f":"IF(OR('3 Irrigation Schedule'!$C$29=\"\",'3 Irrigation Schedule'!$C$31=\"\",H322=\"\"),\"\",(('3 Irrigation Schedule'!$C$29-'3 Irrigation Schedule'!$C$31)/100)*1000*N322)","v":""},"",{"$f":"IF(H322=\"\",\"\",IF(H322=1,O322*(1-'3 Irrigation Schedule'!$C$27),T321-V321))","v":""},"","","",{"$f":"IF(H322=\"\",\"\",IF('3 Irrigation Schedule'!$P$19<P322,'3 Irrigation Schedule'!$P$19,P322))","v":""},"",{"$f":"IF(H322=\"\",\"\",V322/'3 Irrigation Schedule'!$M$19)","v":""}]
[null,null,null,"2020","December","2020-12-15",null,"","",5.1408000000000005,1.4477419354838708,"",0,"",{"$f":"IF(OR('3 Irrigation Schedule'!$C$29=\"\",'3 Irrigation Schedule'!$C$31=\"\",H323=\"\"),\"\",(('3 Irrigation Schedule'!$C$29-'3 Irrigation Schedule'!$C$31)/100)*1000*N323)","v":""},"",{"$f":"IF(H323=\"\",\"\",IF(H323=1,O323*(1-'3 Irrigation Schedule'!$C$27),T322-V322))","v":""},"","","",{"$f":"IF(H323=\"\",\"\",IF('3 Irrigation Schedule'!$P$19<P323,'3 Irrigation Schedule'!$P$19,P323))","v":""},"",{"$f":"IF(H323=\"\",\"\",V323/'3 Irrigation Schedule'!$M$19)","v":""}]
[null,null,null,"2020","December","2020-12-16",null,"","",5.1408000000000005,1.4477419354838708,"",0,"",{"$f":"IF(OR('3 Irrigation Schedule'!$C$29=\"\",'3 Irrigation Schedule'!$C$31=\"\",H324=\"\"),\"\",(('3 Irrigation Schedule'!$C$29-'3 Irrigation Schedule'!$C$31)/100)*1000*N324)","v":""},"",{"$f":"IF(H324=\"\",\"\",IF(H324=1,O324*(1-'3 Irrigation Schedule'!$C$27),T323-V323))","v":""},"","","",{"$f":"IF(H324=\"\",\"\",IF('3 Irrigation Schedule'!$P$19<P324,'3 Irrigation Schedule'!$P$19,P324))","v":""},"",{"$f":"IF(H324=\"\",\"\",V324/'3 Irrigation Schedule'!$M$19)","v":""}]
[null,null,null,"2020","December","2020-12-17",null,"","",5.1408000000000005,1.4477419354838708,"",0,"",{"$f":"IF(OR('3 Irrigation Schedule'!$C$29=\"\",'3 Irrigation Schedule'!$C$31=\"\",H325=\"\"),\"\",(('3 Irrigation Schedule'!$C$29-'3 Irrigation Schedule'!$C$31)/100)*1000*N325)","v":""},"",{"$f":"IF(H325=\"\",\"\",IF(H325=1,O325*(1-'3 Irrigation Schedule'!$C$27),T324-V324))","v":""},"","","",{"$f":"IF(H325=\"\",\"\",IF('3 Irrigation Schedule'!$P$19<P325,'3 Irrigation Schedule'!$P$19,P325))","v":""},"",{"$f":"IF(H325=\"\",\"\",V325/'3 Irrigation Schedule'!$M$19)","v":""}]
[null,null,null,"2020","December","2020-12-18",null,"","",5.1408000000000005,1.4477419354838708,"",0,"",{"$f":"IF(OR('3 Irrigation Schedule'!$C$29=\"\",'3 Irrigation Schedule'!$C$31=\"\",H326=\"\"),\"\",(('3 Irrigation Schedule'!$C$29-'3 Irrigation Schedule'!$C$31)/100)*1000*N326)","v":""},"",{"$f":"IF(H326=\"\",\"\",IF(H326=1,O326*(1-'3 Irrigation Schedule'!$C$27),T325-V325))","v":""},"","","",{"$f":"IF(H326=\"\",\"\",IF('3 Irrigation Schedule'!$P$19<P326,'3 Irrigation Schedule'!$P$19,P326))","v":""},"",{"$f":"IF(H326=\"\",\"\",V326/'3 Irrigation Schedule'!$M$19)","v":""}]
[null,null,null,"2020","December","2020-12-19",null,"","",5.1408000000000005,1.4477419354838708,"",0,"",{"$f":"IF(OR('3 Irrigation Schedule'!$C$29=\"\",'3 Irrigation Schedule'!$C$31=\"\",H327=\"\"),\"\",(('3 Irrigation Schedule'!$C$29-'3 Irrigation Schedule'!$C$31)/100)*1000*N327)","v":""},"",{"$f":"IF(H327=\"\",\"\",IF(H327=1,O327*(1-'3 Irrigation Schedule'!$C$27),T326-V326))","v":""},"","","",{"$f":"IF(H327=\"\",\"\",IF('3 Irrigation Schedule'!$P$19<P327,'3 Irrigation Schedule'!$P$19,P327))","v":""},"",{"$f":"IF(H327=\"\",\"\",V327/'3 Irrigation Schedule'!$M$19)","v":""}]
[null,null,null,"2020","December","2020-12-20",null,"","",5.1408000000000005,1.4477419354838708,"",0,"",{"$f":"IF(OR('3 Irrigation Schedule'!$C$29=\"\",'3 Irrigation Schedule'!$C$31=\"\",H328=\"\"),\"\",(('3 Irrigation Schedule'!$C$29-'3 Irrigation Schedule'!$C$31)/100)*1000*N328)","v":""},"",{"$f":"IF(H328=\"\",\"\",IF(H328=1,O328*(1-'3 Irrigation Schedule'!$C$27),T327-V327))","v":""},"","","",{"$f":"IF(H328=\"\",\"\",IF('3 Irrigation Schedule'!$P$19<P328,'3 Irrigation Schedule'!$P$19,P328))","v":""},"",{"$f":"IF(H328=\"\",\"\",V328/'3 Irrigation Schedule'!$M$19)","v":""}]
[null,null,null,"2020","December","2020-12-21",null,"","",5.1408000000000005,1.4477419354838708,"",0,"",{"$f":"IF(OR('3 Irrigation Schedule'!$C$29=\"\",'3 Irrigation Schedule'!$C$31=\"\",H329=\"\"),\"\",(('3 Irrigation Schedule'!$C$29-'3 Irrigation Schedule'!$C$31)/100)*1000*N329)","v":""},"",{"$f":"IF(H329=\"\",\"\",IF(H329=1,O329*(1-'3 Irrigation Schedule'!$C$27),T328-V328))","v":""},"","","",{"$f":"IF(H329=\"\",\"\",IF('3 Irrigation Schedule'!$P$19<P329,'3 Irrigation Schedule'!$P$19,P329))","v":""},"",{"$f":"IF(H329=\"\",\"\",V329/'3 Irrigation Schedule'!$M$19)","v":""}]
[null,null,null,"2020","December","2020-12-22",null,"","",5.1408000000000005,1.4477419354838708,"",0,"",{"$f":"IF(OR('3 Irrigation Schedule'!$C$29=\"\",'3 Irrigation Schedule'!$C$31=\"\",H330=\"\"),\"\",(('3 Irrigation Schedule'!$C$29-'3 Irrigation Schedule'!$C$31)/100)*1000*N330)","v":""},"",{"$f":"IF(H330=\"\",\"\",IF(H330=1,O330*(1-'3 Irrigation Schedule'!$C$27),T329-V329))","v":""},"","","",{"$f":"IF(H330=\"\",\"\",IF('3 Irrigation Schedule'!$P$19<P330,'3 Irrigation Schedule'!$P$19,P330))","v":""},"",{"$f":"IF(H330=\"\",\"\",V330/'3 Irrigation Schedule'!$M$19)","v":""}]
[null,null,null,"2020","December","2020-12-23",null,"","",5.1408000000000005,1.4477419354838708,"",0,"",{"$f":"IF(OR('3 Irrigation Schedule'!$C$29=\"\",'3 Irrigation Schedule'!$C$31=\"\",H331=\"\"),\"\",(('3 Irrigation Schedule'!$C$29-'3 Irrigation Schedule'!$C$31)/100)*1000*N331)","v":""},"",{"$f":"IF(H331=\"\",\"\",IF(H331=1,O331*(1-'3 Irrigation Schedule'!$C$27),T330-V330))","v":""},"","","",{"$f":"IF(H331=\"\",\"\",IF('3 Irrigation Schedule'!$P$19<P331,'3 Irrigation Schedule'!$P$19,P331))","v":""},"",{"$f":"IF(H331=\"\",\"\",V331/'3 Irrigation Schedule'!$M$19)","v":""}]
[null,null,null,"2020","December","2020-12-24",null,"","",5.1408000000000005,1.4477419354838708,"",0,"",{"$f":"IF(OR('3 Irrigation Schedule'!$C$29=\"\",'3 Irrigation Schedule'!$C$31=\"\",H332=\"\"),\"\",(('3 Irrigation Schedule'!$C$29-'3 Irrigation Schedule'!$C$31)/100)*1000*N332)","v":""},"",{"$f":"IF(H332=\"\",\"\",IF(H332=1,O332*(1-'3 Irrigation Schedule'!$C$27),T331-V331))","v":""},"","","",{"$f":"IF(H332=\"\",\"\",IF('3 Irrigation Schedule'!$P$19<P332,'3 Irrigation Schedule'!$P$19,P332))","v":""},"",{"$f":"IF(H332=\"\",\"\",V332/'3 Irrigation Schedule'!$M$19)","v":""}]
[null,null,null,"2020","December","2020-12-25",null,"","",5.1408000000000005,1.4477419354838708,"",0,"",{"$f":"IF(OR('3 Irrigation Schedule'!$C$29=\"\",'3 Irrigation Schedule'!$C$31=\"\",H333=\"\"),\"\",(('3 Irrigation Schedule'!$C$29-'3 Irrigation Schedule'!$C$31)/100)*1000*N333)","v":""},"",{"$f":"IF(H333=\"\",\"\",IF(H333=1,O333*(1-'3 Irrigation Schedule'!$C$27),T332-V332))","v":""},"","","",{"$f":"IF(H333=\"\",\"\",IF('3 Irrigation Schedule'!$P$19<P333,'3 Irrigation Schedule'!$P$19,P333))","v":""},"",{"$f":"IF(H333=\"\",\"\",V333/'3 Irrigation Schedule'!$M$19)","v":""}]
[null,null,null,"2020","December","2020-12-26",null,"","",5.1408000000000005,1.4477419354838708,"",0,"",{"$f":"IF(OR('3 Irrigation Schedule'!$C$29=\"\",'3 Irrigation Schedule'!$C$31=\"\",H334=\"\"),\"\",(('3 Irrigation Schedule'!$C$29-'3 Irrigation Schedule'!$C$31)/100)*1000*N334)","v":""},"",{"$f":"IF(H334=\"\",\"\",IF(H334=1,O334*(1-'3 Irrigation Schedule'!$C$27),T333-V333))","v":""},"","","",{"$f":"IF(H334=\"\",\"\",IF('3 Irrigation Schedule'!$P$19<P334,'3 Irrigation Schedule'!$P$19,P334))","v":""},"",{"$f":"IF(H334=\"\",\"\",V334/'3 Irrigation Schedule'!$M$19)","v":""}]
[null,null,null,"2020","December","2020-12-27",null,"","",5.1408000000000005,1.4477419354838708,"",0,"",{"$f":"IF(OR('3 Irrigation Schedule'!$C$29=\"\",'3 Irrigation Schedule'!$C$31=\"\",H335=\"\"),\"\",(('3 Irrigation Schedule'!$C$29-'3 Irrigation Schedule'!$C$31)/100)*1000*N335)","v":""},"",{"$f":"IF(H335=\"\",\"\",IF(H335=1,O335*(1-'3 Irrigation Schedule'!$C$27),T334-V334))","v":""},"","","",{"$f":"IF(H335=\"\",\"\",IF('3 Irrigation Schedule'!$P$19<P335,'3 Irrigation Schedule'!$P$19,P335))","v":""},"",{"$f":"IF(H335=\"\",\"\",V335/'3 Irrigation Schedule'!$M$19)","v":""}]
[null,null,null,"2020","December","2020-12-28",null,"","",5.1408000000000005,1.4477419354838708,"",0,"",{"$f":"IF(OR('3 Irrigation Schedule'!$C$29=\"\",'3 Irrigation Schedule'!$C$31=\"\",H336=\"\"),\"\",(('3 Irrigation Schedule'!$C$29-'3 Irrigation Schedule'!$C$31)/100)*1000*N336)","v":""},"",{"$f":"IF(H336=\"\",\"\",IF(H336=1,O336*(1-'3 Irrigation Schedule'!$C$27),T335-V335))","v":""},"","","",{"$f":"IF(H336=\"\",\"\",IF('3 Irrigation Schedule'!$P$19<P336,'3 Irrigation Schedule'!$P$19,P336))","v":""},"",{"$f":"IF(H336=\"\",\"\",V336/'3 Irrigation Schedule'!$M$19)","v":""}]
[null,null,null,"2020","December","2020-12-29",null,"","",5.1408000000000005,1.4477419354838708,"",0,"",{"$f":"IF(OR('3 Irrigation Schedule'!$C$29=\"\",'3 Irrigation Schedule'!$C$31=\"\",H337=\"\"),\"\",(('3 Irrigation Schedule'!$C$29-'3 Irrigation Schedule'!$C$31)/100)*1000*N337)","v":""},"",{"$f":"IF(H337=\"\",\"\",IF(H337=1,O337*(1-'3 Irrigation Schedule'!$C$27),T336-V336))","v":""},"","","",{"$f":"IF(H337=\"\",\"\",IF('3 Irrigation Schedule'!$P$19<P337,'3 Irrigation Schedule'!$P$19,P337))","v":""},"",{"$f":"IF(H337=\"\",\"\",V337/'3 Irrigation Schedule'!$M$19)","v":""}]
[null,null,null,"2020","December","2020-12-30",null,"","",5.1408000000000005,1.4477419354838708,"",0,"",{"$f":"IF(OR('3 Irrigation Schedule'!$C$29=\"\",'3 Irrigation Schedule'!$C$31=\"\",H338=\"\"),\"\",(('3 Irrigation Schedule'!$C$29-'3 Irrigation Schedule'!$C$31)/100)*1000*N338)","v":""},"",{"$f":"IF(H338=\"\",\"\",IF(H338=1,O338*(1-'3 Irrigation Schedule'!$C$27),T337-V337))","v":""},"","","",{"$f":"IF(H338=\"\",\"\",IF('3 Irrigation Schedule'!$P$19<P338,'3 Irrigation Schedule'!$P$19,P338))","v":""},"",{"$f":"IF(H338=\"\",\"\",V338/'3 Irrigation Schedule'!$M$19)","v":""}]
[null,null,null,"2020","December","2020-12-31",null,"","",5.1408000000000005,1.4477419354838708,"",0,"",{"$f":"IF(OR('3 Irrigation Schedule'!$C$29=\"\",'3 Irrigation Schedule'!$C$31=\"\",H339=\"\"),\"\",(('3 Irrigation Schedule'!$C$29-'3 Irrigation Schedule'!$C$31)/100)*1000*N339)","v":""},"",{"$f":"IF(H339=\"\",\"\",IF(H339=1,O339*(1-'3 Irrigation Schedule'!$C$27),T338-V338))","v":""},"","","",{"$f":"IF(H339=\"\",\"\",IF('3 Irrigation Schedule'!$P$19<P339,'3 Irrigation Schedule'!$P$19,P339))","v":""},"",{"$f":"IF(H339=\"\",\"\",V339/'3 Irrigation Schedule'!$M$19)","v":""}]
[null,null,null,"2021","January","2021-01-01",null,"","",5.3271000000000006,0.54838709677419351,"",0,"",{"$f":"IF(OR('3 Irrigation Schedule'!$C$29=\"\",'3 Irrigation Schedule'!$C$31=\"\",H340=\"\"),\"\",(('3 Irrigation Schedule'!$C$29-'3 Irrigation Schedule'!$C$31)/100)*1000*N340)","v":""},"",{"$f":"IF(H340=\"\",\"\",IF(H340=1,O340*(1-'3 Irrigation Schedule'!$C$27),T339-V339))","v":""},"","","",{"$f":"IF(H340=\"\",\"\",IF('3 Irrigation Schedule'!$P$19<P340,'3 Irrigation Schedule'!$P$19,P340))","v":""},"",{"$f":"IF(H340=\"\",\"\",V340/'3 Irrigation Schedule'!$M$19)","v":""}]
[null,null,null,"2021","January","2021-01-02",null,"","",5.3271000000000006,0.54838709677419351,"",0,"",{"$f":"IF(OR('3 Irrigation Schedule'!$C$29=\"\",'3 Irrigation Schedule'!$C$31=\"\",H341=\"\"),\"\",(('3 Irrigation Schedule'!$C$29-'3 Irrigation Schedule'!$C$31)/100)*1000*N341)","v":""},"",{"$f":"IF(H341=\"\",\"\",IF(H341=1,O341*(1-'3 Irrigation Schedule'!$C$27),T340-V340))","v":""},"","","",{"$f":"IF(H341=\"\",\"\",IF('3 Irrigation Schedule'!$P$19<P341,'3 Irrigation Schedule'!$P$19,P341))","v":""},"",{"$f":"IF(H341=\"\",\"\",V341/'3 Irrigation Schedule'!$M$19)","v":""}]
[null,null,null,"2021","January","2021-01-03",null,"","",5.3271000000000006,0.54838709677419351,"",0,"",{"$f":"IF(OR('3 Irrigation Schedule'!$C$29=\"\",'3 Irrigation Schedule'!$C$31=\"\",H342=\"\"),\"\",(('3 Irrigation Schedule'!$C$29-'3 Irrigation Schedule'!$C$31)/100)*1000*N342)","v":""},"",{"$f":"IF(H342=\"\",\"\",IF(H342=1,O342*(1-'3 Irrigation Schedule'!$C$27),T341-V341))","v":""},"","","",{"$f":"IF(H342=\"\",\"\",IF('3 Irrigation Schedule'!$P$19<P342,'3 Irrigation Schedule'!$P$19,P342))","v":""},"",{"$f":"IF(H342=\"\",\"\",V342/'3 Irrigation Schedule'!$M$19)","v":""}]
[null,null,null,"2021","January","2021-01-04",null,"","",5.3271000000000006,0.54838709677419351,"",0,"",{"$f":"IF(OR('3 Irrigation Schedule'!$C$29=\"\",'3 Irrigation Schedule'!$C$31=\"\",H343=\"\"),\"\",(('3 Irrigation Schedule'!$C$29-'3 Irrigation Schedule'!$C$31)/100)*1000*N343)","v":""},"",{"$f":"IF(H343=\"\",\"\",IF(H343=1,O343*(1-'3 Irrigation Schedule'!$C$27),T342-V342))","v":""},"","","",{"$f":"IF(H343=\"\",\"\",IF('3 Irrigation Schedule'!$P$19<P343,'3 Irrigation Schedule'!$P$19,P343))","v":""},"",{"$f":"IF(H343=\"\",\"\",V343/'3 Irrigation Schedule'!$M$19)","v":""}]
[null,null,null,"2021","January","2021-01-05",null,"","",5.3271000000000006,0.54838709677419351,"",0,"",{"$f":"IF(OR('3 Irrigation Schedule'!$C$29=\"\",'3 Irrigation Schedule'!$C$31=\"\",H344=\"\"),\"\",(('3 Irrigation Schedule'!$C$29-'3 Irrigation Schedule'!$C$31)/100)*1000*N344)","v":""},"",{"$f":"IF(H344=\"\",\"\",IF(H344=1,O344*(1-'3 Irrigation Schedule'!$C$27),T343-V343))","v":""},"","","",{"$f":"IF(H344=\"\",\"\",IF('3 Irrigation Schedule'!$P$19<P344,'3 Irrigation Schedule'!$P$19,P344))","v":""},"",{"$f":"IF(H344=\"\",\"\",V344/'3 Irrigation Schedule'!$M$19)","v":""}]
[null,null,null,"2021","January","2021-01-06",null,"","",5.3271000000000006,0.54838709677419351,"",0,"",{"$f":"IF(OR('3 Irrigation Schedule'!$C$29=\"\",'3 Irrigation Schedule'!$C$31=\"\",H345=\"\"),\"\",(('3 Irrigation Schedule'!$C$29-'3 Irrigation Schedule'!$C$31)/100)*1000*N345)","v":""},"",{"$f":"IF(H345=\"\",\"\",IF(H345=1,O345*(1-'3 Irrigation Schedule'!$C$27),T344-V344))","v":""},"","","",{"$f":"IF(H345=\"\",\"\",IF('3 Irrigation Schedule'!$P$19<P345,'3 Irrigation Schedule'!$P$19,P345))","v":""},"",{"$f":"IF(H345=\"\",\"\",V345/'3 Irrigation Schedule'!$M$19)","v":""}]
[null,null,null,"2021","January","2021-01-07",null,"","",5.3271000000000006,0.54838709677419351,"",0,"",{"$f":"IF(OR('3 Irrigation Schedule'!$C$29=\"\",'3 Irrigation Schedule'!$C$31=\"\",H346=\"\"),\"\",(('3 Irrigation Schedule'!$C$29-'3 Irrigation Schedule'!$C$31)/100)*1000*N346)","v":""},"",{"$f":"IF(H346=\"\",\"\",IF(H346=1,O346*(1-'3 Irrigation Schedule'!$C$27),T345-V345))","v":""},"","","",{"$f":"IF(H346=\"\",\"\",IF('3 Irrigation Schedule'!$P$19<P346,'3 Irrigation Schedule'!$P$19,P346))","v":""},"",{"$f":"IF(H346=\"\",\"\",V346/'3 Irrigation Schedule'!$M$19)","v":""}]
[null,null,null,"2021","January","2021-01-08",null,"","",5.3271000000000006,0.54838709677419351,"",0,"",{"$f":"IF(OR('3 Irrigation Schedule'!$C$29=\"\",'3 Irrigation Schedule'!$C$31=\"\",H347=\"\"),\"\",(('3 Irrigation Schedule'!$C$29-'3 Irrigation Schedule'!$C$31)/100)*1000*N347)","v":""},"",{"$f":"IF(H347=\"\",\"\",IF(H347=1,O347*(1-'3 Irrigation Schedule'!$C$27),T346-V346))","v":""},"","","",{"$f":"IF(H347=\"\",\"\",IF('3 Irrigation Schedule'!$P$19<P347,'3 Irrigation Schedule'!$P$19,P347))","v":""},"",{"$f":"IF(H347=\"\",\"\",V347/'3 Irrigation Schedule'!$M$19)","v":""}]
[null,null,null,"2021","January","2021-01-09",null,"","",5.3271000000000006,0.54838709677419351,"",0,"",{"$f":"IF(OR('3 Irrigation Schedule'!$C$29=\"\",'3 Irrigation Schedule'!$C$31=\"\",H348=\"\"),\"\",(('3 Irrigation Schedule'!$C$29-'3 Irrigation Schedule'!$C$31)/100)*1000*N348)","v":""},"",{"$f":"IF(H348=\"\",\"\",IF(H348=1,O348*(1-'3 Irrigation Schedule'!$C$27),T347-V347))","v":""},"","","",{"$f":"IF(H348=\"\",\"\",IF('3 Irrigation Schedule'!$P$19<P348,'3 Irrigation Schedule'!$P$19,P348))","v":""},"",{"$f":"IF(H348=\"\",\"\",V348/'3 Irrigation Schedule'!$M$19)","v":""}]
[null,null,null,"2021","January","2021-01-10",null,"","",5.3271000000000006,0.54838709677419351,"",0,"",{"$f":"IF(OR('3 Irrigation Schedule'!$C$29=\"\",'3 Irrigation Schedule'!$C$31=\"\",H349=\"\"),\"\",(('3 Irrigation Schedule'!$C$29-'3 Irrigation Schedule'!$C$31)/100)*1000*N349)","v":""},"",{"$f":"IF(H349=\"\",\"\",IF(H349=1,O349*(1-'3 Irrigation Schedule'!$C$27),T348-V348))","v":""},"","","",{"$f":"IF(H349=\"\",\"\",IF('3 Irrigation Schedule'!$P$19<P349,'3 Irrigation Schedule'!$P$19,P349))","v":""},"",{"$f":"IF(H349=\"\",\"\",V349/'3 Irrigation Schedule'!$M$19)","v":""}]
[null,null,null,"2021","January","2021-01-11",null,"","",5.3271000000000006,0.54838709677419351,"",0,"",{"$f":"IF(OR('3 Irrigation Schedule'!$C$29=\"\",'3 Irrigation Schedule'!$C$31=\"\",H350=\"\"),\"\",(('3 Irrigation Schedule'!$C$29-'3 Irrigation Schedule'!$C$31)/100)*1000*N350)","v":""},"",{"$f":"IF(H350=\"\",\"\",IF(H350=1,O350*(1-'3 Irrigation Schedule'!$C$27),T349-V349))","v":""},"","","",{"$f":"IF(H350=\"\",\"\",IF('3 Irrigation Schedule'!$P$19<P350,'3 Irrigation Schedule'!$P$19,P350))","v":""},"",{"$f":"IF(H350=\"\",\"\",V350/'3 Irrigation Schedule'!$M$19)","v":""}]
[null,null,null,"2021","January","2021-01-12",null,"","",5.3271000000000006,0.54838709677419351,"",0,"",{"$f":"IF(OR('3 Irrigation Schedule'!$C$29=\"\",'3 Irrigation Schedule'!$C$31=\"\",H351=\"\"),\"\",(('3 Irrigation Schedule'!$C$29-'3 Irrigation Schedule'!$C$31)/100)*1000*N351)","v":""},"",{"$f":"IF(H351=\"\",\"\",IF(H351=1,O351*(1-'3 Irrigation Schedule'!$C$27),T350-V350))","v":""},"","","",{"$f":"IF(H351=\"\",\"\",IF('3 Irrigation Schedule'!$P$19<P351,'3 Irrigation Schedule'!$P$19,P351))","v":""},"",{"$f":"IF(H351=\"\",\"\",V351/'3 Irrigation Schedule'!$M$19)","v":""}]
[null,null,null,"2021","January","2021-01-13",null,"","",5.3271000000000006,0.54838709677419351,"",0,"",{"$f":"IF(OR('3 Irrigation Schedule'!$C$29=\"\",'3 Irrigation Schedule'!$C$31=\"\",H352=\"\"),\"\",(('3 Irrigation Schedule'!$C$29-'3 Irrigation Schedule'!$C$31)/100)*1000*N352)","v":""},"",{"$f":"IF(H352=\"\",\"\",IF(H352=1,O352*(1-'3 Irrigation Schedule'!$C$27),T351-V351))","v":""},"","","",{"$f":"IF(H352=\"\",\"\",IF('3 Irrigation Schedule'!$P$19<P352,'3 Irrigation Schedule'!$P$19,P352))","v":""},"",{"$f":"IF(H352=\"\",\"\",V352/'3 Irrigation Schedule'!$M$19)","v":""}]
[null,null,null,"2021","January","2021-01-14",null,"","",5.3271000000000006,0.54838709677419351,"",0,"",{"$f":"IF(OR('3 Irrigation Schedule'!$C$29=\"\",'3 Irrigation Schedule'!$C$31=\"\",H353=\"\"),\"\",(('3 Irrigation Schedule'!$C$29-'3 Irrigation Schedule'!$C$31)/100)*1000*N353)","v":""},"",{"$f":"IF(H353=\"\",\"\",IF(H353=1,O353*(1-'3 Irrigation Schedule'!$C$27),T352-V352))","v":""},"","","",{"$f":"IF(H353=\"\",\"\",IF('3 Irrigation Schedule'!$P$19<P353,'3 Irrigation Schedule'!$P$19,P353))","v":""},"",{"$f":"IF(H353=\"\",\"\",V353/'3 Irrigation Schedule'!$M$19)","v":""}]
[null,null,null,{"$f":"IFERROR(TEXT(DATE(YEAR($F354),MONTH($F354),1),$D$7&$D$4),\"\")","v":"2021"},{"$f":"IFERROR(TEXT(DATE(YEAR($F354),MONTH($F354),1),$D$7&$D$5),\"\")","v":"January"},"2021-01-15",null,"",{"$f":"IF(H354=\"\",\"\",IF(H354<=$I$27,\"Initial\",IF(AND(H354>$I$27,H354<=$I$28),\"Development\",IF(AND(H354>$I$28,H354<=$I$29),\"Mid Season\",\"Late Season\"))))","v":""},{"$f":"IFERROR(VLOOKUP($E354,$B$19:$C$30,2,FALSE),\"\")","v":5.3271000000000006},0.54838709677419351,{"$f":"IF(H354=\"\",\"\",IF(H354<=$I$27,$L$27,IF(AND(H354>$I$27,H354<=$I$28),$L$27+((H354-$I$27)/$H$28)*($L$29-$L$27),IF(AND(H354>$I$28,H354<=$I$29),$L$29,$L$29+((H354-$I$29)/$H$30)*($L$30-$L$29)))))","v":""},{"$f":"IFERROR((J354*L354),0)","v":0},{"$f":"IF(H354=\"\",\"\",IF(OR(H354=1,H354<$I$28),$M$27+(($M$28-$M$27)*((H354-1)/($I$28-1))),$M$28))","v":""},{"$f":"IF(OR('3 Irrigation Schedule'!$C$29=\"\",'3 Irrigation Schedule'!$C$31=\"\",H354=\"\"),\"\",(('3 Irrigation Schedule'!$C$29-'3 Irrigation Schedule'!$C$31)/100)*1000*N354)","v":""},{"$f":"IF(H354=\"\",\"\",O354*$N$27)","v":""},{"$f":"IF(H354=\"\",\"\",IF(H354=1,O354*(1-'3 Irrigation Schedule'!$C$27),T353-V353))","v":""},{"$f":"IF(H354=\"\",\"\",IF(Q354>P354,(O354-Q354)/(O354-P354),1))","v":""},{"$f":"IF(H354=\"\",\"\",M354*R354)","v":""},{"$f":"IF(H354=\"\",\"\",IF(Q354+S354-K354<0,0,Q354+S354-K354))","v":""},{"$f":"IF(H354=\"\",\"\",IF('3 Irrigation Schedule'!$P$19<P354,'3 Irrigation Schedule'!$P$19,P354))","v":""},{"$f":"IF(H354=\"\",\"\",IF(U354<=T354,U354,0))","v":""},{"$f":"IF(H354=\"\",\"\",V354/'3 Irrigation Schedule'!$M$19)","v":""}]
[null,null,null,"2021","January",{"$f":"IFERROR(IF(F354+1<=$N$7, F354+1,\"\"),\"\")","v":"2021-01-16"},null,{"$f":"IFERROR(IF(OR($F355-$J$27+1<=0,$F355>$K$30),\"\",$F355-$J$27+1),\"\")","v":""},"",5.3271000000000006,{"$f":"IFERROR(VLOOKUP($E355,$B$19:$D$30,3,FALSE),\"\")","v":0.54838709677419351},"",0,"",{"$f":"IF(OR('3 Irrigation Schedule'!$C$29=\"\",'3 Irrigation Schedule'!$C$31=\"\",H355=\"\"),\"\",(('3 Irrigation Schedule'!$C$29-'3 Irrigation Schedule'!$C$31)/100)*1000*N355)","v":""},"",{"$f":"IF(H355=\"\",\"\",IF(H355=1,O355*(1-'3 Irrigation Schedule'!$C$27),T354-V354))","v":""},"","","",{"$f":"IF(H355=\"\",\"\",IF('3 Irrigation Schedule'!$P$19<P355,'3 Irrigation Schedule'!$P$19,P355))","v":""},"",{"$f":"IF(H355=\"\",\"\",V355/'3 Irrigation Schedule'!$M$19)","v":""}]
[null,null,null,"2021","January","2021-01-17",null,"","",5.3271000000000006,0.54838709677419351,"",0,"",{"$f":"IF(OR('3 Irrigation Schedule'!$C$29=\"\",'3 Irrigation Schedule'!$C$31=\"\",H356=\"\"),\"\",(('3 Irrigation Schedule'!$C$29-'3 Irrigation Schedule'!$C$31)/100)*1000*N356)","v":""},"",{"$f":"IF(H356=\"\",\"\",IF(H356=1,O356*(1-'3 Irrigation Schedule'!$C$27),T355-V355))","v":""},"","","",{"$f":"IF(H356=\"\",\"\",IF('3 Irrigation Schedule'!$P$19<P356,'3 Irrigation Schedule'!$P$19,P356))","v":""},"",{"$f":"IF(H356=\"\",\"\",V356/'3 Irrigation Schedule'!$M$19)","v":""}]
[null,null,null,"2021","January","2021-01-18",null,"","",5.3271000000000006,0.54838709677419351,"",0,"",{"$f":"IF(OR('3 Irrigation Schedule'!$C$29=\"\",'3 Irrigation Schedule'!$C$31=\"\",H357=\"\"),\"\",(('3 Irrigation Schedule'!$C$29-'3 Irrigation Schedule'!$C$31)/100)*1000*N357)","v":""},"",{"$f":"IF(H357=\"\",\"\",IF(H357=1,O357*(1-'3 Irrigation Schedule'!$C$27),T356-V356))","v":""},"","","",{"$f":"IF(H357=\"\",\"\",IF('3 Irrigation Schedule'!$P$19<P357,'3 Irrigation Schedule'!$P$19,P357))","v":""},"",{"$f":"IF(H357=\"\",\"\",V357/'3 Irrigation Schedule'!$M$19)","v":""}]
[null,null,null,"2021","January","2021-01-19",null,"","",5.3271000000000006,0.54838709677419351,"",0,"",{"$f":"IF(OR('3 Irrigation Schedule'!$C$29=\"\",'3 Irrigation Schedule'!$C$31=\"\",H358=\"\"),\"\",(('3 Irrigation Schedule'!$C$29-'3 Irrigation Schedule'!$C$31)/100)*1000*N358)","v":""},"",{"$f":"IF(H358=\"\",\"\",IF(H358=1,O358*(1-'3 Irrigation Schedule'!$C$27),T357-V357))","v":""},"","","",{"$f":"IF(H358=\"\",\"\",IF('3 Irrigation Schedule'!$P$19<P358,'3 Irrigation Schedule'!$P$19,P358))","v":""},"",{"$f":"IF(H358=\"\",\"\",V358/'3 Irrigation Schedule'!$M$19)","v":""}]
[null,null,null,"2021","January","2021-01-20",null,"","",5.3271000000000006,0.54838709677419351,"",0,"",{"$f":"IF(OR('3 Irrigation Schedule'!$C$29=\"\",'3 Irrigation Schedule'!$C$31=\"\",H359=\"\"),\"\",(('3 Irrigation Schedule'!$C$29-'3 Irrigation Schedule'!$C$31)/100)*1000*N359)","v":""},"",{"$f":"IF(H359=\"\",\"\",IF(H359=1,O359*(1-'3 Irrigation Schedule'!$C$27),T358-V358))","v":""},"","","",{"$f":"IF(H359=\"\",\"\",IF('3 Irrigation Schedule'!$P$19<P359,'3 Irrigation Schedule'!$P$19,P359))","v":""},"",{"$f":"IF(H359=\"\",\"\",V359/'3 Irrigation Schedule'!$M$19)","v":""}]
[null,null,null,"2021","January","2021-01-21",null,"","",5.3271000000000006,0.54838709677419351,"",0,"",{"$f":"IF(OR('3 Irrigation Schedule'!$C$29=\"\",'3 Irrigation Schedule'!$C$31=\"\",H360=\"\"),\"\",(('3 Irrigation Schedule'!$C$29-'3 Irrigation Schedule'!$C$31)/100)*1000*N360)","v":""},"",{"$f":"IF(H360=\"\",\"\",IF(H360=1,O360*(1-'3 Irrigation Schedule'!$C$27),T359-V359))","v":""},"","","",{"$f":"IF(H360=\"\",\"\",IF('3 Irrigation Schedule'!$P$19<P360,'3 Irrigation Schedule'!$P$19,P360))","v":""},"",{"$f":"IF(H360=\"\",\"\",V360/'3 Irrigation Schedule'!$M$19)","v":""}]
[null,null,null,"2021","January","2021-01-22",null,"","",5.3271000000000006,0.54838709677419351,"",0,"",{"$f":"IF(OR('3 Irrigation Schedule'!$C$29=\"\",'3 Irrigation Schedule'!$C$31=\"\",H361=\"\"),\"\",(('3 Irrigation Schedule'!$C$29-'3 Irrigation Schedule'!$C$31)/100)*1000*N361)","v":""},"",{"$f":"IF(H361=\"\",\"\",IF(H361=1,O361*(1-'3 Irrigation Schedule'!$C$27),T360-V360))","v":""},"","","",{"$f":"IF(H361=\"\",\"\",IF('3 Irrigation Schedule'!$P$19<P361,'3 Irrigation Schedule'!$P$19,P361))","v":""},"",{"$f":"IF(H361=\"\",\"\",V361/'3 Irrigation Schedule'!$M$19)","v":""}]
[null,null,null,"2021","January","2021-01-23",null,"","",5.3271000000000006,0.54838709677419351,"",0,"",{"$f":"IF(OR('3 Irrigation Schedule'!$C$29=\"\",'3 Irrigation Schedule'!$C$31=\"\",H362=\"\"),\"\",(('3 Irrigation Schedule'!$C$29-'3 Irrigation Schedule'!$C$31)/100)*1000*N362)","v":""},"",{"$f":"IF(H362=\"\",\"\",IF(H362=1,O362*(1-'3 Irrigation Schedule'!$C$27),T361-V361))","v":""},"","","",{"$f":"IF(H362=\"\",\"\",IF('3 Irrigation Schedule'!$P$19<P362,'3 Irrigation Schedule'!$P$19,P362))","v":""},"",{"$f":"IF(H362=\"\",\"\",V362/'3 Irrigation Schedule'!$M$19)","v":""}]
[null,null,null,"2021","January","2021-01-24",null,"","",5.3271000000000006,0.54838709677419351,"",0,"",{"$f":"IF(OR('3 Irrigation Schedule'!$C$29=\"\",'3 Irrigation Schedule'!$C$31=\"\",H363=\"\"),\"\",(('3 Irrigation Schedule'!$C$29-'3 Irrigation Schedule'!$C$31)/100)*1000*N363)","v":""},"",{"$f":"IF(H363=\"\",\"\",IF(H363=1,O363*(1-'3 Irrigation Schedule'!$C$27),T362-V362))","v":""},"","","",{"$f":"IF(H363=\"\",\"\",IF('3 Irrigation Schedule'!$P$19<P363,'3 Irrigation Schedule'!$P$19,P363))","v":""},"",{"$f":"IF(H363=\"\",\"\",V363/'3 Irrigation Schedule'!$M$19)","v":""}]
[null,null,null,"2021","January","2021-01-25",null,"","",5.3271000000000006,0.54838709677419351,"",0,"",{"$f":"IF(OR('3 Irrigation Schedule'!$C$29=\"\",'3 Irrigation Schedule'!$C$31=\"\",H364=\"\"),\"\",(('3 Irrigation Schedule'!$C$29-'3 Irrigation Schedule'!$C$31)/100)*1000*N364)","v":""},"",{"$f":"IF(H364=\"\",\"\",IF(H364=1,O364*(1-'3 Irrigation Schedule'!$C$27),T363-V363))","v":""},"","","",{"$f":"IF(H364=\"\",\"\",IF('3 Irrigation Schedule'!$P$19<P364,'3 Irrigation Schedule'!$P$19,P364))","v":""},"",{"$f":"IF(H364=\"\",\"\",V364/'3 Irrigation Schedule'!$M$19)","v":""}]
[null,null,null,"2021","January","2021-01-26",null,"","",5.3271000000000006,0.54838709677419351,"",0,"",{"$f":"IF(OR('3 Irrigation Schedule'!$C$29=\"\",'3 Irrigation Schedule'!$C$31=\"\",H365=\"\"),\"\",(('3 Irrigation Schedule'!$C$29-'3 Irrigation Schedule'!$C$31)/100)*1000*N365)","v":""},"",{"$f":"IF(H365=\"\",\"\",IF(H365=1,O365*(1-'3 Irrigation Schedule'!$C$27),T364-V364))","v":""},"","","",{"$f":"IF(H365=\"\",\"\",IF('3 Irrigation Schedule'!$P$19<P365,'3 Irrigation Schedule'!$P$19,P365))","v":""},"",{"$f":"IF(H365=\"\",\"\",V365/'3 Irrigation Schedule'!$M$19)","v":""}]
[null,null,null,"2021","January","2021-01-27",null,"","",5.3271000000000006,0.54838709677419351,"",0,"",{"$f":"IF(OR('3 Irrigation Schedule'!$C$29=\"\",'3 Irrigation Schedule'!$C$31=\"\",H366=\"\"),\"\",(('3 Irrigation Schedule'!$C$29-'3 Irrigation Schedule'!$C$31)/100)*1000*N366)","v":""},"",{"$f":"IF(H366=\"\",\"\",IF(H366=1,O366*(1-'3 Irrigation Schedule'!$C$27),T365-V365))","v":""},"","","",{"$f":"IF(H366=\"\",\"\",IF('3 Irrigation Schedule'!$P$19<P366,'3 Irrigation Schedule'!$P$19,P366))","v":""},"",{"$f":"IF(H366=\"\",\"\",V366/'3 Irrigation Schedule'!$M$19)","v":""}]
[null,null,null,"2021","January","2021-01-28",null,"","",5.3271000000000006,0.54838709677419351,"",0,"",{"$f":"IF(OR('3 Irrigation Schedule'!$C$29=\"\",'3 Irrigation Schedule'!$C$31=\"\",H367=\"\"),\"\",(('3 Irrigation Schedule'!$C$29-'3 Irrigation Schedule'!$C$31)/100)*1000*N367)","v":""},"",{"$f":"IF(H367=\"\",\"\",IF(H367=1,O367*(1-'3 Irrigation Schedule'!$C$27),T366-V366))","v":""},"","","",{"$f":"IF(H367=\"\",\"\",IF('3 Irrigation Schedule'!$P$19<P367,'3 Irrigation Schedule'!$P$19,P367))","v":""},"",{"$f":"IF(H367=\"\",\"\",V367/'3 Irrigation Schedule'!$M$19)","v":""}]
[null,null,null,"2021","January","2021-01-29",null,"","",5.3271000000000006,0.54838709677419351,"",0,"",{"$f":"IF(OR('3 Irrigation Schedule'!$C$29=\"\",'3 Irrigation Schedule'!$C$31=\"\",H368=\"\"),\"\",(('3 Irrigation Schedule'!$C$29-'3 Irrigation Schedule'!$C$31)/100)*1000*N368)","v":""},"",{"$f":"IF(H368=\"\",\"\",IF(H368=1,O368*(1-'3 Irrigation Schedule'!$C$27),T367-V367))","v":""},"","","",{"$f":"IF(H368=\"\",\"\",IF('3 Irrigation Schedule'!$P$19<P368,'3 Irrigation Schedule'!$P$19,P368))","v":""},"",{"$f":"IF(H368=\"\",\"\",V368/'3 Irrigation Schedule'!$M$19)","v":""}]
[null,null,null,"2021","January","2021-01-30",null,"","",5.3271000000000006,0.54838709677419351,"",0,"",{"$f":"IF(OR('3 Irrigation Schedule'!$C$29=\"\",'3 Irrigation Schedule'!$C$31=\"\",H369=\"\"),\"\",(('3 Irrigation Schedule'!$C$29-'3 Irrigation Schedule'!$C$31)/100)*1000*N369)","v":""},"",{"$f":"IF(H369=\"\",\"\",IF(H369=1,O369*(1-'3 Irrigation Schedule'!$C$27),T368-V368))","v":""},"","","",{"$f":"IF(H369=\"\",\"\",IF('3 Irrigation Schedule'!$P$19<P369,'3 Irrigation Schedule'!$P$19,P369))","v":""},"",{"$f":"IF(H369=\"\",\"\",V369/'3 Irrigation Schedule'!$M$19)","v":""}]
[null,null,null,"2021","January","2021-01-31",null,"","",5.3271000000000006,0.54838709677419351,"",0,"",{"$f":"IF(OR('3 Irrigation Schedule'!$C$29=\"\",'3 Irrigation Schedule'!$C$31=\"\",H370=\"\"),\"\",(('3 Irrigation Schedule'!$C$29-'3 Irrigation Schedule'!$C$31)/100)*1000*N370)","v":""},"",{"$f":"IF(H370=\"\",\"\",IF(H370=1,O370*(1-'3 Irrigation Schedule'!$C$27),T369-V369))","v":""},"","","",{"$f":"IF(H370=\"\",\"\",IF('3 Irrigation Schedule'!$P$19<P370,'3 Irrigation Schedule'!$P$19,P370))","v":""},"",{"$f":"IF(H370=\"\",\"\",V370/'3 Irrigation Schedule'!$M$19)","v":""}]
[null,null,null,"2021","February","2021-02-01",null,"","",5.2650000000000006,0.35000000000000003,"",0,"",{"$f":"IF(OR('3 Irrigation Schedule'!$C$29=\"\",'3 Irrigation Schedule'!$C$31=\"\",H371=\"\"),\"\",(('3 Irrigation Schedule'!$C$29-'3 Irrigation Schedule'!$C$31)/100)*1000*N371)","v":""},"",{"$f":"IF(H371=\"\",\"\",IF(H371=1,O371*(1-'3 Irrigation Schedule'!$C$27),T370-V370))","v":""},"","","",{"$f":"IF(H371=\"\",\"\",IF('3 Irrigation Schedule'!$P$19<P371,'3 Irrigation Schedule'!$P$19,P371))","v":""},"",{"$f":"IF(H371=\"\",\"\",V371/'3 Irrigation Schedule'!$M$19)","v":""}]
[null,null,null,"2021","February","2021-02-02",null,"","",5.2650000000000006,0.35000000000000003,"",0,"",{"$f":"IF(OR('3 Irrigation Schedule'!$C$29=\"\",'3 Irrigation Schedule'!$C$31=\"\",H372=\"\"),\"\",(('3 Irrigation Schedule'!$C$29-'3 Irrigation Schedule'!$C$31)/100)*1000*N372)","v":""},"",{"$f":"IF(H372=\"\",\"\",IF(H372=1,O372*(1-'3 Irrigation Schedule'!$C$27),T371-V371))","v":""},"","","",{"$f":"IF(H372=\"\",\"\",IF('3 Irrigation Schedule'!$P$19<P372,'3 Irrigation Schedule'!$P$19,P372))","v":""},"",{"$f":"IF(H372=\"\",\"\",V372/'3 Irrigation Schedule'!$M$19)","v":""}]
[null,null,null,"2021","February","2021-02-03",null,"","",5.2650000000000006,0.35000000000000003,"",0,"",{"$f":"IF(OR('3 Irrigation Schedule'!$C$29=\"\",'3 Irrigation Schedule'!$C$31=\"\",H373=\"\"),\"\",(('3 Irrigation Schedule'!$C$29-'3 Irrigation Schedule'!$C$31)/100)*1000*N373)","v":""},"",{"$f":"IF(H373=\"\",\"\",IF(H373=1,O373*(1-'3 Irrigation Schedule'!$C$27),T372-V372))","v":""},"","","",{"$f":"IF(H373=\"\",\"\",IF('3 Irrigation Schedule'!$P$19<P373,'3 Irrigation Schedule'!$P$19,P373))","v":""},"",{"$f":"IF(H373=\"\",\"\",V373/'3 Irrigation Schedule'!$M$19)","v":""}]
[null,null,null,"2021","February","2021-02-04",null,"","",5.2650000000000006,0.35000000000000003,"",0,"",{"$f":"IF(OR('3 Irrigation Schedule'!$C$29=\"\",'3 Irrigation Schedule'!$C$31=\"\",H374=\"\"),\"\",(('3 Irrigation Schedule'!$C$29-'3 Irrigation Schedule'!$C$31)/100)*1000*N374)","v":""},"",{"$f":"IF(H374=\"\",\"\",IF(H374=1,O374*(1-'3 Irrigation Schedule'!$C$27),T373-V373))","v":""},"","","",{"$f":"IF(H374=\"\",\"\",IF('3 Irrigation Schedule'!$P$19<P374,'3 Irrigation Schedule'!$P$19,P374))","v":""},"",{"$f":"IF(H374=\"\",\"\",V374/'3 Irrigation Schedule'!$M$19)","v":""}]
[null,null,null,"2021","February","2021-02-05",null,"","",5.2650000000000006,0.35000000000000003,"",0,"",{"$f":"IF(OR('3 Irrigation Schedule'!$C$29=\"\",'3 Irrigation Schedule'!$C$31=\"\",H375=\"\"),\"\",(('3 Irrigation Schedule'!$C$29-'3 Irrigation Schedule'!$C$31)/100)*1000*N375)","v":""},"",{"$f":"IF(H375=\"\",\"\",IF(H375=1,O375*(1-'3 Irrigation Schedule'!$C$27),T374-V374))","v":""},"","","",{"$f":"IF(H375=\"\",\"\",IF('3 Irrigation Schedule'!$P$19<P375,'3 Irrigation Schedule'!$P$19,P375))","v":""},"",{"$f":"IF(H375=\"\",\"\",V375/'3 Irrigation Schedule'!$M$19)","v":""}]
[null,null,null,"2021","February","2021-02-06",null,"","",5.2650000000000006,0.35000000000000003,"",0,"",{"$f":"IF(OR('3 Irrigation Schedule'!$C$29=\"\",'3 Irrigation Schedule'!$C$31=\"\",H376=\"\"),\"\",(('3 Irrigation Schedule'!$C$29-'3 Irrigation Schedule'!$C$31)/100)*1000*N376)","v":""},"",{"$f":"IF(H376=\"\",\"\",IF(H376=1,O376*(1-'3 Irrigation Schedule'!$C$27),T375-V375))","v":""},"","","",{"$f":"IF(H376=\"\",\"\",IF('3 Irrigation Schedule'!$P$19<P376,'3 Irrigation Schedule'!$P$19,P376))","v":""},"",{"$f":"IF(H376=\"\",\"\",V376/'3 Irrigation Schedule'!$M$19)","v":""}]
[null,null,null,"2021","February","2021-02-07",null,"","",5.2650000000000006,0.35000000000000003,"",0,"",{"$f":"IF(OR('3 Irrigation Schedule'!$C$29=\"\",'3 Irrigation Schedule'!$C$31=\"\",H377=\"\"),\"\",(('3 Irrigation Schedule'!$C$29-'3 Irrigation Schedule'!$C$31)/100)*1000*N377)","v":""},"",{"$f":"IF(H377=\"\",\"\",IF(H377=1,O377*(1-'3 Irrigation Schedule'!$C$27),T376-V376))","v":""},"","","",{"$f":"IF(H377=\"\",\"\",IF('3 Irrigation Schedule'!$P$19<P377,'3 Irrigation Schedule'!$P$19,P377))","v":""},"",{"$f":"IF(H377=\"\",\"\",V377/'3 Irrigation Schedule'!$M$19)","v":""}]
[null,null,null,"2021","February","2021-02-08",null,"","",5.2650000000000006,0.35000000000000003,"",0,"",{"$f":"IF(OR('3 Irrigation Schedule'!$C$29=\"\",'3 Irrigation Schedule'!$C$31=\"\",H378=\"\"),\"\",(('3 Irrigation Schedule'!$C$29-'3 Irrigation Schedule'!$C$31)/100)*1000*N378)","v":""},"",{"$f":"IF(H378=\"\",\"\",IF(H378=1,O378*(1-'3 Irrigation Schedule'!$C$27),T377-V377))","v":""},"","","",{"$f":"IF(H378=\"\",\"\",IF('3 Irrigation Schedule'!$P$19<P378,'3 Irrigation Schedule'!$P$19,P378))","v":""},"",{"$f":"IF(H378=\"\",\"\",V378/'3 Irrigation Schedule'!$M$19)","v":""}]
[null,null,null,"2021","February","2021-02-09",null,"","",5.2650000000000006,0.35000000000000003,"",0,"",{"$f":"IF(OR('3 Irrigation Schedule'!$C$29=\"\",'3 Irrigation Schedule'!$C$31=\"\",H379=\"\"),\"\",(('3 Irrigation Schedule'!$C$29-'3 Irrigation Schedule'!$C$31)/100)*1000*N379)","v":""},"",{"$f":"IF(H379=\"\",\"\",IF(H379=1,O379*(1-'3 Irrigation Schedule'!$C$27),T378-V378))","v":""},"","","",{"$f":"IF(H379=\"\",\"\",IF('3 Irrigation Schedule'!$P$19<P379,'3 Irrigation Schedule'!$P$19,P379))","v":""},"",{"$f":"IF(H379=\"\",\"\",V379/'3 Irrigation Schedule'!$M$19)","v":""}]
[null,null,null,"2021","February","2021-02-10",null,"","",5.2650000000000006,0.35000000000000003,"",0,"",{"$f":"IF(OR('3 Irrigation Schedule'!$C$29=\"\",'3 Irrigation Schedule'!$C$31=\"\",H380=\"\"),\"\",(('3 Irrigation Schedule'!$C$29-'3 Irrigation Schedule'!$C$31)/100)*1000*N380)","v":""},"",{"$f":"IF(H380=\"\",\"\",IF(H380=1,O380*(1-'3 Irrigation Schedule'!$C$27),T379-V379))","v":""},"","","",{"$f":"IF(H380=\"\",\"\",IF('3 Irrigation Schedule'!$P$19<P380,'3 Irrigation Schedule'!$P$19,P380))","v":""},"",{"$f":"IF(H380=\"\",\"\",V380/'3 Irrigation Schedule'!$M$19)","v":""}]
[null,null,null,"2021","February","2021-02-11",null,"","",5.2650000000000006,0.35000000000000003,"",0,"",{"$f":"IF(OR('3 Irrigation Schedule'!$C$29=\"\",'3 Irrigation Schedule'!$C$31=\"\",H381=\"\"),\"\",(('3 Irrigation Schedule'!$C$29-'3 Irrigation Schedule'!$C$31)/100)*1000*N381)","v":""},"",{"$f":"IF(H381=\"\",\"\",IF(H381=1,O381*(1-'3 Irrigation Schedule'!$C$27),T380-V380))","v":""},"","","",{"$f":"IF(H381=\"\",\"\",IF('3 Irrigation Schedule'!$P$19<P381,'3 Irrigation Schedule'!$P$19,P381))","v":""},"",{"$f":"IF(H381=\"\",\"\",V381/'3 Irrigation Schedule'!$M$19)","v":""}]
[null,null,null,"2021","February","2021-02-12",null,"","",5.2650000000000006,0.35000000000000003,"",0,"",{"$f":"IF(OR('3 Irrigation Schedule'!$C$29=\"\",'3 Irrigation Schedule'!$C$31=\"\",H382=\"\"),\"\",(('3 Irrigation Schedule'!$C$29-'3 Irrigation Schedule'!$C$31)/100)*1000*N382)","v":""},"",{"$f":"IF(H382=\"\",\"\",IF(H382=1,O382*(1-'3 Irrigation Schedule'!$C$27),T381-V381))","v":""},"","","",{"$f":"IF(H382=\"\",\"\",IF('3 Irrigation Schedule'!$P$19<P382,'3 Irrigation Schedule'!$P$19,P382))","v":""},"",{"$f":"IF(H382=\"\",\"\",V382/'3 Irrigation Schedule'!$M$19)","v":""}]
[null,null,null,"2021","February","2021-02-13",null,"","",5.2650000000000006,0.35000000000000003,"",0,"",{"$f":"IF(OR('3 Irrigation Schedule'!$C$29=\"\",'3 Irrigation Schedule'!$C$31=\"\",H383=\"\"),\"\",(('3 Irrigation Schedule'!$C$29-'3 Irrigation Schedule'!$C$31)/100)*1000*N383)","v":""},"",{"$f":"IF(H383=\"\",\"\",IF(H383=1,O383*(1-'3 Irrigation Schedule'!$C$27),T382-V382))","v":""},"","","",{"$f":"IF(H383=\"\",\"\",IF('3 Irrigation Schedule'!$P$19<P383,'3 Irrigation Schedule'!$P$19,P383))","v":""},"",{"$f":"IF(H383=\"\",\"\",V383/'3 Irrigation Schedule'!$M$19)","v":""}]
[null,null,null,"2021","February","2021-02-14",null,"","",5.2650000000000006,0.35000000000000003,"",0,"",{"$f":"IF(OR('3 Irrigation Schedule'!$C$29=\"\",'3 Irrigation Schedule'!$C$31=\"\",H384=\"\"),\"\",(('3 Irrigation Schedule'!$C$29-'3 Irrigation Schedule'!$C$31)/100)*1000*N384)","v":""},"",{"$f":"IF(H384=\"\",\"\",IF(H384=1,O384*(1-'3 Irrigation Schedule'!$C$27),T383-V383))","v":""},"","","",{"$f":"IF(H384=\"\",\"\",IF('3 Irrigation Schedule'!$P$19<P384,'3 Irrigation Schedule'!$P$19,P384))","v":""},"",{"$f":"IF(H384=\"\",\"\",V384/'3 Irrigation Schedule'!$M$19)","v":""}]
[null,null,null,"2021","February","2021-02-15",null,"","",5.2650000000000006,0.35000000000000003,"",0,"",{"$f":"IF(OR('3 Irrigation Schedule'!$C$29=\"\",'3 Irrigation Schedule'!$C$31=\"\",H385=\"\"),\"\",(('3 Irrigation Schedule'!$C$29-'3 Irrigation Schedule'!$C$31)/100)*1000*N385)","v":""},"",{"$f":"IF(H385=\"\",\"\",IF(H385=1,O385*(1-'3 Irrigation Schedule'!$C$27),T384-V384))","v":""},"","","",{"$f":"IF(H385=\"\",\"\",IF('3 Irrigation Schedule'!$P$19<P385,'3 Irrigation Schedule'!$P$19,P385))","v":""},"",{"$f":"IF(H385=\"\",\"\",V385/'3 Irrigation Schedule'!$M$19)","v":""}]
[null,null,null,"2021","February","2021-02-16",null,"","",5.2650000000000006,0.35000000000000003,"",0,"",{"$f":"IF(OR('3 Irrigation Schedule'!$C$29=\"\",'3 Irrigation Schedule'!$C$31=\"\",H386=\"\"),\"\",(('3 Irrigation Schedule'!$C$29-'3 Irrigation Schedule'!$C$31)/100)*1000*N386)","v":""},"",{"$f":"IF(H386=\"\",\"\",IF(H386=1,O386*(1-'3 Irrigation Schedule'!$C$27),T385-V385))","v":""},"","","",{"$f":"IF(H386=\"\",\"\",IF('3 Irrigation Schedule'!$P$19<P386,'3 Irrigation Schedule'!$P$19,P386))","v":""},"",{"$f":"IF(H386=\"\",\"\",V386/'3 Irrigation Schedule'!$M$19)","v":""}]
[null,null,null,"2021","February","2021-02-17",null,"","",5.2650000000000006,0.35000000000000003,"",0,"",{"$f":"IF(OR('3 Irrigation Schedule'!$C$29=\"\",'3 Irrigation Schedule'!$C$31=\"\",H387=\"\"),\"\",(('3 Irrigation Schedule'!$C$29-'3 Irrigation Schedule'!$C$31)/100)*1000*N387)","v":""},"",{"$f":"IF(H387=\"\",\"\",IF(H387=1,O387*(1-'3 Irrigation Schedule'!$C$27),T386-V386))","v":""},"","","",{"$f":"IF(H387=\"\",\"\",IF('3 Irrigation Schedule'!$P$19<P387,'3 Irrigation Schedule'!$P$19,P387))","v":""},"",{"$f":"IF(H387=\"\",\"\",V387/'3 Irrigation Schedule'!$M$19)","v":""}]
[null,null,null,"2021","February","2021-02-18",null,"","",5.2650000000000006,0.35000000000000003,"",0,"",{"$f":"IF(OR('3 Irrigation Schedule'!$C$29=\"\",'3 Irrigation Schedule'!$C$31=\"\",H388=\"\"),\"\",(('3 Irrigation Schedule'!$C$29-'3 Irrigation Schedule'!$C$31)/100)*1000*N388)","v":""},"",{"$f":"IF(H388=\"\",\"\",IF(H388=1,O388*(1-'3 Irrigation Schedule'!$C$27),T387-V387))","v":""},"","","",{"$f":"IF(H388=\"\",\"\",IF('3 Irrigation Schedule'!$P$19<P388,'3 Irrigation Schedule'!$P$19,P388))","v":""},"",{"$f":"IF(H388=\"\",\"\",V388/'3 Irrigation Schedule'!$M$19)","v":""}]
[null,null,null,"2021","February","2021-02-19",null,"","",5.2650000000000006,0.35000000000000003,"",0,"",{"$f":"IF(OR('3 Irrigation Schedule'!$C$29=\"\",'3 Irrigation Schedule'!$C$31=\"\",H389=\"\"),\"\",(('3 Irrigation Schedule'!$C$29-'3 Irrigation Schedule'!$C$31)/100)*1000*N389)","v":""},"",{"$f":"IF(H389=\"\",\"\",IF(H389=1,O389*(1-'3 Irrigation Schedule'!$C$27),T388-V388))","v":""},"","","",{"$f":"IF(H389=\"\",\"\",IF('3 Irrigation Schedule'!$P$19<P389,'3 Irrigation Schedule'!$P$19,P389))","v":""},"",{"$f":"IF(H389=\"\",\"\",V389/'3 Irrigation Schedule'!$M$19)","v":""}]
[null,null,null,"2021","February","2021-02-20",null,"","",5.2650000000000006,0.35000000000000003,"",0,"",{"$f":"IF(OR('3 Irrigation Schedule'!$C$29=\"\",'3 Irrigation Schedule'!$C$31=\"\",H390=\"\"),\"\",(('3 Irrigation Schedule'!$C$29-'3 Irrigation Schedule'!$C$31)/100)*1000*N390)","v":""},"",{"$f":"IF(H390=\"\",\"\",IF(H390=1,O390*(1-'3 Irrigation Schedule'!$C$27),T389-V389))","v":""},"","","",{"$f":"IF(H390=\"\",\"\",IF('3 Irrigation Schedule'!$P$19<P390,'3 Irrigation Schedule'!$P$19,P390))","v":""},"",{"$f":"IF(H390=\"\",\"\",V390/'3 Irrigation Schedule'!$M$19)","v":""}]
[null,null,null,"2021","February","2021-02-21",null,"","",5.2650000000000006,0.35000000000000003,"",0,"",{"$f":"IF(OR('3 Irrigation Schedule'!$C$29=\"\",'3 Irrigation Schedule'!$C$31=\"\",H391=\"\"),\"\",(('3 Irrigation Schedule'!$C$29-'3 Irrigation Schedule'!$C$31)/100)*1000*N391)","v":""},"",{"$f":"IF(H391=\"\",\"\",IF(H391=1,O391*(1-'3 Irrigation Schedule'!$C$27),T390-V390))","v":""},"","","",{"$f":"IF(H391=\"\",\"\",IF('3 Irrigation Schedule'!$P$19<P391,'3 Irrigation Schedule'!$P$19,P391))","v":""},"",{"$f":"IF(H391=\"\",\"\",V391/'3 Irrigation Schedule'!$M$19)","v":""}]
[null,null,null,"2021","February","2021-02-22",null,"","",5.2650000000000006,0.35000000000000003,"",0,"",{"$f":"IF(OR('3 Irrigation Schedule'!$C$29=\"\",'3 Irrigation Schedule'!$C$31=\"\",H392=\"\"),\"\",(('3 Irrigation Schedule'!$C$29-'3 Irrigation Schedule'!$C$31)/100)*1000*N392)","v":""},"",{"$f":"IF(H392=\"\",\"\",IF(H392=1,O392*(1-'3 Irrigation Schedule'!$C$27),T391-V391))","v":""},"","","",{"$f":"IF(H392=\"\",\"\",IF('3 Irrigation Schedule'!$P$19<P392,'3 Irrigation Schedule'!$P$19,P392))","v":""},"",{"$f":"IF(H392=\"\",\"\",V392/'3 Irrigation Schedule'!$M$19)","v":""}]
[null,null,null,"2021","February","2021-02-23",null,"","",5.2650000000000006,0.35000000000000003,"",0,"",{"$f":"IF(OR('3 Irrigation Schedule'!$C$29=\"\",'3 Irrigation Schedule'!$C$31=\"\",H393=\"\"),\"\",(('3 Irrigation Schedule'!$C$29-'3 Irrigation Schedule'!$C$31)/100)*1000*N393)","v":""},"",{"$f":"IF(H393=\"\",\"\",IF(H393=1,O393*(1-'3 Irrigation Schedule'!$C$27),T392-V392))","v":""},"","","",{"$f":"IF(H393=\"\",\"\",IF('3 Irrigation Schedule'!$P$19<P393,'3 Irrigation Schedule'!$P$19,P393))","v":""},"",{"$f":"IF(H393=\"\",\"\",V393/'3 Irrigation Schedule'!$M$19)","v":""}]
[null,null,null,"2021","February","2021-02-24",null,"","",5.2650000000000006,0.35000000000000003,"",0,"",{"$f":"IF(OR('3 Irrigation Schedule'!$C$29=\"\",'3 Irrigation Schedule'!$C$31=\"\",H394=\"\"),\"\",(('3 Irrigation Schedule'!$C$29-'3 Irrigation Schedule'!$C$31)/100)*1000*N394)","v":""},"",{"$f":"IF(H394=\"\",\"\",IF(H394=1,O394*(1-'3 Irrigation Schedule'!$C$27),T393-V393))","v":""},"","","",{"$f":"IF(H394=\"\",\"\",IF('3 Irrigation Schedule'!$P$19<P394,'3 Irrigation Schedule'!$P$19,P394))","v":""},"",{"$f":"IF(H394=\"\",\"\",V394/'3 Irrigation Schedule'!$M$19)","v":""}]
[null,null,null,"2021","February","2021-02-25",null,"","",5.2650000000000006,0.35000000000000003,"",0,"",{"$f":"IF(OR('3 Irrigation Schedule'!$C$29=\"\",'3 Irrigation Schedule'!$C$31=\"\",H395=\"\"),\"\",(('3 Irrigation Schedule'!$C$29-'3 Irrigation Schedule'!$C$31)/100)*1000*N395)","v":""},"",{"$f":"IF(H395=\"\",\"\",IF(H395=1,O395*(1-'3 Irrigation Schedule'!$C$27),T394-V394))","v":""},"","","",{"$f":"IF(H395=\"\",\"\",IF('3 Irrigation Schedule'!$P$19<P395,'3 Irrigation Schedule'!$P$19,P395))","v":""},"",{"$f":"IF(H395=\"\",\"\",V395/'3 Irrigation Schedule'!$M$19)","v":""}]
[null,null,null,"2021","February","2021-02-26",null,"","",5.2650000000000006,0.35000000000000003,"",0,"",{"$f":"IF(OR('3 Irrigation Schedule'!$C$29=\"\",'3 Irrigation Schedule'!$C$31=\"\",H396=\"\"),\"\",(('3 Irrigation Schedule'!$C$29-'3 Irrigation Schedule'!$C$31)/100)*1000*N396)","v":""},"",{"$f":"IF(H396=\"\",\"\",IF(H396=1,O396*(1-'3 Irrigation Schedule'!$C$27),T395-V395))","v":""},"","","",{"$f":"IF(H396=\"\",\"\",IF('3 Irrigation Schedule'!$P$19<P396,'3 Irrigation Schedule'!$P$19,P396))","v":""},"",{"$f":"IF(H396=\"\",\"\",V396/'3 Irrigation Schedule'!$M$19)","v":""}]
[null,null,null,"2021","February","2021-02-27",null,"","",5.2650000000000006,0.35000000000000003,"",0,"",{"$f":"IF(OR('3 Irrigation Schedule'!$C$29=\"\",'3 Irrigation Schedule'!$C$31=\"\",H397=\"\"),\"\",(('3 Irrigation Schedule'!$C$29-'3 Irrigation Schedule'!$C$31)/100)*1000*N397)","v":""},"",{"$f":"IF(H397=\"\",\"\",IF(H397=1,O397*(1-'3 Irrigation Schedule'!$C$27),T396-V396))","v":""},"","","",{"$f":"IF(H397=\"\",\"\",IF('3 Irrigation Schedule'!$P$19<P397,'3 Irrigation Schedule'!$P$19,P397))","v":""},"",{"$f":"IF(H397=\"\",\"\",V397/'3 Irrigation Schedule'!$M$19)","v":""}]
[null,null,null,"2021","February","2021-02-28",null,"","",5.2650000000000006,0.35000000000000003,"",0,"",{"$f":"IF(OR('3 Irrigation Schedule'!$C$29=\"\",'3 Irrigation Schedule'!$C$31=\"\",H398=\"\"),\"\",(('3 Irrigation Schedule'!$C$29-'3 Irrigation Schedule'!$C$31)/100)*1000*N398)","v":""},"",{"$f":"IF(H398=\"\",\"\",IF(H398=1,O398*(1-'3 Irrigation Schedule'!$C$27),T397-V397))","v":""},"","","",{"$f":"IF(H398=\"\",\"\",IF('3 Irrigation Schedule'!$P$19<P398,'3 Irrigation Schedule'!$P$19,P398))","v":""},"",{"$f":"IF(H398=\"\",\"\",V398/'3 Irrigation Schedule'!$M$19)","v":""}]
[null,null,null,"2021","March","2021-03-01",null,"","",5.2153200000000011,1.0187096774193547,"",0,"",{"$f":"IF(OR('3 Irrigation Schedule'!$C$29=\"\",'3 Irrigation Schedule'!$C$31=\"\",H399=\"\"),\"\",(('3 Irrigation Schedule'!$C$29-'3 Irrigation Schedule'!$C$31)/100)*1000*N399)","v":""},"",{"$f":"IF(H399=\"\",\"\",IF(H399=1,O399*(1-'3 Irrigation Schedule'!$C$27),T398-V398))","v":""},"","","",{"$f":"IF(H399=\"\",\"\",IF('3 Irrigation Schedule'!$P$19<P399,'3 Irrigation Schedule'!$P$19,P399))","v":""},"",{"$f":"IF(H399=\"\",\"\",V399/'3 Irrigation Schedule'!$M$19)","v":""}]
[null,null,null,"2021","March","2021-03-02",null,"",{"$f":"IF(H400=\"\",\"\",IF(H400<=$I$27,\"Initial\",IF(AND(H400>$I$27,H400<=$I$28),\"Development\",IF(AND(H400>$I$28,H400<=$I$29),\"Mid Season\",\"Late Season\"))))","v":""},5.2153200000000011,1.0187096774193547,"",0,"",{"$f":"IF(OR('3 Irrigation Schedule'!$C$29=\"\",'3 Irrigation Schedule'!$C$31=\"\",H400=\"\"),\"\",(('3 Irrigation Schedule'!$C$29-'3 Irrigation Schedule'!$C$31)/100)*1000*N400)","v":""},"",{"$f":"IF(H400=\"\",\"\",IF(H400=1,O400*(1-'3 Irrigation Schedule'!$C$27),T399-V399))","v":""},"","","",{"$f":"IF(H400=\"\",\"\",IF('3 Irrigation Schedule'!$P$19<P400,'3 Irrigation Schedule'!$P$19,P400))","v":""},"",{"$f":"IF(H400=\"\",\"\",V400/'3 Irrigation Schedule'!$M$19)","v":""}]
[null,null,null,"2021","March","2021-03-03",null,"","",5.2153200000000011,1.0187096774193547,"",0,"",{"$f":"IF(OR('3 Irrigation Schedule'!$C$29=\"\",'3 Irrigation Schedule'!$C$31=\"\",H401=\"\"),\"\",(('3 Irrigation Schedule'!$C$29-'3 Irrigation Schedule'!$C$31)/100)*1000*N401)","v":""},"",{"$f":"IF(H401=\"\",\"\",IF(H401=1,O401*(1-'3 Irrigation Schedule'!$C$27),T400-V400))","v":""},"","","",{"$f":"IF(H401=\"\",\"\",IF('3 Irrigation Schedule'!$P$19<P401,'3 Irrigation Schedule'!$P$19,P401))","v":""},"",{"$f":"IF(H401=\"\",\"\",V401/'3 Irrigation Schedule'!$M$19)","v":""}]
[null,null,null,"2021","March","2021-03-04",null,"","",5.2153200000000011,1.0187096774193547,"",0,"",{"$f":"IF(OR('3 Irrigation Schedule'!$C$29=\"\",'3 Irrigation Schedule'!$C$31=\"\",H402=\"\"),\"\",(('3 Irrigation Schedule'!$C$29-'3 Irrigation Schedule'!$C$31)/100)*1000*N402)","v":""},"",{"$f":"IF(H402=\"\",\"\",IF(H402=1,O402*(1-'3 Irrigation Schedule'!$C$27),T401-V401))","v":""},"","","",{"$f":"IF(H402=\"\",\"\",IF('3 Irrigation Schedule'!$P$19<P402,'3 Irrigation Schedule'!$P$19,P402))","v":""},"",{"$f":"IF(H402=\"\",\"\",V402/'3 Irrigation Schedule'!$M$19)","v":""}]
[null,null,null,"2021","March","2021-03-05",null,"","",5.2153200000000011,1.0187096774193547,"",0,"",{"$f":"IF(OR('3 Irrigation Schedule'!$C$29=\"\",'3 Irrigation Schedule'!$C$31=\"\",H403=\"\"),\"\",(('3 Irrigation Schedule'!$C$29-'3 Irrigation Schedule'!$C$31)/100)*1000*N403)","v":""},"",{"$f":"IF(H403=\"\",\"\",IF(H403=1,O403*(1-'3 Irrigation Schedule'!$C$27),T402-V402))","v":""},"","","",{"$f":"IF(H403=\"\",\"\",IF('3 Irrigation Schedule'!$P$19<P403,'3 Irrigation Schedule'!$P$19,P403))","v":""},"",{"$f":"IF(H403=\"\",\"\",V403/'3 Irrigation Schedule'!$M$19)","v":""}]
[null,null,null,"2021","March","2021-03-06",null,"","",5.2153200000000011,1.0187096774193547,"",0,"",{"$f":"IF(OR('3 Irrigation Schedule'!$C$29=\"\",'3 Irrigation Schedule'!$C$31=\"\",H404=\"\"),\"\",(('3 Irrigation Schedule'!$C$29-'3 Irrigation Schedule'!$C$31)/100)*1000*N404)","v":""},"",{"$f":"IF(H404=\"\",\"\",IF(H404=1,O404*(1-'3 Irrigation Schedule'!$C$27),T403-V403))","v":""},"","","",{"$f":"IF(H404=\"\",\"\",IF('3 Irrigation Schedule'!$P$19<P404,'3 Irrigation Schedule'!$P$19,P404))","v":""},"",{"$f":"IF(H404=\"\",\"\",V404/'3 Irrigation Schedule'!$M$19)","v":""}]
[null,null,null,"2021","March","2021-03-07",null,"","",5.2153200000000011,1.0187096774193547,"",0,"",{"$f":"IF(OR('3 Irrigation Schedule'!$C$29=\"\",'3 Irrigation Schedule'!$C$31=\"\",H405=\"\"),\"\",(('3 Irrigation Schedule'!$C$29-'3 Irrigation Schedule'!$C$31)/100)*1000*N405)","v":""},"",{"$f":"IF(H405=\"\",\"\",IF(H405=1,O405*(1-'3 Irrigation Schedule'!$C$27),T404-V404))","v":""},"","","",{"$f":"IF(H405=\"\",\"\",IF('3 Irrigation Schedule'!$P$19<P405,'3 Irrigation Schedule'!$P$19,P405))","v":""},"",{"$f":"IF(H405=\"\",\"\",V405/'3 Irrigation Schedule'!$M$19)","v":""}]
[null,null,null,"2021","March","2021-03-08",null,"","",5.2153200000000011,1.0187096774193547,"",0,"",{"$f":"IF(OR('3 Irrigation Schedule'!$C$29=\"\",'3 Irrigation Schedule'!$C$31=\"\",H406=\"\"),\"\",(('3 Irrigation Schedule'!$C$29-'3 Irrigation Schedule'!$C$31)/100)*1000*N406)","v":""},"",{"$f":"IF(H406=\"\",\"\",IF(H406=1,O406*(1-'3 Irrigation Schedule'!$C$27),T405-V405))","v":""},"","","",{"$f":"IF(H406=\"\",\"\",IF('3 Irrigation Schedule'!$P$19<P406,'3 Irrigation Schedule'!$P$19,P406))","v":""},"",{"$f":"IF(H406=\"\",\"\",V406/'3 Irrigation Schedule'!$M$19)","v":""}]
[null,null,null,"2021","March","2021-03-09",null,"","",5.2153200000000011,1.0187096774193547,"",0,"",{"$f":"IF(OR('3 Irrigation Schedule'!$C$29=\"\",'3 Irrigation Schedule'!$C$31=\"\",H407=\"\"),\"\",(('3 Irrigation Schedule'!$C$29-'3 Irrigation Schedule'!$C$31)/100)*1000*N407)","v":""},"",{"$f":"IF(H407=\"\",\"\",IF(H407=1,O407*(1-'3 Irrigation Schedule'!$C$27),T406-V406))","v":""},"","","",{"$f":"IF(H407=\"\",\"\",IF('3 Irrigation Schedule'!$P$19<P407,'3 Irrigation Schedule'!$P$19,P407))","v":""},"",{"$f":"IF(H407=\"\",\"\",V407/'3 Irrigation Schedule'!$M$19)","v":""}]
[null,null,null,"2021","March","2021-03-10",null,"","",5.2153200000000011,1.0187096774193547,"",0,"",{"$f":"IF(OR('3 Irrigation Schedule'!$C$29=\"\",'3 Irrigation Schedule'!$C$31=\"\",H408=\"\"),\"\",(('3 Irrigation Schedule'!$C$29-'3 Irrigation Schedule'!$C$31)/100)*1000*N408)","v":""},"",{"$f":"IF(H408=\"\",\"\",IF(H408=1,O408*(1-'3 Irrigation Schedule'!$C$27),T407-V407))","v":""},"","","",{"$f":"IF(H408=\"\",\"\",IF('3 Irrigation Schedule'!$P$19<P408,'3 Irrigation Schedule'!$P$19,P408))","v":""},"",{"$f":"IF(H408=\"\",\"\",V408/'3 Irrigation Schedule'!$M$19)","v":""}]
[null,null,null,"2021","March","2021-03-11",null,"","",5.2153200000000011,1.0187096774193547,"",0,"",{"$f":"IF(OR('3 Irrigation Schedule'!$C$29=\"\",'3 Irrigation Schedule'!$C$31=\"\",H409=\"\"),\"\",(('3 Irrigation Schedule'!$C$29-'3 Irrigation Schedule'!$C$31)/100)*1000*N409)","v":""},"",{"$f":"IF(H409=\"\",\"\",IF(H409=1,O409*(1-'3 Irrigation Schedule'!$C$27),T408-V408))","v":""},"","","",{"$f":"IF(H409=\"\",\"\",IF('3 Irrigation Schedule'!$P$19<P409,'3 Irrigation Schedule'!$P$19,P409))","v":""},"",{"$f":"IF(H409=\"\",\"\",V409/'3 Irrigation Schedule'!$M$19)","v":""}]
[null,null,null,"2021","March","2021-03-12",null,"","",5.2153200000000011,1.0187096774193547,"",0,"",{"$f":"IF(OR('3 Irrigation Schedule'!$C$29=\"\",'3 Irrigation Schedule'!$C$31=\"\",H410=\"\"),\"\",(('3 Irrigation Schedule'!$C$29-'3 Irrigation Schedule'!$C$31)/100)*1000*N410)","v":""},"",{"$f":"IF(H410=\"\",\"\",IF(H410=1,O410*(1-'3 Irrigation Schedule'!$C$27),T409-V409))","v":""},"","","",{"$f":"IF(H410=\"\",\"\",IF('3 Irrigation Schedule'!$P$19<P410,'3 Irrigation Schedule'!$P$19,P410))","v":""},"",{"$f":"IF(H410=\"\",\"\",V410/'3 Irrigation Schedule'!$M$19)","v":""}]
[null,null,null,"2021","March","2021-03-13",null,"","",5.2153200000000011,1.0187096774193547,"",0,"",{"$f":"IF(OR('3 Irrigation Schedule'!$C$29=\"\",'3 Irrigation Schedule'!$C$31=\"\",H411=\"\"),\"\",(('3 Irrigation Schedule'!$C$29-'3 Irrigation Schedule'!$C$31)/100)*1000*N411)","v":""},"",{"$f":"IF(H411=\"\",\"\",IF(H411=1,O411*(1-'3 Irrigation Schedule'!$C$27),T410-V410))","v":""},"","","",{"$f":"IF(H411=\"\",\"\",IF('3 Irrigation Schedule'!$P$19<P411,'3 Irrigation Schedule'!$P$19,P411))","v":""},"",{"$f":"IF(H411=\"\",\"\",V411/'3 Irrigation Schedule'!$M$19)","v":""}]
[null,null,null,"2021","March","2021-03-14",null,"","",5.2153200000000011,1.0187096774193547,"",0,"",{"$f":"IF(OR('3 Irrigation Schedule'!$C$29=\"\",'3 Irrigation Schedule'!$C$31=\"\",H412=\"\"),\"\",(('3 Irrigation Schedule'!$C$29-'3 Irrigation Schedule'!$C$31)/100)*1000*N412)","v":""},"",{"$f":"IF(H412=\"\",\"\",IF(H412=1,O412*(1-'3 Irrigation Schedule'!$C$27),T411-V411))","v":""},"","","",{"$f":"IF(H412=\"\",\"\",IF('3 Irrigation Schedule'!$P$19<P412,'3 Irrigation Schedule'!$P$19,P412))","v":""},"",{"$f":"IF(H412=\"\",\"\",V412/'3 Irrigation Schedule'!$M$19)","v":""}]
[null,null,null,"2021","March","2021-03-15",null,"","",5.2153200000000011,1.0187096774193547,"",0,"",{"$f":"IF(OR('3 Irrigation Schedule'!$C$29=\"\",'3 Irrigation Schedule'!$C$31=\"\",H413=\"\"),\"\",(('3 Irrigation Schedule'!$C$29-'3 Irrigation Schedule'!$C$31)/100)*1000*N413)","v":""},"",{"$f":"IF(H413=\"\",\"\",IF(H413=1,O413*(1-'3 Irrigation Schedule'!$C$27),T412-V412))","v":""},"","","",{"$f":"IF(H413=\"\",\"\",IF('3 Irrigation Schedule'!$P$19<P413,'3 Irrigation Schedule'!$P$19,P413))","v":""},"",{"$f":"IF(H413=\"\",\"\",V413/'3 Irrigation Schedule'!$M$19)","v":""}]
[null,null,null,"2021","March","2021-03-16",null,"","",5.2153200000000011,1.0187096774193547,"",0,"",{"$f":"IF(OR('3 Irrigation Schedule'!$C$29=\"\",'3 Irrigation Schedule'!$C$31=\"\",H414=\"\"),\"\",(('3 Irrigation Schedule'!$C$29-'3 Irrigation Schedule'!$C$31)/100)*1000*N414)","v":""},"",{"$f":"IF(H414=\"\",\"\",IF(H414=1,O414*(1-'3 Irrigation Schedule'!$C$27),T413-V413))","v":""},"","","",{"$f":"IF(H414=\"\",\"\",IF('3 Irrigation Schedule'!$P$19<P414,'3 Irrigation Schedule'!$P$19,P414))","v":""},"",{"$f":"IF(H414=\"\",\"\",V414/'3 Irrigation Schedule'!$M$19)","v":""}]
[null,null,null,"2021","March","2021-03-17",null,"","",5.2153200000000011,1.0187096774193547,"",0,"",{"$f":"IF(OR('3 Irrigation Schedule'!$C$29=\"\",'3 Irrigation Schedule'!$C$31=\"\",H415=\"\"),\"\",(('3 Irrigation Schedule'!$C$29-'3 Irrigation Schedule'!$C$31)/100)*1000*N415)","v":""},"",{"$f":"IF(H415=\"\",\"\",IF(H415=1,O415*(1-'3 Irrigation Schedule'!$C$27),T414-V414))","v":""},"","","",{"$f":"IF(H415=\"\",\"\",IF('3 Irrigation Schedule'!$P$19<P415,'3 Irrigation Schedule'!$P$19,P415))","v":""},"",{"$f":"IF(H415=\"\",\"\",V415/'3 Irrigation Schedule'!$M$19)","v":""}]
[null,null,null,"2021","March","2021-03-18",null,"","",5.2153200000000011,1.0187096774193547,"",0,"",{"$f":"IF(OR('3 Irrigation Schedule'!$C$29=\"\",'3 Irrigation Schedule'!$C$31=\"\",H416=\"\"),\"\",(('3 Irrigation Schedule'!$C$29-'3 Irrigation Schedule'!$C$31)/100)*1000*N416)","v":""},"",{"$f":"IF(H416=\"\",\"\",IF(H416=1,O416*(1-'3 Irrigation Schedule'!$C$27),T415-V415))","v":""},"","","",{"$f":"IF(H416=\"\",\"\",IF('3 Irrigation Schedule'!$P$19<P416,'3 Irrigation Schedule'!$P$19,P416))","v":""},"",{"$f":"IF(H416=\"\",\"\",V416/'3 Irrigation Schedule'!$M$19)","v":""}]
[null,null,null,"2021","March","2021-03-19",null,"","",5.2153200000000011,1.0187096774193547,"",0,"",{"$f":"IF(OR('3 Irrigation Schedule'!$C$29=\"\",'3 Irrigation Schedule'!$C$31=\"\",H417=\"\"),\"\",(('3 Irrigation Schedule'!$C$29-'3 Irrigation Schedule'!$C$31)/100)*1000*N417)","v":""},"",{"$f":"IF(H417=\"\",\"\",IF(H417=1,O417*(1-'3 Irrigation Schedule'!$C$27),T416-V416))","v":""},"","","",{"$f":"IF(H417=\"\",\"\",IF('3 Irrigation Schedule'!$P$19<P417,'3 Irrigation Schedule'!$P$19,P417))","v":""},"",{"$f":"IF(H417=\"\",\"\",V417/'3 Irrigation Schedule'!$M$19)","v":""}]
[null,null,null,{"$f":"IFERROR(TEXT(DATE(YEAR($F418),MONTH($F418),1),$D$7&$D$4),\"\")","v":"2021"},{"$f":"IFERROR(TEXT(DATE(YEAR($F418),MONTH($F418),1),$D$7&$D$5),\"\")","v":"March"},"2021-03-20",null,"","",{"$f":"IFERROR(VLOOKUP($E418,$B$19:$C$30,2,FALSE),\"\")","v":5.2153200000000011},1.0187096774193547,{"$f":"IF(H418=\"\",\"\",IF(H418<=$I$27,$L$27,IF(AND(H418>$I$27,H418<=$I$28),$L$27+((H418-$I$27)/$H$28)*($L$29-$L$27),IF(AND(H418>$I$28,H418<=$I$29),$L$29,$L$29+((H418-$I$29)/$H$30)*($L$30-$L$29)))))","v":""},{"$f":"IFERROR((J418*L418),0)","v":0},{"$f":"IF(H418=\"\",\"\",IF(OR(H418=1,H418<$I$28),$M$27+(($M$28-$M$27)*((H418-1)/($I$28-1))),$M$28))","v":""},{"$f":"IF(OR('3 Irrigation Schedule'!$C$29=\"\",'3 Irrigation Schedule'!$C$31=\"\",H418=\"\"),\"\",(('3 Irrigation Schedule'!$C$29-'3 Irrigation Schedule'!$C$31)/100)*1000*N418)","v":""},{"$f":"IF(H418=\"\",\"\",O418*$N$27)","v":""},{"$f":"IF(H418=\"\",\"\",IF(H418=1,O418*(1-'3 Irrigation Schedule'!$C$27),T417-V417))","v":""},{"$f":"IF(H418=\"\",\"\",IF(Q418>P418,(O418-Q418)/(O418-P418),1))","v":""},{"$f":"IF(H418=\"\",\"\",M418*R418)","v":""},{"$f":"IF(H418=\"\",\"\",IF(Q418+S418-K418<0,0,Q418+S418-K418))","v":""},{"$f":"IF(H418=\"\",\"\",IF('3 Irrigation Schedule'!$P$19<P418,'3 Irrigation Schedule'!$P$19,P418))","v":""},{"$f":"IF(H418=\"\",\"\",IF(U418<=T418,U418,0))","v":""},{"$f":"IF(H418=\"\",\"\",V418/'3 Irrigation Schedule'!$M$19)","v":""}]
[null,null,null,"2021","March",{"$f":"IFERROR(IF(F418+1<=$N$7, F418+1,\"\"),\"\")","v":"2021-03-21"},null,{"$f":"IFERROR(IF(OR($F419-$J$27+1<=0,$F419>$K$30),\"\",$F419-$J$27+1),\"\")","v":""},"",5.2153200000000011,{"$f":"IFERROR(VLOOKUP($E419,$B$19:$D$30,3,FALSE),\"\")","v":1.0187096774193547},"",0,"",{"$f":"IF(OR('3 Irrigation Schedule'!$C$29=\"\",'3 Irrigation Schedule'!$C$31=\"\",H419=\"\"),\"\",(('3 Irrigation Schedule'!$C$29-'3 Irrigation Schedule'!$C$31)/100)*1000*N419)","v":""},"",{"$f":"IF(H419=\"\",\"\",IF(H419=1,O419*(1-'3 Irrigation Schedule'!$C$27),T418-V418))","v":""},"","","",{"$f":"IF(H419=\"\",\"\",IF('3 Irrigation Schedule'!$P$19<P419,'3 Irrigation Schedule'!$P$19,P419))","v":""},"",{"$f":"IF(H419=\"\",\"\",V419/'3 Irrigation Schedule'!$M$19)","v":""}]
[null,null,null,"2021","March","2021-03-22",null,"","",5.2153200000000011,1.0187096774193547,"",0,"",{"$f":"IF(OR('3 Irrigation Schedule'!$C$29=\"\",'3 Irrigation Schedule'!$C$31=\"\",H420=\"\"),\"\",(('3 Irrigation Schedule'!$C$29-'3 Irrigation Schedule'!$C$31)/100)*1000*N420)","v":""},"",{"$f":"IF(H420=\"\",\"\",IF(H420=1,O420*(1-'3 Irrigation Schedule'!$C$27),T419-V419))","v":""},"","","",{"$f":"IF(H420=\"\",\"\",IF('3 Irrigation Schedule'!$P$19<P420,'3 Irrigation Schedule'!$P$19,P420))","v":""},"",{"$f":"IF(H420=\"\",\"\",V420/'3 Irrigation Schedule'!$M$19)","v":""}]
[null,null,null,"2021","March","2021-03-23",null,"","",5.2153200000000011,1.0187096774193547,"",0,"",{"$f":"IF(OR('3 Irrigation Schedule'!$C$29=\"\",'3 Irrigation Schedule'!$C$31=\"\",H421=\"\"),\"\",(('3 Irrigation Schedule'!$C$29-'3 Irrigation Schedule'!$C$31)/100)*1000*N421)","v":""},"",{"$f":"IF(H421=\"\",\"\",IF(H421=1,O421*(1-'3 Irrigation Schedule'!$C$27),T420-V420))","v":""},"","","",{"$f":"IF(H421=\"\",\"\",IF('3 Irrigation Schedule'!$P$19<P421,'3 Irrigation Schedule'!$P$19,P421))","v":""},"",{"$f":"IF(H421=\"\",\"\",V421/'3 Irrigation Schedule'!$M$19)","v":""}]
[null,null,null,"2021","March","2021-03-24",null,"","",5.2153200000000011,1.0187096774193547,"",0,"",{"$f":"IF(OR('3 Irrigation Schedule'!$C$29=\"\",'3 Irrigation Schedule'!$C$31=\"\",H422=\"\"),\"\",(('3 Irrigation Schedule'!$C$29-'3 Irrigation Schedule'!$C$31)/100)*1000*N422)","v":""},"",{"$f":"IF(H422=\"\",\"\",IF(H422=1,O422*(1-'3 Irrigation Schedule'!$C$27),T421-V421))","v":""},"","","",{"$f":"IF(H422=\"\",\"\",IF('3 Irrigation Schedule'!$P$19<P422,'3 Irrigation Schedule'!$P$19,P422))","v":""},"",{"$f":"IF(H422=\"\",\"\",V422/'3 Irrigation Schedule'!$M$19)","v":""}]
[null,null,null,"2021","March","2021-03-25",null,"","",5.2153200000000011,1.0187096774193547,"",0,"",{"$f":"IF(OR('3 Irrigation Schedule'!$C$29=\"\",'3 Irrigation Schedule'!$C$31=\"\",H423=\"\"),\"\",(('3 Irrigation Schedule'!$C$29-'3 Irrigation Schedule'!$C$31)/100)*1000*N423)","v":""},"",{"$f":"IF(H423=\"\",\"\",IF(H423=1,O423*(1-'3 Irrigation Schedule'!$C$27),T422-V422))","v":""},"","","",{"$f":"IF(H423=\"\",\"\",IF('3 Irrigation Schedule'!$P$19<P423,'3 Irrigation Schedule'!$P$19,P423))","v":""},"",{"$f":"IF(H423=\"\",\"\",V423/'3 Irrigation Schedule'!$M$19)","v":""}]
[null,null,null,"2021","March","2021-03-26",null,"","",5.2153200000000011,1.0187096774193547,"",0,"",{"$f":"IF(OR('3 Irrigation Schedule'!$C$29=\"\",'3 Irrigation Schedule'!$C$31=\"\",H424=\"\"),\"\",(('3 Irrigation Schedule'!$C$29-'3 Irrigation Schedule'!$C$31)/100)*1000*N424)","v":""},"",{"$f":"IF(H424=\"\",\"\",IF(H424=1,O424*(1-'3 Irrigation Schedule'!$C$27),T423-V423))","v":""},"","","",{"$f":"IF(H424=\"\",\"\",IF('3 Irrigation Schedule'!$P$19<P424,'3 Irrigation Schedule'!$P$19,P424))","v":""},"",{"$f":"IF(H424=\"\",\"\",V424/'3 Irrigation Schedule'!$M$19)","v":""}]
[null,null,null,"2021","March","2021-03-27",null,"","",5.2153200000000011,1.0187096774193547,"",0,"",{"$f":"IF(OR('3 Irrigation Schedule'!$C$29=\"\",'3 Irrigation Schedule'!$C$31=\"\",H425=\"\"),\"\",(('3 Irrigation Schedule'!$C$29-'3 Irrigation Schedule'!$C$31)/100)*1000*N425)","v":""},"",{"$f":"IF(H425=\"\",\"\",IF(H425=1,O425*(1-'3 Irrigation Schedule'!$C$27),T424-V424))","v":""},"","","",{"$f":"IF(H425=\"\",\"\",IF('3 Irrigation Schedule'!$P$19<P425,'3 Irrigation Schedule'!$P$19,P425))","v":""},"",{"$f":"IF(H425=\"\",\"\",V425/'3 Irrigation Schedule'!$M$19)","v":""}]
[null,null,null,"2021","March","2021-03-28",null,"","",5.2153200000000011,1.0187096774193547,"",0,"",{"$f":"IF(OR('3 Irrigation Schedule'!$C$29=\"\",'3 Irrigation Schedule'!$C$31=\"\",H426=\"\"),\"\",(('3 Irrigation Schedule'!$C$29-'3 Irrigation Schedule'!$C$31)/100)*1000*N426)","v":""},"",{"$f":"IF(H426=\"\",\"\",IF(H426=1,O426*(1-'3 Irrigation Schedule'!$C$27),T425-V425))","v":""},"","","",{"$f":"IF(H426=\"\",\"\",IF('3 Irrigation Schedule'!$P$19<P426,'3 Irrigation Schedule'!$P$19,P426))","v":""},"",{"$f":"IF(H426=\"\",\"\",V426/'3 Irrigation Schedule'!$M$19)","v":""}]
[null,null,null,"2021","March","2021-03-29",null,"","",5.2153200000000011,1.0187096774193547,"",0,"",{"$f":"IF(OR('3 Irrigation Schedule'!$C$29=\"\",'3 Irrigation Schedule'!$C$31=\"\",H427=\"\"),\"\",(('3 Irrigation Schedule'!$C$29-'3 Irrigation Schedule'!$C$31)/100)*1000*N427)","v":""},"",{"$f":"IF(H427=\"\",\"\",IF(H427=1,O427*(1-'3 Irrigation Schedule'!$C$27),T426-V426))","v":""},"","","",{"$f":"IF(H427=\"\",\"\",IF('3 Irrigation Schedule'!$P$19<P427,'3 Irrigation Schedule'!$P$19,P427))","v":""},"",{"$f":"IF(H427=\"\",\"\",V427/'3 Irrigation Schedule'!$M$19)","v":""}]
[null,null,null,"2021","March","2021-03-30",null,"","",5.2153200000000011,1.0187096774193547,"",0,"",{"$f":"IF(OR('3 Irrigation Schedule'!$C$29=\"\",'3 Irrigation Schedule'!$C$31=\"\",H428=\"\"),\"\",(('3 Irrigation Schedule'!$C$29-'3 Irrigation Schedule'!$C$31)/100)*1000*N428)","v":""},"",{"$f":"IF(H428=\"\",\"\",IF(H428=1,O428*(1-'3 Irrigation Schedule'!$C$27),T427-V427))","v":""},"","","",{"$f":"IF(H428=\"\",\"\",IF('3 Irrigation Schedule'!$P$19<P428,'3 Irrigation Schedule'!$P$19,P428))","v":""},"",{"$f":"IF(H428=\"\",\"\",V428/'3 Irrigation Schedule'!$M$19)","v":""}]
[null,null,null,"2021","March","2021-03-31",null,"","",5.2153200000000011,1.0187096774193547,"",0,"",{"$f":"IF(OR('3 Irrigation Schedule'!$C$29=\"\",'3 Irrigation Schedule'!$C$31=\"\",H429=\"\"),\"\",(('3 Irrigation Schedule'!$C$29-'3 Irrigation Schedule'!$C$31)/100)*1000*N429)","v":""},"",{"$f":"IF(H429=\"\",\"\",IF(H429=1,O429*(1-'3 Irrigation Schedule'!$C$27),T428-V428))","v":""},"","","",{"$f":"IF(H429=\"\",\"\",IF('3 Irrigation Schedule'!$P$19<P429,'3 Irrigation Schedule'!$P$19,P429))","v":""},"",{"$f":"IF(H429=\"\",\"\",V429/'3 Irrigation Schedule'!$M$19)","v":""}]
[null,null,null,"2021","April","2021-04-01",null,"","",5.3054400000000008,3.0080000000000005,"",0,"",{"$f":"IF(OR('3 Irrigation Schedule'!$C$29=\"\",'3 Irrigation Schedule'!$C$31=\"\",H430=\"\"),\"\",(('3 Irrigation Schedule'!$C$29-'3 Irrigation Schedule'!$C$31)/100)*1000*N430)","v":""},"",{"$f":"IF(H430=\"\",\"\",IF(H430=1,O430*(1-'3 Irrigation Schedule'!$C$27),T429-V429))","v":""},"","","",{"$f":"IF(H430=\"\",\"\",IF('3 Irrigation Schedule'!$P$19<P430,'3 Irrigation Schedule'!$P$19,P430))","v":""},"",{"$f":"IF(H430=\"\",\"\",V430/'3 Irrigation Schedule'!$M$19)","v":""}]
[null,null,null,"2021","April","2021-04-02",null,"","",5.3054400000000008,3.0080000000000005,"",0,"",{"$f":"IF(OR('3 Irrigation Schedule'!$C$29=\"\",'3 Irrigation Schedule'!$C$31=\"\",H431=\"\"),\"\",(('3 Irrigation Schedule'!$C$29-'3 Irrigation Schedule'!$C$31)/100)*1000*N431)","v":""},"",{"$f":"IF(H431=\"\",\"\",IF(H431=1,O431*(1-'3 Irrigation Schedule'!$C$27),T430-V430))","v":""},"","","",{"$f":"IF(H431=\"\",\"\",IF('3 Irrigation Schedule'!$P$19<P431,'3 Irrigation Schedule'!$P$19,P431))","v":""},"",{"$f":"IF(H431=\"\",\"\",V431/'3 Irrigation Schedule'!$M$19)","v":""}]
[null,null,null,"2021","April","2021-04-03",null,"","",5.3054400000000008,3.0080000000000005,"",0,"",{"$f":"IF(OR('3 Irrigation Schedule'!$C$29=\"\",'3 Irrigation Schedule'!$C$31=\"\",H432=\"\"),\"\",(('3 Irrigation Schedule'!$C$29-'3 Irrigation Schedule'!$C$31)/100)*1000*N432)","v":""},"",{"$f":"IF(H432=\"\",\"\",IF(H432=1,O432*(1-'3 Irrigation Schedule'!$C$27),T431-V431))","v":""},"","","",{"$f":"IF(H432=\"\",\"\",IF('3 Irrigation Schedule'!$P$19<P432,'3 Irrigation Schedule'!$P$19,P432))","v":""},"",{"$f":"IF(H432=\"\",\"\",V432/'3 Irrigation Schedule'!$M$19)","v":""}]
[null,null,null,"2021","April","2021-04-04",null,"","",5.3054400000000008,3.0080000000000005,"",0,"",{"$f":"IF(OR('3 Irrigation Schedule'!$C$29=\"\",'3 Irrigation Schedule'!$C$31=\"\",H433=\"\"),\"\",(('3 Irrigation Schedule'!$C$29-'3 Irrigation Schedule'!$C$31)/100)*1000*N433)","v":""},"",{"$f":"IF(H433=\"\",\"\",IF(H433=1,O433*(1-'3 Irrigation Schedule'!$C$27),T432-V432))","v":""},"","","",{"$f":"IF(H433=\"\",\"\",IF('3 Irrigation Schedule'!$P$19<P433,'3 Irrigation Schedule'!$P$19,P433))","v":""},"",{"$f":"IF(H433=\"\",\"\",V433/'3 Irrigation Schedule'!$M$19)","v":""}]
[null,null,null,"2021","April","2021-04-05",null,"","",5.3054400000000008,3.0080000000000005,"",0,"",{"$f":"IF(OR('3 Irrigation Schedule'!$C$29=\"\",'3 Irrigation Schedule'!$C$31=\"\",H434=\"\"),\"\",(('3 Irrigation Schedule'!$C$29-'3 Irrigation Schedule'!$C$31)/100)*1000*N434)","v":""},"",{"$f":"IF(H434=\"\",\"\",IF(H434=1,O434*(1-'3 Irrigation Schedule'!$C$27),T433-V433))","v":""},"","","",{"$f":"IF(H434=\"\",\"\",IF('3 Irrigation Schedule'!$P$19<P434,'3 Irrigation Schedule'!$P$19,P434))","v":""},"",{"$f":"IF(H434=\"\",\"\",V434/'3 Irrigation Schedule'!$M$19)","v":""}]
[null,null,null,"2021","April","2021-04-06",null,"","",5.3054400000000008,3.0080000000000005,"",0,"",{"$f":"IF(OR('3 Irrigation Schedule'!$C$29=\"\",'3 Irrigation Schedule'!$C$31=\"\",H435=\"\"),\"\",(('3 Irrigation Schedule'!$C$29-'3 Irrigation Schedule'!$C$31)/100)*1000*N435)","v":""},"",{"$f":"IF(H435=\"\",\"\",IF(H435=1,O435*(1-'3 Irrigation Schedule'!$C$27),T434-V434))","v":""},"","","",{"$f":"IF(H435=\"\",\"\",IF('3 Irrigation Schedule'!$P$19<P435,'3 Irrigation Schedule'!$P$19,P435))","v":""},"",{"$f":"IF(H435=\"\",\"\",V435/'3 Irrigation Schedule'!$M$19)","v":""}]
[null,null,null,"2021","April","2021-04-07",null,"","",5.3054400000000008,3.0080000000000005,"",0,"",{"$f":"IF(OR('3 Irrigation Schedule'!$C$29=\"\",'3 Irrigation Schedule'!$C$31=\"\",H436=\"\"),\"\",(('3 Irrigation Schedule'!$C$29-'3 Irrigation Schedule'!$C$31)/100)*1000*N436)","v":""},"",{"$f":"IF(H436=\"\",\"\",IF(H436=1,O436*(1-'3 Irrigation Schedule'!$C$27),T435-V435))","v":""},"","","",{"$f":"IF(H436=\"\",\"\",IF('3 Irrigation Schedule'!$P$19<P436,'3 Irrigation Schedule'!$P$19,P436))","v":""},"",{"$f":"IF(H436=\"\",\"\",V436/'3 Irrigation Schedule'!$M$19)","v":""}]
[null,null,null,"2021","April","2021-04-08",null,"","",5.3054400000000008,3.0080000000000005,"",0,"",{"$f":"IF(OR('3 Irrigation Schedule'!$C$29=\"\",'3 Irrigation Schedule'!$C$31=\"\",H437=\"\"),\"\",(('3 Irrigation Schedule'!$C$29-'3 Irrigation Schedule'!$C$31)/100)*1000*N437)","v":""},"",{"$f":"IF(H437=\"\",\"\",IF(H437=1,O437*(1-'3 Irrigation Schedule'!$C$27),T436-V436))","v":""},"","","",{"$f":"IF(H437=\"\",\"\",IF('3 Irrigation Schedule'!$P$19<P437,'3 Irrigation Schedule'!$P$19,P437))","v":""},"",{"$f":"IF(H437=\"\",\"\",V437/'3 Irrigation Schedule'!$M$19)","v":""}]
[null,null,null,"2021","April","2021-04-09",null,"","",5.3054400000000008,3.0080000000000005,"",0,"",{"$f":"IF(OR('3 Irrigation Schedule'!$C$29=\"\",'3 Irrigation Schedule'!$C$31=\"\",H438=\"\"),\"\",(('3 Irrigation Schedule'!$C$29-'3 Irrigation Schedule'!$C$31)/100)*1000*N438)","v":""},"",{"$f":"IF(H438=\"\",\"\",IF(H438=1,O438*(1-'3 Irrigation Schedule'!$C$27),T437-V437))","v":""},"","","",{"$f":"IF(H438=\"\",\"\",IF('3 Irrigation Schedule'!$P$19<P438,'3 Irrigation Schedule'!$P$19,P438))","v":""},"",{"$f":"IF(H438=\"\",\"\",V438/'3 Irrigation Schedule'!$M$19)","v":""}]
[null,null,null,"2021","April","2021-04-10",null,"","",5.3054400000000008,3.0080000000000005,"",0,"",{"$f":"IF(OR('3 Irrigation Schedule'!$C$29=\"\",'3 Irrigation Schedule'!$C$31=\"\",H439=\"\"),\"\",(('3 Irrigation Schedule'!$C$29-'3 Irrigation Schedule'!$C$31)/100)*1000*N439)","v":""},"",{"$f":"IF(H439=\"\",\"\",IF(H439=1,O439*(1-'3 Irrigation Schedule'!$C$27),T438-V438))","v":""},"","","",{"$f":"IF(H439=\"\",\"\",IF('3 Irrigation Schedule'!$P$19<P439,'3 Irrigation Schedule'!$P$19,P439))","v":""},"",{"$f":"IF(H439=\"\",\"\",V439/'3 Irrigation Schedule'!$M$19)","v":""}]
[null,null,null,"2021","April","2021-04-11",null,"","",5.3054400000000008,3.0080000000000005,"",0,"",{"$f":"IF(OR('3 Irrigation Schedule'!$C$29=\"\",'3 Irrigation Schedule'!$C$31=\"\",H440=\"\"),\"\",(('3 Irrigation Schedule'!$C$29-'3 Irrigation Schedule'!$C$31)/100)*1000*N440)","v":""},"",{"$f":"IF(H440=\"\",\"\",IF(H440=1,O440*(1-'3 Irrigation Schedule'!$C$27),T439-V439))","v":""},"","","",{"$f":"IF(H440=\"\",\"\",IF('3 Irrigation Schedule'!$P$19<P440,'3 Irrigation Schedule'!$P$19,P440))","v":""},"",{"$f":"IF(H440=\"\",\"\",V440/'3 Irrigation Schedule'!$M$19)","v":""}]
[null,null,null,"2021","April","2021-04-12",null,"","",5.3054400000000008,3.0080000000000005,"",0,"",{"$f":"IF(OR('3 Irrigation Schedule'!$C$29=\"\",'3 Irrigation Schedule'!$C$31=\"\",H441=\"\"),\"\",(('3 Irrigation Schedule'!$C$29-'3 Irrigation Schedule'!$C$31)/100)*1000*N441)","v":""},"",{"$f":"IF(H441=\"\",\"\",IF(H441=1,O441*(1-'3 Irrigation Schedule'!$C$27),T440-V440))","v":""},"","","",{"$f":"IF(H441=\"\",\"\",IF('3 Irrigation Schedule'!$P$19<P441,'3 Irrigation Schedule'!$P$19,P441))","v":""},"",{"$f":"IF(H441=\"\",\"\",V441/'3 Irrigation Schedule'!$M$19)","v":""}]
[null,null,null,"2021","April","2021-04-13",null,"","",5.3054400000000008,3.0080000000000005,"",0,"",{"$f":"IF(OR('3 Irrigation Schedule'!$C$29=\"\",'3 Irrigation Schedule'!$C$31=\"\",H442=\"\"),\"\",(('3 Irrigation Schedule'!$C$29-'3 Irrigation Schedule'!$C$31)/100)*1000*N442)","v":""},"",{"$f":"IF(H442=\"\",\"\",IF(H442=1,O442*(1-'3 Irrigation Schedule'!$C$27),T441-V441))","v":""},"","","",{"$f":"IF(H442=\"\",\"\",IF('3 Irrigation Schedule'!$P$19<P442,'3 Irrigation Schedule'!$P$19,P442))","v":""},"",{"$f":"IF(H442=\"\",\"\",V442/'3 Irrigation Schedule'!$M$19)","v":""}]
[null,null,null,"2021","April","2021-04-14",null,"","",5.3054400000000008,3.0080000000000005,"",0,"",{"$f":"IF(OR('3 Irrigation Schedule'!$C$29=\"\",'3 Irrigation Schedule'!$C$31=\"\",H443=\"\"),\"\",(('3 Irrigation Schedule'!$C$29-'3 Irrigation Schedule'!$C$31)/100)*1000*N443)","v":""},"",{"$f":"IF(H443=\"\",\"\",IF(H443=1,O443*(1-'3 Irrigation Schedule'!$C$27),T442-V442))","v":""},"","","",{"$f":"IF(H443=\"\",\"\",IF('3 Irrigation Schedule'!$P$19<P443,'3 Irrigation Schedule'!$P$19,P443))","v":""},"",{"$f":"IF(H443=\"\",\"\",V443/'3 Irrigation Schedule'!$M$19)","v":""}]
[null,null,null,"2021","April","2021-04-15",null,"","",5.3054400000000008,3.0080000000000005,"",0,"",{"$f":"IF(OR('3 Irrigation Schedule'!$C$29=\"\",'3 Irrigation Schedule'!$C$31=\"\",H444=\"\"),\"\",(('3 Irrigation Schedule'!$C$29-'3 Irrigation Schedule'!$C$31)/100)*1000*N444)","v":""},"",{"$f":"IF(H444=\"\",\"\",IF(H444=1,O444*(1-'3 Irrigation Schedule'!$C$27),T443-V443))","v":""},"","","",{"$f":"IF(H444=\"\",\"\",IF('3 Irrigation Schedule'!$P$19<P444,'3 Irrigation Schedule'!$P$19,P444))","v":""},"",{"$f":"IF(H444=\"\",\"\",V444/'3 Irrigation Schedule'!$M$19)","v":""}]
[null,null,null,"2021","April","2021-04-16",null,"","",5.3054400000000008,3.0080000000000005,"",0,"",{"$f":"IF(OR('3 Irrigation Schedule'!$C$29=\"\",'3 Irrigation Schedule'!$C$31=\"\",H445=\"\"),\"\",(('3 Irrigation Schedule'!$C$29-'3 Irrigation Schedule'!$C$31)/100)*1000*N445)","v":""},"",{"$f":"IF(H445=\"\",\"\",IF(H445=1,O445*(1-'3 Irrigation Schedule'!$C$27),T444-V444))","v":""},"","","",{"$f":"IF(H445=\"\",\"\",IF('3 Irrigation Schedule'!$P$19<P445,'3 Irrigation Schedule'!$P$19,P445))","v":""},"",{"$f":"IF(H445=\"\",\"\",V445/'3 Irrigation Schedule'!$M$19)","v":""}]
[null,null,null,"2021","April","2021-04-17",null,"","",5.3054400000000008,3.0080000000000005,"",0,"",{"$f":"IF(OR('3 Irrigation Schedule'!$C$29=\"\",'3 Irrigation Schedule'!$C$31=\"\",H446=\"\"),\"\",(('3 Irrigation Schedule'!$C$29-'3 Irrigation Schedule'!$C$31)/100)*1000*N446)","v":""},"",{"$f":"IF(H446=\"\",\"\",IF(H446=1,O446*(1-'3 Irrigation Schedule'!$C$27),T445-V445))","v":""},"","","",{"$f":"IF(H446=\"\",\"\",IF('3 Irrigation Schedule'!$P$19<P446,'3 Irrigation Schedule'!$P$19,P446))","v":""},"",{"$f":"IF(H446=\"\",\"\",V446/'3 Irrigation Schedule'!$M$19)","v":""}]
[null,null,null,"2021","April","2021-04-18",null,"","",5.3054400000000008,3.0080000000000005,"",0,"",{"$f":"IF(OR('3 Irrigation Schedule'!$C$29=\"\",'3 Irrigation Schedule'!$C$31=\"\",H447=\"\"),\"\",(('3 Irrigation Schedule'!$C$29-'3 Irrigation Schedule'!$C$31)/100)*1000*N447)","v":""},"",{"$f":"IF(H447=\"\",\"\",IF(H447=1,O447*(1-'3 Irrigation Schedule'!$C$27),T446-V446))","v":""},"","","",{"$f":"IF(H447=\"\",\"\",IF('3 Irrigation Schedule'!$P$19<P447,'3 Irrigation Schedule'!$P$19,P447))","v":""},"",{"$f":"IF(H447=\"\",\"\",V447/'3 Irrigation Schedule'!$M$19)","v":""}]
[null,null,null,"2021","April","2021-04-19",null,"","",5.3054400000000008,3.0080000000000005,"",0,"",{"$f":"IF(OR('3 Irrigation Schedule'!$C$29=\"\",'3 Irrigation Schedule'!$C$31=\"\",H448=\"\"),\"\",(('3 Irrigation Schedule'!$C$29-'3 Irrigation Schedule'!$C$31)/100)*1000*N448)","v":""},"",{"$f":"IF(H448=\"\",\"\",IF(H448=1,O448*(1-'3 Irrigation Schedule'!$C$27),T447-V447))","v":""},"","","",{"$f":"IF(H448=\"\",\"\",IF('3 Irrigation Schedule'!$P$19<P448,'3 Irrigation Schedule'!$P$19,P448))","v":""},"",{"$f":"IF(H448=\"\",\"\",V448/'3 Irrigation Schedule'!$M$19)","v":""}]
[null,null,null,"2021","April","2021-04-20",null,"","",5.3054400000000008,3.0080000000000005,"",0,"",{"$f":"IF(OR('3 Irrigation Schedule'!$C$29=\"\",'3 Irrigation Schedule'!$C$31=\"\",H449=\"\"),\"\",(('3 Irrigation Schedule'!$C$29-'3 Irrigation Schedule'!$C$31)/100)*1000*N449)","v":""},"",{"$f":"IF(H449=\"\",\"\",IF(H449=1,O449*(1-'3 Irrigation Schedule'!$C$27),T448-V448))","v":""},"","","",{"$f":"IF(H449=\"\",\"\",IF('3 Irrigation Schedule'!$P$19<P449,'3 Irrigation Schedule'!$P$19,P449))","v":""},"",{"$f":"IF(H449=\"\",\"\",V449/'3 Irrigation Schedule'!$M$19)","v":""}]
[null,null,null,"2021","April","2021-04-21",null,"","",5.3054400000000008,3.0080000000000005,"",0,"",{"$f":"IF(OR('3 Irrigation Schedule'!$C$29=\"\",'3 Irrigation Schedule'!$C$31=\"\",H450=\"\"),\"\",(('3 Irrigation Schedule'!$C$29-'3 Irrigation Schedule'!$C$31)/100)*1000*N450)","v":""},"",{"$f":"IF(H450=\"\",\"\",IF(H450=1,O450*(1-'3 Irrigation Schedule'!$C$27),T449-V449))","v":""},"","","",{"$f":"IF(H450=\"\",\"\",IF('3 Irrigation Schedule'!$P$19<P450,'3 Irrigation Schedule'!$P$19,P450))","v":""},"",{"$f":"IF(H450=\"\",\"\",V450/'3 Irrigation Schedule'!$M$19)","v":""}]
[null,null,null,"2021","April","2021-04-22",null,"","",5.3054400000000008,3.0080000000000005,"",0,"",{"$f":"IF(OR('3 Irrigation Schedule'!$C$29=\"\",'3 Irrigation Schedule'!$C$31=\"\",H451=\"\"),\"\",(('3 Irrigation Schedule'!$C$29-'3 Irrigation Schedule'!$C$31)/100)*1000*N451)","v":""},"",{"$f":"IF(H451=\"\",\"\",IF(H451=1,O451*(1-'3 Irrigation Schedule'!$C$27),T450-V450))","v":""},"","","",{"$f":"IF(H451=\"\",\"\",IF('3 Irrigation Schedule'!$P$19<P451,'3 Irrigation Schedule'!$P$19,P451))","v":""},"",{"$f":"IF(H451=\"\",\"\",V451/'3 Irrigation Schedule'!$M$19)","v":""}]
[null,null,null,"2021","April","2021-04-23",null,"","",5.3054400000000008,3.0080000000000005,"",0,"",{"$f":"IF(OR('3 Irrigation Schedule'!$C$29=\"\",'3 Irrigation Schedule'!$C$31=\"\",H452=\"\"),\"\",(('3 Irrigation Schedule'!$C$29-'3 Irrigation Schedule'!$C$31)/100)*1000*N452)","v":""},"",{"$f":"IF(H452=\"\",\"\",IF(H452=1,O452*(1-'3 Irrigation Schedule'!$C$27),T451-V451))","v":""},"","","",{"$f":"IF(H452=\"\",\"\",IF('3 Irrigation Schedule'!$P$19<P452,'3 Irrigation Schedule'!$P$19,P452))","v":""},"",{"$f":"IF(H452=\"\",\"\",V452/'3 Irrigation Schedule'!$M$19)","v":""}]
[null,null,null,"2021","April","2021-04-24",null,"","",5.3054400000000008,3.0080000000000005,"",0,"",{"$f":"IF(OR('3 Irrigation Schedule'!$C$29=\"\",'3 Irrigation Schedule'!$C$31=\"\",H453=\"\"),\"\",(('3 Irrigation Schedule'!$C$29-'3 Irrigation Schedule'!$C$31)/100)*1000*N453)","v":""},"",{"$f":"IF(H453=\"\",\"\",IF(H453=1,O453*(1-'3 Irrigation Schedule'!$C$27),T452-V452))","v":""},"","","",{"$f":"IF(H453=\"\",\"\",IF('3 Irrigation Schedule'!$P$19<P453,'3 Irrigation Schedule'!$P$19,P453))","v":""},"",{"$f":"IF(H453=\"\",\"\",V453/'3 Irrigation Schedule'!$M$19)","v":""}]
[null,null,null,"2021","April","2021-04-25",null,"","",5.3054400000000008,3.0080000000000005,"",0,"",{"$f":"IF(OR('3 Irrigation Schedule'!$C$29=\"\",'3 Irrigation Schedule'!$C$31=\"\",H454=\"\"),\"\",(('3 Irrigation Schedule'!$C$29-'3 Irrigation Schedule'!$C$31)/100)*1000*N454)","v":""},"",{"$f":"IF(H454=\"\",\"\",IF(H454=1,O454*(1-'3 Irrigation Schedule'!$C$27),T453-V453))","v":""},"","","",{"$f":"IF(H454=\"\",\"\",IF('3 Irrigation Schedule'!$P$19<P454,'3 Irrigation Schedule'!$P$19,P454))","v":""},"",{"$f":"IF(H454=\"\",\"\",V454/'3 Irrigation Schedule'!$M$19)","v":""}]
[null,null,null,"2021","April","2021-04-26",null,"","",5.3054400000000008,3.0080000000000005,"",0,"",{"$f":"IF(OR('3 Irrigation Schedule'!$C$29=\"\",'3 Irrigation Schedule'!$C$31=\"\",H455=\"\"),\"\",(('3 Irrigation Schedule'!$C$29-'3 Irrigation Schedule'!$C$31)/100)*1000*N455)","v":""},"",{"$f":"IF(H455=\"\",\"\",IF(H455=1,O455*(1-'3 Irrigation Schedule'!$C$27),T454-V454))","v":""},"","","",{"$f":"IF(H455=\"\",\"\",IF('3 Irrigation Schedule'!$P$19<P455,'3 Irrigation Schedule'!$P$19,P455))","v":""},"",{"$f":"IF(H455=\"\",\"\",V455/'3 Irrigation Schedule'!$M$19)","v":""}]
[null,null,null,"2021","April","2021-04-27",null,"","",5.3054400000000008,3.0080000000000005,"",0,"",{"$f":"IF(OR('3 Irrigation Schedule'!$C$29=\"\",'3 Irrigation Schedule'!$C$31=\"\",H456=\"\"),\"\",(('3 Irrigation Schedule'!$C$29-'3 Irrigation Schedule'!$C$31)/100)*1000*N456)","v":""},"",{"$f":"IF(H456=\"\",\"\",IF(H456=1,O456*(1-'3 Irrigation Schedule'!$C$27),T455-V455))","v":""},"","","",{"$f":"IF(H456=\"\",\"\",IF('3 Irrigation Schedule'!$P$19<P456,'3 Irrigation Schedule'!$P$19,P456))","v":""},"",{"$f":"IF(H456=\"\",\"\",V456/'3 Irrigation Schedule'!$M$19)","v":""}]
[null,null,null,"2021","April","2021-04-28",null,"","",5.3054400000000008,3.0080000000000005,"",0,"",{"$f":"IF(OR('3 Irrigation Schedule'!$C$29=\"\",'3 Irrigation Schedule'!$C$31=\"\",H457=\"\"),\"\",(('3 Irrigation Schedule'!$C$29-'3 Irrigation Schedule'!$C$31)/100)*1000*N457)","v":""},"",{"$f":"IF(H457=\"\",\"\",IF(H457=1,O457*(1-'3 Irrigation Schedule'!$C$27),T456-V456))","v":""},"","","",{"$f":"IF(H457=\"\",\"\",IF('3 Irrigation Schedule'!$P$19<P457,'3 Irrigation Schedule'!$P$19,P457))","v":""},"",{"$f":"IF(H457=\"\",\"\",V457/'3 Irrigation Schedule'!$M$19)","v":""}]
[null,null,null,"2021","April","2021-04-29",null,"","",5.3054400000000008,3.0080000000000005,"",0,"",{"$f":"IF(OR('3 Irrigation Schedule'!$C$29=\"\",'3 Irrigation Schedule'!$C$31=\"\",H458=\"\"),\"\",(('3 Irrigation Schedule'!$C$29-'3 Irrigation Schedule'!$C$31)/100)*1000*N458)","v":""},"",{"$f":"IF(H458=\"\",\"\",IF(H458=1,O458*(1-'3 Irrigation Schedule'!$C$27),T457-V457))","v":""},"","","",{"$f":"IF(H458=\"\",\"\",IF('3 Irrigation Schedule'!$P$19<P458,'3 Irrigation Schedule'!$P$19,P458))","v":""},"",{"$f":"IF(H458=\"\",\"\",V458/'3 Irrigation Schedule'!$M$19)","v":""}]
[null,null,null,"2021","April","2021-04-30",null,"","",5.3054400000000008,3.0080000000000005,"",0,"",{"$f":"IF(OR('3 Irrigation Schedule'!$C$29=\"\",'3 Irrigation Schedule'!$C$31=\"\",H459=\"\"),\"\",(('3 Irrigation Schedule'!$C$29-'3 Irrigation Schedule'!$C$31)/100)*1000*N459)","v":""},"",{"$f":"IF(H459=\"\",\"\",IF(H459=1,O459*(1-'3 Irrigation Schedule'!$C$27),T458-V458))","v":""},"","","",{"$f":"IF(H459=\"\",\"\",IF('3 Irrigation Schedule'!$P$19<P459,'3 Irrigation Schedule'!$P$19,P459))","v":""},"",{"$f":"IF(H459=\"\",\"\",V459/'3 Irrigation Schedule'!$M$19)","v":""}]
[null,null,null,"2021","May","2021-05-01",null,"","",5.3183200000000008,2.0593548387096776,"",0,"",{"$f":"IF(OR('3 Irrigation Schedule'!$C$29=\"\",'3 Irrigation Schedule'!$C$31=\"\",H460=\"\"),\"\",(('3 Irrigation Schedule'!$C$29-'3 Irrigation Schedule'!$C$31)/100)*1000*N460)","v":""},"",{"$f":"IF(H460=\"\",\"\",IF(H460=1,O460*(1-'3 Irrigation Schedule'!$C$27),T459-V459))","v":""},"","","",{"$f":"IF(H460=\"\",\"\",IF('3 Irrigation Schedule'!$P$19<P460,'3 Irrigation Schedule'!$P$19,P460))","v":""},"",{"$f":"IF(H460=\"\",\"\",V460/'3 Irrigation Schedule'!$M$19)","v":""}]
[null,null,null,"2021","May","2021-05-02",null,"","",5.3183200000000008,2.0593548387096776,"",0,"",{"$f":"IF(OR('3 Irrigation Schedule'!$C$29=\"\",'3 Irrigation Schedule'!$C$31=\"\",H461=\"\"),\"\",(('3 Irrigation Schedule'!$C$29-'3 Irrigation Schedule'!$C$31)/100)*1000*N461)","v":""},"",{"$f":"IF(H461=\"\",\"\",IF(H461=1,O461*(1-'3 Irrigation Schedule'!$C$27),T460-V460))","v":""},"","","",{"$f":"IF(H461=\"\",\"\",IF('3 Irrigation Schedule'!$P$19<P461,'3 Irrigation Schedule'!$P$19,P461))","v":""},"",{"$f":"IF(H461=\"\",\"\",V461/'3 Irrigation Schedule'!$M$19)","v":""}]
[null,null,null,"2021","May","2021-05-03",null,"","",5.3183200000000008,2.0593548387096776,"",0,"",{"$f":"IF(OR('3 Irrigation Schedule'!$C$29=\"\",'3 Irrigation Schedule'!$C$31=\"\",H462=\"\"),\"\",(('3 Irrigation Schedule'!$C$29-'3 Irrigation Schedule'!$C$31)/100)*1000*N462)","v":""},"",{"$f":"IF(H462=\"\",\"\",IF(H462=1,O462*(1-'3 Irrigation Schedule'!$C$27),T461-V461))","v":""},"","","",{"$f":"IF(H462=\"\",\"\",IF('3 Irrigation Schedule'!$P$19<P462,'3 Irrigation Schedule'!$P$19,P462))","v":""},"",{"$f":"IF(H462=\"\",\"\",V462/'3 Irrigation Schedule'!$M$19)","v":""}]
[null,null,null,"2021","May","2021-05-04",null,"","",5.3183200000000008,2.0593548387096776,"",0,"",{"$f":"IF(OR('3 Irrigation Schedule'!$C$29=\"\",'3 Irrigation Schedule'!$C$31=\"\",H463=\"\"),\"\",(('3 Irrigation Schedule'!$C$29-'3 Irrigation Schedule'!$C$31)/100)*1000*N463)","v":""},"",{"$f":"IF(H463=\"\",\"\",IF(H463=1,O463*(1-'3 Irrigation Schedule'!$C$27),T462-V462))","v":""},"","","",{"$f":"IF(H463=\"\",\"\",IF('3 Irrigation Schedule'!$P$19<P463,'3 Irrigation Schedule'!$P$19,P463))","v":""},"",{"$f":"IF(H463=\"\",\"\",V463/'3 Irrigation Schedule'!$M$19)","v":""}]
[null,null,null,"2021","May","2021-05-05",null,"",{"$f":"IF(H464=\"\",\"\",IF(H464<=$I$27,\"Initial\",IF(AND(H464>$I$27,H464<=$I$28),\"Development\",IF(AND(H464>$I$28,H464<=$I$29),\"Mid Season\",\"Late Season\"))))","v":""},5.3183200000000008,2.0593548387096776,"",0,"",{"$f":"IF(OR('3 Irrigation Schedule'!$C$29=\"\",'3 Irrigation Schedule'!$C$31=\"\",H464=\"\"),\"\",(('3 Irrigation Schedule'!$C$29-'3 Irrigation Schedule'!$C$31)/100)*1000*N464)","v":""},"",{"$f":"IF(H464=\"\",\"\",IF(H464=1,O464*(1-'3 Irrigation Schedule'!$C$27),T463-V463))","v":""},"","","",{"$f":"IF(H464=\"\",\"\",IF('3 Irrigation Schedule'!$P$19<P464,'3 Irrigation Schedule'!$P$19,P464))","v":""},"",{"$f":"IF(H464=\"\",\"\",V464/'3 Irrigation Schedule'!$M$19)","v":""}]
[null,null,null,"2021","May","2021-05-06",null,"","",5.3183200000000008,2.0593548387096776,"",0,"",{"$f":"IF(OR('3 Irrigation Schedule'!$C$29=\"\",'3 Irrigation Schedule'!$C$31=\"\",H465=\"\"),\"\",(('3 Irrigation Schedule'!$C$29-'3 Irrigation Schedule'!$C$31)/100)*1000*N465)","v":""},"",{"$f":"IF(H465=\"\",\"\",IF(H465=1,O465*(1-'3 Irrigation Schedule'!$C$27),T464-V464))","v":""},"","","",{"$f":"IF(H465=\"\",\"\",IF('3 Irrigation Schedule'!$P$19<P465,'3 Irrigation Schedule'!$P$19,P465))","v":""},"",{"$f":"IF(H465=\"\",\"\",V465/'3 Irrigation Schedule'!$M$19)","v":""}]
[null,null,null,"2021","May","2021-05-07",null,"","",5.3183200000000008,2.0593548387096776,"",0,"",{"$f":"IF(OR('3 Irrigation Schedule'!$C$29=\"\",'3 Irrigation Schedule'!$C$31=\"\",H466=\"\"),\"\",(('3 Irrigation Schedule'!$C$29-'3 Irrigation Schedule'!$C$31)/100)*1000*N466)","v":""},"",{"$f":"IF(H466=\"\",\"\",IF(H466=1,O466*(1-'3 Irrigation Schedule'!$C$27),T465-V465))","v":""},"","","",{"$f":"IF(H466=\"\",\"\",IF('3 Irrigation Schedule'!$P$19<P466,'3 Irrigation Schedule'!$P$19,P466))","v":""},"",{"$f":"IF(H466=\"\",\"\",V466/'3 Irrigation Schedule'!$M$19)","v":""}]
[null,null,null,"2021","May","2021-05-08",null,"","",5.3183200000000008,2.0593548387096776,"",0,"",{"$f":"IF(OR('3 Irrigation Schedule'!$C$29=\"\",'3 Irrigation Schedule'!$C$31=\"\",H467=\"\"),\"\",(('3 Irrigation Schedule'!$C$29-'3 Irrigation Schedule'!$C$31)/100)*1000*N467)","v":""},"",{"$f":"IF(H467=\"\",\"\",IF(H467=1,O467*(1-'3 Irrigation Schedule'!$C$27),T466-V466))","v":""},"","","",{"$f":"IF(H467=\"\",\"\",IF('3 Irrigation Schedule'!$P$19<P467,'3 Irrigation Schedule'!$P$19,P467))","v":""},"",{"$f":"IF(H467=\"\",\"\",V467/'3 Irrigation Schedule'!$M$19)","v":""}]
[null,null,null,"2021","May","2021-05-09",null,"","",5.3183200000000008,2.0593548387096776,"",0,"",{"$f":"IF(OR('3 Irrigation Schedule'!$C$29=\"\",'3 Irrigation Schedule'!$C$31=\"\",H468=\"\"),\"\",(('3 Irrigation Schedule'!$C$29-'3 Irrigation Schedule'!$C$31)/100)*1000*N468)","v":""},"",{"$f":"IF(H468=\"\",\"\",IF(H468=1,O468*(1-'3 Irrigation Schedule'!$C$27),T467-V467))","v":""},"","","",{"$f":"IF(H468=\"\",\"\",IF('3 Irrigation Schedule'!$P$19<P468,'3 Irrigation Schedule'!$P$19,P468))","v":""},"",{"$f":"IF(H468=\"\",\"\",V468/'3 Irrigation Schedule'!$M$19)","v":""}]
[null,null,null,"2021","May","2021-05-10",null,"","",5.3183200000000008,2.0593548387096776,"",0,"",{"$f":"IF(OR('3 Irrigation Schedule'!$C$29=\"\",'3 Irrigation Schedule'!$C$31=\"\",H469=\"\"),\"\",(('3 Irrigation Schedule'!$C$29-'3 Irrigation Schedule'!$C$31)/100)*1000*N469)","v":""},"",{"$f":"IF(H469=\"\",\"\",IF(H469=1,O469*(1-'3 Irrigation Schedule'!$C$27),T468-V468))","v":""},"","","",{"$f":"IF(H469=\"\",\"\",IF('3 Irrigation Schedule'!$P$19<P469,'3 Irrigation Schedule'!$P$19,P469))","v":""},"",{"$f":"IF(H469=\"\",\"\",V469/'3 Irrigation Schedule'!$M$19)","v":""}]
[null,null,null,"2021","May","2021-05-11",null,"","",5.3183200000000008,2.0593548387096776,"",0,"",{"$f":"IF(OR('3 Irrigation Schedule'!$C$29=\"\",'3 Irrigation Schedule'!$C$31=\"\",H470=\"\"),\"\",(('3 Irrigation Schedule'!$C$29-'3 Irrigation Schedule'!$C$31)/100)*1000*N470)","v":""},"",{"$f":"IF(H470=\"\",\"\",IF(H470=1,O470*(1-'3 Irrigation Schedule'!$C$27),T469-V469))","v":""},"","","",{"$f":"IF(H470=\"\",\"\",IF('3 Irrigation Schedule'!$P$19<P470,'3 Irrigation Schedule'!$P$19,P470))","v":""},"",{"$f":"IF(H470=\"\",\"\",V470/'3 Irrigation Schedule'!$M$19)","v":""}]
[null,null,null,"2021","May","2021-05-12",null,"","",5.3183200000000008,2.0593548387096776,"",0,"",{"$f":"IF(OR('3 Irrigation Schedule'!$C$29=\"\",'3 Irrigation Schedule'!$C$31=\"\",H471=\"\"),\"\",(('3 Irrigation Schedule'!$C$29-'3 Irrigation Schedule'!$C$31)/100)*1000*N471)","v":""},"",{"$f":"IF(H471=\"\",\"\",IF(H471=1,O471*(1-'3 Irrigation Schedule'!$C$27),T470-V470))","v":""},"","","",{"$f":"IF(H471=\"\",\"\",IF('3 Irrigation Schedule'!$P$19<P471,'3 Irrigation Schedule'!$P$19,P471))","v":""},"",{"$f":"IF(H471=\"\",\"\",V471/'3 Irrigation Schedule'!$M$19)","v":""}]
[null,null,null,"2021","May","2021-05-13",null,"","",5.3183200000000008,2.0593548387096776,"",0,"",{"$f":"IF(OR('3 Irrigation Schedule'!$C$29=\"\",'3 Irrigation Schedule'!$C$31=\"\",H472=\"\"),\"\",(('3 Irrigation Schedule'!$C$29-'3 Irrigation Schedule'!$C$31)/100)*1000*N472)","v":""},"",{"$f":"IF(H472=\"\",\"\",IF(H472=1,O472*(1-'3 Irrigation Schedule'!$C$27),T471-V471))","v":""},"","","",{"$f":"IF(H472=\"\",\"\",IF('3 Irrigation Schedule'!$P$19<P472,'3 Irrigation Schedule'!$P$19,P472))","v":""},"",{"$f":"IF(H472=\"\",\"\",V472/'3 Irrigation Schedule'!$M$19)","v":""}]
[null,null,null,"2021","May","2021-05-14",null,"","",5.3183200000000008,2.0593548387096776,"",0,"",{"$f":"IF(OR('3 Irrigation Schedule'!$C$29=\"\",'3 Irrigation Schedule'!$C$31=\"\",H473=\"\"),\"\",(('3 Irrigation Schedule'!$C$29-'3 Irrigation Schedule'!$C$31)/100)*1000*N473)","v":""},"",{"$f":"IF(H473=\"\",\"\",IF(H473=1,O473*(1-'3 Irrigation Schedule'!$C$27),T472-V472))","v":""},"","","",{"$f":"IF(H473=\"\",\"\",IF('3 Irrigation Schedule'!$P$19<P473,'3 Irrigation Schedule'!$P$19,P473))","v":""},"",{"$f":"IF(H473=\"\",\"\",V473/'3 Irrigation Schedule'!$M$19)","v":""}]
[null,null,null,"2021","May","2021-05-15",null,"","",5.3183200000000008,2.0593548387096776,"",0,"",{"$f":"IF(OR('3 Irrigation Schedule'!$C$29=\"\",'3 Irrigation Schedule'!$C$31=\"\",H474=\"\"),\"\",(('3 Irrigation Schedule'!$C$29-'3 Irrigation Schedule'!$C$31)/100)*1000*N474)","v":""},"",{"$f":"IF(H474=\"\",\"\",IF(H474=1,O474*(1-'3 Irrigation Schedule'!$C$27),T473-V473))","v":""},"","","",{"$f":"IF(H474=\"\",\"\",IF('3 Irrigation Schedule'!$P$19<P474,'3 Irrigation Schedule'!$P$19,P474))","v":""},"",{"$f":"IF(H474=\"\",\"\",V474/'3 Irrigation Schedule'!$M$19)","v":""}]
[null,null,null,"2021","May","2021-05-16",null,"","",5.3183200000000008,2.0593548387096776,"",0,"",{"$f":"IF(OR('3 Irrigation Schedule'!$C$29=\"\",'3 Irrigation Schedule'!$C$31=\"\",H475=\"\"),\"\",(('3 Irrigation Schedule'!$C$29-'3 Irrigation Schedule'!$C$31)/100)*1000*N475)","v":""},"",{"$f":"IF(H475=\"\",\"\",IF(H475=1,O475*(1-'3 Irrigation Schedule'!$C$27),T474-V474))","v":""},"","","",{"$f":"IF(H475=\"\",\"\",IF('3 Irrigation Schedule'!$P$19<P475,'3 Irrigation Schedule'!$P$19,P475))","v":""},"",{"$f":"IF(H475=\"\",\"\",V475/'3 Irrigation Schedule'!$M$19)","v":""}]
[null,null,null,"2021","May","2021-05-17",null,"","",5.3183200000000008,2.0593548387096776,"",0,"",{"$f":"IF(OR('3 Irrigation Schedule'!$C$29=\"\",'3 Irrigation Schedule'!$C$31=\"\",H476=\"\"),\"\",(('3 Irrigation Schedule'!$C$29-'3 Irrigation Schedule'!$C$31)/100)*1000*N476)","v":""},"",{"$f":"IF(H476=\"\",\"\",IF(H476=1,O476*(1-'3 Irrigation Schedule'!$C$27),T475-V475))","v":""},"","","",{"$f":"IF(H476=\"\",\"\",IF('3 Irrigation Schedule'!$P$19<P476,'3 Irrigation Schedule'!$P$19,P476))","v":""},"",{"$f":"IF(H476=\"\",\"\",V476/'3 Irrigation Schedule'!$M$19)","v":""}]
[null,null,null,"2021","May","2021-05-18",null,"","",5.3183200000000008,2.0593548387096776,"",0,"",{"$f":"IF(OR('3 Irrigation Schedule'!$C$29=\"\",'3 Irrigation Schedule'!$C$31=\"\",H477=\"\"),\"\",(('3 Irrigation Schedule'!$C$29-'3 Irrigation Schedule'!$C$31)/100)*1000*N477)","v":""},"",{"$f":"IF(H477=\"\",\"\",IF(H477=1,O477*(1-'3 Irrigation Schedule'!$C$27),T476-V476))","v":""},"","","",{"$f":"IF(H477=\"\",\"\",IF('3 Irrigation Schedule'!$P$19<P477,'3 Irrigation Schedule'!$P$19,P477))","v":""},"",{"$f":"IF(H477=\"\",\"\",V477/'3 Irrigation Schedule'!$M$19)","v":""}]
[null,null,null,"2021","May","2021-05-19",null,"","",5.3183200000000008,2.0593548387096776,"",0,"",{"$f":"IF(OR('3 Irrigation Schedule'!$C$29=\"\",'3 Irrigation Schedule'!$C$31=\"\",H478=\"\"),\"\",(('3 Irrigation Schedule'!$C$29-'3 Irrigation Schedule'!$C$31)/100)*1000*N478)","v":""},"",{"$f":"IF(H478=\"\",\"\",IF(H478=1,O478*(1-'3 Irrigation Schedule'!$C$27),T477-V477))","v":""},"","","",{"$f":"IF(H478=\"\",\"\",IF('3 Irrigation Schedule'!$P$19<P478,'3 Irrigation Schedule'!$P$19,P478))","v":""},"",{"$f":"IF(H478=\"\",\"\",V478/'3 Irrigation Schedule'!$M$19)","v":""}]
[null,null,null,"2021","May","2021-05-20",null,"","",5.3183200000000008,2.0593548387096776,"",0,"",{"$f":"IF(OR('3 Irrigation Schedule'!$C$29=\"\",'3 Irrigation Schedule'!$C$31=\"\",H479=\"\"),\"\",(('3 Irrigation Schedule'!$C$29-'3 Irrigation Schedule'!$C$31)/100)*1000*N479)","v":""},"",{"$f":"IF(H479=\"\",\"\",IF(H479=1,O479*(1-'3 Irrigation Schedule'!$C$27),T478-V478))","v":""},"","","",{"$f":"IF(H479=\"\",\"\",IF('3 Irrigation Schedule'!$P$19<P479,'3 Irrigation Schedule'!$P$19,P479))","v":""},"",{"$f":"IF(H479=\"\",\"\",V479/'3 Irrigation Schedule'!$M$19)","v":""}]
[null,null,null,"2021","May","2021-05-21",null,"","",5.3183200000000008,2.0593548387096776,"",0,"",{"$f":"IF(OR('3 Irrigation Schedule'!$C$29=\"\",'3 Irrigation Schedule'!$C$31=\"\",H480=\"\"),\"\",(('3 Irrigation Schedule'!$C$29-'3 Irrigation Schedule'!$C$31)/100)*1000*N480)","v":""},"",{"$f":"IF(H480=\"\",\"\",IF(H480=1,O480*(1-'3 Irrigation Schedule'!$C$27),T479-V479))","v":""},"","","",{"$f":"IF(H480=\"\",\"\",IF('3 Irrigation Schedule'!$P$19<P480,'3 Irrigation Schedule'!$P$19,P480))","v":""},"",{"$f":"IF(H480=\"\",\"\",V480/'3 Irrigation Schedule'!$M$19)","v":""}]
[null,null,null,"2021","May","2021-05-22",null,"","",5.3183200000000008,2.0593548387096776,"",0,"",{"$f":"IF(OR('3 Irrigation Schedule'!$C$29=\"\",'3 Irrigation Schedule'!$C$31=\"\",H481=\"\"),\"\",(('3 Irrigation Schedule'!$C$29-'3 Irrigation Schedule'!$C$31)/100)*1000*N481)","v":""},"",{"$f":"IF(H481=\"\",\"\",IF(H481=1,O481*(1-'3 Irrigation Schedule'!$C$27),T480-V480))","v":""},"","","",{"$f":"IF(H481=\"\",\"\",IF('3 Irrigation Schedule'!$P$19<P481,'3 Irrigation Schedule'!$P$19,P481))","v":""},"",{"$f":"IF(H481=\"\",\"\",V481/'3 Irrigation Schedule'!$M$19)","v":""}]
[null,null,null,{"$f":"IFERROR(TEXT(DATE(YEAR($F482),MONTH($F482),1),$D$7&$D$4),\"\")","v":"2021"},{"$f":"IFERROR(TEXT(DATE(YEAR($F482),MONTH($F482),1),$D$7&$D$5),\"\")","v":"May"},"2021-05-23",null,"","",{"$f":"IFERROR(VLOOKUP($E482,$B$19:$C$30,2,FALSE),\"\")","v":5.3183200000000008},2.0593548387096776,{"$f":"IF(H482=\"\",\"\",IF(H482<=$I$27,$L$27,IF(AND(H482>$I$27,H482<=$I$28),$L$27+((H482-$I$27)/$H$28)*($L$29-$L$27),IF(AND(H482>$I$28,H482<=$I$29),$L$29,$L$29+((H482-$I$29)/$H$30)*($L$30-$L$29)))))","v":""},{"$f":"IFERROR((J482*L482),0)","v":0},{"$f":"IF(H482=\"\",\"\",IF(OR(H482=1,H482<$I$28),$M$27+(($M$28-$M$27)*((H482-1)/($I$28-1))),$M$28))","v":""},{"$f":"IF(OR('3 Irrigation Schedule'!$C$29=\"\",'3 Irrigation Schedule'!$C$31=\"\",H482=\"\"),\"\",(('3 Irrigation Schedule'!$C$29-'3 Irrigation Schedule'!$C$31)/100)*1000*N482)","v":""},{"$f":"IF(H482=\"\",\"\",O482*$N$27)","v":""},{"$f":"IF(H482=\"\",\"\",IF(H482=1,O482*(1-'3 Irrigation Schedule'!$C$27),T481-V481))","v":""},{"$f":"IF(H482=\"\",\"\",IF(Q482>P482,(O482-Q482)/(O482-P482),1))","v":""},{"$f":"IF(H482=\"\",\"\",M482*R482)","v":""},{"$f":"IF(H482=\"\",\"\",IF(Q482+S482-K482<0,0,Q482+S482-K482))","v":""},{"$f":"IF(H482=\"\",\"\",IF('3 Irrigation Schedule'!$P$19<P482,'3 Irrigation Schedule'!$P$19,P482))","v":""},{"$f":"IF(H482=\"\",\"\",IF(U482<=T482,U482,0))","v":""},{"$f":"IF(H482=\"\",\"\",V482/'3 Irrigation Schedule'!$M$19)","v":""}]
[null,null,null,"2021","May",{"$f":"IFERROR(IF(F482+1<=$N$7, F482+1,\"\"),\"\")","v":"2021-05-24"},null,{"$f":"IFERROR(IF(OR($F483-$J$27+1<=0,$F483>$K$30),\"\",$F483-$J$27+1),\"\")","v":""},"",5.3183200000000008,{"$f":"IFERROR(VLOOKUP($E483,$B$19:$D$30,3,FALSE),\"\")","v":2.0593548387096776},"",0,"",{"$f":"IF(OR('3 Irrigation Schedule'!$C$29=\"\",'3 Irrigation Schedule'!$C$31=\"\",H483=\"\"),\"\",(('3 Irrigation Schedule'!$C$29-'3 Irrigation Schedule'!$C$31)/100)*1000*N483)","v":""},"",{"$f":"IF(H483=\"\",\"\",IF(H483=1,O483*(1-'3 Irrigation Schedule'!$C$27),T482-V482))","v":""},"","","",{"$f":"IF(H483=\"\",\"\",IF('3 Irrigation Schedule'!$P$19<P483,'3 Irrigation Schedule'!$P$19,P483))","v":""},"",{"$f":"IF(H483=\"\",\"\",V483/'3 Irrigation Schedule'!$M$19)","v":""}]
[null,null,null,"2021","May","2021-05-25",null,"","",5.3183200000000008,2.0593548387096776,"",0,"",{"$f":"IF(OR('3 Irrigation Schedule'!$C$29=\"\",'3 Irrigation Schedule'!$C$31=\"\",H484=\"\"),\"\",(('3 Irrigation Schedule'!$C$29-'3 Irrigation Schedule'!$C$31)/100)*1000*N484)","v":""},"",{"$f":"IF(H484=\"\",\"\",IF(H484=1,O484*(1-'3 Irrigation Schedule'!$C$27),T483-V483))","v":""},"","","",{"$f":"IF(H484=\"\",\"\",IF('3 Irrigation Schedule'!$P$19<P484,'3 Irrigation Schedule'!$P$19,P484))","v":""},"",{"$f":"IF(H484=\"\",\"\",V484/'3 Irrigation Schedule'!$M$19)","v":""}]
[null,null,null,"2021","May","2021-05-26",null,"","",5.3183200000000008,2.0593548387096776,"",0,"",{"$f":"IF(OR('3 Irrigation Schedule'!$C$29=\"\",'3 Irrigation Schedule'!$C$31=\"\",H485=\"\"),\"\",(('3 Irrigation Schedule'!$C$29-'3 Irrigation Schedule'!$C$31)/100)*1000*N485)","v":""},"",{"$f":"IF(H485=\"\",\"\",IF(H485=1,O485*(1-'3 Irrigation Schedule'!$C$27),T484-V484))","v":""},"","","",{"$f":"IF(H485=\"\",\"\",IF('3 Irrigation Schedule'!$P$19<P485,'3 Irrigation Schedule'!$P$19,P485))","v":""},"",{"$f":"IF(H485=\"\",\"\",V485/'3 Irrigation Schedule'!$M$19)","v":""}]
[null,null,null,"2021","May","2021-05-27",null,"","",5.3183200000000008,2.0593548387096776,"",0,"",{"$f":"IF(OR('3 Irrigation Schedule'!$C$29=\"\",'3 Irrigation Schedule'!$C$31=\"\",H486=\"\"),\"\",(('3 Irrigation Schedule'!$C$29-'3 Irrigation Schedule'!$C$31)/100)*1000*N486)","v":""},"",{"$f":"IF(H486=\"\",\"\",IF(H486=1,O486*(1-'3 Irrigation Schedule'!$C$27),T485-V485))","v":""},"","","",{"$f":"IF(H486=\"\",\"\",IF('3 Irrigation Schedule'!$P$19<P486,'3 Irrigation Schedule'!$P$19,P486))","v":""},"",{"$f":"IF(H486=\"\",\"\",V486/'3 Irrigation Schedule'!$M$19)","v":""}]
[null,null,null,"2021","May","2021-05-28",null,"","",5.3183200000000008,2.0593548387096776,"",0,"",{"$f":"IF(OR('3 Irrigation Schedule'!$C$29=\"\",'3 Irrigation Schedule'!$C$31=\"\",H487=\"\"),\"\",(('3 Irrigation Schedule'!$C$29-'3 Irrigation Schedule'!$C$31)/100)*1000*N487)","v":""},"",{"$f":"IF(H487=\"\",\"\",IF(H487=1,O487*(1-'3 Irrigation Schedule'!$C$27),T486-V486))","v":""},"","","",{"$f":"IF(H487=\"\",\"\",IF('3 Irrigation Schedule'!$P$19<P487,'3 Irrigation Schedule'!$P$19,P487))","v":""},"",{"$f":"IF(H487=\"\",\"\",V487/'3 Irrigation Schedule'!$M$19)","v":""}]
[null,null,null,"2021","May","2021-05-29",null,"","",5.3183200000000008,2.0593548387096776,"",0,"",{"$f":"IF(OR('3 Irrigation Schedule'!$C$29=\"\",'3 Irrigation Schedule'!$C$31=\"\",H488=\"\"),\"\",(('3 Irrigation Schedule'!$C$29-'3 Irrigation Schedule'!$C$31)/100)*1000*N488)","v":""},"",{"$f":"IF(H488=\"\",\"\",IF(H488=1,O488*(1-'3 Irrigation Schedule'!$C$27),T487-V487))","v":""},"","","",{"$f":"IF(H488=\"\",\"\",IF('3 Irrigation Schedule'!$P$19<P488,'3 Irrigation Schedule'!$P$19,P488))","v":""},"",{"$f":"IF(H488=\"\",\"\",V488/'3 Irrigation Schedule'!$M$19)","v":""}]
[null,null,null,"2021","May","2021-05-30",null,"","",5.3183200000000008,2.0593548387096776,"",0,"",{"$f":"IF(OR('3 Irrigation Schedule'!$C$29=\"\",'3 Irrigation Schedule'!$C$31=\"\",H489=\"\"),\"\",(('3 Irrigation Schedule'!$C$29-'3 Irrigation Schedule'!$C$31)/100)*1000*N489)","v":""},"",{"$f":"IF(H489=\"\",\"\",IF(H489=1,O489*(1-'3 Irrigation Schedule'!$C$27),T488-V488))","v":""},"","","",{"$f":"IF(H489=\"\",\"\",IF('3 Irrigation Schedule'!$P$19<P489,'3 Irrigation Schedule'!$P$19,P489))","v":""},"",{"$f":"IF(H489=\"\",\"\",V489/'3 Irrigation Schedule'!$M$19)","v":""}]
[null,null,null,"2021","May","2021-05-31",null,"","",5.3183200000000008,2.0593548387096776,"",0,"",{"$f":"IF(OR('3 Irrigation Schedule'!$C$29=\"\",'3 Irrigation Schedule'!$C$31=\"\",H490=\"\"),\"\",(('3 Irrigation Schedule'!$C$29-'3 Irrigation Schedule'!$C$31)/100)*1000*N490)","v":""},"",{"$f":"IF(H490=\"\",\"\",IF(H490=1,O490*(1-'3 Irrigation Schedule'!$C$27),T489-V489))","v":""},"","","",{"$f":"IF(H490=\"\",\"\",IF('3 Irrigation Schedule'!$P$19<P490,'3 Irrigation Schedule'!$P$19,P490))","v":""},"",{"$f":"IF(H490=\"\",\"\",V490/'3 Irrigation Schedule'!$M$19)","v":""}]
[null,null,null,"2021","June","2021-06-01",null,"","",5.2668000000000008,0.42866666666666664,"",0,"",{"$f":"IF(OR('3 Irrigation Schedule'!$C$29=\"\",'3 Irrigation Schedule'!$C$31=\"\",H491=\"\"),\"\",(('3 Irrigation Schedule'!$C$29-'3 Irrigation Schedule'!$C$31)/100)*1000*N491)","v":""},"",{"$f":"IF(H491=\"\",\"\",IF(H491=1,O491*(1-'3 Irrigation Schedule'!$C$27),T490-V490))","v":""},"","","",{"$f":"IF(H491=\"\",\"\",IF('3 Irrigation Schedule'!$P$19<P491,'3 Irrigation Schedule'!$P$19,P491))","v":""},"",{"$f":"IF(H491=\"\",\"\",V491/'3 Irrigation Schedule'!$M$19)","v":""}]
[null,null,null,"2021","June","2021-06-02",null,"","",5.2668000000000008,0.42866666666666664,"",0,"",{"$f":"IF(OR('3 Irrigation Schedule'!$C$29=\"\",'3 Irrigation Schedule'!$C$31=\"\",H492=\"\"),\"\",(('3 Irrigation Schedule'!$C$29-'3 Irrigation Schedule'!$C$31)/100)*1000*N492)","v":""},"",{"$f":"IF(H492=\"\",\"\",IF(H492=1,O492*(1-'3 Irrigation Schedule'!$C$27),T491-V491))","v":""},"","","",{"$f":"IF(H492=\"\",\"\",IF('3 Irrigation Schedule'!$P$19<P492,'3 Irrigation Schedule'!$P$19,P492))","v":""},"",{"$f":"IF(H492=\"\",\"\",V492/'3 Irrigation Schedule'!$M$19)","v":""}]
[null,null,null,"2021","June","2021-06-03",null,"","",5.2668000000000008,0.42866666666666664,"",0,"",{"$f":"IF(OR('3 Irrigation Schedule'!$C$29=\"\",'3 Irrigation Schedule'!$C$31=\"\",H493=\"\"),\"\",(('3 Irrigation Schedule'!$C$29-'3 Irrigation Schedule'!$C$31)/100)*1000*N493)","v":""},"",{"$f":"IF(H493=\"\",\"\",IF(H493=1,O493*(1-'3 Irrigation Schedule'!$C$27),T492-V492))","v":""},"","","",{"$f":"IF(H493=\"\",\"\",IF('3 Irrigation Schedule'!$P$19<P493,'3 Irrigation Schedule'!$P$19,P493))","v":""},"",{"$f":"IF(H493=\"\",\"\",V493/'3 Irrigation Schedule'!$M$19)","v":""}]
[null,null,null,"2021","June","2021-06-04",null,"","",5.2668000000000008,0.42866666666666664,"",0,"",{"$f":"IF(OR('3 Irrigation Schedule'!$C$29=\"\",'3 Irrigation Schedule'!$C$31=\"\",H494=\"\"),\"\",(('3 Irrigation Schedule'!$C$29-'3 Irrigation Schedule'!$C$31)/100)*1000*N494)","v":""},"",{"$f":"IF(H494=\"\",\"\",IF(H494=1,O494*(1-'3 Irrigation Schedule'!$C$27),T493-V493))","v":""},"","","",{"$f":"IF(H494=\"\",\"\",IF('3 Irrigation Schedule'!$P$19<P494,'3 Irrigation Schedule'!$P$19,P494))","v":""},"",{"$f":"IF(H494=\"\",\"\",V494/'3 Irrigation Schedule'!$M$19)","v":""}]
[null,null,null,"2021","June","2021-06-05",null,"","",5.2668000000000008,0.42866666666666664,"",0,"",{"$f":"IF(OR('3 Irrigation Schedule'!$C$29=\"\",'3 Irrigation Schedule'!$C$31=\"\",H495=\"\"),\"\",(('3 Irrigation Schedule'!$C$29-'3 Irrigation Schedule'!$C$31)/100)*1000*N495)","v":""},"",{"$f":"IF(H495=\"\",\"\",IF(H495=1,O495*(1-'3 Irrigation Schedule'!$C$27),T494-V494))","v":""},"","","",{"$f":"IF(H495=\"\",\"\",IF('3 Irrigation Schedule'!$P$19<P495,'3 Irrigation Schedule'!$P$19,P495))","v":""},"",{"$f":"IF(H495=\"\",\"\",V495/'3 Irrigation Schedule'!$M$19)","v":""}]
[null,null,null,"2021","June","2021-06-06",null,"","",5.2668000000000008,0.42866666666666664,"",0,"",{"$f":"IF(OR('3 Irrigation Schedule'!$C$29=\"\",'3 Irrigation Schedule'!$C$31=\"\",H496=\"\"),\"\",(('3 Irrigation Schedule'!$C$29-'3 Irrigation Schedule'!$C$31)/100)*1000*N496)","v":""},"",{"$f":"IF(H496=\"\",\"\",IF(H496=1,O496*(1-'3 Irrigation Schedule'!$C$27),T495-V495))","v":""},"","","",{"$f":"IF(H496=\"\",\"\",IF('3 Irrigation Schedule'!$P$19<P496,'3 Irrigation Schedule'!$P$19,P496))","v":""},"",{"$f":"IF(H496=\"\",\"\",V496/'3 Irrigation Schedule'!$M$19)","v":""}]
[null,null,null,"2021","June","2021-06-07",null,"","",5.2668000000000008,0.42866666666666664,"",0,"",{"$f":"IF(OR('3 Irrigation Schedule'!$C$29=\"\",'3 Irrigation Schedule'!$C$31=\"\",H497=\"\"),\"\",(('3 Irrigation Schedule'!$C$29-'3 Irrigation Schedule'!$C$31)/100)*1000*N497)","v":""},"",{"$f":"IF(H497=\"\",\"\",IF(H497=1,O497*(1-'3 Irrigation Schedule'!$C$27),T496-V496))","v":""},"","","",{"$f":"IF(H497=\"\",\"\",IF('3 Irrigation Schedule'!$P$19<P497,'3 Irrigation Schedule'!$P$19,P497))","v":""},"",{"$f":"IF(H497=\"\",\"\",V497/'3 Irrigation Schedule'!$M$19)","v":""}]
[null,null,null,"2021","June","2021-06-08",null,"","",5.2668000000000008,0.42866666666666664,"",0,"",{"$f":"IF(OR('3 Irrigation Schedule'!$C$29=\"\",'3 Irrigation Schedule'!$C$31=\"\",H498=\"\"),\"\",(('3 Irrigation Schedule'!$C$29-'3 Irrigation Schedule'!$C$31)/100)*1000*N498)","v":""},"",{"$f":"IF(H498=\"\",\"\",IF(H498=1,O498*(1-'3 Irrigation Schedule'!$C$27),T497-V497))","v":""},"","","",{"$f":"IF(H498=\"\",\"\",IF('3 Irrigation Schedule'!$P$19<P498,'3 Irrigation Schedule'!$P$19,P498))","v":""},"",{"$f":"IF(H498=\"\",\"\",V498/'3 Irrigation Schedule'!$M$19)","v":""}]
[null,null,null,"2021","June","2021-06-09",null,"","",5.2668000000000008,0.42866666666666664,"",0,"",{"$f":"IF(OR('3 Irrigation Schedule'!$C$29=\"\",'3 Irrigation Schedule'!$C$31=\"\",H499=\"\"),\"\",(('3 Irrigation Schedule'!$C$29-'3 Irrigation Schedule'!$C$31)/100)*1000*N499)","v":""},"",{"$f":"IF(H499=\"\",\"\",IF(H499=1,O499*(1-'3 Irrigation Schedule'!$C$27),T498-V498))","v":""},"","","",{"$f":"IF(H499=\"\",\"\",IF('3 Irrigation Schedule'!$P$19<P499,'3 Irrigation Schedule'!$P$19,P499))","v":""},"",{"$f":"IF(H499=\"\",\"\",V499/'3 Irrigation Schedule'!$M$19)","v":""}]
[null,null,null,"2021","June","2021-06-10",null,"","",5.2668000000000008,0.42866666666666664,"",0,"",{"$f":"IF(OR('3 Irrigation Schedule'!$C$29=\"\",'3 Irrigation Schedule'!$C$31=\"\",H500=\"\"),\"\",(('3 Irrigation Schedule'!$C$29-'3 Irrigation Schedule'!$C$31)/100)*1000*N500)","v":""},"",{"$f":"IF(H500=\"\",\"\",IF(H500=1,O500*(1-'3 Irrigation Schedule'!$C$27),T499-V499))","v":""},"","","",{"$f":"IF(H500=\"\",\"\",IF('3 Irrigation Schedule'!$P$19<P500,'3 Irrigation Schedule'!$P$19,P500))","v":""},"",{"$f":"IF(H500=\"\",\"\",V500/'3 Irrigation Schedule'!$M$19)","v":""}]
[null,null,null,"2021","June","2021-06-11",null,"","",5.2668000000000008,0.42866666666666664,"",0,"",{"$f":"IF(OR('3 Irrigation Schedule'!$C$29=\"\",'3 Irrigation Schedule'!$C$31=\"\",H501=\"\"),\"\",(('3 Irrigation Schedule'!$C$29-'3 Irrigation Schedule'!$C$31)/100)*1000*N501)","v":""},"",{"$f":"IF(H501=\"\",\"\",IF(H501=1,O501*(1-'3 Irrigation Schedule'!$C$27),T500-V500))","v":""},"","","",{"$f":"IF(H501=\"\",\"\",IF('3 Irrigation Schedule'!$P$19<P501,'3 Irrigation Schedule'!$P$19,P501))","v":""},"",{"$f":"IF(H501=\"\",\"\",V501/'3 Irrigation Schedule'!$M$19)","v":""}]
[null,null,null,"2021","June","2021-06-12",null,"","",5.2668000000000008,0.42866666666666664,"",0,"",{"$f":"IF(OR('3 Irrigation Schedule'!$C$29=\"\",'3 Irrigation Schedule'!$C$31=\"\",H502=\"\"),\"\",(('3 Irrigation Schedule'!$C$29-'3 Irrigation Schedule'!$C$31)/100)*1000*N502)","v":""},"",{"$f":"IF(H502=\"\",\"\",IF(H502=1,O502*(1-'3 Irrigation Schedule'!$C$27),T501-V501))","v":""},"","","",{"$f":"IF(H502=\"\",\"\",IF('3 Irrigation Schedule'!$P$19<P502,'3 Irrigation Schedule'!$P$19,P502))","v":""},"",{"$f":"IF(H502=\"\",\"\",V502/'3 Irrigation Schedule'!$M$19)","v":""}]
[null,null,null,"2021","June","2021-06-13",null,"","",5.2668000000000008,0.42866666666666664,"",0,"",{"$f":"IF(OR('3 Irrigation Schedule'!$C$29=\"\",'3 Irrigation Schedule'!$C$31=\"\",H503=\"\"),\"\",(('3 Irrigation Schedule'!$C$29-'3 Irrigation Schedule'!$C$31)/100)*1000*N503)","v":""},"",{"$f":"IF(H503=\"\",\"\",IF(H503=1,O503*(1-'3 Irrigation Schedule'!$C$27),T502-V502))","v":""},"","","",{"$f":"IF(H503=\"\",\"\",IF('3 Irrigation Schedule'!$P$19<P503,'3 Irrigation Schedule'!$P$19,P503))","v":""},"",{"$f":"IF(H503=\"\",\"\",V503/'3 Irrigation Schedule'!$M$19)","v":""}]
[null,null,null,"2021","June","2021-06-14",null,"","",5.2668000000000008,0.42866666666666664,"",0,"",{"$f":"IF(OR('3 Irrigation Schedule'!$C$29=\"\",'3 Irrigation Schedule'!$C$31=\"\",H504=\"\"),\"\",(('3 Irrigation Schedule'!$C$29-'3 Irrigation Schedule'!$C$31)/100)*1000*N504)","v":""},"",{"$f":"IF(H504=\"\",\"\",IF(H504=1,O504*(1-'3 Irrigation Schedule'!$C$27),T503-V503))","v":""},"","","",{"$f":"IF(H504=\"\",\"\",IF('3 Irrigation Schedule'!$P$19<P504,'3 Irrigation Schedule'!$P$19,P504))","v":""},"",{"$f":"IF(H504=\"\",\"\",V504/'3 Irrigation Schedule'!$M$19)","v":""}]
[null,null,null,"2021","June","2021-06-15",null,"","",5.2668000000000008,0.42866666666666664,"",0,"",{"$f":"IF(OR('3 Irrigation Schedule'!$C$29=\"\",'3 Irrigation Schedule'!$C$31=\"\",H505=\"\"),\"\",(('3 Irrigation Schedule'!$C$29-'3 Irrigation Schedule'!$C$31)/100)*1000*N505)","v":""},"",{"$f":"IF(H505=\"\",\"\",IF(H505=1,O505*(1-'3 Irrigation Schedule'!$C$27),T504-V504))","v":""},"","","",{"$f":"IF(H505=\"\",\"\",IF('3 Irrigation Schedule'!$P$19<P505,'3 Irrigation Schedule'!$P$19,P505))","v":""},"",{"$f":"IF(H505=\"\",\"\",V505/'3 Irrigation Schedule'!$M$19)","v":""}]
[null,null,null,"2021","June","2021-06-16",null,"","",5.2668000000000008,0.42866666666666664,"",0,"",{"$f":"IF(OR('3 Irrigation Schedule'!$C$29=\"\",'3 Irrigation Schedule'!$C$31=\"\",H506=\"\"),\"\",(('3 Irrigation Schedule'!$C$29-'3 Irrigation Schedule'!$C$31)/100)*1000*N506)","v":""},"",{"$f":"IF(H506=\"\",\"\",IF(H506=1,O506*(1-'3 Irrigation Schedule'!$C$27),T505-V505))","v":""},"","","",{"$f":"IF(H506=\"\",\"\",IF('3 Irrigation Schedule'!$P$19<P506,'3 Irrigation Schedule'!$P$19,P506))","v":""},"",{"$f":"IF(H506=\"\",\"\",V506/'3 Irrigation Schedule'!$M$19)","v":""}]
[null,null,null,"2021","June","2021-06-17",null,"","",5.2668000000000008,0.42866666666666664,"",0,"",{"$f":"IF(OR('3 Irrigation Schedule'!$C$29=\"\",'3 Irrigation Schedule'!$C$31=\"\",H507=\"\"),\"\",(('3 Irrigation Schedule'!$C$29-'3 Irrigation Schedule'!$C$31)/100)*1000*N507)","v":""},"",{"$f":"IF(H507=\"\",\"\",IF(H507=1,O507*(1-'3 Irrigation Schedule'!$C$27),T506-V506))","v":""},"","","",{"$f":"IF(H507=\"\",\"\",IF('3 Irrigation Schedule'!$P$19<P507,'3 Irrigation Schedule'!$P$19,P507))","v":""},"",{"$f":"IF(H507=\"\",\"\",V507/'3 Irrigation Schedule'!$M$19)","v":""}]
[null,null,null,"2021","June","2021-06-18",null,"","",5.2668000000000008,0.42866666666666664,"",0,"",{"$f":"IF(OR('3 Irrigation Schedule'!$C$29=\"\",'3 Irrigation Schedule'!$C$31=\"\",H508=\"\"),\"\",(('3 Irrigation Schedule'!$C$29-'3 Irrigation Schedule'!$C$31)/100)*1000*N508)","v":""},"",{"$f":"IF(H508=\"\",\"\",IF(H508=1,O508*(1-'3 Irrigation Schedule'!$C$27),T507-V507))","v":""},"","","",{"$f":"IF(H508=\"\",\"\",IF('3 Irrigation Schedule'!$P$19<P508,'3 Irrigation Schedule'!$P$19,P508))","v":""},"",{"$f":"IF(H508=\"\",\"\",V508/'3 Irrigation Schedule'!$M$19)","v":""}]
[null,null,null,"2021","June","2021-06-19",null,"","",5.2668000000000008,0.42866666666666664,"",0,"",{"$f":"IF(OR('3 Irrigation Schedule'!$C$29=\"\",'3 Irrigation Schedule'!$C$31=\"\",H509=\"\"),\"\",(('3 Irrigation Schedule'!$C$29-'3 Irrigation Schedule'!$C$31)/100)*1000*N509)","v":""},"",{"$f":"IF(H509=\"\",\"\",IF(H509=1,O509*(1-'3 Irrigation Schedule'!$C$27),T508-V508))","v":""},"","","",{"$f":"IF(H509=\"\",\"\",IF('3 Irrigation Schedule'!$P$19<P509,'3 Irrigation Schedule'!$P$19,P509))","v":""},"",{"$f":"IF(H509=\"\",\"\",V509/'3 Irrigation Schedule'!$M$19)","v":""}]
[null,null,null,"2021","June","2021-06-20",null,"","",5.2668000000000008,0.42866666666666664,"",0,"",{"$f":"IF(OR('3 Irrigation Schedule'!$C$29=\"\",'3 Irrigation Schedule'!$C$31=\"\",H510=\"\"),\"\",(('3 Irrigation Schedule'!$C$29-'3 Irrigation Schedule'!$C$31)/100)*1000*N510)","v":""},"",{"$f":"IF(H510=\"\",\"\",IF(H510=1,O510*(1-'3 Irrigation Schedule'!$C$27),T509-V509))","v":""},"","","",{"$f":"IF(H510=\"\",\"\",IF('3 Irrigation Schedule'!$P$19<P510,'3 Irrigation Schedule'!$P$19,P510))","v":""},"",{"$f":"IF(H510=\"\",\"\",V510/'3 Irrigation Schedule'!$M$19)","v":""}]
[null,null,null,"2021","June","2021-06-21",null,"","",5.2668000000000008,0.42866666666666664,"",0,"",{"$f":"IF(OR('3 Irrigation Schedule'!$C$29=\"\",'3 Irrigation Schedule'!$C$31=\"\",H511=\"\"),\"\",(('3 Irrigation Schedule'!$C$29-'3 Irrigation Schedule'!$C$31)/100)*1000*N511)","v":""},"",{"$f":"IF(H511=\"\",\"\",IF(H511=1,O511*(1-'3 Irrigation Schedule'!$C$27),T510-V510))","v":""},"","","",{"$f":"IF(H511=\"\",\"\",IF('3 Irrigation Schedule'!$P$19<P511,'3 Irrigation Schedule'!$P$19,P511))","v":""},"",{"$f":"IF(H511=\"\",\"\",V511/'3 Irrigation Schedule'!$M$19)","v":""}]
[null,null,null,"2021","June","2021-06-22",null,"","",5.2668000000000008,0.42866666666666664,"",0,"",{"$f":"IF(OR('3 Irrigation Schedule'!$C$29=\"\",'3 Irrigation Schedule'!$C$31=\"\",H512=\"\"),\"\",(('3 Irrigation Schedule'!$C$29-'3 Irrigation Schedule'!$C$31)/100)*1000*N512)","v":""},"",{"$f":"IF(H512=\"\",\"\",IF(H512=1,O512*(1-'3 Irrigation Schedule'!$C$27),T511-V511))","v":""},"","","",{"$f":"IF(H512=\"\",\"\",IF('3 Irrigation Schedule'!$P$19<P512,'3 Irrigation Schedule'!$P$19,P512))","v":""},"",{"$f":"IF(H512=\"\",\"\",V512/'3 Irrigation Schedule'!$M$19)","v":""}]
[null,null,null,"2021","June","2021-06-23",null,"","",5.2668000000000008,0.42866666666666664,"",0,"",{"$f":"IF(OR('3 Irrigation Schedule'!$C$29=\"\",'3 Irrigation Schedule'!$C$31=\"\",H513=\"\"),\"\",(('3 Irrigation Schedule'!$C$29-'3 Irrigation Schedule'!$C$31)/100)*1000*N513)","v":""},"",{"$f":"IF(H513=\"\",\"\",IF(H513=1,O513*(1-'3 Irrigation Schedule'!$C$27),T512-V512))","v":""},"","","",{"$f":"IF(H513=\"\",\"\",IF('3 Irrigation Schedule'!$P$19<P513,'3 Irrigation Schedule'!$P$19,P513))","v":""},"",{"$f":"IF(H513=\"\",\"\",V513/'3 Irrigation Schedule'!$M$19)","v":""}]
[null,null,null,"2021","June","2021-06-24",null,"","",5.2668000000000008,0.42866666666666664,"",0,"",{"$f":"IF(OR('3 Irrigation Schedule'!$C$29=\"\",'3 Irrigation Schedule'!$C$31=\"\",H514=\"\"),\"\",(('3 Irrigation Schedule'!$C$29-'3 Irrigation Schedule'!$C$31)/100)*1000*N514)","v":""},"",{"$f":"IF(H514=\"\",\"\",IF(H514=1,O514*(1-'3 Irrigation Schedule'!$C$27),T513-V513))","v":""},"","","",{"$f":"IF(H514=\"\",\"\",IF('3 Irrigation Schedule'!$P$19<P514,'3 Irrigation Schedule'!$P$19,P514))","v":""},"",{"$f":"IF(H514=\"\",\"\",V514/'3 Irrigation Schedule'!$M$19)","v":""}]
[null,null,null,"2021","June","2021-06-25",null,"","",5.2668000000000008,0.42866666666666664,"",0,"",{"$f":"IF(OR('3 Irrigation Schedule'!$C$29=\"\",'3 Irrigation Schedule'!$C$31=\"\",H515=\"\"),\"\",(('3 Irrigation Schedule'!$C$29-'3 Irrigation Schedule'!$C$31)/100)*1000*N515)","v":""},"",{"$f":"IF(H515=\"\",\"\",IF(H515=1,O515*(1-'3 Irrigation Schedule'!$C$27),T514-V514))","v":""},"","","",{"$f":"IF(H515=\"\",\"\",IF('3 Irrigation Schedule'!$P$19<P515,'3 Irrigation Schedule'!$P$19,P515))","v":""},"",{"$f":"IF(H515=\"\",\"\",V515/'3 Irrigation Schedule'!$M$19)","v":""}]
[null,null,null,"2021","June","2021-06-26",null,"","",5.2668000000000008,0.42866666666666664,"",0,"",{"$f":"IF(OR('3 Irrigation Schedule'!$C$29=\"\",'3 Irrigation Schedule'!$C$31=\"\",H516=\"\"),\"\",(('3 Irrigation Schedule'!$C$29-'3 Irrigation Schedule'!$C$31)/100)*1000*N516)","v":""},"",{"$f":"IF(H516=\"\",\"\",IF(H516=1,O516*(1-'3 Irrigation Schedule'!$C$27),T515-V515))","v":""},"","","",{"$f":"IF(H516=\"\",\"\",IF('3 Irrigation Schedule'!$P$19<P516,'3 Irrigation Schedule'!$P$19,P516))","v":""},"",{"$f":"IF(H516=\"\",\"\",V516/'3 Irrigation Schedule'!$M$19)","v":""}]
[null,null,null,"2021","June","2021-06-27",null,"","",5.2668000000000008,0.42866666666666664,"",0,"",{"$f":"IF(OR('3 Irrigation Schedule'!$C$29=\"\",'3 Irrigation Schedule'!$C$31=\"\",H517=\"\"),\"\",(('3 Irrigation Schedule'!$C$29-'3 Irrigation Schedule'!$C$31)/100)*1000*N517)","v":""},"",{"$f":"IF(H517=\"\",\"\",IF(H517=1,O517*(1-'3 Irrigation Schedule'!$C$27),T516-V516))","v":""},"","","",{"$f":"IF(H517=\"\",\"\",IF('3 Irrigation Schedule'!$P$19<P517,'3 Irrigation Schedule'!$P$19,P517))","v":""},"",{"$f":"IF(H517=\"\",\"\",V517/'3 Irrigation Schedule'!$M$19)","v":""}]
[null,null,null,"2021","June","2021-06-28",null,"","",5.2668000000000008,0.42866666666666664,"",0,"",{"$f":"IF(OR('3 Irrigation Schedule'!$C$29=\"\",'3 Irrigation Schedule'!$C$31=\"\",H518=\"\"),\"\",(('3 Irrigation Schedule'!$C$29-'3 Irrigation Schedule'!$C$31)/100)*1000*N518)","v":""},"",{"$f":"IF(H518=\"\",\"\",IF(H518=1,O518*(1-'3 Irrigation Schedule'!$C$27),T517-V517))","v":""},"","","",{"$f":"IF(H518=\"\",\"\",IF('3 Irrigation Schedule'!$P$19<P518,'3 Irrigation Schedule'!$P$19,P518))","v":""},"",{"$f":"IF(H518=\"\",\"\",V518/'3 Irrigation Schedule'!$M$19)","v":""}]
[null,null,null,"2021","June","2021-06-29",null,"","",5.2668000000000008,0.42866666666666664,"",0,"",{"$f":"IF(OR('3 Irrigation Schedule'!$C$29=\"\",'3 Irrigation Schedule'!$C$31=\"\",H519=\"\"),\"\",(('3 Irrigation Schedule'!$C$29-'3 Irrigation Schedule'!$C$31)/100)*1000*N519)","v":""},"",{"$f":"IF(H519=\"\",\"\",IF(H519=1,O519*(1-'3 Irrigation Schedule'!$C$27),T518-V518))","v":""},"","","",{"$f":"IF(H519=\"\",\"\",IF('3 Irrigation Schedule'!$P$19<P519,'3 Irrigation Schedule'!$P$19,P519))","v":""},"",{"$f":"IF(H519=\"\",\"\",V519/'3 Irrigation Schedule'!$M$19)","v":""}]
[null,null,null,"2021","June","2021-06-30",null,"","",5.2668000000000008,0.42866666666666664,"",0,"",{"$f":"IF(OR('3 Irrigation Schedule'!$C$29=\"\",'3 Irrigation Schedule'!$C$31=\"\",H520=\"\"),\"\",(('3 Irrigation Schedule'!$C$29-'3 Irrigation Schedule'!$C$31)/100)*1000*N520)","v":""},"",{"$f":"IF(H520=\"\",\"\",IF(H520=1,O520*(1-'3 Irrigation Schedule'!$C$27),T519-V519))","v":""},"","","",{"$f":"IF(H520=\"\",\"\",IF('3 Irrigation Schedule'!$P$19<P520,'3 Irrigation Schedule'!$P$19,P520))","v":""},"",{"$f":"IF(H520=\"\",\"\",V520/'3 Irrigation Schedule'!$M$19)","v":""}]
[null,null,null,"2021","July","2021-07-01",null,"","",5.2023999999999999,0.19999999999999998,"",0,"",{"$f":"IF(OR('3 Irrigation Schedule'!$C$29=\"\",'3 Irrigation Schedule'!$C$31=\"\",H521=\"\"),\"\",(('3 Irrigation Schedule'!$C$29-'3 Irrigation Schedule'!$C$31)/100)*1000*N521)","v":""},"",{"$f":"IF(H521=\"\",\"\",IF(H521=1,O521*(1-'3 Irrigation Schedule'!$C$27),T520-V520))","v":""},"","","",{"$f":"IF(H521=\"\",\"\",IF('3 Irrigation Schedule'!$P$19<P521,'3 Irrigation Schedule'!$P$19,P521))","v":""},"",{"$f":"IF(H521=\"\",\"\",V521/'3 Irrigation Schedule'!$M$19)","v":""}]
[null,null,null,"2021","July","2021-07-02",null,"","",5.2023999999999999,0.19999999999999998,"",0,"",{"$f":"IF(OR('3 Irrigation Schedule'!$C$29=\"\",'3 Irrigation Schedule'!$C$31=\"\",H522=\"\"),\"\",(('3 Irrigation Schedule'!$C$29-'3 Irrigation Schedule'!$C$31)/100)*1000*N522)","v":""},"",{"$f":"IF(H522=\"\",\"\",IF(H522=1,O522*(1-'3 Irrigation Schedule'!$C$27),T521-V521))","v":""},"","","",{"$f":"IF(H522=\"\",\"\",IF('3 Irrigation Schedule'!$P$19<P522,'3 Irrigation Schedule'!$P$19,P522))","v":""},"",{"$f":"IF(H522=\"\",\"\",V522/'3 Irrigation Schedule'!$M$19)","v":""}]
[null,null,null,"2021","July","2021-07-03",null,"","",5.2023999999999999,0.19999999999999998,"",0,"",{"$f":"IF(OR('3 Irrigation Schedule'!$C$29=\"\",'3 Irrigation Schedule'!$C$31=\"\",H523=\"\"),\"\",(('3 Irrigation Schedule'!$C$29-'3 Irrigation Schedule'!$C$31)/100)*1000*N523)","v":""},"",{"$f":"IF(H523=\"\",\"\",IF(H523=1,O523*(1-'3 Irrigation Schedule'!$C$27),T522-V522))","v":""},"","","",{"$f":"IF(H523=\"\",\"\",IF('3 Irrigation Schedule'!$P$19<P523,'3 Irrigation Schedule'!$P$19,P523))","v":""},"",{"$f":"IF(H523=\"\",\"\",V523/'3 Irrigation Schedule'!$M$19)","v":""}]
[null,null,null,"2021","July","2021-07-04",null,"","",5.2023999999999999,0.19999999999999998,"",0,"",{"$f":"IF(OR('3 Irrigation Schedule'!$C$29=\"\",'3 Irrigation Schedule'!$C$31=\"\",H524=\"\"),\"\",(('3 Irrigation Schedule'!$C$29-'3 Irrigation Schedule'!$C$31)/100)*1000*N524)","v":""},"",{"$f":"IF(H524=\"\",\"\",IF(H524=1,O524*(1-'3 Irrigation Schedule'!$C$27),T523-V523))","v":""},"","","",{"$f":"IF(H524=\"\",\"\",IF('3 Irrigation Schedule'!$P$19<P524,'3 Irrigation Schedule'!$P$19,P524))","v":""},"",{"$f":"IF(H524=\"\",\"\",V524/'3 Irrigation Schedule'!$M$19)","v":""}]
[null,null,null,"2021","July","2021-07-05",null,"","",5.2023999999999999,0.19999999999999998,"",0,"",{"$f":"IF(OR('3 Irrigation Schedule'!$C$29=\"\",'3 Irrigation Schedule'!$C$31=\"\",H525=\"\"),\"\",(('3 Irrigation Schedule'!$C$29-'3 Irrigation Schedule'!$C$31)/100)*1000*N525)","v":""},"",{"$f":"IF(H525=\"\",\"\",IF(H525=1,O525*(1-'3 Irrigation Schedule'!$C$27),T524-V524))","v":""},"","","",{"$f":"IF(H525=\"\",\"\",IF('3 Irrigation Schedule'!$P$19<P525,'3 Irrigation Schedule'!$P$19,P525))","v":""},"",{"$f":"IF(H525=\"\",\"\",V525/'3 Irrigation Schedule'!$M$19)","v":""}]
[null,null,null,"2021","July","2021-07-06",null,"","",5.2023999999999999,0.19999999999999998,"",0,"",{"$f":"IF(OR('3 Irrigation Schedule'!$C$29=\"\",'3 Irrigation Schedule'!$C$31=\"\",H526=\"\"),\"\",(('3 Irrigation Schedule'!$C$29-'3 Irrigation Schedule'!$C$31)/100)*1000*N526)","v":""},"",{"$f":"IF(H526=\"\",\"\",IF(H526=1,O526*(1-'3 Irrigation Schedule'!$C$27),T525-V525))","v":""},"","","",{"$f":"IF(H526=\"\",\"\",IF('3 Irrigation Schedule'!$P$19<P526,'3 Irrigation Schedule'!$P$19,P526))","v":""},"",{"$f":"IF(H526=\"\",\"\",V526/'3 Irrigation Schedule'!$M$19)","v":""}]
[null,null,null,"2021","July","2021-07-07",null,"","",5.2023999999999999,0.19999999999999998,"",0,"",{"$f":"IF(OR('3 Irrigation Schedule'!$C$29=\"\",'3 Irrigation Schedule'!$C$31=\"\",H527=\"\"),\"\",(('3 Irrigation Schedule'!$C$29-'3 Irrigation Schedule'!$C$31)/100)*1000*N527)","v":""},"",{"$f":"IF(H527=\"\",\"\",IF(H527=1,O527*(1-'3 Irrigation Schedule'!$C$27),T526-V526))","v":""},"","","",{"$f":"IF(H527=\"\",\"\",IF('3 Irrigation Schedule'!$P$19<P527,'3 Irrigation Schedule'!$P$19,P527))","v":""},"",{"$f":"IF(H527=\"\",\"\",V527/'3 Irrigation Schedule'!$M$19)","v":""}]
[null,null,null,"2021","July","2021-07-08",null,"",{"$f":"IF(H528=\"\",\"\",IF(H528<=$I$27,\"Initial\",IF(AND(H528>$I$27,H528<=$I$28),\"Development\",IF(AND(H528>$I$28,H528<=$I$29),\"Mid Season\",\"Late Season\"))))","v":""},5.2023999999999999,0.19999999999999998,"",0,"",{"$f":"IF(OR('3 Irrigation Schedule'!$C$29=\"\",'3 Irrigation Schedule'!$C$31=\"\",H528=\"\"),\"\",(('3 Irrigation Schedule'!$C$29-'3 Irrigation Schedule'!$C$31)/100)*1000*N528)","v":""},"",{"$f":"IF(H528=\"\",\"\",IF(H528=1,O528*(1-'3 Irrigation Schedule'!$C$27),T527-V527))","v":""},"","","",{"$f":"IF(H528=\"\",\"\",IF('3 Irrigation Schedule'!$P$19<P528,'3 Irrigation Schedule'!$P$19,P528))","v":""},"",{"$f":"IF(H528=\"\",\"\",V528/'3 Irrigation Schedule'!$M$19)","v":""}]
[null,null,null,"2021","July","2021-07-09",null,"","",5.2023999999999999,0.19999999999999998,"",0,"",{"$f":"IF(OR('3 Irrigation Schedule'!$C$29=\"\",'3 Irrigation Schedule'!$C$31=\"\",H529=\"\"),\"\",(('3 Irrigation Schedule'!$C$29-'3 Irrigation Schedule'!$C$31)/100)*1000*N529)","v":""},"",{"$f":"IF(H529=\"\",\"\",IF(H529=1,O529*(1-'3 Irrigation Schedule'!$C$27),T528-V528))","v":""},"","","",{"$f":"IF(H529=\"\",\"\",IF('3 Irrigation Schedule'!$P$19<P529,'3 Irrigation Schedule'!$P$19,P529))","v":""},"",{"$f":"IF(H529=\"\",\"\",V529/'3 Irrigation Schedule'!$M$19)","v":""}]
[null,null,null,"2021","July","2021-07-10",null,"","",5.2023999999999999,0.19999999999999998,"",0,"",{"$f":"IF(OR('3 Irrigation Schedule'!$C$29=\"\",'3 Irrigation Schedule'!$C$31=\"\",H530=\"\"),\"\",(('3 Irrigation Schedule'!$C$29-'3 Irrigation Schedule'!$C$31)/100)*1000*N530)","v":""},"",{"$f":"IF(H530=\"\",\"\",IF(H530=1,O530*(1-'3 Irrigation Schedule'!$C$27),T529-V529))","v":""},"","","",{"$f":"IF(H530=\"\",\"\",IF('3 Irrigation Schedule'!$P$19<P530,'3 Irrigation Schedule'!$P$19,P530))","v":""},"",{"$f":"IF(H530=\"\",\"\",V530/'3 Irrigation Schedule'!$M$19)","v":""}]
[null,null,null,"2021","July","2021-07-11",null,"","",5.2023999999999999,0.19999999999999998,"",0,"",{"$f":"IF(OR('3 Irrigation Schedule'!$C$29=\"\",'3 Irrigation Schedule'!$C$31=\"\",H531=\"\"),\"\",(('3 Irrigation Schedule'!$C$29-'3 Irrigation Schedule'!$C$31)/100)*1000*N531)","v":""},"",{"$f":"IF(H531=\"\",\"\",IF(H531=1,O531*(1-'3 Irrigation Schedule'!$C$27),T530-V530))","v":""},"","","",{"$f":"IF(H531=\"\",\"\",IF('3 Irrigation Schedule'!$P$19<P531,'3 Irrigation Schedule'!$P$19,P531))","v":""},"",{"$f":"IF(H531=\"\",\"\",V531/'3 Irrigation Schedule'!$M$19)","v":""}]
[null,null,null,"2021","July","2021-07-12",null,"","",5.2023999999999999,0.19999999999999998,"",0,"",{"$f":"IF(OR('3 Irrigation Schedule'!$C$29=\"\",'3 Irrigation Schedule'!$C$31=\"\",H532=\"\"),\"\",(('3 Irrigation Schedule'!$C$29-'3 Irrigation Schedule'!$C$31)/100)*1000*N532)","v":""},"",{"$f":"IF(H532=\"\",\"\",IF(H532=1,O532*(1-'3 Irrigation Schedule'!$C$27),T531-V531))","v":""},"","","",{"$f":"IF(H532=\"\",\"\",IF('3 Irrigation Schedule'!$P$19<P532,'3 Irrigation Schedule'!$P$19,P532))","v":""},"",{"$f":"IF(H532=\"\",\"\",V532/'3 Irrigation Schedule'!$M$19)","v":""}]
[null,null,null,"2021","July","2021-07-13",null,"","",5.2023999999999999,0.19999999999999998,"",0,"",{"$f":"IF(OR('3 Irrigation Schedule'!$C$29=\"\",'3 Irrigation Schedule'!$C$31=\"\",H533=\"\"),\"\",(('3 Irrigation Schedule'!$C$29-'3 Irrigation Schedule'!$C$31)/100)*1000*N533)","v":""},"",{"$f":"IF(H533=\"\",\"\",IF(H533=1,O533*(1-'3 Irrigation Schedule'!$C$27),T532-V532))","v":""},"","","",{"$f":"IF(H533=\"\",\"\",IF('3 Irrigation Schedule'!$P$19<P533,'3 Irrigation Schedule'!$P$19,P533))","v":""},"",{"$f":"IF(H533=\"\",\"\",V533/'3 Irrigation Schedule'!$M$19)","v":""}]
[null,null,null,"2021","July","2021-07-14",null,"","",5.2023999999999999,0.19999999999999998,"",0,"",{"$f":"IF(OR('3 Irrigation Schedule'!$C$29=\"\",'3 Irrigation Schedule'!$C$31=\"\",H534=\"\"),\"\",(('3 Irrigation Schedule'!$C$29-'3 Irrigation Schedule'!$C$31)/100)*1000*N534)","v":""},"",{"$f":"IF(H534=\"\",\"\",IF(H534=1,O534*(1-'3 Irrigation Schedule'!$C$27),T533-V533))","v":""},"","","",{"$f":"IF(H534=\"\",\"\",IF('3 Irrigation Schedule'!$P$19<P534,'3 Irrigation Schedule'!$P$19,P534))","v":""},"",{"$f":"IF(H534=\"\",\"\",V534/'3 Irrigation Schedule'!$M$19)","v":""}]
[null,null,null,"2021","July","2021-07-15",null,"","",5.2023999999999999,0.19999999999999998,"",0,"",{"$f":"IF(OR('3 Irrigation Schedule'!$C$29=\"\",'3 Irrigation Schedule'!$C$31=\"\",H535=\"\"),\"\",(('3 Irrigation Schedule'!$C$29-'3 Irrigation Schedule'!$C$31)/100)*1000*N535)","v":""},"",{"$f":"IF(H535=\"\",\"\",IF(H535=1,O535*(1-'3 Irrigation Schedule'!$C$27),T534-V534))","v":""},"","","",{"$f":"IF(H535=\"\",\"\",IF('3 Irrigation Schedule'!$P$19<P535,'3 Irrigation Schedule'!$P$19,P535))","v":""},"",{"$f":"IF(H535=\"\",\"\",V535/'3 Irrigation Schedule'!$M$19)","v":""}]
[null,null,null,"2021","July","2021-07-16",null,"","",5.2023999999999999,0.19999999999999998,"",0,"",{"$f":"IF(OR('3 Irrigation Schedule'!$C$29=\"\",'3 Irrigation Schedule'!$C$31=\"\",H536=\"\"),\"\",(('3 Irrigation Schedule'!$C$29-'3 Irrigation Schedule'!$C$31)/100)*1000*N536)","v":""},"",{"$f":"IF(H536=\"\",\"\",IF(H536=1,O536*(1-'3 Irrigation Schedule'!$C$27),T535-V535))","v":""},"","","",{"$f":"IF(H536=\"\",\"\",IF('3 Irrigation Schedule'!$P$19<P536,'3 Irrigation Schedule'!$P$19,P536))","v":""},"",{"$f":"IF(H536=\"\",\"\",V536/'3 Irrigation Schedule'!$M$19)","v":""}]
[null,null,null,"2021","July","2021-07-17",null,"","",5.2023999999999999,0.19999999999999998,"",0,"",{"$f":"IF(OR('3 Irrigation Schedule'!$C$29=\"\",'3 Irrigation Schedule'!$C$31=\"\",H537=\"\"),\"\",(('3 Irrigation Schedule'!$C$29-'3 Irrigation Schedule'!$C$31)/100)*1000*N537)","v":""},"",{"$f":"IF(H537=\"\",\"\",IF(H537=1,O537*(1-'3 Irrigation Schedule'!$C$27),T536-V536))","v":""},"","","",{"$f":"IF(H537=\"\",\"\",IF('3 Irrigation Schedule'!$P$19<P537,'3 Irrigation Schedule'!$P$19,P537))","v":""},"",{"$f":"IF(H537=\"\",\"\",V537/'3 Irrigation Schedule'!$M$19)","v":""}]
[null,null,null,"2021","July","2021-07-18",null,"","",5.2023999999999999,0.19999999999999998,"",0,"",{"$f":"IF(OR('3 Irrigation Schedule'!$C$29=\"\",'3 Irrigation Schedule'!$C$31=\"\",H538=\"\"),\"\",(('3 Irrigation Schedule'!$C$29-'3 Irrigation Schedule'!$C$31)/100)*1000*N538)","v":""},"",{"$f":"IF(H538=\"\",\"\",IF(H538=1,O538*(1-'3 Irrigation Schedule'!$C$27),T537-V537))","v":""},"","","",{"$f":"IF(H538=\"\",\"\",IF('3 Irrigation Schedule'!$P$19<P538,'3 Irrigation Schedule'!$P$19,P538))","v":""},"",{"$f":"IF(H538=\"\",\"\",V538/'3 Irrigation Schedule'!$M$19)","v":""}]
[null,null,null,"2021","July","2021-07-19",null,"","",5.2023999999999999,0.19999999999999998,"",0,"",{"$f":"IF(OR('3 Irrigation Schedule'!$C$29=\"\",'3 Irrigation Schedule'!$C$31=\"\",H539=\"\"),\"\",(('3 Irrigation Schedule'!$C$29-'3 Irrigation Schedule'!$C$31)/100)*1000*N539)","v":""},"",{"$f":"IF(H539=\"\",\"\",IF(H539=1,O539*(1-'3 Irrigation Schedule'!$C$27),T538-V538))","v":""},"","","",{"$f":"IF(H539=\"\",\"\",IF('3 Irrigation Schedule'!$P$19<P539,'3 Irrigation Schedule'!$P$19,P539))","v":""},"",{"$f":"IF(H539=\"\",\"\",V539/'3 Irrigation Schedule'!$M$19)","v":""}]
[null,null,null,"2021","July","2021-07-20",null,"","",5.2023999999999999,0.19999999999999998,"",0,"",{"$f":"IF(OR('3 Irrigation Schedule'!$C$29=\"\",'3 Irrigation Schedule'!$C$31=\"\",H540=\"\"),\"\",(('3 Irrigation Schedule'!$C$29-'3 Irrigation Schedule'!$C$31)/100)*1000*N540)","v":""},"",{"$f":"IF(H540=\"\",\"\",IF(H540=1,O540*(1-'3 Irrigation Schedule'!$C$27),T539-V539))","v":""},"","","",{"$f":"IF(H540=\"\",\"\",IF('3 Irrigation Schedule'!$P$19<P540,'3 Irrigation Schedule'!$P$19,P540))","v":""},"",{"$f":"IF(H540=\"\",\"\",V540/'3 Irrigation Schedule'!$M$19)","v":""}]
[null,null,null,"2021","July","2021-07-21",null,"","",5.2023999999999999,0.19999999999999998,"",0,"",{"$f":"IF(OR('3 Irrigation Schedule'!$C$29=\"\",'3 Irrigation Schedule'!$C$31=\"\",H541=\"\"),\"\",(('3 Irrigation Schedule'!$C$29-'3 Irrigation Schedule'!$C$31)/100)*1000*N541)","v":""},"",{"$f":"IF(H541=\"\",\"\",IF(H541=1,O541*(1-'3 Irrigation Schedule'!$C$27),T540-V540))","v":""},"","","",{"$f":"IF(H541=\"\",\"\",IF('3 Irrigation Schedule'!$P$19<P541,'3 Irrigation Schedule'!$P$19,P541))","v":""},"",{"$f":"IF(H541=\"\",\"\",V541/'3 Irrigation Schedule'!$M$19)","v":""}]
[null,null,null,"2021","July","2021-07-22",null,"","",5.2023999999999999,0.19999999999999998,"",0,"",{"$f":"IF(OR('3 Irrigation Schedule'!$C$29=\"\",'3 Irrigation Schedule'!$C$31=\"\",H542=\"\"),\"\",(('3 Irrigation Schedule'!$C$29-'3 Irrigation Schedule'!$C$31)/100)*1000*N542)","v":""},"",{"$f":"IF(H542=\"\",\"\",IF(H542=1,O542*(1-'3 Irrigation Schedule'!$C$27),T541-V541))","v":""},"","","",{"$f":"IF(H542=\"\",\"\",IF('3 Irrigation Schedule'!$P$19<P542,'3 Irrigation Schedule'!$P$19,P542))","v":""},"",{"$f":"IF(H542=\"\",\"\",V542/'3 Irrigation Schedule'!$M$19)","v":""}]
[null,null,null,"2021","July","2021-07-23",null,"","",5.2023999999999999,0.19999999999999998,"",0,"",{"$f":"IF(OR('3 Irrigation Schedule'!$C$29=\"\",'3 Irrigation Schedule'!$C$31=\"\",H543=\"\"),\"\",(('3 Irrigation Schedule'!$C$29-'3 Irrigation Schedule'!$C$31)/100)*1000*N543)","v":""},"",{"$f":"IF(H543=\"\",\"\",IF(H543=1,O543*(1-'3 Irrigation Schedule'!$C$27),T542-V542))","v":""},"","","",{"$f":"IF(H543=\"\",\"\",IF('3 Irrigation Schedule'!$P$19<P543,'3 Irrigation Schedule'!$P$19,P543))","v":""},"",{"$f":"IF(H543=\"\",\"\",V543/'3 Irrigation Schedule'!$M$19)","v":""}]
[null,null,null,"2021","July","2021-07-24",null,"","",5.2023999999999999,0.19999999999999998,"",0,"",{"$f":"IF(OR('3 Irrigation Schedule'!$C$29=\"\",'3 Irrigation Schedule'!$C$31=\"\",H544=\"\"),\"\",(('3 Irrigation Schedule'!$C$29-'3 Irrigation Schedule'!$C$31)/100)*1000*N544)","v":""},"",{"$f":"IF(H544=\"\",\"\",IF(H544=1,O544*(1-'3 Irrigation Schedule'!$C$27),T543-V543))","v":""},"","","",{"$f":"IF(H544=\"\",\"\",IF('3 Irrigation Schedule'!$P$19<P544,'3 Irrigation Schedule'!$P$19,P544))","v":""},"",{"$f":"IF(H544=\"\",\"\",V544/'3 Irrigation Schedule'!$M$19)","v":""}]
[null,null,null,"2021","July","2021-07-25",null,"","",5.2023999999999999,0.19999999999999998,"",0,"",{"$f":"IF(OR('3 Irrigation Schedule'!$C$29=\"\",'3 Irrigation Schedule'!$C$31=\"\",H545=\"\"),\"\",(('3 Irrigation Schedule'!$C$29-'3 Irrigation Schedule'!$C$31)/100)*1000*N545)","v":""},"",{"$f":"IF(H545=\"\",\"\",IF(H545=1,O545*(1-'3 Irrigation Schedule'!$C$27),T544-V544))","v":""},"","","",{"$f":"IF(H545=\"\",\"\",IF('3 Irrigation Schedule'!$P$19<P545,'3 Irrigation Schedule'!$P$19,P545))","v":""},"",{"$f":"IF(H545=\"\",\"\",V545/'3 Irrigation Schedule'!$M$19)","v":""}]
[null,null,null,{"$f":"IFERROR(TEXT(DATE(YEAR($F546),MONTH($F546),1),$D$7&$D$4),\"\")","v":"2021"},{"$f":"IFERROR(TEXT(DATE(YEAR($F546),MONTH($F546),1),$D$7&$D$5),\"\")","v":"July"},"2021-07-26",null,"","",{"$f":"IFERROR(VLOOKUP($E546,$B$19:$C$30,2,FALSE),\"\")","v":5.2023999999999999},0.19999999999999998,{"$f":"IF(H546=\"\",\"\",IF(H546<=$I$27,$L$27,IF(AND(H546>$I$27,H546<=$I$28),$L$27+((H546-$I$27)/$H$28)*($L$29-$L$27),IF(AND(H546>$I$28,H546<=$I$29),$L$29,$L$29+((H546-$I$29)/$H$30)*($L$30-$L$29)))))","v":""},{"$f":"IFERROR((J546*L546),0)","v":0},{"$f":"IF(H546=\"\",\"\",IF(OR(H546=1,H546<$I$28),$M$27+(($M$28-$M$27)*((H546-1)/($I$28-1))),$M$28))","v":""},{"$f":"IF(OR('3 Irrigation Schedule'!$C$29=\"\",'3 Irrigation Schedule'!$C$31=\"\",H546=\"\"),\"\",(('3 Irrigation Schedule'!$C$29-'3 Irrigation Schedule'!$C$31)/100)*1000*N546)","v":""},{"$f":"IF(H546=\"\",\"\",O546*$N$27)","v":""},{"$f":"IF(H546=\"\",\"\",IF(H546=1,O546*(1-'3 Irrigation Schedule'!$C$27),T545-V545))","v":""},{"$f":"IF(H546=\"\",\"\",IF(Q546>P546,(O546-Q546)/(O546-P546),1))","v":""},{"$f":"IF(H546=\"\",\"\",M546*R546)","v":""},{"$f":"IF(H546=\"\",\"\",IF(Q546+S546-K546<0,0,Q546+S546-K546))","v":""},{"$f":"IF(H546=\"\",\"\",IF('3 Irrigation Schedule'!$P$19<P546,'3 Irrigation Schedule'!$P$19,P546))","v":""},{"$f":"IF(H546=\"\",\"\",IF(U546<=T546,U546,0))","v":""},{"$f":"IF(H546=\"\",\"\",V546/'3 Irrigation Schedule'!$M$19)","v":""}]
[null,null,null,"2021","July",{"$f":"IFERROR(IF(F546+1<=$N$7, F546+1,\"\"),\"\")","v":"2021-07-27"},null,{"$f":"IFERROR(IF(OR($F547-$J$27+1<=0,$F547>$K$30),\"\",$F547-$J$27+1),\"\")","v":""},"",5.2023999999999999,{"$f":"IFERROR(VLOOKUP($E547,$B$19:$D$30,3,FALSE),\"\")","v":0.19999999999999998},"",0,"",{"$f":"IF(OR('3 Irrigation Schedule'!$C$29=\"\",'3 Irrigation Schedule'!$C$31=\"\",H547=\"\"),\"\",(('3 Irrigation Schedule'!$C$29-'3 Irrigation Schedule'!$C$31)/100)*1000*N547)","v":""},"",{"$f":"IF(H547=\"\",\"\",IF(H547=1,O547*(1-'3 Irrigation Schedule'!$C$27),T546-V546))","v":""},"","","",{"$f":"IF(H547=\"\",\"\",IF('3 Irrigation Schedule'!$P$19<P547,'3 Irrigation Schedule'!$P$19,P547))","v":""},"",{"$f":"IF(H547=\"\",\"\",V547/'3 Irrigation Schedule'!$M$19)","v":""}]
[null,null,null,"2021","July","2021-07-28",null,"","",5.2023999999999999,0.19999999999999998,"",0,"",{"$f":"IF(OR('3 Irrigation Schedule'!$C$29=\"\",'3 Irrigation Schedule'!$C$31=\"\",H548=\"\"),\"\",(('3 Irrigation Schedule'!$C$29-'3 Irrigation Schedule'!$C$31)/100)*1000*N548)","v":""},"",{"$f":"IF(H548=\"\",\"\",IF(H548=1,O548*(1-'3 Irrigation Schedule'!$C$27),T547-V547))","v":""},"","","",{"$f":"IF(H548=\"\",\"\",IF('3 Irrigation Schedule'!$P$19<P548,'3 Irrigation Schedule'!$P$19,P548))","v":""},"",{"$f":"IF(H548=\"\",\"\",V548/'3 Irrigation Schedule'!$M$19)","v":""}]
[null,null,null,"2021","July","2021-07-29",null,"","",5.2023999999999999,0.19999999999999998,"",0,"",{"$f":"IF(OR('3 Irrigation Schedule'!$C$29=\"\",'3 Irrigation Schedule'!$C$31=\"\",H549=\"\"),\"\",(('3 Irrigation Schedule'!$C$29-'3 Irrigation Schedule'!$C$31)/100)*1000*N549)","v":""},"",{"$f":"IF(H549=\"\",\"\",IF(H549=1,O549*(1-'3 Irrigation Schedule'!$C$27),T548-V548))","v":""},"","","",{"$f":"IF(H549=\"\",\"\",IF('3 Irrigation Schedule'!$P$19<P549,'3 Irrigation Schedule'!$P$19,P549))","v":""},"",{"$f":"IF(H549=\"\",\"\",V549/'3 Irrigation Schedule'!$M$19)","v":""}]
[null,null,null,"2021","July","2021-07-30",null,"","",5.2023999999999999,0.19999999999999998,"",0,"",{"$f":"IF(OR('3 Irrigation Schedule'!$C$29=\"\",'3 Irrigation Schedule'!$C$31=\"\",H550=\"\"),\"\",(('3 Irrigation Schedule'!$C$29-'3 Irrigation Schedule'!$C$31)/100)*1000*N550)","v":""},"",{"$f":"IF(H550=\"\",\"\",IF(H550=1,O550*(1-'3 Irrigation Schedule'!$C$27),T549-V549))","v":""},"","","",{"$f":"IF(H550=\"\",\"\",IF('3 Irrigation Schedule'!$P$19<P550,'3 Irrigation Schedule'!$P$19,P550))","v":""},"",{"$f":"IF(H550=\"\",\"\",V550/'3 Irrigation Schedule'!$M$19)","v":""}]
[null,null,null,"2021","July","2021-07-31",null,"","",5.2023999999999999,0.19999999999999998,"",0,"",{"$f":"IF(OR('3 Irrigation Schedule'!$C$29=\"\",'3 Irrigation Schedule'!$C$31=\"\",H551=\"\"),\"\",(('3 Irrigation Schedule'!$C$29-'3 Irrigation Schedule'!$C$31)/100)*1000*N551)","v":""},"",{"$f":"IF(H551=\"\",\"\",IF(H551=1,O551*(1-'3 Irrigation Schedule'!$C$27),T550-V550))","v":""},"","","",{"$f":"IF(H551=\"\",\"\",IF('3 Irrigation Schedule'!$P$19<P551,'3 Irrigation Schedule'!$P$19,P551))","v":""},"",{"$f":"IF(H551=\"\",\"\",V551/'3 Irrigation Schedule'!$M$19)","v":""}]
[null,null,null,"2021","August","2021-08-01",null,"","",5.2023999999999999,9.5483870967741968E-2,"",0,"",{"$f":"IF(OR('3 Irrigation Schedule'!$C$29=\"\",'3 Irrigation Schedule'!$C$31=\"\",H552=\"\"),\"\",(('3 Irrigation Schedule'!$C$29-'3 Irrigation Schedule'!$C$31)/100)*1000*N552)","v":""},"",{"$f":"IF(H552=\"\",\"\",IF(H552=1,O552*(1-'3 Irrigation Schedule'!$C$27),T551-V551))","v":""},"","","",{"$f":"IF(H552=\"\",\"\",IF('3 Irrigation Schedule'!$P$19<P552,'3 Irrigation Schedule'!$P$19,P552))","v":""},"",{"$f":"IF(H552=\"\",\"\",V552/'3 Irrigation Schedule'!$M$19)","v":""}]
[null,null,null,"2021","August","2021-08-02",null,"","",5.2023999999999999,9.5483870967741968E-2,"",0,"",{"$f":"IF(OR('3 Irrigation Schedule'!$C$29=\"\",'3 Irrigation Schedule'!$C$31=\"\",H553=\"\"),\"\",(('3 Irrigation Schedule'!$C$29-'3 Irrigation Schedule'!$C$31)/100)*1000*N553)","v":""},"",{"$f":"IF(H553=\"\",\"\",IF(H553=1,O553*(1-'3 Irrigation Schedule'!$C$27),T552-V552))","v":""},"","","",{"$f":"IF(H553=\"\",\"\",IF('3 Irrigation Schedule'!$P$19<P553,'3 Irrigation Schedule'!$P$19,P553))","v":""},"",{"$f":"IF(H553=\"\",\"\",V553/'3 Irrigation Schedule'!$M$19)","v":""}]
[null,null,null,"2021","August","2021-08-03",null,"","",5.2023999999999999,9.5483870967741968E-2,"",0,"",{"$f":"IF(OR('3 Irrigation Schedule'!$C$29=\"\",'3 Irrigation Schedule'!$C$31=\"\",H554=\"\"),\"\",(('3 Irrigation Schedule'!$C$29-'3 Irrigation Schedule'!$C$31)/100)*1000*N554)","v":""},"",{"$f":"IF(H554=\"\",\"\",IF(H554=1,O554*(1-'3 Irrigation Schedule'!$C$27),T553-V553))","v":""},"","","",{"$f":"IF(H554=\"\",\"\",IF('3 Irrigation Schedule'!$P$19<P554,'3 Irrigation Schedule'!$P$19,P554))","v":""},"",{"$f":"IF(H554=\"\",\"\",V554/'3 Irrigation Schedule'!$M$19)","v":""}]
[null,null,null,"2021","August","2021-08-04",null,"","",5.2023999999999999,9.5483870967741968E-2,"",0,"",{"$f":"IF(OR('3 Irrigation Schedule'!$C$29=\"\",'3 Irrigation Schedule'!$C$31=\"\",H555=\"\"),\"\",(('3 Irrigation Schedule'!$C$29-'3 Irrigation Schedule'!$C$31)/100)*1000*N555)","v":""},"",{"$f":"IF(H555=\"\",\"\",IF(H555=1,O555*(1-'3 Irrigation Schedule'!$C$27),T554-V554))","v":""},"","","",{"$f":"IF(H555=\"\",\"\",IF('3 Irrigation Schedule'!$P$19<P555,'3 Irrigation Schedule'!$P$19,P555))","v":""},"",{"$f":"IF(H555=\"\",\"\",V555/'3 Irrigation Schedule'!$M$19)","v":""}]
[null,null,null,"2021","August","2021-08-05",null,"","",5.2023999999999999,9.5483870967741968E-2,"",0,"",{"$f":"IF(OR('3 Irrigation Schedule'!$C$29=\"\",'3 Irrigation Schedule'!$C$31=\"\",H556=\"\"),\"\",(('3 Irrigation Schedule'!$C$29-'3 Irrigation Schedule'!$C$31)/100)*1000*N556)","v":""},"",{"$f":"IF(H556=\"\",\"\",IF(H556=1,O556*(1-'3 Irrigation Schedule'!$C$27),T555-V555))","v":""},"","","",{"$f":"IF(H556=\"\",\"\",IF('3 Irrigation Schedule'!$P$19<P556,'3 Irrigation Schedule'!$P$19,P556))","v":""},"",{"$f":"IF(H556=\"\",\"\",V556/'3 Irrigation Schedule'!$M$19)","v":""}]
[null,null,null,"2021","August","2021-08-06",null,"","",5.2023999999999999,9.5483870967741968E-2,"",0,"",{"$f":"IF(OR('3 Irrigation Schedule'!$C$29=\"\",'3 Irrigation Schedule'!$C$31=\"\",H557=\"\"),\"\",(('3 Irrigation Schedule'!$C$29-'3 Irrigation Schedule'!$C$31)/100)*1000*N557)","v":""},"",{"$f":"IF(H557=\"\",\"\",IF(H557=1,O557*(1-'3 Irrigation Schedule'!$C$27),T556-V556))","v":""},"","","",{"$f":"IF(H557=\"\",\"\",IF('3 Irrigation Schedule'!$P$19<P557,'3 Irrigation Schedule'!$P$19,P557))","v":""},"",{"$f":"IF(H557=\"\",\"\",V557/'3 Irrigation Schedule'!$M$19)","v":""}]
[null,null,null,"2021","August","2021-08-07",null,"","",5.2023999999999999,9.5483870967741968E-2,"",0,"",{"$f":"IF(OR('3 Irrigation Schedule'!$C$29=\"\",'3 Irrigation Schedule'!$C$31=\"\",H558=\"\"),\"\",(('3 Irrigation Schedule'!$C$29-'3 Irrigation Schedule'!$C$31)/100)*1000*N558)","v":""},"",{"$f":"IF(H558=\"\",\"\",IF(H558=1,O558*(1-'3 Irrigation Schedule'!$C$27),T557-V557))","v":""},"","","",{"$f":"IF(H558=\"\",\"\",IF('3 Irrigation Schedule'!$P$19<P558,'3 Irrigation Schedule'!$P$19,P558))","v":""},"",{"$f":"IF(H558=\"\",\"\",V558/'3 Irrigation Schedule'!$M$19)","v":""}]
[null,null,null,"2021","August","2021-08-08",null,"","",5.2023999999999999,9.5483870967741968E-2,"",0,"",{"$f":"IF(OR('3 Irrigation Schedule'!$C$29=\"\",'3 Irrigation Schedule'!$C$31=\"\",H559=\"\"),\"\",(('3 Irrigation Schedule'!$C$29-'3 Irrigation Schedule'!$C$31)/100)*1000*N559)","v":""},"",{"$f":"IF(H559=\"\",\"\",IF(H559=1,O559*(1-'3 Irrigation Schedule'!$C$27),T558-V558))","v":""},"","","",{"$f":"IF(H559=\"\",\"\",IF('3 Irrigation Schedule'!$P$19<P559,'3 Irrigation Schedule'!$P$19,P559))","v":""},"",{"$f":"IF(H559=\"\",\"\",V559/'3 Irrigation Schedule'!$M$19)","v":""}]
[null,null,null,"2021","August","2021-08-09",null,"","",5.2023999999999999,9.5483870967741968E-2,"",0,"",{"$f":"IF(OR('3 Irrigation Schedule'!$C$29=\"\",'3 Irrigation Schedule'!$C$31=\"\",H560=\"\"),\"\",(('3 Irrigation Schedule'!$C$29-'3 Irrigation Schedule'!$C$31)/100)*1000*N560)","v":""},"",{"$f":"IF(H560=\"\",\"\",IF(H560=1,O560*(1-'3 Irrigation Schedule'!$C$27),T559-V559))","v":""},"","","",{"$f":"IF(H560=\"\",\"\",IF('3 Irrigation Schedule'!$P$19<P560,'3 Irrigation Schedule'!$P$19,P560))","v":""},"",{"$f":"IF(H560=\"\",\"\",V560/'3 Irrigation Schedule'!$M$19)","v":""}]
[null,null,null,"2021","August","2021-08-10",null,"","",5.2023999999999999,9.5483870967741968E-2,"",0,"",{"$f":"IF(OR('3 Irrigation Schedule'!$C$29=\"\",'3 Irrigation Schedule'!$C$31=\"\",H561=\"\"),\"\",(('3 Irrigation Schedule'!$C$29-'3 Irrigation Schedule'!$C$31)/100)*1000*N561)","v":""},"",{"$f":"IF(H561=\"\",\"\",IF(H561=1,O561*(1-'3 Irrigation Schedule'!$C$27),T560-V560))","v":""},"","","",{"$f":"IF(H561=\"\",\"\",IF('3 Irrigation Schedule'!$P$19<P561,'3 Irrigation Schedule'!$P$19,P561))","v":""},"",{"$f":"IF(H561=\"\",\"\",V561/'3 Irrigation Schedule'!$M$19)","v":""}]
[null,null,null,"2021","August","2021-08-11",null,"","",5.2023999999999999,9.5483870967741968E-2,"",0,"",{"$f":"IF(OR('3 Irrigation Schedule'!$C$29=\"\",'3 Irrigation Schedule'!$C$31=\"\",H562=\"\"),\"\",(('3 Irrigation Schedule'!$C$29-'3 Irrigation Schedule'!$C$31)/100)*1000*N562)","v":""},"",{"$f":"IF(H562=\"\",\"\",IF(H562=1,O562*(1-'3 Irrigation Schedule'!$C$27),T561-V561))","v":""},"","","",{"$f":"IF(H562=\"\",\"\",IF('3 Irrigation Schedule'!$P$19<P562,'3 Irrigation Schedule'!$P$19,P562))","v":""},"",{"$f":"IF(H562=\"\",\"\",V562/'3 Irrigation Schedule'!$M$19)","v":""}]
[null,null,null,"2021","August","2021-08-12",null,"","",5.2023999999999999,9.5483870967741968E-2,"",0,"",{"$f":"IF(OR('3 Irrigation Schedule'!$C$29=\"\",'3 Irrigation Schedule'!$C$31=\"\",H563=\"\"),\"\",(('3 Irrigation Schedule'!$C$29-'3 Irrigation Schedule'!$C$31)/100)*1000*N563)","v":""},"",{"$f":"IF(H563=\"\",\"\",IF(H563=1,O563*(1-'3 Irrigation Schedule'!$C$27),T562-V562))","v":""},"","","",{"$f":"IF(H563=\"\",\"\",IF('3 Irrigation Schedule'!$P$19<P563,'3 Irrigation Schedule'!$P$19,P563))","v":""},"",{"$f":"IF(H563=\"\",\"\",V563/'3 Irrigation Schedule'!$M$19)","v":""}]
[null,null,null,"2021","August","2021-08-13",null,"","",5.2023999999999999,9.5483870967741968E-2,"",0,"",{"$f":"IF(OR('3 Irrigation Schedule'!$C$29=\"\",'3 Irrigation Schedule'!$C$31=\"\",H564=\"\"),\"\",(('3 Irrigation Schedule'!$C$29-'3 Irrigation Schedule'!$C$31)/100)*1000*N564)","v":""},"",{"$f":"IF(H564=\"\",\"\",IF(H564=1,O564*(1-'3 Irrigation Schedule'!$C$27),T563-V563))","v":""},"","","",{"$f":"IF(H564=\"\",\"\",IF('3 Irrigation Schedule'!$P$19<P564,'3 Irrigation Schedule'!$P$19,P564))","v":""},"",{"$f":"IF(H564=\"\",\"\",V564/'3 Irrigation Schedule'!$M$19)","v":""}]
[null,null,null,"2021","August","2021-08-14",null,"","",5.2023999999999999,9.5483870967741968E-2,"",0,"",{"$f":"IF(OR('3 Irrigation Schedule'!$C$29=\"\",'3 Irrigation Schedule'!$C$31=\"\",H565=\"\"),\"\",(('3 Irrigation Schedule'!$C$29-'3 Irrigation Schedule'!$C$31)/100)*1000*N565)","v":""},"",{"$f":"IF(H565=\"\",\"\",IF(H565=1,O565*(1-'3 Irrigation Schedule'!$C$27),T564-V564))","v":""},"","","",{"$f":"IF(H565=\"\",\"\",IF('3 Irrigation Schedule'!$P$19<P565,'3 Irrigation Schedule'!$P$19,P565))","v":""},"",{"$f":"IF(H565=\"\",\"\",V565/'3 Irrigation Schedule'!$M$19)","v":""}]
[null,null,null,"2021","August","2021-08-15",null,"","",5.2023999999999999,9.5483870967741968E-2,"",0,"",{"$f":"IF(OR('3 Irrigation Schedule'!$C$29=\"\",'3 Irrigation Schedule'!$C$31=\"\",H566=\"\"),\"\",(('3 Irrigation Schedule'!$C$29-'3 Irrigation Schedule'!$C$31)/100)*1000*N566)","v":""},"",{"$f":"IF(H566=\"\",\"\",IF(H566=1,O566*(1-'3 Irrigation Schedule'!$C$27),T565-V565))","v":""},"","","",{"$f":"IF(H566=\"\",\"\",IF('3 Irrigation Schedule'!$P$19<P566,'3 Irrigation Schedule'!$P$19,P566))","v":""},"",{"$f":"IF(H566=\"\",\"\",V566/'3 Irrigation Schedule'!$M$19)","v":""}]
[null,null,null,"2021","August","2021-08-16",null,"","",5.2023999999999999,9.5483870967741968E-2,"",0,"",{"$f":"IF(OR('3 Irrigation Schedule'!$C$29=\"\",'3 Irrigation Schedule'!$C$31=\"\",H567=\"\"),\"\",(('3 Irrigation Schedule'!$C$29-'3 Irrigation Schedule'!$C$31)/100)*1000*N567)","v":""},"",{"$f":"IF(H567=\"\",\"\",IF(H567=1,O567*(1-'3 Irrigation Schedule'!$C$27),T566-V566))","v":""},"","","",{"$f":"IF(H567=\"\",\"\",IF('3 Irrigation Schedule'!$P$19<P567,'3 Irrigation Schedule'!$P$19,P567))","v":""},"",{"$f":"IF(H567=\"\",\"\",V567/'3 Irrigation Schedule'!$M$19)","v":""}]
[null,null,null,"2021","August","2021-08-17",null,"","",5.2023999999999999,9.5483870967741968E-2,"",0,"",{"$f":"IF(OR('3 Irrigation Schedule'!$C$29=\"\",'3 Irrigation Schedule'!$C$31=\"\",H568=\"\"),\"\",(('3 Irrigation Schedule'!$C$29-'3 Irrigation Schedule'!$C$31)/100)*1000*N568)","v":""},"",{"$f":"IF(H568=\"\",\"\",IF(H568=1,O568*(1-'3 Irrigation Schedule'!$C$27),T567-V567))","v":""},"","","",{"$f":"IF(H568=\"\",\"\",IF('3 Irrigation Schedule'!$P$19<P568,'3 Irrigation Schedule'!$P$19,P568))","v":""},"",{"$f":"IF(H568=\"\",\"\",V568/'3 Irrigation Schedule'!$M$19)","v":""}]
[null,null,null,"2021","August","2021-08-18",null,"","",5.2023999999999999,9.5483870967741968E-2,"",0,"",{"$f":"IF(OR('3 Irrigation Schedule'!$C$29=\"\",'3 Irrigation Schedule'!$C$31=\"\",H569=\"\"),\"\",(('3 Irrigation Schedule'!$C$29-'3 Irrigation Schedule'!$C$31)/100)*1000*N569)","v":""},"",{"$f":"IF(H569=\"\",\"\",IF(H569=1,O569*(1-'3 Irrigation Schedule'!$C$27),T568-V568))","v":""},"","","",{"$f":"IF(H569=\"\",\"\",IF('3 Irrigation Schedule'!$P$19<P569,'3 Irrigation Schedule'!$P$19,P569))","v":""},"",{"$f":"IF(H569=\"\",\"\",V569/'3 Irrigation Schedule'!$M$19)","v":""}]
[null,null,null,"2021","August","2021-08-19",null,"","",5.2023999999999999,9.5483870967741968E-2,"",0,"",{"$f":"IF(OR('3 Irrigation Schedule'!$C$29=\"\",'3 Irrigation Schedule'!$C$31=\"\",H570=\"\"),\"\",(('3 Irrigation Schedule'!$C$29-'3 Irrigation Schedule'!$C$31)/100)*1000*N570)","v":""},"",{"$f":"IF(H570=\"\",\"\",IF(H570=1,O570*(1-'3 Irrigation Schedule'!$C$27),T569-V569))","v":""},"","","",{"$f":"IF(H570=\"\",\"\",IF('3 Irrigation Schedule'!$P$19<P570,'3 Irrigation Schedule'!$P$19,P570))","v":""},"",{"$f":"IF(H570=\"\",\"\",V570/'3 Irrigation Schedule'!$M$19)","v":""}]
[null,null,null,"2021","August","2021-08-20",null,"","",5.2023999999999999,9.5483870967741968E-2,"",0,"",{"$f":"IF(OR('3 Irrigation Schedule'!$C$29=\"\",'3 Irrigation Schedule'!$C$31=\"\",H571=\"\"),\"\",(('3 Irrigation Schedule'!$C$29-'3 Irrigation Schedule'!$C$31)/100)*1000*N571)","v":""},"",{"$f":"IF(H571=\"\",\"\",IF(H571=1,O571*(1-'3 Irrigation Schedule'!$C$27),T570-V570))","v":""},"","","",{"$f":"IF(H571=\"\",\"\",IF('3 Irrigation Schedule'!$P$19<P571,'3 Irrigation Schedule'!$P$19,P571))","v":""},"",{"$f":"IF(H571=\"\",\"\",V571/'3 Irrigation Schedule'!$M$19)","v":""}]
[null,null,null,"2021","August","2021-08-21",null,"","",5.2023999999999999,9.5483870967741968E-2,"",0,"",{"$f":"IF(OR('3 Irrigation Schedule'!$C$29=\"\",'3 Irrigation Schedule'!$C$31=\"\",H572=\"\"),\"\",(('3 Irrigation Schedule'!$C$29-'3 Irrigation Schedule'!$C$31)/100)*1000*N572)","v":""},"",{"$f":"IF(H572=\"\",\"\",IF(H572=1,O572*(1-'3 Irrigation Schedule'!$C$27),T571-V571))","v":""},"","","",{"$f":"IF(H572=\"\",\"\",IF('3 Irrigation Schedule'!$P$19<P572,'3 Irrigation Schedule'!$P$19,P572))","v":""},"",{"$f":"IF(H572=\"\",\"\",V572/'3 Irrigation Schedule'!$M$19)","v":""}]
[null,null,null,"2021","August","2021-08-22",null,"","",5.2023999999999999,9.5483870967741968E-2,"",0,"",{"$f":"IF(OR('3 Irrigation Schedule'!$C$29=\"\",'3 Irrigation Schedule'!$C$31=\"\",H573=\"\"),\"\",(('3 Irrigation Schedule'!$C$29-'3 Irrigation Schedule'!$C$31)/100)*1000*N573)","v":""},"",{"$f":"IF(H573=\"\",\"\",IF(H573=1,O573*(1-'3 Irrigation Schedule'!$C$27),T572-V572))","v":""},"","","",{"$f":"IF(H573=\"\",\"\",IF('3 Irrigation Schedule'!$P$19<P573,'3 Irrigation Schedule'!$P$19,P573))","v":""},"",{"$f":"IF(H573=\"\",\"\",V573/'3 Irrigation Schedule'!$M$19)","v":""}]
[null,null,null,"2021","August","2021-08-23",null,"","",5.2023999999999999,9.5483870967741968E-2,"",0,"",{"$f":"IF(OR('3 Irrigation Schedule'!$C$29=\"\",'3 Irrigation Schedule'!$C$31=\"\",H574=\"\"),\"\",(('3 Irrigation Schedule'!$C$29-'3 Irrigation Schedule'!$C$31)/100)*1000*N574)","v":""},"",{"$f":"IF(H574=\"\",\"\",IF(H574=1,O574*(1-'3 Irrigation Schedule'!$C$27),T573-V573))","v":""},"","","",{"$f":"IF(H574=\"\",\"\",IF('3 Irrigation Schedule'!$P$19<P574,'3 Irrigation Schedule'!$P$19,P574))","v":""},"",{"$f":"IF(H574=\"\",\"\",V574/'3 Irrigation Schedule'!$M$19)","v":""}]
[null,null,null,"2021","August","2021-08-24",null,"","",5.2023999999999999,9.5483870967741968E-2,"",0,"",{"$f":"IF(OR('3 Irrigation Schedule'!$C$29=\"\",'3 Irrigation Schedule'!$C$31=\"\",H575=\"\"),\"\",(('3 Irrigation Schedule'!$C$29-'3 Irrigation Schedule'!$C$31)/100)*1000*N575)","v":""},"",{"$f":"IF(H575=\"\",\"\",IF(H575=1,O575*(1-'3 Irrigation Schedule'!$C$27),T574-V574))","v":""},"","","",{"$f":"IF(H575=\"\",\"\",IF('3 Irrigation Schedule'!$P$19<P575,'3 Irrigation Schedule'!$P$19,P575))","v":""},"",{"$f":"IF(H575=\"\",\"\",V575/'3 Irrigation Schedule'!$M$19)","v":""}]
[null,null,null,"2021","August","2021-08-25",null,"","",5.2023999999999999,9.5483870967741968E-2,"",0,"",{"$f":"IF(OR('3 Irrigation Schedule'!$C$29=\"\",'3 Irrigation Schedule'!$C$31=\"\",H576=\"\"),\"\",(('3 Irrigation Schedule'!$C$29-'3 Irrigation Schedule'!$C$31)/100)*1000*N576)","v":""},"",{"$f":"IF(H576=\"\",\"\",IF(H576=1,O576*(1-'3 Irrigation Schedule'!$C$27),T575-V575))","v":""},"","","",{"$f":"IF(H576=\"\",\"\",IF('3 Irrigation Schedule'!$P$19<P576,'3 Irrigation Schedule'!$P$19,P576))","v":""},"",{"$f":"IF(H576=\"\",\"\",V576/'3 Irrigation Schedule'!$M$19)","v":""}]
[null,null,null,"2021","August","2021-08-26",null,"","",5.2023999999999999,9.5483870967741968E-2,"",0,"",{"$f":"IF(OR('3 Irrigation Schedule'!$C$29=\"\",'3 Irrigation Schedule'!$C$31=\"\",H577=\"\"),\"\",(('3 Irrigation Schedule'!$C$29-'3 Irrigation Schedule'!$C$31)/100)*1000*N577)","v":""},"",{"$f":"IF(H577=\"\",\"\",IF(H577=1,O577*(1-'3 Irrigation Schedule'!$C$27),T576-V576))","v":""},"","","",{"$f":"IF(H577=\"\",\"\",IF('3 Irrigation Schedule'!$P$19<P577,'3 Irrigation Schedule'!$P$19,P577))","v":""},"",{"$f":"IF(H577=\"\",\"\",V577/'3 Irrigation Schedule'!$M$19)","v":""}]
[null,null,null,"2021","August","2021-08-27",null,"","",5.2023999999999999,9.5483870967741968E-2,"",0,"",{"$f":"IF(OR('3 Irrigation Schedule'!$C$29=\"\",'3 Irrigation Schedule'!$C$31=\"\",H578=\"\"),\"\",(('3 Irrigation Schedule'!$C$29-'3 Irrigation Schedule'!$C$31)/100)*1000*N578)","v":""},"",{"$f":"IF(H578=\"\",\"\",IF(H578=1,O578*(1-'3 Irrigation Schedule'!$C$27),T577-V577))","v":""},"","","",{"$f":"IF(H578=\"\",\"\",IF('3 Irrigation Schedule'!$P$19<P578,'3 Irrigation Schedule'!$P$19,P578))","v":""},"",{"$f":"IF(H578=\"\",\"\",V578/'3 Irrigation Schedule'!$M$19)","v":""}]
[null,null,null,"2021","August","2021-08-28",null,"","",5.2023999999999999,9.5483870967741968E-2,"",0,"",{"$f":"IF(OR('3 Irrigation Schedule'!$C$29=\"\",'3 Irrigation Schedule'!$C$31=\"\",H579=\"\"),\"\",(('3 Irrigation Schedule'!$C$29-'3 Irrigation Schedule'!$C$31)/100)*1000*N579)","v":""},"",{"$f":"IF(H579=\"\",\"\",IF(H579=1,O579*(1-'3 Irrigation Schedule'!$C$27),T578-V578))","v":""},"","","",{"$f":"IF(H579=\"\",\"\",IF('3 Irrigation Schedule'!$P$19<P579,'3 Irrigation Schedule'!$P$19,P579))","v":""},"",{"$f":"IF(H579=\"\",\"\",V579/'3 Irrigation Schedule'!$M$19)","v":""}]
[null,null,null,"2021","August","2021-08-29",null,"","",5.2023999999999999,9.5483870967741968E-2,"",0,"",{"$f":"IF(OR('3 Irrigation Schedule'!$C$29=\"\",'3 Irrigation Schedule'!$C$31=\"\",H580=\"\"),\"\",(('3 Irrigation Schedule'!$C$29-'3 Irrigation Schedule'!$C$31)/100)*1000*N580)","v":""},"",{"$f":"IF(H580=\"\",\"\",IF(H580=1,O580*(1-'3 Irrigation Schedule'!$C$27),T579-V579))","v":""},"","","",{"$f":"IF(H580=\"\",\"\",IF('3 Irrigation Schedule'!$P$19<P580,'3 Irrigation Schedule'!$P$19,P580))","v":""},"",{"$f":"IF(H580=\"\",\"\",V580/'3 Irrigation Schedule'!$M$19)","v":""}]
[null,null,null,"2021","August","2021-08-30",null,"","",5.2023999999999999,9.5483870967741968E-2,"",0,"",{"$f":"IF(OR('3 Irrigation Schedule'!$C$29=\"\",'3 Irrigation Schedule'!$C$31=\"\",H581=\"\"),\"\",(('3 Irrigation Schedule'!$C$29-'3 Irrigation Schedule'!$C$31)/100)*1000*N581)","v":""},"",{"$f":"IF(H581=\"\",\"\",IF(H581=1,O581*(1-'3 Irrigation Schedule'!$C$27),T580-V580))","v":""},"","","",{"$f":"IF(H581=\"\",\"\",IF('3 Irrigation Schedule'!$P$19<P581,'3 Irrigation Schedule'!$P$19,P581))","v":""},"",{"$f":"IF(H581=\"\",\"\",V581/'3 Irrigation Schedule'!$M$19)","v":""}]
[null,null,null,"2021","August","2021-08-31",null,"","",5.2023999999999999,9.5483870967741968E-2,"",0,"",{"$f":"IF(OR('3 Irrigation Schedule'!$C$29=\"\",'3 Irrigation Schedule'!$C$31=\"\",H582=\"\"),\"\",(('3 Irrigation Schedule'!$C$29-'3 Irrigation Schedule'!$C$31)/100)*1000*N582)","v":""},"",{"$f":"IF(H582=\"\",\"\",IF(H582=1,O582*(1-'3 Irrigation Schedule'!$C$27),T581-V581))","v":""},"","","",{"$f":"IF(H582=\"\",\"\",IF('3 Irrigation Schedule'!$P$19<P582,'3 Irrigation Schedule'!$P$19,P582))","v":""},"",{"$f":"IF(H582=\"\",\"\",V582/'3 Irrigation Schedule'!$M$19)","v":""}]
[null,null,null,"2021","September","2021-09-01",null,"","",5.2796800000000008,3.2666666666666684E-2,"",0,"",{"$f":"IF(OR('3 Irrigation Schedule'!$C$29=\"\",'3 Irrigation Schedule'!$C$31=\"\",H583=\"\"),\"\",(('3 Irrigation Schedule'!$C$29-'3 Irrigation Schedule'!$C$31)/100)*1000*N583)","v":""},"",{"$f":"IF(H583=\"\",\"\",IF(H583=1,O583*(1-'3 Irrigation Schedule'!$C$27),T582-V582))","v":""},"","","",{"$f":"IF(H583=\"\",\"\",IF('3 Irrigation Schedule'!$P$19<P583,'3 Irrigation Schedule'!$P$19,P583))","v":""},"",{"$f":"IF(H583=\"\",\"\",V583/'3 Irrigation Schedule'!$M$19)","v":""}]
[null,null,null,"2021","September","2021-09-02",null,"","",5.2796800000000008,3.2666666666666684E-2,"",0,"",{"$f":"IF(OR('3 Irrigation Schedule'!$C$29=\"\",'3 Irrigation Schedule'!$C$31=\"\",H584=\"\"),\"\",(('3 Irrigation Schedule'!$C$29-'3 Irrigation Schedule'!$C$31)/100)*1000*N584)","v":""},"",{"$f":"IF(H584=\"\",\"\",IF(H584=1,O584*(1-'3 Irrigation Schedule'!$C$27),T583-V583))","v":""},"","","",{"$f":"IF(H584=\"\",\"\",IF('3 Irrigation Schedule'!$P$19<P584,'3 Irrigation Schedule'!$P$19,P584))","v":""},"",{"$f":"IF(H584=\"\",\"\",V584/'3 Irrigation Schedule'!$M$19)","v":""}]
[null,null,null,"2021","September","2021-09-03",null,"","",5.2796800000000008,3.2666666666666684E-2,"",0,"",{"$f":"IF(OR('3 Irrigation Schedule'!$C$29=\"\",'3 Irrigation Schedule'!$C$31=\"\",H585=\"\"),\"\",(('3 Irrigation Schedule'!$C$29-'3 Irrigation Schedule'!$C$31)/100)*1000*N585)","v":""},"",{"$f":"IF(H585=\"\",\"\",IF(H585=1,O585*(1-'3 Irrigation Schedule'!$C$27),T584-V584))","v":""},"","","",{"$f":"IF(H585=\"\",\"\",IF('3 Irrigation Schedule'!$P$19<P585,'3 Irrigation Schedule'!$P$19,P585))","v":""},"",{"$f":"IF(H585=\"\",\"\",V585/'3 Irrigation Schedule'!$M$19)","v":""}]
[null,null,null,"2021","September","2021-09-04",null,"","",5.2796800000000008,3.2666666666666684E-2,"",0,"",{"$f":"IF(OR('3 Irrigation Schedule'!$C$29=\"\",'3 Irrigation Schedule'!$C$31=\"\",H586=\"\"),\"\",(('3 Irrigation Schedule'!$C$29-'3 Irrigation Schedule'!$C$31)/100)*1000*N586)","v":""},"",{"$f":"IF(H586=\"\",\"\",IF(H586=1,O586*(1-'3 Irrigation Schedule'!$C$27),T585-V585))","v":""},"","","",{"$f":"IF(H586=\"\",\"\",IF('3 Irrigation Schedule'!$P$19<P586,'3 Irrigation Schedule'!$P$19,P586))","v":""},"",{"$f":"IF(H586=\"\",\"\",V586/'3 Irrigation Schedule'!$M$19)","v":""}]
[null,null,null,"2021","September","2021-09-05",null,"","",5.2796800000000008,3.2666666666666684E-2,"",0,"",{"$f":"IF(OR('3 Irrigation Schedule'!$C$29=\"\",'3 Irrigation Schedule'!$C$31=\"\",H587=\"\"),\"\",(('3 Irrigation Schedule'!$C$29-'3 Irrigation Schedule'!$C$31)/100)*1000*N587)","v":""},"",{"$f":"IF(H587=\"\",\"\",IF(H587=1,O587*(1-'3 Irrigation Schedule'!$C$27),T586-V586))","v":""},"","","",{"$f":"IF(H587=\"\",\"\",IF('3 Irrigation Schedule'!$P$19<P587,'3 Irrigation Schedule'!$P$19,P587))","v":""},"",{"$f":"IF(H587=\"\",\"\",V587/'3 Irrigation Schedule'!$M$19)","v":""}]
[null,null,null,"2021","September","2021-09-06",null,"","",5.2796800000000008,3.2666666666666684E-2,"",0,"",{"$f":"IF(OR('3 Irrigation Schedule'!$C$29=\"\",'3 Irrigation Schedule'!$C$31=\"\",H588=\"\"),\"\",(('3 Irrigation Schedule'!$C$29-'3 Irrigation Schedule'!$C$31)/100)*1000*N588)","v":""},"",{"$f":"IF(H588=\"\",\"\",IF(H588=1,O588*(1-'3 Irrigation Schedule'!$C$27),T587-V587))","v":""},"","","",{"$f":"IF(H588=\"\",\"\",IF('3 Irrigation Schedule'!$P$19<P588,'3 Irrigation Schedule'!$P$19,P588))","v":""},"",{"$f":"IF(H588=\"\",\"\",V588/'3 Irrigation Schedule'!$M$19)","v":""}]
[null,null,null,"2021","September","2021-09-07",null,"","",5.2796800000000008,3.2666666666666684E-2,"",0,"",{"$f":"IF(OR('3 Irrigation Schedule'!$C$29=\"\",'3 Irrigation Schedule'!$C$31=\"\",H589=\"\"),\"\",(('3 Irrigation Schedule'!$C$29-'3 Irrigation Schedule'!$C$31)/100)*1000*N589)","v":""},"",{"$f":"IF(H589=\"\",\"\",IF(H589=1,O589*(1-'3 Irrigation Schedule'!$C$27),T588-V588))","v":""},"","","",{"$f":"IF(H589=\"\",\"\",IF('3 Irrigation Schedule'!$P$19<P589,'3 Irrigation Schedule'!$P$19,P589))","v":""},"",{"$f":"IF(H589=\"\",\"\",V589/'3 Irrigation Schedule'!$M$19)","v":""}]
[null,null,null,"2021","September","2021-09-08",null,"","",5.2796800000000008,3.2666666666666684E-2,"",0,"",{"$f":"IF(OR('3 Irrigation Schedule'!$C$29=\"\",'3 Irrigation Schedule'!$C$31=\"\",H590=\"\"),\"\",(('3 Irrigation Schedule'!$C$29-'3 Irrigation Schedule'!$C$31)/100)*1000*N590)","v":""},"",{"$f":"IF(H590=\"\",\"\",IF(H590=1,O590*(1-'3 Irrigation Schedule'!$C$27),T589-V589))","v":""},"","","",{"$f":"IF(H590=\"\",\"\",IF('3 Irrigation Schedule'!$P$19<P590,'3 Irrigation Schedule'!$P$19,P590))","v":""},"",{"$f":"IF(H590=\"\",\"\",V590/'3 Irrigation Schedule'!$M$19)","v":""}]
[null,null,null,"2021","September","2021-09-09",null,"","",5.2796800000000008,3.2666666666666684E-2,"",0,"",{"$f":"IF(OR('3 Irrigation Schedule'!$C$29=\"\",'3 Irrigation Schedule'!$C$31=\"\",H591=\"\"),\"\",(('3 Irrigation Schedule'!$C$29-'3 Irrigation Schedule'!$C$31)/100)*1000*N591)","v":""},"",{"$f":"IF(H591=\"\",\"\",IF(H591=1,O591*(1-'3 Irrigation Schedule'!$C$27),T590-V590))","v":""},"","","",{"$f":"IF(H591=\"\",\"\",IF('3 Irrigation Schedule'!$P$19<P591,'3 Irrigation Schedule'!$P$19,P591))","v":""},"",{"$f":"IF(H591=\"\",\"\",V591/'3 Irrigation Schedule'!$M$19)","v":""}]
[null,null,null,"2021","September","2021-09-10",null,"",{"$f":"IF(H592=\"\",\"\",IF(H592<=$I$27,\"Initial\",IF(AND(H592>$I$27,H592<=$I$28),\"Development\",IF(AND(H592>$I$28,H592<=$I$29),\"Mid Season\",\"Late Season\"))))","v":""},5.2796800000000008,3.2666666666666684E-2,"",0,"",{"$f":"IF(OR('3 Irrigation Schedule'!$C$29=\"\",'3 Irrigation Schedule'!$C$31=\"\",H592=\"\"),\"\",(('3 Irrigation Schedule'!$C$29-'3 Irrigation Schedule'!$C$31)/100)*1000*N592)","v":""},"",{"$f":"IF(H592=\"\",\"\",IF(H592=1,O592*(1-'3 Irrigation Schedule'!$C$27),T591-V591))","v":""},"","","",{"$f":"IF(H592=\"\",\"\",IF('3 Irrigation Schedule'!$P$19<P592,'3 Irrigation Schedule'!$P$19,P592))","v":""},"",{"$f":"IF(H592=\"\",\"\",V592/'3 Irrigation Schedule'!$M$19)","v":""}]
[null,null,null,"2021","September","2021-09-11",null,"","",5.2796800000000008,3.2666666666666684E-2,"",0,"",{"$f":"IF(OR('3 Irrigation Schedule'!$C$29=\"\",'3 Irrigation Schedule'!$C$31=\"\",H593=\"\"),\"\",(('3 Irrigation Schedule'!$C$29-'3 Irrigation Schedule'!$C$31)/100)*1000*N593)","v":""},"",{"$f":"IF(H593=\"\",\"\",IF(H593=1,O593*(1-'3 Irrigation Schedule'!$C$27),T592-V592))","v":""},"","","",{"$f":"IF(H593=\"\",\"\",IF('3 Irrigation Schedule'!$P$19<P593,'3 Irrigation Schedule'!$P$19,P593))","v":""},"",{"$f":"IF(H593=\"\",\"\",V593/'3 Irrigation Schedule'!$M$19)","v":""}]
[null,null,null,"2021","September","2021-09-12",null,"","",5.2796800000000008,3.2666666666666684E-2,"",0,"",{"$f":"IF(OR('3 Irrigation Schedule'!$C$29=\"\",'3 Irrigation Schedule'!$C$31=\"\",H594=\"\"),\"\",(('3 Irrigation Schedule'!$C$29-'3 Irrigation Schedule'!$C$31)/100)*1000*N594)","v":""},"",{"$f":"IF(H594=\"\",\"\",IF(H594=1,O594*(1-'3 Irrigation Schedule'!$C$27),T593-V593))","v":""},"","","",{"$f":"IF(H594=\"\",\"\",IF('3 Irrigation Schedule'!$P$19<P594,'3 Irrigation Schedule'!$P$19,P594))","v":""},"",{"$f":"IF(H594=\"\",\"\",V594/'3 Irrigation Schedule'!$M$19)","v":""}]
[null,null,null,"2021","September","2021-09-13",null,"","",5.2796800000000008,3.2666666666666684E-2,"",0,"",{"$f":"IF(OR('3 Irrigation Schedule'!$C$29=\"\",'3 Irrigation Schedule'!$C$31=\"\",H595=\"\"),\"\",(('3 Irrigation Schedule'!$C$29-'3 Irrigation Schedule'!$C$31)/100)*1000*N595)","v":""},"",{"$f":"IF(H595=\"\",\"\",IF(H595=1,O595*(1-'3 Irrigation Schedule'!$C$27),T594-V594))","v":""},"","","",{"$f":"IF(H595=\"\",\"\",IF('3 Irrigation Schedule'!$P$19<P595,'3 Irrigation Schedule'!$P$19,P595))","v":""},"",{"$f":"IF(H595=\"\",\"\",V595/'3 Irrigation Schedule'!$M$19)","v":""}]
[null,null,null,"2021","September","2021-09-14",null,"","",5.2796800000000008,3.2666666666666684E-2,"",0,"",{"$f":"IF(OR('3 Irrigation Schedule'!$C$29=\"\",'3 Irrigation Schedule'!$C$31=\"\",H596=\"\"),\"\",(('3 Irrigation Schedule'!$C$29-'3 Irrigation Schedule'!$C$31)/100)*1000*N596)","v":""},"",{"$f":"IF(H596=\"\",\"\",IF(H596=1,O596*(1-'3 Irrigation Schedule'!$C$27),T595-V595))","v":""},"","","",{"$f":"IF(H596=\"\",\"\",IF('3 Irrigation Schedule'!$P$19<P596,'3 Irrigation Schedule'!$P$19,P596))","v":""},"",{"$f":"IF(H596=\"\",\"\",V596/'3 Irrigation Schedule'!$M$19)","v":""}]
[null,null,null,"2021","September","2021-09-15",null,"","",5.2796800000000008,3.2666666666666684E-2,"",0,"",{"$f":"IF(OR('3 Irrigation Schedule'!$C$29=\"\",'3 Irrigation Schedule'!$C$31=\"\",H597=\"\"),\"\",(('3 Irrigation Schedule'!$C$29-'3 Irrigation Schedule'!$C$31)/100)*1000*N597)","v":""},"",{"$f":"IF(H597=\"\",\"\",IF(H597=1,O597*(1-'3 Irrigation Schedule'!$C$27),T596-V596))","v":""},"","","",{"$f":"IF(H597=\"\",\"\",IF('3 Irrigation Schedule'!$P$19<P597,'3 Irrigation Schedule'!$P$19,P597))","v":""},"",{"$f":"IF(H597=\"\",\"\",V597/'3 Irrigation Schedule'!$M$19)","v":""}]
[null,null,null,"2021","September","2021-09-16",null,"","",5.2796800000000008,3.2666666666666684E-2,"",0,"",{"$f":"IF(OR('3 Irrigation Schedule'!$C$29=\"\",'3 Irrigation Schedule'!$C$31=\"\",H598=\"\"),\"\",(('3 Irrigation Schedule'!$C$29-'3 Irrigation Schedule'!$C$31)/100)*1000*N598)","v":""},"",{"$f":"IF(H598=\"\",\"\",IF(H598=1,O598*(1-'3 Irrigation Schedule'!$C$27),T597-V597))","v":""},"","","",{"$f":"IF(H598=\"\",\"\",IF('3 Irrigation Schedule'!$P$19<P598,'3 Irrigation Schedule'!$P$19,P598))","v":""},"",{"$f":"IF(H598=\"\",\"\",V598/'3 Irrigation Schedule'!$M$19)","v":""}]
[null,null,null,"2021","September","2021-09-17",null,"","",5.2796800000000008,3.2666666666666684E-2,"",0,"",{"$f":"IF(OR('3 Irrigation Schedule'!$C$29=\"\",'3 Irrigation Schedule'!$C$31=\"\",H599=\"\"),\"\",(('3 Irrigation Schedule'!$C$29-'3 Irrigation Schedule'!$C$31)/100)*1000*N599)","v":""},"",{"$f":"IF(H599=\"\",\"\",IF(H599=1,O599*(1-'3 Irrigation Schedule'!$C$27),T598-V598))","v":""},"","","",{"$f":"IF(H599=\"\",\"\",IF('3 Irrigation Schedule'!$P$19<P599,'3 Irrigation Schedule'!$P$19,P599))","v":""},"",{"$f":"IF(H599=\"\",\"\",V599/'3 Irrigation Schedule'!$M$19)","v":""}]
[null,null,null,"2021","September","2021-09-18",null,"","",5.2796800000000008,3.2666666666666684E-2,"",0,"",{"$f":"IF(OR('3 Irrigation Schedule'!$C$29=\"\",'3 Irrigation Schedule'!$C$31=\"\",H600=\"\"),\"\",(('3 Irrigation Schedule'!$C$29-'3 Irrigation Schedule'!$C$31)/100)*1000*N600)","v":""},"",{"$f":"IF(H600=\"\",\"\",IF(H600=1,O600*(1-'3 Irrigation Schedule'!$C$27),T599-V599))","v":""},"","","",{"$f":"IF(H600=\"\",\"\",IF('3 Irrigation Schedule'!$P$19<P600,'3 Irrigation Schedule'!$P$19,P600))","v":""},"",{"$f":"IF(H600=\"\",\"\",V600/'3 Irrigation Schedule'!$M$19)","v":""}]
[null,null,null,"2021","September","2021-09-19",null,"","",5.2796800000000008,3.2666666666666684E-2,"",0,"",{"$f":"IF(OR('3 Irrigation Schedule'!$C$29=\"\",'3 Irrigation Schedule'!$C$31=\"\",H601=\"\"),\"\",(('3 Irrigation Schedule'!$C$29-'3 Irrigation Schedule'!$C$31)/100)*1000*N601)","v":""},"",{"$f":"IF(H601=\"\",\"\",IF(H601=1,O601*(1-'3 Irrigation Schedule'!$C$27),T600-V600))","v":""},"","","",{"$f":"IF(H601=\"\",\"\",IF('3 Irrigation Schedule'!$P$19<P601,'3 Irrigation Schedule'!$P$19,P601))","v":""},"",{"$f":"IF(H601=\"\",\"\",V601/'3 Irrigation Schedule'!$M$19)","v":""}]
[null,null,null,"2021","September","2021-09-20",null,"","",5.2796800000000008,3.2666666666666684E-2,"",0,"",{"$f":"IF(OR('3 Irrigation Schedule'!$C$29=\"\",'3 Irrigation Schedule'!$C$31=\"\",H602=\"\"),\"\",(('3 Irrigation Schedule'!$C$29-'3 Irrigation Schedule'!$C$31)/100)*1000*N602)","v":""},"",{"$f":"IF(H602=\"\",\"\",IF(H602=1,O602*(1-'3 Irrigation Schedule'!$C$27),T601-V601))","v":""},"","","",{"$f":"IF(H602=\"\",\"\",IF('3 Irrigation Schedule'!$P$19<P602,'3 Irrigation Schedule'!$P$19,P602))","v":""},"",{"$f":"IF(H602=\"\",\"\",V602/'3 Irrigation Schedule'!$M$19)","v":""}]
[null,null,null,"2021","September","2021-09-21",null,"","",5.2796800000000008,3.2666666666666684E-2,"",0,"",{"$f":"IF(OR('3 Irrigation Schedule'!$C$29=\"\",'3 Irrigation Schedule'!$C$31=\"\",H603=\"\"),\"\",(('3 Irrigation Schedule'!$C$29-'3 Irrigation Schedule'!$C$31)/100)*1000*N603)","v":""},"",{"$f":"IF(H603=\"\",\"\",IF(H603=1,O603*(1-'3 Irrigation Schedule'!$C$27),T602-V602))","v":""},"","","",{"$f":"IF(H603=\"\",\"\",IF('3 Irrigation Schedule'!$P$19<P603,'3 Irrigation Schedule'!$P$19,P603))","v":""},"",{"$f":"IF(H603=\"\",\"\",V603/'3 Irrigation Schedule'!$M$19)","v":""}]
[null,null,null,"2021","September","2021-09-22",null,"","",5.2796800000000008,3.2666666666666684E-2,"",0,"",{"$f":"IF(OR('3 Irrigation Schedule'!$C$29=\"\",'3 Irrigation Schedule'!$C$31=\"\",H604=\"\"),\"\",(('3 Irrigation Schedule'!$C$29-'3 Irrigation Schedule'!$C$31)/100)*1000*N604)","v":""},"",{"$f":"IF(H604=\"\",\"\",IF(H604=1,O604*(1-'3 Irrigation Schedule'!$C$27),T603-V603))","v":""},"","","",{"$f":"IF(H604=\"\",\"\",IF('3 Irrigation Schedule'!$P$19<P604,'3 Irrigation Schedule'!$P$19,P604))","v":""},"",{"$f":"IF(H604=\"\",\"\",V604/'3 Irrigation Schedule'!$M$19)","v":""}]
[null,null,null,"2021","September","2021-09-23",null,"","",5.2796800000000008,3.2666666666666684E-2,"",0,"",{"$f":"IF(OR('3 Irrigation Schedule'!$C$29=\"\",'3 Irrigation Schedule'!$C$31=\"\",H605=\"\"),\"\",(('3 Irrigation Schedule'!$C$29-'3 Irrigation Schedule'!$C$31)/100)*1000*N605)","v":""},"",{"$f":"IF(H605=\"\",\"\",IF(H605=1,O605*(1-'3 Irrigation Schedule'!$C$27),T604-V604))","v":""},"","","",{"$f":"IF(H605=\"\",\"\",IF('3 Irrigation Schedule'!$P$19<P605,'3 Irrigation Schedule'!$P$19,P605))","v":""},"",{"$f":"IF(H605=\"\",\"\",V605/'3 Irrigation Schedule'!$M$19)","v":""}]
[null,null,null,"2021","September","2021-09-24",null,"","",5.2796800000000008,3.2666666666666684E-2,"",0,"",{"$f":"IF(OR('3 Irrigation Schedule'!$C$29=\"\",'3 Irrigation Schedule'!$C$31=\"\",H606=\"\"),\"\",(('3 Irrigation Schedule'!$C$29-'3 Irrigation Schedule'!$C$31)/100)*1000*N606)","v":""},"",{"$f":"IF(H606=\"\",\"\",IF(H606=1,O606*(1-'3 Irrigation Schedule'!$C$27),T605-V605))","v":""},"","","",{"$f":"IF(H606=\"\",\"\",IF('3 Irrigation Schedule'!$P$19<P606,'3 Irrigation Schedule'!$P$19,P606))","v":""},"",{"$f":"IF(H606=\"\",\"\",V606/'3 Irrigation Schedule'!$M$19)","v":""}]
[null,null,null,"2021","September","2021-09-25",null,"","",5.2796800000000008,3.2666666666666684E-2,"",0,"",{"$f":"IF(OR('3 Irrigation Schedule'!$C$29=\"\",'3 Irrigation Schedule'!$C$31=\"\",H607=\"\"),\"\",(('3 Irrigation Schedule'!$C$29-'3 Irrigation Schedule'!$C$31)/100)*1000*N607)","v":""},"",{"$f":"IF(H607=\"\",\"\",IF(H607=1,O607*(1-'3 Irrigation Schedule'!$C$27),T606-V606))","v":""},"","","",{"$f":"IF(H607=\"\",\"\",IF('3 Irrigation Schedule'!$P$19<P607,'3 Irrigation Schedule'!$P$19,P607))","v":""},"",{"$f":"IF(H607=\"\",\"\",V607/'3 Irrigation Schedule'!$M$19)","v":""}]
[null,null,null,"2021","September","2021-09-26",null,"","",5.2796800000000008,3.2666666666666684E-2,"",0,"",{"$f":"IF(OR('3 Irrigation Schedule'!$C$29=\"\",'3 Irrigation Schedule'!$C$31=\"\",H608=\"\"),\"\",(('3 Irrigation Schedule'!$C$29-'3 Irrigation Schedule'!$C$31)/100)*1000*N608)","v":""},"",{"$f":"IF(H608=\"\",\"\",IF(H608=1,O608*(1-'3 Irrigation Schedule'!$C$27),T607-V607))","v":""},"","","",{"$f":"IF(H608=\"\",\"\",IF('3 Irrigation Schedule'!$P$19<P608,'3 Irrigation Schedule'!$P$19,P608))","v":""},"",{"$f":"IF(H608=\"\",\"\",V608/'3 Irrigation Schedule'!$M$19)","v":""}]
[null,null,null,"2021","September","2021-09-27",null,"","",5.2796800000000008,3.2666666666666684E-2,"",0,"",{"$f":"IF(OR('3 Irrigation Schedule'!$C$29=\"\",'3 Irrigation Schedule'!$C$31=\"\",H609=\"\"),\"\",(('3 Irrigation Schedule'!$C$29-'3 Irrigation Schedule'!$C$31)/100)*1000*N609)","v":""},"",{"$f":"IF(H609=\"\",\"\",IF(H609=1,O609*(1-'3 Irrigation Schedule'!$C$27),T608-V608))","v":""},"","","",{"$f":"IF(H609=\"\",\"\",IF('3 Irrigation Schedule'!$P$19<P609,'3 Irrigation Schedule'!$P$19,P609))","v":""},"",{"$f":"IF(H609=\"\",\"\",V609/'3 Irrigation Schedule'!$M$19)","v":""}]
[null,null,null,{"$f":"IFERROR(TEXT(DATE(YEAR($F610),MONTH($F610),1),$D$7&$D$4),\"\")","v":"2021"},{"$f":"IFERROR(TEXT(DATE(YEAR($F610),MONTH($F610),1),$D$7&$D$5),\"\")","v":"September"},"2021-09-28",null,"","",{"$f":"IFERROR(VLOOKUP($E610,$B$19:$C$30,2,FALSE),\"\")","v":5.2796800000000008},3.2666666666666684E-2,{"$f":"IF(H610=\"\",\"\",IF(H610<=$I$27,$L$27,IF(AND(H610>$I$27,H610<=$I$28),$L$27+((H610-$I$27)/$H$28)*($L$29-$L$27),IF(AND(H610>$I$28,H610<=$I$29),$L$29,$L$29+((H610-$I$29)/$H$30)*($L$30-$L$29)))))","v":""},{"$f":"IFERROR((J610*L610),0)","v":0},{"$f":"IF(H610=\"\",\"\",IF(OR(H610=1,H610<$I$28),$M$27+(($M$28-$M$27)*((H610-1)/($I$28-1))),$M$28))","v":""},{"$f":"IF(OR('3 Irrigation Schedule'!$C$29=\"\",'3 Irrigation Schedule'!$C$31=\"\",H610=\"\"),\"\",(('3 Irrigation Schedule'!$C$29-'3 Irrigation Schedule'!$C$31)/100)*1000*N610)","v":""},{"$f":"IF(H610=\"\",\"\",O610*$N$27)","v":""},{"$f":"IF(H610=\"\",\"\",IF(H610=1,O610*(1-'3 Irrigation Schedule'!$C$27),T609-V609))","v":""},{"$f":"IF(H610=\"\",\"\",IF(Q610>P610,(O610-Q610)/(O610-P610),1))","v":""},{"$f":"IF(H610=\"\",\"\",M610*R610)","v":""},{"$f":"IF(H610=\"\",\"\",IF(Q610+S610-K610<0,0,Q610+S610-K610))","v":""},{"$f":"IF(H610=\"\",\"\",IF('3 Irrigation Schedule'!$P$19<P610,'3 Irrigation Schedule'!$P$19,P610))","v":""},{"$f":"IF(H610=\"\",\"\",IF(U610<=T610,U610,0))","v":""},{"$f":"IF(H610=\"\",\"\",V610/'3 Irrigation Schedule'!$M$19)","v":""}]
[null,null,null,"2021","September",{"$f":"IFERROR(IF(F610+1<=$N$7, F610+1,\"\"),\"\")","v":"2021-09-29"},null,{"$f":"IFERROR(IF(OR($F611-$J$27+1<=0,$F611>$K$30),\"\",$F611-$J$27+1),\"\")","v":""},"",5.2796800000000008,{"$f":"IFERROR(VLOOKUP($E611,$B$19:$D$30,3,FALSE),\"\")","v":3.2666666666666684E-2},"",0,"",{"$f":"IF(OR('3 Irrigation Schedule'!$C$29=\"\",'3 Irrigation Schedule'!$C$31=\"\",H611=\"\"),\"\",(('3 Irrigation Schedule'!$C$29-'3 Irrigation Schedule'!$C$31)/100)*1000*N611)","v":""},"",{"$f":"IF(H611=\"\",\"\",IF(H611=1,O611*(1-'3 Irrigation Schedule'!$C$27),T610-V610))","v":""},"","","",{"$f":"IF(H611=\"\",\"\",IF('3 Irrigation Schedule'!$P$19<P611,'3 Irrigation Schedule'!$P$19,P611))","v":""},"",{"$f":"IF(H611=\"\",\"\",V611/'3 Irrigation Schedule'!$M$19)","v":""}]
[null,null,null,"2021","September","2021-09-30",null,"","",5.2796800000000008,3.2666666666666684E-2,"",0,"",{"$f":"IF(OR('3 Irrigation Schedule'!$C$29=\"\",'3 Irrigation Schedule'!$C$31=\"\",H612=\"\"),\"\",(('3 Irrigation Schedule'!$C$29-'3 Irrigation Schedule'!$C$31)/100)*1000*N612)","v":""},"",{"$f":"IF(H612=\"\",\"\",IF(H612=1,O612*(1-'3 Irrigation Schedule'!$C$27),T611-V611))","v":""},"","","",{"$f":"IF(H612=\"\",\"\",IF('3 Irrigation Schedule'!$P$19<P612,'3 Irrigation Schedule'!$P$19,P612))","v":""},"",{"$f":"IF(H612=\"\",\"\",V612/'3 Irrigation Schedule'!$M$19)","v":""}]
[null,null,null,"2021","October","2021-10-01",null,"","",5.1283799999999999,0.61225806451612896,"",0,"",{"$f":"IF(OR('3 Irrigation Schedule'!$C$29=\"\",'3 Irrigation Schedule'!$C$31=\"\",H613=\"\"),\"\",(('3 Irrigation Schedule'!$C$29-'3 Irrigation Schedule'!$C$31)/100)*1000*N613)","v":""},"",{"$f":"IF(H613=\"\",\"\",IF(H613=1,O613*(1-'3 Irrigation Schedule'!$C$27),T612-V612))","v":""},"","","",{"$f":"IF(H613=\"\",\"\",IF('3 Irrigation Schedule'!$P$19<P613,'3 Irrigation Schedule'!$P$19,P613))","v":""},"",{"$f":"IF(H613=\"\",\"\",V613/'3 Irrigation Schedule'!$M$19)","v":""}]
[null,null,null,"2021","October","2021-10-02",null,"","",5.1283799999999999,0.61225806451612896,"",0,"",{"$f":"IF(OR('3 Irrigation Schedule'!$C$29=\"\",'3 Irrigation Schedule'!$C$31=\"\",H614=\"\"),\"\",(('3 Irrigation Schedule'!$C$29-'3 Irrigation Schedule'!$C$31)/100)*1000*N614)","v":""},"",{"$f":"IF(H614=\"\",\"\",IF(H614=1,O614*(1-'3 Irrigation Schedule'!$C$27),T613-V613))","v":""},"","","",{"$f":"IF(H614=\"\",\"\",IF('3 Irrigation Schedule'!$P$19<P614,'3 Irrigation Schedule'!$P$19,P614))","v":""},"",{"$f":"IF(H614=\"\",\"\",V614/'3 Irrigation Schedule'!$M$19)","v":""}]
[null,null,null,"2021","October","2021-10-03",null,"","",5.1283799999999999,0.61225806451612896,"",0,"",{"$f":"IF(OR('3 Irrigation Schedule'!$C$29=\"\",'3 Irrigation Schedule'!$C$31=\"\",H615=\"\"),\"\",(('3 Irrigation Schedule'!$C$29-'3 Irrigation Schedule'!$C$31)/100)*1000*N615)","v":""},"",{"$f":"IF(H615=\"\",\"\",IF(H615=1,O615*(1-'3 Irrigation Schedule'!$C$27),T614-V614))","v":""},"","","",{"$f":"IF(H615=\"\",\"\",IF('3 Irrigation Schedule'!$P$19<P615,'3 Irrigation Schedule'!$P$19,P615))","v":""},"",{"$f":"IF(H615=\"\",\"\",V615/'3 Irrigation Schedule'!$M$19)","v":""}]
[null,null,null,"2021","October","2021-10-04",null,"","",5.1283799999999999,0.61225806451612896,"",0,"",{"$f":"IF(OR('3 Irrigation Schedule'!$C$29=\"\",'3 Irrigation Schedule'!$C$31=\"\",H616=\"\"),\"\",(('3 Irrigation Schedule'!$C$29-'3 Irrigation Schedule'!$C$31)/100)*1000*N616)","v":""},"",{"$f":"IF(H616=\"\",\"\",IF(H616=1,O616*(1-'3 Irrigation Schedule'!$C$27),T615-V615))","v":""},"","","",{"$f":"IF(H616=\"\",\"\",IF('3 Irrigation Schedule'!$P$19<P616,'3 Irrigation Schedule'!$P$19,P616))","v":""},"",{"$f":"IF(H616=\"\",\"\",V616/'3 Irrigation Schedule'!$M$19)","v":""}]
[null,null,null,"2021","October","2021-10-05",null,"","",5.1283799999999999,0.61225806451612896,"",0,"",{"$f":"IF(OR('3 Irrigation Schedule'!$C$29=\"\",'3 Irrigation Schedule'!$C$31=\"\",H617=\"\"),\"\",(('3 Irrigation Schedule'!$C$29-'3 Irrigation Schedule'!$C$31)/100)*1000*N617)","v":""},"",{"$f":"IF(H617=\"\",\"\",IF(H617=1,O617*(1-'3 Irrigation Schedule'!$C$27),T616-V616))","v":""},"","","",{"$f":"IF(H617=\"\",\"\",IF('3 Irrigation Schedule'!$P$19<P617,'3 Irrigation Schedule'!$P$19,P617))","v":""},"",{"$f":"IF(H617=\"\",\"\",V617/'3 Irrigation Schedule'!$M$19)","v":""}]
[null,null,null,"2021","October","2021-10-06",null,"","",5.1283799999999999,0.61225806451612896,"",0,"",{"$f":"IF(OR('3 Irrigation Schedule'!$C$29=\"\",'3 Irrigation Schedule'!$C$31=\"\",H618=\"\"),\"\",(('3 Irrigation Schedule'!$C$29-'3 Irrigation Schedule'!$C$31)/100)*1000*N618)","v":""},"",{"$f":"IF(H618=\"\",\"\",IF(H618=1,O618*(1-'3 Irrigation Schedule'!$C$27),T617-V617))","v":""},"","","",{"$f":"IF(H618=\"\",\"\",IF('3 Irrigation Schedule'!$P$19<P618,'3 Irrigation Schedule'!$P$19,P618))","v":""},"",{"$f":"IF(H618=\"\",\"\",V618/'3 Irrigation Schedule'!$M$19)","v":""}]
[null,null,null,"2021","October","2021-10-07",null,"","",5.1283799999999999,0.61225806451612896,"",0,"",{"$f":"IF(OR('3 Irrigation Schedule'!$C$29=\"\",'3 Irrigation Schedule'!$C$31=\"\",H619=\"\"),\"\",(('3 Irrigation Schedule'!$C$29-'3 Irrigation Schedule'!$C$31)/100)*1000*N619)","v":""},"",{"$f":"IF(H619=\"\",\"\",IF(H619=1,O619*(1-'3 Irrigation Schedule'!$C$27),T618-V618))","v":""},"","","",{"$f":"IF(H619=\"\",\"\",IF('3 Irrigation Schedule'!$P$19<P619,'3 Irrigation Schedule'!$P$19,P619))","v":""},"",{"$f":"IF(H619=\"\",\"\",V619/'3 Irrigation Schedule'!$M$19)","v":""}]
[null,null,null,"2021","October","2021-10-08",null,"","",5.1283799999999999,0.61225806451612896,"",0,"",{"$f":"IF(OR('3 Irrigation Schedule'!$C$29=\"\",'3 Irrigation Schedule'!$C$31=\"\",H620=\"\"),\"\",(('3 Irrigation Schedule'!$C$29-'3 Irrigation Schedule'!$C$31)/100)*1000*N620)","v":""},"",{"$f":"IF(H620=\"\",\"\",IF(H620=1,O620*(1-'3 Irrigation Schedule'!$C$27),T619-V619))","v":""},"","","",{"$f":"IF(H620=\"\",\"\",IF('3 Irrigation Schedule'!$P$19<P620,'3 Irrigation Schedule'!$P$19,P620))","v":""},"",{"$f":"IF(H620=\"\",\"\",V620/'3 Irrigation Schedule'!$M$19)","v":""}]
[null,null,null,"2021","October","2021-10-09",null,"","",5.1283799999999999,0.61225806451612896,"",0,"",{"$f":"IF(OR('3 Irrigation Schedule'!$C$29=\"\",'3 Irrigation Schedule'!$C$31=\"\",H621=\"\"),\"\",(('3 Irrigation Schedule'!$C$29-'3 Irrigation Schedule'!$C$31)/100)*1000*N621)","v":""},"",{"$f":"IF(H621=\"\",\"\",IF(H621=1,O621*(1-'3 Irrigation Schedule'!$C$27),T620-V620))","v":""},"","","",{"$f":"IF(H621=\"\",\"\",IF('3 Irrigation Schedule'!$P$19<P621,'3 Irrigation Schedule'!$P$19,P621))","v":""},"",{"$f":"IF(H621=\"\",\"\",V621/'3 Irrigation Schedule'!$M$19)","v":""}]
[null,null,null,"2021","October","2021-10-10",null,"","",5.1283799999999999,0.61225806451612896,"",0,"",{"$f":"IF(OR('3 Irrigation Schedule'!$C$29=\"\",'3 Irrigation Schedule'!$C$31=\"\",H622=\"\"),\"\",(('3 Irrigation Schedule'!$C$29-'3 Irrigation Schedule'!$C$31)/100)*1000*N622)","v":""},"",{"$f":"IF(H622=\"\",\"\",IF(H622=1,O622*(1-'3 Irrigation Schedule'!$C$27),T621-V621))","v":""},"","","",{"$f":"IF(H622=\"\",\"\",IF('3 Irrigation Schedule'!$P$19<P622,'3 Irrigation Schedule'!$P$19,P622))","v":""},"",{"$f":"IF(H622=\"\",\"\",V622/'3 Irrigation Schedule'!$M$19)","v":""}]
[null,null,null,"2021","October","2021-10-11",null,"","",5.1283799999999999,0.61225806451612896,"",0,"",{"$f":"IF(OR('3 Irrigation Schedule'!$C$29=\"\",'3 Irrigation Schedule'!$C$31=\"\",H623=\"\"),\"\",(('3 Irrigation Schedule'!$C$29-'3 Irrigation Schedule'!$C$31)/100)*1000*N623)","v":""},"",{"$f":"IF(H623=\"\",\"\",IF(H623=1,O623*(1-'3 Irrigation Schedule'!$C$27),T622-V622))","v":""},"","","",{"$f":"IF(H623=\"\",\"\",IF('3 Irrigation Schedule'!$P$19<P623,'3 Irrigation Schedule'!$P$19,P623))","v":""},"",{"$f":"IF(H623=\"\",\"\",V623/'3 Irrigation Schedule'!$M$19)","v":""}]
[null,null,null,"2021","October","2021-10-12",null,"","",5.1283799999999999,0.61225806451612896,"",0,"",{"$f":"IF(OR('3 Irrigation Schedule'!$C$29=\"\",'3 Irrigation Schedule'!$C$31=\"\",H624=\"\"),\"\",(('3 Irrigation Schedule'!$C$29-'3 Irrigation Schedule'!$C$31)/100)*1000*N624)","v":""},"",{"$f":"IF(H624=\"\",\"\",IF(H624=1,O624*(1-'3 Irrigation Schedule'!$C$27),T623-V623))","v":""},"","","",{"$f":"IF(H624=\"\",\"\",IF('3 Irrigation Schedule'!$P$19<P624,'3 Irrigation Schedule'!$P$19,P624))","v":""},"",{"$f":"IF(H624=\"\",\"\",V624/'3 Irrigation Schedule'!$M$19)","v":""}]
[null,null,null,"2021","October","2021-10-13",null,"","",5.1283799999999999,0.61225806451612896,"",0,"",{"$f":"IF(OR('3 Irrigation Schedule'!$C$29=\"\",'3 Irrigation Schedule'!$C$31=\"\",H625=\"\"),\"\",(('3 Irrigation Schedule'!$C$29-'3 Irrigation Schedule'!$C$31)/100)*1000*N625)","v":""},"",{"$f":"IF(H625=\"\",\"\",IF(H625=1,O625*(1-'3 Irrigation Schedule'!$C$27),T624-V624))","v":""},"","","",{"$f":"IF(H625=\"\",\"\",IF('3 Irrigation Schedule'!$P$19<P625,'3 Irrigation Schedule'!$P$19,P625))","v":""},"",{"$f":"IF(H625=\"\",\"\",V625/'3 Irrigation Schedule'!$M$19)","v":""}]
[null,null,null,"2021","October","2021-10-14",null,"","",5.1283799999999999,0.61225806451612896,"",0,"",{"$f":"IF(OR('3 Irrigation Schedule'!$C$29=\"\",'3 Irrigation Schedule'!$C$31=\"\",H626=\"\"),\"\",(('3 Irrigation Schedule'!$C$29-'3 Irrigation Schedule'!$C$31)/100)*1000*N626)","v":""},"",{"$f":"IF(H626=\"\",\"\",IF(H626=1,O626*(1-'3 Irrigation Schedule'!$C$27),T625-V625))","v":""},"","","",{"$f":"IF(H626=\"\",\"\",IF('3 Irrigation Schedule'!$P$19<P626,'3 Irrigation Schedule'!$P$19,P626))","v":""},"",{"$f":"IF(H626=\"\",\"\",V626/'3 Irrigation Schedule'!$M$19)","v":""}]
[null,null,null,"2021","October","2021-10-15",null,"","",5.1283799999999999,0.61225806451612896,"",0,"",{"$f":"IF(OR('3 Irrigation Schedule'!$C$29=\"\",'3 Irrigation Schedule'!$C$31=\"\",H627=\"\"),\"\",(('3 Irrigation Schedule'!$C$29-'3 Irrigation Schedule'!$C$31)/100)*1000*N627)","v":""},"",{"$f":"IF(H627=\"\",\"\",IF(H627=1,O627*(1-'3 Irrigation Schedule'!$C$27),T626-V626))","v":""},"","","",{"$f":"IF(H627=\"\",\"\",IF('3 Irrigation Schedule'!$P$19<P627,'3 Irrigation Schedule'!$P$19,P627))","v":""},"",{"$f":"IF(H627=\"\",\"\",V627/'3 Irrigation Schedule'!$M$19)","v":""}]
[null,null,null,"2021","October","2021-10-16",null,"","",5.1283799999999999,0.61225806451612896,"",0,"",{"$f":"IF(OR('3 Irrigation Schedule'!$C$29=\"\",'3 Irrigation Schedule'!$C$31=\"\",H628=\"\"),\"\",(('3 Irrigation Schedule'!$C$29-'3 Irrigation Schedule'!$C$31)/100)*1000*N628)","v":""},"",{"$f":"IF(H628=\"\",\"\",IF(H628=1,O628*(1-'3 Irrigation Schedule'!$C$27),T627-V627))","v":""},"","","",{"$f":"IF(H628=\"\",\"\",IF('3 Irrigation Schedule'!$P$19<P628,'3 Irrigation Schedule'!$P$19,P628))","v":""},"",{"$f":"IF(H628=\"\",\"\",V628/'3 Irrigation Schedule'!$M$19)","v":""}]
[null,null,null,"2021","October","2021-10-17",null,"","",5.1283799999999999,0.61225806451612896,"",0,"",{"$f":"IF(OR('3 Irrigation Schedule'!$C$29=\"\",'3 Irrigation Schedule'!$C$31=\"\",H629=\"\"),\"\",(('3 Irrigation Schedule'!$C$29-'3 Irrigation Schedule'!$C$31)/100)*1000*N629)","v":""},"",{"$f":"IF(H629=\"\",\"\",IF(H629=1,O629*(1-'3 Irrigation Schedule'!$C$27),T628-V628))","v":""},"","","",{"$f":"IF(H629=\"\",\"\",IF('3 Irrigation Schedule'!$P$19<P629,'3 Irrigation Schedule'!$P$19,P629))","v":""},"",{"$f":"IF(H629=\"\",\"\",V629/'3 Irrigation Schedule'!$M$19)","v":""}]
[null,null,null,"2021","October","2021-10-18",null,"","",5.1283799999999999,0.61225806451612896,"",0,"",{"$f":"IF(OR('3 Irrigation Schedule'!$C$29=\"\",'3 Irrigation Schedule'!$C$31=\"\",H630=\"\"),\"\",(('3 Irrigation Schedule'!$C$29-'3 Irrigation Schedule'!$C$31)/100)*1000*N630)","v":""},"",{"$f":"IF(H630=\"\",\"\",IF(H630=1,O630*(1-'3 Irrigation Schedule'!$C$27),T629-V629))","v":""},"","","",{"$f":"IF(H630=\"\",\"\",IF('3 Irrigation Schedule'!$P$19<P630,'3 Irrigation Schedule'!$P$19,P630))","v":""},"",{"$f":"IF(H630=\"\",\"\",V630/'3 Irrigation Schedule'!$M$19)","v":""}]
[null,null,null,"2021","October","2021-10-19",null,"","",5.1283799999999999,0.61225806451612896,"",0,"",{"$f":"IF(OR('3 Irrigation Schedule'!$C$29=\"\",'3 Irrigation Schedule'!$C$31=\"\",H631=\"\"),\"\",(('3 Irrigation Schedule'!$C$29-'3 Irrigation Schedule'!$C$31)/100)*1000*N631)","v":""},"",{"$f":"IF(H631=\"\",\"\",IF(H631=1,O631*(1-'3 Irrigation Schedule'!$C$27),T630-V630))","v":""},"","","",{"$f":"IF(H631=\"\",\"\",IF('3 Irrigation Schedule'!$P$19<P631,'3 Irrigation Schedule'!$P$19,P631))","v":""},"",{"$f":"IF(H631=\"\",\"\",V631/'3 Irrigation Schedule'!$M$19)","v":""}]
[null,null,null,"2021","October","2021-10-20",null,"","",5.1283799999999999,0.61225806451612896,"",0,"",{"$f":"IF(OR('3 Irrigation Schedule'!$C$29=\"\",'3 Irrigation Schedule'!$C$31=\"\",H632=\"\"),\"\",(('3 Irrigation Schedule'!$C$29-'3 Irrigation Schedule'!$C$31)/100)*1000*N632)","v":""},"",{"$f":"IF(H632=\"\",\"\",IF(H632=1,O632*(1-'3 Irrigation Schedule'!$C$27),T631-V631))","v":""},"","","",{"$f":"IF(H632=\"\",\"\",IF('3 Irrigation Schedule'!$P$19<P632,'3 Irrigation Schedule'!$P$19,P632))","v":""},"",{"$f":"IF(H632=\"\",\"\",V632/'3 Irrigation Schedule'!$M$19)","v":""}]
[null,null,null,"2021","October","2021-10-21",null,"","",5.1283799999999999,0.61225806451612896,"",0,"",{"$f":"IF(OR('3 Irrigation Schedule'!$C$29=\"\",'3 Irrigation Schedule'!$C$31=\"\",H633=\"\"),\"\",(('3 Irrigation Schedule'!$C$29-'3 Irrigation Schedule'!$C$31)/100)*1000*N633)","v":""},"",{"$f":"IF(H633=\"\",\"\",IF(H633=1,O633*(1-'3 Irrigation Schedule'!$C$27),T632-V632))","v":""},"","","",{"$f":"IF(H633=\"\",\"\",IF('3 Irrigation Schedule'!$P$19<P633,'3 Irrigation Schedule'!$P$19,P633))","v":""},"",{"$f":"IF(H633=\"\",\"\",V633/'3 Irrigation Schedule'!$M$19)","v":""}]
[null,null,null,"2021","October","2021-10-22",null,"","",5.1283799999999999,0.61225806451612896,"",0,"",{"$f":"IF(OR('3 Irrigation Schedule'!$C$29=\"\",'3 Irrigation Schedule'!$C$31=\"\",H634=\"\"),\"\",(('3 Irrigation Schedule'!$C$29-'3 Irrigation Schedule'!$C$31)/100)*1000*N634)","v":""},"",{"$f":"IF(H634=\"\",\"\",IF(H634=1,O634*(1-'3 Irrigation Schedule'!$C$27),T633-V633))","v":""},"","","",{"$f":"IF(H634=\"\",\"\",IF('3 Irrigation Schedule'!$P$19<P634,'3 Irrigation Schedule'!$P$19,P634))","v":""},"",{"$f":"IF(H634=\"\",\"\",V634/'3 Irrigation Schedule'!$M$19)","v":""}]
[null,null,null,"2021","October","2021-10-23",null,"","",5.1283799999999999,0.61225806451612896,"",0,"",{"$f":"IF(OR('3 Irrigation Schedule'!$C$29=\"\",'3 Irrigation Schedule'!$C$31=\"\",H635=\"\"),\"\",(('3 Irrigation Schedule'!$C$29-'3 Irrigation Schedule'!$C$31)/100)*1000*N635)","v":""},"",{"$f":"IF(H635=\"\",\"\",IF(H635=1,O635*(1-'3 Irrigation Schedule'!$C$27),T634-V634))","v":""},"","","",{"$f":"IF(H635=\"\",\"\",IF('3 Irrigation Schedule'!$P$19<P635,'3 Irrigation Schedule'!$P$19,P635))","v":""},"",{"$f":"IF(H635=\"\",\"\",V635/'3 Irrigation Schedule'!$M$19)","v":""}]
[null,null,null,"2021","October","2021-10-24",null,"","",5.1283799999999999,0.61225806451612896,"",0,"",{"$f":"IF(OR('3 Irrigation Schedule'!$C$29=\"\",'3 Irrigation Schedule'!$C$31=\"\",H636=\"\"),\"\",(('3 Irrigation Schedule'!$C$29-'3 Irrigation Schedule'!$C$31)/100)*1000*N636)","v":""},"",{"$f":"IF(H636=\"\",\"\",IF(H636=1,O636*(1-'3 Irrigation Schedule'!$C$27),T635-V635))","v":""},"","","",{"$f":"IF(H636=\"\",\"\",IF('3 Irrigation Schedule'!$P$19<P636,'3 Irrigation Schedule'!$P$19,P636))","v":""},"",{"$f":"IF(H636=\"\",\"\",V636/'3 Irrigation Schedule'!$M$19)","v":""}]
[null,null,null,"2021","October","2021-10-25",null,"","",5.1283799999999999,0.61225806451612896,"",0,"",{"$f":"IF(OR('3 Irrigation Schedule'!$C$29=\"\",'3 Irrigation Schedule'!$C$31=\"\",H637=\"\"),\"\",(('3 Irrigation Schedule'!$C$29-'3 Irrigation Schedule'!$C$31)/100)*1000*N637)","v":""},"",{"$f":"IF(H637=\"\",\"\",IF(H637=1,O637*(1-'3 Irrigation Schedule'!$C$27),T636-V636))","v":""},"","","",{"$f":"IF(H637=\"\",\"\",IF('3 Irrigation Schedule'!$P$19<P637,'3 Irrigation Schedule'!$P$19,P637))","v":""},"",{"$f":"IF(H637=\"\",\"\",V637/'3 Irrigation Schedule'!$M$19)","v":""}]
[null,null,null,"2021","October","2021-10-26",null,"","",5.1283799999999999,0.61225806451612896,"",0,"",{"$f":"IF(OR('3 Irrigation Schedule'!$C$29=\"\",'3 Irrigation Schedule'!$C$31=\"\",H638=\"\"),\"\",(('3 Irrigation Schedule'!$C$29-'3 Irrigation Schedule'!$C$31)/100)*1000*N638)","v":""},"",{"$f":"IF(H638=\"\",\"\",IF(H638=1,O638*(1-'3 Irrigation Schedule'!$C$27),T637-V637))","v":""},"","","",{"$f":"IF(H638=\"\",\"\",IF('3 Irrigation Schedule'!$P$19<P638,'3 Irrigation Schedule'!$P$19,P638))","v":""},"",{"$f":"IF(H638=\"\",\"\",V638/'3 Irrigation Schedule'!$M$19)","v":""}]
[null,null,null,"2021","October","2021-10-27",null,"","",5.1283799999999999,0.61225806451612896,"",0,"",{"$f":"IF(OR('3 Irrigation Schedule'!$C$29=\"\",'3 Irrigation Schedule'!$C$31=\"\",H639=\"\"),\"\",(('3 Irrigation Schedule'!$C$29-'3 Irrigation Schedule'!$C$31)/100)*1000*N639)","v":""},"",{"$f":"IF(H639=\"\",\"\",IF(H639=1,O639*(1-'3 Irrigation Schedule'!$C$27),T638-V638))","v":""},"","","",{"$f":"IF(H639=\"\",\"\",IF('3 Irrigation Schedule'!$P$19<P639,'3 Irrigation Schedule'!$P$19,P639))","v":""},"",{"$f":"IF(H639=\"\",\"\",V639/'3 Irrigation Schedule'!$M$19)","v":""}]
[null,null,null,"2021","October","2021-10-28",null,"","",5.1283799999999999,0.61225806451612896,"",0,"",{"$f":"IF(OR('3 Irrigation Schedule'!$C$29=\"\",'3 Irrigation Schedule'!$C$31=\"\",H640=\"\"),\"\",(('3 Irrigation Schedule'!$C$29-'3 Irrigation Schedule'!$C$31)/100)*1000*N640)","v":""},"",{"$f":"IF(H640=\"\",\"\",IF(H640=1,O640*(1-'3 Irrigation Schedule'!$C$27),T639-V639))","v":""},"","","",{"$f":"IF(H640=\"\",\"\",IF('3 Irrigation Schedule'!$P$19<P640,'3 Irrigation Schedule'!$P$19,P640))","v":""},"",{"$f":"IF(H640=\"\",\"\",V640/'3 Irrigation Schedule'!$M$19)","v":""}]
[null,null,null,"2021","October","2021-10-29",null,"","",5.1283799999999999,0.61225806451612896,"",0,"",{"$f":"IF(OR('3 Irrigation Schedule'!$C$29=\"\",'3 Irrigation Schedule'!$C$31=\"\",H641=\"\"),\"\",(('3 Irrigation Schedule'!$C$29-'3 Irrigation Schedule'!$C$31)/100)*1000*N641)","v":""},"",{"$f":"IF(H641=\"\",\"\",IF(H641=1,O641*(1-'3 Irrigation Schedule'!$C$27),T640-V640))","v":""},"","","",{"$f":"IF(H641=\"\",\"\",IF('3 Irrigation Schedule'!$P$19<P641,'3 Irrigation Schedule'!$P$19,P641))","v":""},"",{"$f":"IF(H641=\"\",\"\",V641/'3 Irrigation Schedule'!$M$19)","v":""}]
[null,null,null,"2021","October","2021-10-30",null,"","",5.1283799999999999,0.61225806451612896,"",0,"",{"$f":"IF(OR('3 Irrigation Schedule'!$C$29=\"\",'3 Irrigation Schedule'!$C$31=\"\",H642=\"\"),\"\",(('3 Irrigation Schedule'!$C$29-'3 Irrigation Schedule'!$C$31)/100)*1000*N642)","v":""},"",{"$f":"IF(H642=\"\",\"\",IF(H642=1,O642*(1-'3 Irrigation Schedule'!$C$27),T641-V641))","v":""},"","","",{"$f":"IF(H642=\"\",\"\",IF('3 Irrigation Schedule'!$P$19<P642,'3 Irrigation Schedule'!$P$19,P642))","v":""},"",{"$f":"IF(H642=\"\",\"\",V642/'3 Irrigation Schedule'!$M$19)","v":""}]
[null,null,null,"2021","October","2021-10-31",null,"","",5.1283799999999999,0.61225806451612896,"",0,"",{"$f":"IF(OR('3 Irrigation Schedule'!$C$29=\"\",'3 Irrigation Schedule'!$C$31=\"\",H643=\"\"),\"\",(('3 Irrigation Schedule'!$C$29-'3 Irrigation Schedule'!$C$31)/100)*1000*N643)","v":""},"",{"$f":"IF(H643=\"\",\"\",IF(H643=1,O643*(1-'3 Irrigation Schedule'!$C$27),T642-V642))","v":""},"","","",{"$f":"IF(H643=\"\",\"\",IF('3 Irrigation Schedule'!$P$19<P643,'3 Irrigation Schedule'!$P$19,P643))","v":""},"",{"$f":"IF(H643=\"\",\"\",V643/'3 Irrigation Schedule'!$M$19)","v":""}]
[null,null,null,"2021","November","2021-11-01",null,"","",5.091120000000001,1.7920000000000003,"",0,"",{"$f":"IF(OR('3 Irrigation Schedule'!$C$29=\"\",'3 Irrigation Schedule'!$C$31=\"\",H644=\"\"),\"\",(('3 Irrigation Schedule'!$C$29-'3 Irrigation Schedule'!$C$31)/100)*1000*N644)","v":""},"",{"$f":"IF(H644=\"\",\"\",IF(H644=1,O644*(1-'3 Irrigation Schedule'!$C$27),T643-V643))","v":""},"","","",{"$f":"IF(H644=\"\",\"\",IF('3 Irrigation Schedule'!$P$19<P644,'3 Irrigation Schedule'!$P$19,P644))","v":""},"",{"$f":"IF(H644=\"\",\"\",V644/'3 Irrigation Schedule'!$M$19)","v":""}]
[null,null,null,"2021","November","2021-11-02",null,"","",5.091120000000001,1.7920000000000003,"",0,"",{"$f":"IF(OR('3 Irrigation Schedule'!$C$29=\"\",'3 Irrigation Schedule'!$C$31=\"\",H645=\"\"),\"\",(('3 Irrigation Schedule'!$C$29-'3 Irrigation Schedule'!$C$31)/100)*1000*N645)","v":""},"",{"$f":"IF(H645=\"\",\"\",IF(H645=1,O645*(1-'3 Irrigation Schedule'!$C$27),T644-V644))","v":""},"","","",{"$f":"IF(H645=\"\",\"\",IF('3 Irrigation Schedule'!$P$19<P645,'3 Irrigation Schedule'!$P$19,P645))","v":""},"",{"$f":"IF(H645=\"\",\"\",V645/'3 Irrigation Schedule'!$M$19)","v":""}]
[null,null,null,"2021","November","2021-11-03",null,"","",5.091120000000001,1.7920000000000003,"",0,"",{"$f":"IF(OR('3 Irrigation Schedule'!$C$29=\"\",'3 Irrigation Schedule'!$C$31=\"\",H646=\"\"),\"\",(('3 Irrigation Schedule'!$C$29-'3 Irrigation Schedule'!$C$31)/100)*1000*N646)","v":""},"",{"$f":"IF(H646=\"\",\"\",IF(H646=1,O646*(1-'3 Irrigation Schedule'!$C$27),T645-V645))","v":""},"","","",{"$f":"IF(H646=\"\",\"\",IF('3 Irrigation Schedule'!$P$19<P646,'3 Irrigation Schedule'!$P$19,P646))","v":""},"",{"$f":"IF(H646=\"\",\"\",V646/'3 Irrigation Schedule'!$M$19)","v":""}]
[null,null,null,"2021","November","2021-11-04",null,"","",5.091120000000001,1.7920000000000003,"",0,"",{"$f":"IF(OR('3 Irrigation Schedule'!$C$29=\"\",'3 Irrigation Schedule'!$C$31=\"\",H647=\"\"),\"\",(('3 Irrigation Schedule'!$C$29-'3 Irrigation Schedule'!$C$31)/100)*1000*N647)","v":""},"",{"$f":"IF(H647=\"\",\"\",IF(H647=1,O647*(1-'3 Irrigation Schedule'!$C$27),T646-V646))","v":""},"","","",{"$f":"IF(H647=\"\",\"\",IF('3 Irrigation Schedule'!$P$19<P647,'3 Irrigation Schedule'!$P$19,P647))","v":""},"",{"$f":"IF(H647=\"\",\"\",V647/'3 Irrigation Schedule'!$M$19)","v":""}]
[null,null,null,"2021","November","2021-11-05",null,"","",5.091120000000001,1.7920000000000003,"",0,"",{"$f":"IF(OR('3 Irrigation Schedule'!$C$29=\"\",'3 Irrigation Schedule'!$C$31=\"\",H648=\"\"),\"\",(('3 Irrigation Schedule'!$C$29-'3 Irrigation Schedule'!$C$31)/100)*1000*N648)","v":""},"",{"$f":"IF(H648=\"\",\"\",IF(H648=1,O648*(1-'3 Irrigation Schedule'!$C$27),T647-V647))","v":""},"","","",{"$f":"IF(H648=\"\",\"\",IF('3 Irrigation Schedule'!$P$19<P648,'3 Irrigation Schedule'!$P$19,P648))","v":""},"",{"$f":"IF(H648=\"\",\"\",V648/'3 Irrigation Schedule'!$M$19)","v":""}]
[null,null,null,"2021","November","2021-11-06",null,"","",5.091120000000001,1.7920000000000003,"",0,"",{"$f":"IF(OR('3 Irrigation Schedule'!$C$29=\"\",'3 Irrigation Schedule'!$C$31=\"\",H649=\"\"),\"\",(('3 Irrigation Schedule'!$C$29-'3 Irrigation Schedule'!$C$31)/100)*1000*N649)","v":""},"",{"$f":"IF(H649=\"\",\"\",IF(H649=1,O649*(1-'3 Irrigation Schedule'!$C$27),T648-V648))","v":""},"","","",{"$f":"IF(H649=\"\",\"\",IF('3 Irrigation Schedule'!$P$19<P649,'3 Irrigation Schedule'!$P$19,P649))","v":""},"",{"$f":"IF(H649=\"\",\"\",V649/'3 Irrigation Schedule'!$M$19)","v":""}]
[null,null,null,"2021","November","2021-11-07",null,"","",5.091120000000001,1.7920000000000003,"",0,"",{"$f":"IF(OR('3 Irrigation Schedule'!$C$29=\"\",'3 Irrigation Schedule'!$C$31=\"\",H650=\"\"),\"\",(('3 Irrigation Schedule'!$C$29-'3 Irrigation Schedule'!$C$31)/100)*1000*N650)","v":""},"",{"$f":"IF(H650=\"\",\"\",IF(H650=1,O650*(1-'3 Irrigation Schedule'!$C$27),T649-V649))","v":""},"","","",{"$f":"IF(H650=\"\",\"\",IF('3 Irrigation Schedule'!$P$19<P650,'3 Irrigation Schedule'!$P$19,P650))","v":""},"",{"$f":"IF(H650=\"\",\"\",V650/'3 Irrigation Schedule'!$M$19)","v":""}]
[null,null,null,"2021","November","2021-11-08",null,"","",5.091120000000001,1.7920000000000003,"",0,"",{"$f":"IF(OR('3 Irrigation Schedule'!$C$29=\"\",'3 Irrigation Schedule'!$C$31=\"\",H651=\"\"),\"\",(('3 Irrigation Schedule'!$C$29-'3 Irrigation Schedule'!$C$31)/100)*1000*N651)","v":""},"",{"$f":"IF(H651=\"\",\"\",IF(H651=1,O651*(1-'3 Irrigation Schedule'!$C$27),T650-V650))","v":""},"","","",{"$f":"IF(H651=\"\",\"\",IF('3 Irrigation Schedule'!$P$19<P651,'3 Irrigation Schedule'!$P$19,P651))","v":""},"",{"$f":"IF(H651=\"\",\"\",V651/'3 Irrigation Schedule'!$M$19)","v":""}]
[null,null,null,"2021","November","2021-11-09",null,"","",5.091120000000001,1.7920000000000003,"",0,"",{"$f":"IF(OR('3 Irrigation Schedule'!$C$29=\"\",'3 Irrigation Schedule'!$C$31=\"\",H652=\"\"),\"\",(('3 Irrigation Schedule'!$C$29-'3 Irrigation Schedule'!$C$31)/100)*1000*N652)","v":""},"",{"$f":"IF(H652=\"\",\"\",IF(H652=1,O652*(1-'3 Irrigation Schedule'!$C$27),T651-V651))","v":""},"","","",{"$f":"IF(H652=\"\",\"\",IF('3 Irrigation Schedule'!$P$19<P652,'3 Irrigation Schedule'!$P$19,P652))","v":""},"",{"$f":"IF(H652=\"\",\"\",V652/'3 Irrigation Schedule'!$M$19)","v":""}]
[null,null,null,"2021","November","2021-11-10",null,"","",5.091120000000001,1.7920000000000003,"",0,"",{"$f":"IF(OR('3 Irrigation Schedule'!$C$29=\"\",'3 Irrigation Schedule'!$C$31=\"\",H653=\"\"),\"\",(('3 Irrigation Schedule'!$C$29-'3 Irrigation Schedule'!$C$31)/100)*1000*N653)","v":""},"",{"$f":"IF(H653=\"\",\"\",IF(H653=1,O653*(1-'3 Irrigation Schedule'!$C$27),T652-V652))","v":""},"","","",{"$f":"IF(H653=\"\",\"\",IF('3 Irrigation Schedule'!$P$19<P653,'3 Irrigation Schedule'!$P$19,P653))","v":""},"",{"$f":"IF(H653=\"\",\"\",V653/'3 Irrigation Schedule'!$M$19)","v":""}]
[null,null,null,"2021","November","2021-11-11",null,"","",5.091120000000001,1.7920000000000003,"",0,"",{"$f":"IF(OR('3 Irrigation Schedule'!$C$29=\"\",'3 Irrigation Schedule'!$C$31=\"\",H654=\"\"),\"\",(('3 Irrigation Schedule'!$C$29-'3 Irrigation Schedule'!$C$31)/100)*1000*N654)","v":""},"",{"$f":"IF(H654=\"\",\"\",IF(H654=1,O654*(1-'3 Irrigation Schedule'!$C$27),T653-V653))","v":""},"","","",{"$f":"IF(H654=\"\",\"\",IF('3 Irrigation Schedule'!$P$19<P654,'3 Irrigation Schedule'!$P$19,P654))","v":""},"",{"$f":"IF(H654=\"\",\"\",V654/'3 Irrigation Schedule'!$M$19)","v":""}]
[null,null,null,"2021","November","2021-11-12",null,"","",5.091120000000001,1.7920000000000003,"",0,"",{"$f":"IF(OR('3 Irrigation Schedule'!$C$29=\"\",'3 Irrigation Schedule'!$C$31=\"\",H655=\"\"),\"\",(('3 Irrigation Schedule'!$C$29-'3 Irrigation Schedule'!$C$31)/100)*1000*N655)","v":""},"",{"$f":"IF(H655=\"\",\"\",IF(H655=1,O655*(1-'3 Irrigation Schedule'!$C$27),T654-V654))","v":""},"","","",{"$f":"IF(H655=\"\",\"\",IF('3 Irrigation Schedule'!$P$19<P655,'3 Irrigation Schedule'!$P$19,P655))","v":""},"",{"$f":"IF(H655=\"\",\"\",V655/'3 Irrigation Schedule'!$M$19)","v":""}]
[null,null,null,"2021","November","2021-11-13",null,"",{"$f":"IF(H656=\"\",\"\",IF(H656<=$I$27,\"Initial\",IF(AND(H656>$I$27,H656<=$I$28),\"Development\",IF(AND(H656>$I$28,H656<=$I$29),\"Mid Season\",\"Late Season\"))))","v":""},5.091120000000001,1.7920000000000003,"",0,"",{"$f":"IF(OR('3 Irrigation Schedule'!$C$29=\"\",'3 Irrigation Schedule'!$C$31=\"\",H656=\"\"),\"\",(('3 Irrigation Schedule'!$C$29-'3 Irrigation Schedule'!$C$31)/100)*1000*N656)","v":""},"",{"$f":"IF(H656=\"\",\"\",IF(H656=1,O656*(1-'3 Irrigation Schedule'!$C$27),T655-V655))","v":""},"","","",{"$f":"IF(H656=\"\",\"\",IF('3 Irrigation Schedule'!$P$19<P656,'3 Irrigation Schedule'!$P$19,P656))","v":""},"",{"$f":"IF(H656=\"\",\"\",V656/'3 Irrigation Schedule'!$M$19)","v":""}]
[null,null,null,"2021","November","2021-11-14",null,"","",5.091120000000001,1.7920000000000003,"",0,"",{"$f":"IF(OR('3 Irrigation Schedule'!$C$29=\"\",'3 Irrigation Schedule'!$C$31=\"\",H657=\"\"),\"\",(('3 Irrigation Schedule'!$C$29-'3 Irrigation Schedule'!$C$31)/100)*1000*N657)","v":""},"",{"$f":"IF(H657=\"\",\"\",IF(H657=1,O657*(1-'3 Irrigation Schedule'!$C$27),T656-V656))","v":""},"","","",{"$f":"IF(H657=\"\",\"\",IF('3 Irrigation Schedule'!$P$19<P657,'3 Irrigation Schedule'!$P$19,P657))","v":""},"",{"$f":"IF(H657=\"\",\"\",V657/'3 Irrigation Schedule'!$M$19)","v":""}]
[null,null,null,"2021","November","2021-11-15",null,"","",5.091120000000001,1.7920000000000003,"",0,"",{"$f":"IF(OR('3 Irrigation Schedule'!$C$29=\"\",'3 Irrigation Schedule'!$C$31=\"\",H658=\"\"),\"\",(('3 Irrigation Schedule'!$C$29-'3 Irrigation Schedule'!$C$31)/100)*1000*N658)","v":""},"",{"$f":"IF(H658=\"\",\"\",IF(H658=1,O658*(1-'3 Irrigation Schedule'!$C$27),T657-V657))","v":""},"","","",{"$f":"IF(H658=\"\",\"\",IF('3 Irrigation Schedule'!$P$19<P658,'3 Irrigation Schedule'!$P$19,P658))","v":""},"",{"$f":"IF(H658=\"\",\"\",V658/'3 Irrigation Schedule'!$M$19)","v":""}]
[null,null,null,"2021","November","2021-11-16",null,"","",5.091120000000001,1.7920000000000003,"",0,"",{"$f":"IF(OR('3 Irrigation Schedule'!$C$29=\"\",'3 Irrigation Schedule'!$C$31=\"\",H659=\"\"),\"\",(('3 Irrigation Schedule'!$C$29-'3 Irrigation Schedule'!$C$31)/100)*1000*N659)","v":""},"",{"$f":"IF(H659=\"\",\"\",IF(H659=1,O659*(1-'3 Irrigation Schedule'!$C$27),T658-V658))","v":""},"","","",{"$f":"IF(H659=\"\",\"\",IF('3 Irrigation Schedule'!$P$19<P659,'3 Irrigation Schedule'!$P$19,P659))","v":""},"",{"$f":"IF(H659=\"\",\"\",V659/'3 Irrigation Schedule'!$M$19)","v":""}]
[null,null,null,"2021","November","2021-11-17",null,"","",5.091120000000001,1.7920000000000003,"",0,"",{"$f":"IF(OR('3 Irrigation Schedule'!$C$29=\"\",'3 Irrigation Schedule'!$C$31=\"\",H660=\"\"),\"\",(('3 Irrigation Schedule'!$C$29-'3 Irrigation Schedule'!$C$31)/100)*1000*N660)","v":""},"",{"$f":"IF(H660=\"\",\"\",IF(H660=1,O660*(1-'3 Irrigation Schedule'!$C$27),T659-V659))","v":""},"","","",{"$f":"IF(H660=\"\",\"\",IF('3 Irrigation Schedule'!$P$19<P660,'3 Irrigation Schedule'!$P$19,P660))","v":""},"",{"$f":"IF(H660=\"\",\"\",V660/'3 Irrigation Schedule'!$M$19)","v":""}]
[null,null,null,"2021","November","2021-11-18",null,"","",5.091120000000001,1.7920000000000003,"",0,"",{"$f":"IF(OR('3 Irrigation Schedule'!$C$29=\"\",'3 Irrigation Schedule'!$C$31=\"\",H661=\"\"),\"\",(('3 Irrigation Schedule'!$C$29-'3 Irrigation Schedule'!$C$31)/100)*1000*N661)","v":""},"",{"$f":"IF(H661=\"\",\"\",IF(H661=1,O661*(1-'3 Irrigation Schedule'!$C$27),T660-V660))","v":""},"","","",{"$f":"IF(H661=\"\",\"\",IF('3 Irrigation Schedule'!$P$19<P661,'3 Irrigation Schedule'!$P$19,P661))","v":""},"",{"$f":"IF(H661=\"\",\"\",V661/'3 Irrigation Schedule'!$M$19)","v":""}]
[null,null,null,"2021","November","2021-11-19",null,"","",5.091120000000001,1.7920000000000003,"",0,"",{"$f":"IF(OR('3 Irrigation Schedule'!$C$29=\"\",'3 Irrigation Schedule'!$C$31=\"\",H662=\"\"),\"\",(('3 Irrigation Schedule'!$C$29-'3 Irrigation Schedule'!$C$31)/100)*1000*N662)","v":""},"",{"$f":"IF(H662=\"\",\"\",IF(H662=1,O662*(1-'3 Irrigation Schedule'!$C$27),T661-V661))","v":""},"","","",{"$f":"IF(H662=\"\",\"\",IF('3 Irrigation Schedule'!$P$19<P662,'3 Irrigation Schedule'!$P$19,P662))","v":""},"",{"$f":"IF(H662=\"\",\"\",V662/'3 Irrigation Schedule'!$M$19)","v":""}]
[null,null,null,"2021","November","2021-11-20",null,"","",5.091120000000001,1.7920000000000003,"",0,"",{"$f":"IF(OR('3 Irrigation Schedule'!$C$29=\"\",'3 Irrigation Schedule'!$C$31=\"\",H663=\"\"),\"\",(('3 Irrigation Schedule'!$C$29-'3 Irrigation Schedule'!$C$31)/100)*1000*N663)","v":""},"",{"$f":"IF(H663=\"\",\"\",IF(H663=1,O663*(1-'3 Irrigation Schedule'!$C$27),T662-V662))","v":""},"","","",{"$f":"IF(H663=\"\",\"\",IF('3 Irrigation Schedule'!$P$19<P663,'3 Irrigation Schedule'!$P$19,P663))","v":""},"",{"$f":"IF(H663=\"\",\"\",V663/'3 Irrigation Schedule'!$M$19)","v":""}]
[null,null,null,"2021","November","2021-11-21",null,"","",5.091120000000001,1.7920000000000003,"",0,"",{"$f":"IF(OR('3 Irrigation Schedule'!$C$29=\"\",'3 Irrigation Schedule'!$C$31=\"\",H664=\"\"),\"\",(('3 Irrigation Schedule'!$C$29-'3 Irrigation Schedule'!$C$31)/100)*1000*N664)","v":""},"",{"$f":"IF(H664=\"\",\"\",IF(H664=1,O664*(1-'3 Irrigation Schedule'!$C$27),T663-V663))","v":""},"","","",{"$f":"IF(H664=\"\",\"\",IF('3 Irrigation Schedule'!$P$19<P664,'3 Irrigation Schedule'!$P$19,P664))","v":""},"",{"$f":"IF(H664=\"\",\"\",V664/'3 Irrigation Schedule'!$M$19)","v":""}]
[null,null,null,"2021","November","2021-11-22",null,"","",5.091120000000001,1.7920000000000003,"",0,"",{"$f":"IF(OR('3 Irrigation Schedule'!$C$29=\"\",'3 Irrigation Schedule'!$C$31=\"\",H665=\"\"),\"\",(('3 Irrigation Schedule'!$C$29-'3 Irrigation Schedule'!$C$31)/100)*1000*N665)","v":""},"",{"$f":"IF(H665=\"\",\"\",IF(H665=1,O665*(1-'3 Irrigation Schedule'!$C$27),T664-V664))","v":""},"","","",{"$f":"IF(H665=\"\",\"\",IF('3 Irrigation Schedule'!$P$19<P665,'3 Irrigation Schedule'!$P$19,P665))","v":""},"",{"$f":"IF(H665=\"\",\"\",V665/'3 Irrigation Schedule'!$M$19)","v":""}]
[null,null,null,"2021","November","2021-11-23",null,"","",5.091120000000001,1.7920000000000003,"",0,"",{"$f":"IF(OR('3 Irrigation Schedule'!$C$29=\"\",'3 Irrigation Schedule'!$C$31=\"\",H666=\"\"),\"\",(('3 Irrigation Schedule'!$C$29-'3 Irrigation Schedule'!$C$31)/100)*1000*N666)","v":""},"",{"$f":"IF(H666=\"\",\"\",IF(H666=1,O666*(1-'3 Irrigation Schedule'!$C$27),T665-V665))","v":""},"","","",{"$f":"IF(H666=\"\",\"\",IF('3 Irrigation Schedule'!$P$19<P666,'3 Irrigation Schedule'!$P$19,P666))","v":""},"",{"$f":"IF(H666=\"\",\"\",V666/'3 Irrigation Schedule'!$M$19)","v":""}]
[null,null,null,"2021","November","2021-11-24",null,"","",5.091120000000001,1.7920000000000003,"",0,"",{"$f":"IF(OR('3 Irrigation Schedule'!$C$29=\"\",'3 Irrigation Schedule'!$C$31=\"\",H667=\"\"),\"\",(('3 Irrigation Schedule'!$C$29-'3 Irrigation Schedule'!$C$31)/100)*1000*N667)","v":""},"",{"$f":"IF(H667=\"\",\"\",IF(H667=1,O667*(1-'3 Irrigation Schedule'!$C$27),T666-V666))","v":""},"","","",{"$f":"IF(H667=\"\",\"\",IF('3 Irrigation Schedule'!$P$19<P667,'3 Irrigation Schedule'!$P$19,P667))","v":""},"",{"$f":"IF(H667=\"\",\"\",V667/'3 Irrigation Schedule'!$M$19)","v":""}]
[null,null,null,"2021","November","2021-11-25",null,"","",5.091120000000001,1.7920000000000003,"",0,"",{"$f":"IF(OR('3 Irrigation Schedule'!$C$29=\"\",'3 Irrigation Schedule'!$C$31=\"\",H668=\"\"),\"\",(('3 Irrigation Schedule'!$C$29-'3 Irrigation Schedule'!$C$31)/100)*1000*N668)","v":""},"",{"$f":"IF(H668=\"\",\"\",IF(H668=1,O668*(1-'3 Irrigation Schedule'!$C$27),T667-V667))","v":""},"","","",{"$f":"IF(H668=\"\",\"\",IF('3 Irrigation Schedule'!$P$19<P668,'3 Irrigation Schedule'!$P$19,P668))","v":""},"",{"$f":"IF(H668=\"\",\"\",V668/'3 Irrigation Schedule'!$M$19)","v":""}]
[null,null,null,"2021","November","2021-11-26",null,"","",5.091120000000001,1.7920000000000003,"",0,"",{"$f":"IF(OR('3 Irrigation Schedule'!$C$29=\"\",'3 Irrigation Schedule'!$C$31=\"\",H669=\"\"),\"\",(('3 Irrigation Schedule'!$C$29-'3 Irrigation Schedule'!$C$31)/100)*1000*N669)","v":""},"",{"$f":"IF(H669=\"\",\"\",IF(H669=1,O669*(1-'3 Irrigation Schedule'!$C$27),T668-V668))","v":""},"","","",{"$f":"IF(H669=\"\",\"\",IF('3 Irrigation Schedule'!$P$19<P669,'3 Irrigation Schedule'!$P$19,P669))","v":""},"",{"$f":"IF(H669=\"\",\"\",V669/'3 Irrigation Schedule'!$M$19)","v":""}]
[null,null,null,"2021","November","2021-11-27",null,"","",5.091120000000001,1.7920000000000003,"",0,"",{"$f":"IF(OR('3 Irrigation Schedule'!$C$29=\"\",'3 Irrigation Schedule'!$C$31=\"\",H670=\"\"),\"\",(('3 Irrigation Schedule'!$C$29-'3 Irrigation Schedule'!$C$31)/100)*1000*N670)","v":""},"",{"$f":"IF(H670=\"\",\"\",IF(H670=1,O670*(1-'3 Irrigation Schedule'!$C$27),T669-V669))","v":""},"","","",{"$f":"IF(H670=\"\",\"\",IF('3 Irrigation Schedule'!$P$19<P670,'3 Irrigation Schedule'!$P$19,P670))","v":""},"",{"$f":"IF(H670=\"\",\"\",V670/'3 Irrigation Schedule'!$M$19)","v":""}]
[null,null,null,"2021","November","2021-11-28",null,"","",5.091120000000001,1.7920000000000003,"",0,"",{"$f":"IF(OR('3 Irrigation Schedule'!$C$29=\"\",'3 Irrigation Schedule'!$C$31=\"\",H671=\"\"),\"\",(('3 Irrigation Schedule'!$C$29-'3 Irrigation Schedule'!$C$31)/100)*1000*N671)","v":""},"",{"$f":"IF(H671=\"\",\"\",IF(H671=1,O671*(1-'3 Irrigation Schedule'!$C$27),T670-V670))","v":""},"","","",{"$f":"IF(H671=\"\",\"\",IF('3 Irrigation Schedule'!$P$19<P671,'3 Irrigation Schedule'!$P$19,P671))","v":""},"",{"$f":"IF(H671=\"\",\"\",V671/'3 Irrigation Schedule'!$M$19)","v":""}]
[null,null,null,"2021","November","2021-11-29",null,"","",5.091120000000001,1.7920000000000003,"",0,"",{"$f":"IF(OR('3 Irrigation Schedule'!$C$29=\"\",'3 Irrigation Schedule'!$C$31=\"\",H672=\"\"),\"\",(('3 Irrigation Schedule'!$C$29-'3 Irrigation Schedule'!$C$31)/100)*1000*N672)","v":""},"",{"$f":"IF(H672=\"\",\"\",IF(H672=1,O672*(1-'3 Irrigation Schedule'!$C$27),T671-V671))","v":""},"","","",{"$f":"IF(H672=\"\",\"\",IF('3 Irrigation Schedule'!$P$19<P672,'3 Irrigation Schedule'!$P$19,P672))","v":""},"",{"$f":"IF(H672=\"\",\"\",V672/'3 Irrigation Schedule'!$M$19)","v":""}]
[null,null,null,"2021","November","2021-11-30",null,"","",5.091120000000001,1.7920000000000003,"",0,"",{"$f":"IF(OR('3 Irrigation Schedule'!$C$29=\"\",'3 Irrigation Schedule'!$C$31=\"\",H673=\"\"),\"\",(('3 Irrigation Schedule'!$C$29-'3 Irrigation Schedule'!$C$31)/100)*1000*N673)","v":""},"",{"$f":"IF(H673=\"\",\"\",IF(H673=1,O673*(1-'3 Irrigation Schedule'!$C$27),T672-V672))","v":""},"","","",{"$f":"IF(H673=\"\",\"\",IF('3 Irrigation Schedule'!$P$19<P673,'3 Irrigation Schedule'!$P$19,P673))","v":""},"",{"$f":"IF(H673=\"\",\"\",V673/'3 Irrigation Schedule'!$M$19)","v":""}]
[null,null,null,{"$f":"IFERROR(TEXT(DATE(YEAR($F674),MONTH($F674),1),$D$7&$D$4),\"\")","v":"2021"},{"$f":"IFERROR(TEXT(DATE(YEAR($F674),MONTH($F674),1),$D$7&$D$5),\"\")","v":"December"},"2021-12-01",null,"","",{"$f":"IFERROR(VLOOKUP($E674,$B$19:$C$30,2,FALSE),\"\")","v":5.1408000000000005},1.4477419354838708,{"$f":"IF(H674=\"\",\"\",IF(H674<=$I$27,$L$27,IF(AND(H674>$I$27,H674<=$I$28),$L$27+((H674-$I$27)/$H$28)*($L$29-$L$27),IF(AND(H674>$I$28,H674<=$I$29),$L$29,$L$29+((H674-$I$29)/$H$30)*($L$30-$L$29)))))","v":""},{"$f":"IFERROR((J674*L674),0)","v":0},{"$f":"IF(H674=\"\",\"\",IF(OR(H674=1,H674<$I$28),$M$27+(($M$28-$M$27)*((H674-1)/($I$28-1))),$M$28))","v":""},{"$f":"IF(OR('3 Irrigation Schedule'!$C$29=\"\",'3 Irrigation Schedule'!$C$31=\"\",H674=\"\"),\"\",(('3 Irrigation Schedule'!$C$29-'3 Irrigation Schedule'!$C$31)/100)*1000*N674)","v":""},{"$f":"IF(H674=\"\",\"\",O674*$N$27)","v":""},{"$f":"IF(H674=\"\",\"\",IF(H674=1,O674*(1-'3 Irrigation Schedule'!$C$27),T673-V673))","v":""},{"$f":"IF(H674=\"\",\"\",IF(Q674>P674,(O674-Q674)/(O674-P674),1))","v":""},{"$f":"IF(H674=\"\",\"\",M674*R674)","v":""},{"$f":"IF(H674=\"\",\"\",IF(Q674+S674-K674<0,0,Q674+S674-K674))","v":""},{"$f":"IF(H674=\"\",\"\",IF('3 Irrigation Schedule'!$P$19<P674,'3 Irrigation Schedule'!$P$19,P674))","v":""},{"$f":"IF(H674=\"\",\"\",IF(U674<=T674,U674,0))","v":""},{"$f":"IF(H674=\"\",\"\",V674/'3 Irrigation Schedule'!$M$19)","v":""}]
[null,null,null,"2021","December",{"$f":"IFERROR(IF(F674+1<=$N$7, F674+1,\"\"),\"\")","v":"2021-12-02"},null,{"$f":"IFERROR(IF(OR($F675-$J$27+1<=0,$F675>$K$30),\"\",$F675-$J$27+1),\"\")","v":""},"",5.1408000000000005,{"$f":"IFERROR(VLOOKUP($E675,$B$19:$D$30,3,FALSE),\"\")","v":1.4477419354838708},"",0,"",{"$f":"IF(OR('3 Irrigation Schedule'!$C$29=\"\",'3 Irrigation Schedule'!$C$31=\"\",H675=\"\"),\"\",(('3 Irrigation Schedule'!$C$29-'3 Irrigation Schedule'!$C$31)/100)*1000*N675)","v":""},"",{"$f":"IF(H675=\"\",\"\",IF(H675=1,O675*(1-'3 Irrigation Schedule'!$C$27),T674-V674))","v":""},"","","",{"$f":"IF(H675=\"\",\"\",IF('3 Irrigation Schedule'!$P$19<P675,'3 Irrigation Schedule'!$P$19,P675))","v":""},"",{"$f":"IF(H675=\"\",\"\",V675/'3 Irrigation Schedule'!$M$19)","v":""}]
[null,null,null,"2021","December","2021-12-03",null,"","",5.1408000000000005,1.4477419354838708,"",0,"",{"$f":"IF(OR('3 Irrigation Schedule'!$C$29=\"\",'3 Irrigation Schedule'!$C$31=\"\",H676=\"\"),\"\",(('3 Irrigation Schedule'!$C$29-'3 Irrigation Schedule'!$C$31)/100)*1000*N676)","v":""},"",{"$f":"IF(H676=\"\",\"\",IF(H676=1,O676*(1-'3 Irrigation Schedule'!$C$27),T675-V675))","v":""},"","","",{"$f":"IF(H676=\"\",\"\",IF('3 Irrigation Schedule'!$P$19<P676,'3 Irrigation Schedule'!$P$19,P676))","v":""},"",{"$f":"IF(H676=\"\",\"\",V676/'3 Irrigation Schedule'!$M$19)","v":""}]
[null,null,null,"2021","December","2021-12-04",null,"","",5.1408000000000005,1.4477419354838708,"",0,"",{"$f":"IF(OR('3 Irrigation Schedule'!$C$29=\"\",'3 Irrigation Schedule'!$C$31=\"\",H677=\"\"),\"\",(('3 Irrigation Schedule'!$C$29-'3 Irrigation Schedule'!$C$31)/100)*1000*N677)","v":""},"",{"$f":"IF(H677=\"\",\"\",IF(H677=1,O677*(1-'3 Irrigation Schedule'!$C$27),T676-V676))","v":""},"","","",{"$f":"IF(H677=\"\",\"\",IF('3 Irrigation Schedule'!$P$19<P677,'3 Irrigation Schedule'!$P$19,P677))","v":""},"",{"$f":"IF(H677=\"\",\"\",V677/'3 Irrigation Schedule'!$M$19)","v":""}]
[null,null,null,"2021","December","2021-12-05",null,"","",5.1408000000000005,1.4477419354838708,"",0,"",{"$f":"IF(OR('3 Irrigation Schedule'!$C$29=\"\",'3 Irrigation Schedule'!$C$31=\"\",H678=\"\"),\"\",(('3 Irrigation Schedule'!$C$29-'3 Irrigation Schedule'!$C$31)/100)*1000*N678)","v":""},"",{"$f":"IF(H678=\"\",\"\",IF(H678=1,O678*(1-'3 Irrigation Schedule'!$C$27),T677-V677))","v":""},"","","",{"$f":"IF(H678=\"\",\"\",IF('3 Irrigation Schedule'!$P$19<P678,'3 Irrigation Schedule'!$P$19,P678))","v":""},"",{"$f":"IF(H678=\"\",\"\",V678/'3 Irrigation Schedule'!$M$19)","v":""}]
[null,null,null,"2021","December","2021-12-06",null,"","",5.1408000000000005,1.4477419354838708,"",0,"",{"$f":"IF(OR('3 Irrigation Schedule'!$C$29=\"\",'3 Irrigation Schedule'!$C$31=\"\",H679=\"\"),\"\",(('3 Irrigation Schedule'!$C$29-'3 Irrigation Schedule'!$C$31)/100)*1000*N679)","v":""},"",{"$f":"IF(H679=\"\",\"\",IF(H679=1,O679*(1-'3 Irrigation Schedule'!$C$27),T678-V678))","v":""},"","","",{"$f":"IF(H679=\"\",\"\",IF('3 Irrigation Schedule'!$P$19<P679,'3 Irrigation Schedule'!$P$19,P679))","v":""},"",{"$f":"IF(H679=\"\",\"\",V679/'3 Irrigation Schedule'!$M$19)","v":""}]
[null,null,null,"2021","December","2021-12-07",null,"","",5.1408000000000005,1.4477419354838708,"",0,"",{"$f":"IF(OR('3 Irrigation Schedule'!$C$29=\"\",'3 Irrigation Schedule'!$C$31=\"\",H680=\"\"),\"\",(('3 Irrigation Schedule'!$C$29-'3 Irrigation Schedule'!$C$31)/100)*1000*N680)","v":""},"",{"$f":"IF(H680=\"\",\"\",IF(H680=1,O680*(1-'3 Irrigation Schedule'!$C$27),T679-V679))","v":""},"","","",{"$f":"IF(H680=\"\",\"\",IF('3 Irrigation Schedule'!$P$19<P680,'3 Irrigation Schedule'!$P$19,P680))","v":""},"",{"$f":"IF(H680=\"\",\"\",V680/'3 Irrigation Schedule'!$M$19)","v":""}]
[null,null,null,"2021","December","2021-12-08",null,"","",5.1408000000000005,1.4477419354838708,"",0,"",{"$f":"IF(OR('3 Irrigation Schedule'!$C$29=\"\",'3 Irrigation Schedule'!$C$31=\"\",H681=\"\"),\"\",(('3 Irrigation Schedule'!$C$29-'3 Irrigation Schedule'!$C$31)/100)*1000*N681)","v":""},"",{"$f":"IF(H681=\"\",\"\",IF(H681=1,O681*(1-'3 Irrigation Schedule'!$C$27),T680-V680))","v":""},"","","",{"$f":"IF(H681=\"\",\"\",IF('3 Irrigation Schedule'!$P$19<P681,'3 Irrigation Schedule'!$P$19,P681))","v":""},"",{"$f":"IF(H681=\"\",\"\",V681/'3 Irrigation Schedule'!$M$19)","v":""}]
[null,null,null,"2021","December","2021-12-09",null,"","",5.1408000000000005,1.4477419354838708,"",0,"",{"$f":"IF(OR('3 Irrigation Schedule'!$C$29=\"\",'3 Irrigation Schedule'!$C$31=\"\",H682=\"\"),\"\",(('3 Irrigation Schedule'!$C$29-'3 Irrigation Schedule'!$C$31)/100)*1000*N682)","v":""},"",{"$f":"IF(H682=\"\",\"\",IF(H682=1,O682*(1-'3 Irrigation Schedule'!$C$27),T681-V681))","v":""},"","","",{"$f":"IF(H682=\"\",\"\",IF('3 Irrigation Schedule'!$P$19<P682,'3 Irrigation Schedule'!$P$19,P682))","v":""},"",{"$f":"IF(H682=\"\",\"\",V682/'3 Irrigation Schedule'!$M$19)","v":""}]
[null,null,null,"2021","December","2021-12-10",null,"","",5.1408000000000005,1.4477419354838708,"",0,"",{"$f":"IF(OR('3 Irrigation Schedule'!$C$29=\"\",'3 Irrigation Schedule'!$C$31=\"\",H683=\"\"),\"\",(('3 Irrigation Schedule'!$C$29-'3 Irrigation Schedule'!$C$31)/100)*1000*N683)","v":""},"",{"$f":"IF(H683=\"\",\"\",IF(H683=1,O683*(1-'3 Irrigation Schedule'!$C$27),T682-V682))","v":""},"","","",{"$f":"IF(H683=\"\",\"\",IF('3 Irrigation Schedule'!$P$19<P683,'3 Irrigation Schedule'!$P$19,P683))","v":""},"",{"$f":"IF(H683=\"\",\"\",V683/'3 Irrigation Schedule'!$M$19)","v":""}]
[null,null,null,"2021","December","2021-12-11",null,"","",5.1408000000000005,1.4477419354838708,"",0,"",{"$f":"IF(OR('3 Irrigation Schedule'!$C$29=\"\",'3 Irrigation Schedule'!$C$31=\"\",H684=\"\"),\"\",(('3 Irrigation Schedule'!$C$29-'3 Irrigation Schedule'!$C$31)/100)*1000*N684)","v":""},"",{"$f":"IF(H684=\"\",\"\",IF(H684=1,O684*(1-'3 Irrigation Schedule'!$C$27),T683-V683))","v":""},"","","",{"$f":"IF(H684=\"\",\"\",IF('3 Irrigation Schedule'!$P$19<P684,'3 Irrigation Schedule'!$P$19,P684))","v":""},"",{"$f":"IF(H684=\"\",\"\",V684/'3 Irrigation Schedule'!$M$19)","v":""}]
[null,null,null,"2021","December","2021-12-12",null,"","",5.1408000000000005,1.4477419354838708,"",0,"",{"$f":"IF(OR('3 Irrigation Schedule'!$C$29=\"\",'3 Irrigation Schedule'!$C$31=\"\",H685=\"\"),\"\",(('3 Irrigation Schedule'!$C$29-'3 Irrigation Schedule'!$C$31)/100)*1000*N685)","v":""},"",{"$f":"IF(H685=\"\",\"\",IF(H685=1,O685*(1-'3 Irrigation Schedule'!$C$27),T684-V684))","v":""},"","","",{"$f":"IF(H685=\"\",\"\",IF('3 Irrigation Schedule'!$P$19<P685,'3 Irrigation Schedule'!$P$19,P685))","v":""},"",{"$f":"IF(H685=\"\",\"\",V685/'3 Irrigation Schedule'!$M$19)","v":""}]
[null,null,null,"2021","December","2021-12-13",null,"","",5.1408000000000005,1.4477419354838708,"",0,"",{"$f":"IF(OR('3 Irrigation Schedule'!$C$29=\"\",'3 Irrigation Schedule'!$C$31=\"\",H686=\"\"),\"\",(('3 Irrigation Schedule'!$C$29-'3 Irrigation Schedule'!$C$31)/100)*1000*N686)","v":""},"",{"$f":"IF(H686=\"\",\"\",IF(H686=1,O686*(1-'3 Irrigation Schedule'!$C$27),T685-V685))","v":""},"","","",{"$f":"IF(H686=\"\",\"\",IF('3 Irrigation Schedule'!$P$19<P686,'3 Irrigation Schedule'!$P$19,P686))","v":""},"",{"$f":"IF(H686=\"\",\"\",V686/'3 Irrigation Schedule'!$M$19)","v":""}]
[null,null,null,"2021","December","2021-12-14",null,"","",5.1408000000000005,1.4477419354838708,"",0,"",{"$f":"IF(OR('3 Irrigation Schedule'!$C$29=\"\",'3 Irrigation Schedule'!$C$31=\"\",H687=\"\"),\"\",(('3 Irrigation Schedule'!$C$29-'3 Irrigation Schedule'!$C$31)/100)*1000*N687)","v":""},"",{"$f":"IF(H687=\"\",\"\",IF(H687=1,O687*(1-'3 Irrigation Schedule'!$C$27),T686-V686))","v":""},"","","",{"$f":"IF(H687=\"\",\"\",IF('3 Irrigation Schedule'!$P$19<P687,'3 Irrigation Schedule'!$P$19,P687))","v":""},"",{"$f":"IF(H687=\"\",\"\",V687/'3 Irrigation Schedule'!$M$19)","v":""}]
[null,null,null,"2021","December","2021-12-15",null,"","",5.1408000000000005,1.4477419354838708,"",0,"",{"$f":"IF(OR('3 Irrigation Schedule'!$C$29=\"\",'3 Irrigation Schedule'!$C$31=\"\",H688=\"\"),\"\",(('3 Irrigation Schedule'!$C$29-'3 Irrigation Schedule'!$C$31)/100)*1000*N688)","v":""},"",{"$f":"IF(H688=\"\",\"\",IF(H688=1,O688*(1-'3 Irrigation Schedule'!$C$27),T687-V687))","v":""},"","","",{"$f":"IF(H688=\"\",\"\",IF('3 Irrigation Schedule'!$P$19<P688,'3 Irrigation Schedule'!$P$19,P688))","v":""},"",{"$f":"IF(H688=\"\",\"\",V688/'3 Irrigation Schedule'!$M$19)","v":""}]
[null,null,null,"2021","December","2021-12-16",null,"","",5.1408000000000005,1.4477419354838708,"",0,"",{"$f":"IF(OR('3 Irrigation Schedule'!$C$29=\"\",'3 Irrigation Schedule'!$C$31=\"\",H689=\"\"),\"\",(('3 Irrigation Schedule'!$C$29-'3 Irrigation Schedule'!$C$31)/100)*1000*N689)","v":""},"",{"$f":"IF(H689=\"\",\"\",IF(H689=1,O689*(1-'3 Irrigation Schedule'!$C$27),T688-V688))","v":""},"","","",{"$f":"IF(H689=\"\",\"\",IF('3 Irrigation Schedule'!$P$19<P689,'3 Irrigation Schedule'!$P$19,P689))","v":""},"",{"$f":"IF(H689=\"\",\"\",V689/'3 Irrigation Schedule'!$M$19)","v":""}]
[null,null,null,"2021","December","2021-12-17",null,"","",5.1408000000000005,1.4477419354838708,"",0,"",{"$f":"IF(OR('3 Irrigation Schedule'!$C$29=\"\",'3 Irrigation Schedule'!$C$31=\"\",H690=\"\"),\"\",(('3 Irrigation Schedule'!$C$29-'3 Irrigation Schedule'!$C$31)/100)*1000*N690)","v":""},"",{"$f":"IF(H690=\"\",\"\",IF(H690=1,O690*(1-'3 Irrigation Schedule'!$C$27),T689-V689))","v":""},"","","",{"$f":"IF(H690=\"\",\"\",IF('3 Irrigation Schedule'!$P$19<P690,'3 Irrigation Schedule'!$P$19,P690))","v":""},"",{"$f":"IF(H690=\"\",\"\",V690/'3 Irrigation Schedule'!$M$19)","v":""}]
[null,null,null,"2021","December","2021-12-18",null,"","",5.1408000000000005,1.4477419354838708,"",0,"",{"$f":"IF(OR('3 Irrigation Schedule'!$C$29=\"\",'3 Irrigation Schedule'!$C$31=\"\",H691=\"\"),\"\",(('3 Irrigation Schedule'!$C$29-'3 Irrigation Schedule'!$C$31)/100)*1000*N691)","v":""},"",{"$f":"IF(H691=\"\",\"\",IF(H691=1,O691*(1-'3 Irrigation Schedule'!$C$27),T690-V690))","v":""},"","","",{"$f":"IF(H691=\"\",\"\",IF('3 Irrigation Schedule'!$P$19<P691,'3 Irrigation Schedule'!$P$19,P691))","v":""},"",{"$f":"IF(H691=\"\",\"\",V691/'3 Irrigation Schedule'!$M$19)","v":""}]
[null,null,null,"2021","December","2021-12-19",null,"","",5.1408000000000005,1.4477419354838708,"",0,"",{"$f":"IF(OR('3 Irrigation Schedule'!$C$29=\"\",'3 Irrigation Schedule'!$C$31=\"\",H692=\"\"),\"\",(('3 Irrigation Schedule'!$C$29-'3 Irrigation Schedule'!$C$31)/100)*1000*N692)","v":""},"",{"$f":"IF(H692=\"\",\"\",IF(H692=1,O692*(1-'3 Irrigation Schedule'!$C$27),T691-V691))","v":""},"","","",{"$f":"IF(H692=\"\",\"\",IF('3 Irrigation Schedule'!$P$19<P692,'3 Irrigation Schedule'!$P$19,P692))","v":""},"",{"$f":"IF(H692=\"\",\"\",V692/'3 Irrigation Schedule'!$M$19)","v":""}]
[null,null,null,"2021","December","2021-12-20",null,"","",5.1408000000000005,1.4477419354838708,"",0,"",{"$f":"IF(OR('3 Irrigation Schedule'!$C$29=\"\",'3 Irrigation Schedule'!$C$31=\"\",H693=\"\"),\"\",(('3 Irrigation Schedule'!$C$29-'3 Irrigation Schedule'!$C$31)/100)*1000*N693)","v":""},"",{"$f":"IF(H693=\"\",\"\",IF(H693=1,O693*(1-'3 Irrigation Schedule'!$C$27),T692-V692))","v":""},"","","",{"$f":"IF(H693=\"\",\"\",IF('3 Irrigation Schedule'!$P$19<P693,'3 Irrigation Schedule'!$P$19,P693))","v":""},"",{"$f":"IF(H693=\"\",\"\",V693/'3 Irrigation Schedule'!$M$19)","v":""}]
[null,null,null,"2021","December","2021-12-21",null,"","",5.1408000000000005,1.4477419354838708,"",0,"",{"$f":"IF(OR('3 Irrigation Schedule'!$C$29=\"\",'3 Irrigation Schedule'!$C$31=\"\",H694=\"\"),\"\",(('3 Irrigation Schedule'!$C$29-'3 Irrigation Schedule'!$C$31)/100)*1000*N694)","v":""},"",{"$f":"IF(H694=\"\",\"\",IF(H694=1,O694*(1-'3 Irrigation Schedule'!$C$27),T693-V693))","v":""},"","","",{"$f":"IF(H694=\"\",\"\",IF('3 Irrigation Schedule'!$P$19<P694,'3 Irrigation Schedule'!$P$19,P694))","v":""},"",{"$f":"IF(H694=\"\",\"\",V694/'3 Irrigation Schedule'!$M$19)","v":""}]
[null,null,null,"2021","December","2021-12-22",null,"","",5.1408000000000005,1.4477419354838708,"",0,"",{"$f":"IF(OR('3 Irrigation Schedule'!$C$29=\"\",'3 Irrigation Schedule'!$C$31=\"\",H695=\"\"),\"\",(('3 Irrigation Schedule'!$C$29-'3 Irrigation Schedule'!$C$31)/100)*1000*N695)","v":""},"",{"$f":"IF(H695=\"\",\"\",IF(H695=1,O695*(1-'3 Irrigation Schedule'!$C$27),T694-V694))","v":""},"","","",{"$f":"IF(H695=\"\",\"\",IF('3 Irrigation Schedule'!$P$19<P695,'3 Irrigation Schedule'!$P$19,P695))","v":""},"",{"$f":"IF(H695=\"\",\"\",V695/'3 Irrigation Schedule'!$M$19)","v":""}]
[null,null,null,"2021","December","2021-12-23",null,"","",5.1408000000000005,1.4477419354838708,"",0,"",{"$f":"IF(OR('3 Irrigation Schedule'!$C$29=\"\",'3 Irrigation Schedule'!$C$31=\"\",H696=\"\"),\"\",(('3 Irrigation Schedule'!$C$29-'3 Irrigation Schedule'!$C$31)/100)*1000*N696)","v":""},"",{"$f":"IF(H696=\"\",\"\",IF(H696=1,O696*(1-'3 Irrigation Schedule'!$C$27),T695-V695))","v":""},"","","",{"$f":"IF(H696=\"\",\"\",IF('3 Irrigation Schedule'!$P$19<P696,'3 Irrigation Schedule'!$P$19,P696))","v":""},"",{"$f":"IF(H696=\"\",\"\",V696/'3 Irrigation Schedule'!$M$19)","v":""}]
[null,null,null,"2021","December","2021-12-24",null,"","",5.1408000000000005,1.4477419354838708,"",0,"",{"$f":"IF(OR('3 Irrigation Schedule'!$C$29=\"\",'3 Irrigation Schedule'!$C$31=\"\",H697=\"\"),\"\",(('3 Irrigation Schedule'!$C$29-'3 Irrigation Schedule'!$C$31)/100)*1000*N697)","v":""},"",{"$f":"IF(H697=\"\",\"\",IF(H697=1,O697*(1-'3 Irrigation Schedule'!$C$27),T696-V696))","v":""},"","","",{"$f":"IF(H697=\"\",\"\",IF('3 Irrigation Schedule'!$P$19<P697,'3 Irrigation Schedule'!$P$19,P697))","v":""},"",{"$f":"IF(H697=\"\",\"\",V697/'3 Irrigation Schedule'!$M$19)","v":""}]
[null,null,null,"2021","December","2021-12-25",null,"","",5.1408000000000005,1.4477419354838708,"",0,"",{"$f":"IF(OR('3 Irrigation Schedule'!$C$29=\"\",'3 Irrigation Schedule'!$C$31=\"\",H698=\"\"),\"\",(('3 Irrigation Schedule'!$C$29-'3 Irrigation Schedule'!$C$31)/100)*1000*N698)","v":""},"",{"$f":"IF(H698=\"\",\"\",IF(H698=1,O698*(1-'3 Irrigation Schedule'!$C$27),T697-V697))","v":""},"","","",{"$f":"IF(H698=\"\",\"\",IF('3 Irrigation Schedule'!$P$19<P698,'3 Irrigation Schedule'!$P$19,P698))","v":""},"",{"$f":"IF(H698=\"\",\"\",V698/'3 Irrigation Schedule'!$M$19)","v":""}]
[null,null,null,"2021","December","2021-12-26",null,"","",5.1408000000000005,1.4477419354838708,"",0,"",{"$f":"IF(OR('3 Irrigation Schedule'!$C$29=\"\",'3 Irrigation Schedule'!$C$31=\"\",H699=\"\"),\"\",(('3 Irrigation Schedule'!$C$29-'3 Irrigation Schedule'!$C$31)/100)*1000*N699)","v":""},"",{"$f":"IF(H699=\"\",\"\",IF(H699=1,O699*(1-'3 Irrigation Schedule'!$C$27),T698-V698))","v":""},"","","",{"$f":"IF(H699=\"\",\"\",IF('3 Irrigation Schedule'!$P$19<P699,'3 Irrigation Schedule'!$P$19,P699))","v":""},"",{"$f":"IF(H699=\"\",\"\",V699/'3 Irrigation Schedule'!$M$19)","v":""}]
[null,null,null,"2021","December","2021-12-27",null,"","",5.1408000000000005,1.4477419354838708,"",0,"",{"$f":"IF(OR('3 Irrigation Schedule'!$C$29=\"\",'3 Irrigation Schedule'!$C$31=\"\",H700=\"\"),\"\",(('3 Irrigation Schedule'!$C$29-'3 Irrigation Schedule'!$C$31)/100)*1000*N700)","v":""},"",{"$f":"IF(H700=\"\",\"\",IF(H700=1,O700*(1-'3 Irrigation Schedule'!$C$27),T699-V699))","v":""},"","","",{"$f":"IF(H700=\"\",\"\",IF('3 Irrigation Schedule'!$P$19<P700,'3 Irrigation Schedule'!$P$19,P700))","v":""},"",{"$f":"IF(H700=\"\",\"\",V700/'3 Irrigation Schedule'!$M$19)","v":""}]
[null,null,null,"2021","December","2021-12-28",null,"","",5.1408000000000005,1.4477419354838708,"",0,"",{"$f":"IF(OR('3 Irrigation Schedule'!$C$29=\"\",'3 Irrigation Schedule'!$C$31=\"\",H701=\"\"),\"\",(('3 Irrigation Schedule'!$C$29-'3 Irrigation Schedule'!$C$31)/100)*1000*N701)","v":""},"",{"$f":"IF(H701=\"\",\"\",IF(H701=1,O701*(1-'3 Irrigation Schedule'!$C$27),T700-V700))","v":""},"","","",{"$f":"IF(H701=\"\",\"\",IF('3 Irrigation Schedule'!$P$19<P701,'3 Irrigation Schedule'!$P$19,P701))","v":""},"",{"$f":"IF(H701=\"\",\"\",V701/'3 Irrigation Schedule'!$M$19)","v":""}]
[null,null,null,"2021","December","2021-12-29",null,"","",5.1408000000000005,1.4477419354838708,"",0,"",{"$f":"IF(OR('3 Irrigation Schedule'!$C$29=\"\",'3 Irrigation Schedule'!$C$31=\"\",H702=\"\"),\"\",(('3 Irrigation Schedule'!$C$29-'3 Irrigation Schedule'!$C$31)/100)*1000*N702)","v":""},"",{"$f":"IF(H702=\"\",\"\",IF(H702=1,O702*(1-'3 Irrigation Schedule'!$C$27),T701-V701))","v":""},"","","",{"$f":"IF(H702=\"\",\"\",IF('3 Irrigation Schedule'!$P$19<P702,'3 Irrigation Schedule'!$P$19,P702))","v":""},"",{"$f":"IF(H702=\"\",\"\",V702/'3 Irrigation Schedule'!$M$19)","v":""}]
[null,null,null,"2021","December","2021-12-30",null,"","",5.1408000000000005,1.4477419354838708,"",0,"",{"$f":"IF(OR('3 Irrigation Schedule'!$C$29=\"\",'3 Irrigation Schedule'!$C$31=\"\",H703=\"\"),\"\",(('3 Irrigation Schedule'!$C$29-'3 Irrigation Schedule'!$C$31)/100)*1000*N703)","v":""},"",{"$f":"IF(H703=\"\",\"\",IF(H703=1,O703*(1-'3 Irrigation Schedule'!$C$27),T702-V702))","v":""},"","","",{"$f":"IF(H703=\"\",\"\",IF('3 Irrigation Schedule'!$P$19<P703,'3 Irrigation Schedule'!$P$19,P703))","v":""},"",{"$f":"IF(H703=\"\",\"\",V703/'3 Irrigation Schedule'!$M$19)","v":""}]
[null,null,null,"2021","December","2021-12-31",null,"","",5.1408000000000005,1.4477419354838708,"",0,"",{"$f":"IF(OR('3 Irrigation Schedule'!$C$29=\"\",'3 Irrigation Schedule'!$C$31=\"\",H704=\"\"),\"\",(('3 Irrigation Schedule'!$C$29-'3 Irrigation Schedule'!$C$31)/100)*1000*N704)","v":""},"",{"$f":"IF(H704=\"\",\"\",IF(H704=1,O704*(1-'3 Irrigation Schedule'!$C$27),T703-V703))","v":""},"","","",{"$f":"IF(H704=\"\",\"\",IF('3 Irrigation Schedule'!$P$19<P704,'3 Irrigation Schedule'!$P$19,P704))","v":""},"",{"$f":"IF(H704=\"\",\"\",V704/'3 Irrigation Schedule'!$M$19)","v":""}]
[null,null,null,"2022","January","2022-01-01",null,"","",5.3271000000000006,0.54838709677419351,"",0,"",{"$f":"IF(OR('3 Irrigation Schedule'!$C$29=\"\",'3 Irrigation Schedule'!$C$31=\"\",H705=\"\"),\"\",(('3 Irrigation Schedule'!$C$29-'3 Irrigation Schedule'!$C$31)/100)*1000*N705)","v":""},"",{"$f":"IF(H705=\"\",\"\",IF(H705=1,O705*(1-'3 Irrigation Schedule'!$C$27),T704-V704))","v":""},"","","",{"$f":"IF(H705=\"\",\"\",IF('3 Irrigation Schedule'!$P$19<P705,'3 Irrigation Schedule'!$P$19,P705))","v":""},"",{"$f":"IF(H705=\"\",\"\",V705/'3 Irrigation Schedule'!$M$19)","v":""}]
[null,null,null,"2022","January","2022-01-02",null,"","",5.3271000000000006,0.54838709677419351,"",0,"",{"$f":"IF(OR('3 Irrigation Schedule'!$C$29=\"\",'3 Irrigation Schedule'!$C$31=\"\",H706=\"\"),\"\",(('3 Irrigation Schedule'!$C$29-'3 Irrigation Schedule'!$C$31)/100)*1000*N706)","v":""},"",{"$f":"IF(H706=\"\",\"\",IF(H706=1,O706*(1-'3 Irrigation Schedule'!$C$27),T705-V705))","v":""},"","","",{"$f":"IF(H706=\"\",\"\",IF('3 Irrigation Schedule'!$P$19<P706,'3 Irrigation Schedule'!$P$19,P706))","v":""},"",{"$f":"IF(H706=\"\",\"\",V706/'3 Irrigation Schedule'!$M$19)","v":""}]
[null,null,null,"2022","January","2022-01-03",null,"","",5.3271000000000006,0.54838709677419351,"",0,"",{"$f":"IF(OR('3 Irrigation Schedule'!$C$29=\"\",'3 Irrigation Schedule'!$C$31=\"\",H707=\"\"),\"\",(('3 Irrigation Schedule'!$C$29-'3 Irrigation Schedule'!$C$31)/100)*1000*N707)","v":""},"",{"$f":"IF(H707=\"\",\"\",IF(H707=1,O707*(1-'3 Irrigation Schedule'!$C$27),T706-V706))","v":""},"","","",{"$f":"IF(H707=\"\",\"\",IF('3 Irrigation Schedule'!$P$19<P707,'3 Irrigation Schedule'!$P$19,P707))","v":""},"",{"$f":"IF(H707=\"\",\"\",V707/'3 Irrigation Schedule'!$M$19)","v":""}]
[null,null,null,"2022","January","2022-01-04",null,"","",5.3271000000000006,0.54838709677419351,"",0,"",{"$f":"IF(OR('3 Irrigation Schedule'!$C$29=\"\",'3 Irrigation Schedule'!$C$31=\"\",H708=\"\"),\"\",(('3 Irrigation Schedule'!$C$29-'3 Irrigation Schedule'!$C$31)/100)*1000*N708)","v":""},"",{"$f":"IF(H708=\"\",\"\",IF(H708=1,O708*(1-'3 Irrigation Schedule'!$C$27),T707-V707))","v":""},"","","",{"$f":"IF(H708=\"\",\"\",IF('3 Irrigation Schedule'!$P$19<P708,'3 Irrigation Schedule'!$P$19,P708))","v":""},"",{"$f":"IF(H708=\"\",\"\",V708/'3 Irrigation Schedule'!$M$19)","v":""}]
[null,null,null,"2022","January","2022-01-05",null,"","",5.3271000000000006,0.54838709677419351,"",0,"",{"$f":"IF(OR('3 Irrigation Schedule'!$C$29=\"\",'3 Irrigation Schedule'!$C$31=\"\",H709=\"\"),\"\",(('3 Irrigation Schedule'!$C$29-'3 Irrigation Schedule'!$C$31)/100)*1000*N709)","v":""},"",{"$f":"IF(H709=\"\",\"\",IF(H709=1,O709*(1-'3 Irrigation Schedule'!$C$27),T708-V708))","v":""},"","","",{"$f":"IF(H709=\"\",\"\",IF('3 Irrigation Schedule'!$P$19<P709,'3 Irrigation Schedule'!$P$19,P709))","v":""},"",{"$f":"IF(H709=\"\",\"\",V709/'3 Irrigation Schedule'!$M$19)","v":""}]
[null,null,null,"2022","January","2022-01-06",null,"","",5.3271000000000006,0.54838709677419351,"",0,"",{"$f":"IF(OR('3 Irrigation Schedule'!$C$29=\"\",'3 Irrigation Schedule'!$C$31=\"\",H710=\"\"),\"\",(('3 Irrigation Schedule'!$C$29-'3 Irrigation Schedule'!$C$31)/100)*1000*N710)","v":""},"",{"$f":"IF(H710=\"\",\"\",IF(H710=1,O710*(1-'3 Irrigation Schedule'!$C$27),T709-V709))","v":""},"","","",{"$f":"IF(H710=\"\",\"\",IF('3 Irrigation Schedule'!$P$19<P710,'3 Irrigation Schedule'!$P$19,P710))","v":""},"",{"$f":"IF(H710=\"\",\"\",V710/'3 Irrigation Schedule'!$M$19)","v":""}]
[null,null,null,"2022","January","2022-01-07",null,"","",5.3271000000000006,0.54838709677419351,"",0,"",{"$f":"IF(OR('3 Irrigation Schedule'!$C$29=\"\",'3 Irrigation Schedule'!$C$31=\"\",H711=\"\"),\"\",(('3 Irrigation Schedule'!$C$29-'3 Irrigation Schedule'!$C$31)/100)*1000*N711)","v":""},"",{"$f":"IF(H711=\"\",\"\",IF(H711=1,O711*(1-'3 Irrigation Schedule'!$C$27),T710-V710))","v":""},"","","",{"$f":"IF(H711=\"\",\"\",IF('3 Irrigation Schedule'!$P$19<P711,'3 Irrigation Schedule'!$P$19,P711))","v":""},"",{"$f":"IF(H711=\"\",\"\",V711/'3 Irrigation Schedule'!$M$19)","v":""}]
[null,null,null,"2022","January","2022-01-08",null,"","",5.3271000000000006,0.54838709677419351,"",0,"",{"$f":"IF(OR('3 Irrigation Schedule'!$C$29=\"\",'3 Irrigation Schedule'!$C$31=\"\",H712=\"\"),\"\",(('3 Irrigation Schedule'!$C$29-'3 Irrigation Schedule'!$C$31)/100)*1000*N712)","v":""},"",{"$f":"IF(H712=\"\",\"\",IF(H712=1,O712*(1-'3 Irrigation Schedule'!$C$27),T711-V711))","v":""},"","","",{"$f":"IF(H712=\"\",\"\",IF('3 Irrigation Schedule'!$P$19<P712,'3 Irrigation Schedule'!$P$19,P712))","v":""},"",{"$f":"IF(H712=\"\",\"\",V712/'3 Irrigation Schedule'!$M$19)","v":""}]
[null,null,null,"2022","January","2022-01-09",null,"","",5.3271000000000006,0.54838709677419351,"",0,"",{"$f":"IF(OR('3 Irrigation Schedule'!$C$29=\"\",'3 Irrigation Schedule'!$C$31=\"\",H713=\"\"),\"\",(('3 Irrigation Schedule'!$C$29-'3 Irrigation Schedule'!$C$31)/100)*1000*N713)","v":""},"",{"$f":"IF(H713=\"\",\"\",IF(H713=1,O713*(1-'3 Irrigation Schedule'!$C$27),T712-V712))","v":""},"","","",{"$f":"IF(H713=\"\",\"\",IF('3 Irrigation Schedule'!$P$19<P713,'3 Irrigation Schedule'!$P$19,P713))","v":""},"",{"$f":"IF(H713=\"\",\"\",V713/'3 Irrigation Schedule'!$M$19)","v":""}]
[null,null,null,"2022","January","2022-01-10",null,"","",5.3271000000000006,0.54838709677419351,"",0,"",{"$f":"IF(OR('3 Irrigation Schedule'!$C$29=\"\",'3 Irrigation Schedule'!$C$31=\"\",H714=\"\"),\"\",(('3 Irrigation Schedule'!$C$29-'3 Irrigation Schedule'!$C$31)/100)*1000*N714)","v":""},"",{"$f":"IF(H714=\"\",\"\",IF(H714=1,O714*(1-'3 Irrigation Schedule'!$C$27),T713-V713))","v":""},"","","",{"$f":"IF(H714=\"\",\"\",IF('3 Irrigation Schedule'!$P$19<P714,'3 Irrigation Schedule'!$P$19,P714))","v":""},"",{"$f":"IF(H714=\"\",\"\",V714/'3 Irrigation Schedule'!$M$19)","v":""}]
[null,null,null,"2022","January","2022-01-11",null,"","",5.3271000000000006,0.54838709677419351,"",0,"",{"$f":"IF(OR('3 Irrigation Schedule'!$C$29=\"\",'3 Irrigation Schedule'!$C$31=\"\",H715=\"\"),\"\",(('3 Irrigation Schedule'!$C$29-'3 Irrigation Schedule'!$C$31)/100)*1000*N715)","v":""},"",{"$f":"IF(H715=\"\",\"\",IF(H715=1,O715*(1-'3 Irrigation Schedule'!$C$27),T714-V714))","v":""},"","","",{"$f":"IF(H715=\"\",\"\",IF('3 Irrigation Schedule'!$P$19<P715,'3 Irrigation Schedule'!$P$19,P715))","v":""},"",{"$f":"IF(H715=\"\",\"\",V715/'3 Irrigation Schedule'!$M$19)","v":""}]
[null,null,null,"2022","January","2022-01-12",null,"","",5.3271000000000006,0.54838709677419351,"",0,"",{"$f":"IF(OR('3 Irrigation Schedule'!$C$29=\"\",'3 Irrigation Schedule'!$C$31=\"\",H716=\"\"),\"\",(('3 Irrigation Schedule'!$C$29-'3 Irrigation Schedule'!$C$31)/100)*1000*N716)","v":""},"",{"$f":"IF(H716=\"\",\"\",IF(H716=1,O716*(1-'3 Irrigation Schedule'!$C$27),T715-V715))","v":""},"","","",{"$f":"IF(H716=\"\",\"\",IF('3 Irrigation Schedule'!$P$19<P716,'3 Irrigation Schedule'!$P$19,P716))","v":""},"",{"$f":"IF(H716=\"\",\"\",V716/'3 Irrigation Schedule'!$M$19)","v":""}]
[null,null,null,"2022","January","2022-01-13",null,"","",5.3271000000000006,0.54838709677419351,"",0,"",{"$f":"IF(OR('3 Irrigation Schedule'!$C$29=\"\",'3 Irrigation Schedule'!$C$31=\"\",H717=\"\"),\"\",(('3 Irrigation Schedule'!$C$29-'3 Irrigation Schedule'!$C$31)/100)*1000*N717)","v":""},"",{"$f":"IF(H717=\"\",\"\",IF(H717=1,O717*(1-'3 Irrigation Schedule'!$C$27),T716-V716))","v":""},"","","",{"$f":"IF(H717=\"\",\"\",IF('3 Irrigation Schedule'!$P$19<P717,'3 Irrigation Schedule'!$P$19,P717))","v":""},"",{"$f":"IF(H717=\"\",\"\",V717/'3 Irrigation Schedule'!$M$19)","v":""}]
[null,null,null,"2022","January","2022-01-14",null,"","",5.3271000000000006,0.54838709677419351,"",0,"",{"$f":"IF(OR('3 Irrigation Schedule'!$C$29=\"\",'3 Irrigation Schedule'!$C$31=\"\",H718=\"\"),\"\",(('3 Irrigation Schedule'!$C$29-'3 Irrigation Schedule'!$C$31)/100)*1000*N718)","v":""},"",{"$f":"IF(H718=\"\",\"\",IF(H718=1,O718*(1-'3 Irrigation Schedule'!$C$27),T717-V717))","v":""},"","","",{"$f":"IF(H718=\"\",\"\",IF('3 Irrigation Schedule'!$P$19<P718,'3 Irrigation Schedule'!$P$19,P718))","v":""},"",{"$f":"IF(H718=\"\",\"\",V718/'3 Irrigation Schedule'!$M$19)","v":""}]
[null,null,null,"2022","January","2022-01-15",null,"","",5.3271000000000006,0.54838709677419351,"",0,"",{"$f":"IF(OR('3 Irrigation Schedule'!$C$29=\"\",'3 Irrigation Schedule'!$C$31=\"\",H719=\"\"),\"\",(('3 Irrigation Schedule'!$C$29-'3 Irrigation Schedule'!$C$31)/100)*1000*N719)","v":""},"",{"$f":"IF(H719=\"\",\"\",IF(H719=1,O719*(1-'3 Irrigation Schedule'!$C$27),T718-V718))","v":""},"","","",{"$f":"IF(H719=\"\",\"\",IF('3 Irrigation Schedule'!$P$19<P719,'3 Irrigation Schedule'!$P$19,P719))","v":""},"",{"$f":"IF(H719=\"\",\"\",V719/'3 Irrigation Schedule'!$M$19)","v":""}]
[null,null,null,"2022","January","2022-01-16",null,"",{"$f":"IF(H720=\"\",\"\",IF(H720<=$I$27,\"Initial\",IF(AND(H720>$I$27,H720<=$I$28),\"Development\",IF(AND(H720>$I$28,H720<=$I$29),\"Mid Season\",\"Late Season\"))))","v":""},5.3271000000000006,0.54838709677419351,"",0,"",{"$f":"IF(OR('3 Irrigation Schedule'!$C$29=\"\",'3 Irrigation Schedule'!$C$31=\"\",H720=\"\"),\"\",(('3 Irrigation Schedule'!$C$29-'3 Irrigation Schedule'!$C$31)/100)*1000*N720)","v":""},"",{"$f":"IF(H720=\"\",\"\",IF(H720=1,O720*(1-'3 Irrigation Schedule'!$C$27),T719-V719))","v":""},"","","",{"$f":"IF(H720=\"\",\"\",IF('3 Irrigation Schedule'!$P$19<P720,'3 Irrigation Schedule'!$P$19,P720))","v":""},"",{"$f":"IF(H720=\"\",\"\",V720/'3 Irrigation Schedule'!$M$19)","v":""}]
[null,null,null,"2022","January","2022-01-17",null,"","",5.3271000000000006,0.54838709677419351,"",0,"",{"$f":"IF(OR('3 Irrigation Schedule'!$C$29=\"\",'3 Irrigation Schedule'!$C$31=\"\",H721=\"\"),\"\",(('3 Irrigation Schedule'!$C$29-'3 Irrigation Schedule'!$C$31)/100)*1000*N721)","v":""},"",{"$f":"IF(H721=\"\",\"\",IF(H721=1,O721*(1-'3 Irrigation Schedule'!$C$27),T720-V720))","v":""},"","","",{"$f":"IF(H721=\"\",\"\",IF('3 Irrigation Schedule'!$P$19<P721,'3 Irrigation Schedule'!$P$19,P721))","v":""},"",{"$f":"IF(H721=\"\",\"\",V721/'3 Irrigation Schedule'!$M$19)","v":""}]
[null,null,null,"2022","January","2022-01-18",null,"","",5.3271000000000006,0.54838709677419351,"",0,"",{"$f":"IF(OR('3 Irrigation Schedule'!$C$29=\"\",'3 Irrigation Schedule'!$C$31=\"\",H722=\"\"),\"\",(('3 Irrigation Schedule'!$C$29-'3 Irrigation Schedule'!$C$31)/100)*1000*N722)","v":""},"",{"$f":"IF(H722=\"\",\"\",IF(H722=1,O722*(1-'3 Irrigation Schedule'!$C$27),T721-V721))","v":""},"","","",{"$f":"IF(H722=\"\",\"\",IF('3 Irrigation Schedule'!$P$19<P722,'3 Irrigation Schedule'!$P$19,P722))","v":""},"",{"$f":"IF(H722=\"\",\"\",V722/'3 Irrigation Schedule'!$M$19)","v":""}]
[null,null,null,"2022","January","2022-01-19",null,"","",5.3271000000000006,0.54838709677419351,"",0,"",{"$f":"IF(OR('3 Irrigation Schedule'!$C$29=\"\",'3 Irrigation Schedule'!$C$31=\"\",H723=\"\"),\"\",(('3 Irrigation Schedule'!$C$29-'3 Irrigation Schedule'!$C$31)/100)*1000*N723)","v":""},"",{"$f":"IF(H723=\"\",\"\",IF(H723=1,O723*(1-'3 Irrigation Schedule'!$C$27),T722-V722))","v":""},"","","",{"$f":"IF(H723=\"\",\"\",IF('3 Irrigation Schedule'!$P$19<P723,'3 Irrigation Schedule'!$P$19,P723))","v":""},"",{"$f":"IF(H723=\"\",\"\",V723/'3 Irrigation Schedule'!$M$19)","v":""}]
[null,null,null,"2022","January","2022-01-20",null,"","",5.3271000000000006,0.54838709677419351,"",0,"",{"$f":"IF(OR('3 Irrigation Schedule'!$C$29=\"\",'3 Irrigation Schedule'!$C$31=\"\",H724=\"\"),\"\",(('3 Irrigation Schedule'!$C$29-'3 Irrigation Schedule'!$C$31)/100)*1000*N724)","v":""},"",{"$f":"IF(H724=\"\",\"\",IF(H724=1,O724*(1-'3 Irrigation Schedule'!$C$27),T723-V723))","v":""},"","","",{"$f":"IF(H724=\"\",\"\",IF('3 Irrigation Schedule'!$P$19<P724,'3 Irrigation Schedule'!$P$19,P724))","v":""},"",{"$f":"IF(H724=\"\",\"\",V724/'3 Irrigation Schedule'!$M$19)","v":""}]
[null,null,null,"2022","January","2022-01-21",null,"","",5.3271000000000006,0.54838709677419351,"",0,"",{"$f":"IF(OR('3 Irrigation Schedule'!$C$29=\"\",'3 Irrigation Schedule'!$C$31=\"\",H725=\"\"),\"\",(('3 Irrigation Schedule'!$C$29-'3 Irrigation Schedule'!$C$31)/100)*1000*N725)","v":""},"",{"$f":"IF(H725=\"\",\"\",IF(H725=1,O725*(1-'3 Irrigation Schedule'!$C$27),T724-V724))","v":""},"","","",{"$f":"IF(H725=\"\",\"\",IF('3 Irrigation Schedule'!$P$19<P725,'3 Irrigation Schedule'!$P$19,P725))","v":""},"",{"$f":"IF(H725=\"\",\"\",V725/'3 Irrigation Schedule'!$M$19)","v":""}]
[null,null,null,"2022","January","2022-01-22",null,"","",5.3271000000000006,0.54838709677419351,"",0,"",{"$f":"IF(OR('3 Irrigation Schedule'!$C$29=\"\",'3 Irrigation Schedule'!$C$31=\"\",H726=\"\"),\"\",(('3 Irrigation Schedule'!$C$29-'3 Irrigation Schedule'!$C$31)/100)*1000*N726)","v":""},"",{"$f":"IF(H726=\"\",\"\",IF(H726=1,O726*(1-'3 Irrigation Schedule'!$C$27),T725-V725))","v":""},"","","",{"$f":"IF(H726=\"\",\"\",IF('3 Irrigation Schedule'!$P$19<P726,'3 Irrigation Schedule'!$P$19,P726))","v":""},"",{"$f":"IF(H726=\"\",\"\",V726/'3 Irrigation Schedule'!$M$19)","v":""}]
[null,null,null,"2022","January","2022-01-23",null,"","",5.3271000000000006,0.54838709677419351,"",0,"",{"$f":"IF(OR('3 Irrigation Schedule'!$C$29=\"\",'3 Irrigation Schedule'!$C$31=\"\",H727=\"\"),\"\",(('3 Irrigation Schedule'!$C$29-'3 Irrigation Schedule'!$C$31)/100)*1000*N727)","v":""},"",{"$f":"IF(H727=\"\",\"\",IF(H727=1,O727*(1-'3 Irrigation Schedule'!$C$27),T726-V726))","v":""},"","","",{"$f":"IF(H727=\"\",\"\",IF('3 Irrigation Schedule'!$P$19<P727,'3 Irrigation Schedule'!$P$19,P727))","v":""},"",{"$f":"IF(H727=\"\",\"\",V727/'3 Irrigation Schedule'!$M$19)","v":""}]
[null,null,null,"2022","January","2022-01-24",null,"","",5.3271000000000006,0.54838709677419351,"",0,"",{"$f":"IF(OR('3 Irrigation Schedule'!$C$29=\"\",'3 Irrigation Schedule'!$C$31=\"\",H728=\"\"),\"\",(('3 Irrigation Schedule'!$C$29-'3 Irrigation Schedule'!$C$31)/100)*1000*N728)","v":""},"",{"$f":"IF(H728=\"\",\"\",IF(H728=1,O728*(1-'3 Irrigation Schedule'!$C$27),T727-V727))","v":""},"","","",{"$f":"IF(H728=\"\",\"\",IF('3 Irrigation Schedule'!$P$19<P728,'3 Irrigation Schedule'!$P$19,P728))","v":""},"",{"$f":"IF(H728=\"\",\"\",V728/'3 Irrigation Schedule'!$M$19)","v":""}]
[null,null,null,"2022","January","2022-01-25",null,"","",5.3271000000000006,0.54838709677419351,"",0,"",{"$f":"IF(OR('3 Irrigation Schedule'!$C$29=\"\",'3 Irrigation Schedule'!$C$31=\"\",H729=\"\"),\"\",(('3 Irrigation Schedule'!$C$29-'3 Irrigation Schedule'!$C$31)/100)*1000*N729)","v":""},"",{"$f":"IF(H729=\"\",\"\",IF(H729=1,O729*(1-'3 Irrigation Schedule'!$C$27),T728-V728))","v":""},"","","",{"$f":"IF(H729=\"\",\"\",IF('3 Irrigation Schedule'!$P$19<P729,'3 Irrigation Schedule'!$P$19,P729))","v":""},"",{"$f":"IF(H729=\"\",\"\",V729/'3 Irrigation Schedule'!$M$19)","v":""}]
[null,null,null,"2022","January","2022-01-26",null,"","",5.3271000000000006,0.54838709677419351,"",0,"",{"$f":"IF(OR('3 Irrigation Schedule'!$C$29=\"\",'3 Irrigation Schedule'!$C$31=\"\",H730=\"\"),\"\",(('3 Irrigation Schedule'!$C$29-'3 Irrigation Schedule'!$C$31)/100)*1000*N730)","v":""},"",{"$f":"IF(H730=\"\",\"\",IF(H730=1,O730*(1-'3 Irrigation Schedule'!$C$27),T729-V729))","v":""},"","","",{"$f":"IF(H730=\"\",\"\",IF('3 Irrigation Schedule'!$P$19<P730,'3 Irrigation Schedule'!$P$19,P730))","v":""},"",{"$f":"IF(H730=\"\",\"\",V730/'3 Irrigation Schedule'!$M$19)","v":""}]
[null,null,null,"2022","January","2022-01-27",null,"","",5.3271000000000006,0.54838709677419351,"",0,"",{"$f":"IF(OR('3 Irrigation Schedule'!$C$29=\"\",'3 Irrigation Schedule'!$C$31=\"\",H731=\"\"),\"\",(('3 Irrigation Schedule'!$C$29-'3 Irrigation Schedule'!$C$31)/100)*1000*N731)","v":""},"",{"$f":"IF(H731=\"\",\"\",IF(H731=1,O731*(1-'3 Irrigation Schedule'!$C$27),T730-V730))","v":""},"","","",{"$f":"IF(H731=\"\",\"\",IF('3 Irrigation Schedule'!$P$19<P731,'3 Irrigation Schedule'!$P$19,P731))","v":""},"",{"$f":"IF(H731=\"\",\"\",V731/'3 Irrigation Schedule'!$M$19)","v":""}]
[null,null,null,"2022","January","2022-01-28",null,"","",5.3271000000000006,0.54838709677419351,"",0,"",{"$f":"IF(OR('3 Irrigation Schedule'!$C$29=\"\",'3 Irrigation Schedule'!$C$31=\"\",H732=\"\"),\"\",(('3 Irrigation Schedule'!$C$29-'3 Irrigation Schedule'!$C$31)/100)*1000*N732)","v":""},"",{"$f":"IF(H732=\"\",\"\",IF(H732=1,O732*(1-'3 Irrigation Schedule'!$C$27),T731-V731))","v":""},"","","",{"$f":"IF(H732=\"\",\"\",IF('3 Irrigation Schedule'!$P$19<P732,'3 Irrigation Schedule'!$P$19,P732))","v":""},"",{"$f":"IF(H732=\"\",\"\",V732/'3 Irrigation Schedule'!$M$19)","v":""}]
[null,null,null,"2022","January","2022-01-29",null,"","",5.3271000000000006,0.54838709677419351,"",0,"",{"$f":"IF(OR('3 Irrigation Schedule'!$C$29=\"\",'3 Irrigation Schedule'!$C$31=\"\",H733=\"\"),\"\",(('3 Irrigation Schedule'!$C$29-'3 Irrigation Schedule'!$C$31)/100)*1000*N733)","v":""},"",{"$f":"IF(H733=\"\",\"\",IF(H733=1,O733*(1-'3 Irrigation Schedule'!$C$27),T732-V732))","v":""},"","","",{"$f":"IF(H733=\"\",\"\",IF('3 Irrigation Schedule'!$P$19<P733,'3 Irrigation Schedule'!$P$19,P733))","v":""},"",{"$f":"IF(H733=\"\",\"\",V733/'3 Irrigation Schedule'!$M$19)","v":""}]
[null,null,null,"2022","January","2022-01-30",null,"","",5.3271000000000006,0.54838709677419351,"",0,"",{"$f":"IF(OR('3 Irrigation Schedule'!$C$29=\"\",'3 Irrigation Schedule'!$C$31=\"\",H734=\"\"),\"\",(('3 Irrigation Schedule'!$C$29-'3 Irrigation Schedule'!$C$31)/100)*1000*N734)","v":""},"",{"$f":"IF(H734=\"\",\"\",IF(H734=1,O734*(1-'3 Irrigation Schedule'!$C$27),T733-V733))","v":""},"","","",{"$f":"IF(H734=\"\",\"\",IF('3 Irrigation Schedule'!$P$19<P734,'3 Irrigation Schedule'!$P$19,P734))","v":""},"",{"$f":"IF(H734=\"\",\"\",V734/'3 Irrigation Schedule'!$M$19)","v":""}]
[null,null,null,"2022","January","2022-01-31",null,"","",5.3271000000000006,0.54838709677419351,"",0,"",{"$f":"IF(OR('3 Irrigation Schedule'!$C$29=\"\",'3 Irrigation Schedule'!$C$31=\"\",H735=\"\"),\"\",(('3 Irrigation Schedule'!$C$29-'3 Irrigation Schedule'!$C$31)/100)*1000*N735)","v":""},"",{"$f":"IF(H735=\"\",\"\",IF(H735=1,O735*(1-'3 Irrigation Schedule'!$C$27),T734-V734))","v":""},"","","",{"$f":"IF(H735=\"\",\"\",IF('3 Irrigation Schedule'!$P$19<P735,'3 Irrigation Schedule'!$P$19,P735))","v":""},"",{"$f":"IF(H735=\"\",\"\",V735/'3 Irrigation Schedule'!$M$19)","v":""}]
[null,null,null,"2022","February","2022-02-01",null,"","",5.2650000000000006,0.35000000000000003,"",0,"",{"$f":"IF(OR('3 Irrigation Schedule'!$C$29=\"\",'3 Irrigation Schedule'!$C$31=\"\",H736=\"\"),\"\",(('3 Irrigation Schedule'!$C$29-'3 Irrigation Schedule'!$C$31)/100)*1000*N736)","v":""},"",{"$f":"IF(H736=\"\",\"\",IF(H736=1,O736*(1-'3 Irrigation Schedule'!$C$27),T735-V735))","v":""},"","","",{"$f":"IF(H736=\"\",\"\",IF('3 Irrigation Schedule'!$P$19<P736,'3 Irrigation Schedule'!$P$19,P736))","v":""},"",{"$f":"IF(H736=\"\",\"\",V736/'3 Irrigation Schedule'!$M$19)","v":""}]
[null,null,null,"2022","February","2022-02-02",null,"","",5.2650000000000006,0.35000000000000003,"",0,"",{"$f":"IF(OR('3 Irrigation Schedule'!$C$29=\"\",'3 Irrigation Schedule'!$C$31=\"\",H737=\"\"),\"\",(('3 Irrigation Schedule'!$C$29-'3 Irrigation Schedule'!$C$31)/100)*1000*N737)","v":""},"",{"$f":"IF(H737=\"\",\"\",IF(H737=1,O737*(1-'3 Irrigation Schedule'!$C$27),T736-V736))","v":""},"","","",{"$f":"IF(H737=\"\",\"\",IF('3 Irrigation Schedule'!$P$19<P737,'3 Irrigation Schedule'!$P$19,P737))","v":""},"",{"$f":"IF(H737=\"\",\"\",V737/'3 Irrigation Schedule'!$M$19)","v":""}]
[null,null,null,{"$f":"IFERROR(TEXT(DATE(YEAR($F738),MONTH($F738),1),$D$7&$D$4),\"\")","v":"2022"},{"$f":"IFERROR(TEXT(DATE(YEAR($F738),MONTH($F738),1),$D$7&$D$5),\"\")","v":"February"},"2022-02-03",null,"","",{"$f":"IFERROR(VLOOKUP($E738,$B$19:$C$30,2,FALSE),\"\")","v":5.2650000000000006},0.35000000000000003,{"$f":"IF(H738=\"\",\"\",IF(H738<=$I$27,$L$27,IF(AND(H738>$I$27,H738<=$I$28),$L$27+((H738-$I$27)/$H$28)*($L$29-$L$27),IF(AND(H738>$I$28,H738<=$I$29),$L$29,$L$29+((H738-$I$29)/$H$30)*($L$30-$L$29)))))","v":""},{"$f":"IFERROR((J738*L738),0)","v":0},{"$f":"IF(H738=\"\",\"\",IF(OR(H738=1,H738<$I$28),$M$27+(($M$28-$M$27)*((H738-1)/($I$28-1))),$M$28))","v":""},{"$f":"IF(OR('3 Irrigation Schedule'!$C$29=\"\",'3 Irrigation Schedule'!$C$31=\"\",H738=\"\"),\"\",(('3 Irrigation Schedule'!$C$29-'3 Irrigation Schedule'!$C$31)/100)*1000*N738)","v":""},{"$f":"IF(H738=\"\",\"\",O738*$N$27)","v":""},{"$f":"IF(H738=\"\",\"\",IF(H738=1,O738*(1-'3 Irrigation Schedule'!$C$27),T737-V737))","v":""},{"$f":"IF(H738=\"\",\"\",IF(Q738>P738,(O738-Q738)/(O738-P738),1))","v":""},{"$f":"IF(H738=\"\",\"\",M738*R738)","v":""},{"$f":"IF(H738=\"\",\"\",IF(Q738+S738-K738<0,0,Q738+S738-K738))","v":""},{"$f":"IF(H738=\"\",\"\",IF('3 Irrigation Schedule'!$P$19<P738,'3 Irrigation Schedule'!$P$19,P738))","v":""},{"$f":"IF(H738=\"\",\"\",IF(U738<=T738,U738,0))","v":""},{"$f":"IF(H738=\"\",\"\",V738/'3 Irrigation Schedule'!$M$19)","v":""}]
[null,null,null,"2022","February",{"$f":"IFERROR(IF(F738+1<=$N$7, F738+1,\"\"),\"\")","v":"2022-02-04"},null,{"$f":"IFERROR(IF(OR($F739-$J$27+1<=0,$F739>$K$30),\"\",$F739-$J$27+1),\"\")","v":""},"",5.2650000000000006,{"$f":"IFERROR(VLOOKUP($E739,$B$19:$D$30,3,FALSE),\"\")","v":0.35000000000000003},"",0,"",{"$f":"IF(OR('3 Irrigation Schedule'!$C$29=\"\",'3 Irrigation Schedule'!$C$31=\"\",H739=\"\"),\"\",(('3 Irrigation Schedule'!$C$29-'3 Irrigation Schedule'!$C$31)/100)*1000*N739)","v":""},"",{"$f":"IF(H739=\"\",\"\",IF(H739=1,O739*(1-'3 Irrigation Schedule'!$C$27),T738-V738))","v":""},"","","",{"$f":"IF(H739=\"\",\"\",IF('3 Irrigation Schedule'!$P$19<P739,'3 Irrigation Schedule'!$P$19,P739))","v":""},"",{"$f":"IF(H739=\"\",\"\",V739/'3 Irrigation Schedule'!$M$19)","v":""}]
[null,null,null,"2022","February","2022-02-05",null,"","",5.2650000000000006,0.35000000000000003,"",0,"",{"$f":"IF(OR('3 Irrigation Schedule'!$C$29=\"\",'3 Irrigation Schedule'!$C$31=\"\",H740=\"\"),\"\",(('3 Irrigation Schedule'!$C$29-'3 Irrigation Schedule'!$C$31)/100)*1000*N740)","v":""},"",{"$f":"IF(H740=\"\",\"\",IF(H740=1,O740*(1-'3 Irrigation Schedule'!$C$27),T739-V739))","v":""},"","","",{"$f":"IF(H740=\"\",\"\",IF('3 Irrigation Schedule'!$P$19<P740,'3 Irrigation Schedule'!$P$19,P740))","v":""},"",{"$f":"IF(H740=\"\",\"\",V740/'3 Irrigation Schedule'!$M$19)","v":""}]
[null,null,null,"2022","February","2022-02-06",null,"","",5.2650000000000006,0.35000000000000003,"",0,"",{"$f":"IF(OR('3 Irrigation Schedule'!$C$29=\"\",'3 Irrigation Schedule'!$C$31=\"\",H741=\"\"),\"\",(('3 Irrigation Schedule'!$C$29-'3 Irrigation Schedule'!$C$31)/100)*1000*N741)","v":""},"",{"$f":"IF(H741=\"\",\"\",IF(H741=1,O741*(1-'3 Irrigation Schedule'!$C$27),T740-V740))","v":""},"","","",{"$f":"IF(H741=\"\",\"\",IF('3 Irrigation Schedule'!$P$19<P741,'3 Irrigation Schedule'!$P$19,P741))","v":""},"",{"$f":"IF(H741=\"\",\"\",V741/'3 Irrigation Schedule'!$M$19)","v":""}]
[null,null,null,"2022","February","2022-02-07",null,"","",5.2650000000000006,0.35000000000000003,"",0,"",{"$f":"IF(OR('3 Irrigation Schedule'!$C$29=\"\",'3 Irrigation Schedule'!$C$31=\"\",H742=\"\"),\"\",(('3 Irrigation Schedule'!$C$29-'3 Irrigation Schedule'!$C$31)/100)*1000*N742)","v":""},"",{"$f":"IF(H742=\"\",\"\",IF(H742=1,O742*(1-'3 Irrigation Schedule'!$C$27),T741-V741))","v":""},"","","",{"$f":"IF(H742=\"\",\"\",IF('3 Irrigation Schedule'!$P$19<P742,'3 Irrigation Schedule'!$P$19,P742))","v":""},"",{"$f":"IF(H742=\"\",\"\",V742/'3 Irrigation Schedule'!$M$19)","v":""}]
[null,null,null,"2022","February","2022-02-08",null,"","",5.2650000000000006,0.35000000000000003,"",0,"",{"$f":"IF(OR('3 Irrigation Schedule'!$C$29=\"\",'3 Irrigation Schedule'!$C$31=\"\",H743=\"\"),\"\",(('3 Irrigation Schedule'!$C$29-'3 Irrigation Schedule'!$C$31)/100)*1000*N743)","v":""},"",{"$f":"IF(H743=\"\",\"\",IF(H743=1,O743*(1-'3 Irrigation Schedule'!$C$27),T742-V742))","v":""},"","","",{"$f":"IF(H743=\"\",\"\",IF('3 Irrigation Schedule'!$P$19<P743,'3 Irrigation Schedule'!$P$19,P743))","v":""},"",{"$f":"IF(H743=\"\",\"\",V743/'3 Irrigation Schedule'!$M$19)","v":""}]
[null,null,null,"2022","February","2022-02-09",null,"","",5.2650000000000006,0.35000000000000003,"",0,"",{"$f":"IF(OR('3 Irrigation Schedule'!$C$29=\"\",'3 Irrigation Schedule'!$C$31=\"\",H744=\"\"),\"\",(('3 Irrigation Schedule'!$C$29-'3 Irrigation Schedule'!$C$31)/100)*1000*N744)","v":""},"",{"$f":"IF(H744=\"\",\"\",IF(H744=1,O744*(1-'3 Irrigation Schedule'!$C$27),T743-V743))","v":""},"","","",{"$f":"IF(H744=\"\",\"\",IF('3 Irrigation Schedule'!$P$19<P744,'3 Irrigation Schedule'!$P$19,P744))","v":""},"",{"$f":"IF(H744=\"\",\"\",V744/'3 Irrigation Schedule'!$M$19)","v":""}]
[null,null,null,"2022","February","2022-02-10",null,"","",5.2650000000000006,0.35000000000000003,"",0,"",{"$f":"IF(OR('3 Irrigation Schedule'!$C$29=\"\",'3 Irrigation Schedule'!$C$31=\"\",H745=\"\"),\"\",(('3 Irrigation Schedule'!$C$29-'3 Irrigation Schedule'!$C$31)/100)*1000*N745)","v":""},"",{"$f":"IF(H745=\"\",\"\",IF(H745=1,O745*(1-'3 Irrigation Schedule'!$C$27),T744-V744))","v":""},"","","",{"$f":"IF(H745=\"\",\"\",IF('3 Irrigation Schedule'!$P$19<P745,'3 Irrigation Schedule'!$P$19,P745))","v":""},"",{"$f":"IF(H745=\"\",\"\",V745/'3 Irrigation Schedule'!$M$19)","v":""}]
[null,null,null,"2022","February","2022-02-11",null,"","",5.2650000000000006,0.35000000000000003,"",0,"",{"$f":"IF(OR('3 Irrigation Schedule'!$C$29=\"\",'3 Irrigation Schedule'!$C$31=\"\",H746=\"\"),\"\",(('3 Irrigation Schedule'!$C$29-'3 Irrigation Schedule'!$C$31)/100)*1000*N746)","v":""},"",{"$f":"IF(H746=\"\",\"\",IF(H746=1,O746*(1-'3 Irrigation Schedule'!$C$27),T745-V745))","v":""},"","","",{"$f":"IF(H746=\"\",\"\",IF('3 Irrigation Schedule'!$P$19<P746,'3 Irrigation Schedule'!$P$19,P746))","v":""},"",{"$f":"IF(H746=\"\",\"\",V746/'3 Irrigation Schedule'!$M$19)","v":""}]
[null,null,null,"2022","February","2022-02-12",null,"","",5.2650000000000006,0.35000000000000003,"",0,"",{"$f":"IF(OR('3 Irrigation Schedule'!$C$29=\"\",'3 Irrigation Schedule'!$C$31=\"\",H747=\"\"),\"\",(('3 Irrigation Schedule'!$C$29-'3 Irrigation Schedule'!$C$31)/100)*1000*N747)","v":""},"",{"$f":"IF(H747=\"\",\"\",IF(H747=1,O747*(1-'3 Irrigation Schedule'!$C$27),T746-V746))","v":""},"","","",{"$f":"IF(H747=\"\",\"\",IF('3 Irrigation Schedule'!$P$19<P747,'3 Irrigation Schedule'!$P$19,P747))","v":""},"",{"$f":"IF(H747=\"\",\"\",V747/'3 Irrigation Schedule'!$M$19)","v":""}]
[null,null,null,"2022","February","2022-02-13",null,"","",5.2650000000000006,0.35000000000000003,"",0,"",{"$f":"IF(OR('3 Irrigation Schedule'!$C$29=\"\",'3 Irrigation Schedule'!$C$31=\"\",H748=\"\"),\"\",(('3 Irrigation Schedule'!$C$29-'3 Irrigation Schedule'!$C$31)/100)*1000*N748)","v":""},"",{"$f":"IF(H748=\"\",\"\",IF(H748=1,O748*(1-'3 Irrigation Schedule'!$C$27),T747-V747))","v":""},"","","",{"$f":"IF(H748=\"\",\"\",IF('3 Irrigation Schedule'!$P$19<P748,'3 Irrigation Schedule'!$P$19,P748))","v":""},"",{"$f":"IF(H748=\"\",\"\",V748/'3 Irrigation Schedule'!$M$19)","v":""}]
[null,null,null,"2022","February","2022-02-14",null,"","",5.2650000000000006,0.35000000000000003,"",0,"",{"$f":"IF(OR('3 Irrigation Schedule'!$C$29=\"\",'3 Irrigation Schedule'!$C$31=\"\",H749=\"\"),\"\",(('3 Irrigation Schedule'!$C$29-'3 Irrigation Schedule'!$C$31)/100)*1000*N749)","v":""},"",{"$f":"IF(H749=\"\",\"\",IF(H749=1,O749*(1-'3 Irrigation Schedule'!$C$27),T748-V748))","v":""},"","","",{"$f":"IF(H749=\"\",\"\",IF('3 Irrigation Schedule'!$P$19<P749,'3 Irrigation Schedule'!$P$19,P749))","v":""},"",{"$f":"IF(H749=\"\",\"\",V749/'3 Irrigation Schedule'!$M$19)","v":""}]
[null,null,null,"2022","February","2022-02-15",null,"","",5.2650000000000006,0.35000000000000003,"",0,"",{"$f":"IF(OR('3 Irrigation Schedule'!$C$29=\"\",'3 Irrigation Schedule'!$C$31=\"\",H750=\"\"),\"\",(('3 Irrigation Schedule'!$C$29-'3 Irrigation Schedule'!$C$31)/100)*1000*N750)","v":""},"",{"$f":"IF(H750=\"\",\"\",IF(H750=1,O750*(1-'3 Irrigation Schedule'!$C$27),T749-V749))","v":""},"","","",{"$f":"IF(H750=\"\",\"\",IF('3 Irrigation Schedule'!$P$19<P750,'3 Irrigation Schedule'!$P$19,P750))","v":""},"",{"$f":"IF(H750=\"\",\"\",V750/'3 Irrigation Schedule'!$M$19)","v":""}]
[null,null,null,"2022","February","2022-02-16",null,"","",5.2650000000000006,0.35000000000000003,"",0,"",{"$f":"IF(OR('3 Irrigation Schedule'!$C$29=\"\",'3 Irrigation Schedule'!$C$31=\"\",H751=\"\"),\"\",(('3 Irrigation Schedule'!$C$29-'3 Irrigation Schedule'!$C$31)/100)*1000*N751)","v":""},"",{"$f":"IF(H751=\"\",\"\",IF(H751=1,O751*(1-'3 Irrigation Schedule'!$C$27),T750-V750))","v":""},"","","",{"$f":"IF(H751=\"\",\"\",IF('3 Irrigation Schedule'!$P$19<P751,'3 Irrigation Schedule'!$P$19,P751))","v":""},"",{"$f":"IF(H751=\"\",\"\",V751/'3 Irrigation Schedule'!$M$19)","v":""}]
[null,null,null,"2022","February","2022-02-17",null,"","",5.2650000000000006,0.35000000000000003,"",0,"",{"$f":"IF(OR('3 Irrigation Schedule'!$C$29=\"\",'3 Irrigation Schedule'!$C$31=\"\",H752=\"\"),\"\",(('3 Irrigation Schedule'!$C$29-'3 Irrigation Schedule'!$C$31)/100)*1000*N752)","v":""},"",{"$f":"IF(H752=\"\",\"\",IF(H752=1,O752*(1-'3 Irrigation Schedule'!$C$27),T751-V751))","v":""},"","","",{"$f":"IF(H752=\"\",\"\",IF('3 Irrigation Schedule'!$P$19<P752,'3 Irrigation Schedule'!$P$19,P752))","v":""},"",{"$f":"IF(H752=\"\",\"\",V752/'3 Irrigation Schedule'!$M$19)","v":""}]
[null,null,null,"2022","February","2022-02-18",null,"","",5.2650000000000006,0.35000000000000003,"",0,"",{"$f":"IF(OR('3 Irrigation Schedule'!$C$29=\"\",'3 Irrigation Schedule'!$C$31=\"\",H753=\"\"),\"\",(('3 Irrigation Schedule'!$C$29-'3 Irrigation Schedule'!$C$31)/100)*1000*N753)","v":""},"",{"$f":"IF(H753=\"\",\"\",IF(H753=1,O753*(1-'3 Irrigation Schedule'!$C$27),T752-V752))","v":""},"","","",{"$f":"IF(H753=\"\",\"\",IF('3 Irrigation Schedule'!$P$19<P753,'3 Irrigation Schedule'!$P$19,P753))","v":""},"",{"$f":"IF(H753=\"\",\"\",V753/'3 Irrigation Schedule'!$M$19)","v":""}]
[null,null,null,"2022","February","2022-02-19",null,"","",5.2650000000000006,0.35000000000000003,"",0,"",{"$f":"IF(OR('3 Irrigation Schedule'!$C$29=\"\",'3 Irrigation Schedule'!$C$31=\"\",H754=\"\"),\"\",(('3 Irrigation Schedule'!$C$29-'3 Irrigation Schedule'!$C$31)/100)*1000*N754)","v":""},"",{"$f":"IF(H754=\"\",\"\",IF(H754=1,O754*(1-'3 Irrigation Schedule'!$C$27),T753-V753))","v":""},"","","",{"$f":"IF(H754=\"\",\"\",IF('3 Irrigation Schedule'!$P$19<P754,'3 Irrigation Schedule'!$P$19,P754))","v":""},"",{"$f":"IF(H754=\"\",\"\",V754/'3 Irrigation Schedule'!$M$19)","v":""}]
[null,null,null,"2022","February","2022-02-20",null,"","",5.2650000000000006,0.35000000000000003,"",0,"",{"$f":"IF(OR('3 Irrigation Schedule'!$C$29=\"\",'3 Irrigation Schedule'!$C$31=\"\",H755=\"\"),\"\",(('3 Irrigation Schedule'!$C$29-'3 Irrigation Schedule'!$C$31)/100)*1000*N755)","v":""},"",{"$f":"IF(H755=\"\",\"\",IF(H755=1,O755*(1-'3 Irrigation Schedule'!$C$27),T754-V754))","v":""},"","","",{"$f":"IF(H755=\"\",\"\",IF('3 Irrigation Schedule'!$P$19<P755,'3 Irrigation Schedule'!$P$19,P755))","v":""},"",{"$f":"IF(H755=\"\",\"\",V755/'3 Irrigation Schedule'!$M$19)","v":""}]
[null,null,null,"2022","February","2022-02-21",null,"","",5.2650000000000006,0.35000000000000003,"",0,"",{"$f":"IF(OR('3 Irrigation Schedule'!$C$29=\"\",'3 Irrigation Schedule'!$C$31=\"\",H756=\"\"),\"\",(('3 Irrigation Schedule'!$C$29-'3 Irrigation Schedule'!$C$31)/100)*1000*N756)","v":""},"",{"$f":"IF(H756=\"\",\"\",IF(H756=1,O756*(1-'3 Irrigation Schedule'!$C$27),T755-V755))","v":""},"","","",{"$f":"IF(H756=\"\",\"\",IF('3 Irrigation Schedule'!$P$19<P756,'3 Irrigation Schedule'!$P$19,P756))","v":""},"",{"$f":"IF(H756=\"\",\"\",V756/'3 Irrigation Schedule'!$M$19)","v":""}]
[null,null,null,"2022","February","2022-02-22",null,"","",5.2650000000000006,0.35000000000000003,"",0,"",{"$f":"IF(OR('3 Irrigation Schedule'!$C$29=\"\",'3 Irrigation Schedule'!$C$31=\"\",H757=\"\"),\"\",(('3 Irrigation Schedule'!$C$29-'3 Irrigation Schedule'!$C$31)/100)*1000*N757)","v":""},"",{"$f":"IF(H757=\"\",\"\",IF(H757=1,O757*(1-'3 Irrigation Schedule'!$C$27),T756-V756))","v":""},"","","",{"$f":"IF(H757=\"\",\"\",IF('3 Irrigation Schedule'!$P$19<P757,'3 Irrigation Schedule'!$P$19,P757))","v":""},"",{"$f":"IF(H757=\"\",\"\",V757/'3 Irrigation Schedule'!$M$19)","v":""}]
[null,null,null,"2022","February","2022-02-23",null,"","",5.2650000000000006,0.35000000000000003,"",0,"",{"$f":"IF(OR('3 Irrigation Schedule'!$C$29=\"\",'3 Irrigation Schedule'!$C$31=\"\",H758=\"\"),\"\",(('3 Irrigation Schedule'!$C$29-'3 Irrigation Schedule'!$C$31)/100)*1000*N758)","v":""},"",{"$f":"IF(H758=\"\",\"\",IF(H758=1,O758*(1-'3 Irrigation Schedule'!$C$27),T757-V757))","v":""},"","","",{"$f":"IF(H758=\"\",\"\",IF('3 Irrigation Schedule'!$P$19<P758,'3 Irrigation Schedule'!$P$19,P758))","v":""},"",{"$f":"IF(H758=\"\",\"\",V758/'3 Irrigation Schedule'!$M$19)","v":""}]
[null,null,null,"2022","February","2022-02-24",null,"","",5.2650000000000006,0.35000000000000003,"",0,"",{"$f":"IF(OR('3 Irrigation Schedule'!$C$29=\"\",'3 Irrigation Schedule'!$C$31=\"\",H759=\"\"),\"\",(('3 Irrigation Schedule'!$C$29-'3 Irrigation Schedule'!$C$31)/100)*1000*N759)","v":""},"",{"$f":"IF(H759=\"\",\"\",IF(H759=1,O759*(1-'3 Irrigation Schedule'!$C$27),T758-V758))","v":""},"","","",{"$f":"IF(H759=\"\",\"\",IF('3 Irrigation Schedule'!$P$19<P759,'3 Irrigation Schedule'!$P$19,P759))","v":""},"",{"$f":"IF(H759=\"\",\"\",V759/'3 Irrigation Schedule'!$M$19)","v":""}]
[null,null,null,"2022","February","2022-02-25",null,"","",5.2650000000000006,0.35000000000000003,"",0,"",{"$f":"IF(OR('3 Irrigation Schedule'!$C$29=\"\",'3 Irrigation Schedule'!$C$31=\"\",H760=\"\"),\"\",(('3 Irrigation Schedule'!$C$29-'3 Irrigation Schedule'!$C$31)/100)*1000*N760)","v":""},"",{"$f":"IF(H760=\"\",\"\",IF(H760=1,O760*(1-'3 Irrigation Schedule'!$C$27),T759-V759))","v":""},"","","",{"$f":"IF(H760=\"\",\"\",IF('3 Irrigation Schedule'!$P$19<P760,'3 Irrigation Schedule'!$P$19,P760))","v":""},"",{"$f":"IF(H760=\"\",\"\",V760/'3 Irrigation Schedule'!$M$19)","v":""}]
[null,null,null,"2022","February","2022-02-26",null,"","",5.2650000000000006,0.35000000000000003,"",0,"",{"$f":"IF(OR('3 Irrigation Schedule'!$C$29=\"\",'3 Irrigation Schedule'!$C$31=\"\",H761=\"\"),\"\",(('3 Irrigation Schedule'!$C$29-'3 Irrigation Schedule'!$C$31)/100)*1000*N761)","v":""},"",{"$f":"IF(H761=\"\",\"\",IF(H761=1,O761*(1-'3 Irrigation Schedule'!$C$27),T760-V760))","v":""},"","","",{"$f":"IF(H761=\"\",\"\",IF('3 Irrigation Schedule'!$P$19<P761,'3 Irrigation Schedule'!$P$19,P761))","v":""},"",{"$f":"IF(H761=\"\",\"\",V761/'3 Irrigation Schedule'!$M$19)","v":""}]
[null,null,null,"2022","February","2022-02-27",null,"","",5.2650000000000006,0.35000000000000003,"",0,"",{"$f":"IF(OR('3 Irrigation Schedule'!$C$29=\"\",'3 Irrigation Schedule'!$C$31=\"\",H762=\"\"),\"\",(('3 Irrigation Schedule'!$C$29-'3 Irrigation Schedule'!$C$31)/100)*1000*N762)","v":""},"",{"$f":"IF(H762=\"\",\"\",IF(H762=1,O762*(1-'3 Irrigation Schedule'!$C$27),T761-V761))","v":""},"","","",{"$f":"IF(H762=\"\",\"\",IF('3 Irrigation Schedule'!$P$19<P762,'3 Irrigation Schedule'!$P$19,P762))","v":""},"",{"$f":"IF(H762=\"\",\"\",V762/'3 Irrigation Schedule'!$M$19)","v":""}]
[null,null,null,"2022","February","2022-02-28",null,"","",5.2650000000000006,0.35000000000000003,"",0,"",{"$f":"IF(OR('3 Irrigation Schedule'!$C$29=\"\",'3 Irrigation Schedule'!$C$31=\"\",H763=\"\"),\"\",(('3 Irrigation Schedule'!$C$29-'3 Irrigation Schedule'!$C$31)/100)*1000*N763)","v":""},"",{"$f":"IF(H763=\"\",\"\",IF(H763=1,O763*(1-'3 Irrigation Schedule'!$C$27),T762-V762))","v":""},"","","",{"$f":"IF(H763=\"\",\"\",IF('3 Irrigation Schedule'!$P$19<P763,'3 Irrigation Schedule'!$P$19,P763))","v":""},"",{"$f":"IF(H763=\"\",\"\",V763/'3 Irrigation Schedule'!$M$19)","v":""}]
[null,null,null,"2022","March","2022-03-01",null,"","",5.2153200000000011,1.0187096774193547,"",0,"",{"$f":"IF(OR('3 Irrigation Schedule'!$C$29=\"\",'3 Irrigation Schedule'!$C$31=\"\",H764=\"\"),\"\",(('3 Irrigation Schedule'!$C$29-'3 Irrigation Schedule'!$C$31)/100)*1000*N764)","v":""},"",{"$f":"IF(H764=\"\",\"\",IF(H764=1,O764*(1-'3 Irrigation Schedule'!$C$27),T763-V763))","v":""},"","","",{"$f":"IF(H764=\"\",\"\",IF('3 Irrigation Schedule'!$P$19<P764,'3 Irrigation Schedule'!$P$19,P764))","v":""},"",{"$f":"IF(H764=\"\",\"\",V764/'3 Irrigation Schedule'!$M$19)","v":""}]
[null,null,null,"2022","March","2022-03-02",null,"",{"$f":"IF(H765=\"\",\"\",IF(H765<=$I$27,\"Initial\",IF(AND(H765>$I$27,H765<=$I$28),\"Development\",IF(AND(H765>$I$28,H765<=$I$29),\"Mid Season\",\"Late Season\"))))","v":""},5.2153200000000011,1.0187096774193547,"",0,"",{"$f":"IF(OR('3 Irrigation Schedule'!$C$29=\"\",'3 Irrigation Schedule'!$C$31=\"\",H765=\"\"),\"\",(('3 Irrigation Schedule'!$C$29-'3 Irrigation Schedule'!$C$31)/100)*1000*N765)","v":""},"",{"$f":"IF(H765=\"\",\"\",IF(H765=1,O765*(1-'3 Irrigation Schedule'!$C$27),T764-V764))","v":""},"","","",{"$f":"IF(H765=\"\",\"\",IF('3 Irrigation Schedule'!$P$19<P765,'3 Irrigation Schedule'!$P$19,P765))","v":""},"",{"$f":"IF(H765=\"\",\"\",V765/'3 Irrigation Schedule'!$M$19)","v":""}]
[null,null,null,"2022","March","2022-03-03",null,"","",5.2153200000000011,1.0187096774193547,"",0,"",{"$f":"IF(OR('3 Irrigation Schedule'!$C$29=\"\",'3 Irrigation Schedule'!$C$31=\"\",H766=\"\"),\"\",(('3 Irrigation Schedule'!$C$29-'3 Irrigation Schedule'!$C$31)/100)*1000*N766)","v":""},"",{"$f":"IF(H766=\"\",\"\",IF(H766=1,O766*(1-'3 Irrigation Schedule'!$C$27),T765-V765))","v":""},"","","",{"$f":"IF(H766=\"\",\"\",IF('3 Irrigation Schedule'!$P$19<P766,'3 Irrigation Schedule'!$P$19,P766))","v":""},"",{"$f":"IF(H766=\"\",\"\",V766/'3 Irrigation Schedule'!$M$19)","v":""}]
[null,null,null,"2022","March","2022-03-04",null,"","",5.2153200000000011,1.0187096774193547,"",0,"",{"$f":"IF(OR('3 Irrigation Schedule'!$C$29=\"\",'3 Irrigation Schedule'!$C$31=\"\",H767=\"\"),\"\",(('3 Irrigation Schedule'!$C$29-'3 Irrigation Schedule'!$C$31)/100)*1000*N767)","v":""},"",{"$f":"IF(H767=\"\",\"\",IF(H767=1,O767*(1-'3 Irrigation Schedule'!$C$27),T766-V766))","v":""},"","","",{"$f":"IF(H767=\"\",\"\",IF('3 Irrigation Schedule'!$P$19<P767,'3 Irrigation Schedule'!$P$19,P767))","v":""},"",{"$f":"IF(H767=\"\",\"\",V767/'3 Irrigation Schedule'!$M$19)","v":""}]
[null,null,null,"2022","March","2022-03-05",null,"","",5.2153200000000011,1.0187096774193547,"",0,"",{"$f":"IF(OR('3 Irrigation Schedule'!$C$29=\"\",'3 Irrigation Schedule'!$C$31=\"\",H768=\"\"),\"\",(('3 Irrigation Schedule'!$C$29-'3 Irrigation Schedule'!$C$31)/100)*1000*N768)","v":""},"",{"$f":"IF(H768=\"\",\"\",IF(H768=1,O768*(1-'3 Irrigation Schedule'!$C$27),T767-V767))","v":""},"","","",{"$f":"IF(H768=\"\",\"\",IF('3 Irrigation Schedule'!$P$19<P768,'3 Irrigation Schedule'!$P$19,P768))","v":""},"",{"$f":"IF(H768=\"\",\"\",V768/'3 Irrigation Schedule'!$M$19)","v":""}]
[null,null,null,"2022","March","2022-03-06",null,"","",5.2153200000000011,1.0187096774193547,"",0,"",{"$f":"IF(OR('3 Irrigation Schedule'!$C$29=\"\",'3 Irrigation Schedule'!$C$31=\"\",H769=\"\"),\"\",(('3 Irrigation Schedule'!$C$29-'3 Irrigation Schedule'!$C$31)/100)*1000*N769)","v":""},"",{"$f":"IF(H769=\"\",\"\",IF(H769=1,O769*(1-'3 Irrigation Schedule'!$C$27),T768-V768))","v":""},"","","",{"$f":"IF(H769=\"\",\"\",IF('3 Irrigation Schedule'!$P$19<P769,'3 Irrigation Schedule'!$P$19,P769))","v":""},"",{"$f":"IF(H769=\"\",\"\",V769/'3 Irrigation Schedule'!$M$19)","v":""}]
[null,null,null,"2022","March","2022-03-07",null,"","",5.2153200000000011,1.0187096774193547,"",0,"",{"$f":"IF(OR('3 Irrigation Schedule'!$C$29=\"\",'3 Irrigation Schedule'!$C$31=\"\",H770=\"\"),\"\",(('3 Irrigation Schedule'!$C$29-'3 Irrigation Schedule'!$C$31)/100)*1000*N770)","v":""},"",{"$f":"IF(H770=\"\",\"\",IF(H770=1,O770*(1-'3 Irrigation Schedule'!$C$27),T769-V769))","v":""},"","","",{"$f":"IF(H770=\"\",\"\",IF('3 Irrigation Schedule'!$P$19<P770,'3 Irrigation Schedule'!$P$19,P770))","v":""},"",{"$f":"IF(H770=\"\",\"\",V770/'3 Irrigation Schedule'!$M$19)","v":""}]
[null,null,null,"2022","March","2022-03-08",null,"","",5.2153200000000011,1.0187096774193547,"",0,"",{"$f":"IF(OR('3 Irrigation Schedule'!$C$29=\"\",'3 Irrigation Schedule'!$C$31=\"\",H771=\"\"),\"\",(('3 Irrigation Schedule'!$C$29-'3 Irrigation Schedule'!$C$31)/100)*1000*N771)","v":""},"",{"$f":"IF(H771=\"\",\"\",IF(H771=1,O771*(1-'3 Irrigation Schedule'!$C$27),T770-V770))","v":""},"","","",{"$f":"IF(H771=\"\",\"\",IF('3 Irrigation Schedule'!$P$19<P771,'3 Irrigation Schedule'!$P$19,P771))","v":""},"",{"$f":"IF(H771=\"\",\"\",V771/'3 Irrigation Schedule'!$M$19)","v":""}]
[null,null,null,"2022","March","2022-03-09",null,"","",5.2153200000000011,1.0187096774193547,"",0,"",{"$f":"IF(OR('3 Irrigation Schedule'!$C$29=\"\",'3 Irrigation Schedule'!$C$31=\"\",H772=\"\"),\"\",(('3 Irrigation Schedule'!$C$29-'3 Irrigation Schedule'!$C$31)/100)*1000*N772)","v":""},"",{"$f":"IF(H772=\"\",\"\",IF(H772=1,O772*(1-'3 Irrigation Schedule'!$C$27),T771-V771))","v":""},"","","",{"$f":"IF(H772=\"\",\"\",IF('3 Irrigation Schedule'!$P$19<P772,'3 Irrigation Schedule'!$P$19,P772))","v":""},"",{"$f":"IF(H772=\"\",\"\",V772/'3 Irrigation Schedule'!$M$19)","v":""}]
[null,null,null,"2022","March","2022-03-10",null,"","",5.2153200000000011,1.0187096774193547,"",0,"",{"$f":"IF(OR('3 Irrigation Schedule'!$C$29=\"\",'3 Irrigation Schedule'!$C$31=\"\",H773=\"\"),\"\",(('3 Irrigation Schedule'!$C$29-'3 Irrigation Schedule'!$C$31)/100)*1000*N773)","v":""},"",{"$f":"IF(H773=\"\",\"\",IF(H773=1,O773*(1-'3 Irrigation Schedule'!$C$27),T772-V772))","v":""},"","","",{"$f":"IF(H773=\"\",\"\",IF('3 Irrigation Schedule'!$P$19<P773,'3 Irrigation Schedule'!$P$19,P773))","v":""},"",{"$f":"IF(H773=\"\",\"\",V773/'3 Irrigation Schedule'!$M$19)","v":""}]
[null,null,null,"2022","March","2022-03-11",null,"","",5.2153200000000011,1.0187096774193547,"",0,"",{"$f":"IF(OR('3 Irrigation Schedule'!$C$29=\"\",'3 Irrigation Schedule'!$C$31=\"\",H774=\"\"),\"\",(('3 Irrigation Schedule'!$C$29-'3 Irrigation Schedule'!$C$31)/100)*1000*N774)","v":""},"",{"$f":"IF(H774=\"\",\"\",IF(H774=1,O774*(1-'3 Irrigation Schedule'!$C$27),T773-V773))","v":""},"","","",{"$f":"IF(H774=\"\",\"\",IF('3 Irrigation Schedule'!$P$19<P774,'3 Irrigation Schedule'!$P$19,P774))","v":""},"",{"$f":"IF(H774=\"\",\"\",V774/'3 Irrigation Schedule'!$M$19)","v":""}]
[null,null,null,"2022","March","2022-03-12",null,"","",5.2153200000000011,1.0187096774193547,"",0,"",{"$f":"IF(OR('3 Irrigation Schedule'!$C$29=\"\",'3 Irrigation Schedule'!$C$31=\"\",H775=\"\"),\"\",(('3 Irrigation Schedule'!$C$29-'3 Irrigation Schedule'!$C$31)/100)*1000*N775)","v":""},"",{"$f":"IF(H775=\"\",\"\",IF(H775=1,O775*(1-'3 Irrigation Schedule'!$C$27),T774-V774))","v":""},"","","",{"$f":"IF(H775=\"\",\"\",IF('3 Irrigation Schedule'!$P$19<P775,'3 Irrigation Schedule'!$P$19,P775))","v":""},"",{"$f":"IF(H775=\"\",\"\",V775/'3 Irrigation Schedule'!$M$19)","v":""}]
[null,null,null,"2022","March","2022-03-13",null,"","",5.2153200000000011,1.0187096774193547,"",0,"",{"$f":"IF(OR('3 Irrigation Schedule'!$C$29=\"\",'3 Irrigation Schedule'!$C$31=\"\",H776=\"\"),\"\",(('3 Irrigation Schedule'!$C$29-'3 Irrigation Schedule'!$C$31)/100)*1000*N776)","v":""},"",{"$f":"IF(H776=\"\",\"\",IF(H776=1,O776*(1-'3 Irrigation Schedule'!$C$27),T775-V775))","v":""},"","","",{"$f":"IF(H776=\"\",\"\",IF('3 Irrigation Schedule'!$P$19<P776,'3 Irrigation Schedule'!$P$19,P776))","v":""},"",{"$f":"IF(H776=\"\",\"\",V776/'3 Irrigation Schedule'!$M$19)","v":""}]
[null,null,null,"2022","March","2022-03-14",null,"","",5.2153200000000011,1.0187096774193547,"",0,"",{"$f":"IF(OR('3 Irrigation Schedule'!$C$29=\"\",'3 Irrigation Schedule'!$C$31=\"\",H777=\"\"),\"\",(('3 Irrigation Schedule'!$C$29-'3 Irrigation Schedule'!$C$31)/100)*1000*N777)","v":""},"",{"$f":"IF(H777=\"\",\"\",IF(H777=1,O777*(1-'3 Irrigation Schedule'!$C$27),T776-V776))","v":""},"","","",{"$f":"IF(H777=\"\",\"\",IF('3 Irrigation Schedule'!$P$19<P777,'3 Irrigation Schedule'!$P$19,P777))","v":""},"",{"$f":"IF(H777=\"\",\"\",V777/'3 Irrigation Schedule'!$M$19)","v":""}]
[null,null,null,"2022","March","2022-03-15",null,"","",5.2153200000000011,1.0187096774193547,"",0,"",{"$f":"IF(OR('3 Irrigation Schedule'!$C$29=\"\",'3 Irrigation Schedule'!$C$31=\"\",H778=\"\"),\"\",(('3 Irrigation Schedule'!$C$29-'3 Irrigation Schedule'!$C$31)/100)*1000*N778)","v":""},"",{"$f":"IF(H778=\"\",\"\",IF(H778=1,O778*(1-'3 Irrigation Schedule'!$C$27),T777-V777))","v":""},"","","",{"$f":"IF(H778=\"\",\"\",IF('3 Irrigation Schedule'!$P$19<P778,'3 Irrigation Schedule'!$P$19,P778))","v":""},"",{"$f":"IF(H778=\"\",\"\",V778/'3 Irrigation Schedule'!$M$19)","v":""}]
[null,null,null,"2022","March","2022-03-16",null,"","",5.2153200000000011,1.0187096774193547,"",0,"",{"$f":"IF(OR('3 Irrigation Schedule'!$C$29=\"\",'3 Irrigation Schedule'!$C$31=\"\",H779=\"\"),\"\",(('3 Irrigation Schedule'!$C$29-'3 Irrigation Schedule'!$C$31)/100)*1000*N779)","v":""},"",{"$f":"IF(H779=\"\",\"\",IF(H779=1,O779*(1-'3 Irrigation Schedule'!$C$27),T778-V778))","v":""},"","","",{"$f":"IF(H779=\"\",\"\",IF('3 Irrigation Schedule'!$P$19<P779,'3 Irrigation Schedule'!$P$19,P779))","v":""},"",{"$f":"IF(H779=\"\",\"\",V779/'3 Irrigation Schedule'!$M$19)","v":""}]
[null,null,null,"2022","March","2022-03-17",null,"","",5.2153200000000011,1.0187096774193547,"",0,"",{"$f":"IF(OR('3 Irrigation Schedule'!$C$29=\"\",'3 Irrigation Schedule'!$C$31=\"\",H780=\"\"),\"\",(('3 Irrigation Schedule'!$C$29-'3 Irrigation Schedule'!$C$31)/100)*1000*N780)","v":""},"",{"$f":"IF(H780=\"\",\"\",IF(H780=1,O780*(1-'3 Irrigation Schedule'!$C$27),T779-V779))","v":""},"","","",{"$f":"IF(H780=\"\",\"\",IF('3 Irrigation Schedule'!$P$19<P780,'3 Irrigation Schedule'!$P$19,P780))","v":""},"",{"$f":"IF(H780=\"\",\"\",V780/'3 Irrigation Schedule'!$M$19)","v":""}]
[null,null,null,"2022","March","2022-03-18",null,"","",5.2153200000000011,1.0187096774193547,"",0,"",{"$f":"IF(OR('3 Irrigation Schedule'!$C$29=\"\",'3 Irrigation Schedule'!$C$31=\"\",H781=\"\"),\"\",(('3 Irrigation Schedule'!$C$29-'3 Irrigation Schedule'!$C$31)/100)*1000*N781)","v":""},"",{"$f":"IF(H781=\"\",\"\",IF(H781=1,O781*(1-'3 Irrigation Schedule'!$C$27),T780-V780))","v":""},"","","",{"$f":"IF(H781=\"\",\"\",IF('3 Irrigation Schedule'!$P$19<P781,'3 Irrigation Schedule'!$P$19,P781))","v":""},"",{"$f":"IF(H781=\"\",\"\",V781/'3 Irrigation Schedule'!$M$19)","v":""}]
[null,null,null,"2022","March","2022-03-19",null,"","",5.2153200000000011,1.0187096774193547,"",0,"",{"$f":"IF(OR('3 Irrigation Schedule'!$C$29=\"\",'3 Irrigation Schedule'!$C$31=\"\",H782=\"\"),\"\",(('3 Irrigation Schedule'!$C$29-'3 Irrigation Schedule'!$C$31)/100)*1000*N782)","v":""},"",{"$f":"IF(H782=\"\",\"\",IF(H782=1,O782*(1-'3 Irrigation Schedule'!$C$27),T781-V781))","v":""},"","","",{"$f":"IF(H782=\"\",\"\",IF('3 Irrigation Schedule'!$P$19<P782,'3 Irrigation Schedule'!$P$19,P782))","v":""},"",{"$f":"IF(H782=\"\",\"\",V782/'3 Irrigation Schedule'!$M$19)","v":""}]
[null,null,null,"2022","March","2022-03-20",null,"","",5.2153200000000011,1.0187096774193547,"",0,"",{"$f":"IF(OR('3 Irrigation Schedule'!$C$29=\"\",'3 Irrigation Schedule'!$C$31=\"\",H783=\"\"),\"\",(('3 Irrigation Schedule'!$C$29-'3 Irrigation Schedule'!$C$31)/100)*1000*N783)","v":""},"",{"$f":"IF(H783=\"\",\"\",IF(H783=1,O783*(1-'3 Irrigation Schedule'!$C$27),T782-V782))","v":""},"","","",{"$f":"IF(H783=\"\",\"\",IF('3 Irrigation Schedule'!$P$19<P783,'3 Irrigation Schedule'!$P$19,P783))","v":""},"",{"$f":"IF(H783=\"\",\"\",V783/'3 Irrigation Schedule'!$M$19)","v":""}]
[null,null,null,"2022","March","2022-03-21",null,"","",5.2153200000000011,1.0187096774193547,"",0,"",{"$f":"IF(OR('3 Irrigation Schedule'!$C$29=\"\",'3 Irrigation Schedule'!$C$31=\"\",H784=\"\"),\"\",(('3 Irrigation Schedule'!$C$29-'3 Irrigation Schedule'!$C$31)/100)*1000*N784)","v":""},"",{"$f":"IF(H784=\"\",\"\",IF(H784=1,O784*(1-'3 Irrigation Schedule'!$C$27),T783-V783))","v":""},"","","",{"$f":"IF(H784=\"\",\"\",IF('3 Irrigation Schedule'!$P$19<P784,'3 Irrigation Schedule'!$P$19,P784))","v":""},"",{"$f":"IF(H784=\"\",\"\",V784/'3 Irrigation Schedule'!$M$19)","v":""}]
[null,null,null,"2022","March","2022-03-22",null,"","",5.2153200000000011,1.0187096774193547,"",0,"",{"$f":"IF(OR('3 Irrigation Schedule'!$C$29=\"\",'3 Irrigation Schedule'!$C$31=\"\",H785=\"\"),\"\",(('3 Irrigation Schedule'!$C$29-'3 Irrigation Schedule'!$C$31)/100)*1000*N785)","v":""},"",{"$f":"IF(H785=\"\",\"\",IF(H785=1,O785*(1-'3 Irrigation Schedule'!$C$27),T784-V784))","v":""},"","","",{"$f":"IF(H785=\"\",\"\",IF('3 Irrigation Schedule'!$P$19<P785,'3 Irrigation Schedule'!$P$19,P785))","v":""},"",{"$f":"IF(H785=\"\",\"\",V785/'3 Irrigation Schedule'!$M$19)","v":""}]
[null,null,null,"2022","March","2022-03-23",null,"","",5.2153200000000011,1.0187096774193547,"",0,"",{"$f":"IF(OR('3 Irrigation Schedule'!$C$29=\"\",'3 Irrigation Schedule'!$C$31=\"\",H786=\"\"),\"\",(('3 Irrigation Schedule'!$C$29-'3 Irrigation Schedule'!$C$31)/100)*1000*N786)","v":""},"",{"$f":"IF(H786=\"\",\"\",IF(H786=1,O786*(1-'3 Irrigation Schedule'!$C$27),T785-V785))","v":""},"","","",{"$f":"IF(H786=\"\",\"\",IF('3 Irrigation Schedule'!$P$19<P786,'3 Irrigation Schedule'!$P$19,P786))","v":""},"",{"$f":"IF(H786=\"\",\"\",V786/'3 Irrigation Schedule'!$M$19)","v":""}]
[null,null,null,"2022","March","2022-03-24",null,"","",5.2153200000000011,1.0187096774193547,"",0,"",{"$f":"IF(OR('3 Irrigation Schedule'!$C$29=\"\",'3 Irrigation Schedule'!$C$31=\"\",H787=\"\"),\"\",(('3 Irrigation Schedule'!$C$29-'3 Irrigation Schedule'!$C$31)/100)*1000*N787)","v":""},"",{"$f":"IF(H787=\"\",\"\",IF(H787=1,O787*(1-'3 Irrigation Schedule'!$C$27),T786-V786))","v":""},"","","",{"$f":"IF(H787=\"\",\"\",IF('3 Irrigation Schedule'!$P$19<P787,'3 Irrigation Schedule'!$P$19,P787))","v":""},"",{"$f":"IF(H787=\"\",\"\",V787/'3 Irrigation Schedule'!$M$19)","v":""}]
[null,null,null,"2022","March","2022-03-25",null,"","",5.2153200000000011,1.0187096774193547,"",0,"",{"$f":"IF(OR('3 Irrigation Schedule'!$C$29=\"\",'3 Irrigation Schedule'!$C$31=\"\",H788=\"\"),\"\",(('3 Irrigation Schedule'!$C$29-'3 Irrigation Schedule'!$C$31)/100)*1000*N788)","v":""},"",{"$f":"IF(H788=\"\",\"\",IF(H788=1,O788*(1-'3 Irrigation Schedule'!$C$27),T787-V787))","v":""},"","","",{"$f":"IF(H788=\"\",\"\",IF('3 Irrigation Schedule'!$P$19<P788,'3 Irrigation Schedule'!$P$19,P788))","v":""},"",{"$f":"IF(H788=\"\",\"\",V788/'3 Irrigation Schedule'!$M$19)","v":""}]
[null,null,null,"2022","March","2022-03-26",null,"","",5.2153200000000011,1.0187096774193547,"",0,"",{"$f":"IF(OR('3 Irrigation Schedule'!$C$29=\"\",'3 Irrigation Schedule'!$C$31=\"\",H789=\"\"),\"\",(('3 Irrigation Schedule'!$C$29-'3 Irrigation Schedule'!$C$31)/100)*1000*N789)","v":""},"",{"$f":"IF(H789=\"\",\"\",IF(H789=1,O789*(1-'3 Irrigation Schedule'!$C$27),T788-V788))","v":""},"","","",{"$f":"IF(H789=\"\",\"\",IF('3 Irrigation Schedule'!$P$19<P789,'3 Irrigation Schedule'!$P$19,P789))","v":""},"",{"$f":"IF(H789=\"\",\"\",V789/'3 Irrigation Schedule'!$M$19)","v":""}]
[null,null,null,"2022","March","2022-03-27",null,"","",5.2153200000000011,1.0187096774193547,"",0,"",{"$f":"IF(OR('3 Irrigation Schedule'!$C$29=\"\",'3 Irrigation Schedule'!$C$31=\"\",H790=\"\"),\"\",(('3 Irrigation Schedule'!$C$29-'3 Irrigation Schedule'!$C$31)/100)*1000*N790)","v":""},"",{"$f":"IF(H790=\"\",\"\",IF(H790=1,O790*(1-'3 Irrigation Schedule'!$C$27),T789-V789))","v":""},"","","",{"$f":"IF(H790=\"\",\"\",IF('3 Irrigation Schedule'!$P$19<P790,'3 Irrigation Schedule'!$P$19,P790))","v":""},"",{"$f":"IF(H790=\"\",\"\",V790/'3 Irrigation Schedule'!$M$19)","v":""}]
[null,null,null,"2022","March","2022-03-28",null,"","",5.2153200000000011,1.0187096774193547,"",0,"",{"$f":"IF(OR('3 Irrigation Schedule'!$C$29=\"\",'3 Irrigation Schedule'!$C$31=\"\",H791=\"\"),\"\",(('3 Irrigation Schedule'!$C$29-'3 Irrigation Schedule'!$C$31)/100)*1000*N791)","v":""},"",{"$f":"IF(H791=\"\",\"\",IF(H791=1,O791*(1-'3 Irrigation Schedule'!$C$27),T790-V790))","v":""},"","","",{"$f":"IF(H791=\"\",\"\",IF('3 Irrigation Schedule'!$P$19<P791,'3 Irrigation Schedule'!$P$19,P791))","v":""},"",{"$f":"IF(H791=\"\",\"\",V791/'3 Irrigation Schedule'!$M$19)","v":""}]
[null,null,null,"2022","March","2022-03-29",null,"","",5.2153200000000011,1.0187096774193547,"",0,"",{"$f":"IF(OR('3 Irrigation Schedule'!$C$29=\"\",'3 Irrigation Schedule'!$C$31=\"\",H792=\"\"),\"\",(('3 Irrigation Schedule'!$C$29-'3 Irrigation Schedule'!$C$31)/100)*1000*N792)","v":""},"",{"$f":"IF(H792=\"\",\"\",IF(H792=1,O792*(1-'3 Irrigation Schedule'!$C$27),T791-V791))","v":""},"","","",{"$f":"IF(H792=\"\",\"\",IF('3 Irrigation Schedule'!$P$19<P792,'3 Irrigation Schedule'!$P$19,P792))","v":""},"",{"$f":"IF(H792=\"\",\"\",V792/'3 Irrigation Schedule'!$M$19)","v":""}]
[null,null,null,"2022","March","2022-03-30",null,"","",5.2153200000000011,1.0187096774193547,"",0,"",{"$f":"IF(OR('3 Irrigation Schedule'!$C$29=\"\",'3 Irrigation Schedule'!$C$31=\"\",H793=\"\"),\"\",(('3 Irrigation Schedule'!$C$29-'3 Irrigation Schedule'!$C$31)/100)*1000*N793)","v":""},"",{"$f":"IF(H793=\"\",\"\",IF(H793=1,O793*(1-'3 Irrigation Schedule'!$C$27),T792-V792))","v":""},"","","",{"$f":"IF(H793=\"\",\"\",IF('3 Irrigation Schedule'!$P$19<P793,'3 Irrigation Schedule'!$P$19,P793))","v":""},"",{"$f":"IF(H793=\"\",\"\",V793/'3 Irrigation Schedule'!$M$19)","v":""}]
[null,null,null,"2022","March","2022-03-31",null,"","",5.2153200000000011,1.0187096774193547,"",0,"",{"$f":"IF(OR('3 Irrigation Schedule'!$C$29=\"\",'3 Irrigation Schedule'!$C$31=\"\",H794=\"\"),\"\",(('3 Irrigation Schedule'!$C$29-'3 Irrigation Schedule'!$C$31)/100)*1000*N794)","v":""},"",{"$f":"IF(H794=\"\",\"\",IF(H794=1,O794*(1-'3 Irrigation Schedule'!$C$27),T793-V793))","v":""},"","","",{"$f":"IF(H794=\"\",\"\",IF('3 Irrigation Schedule'!$P$19<P794,'3 Irrigation Schedule'!$P$19,P794))","v":""},"",{"$f":"IF(H794=\"\",\"\",V794/'3 Irrigation Schedule'!$M$19)","v":""}]
[null,null,null,"2022","April","2022-04-01",null,"","",5.3054400000000008,3.0080000000000005,"",0,"",{"$f":"IF(OR('3 Irrigation Schedule'!$C$29=\"\",'3 Irrigation Schedule'!$C$31=\"\",H795=\"\"),\"\",(('3 Irrigation Schedule'!$C$29-'3 Irrigation Schedule'!$C$31)/100)*1000*N795)","v":""},"",{"$f":"IF(H795=\"\",\"\",IF(H795=1,O795*(1-'3 Irrigation Schedule'!$C$27),T794-V794))","v":""},"","","",{"$f":"IF(H795=\"\",\"\",IF('3 Irrigation Schedule'!$P$19<P795,'3 Irrigation Schedule'!$P$19,P795))","v":""},"",{"$f":"IF(H795=\"\",\"\",V795/'3 Irrigation Schedule'!$M$19)","v":""}]
[null,null,null,"2022","April","2022-04-02",null,"","",5.3054400000000008,3.0080000000000005,"",0,"",{"$f":"IF(OR('3 Irrigation Schedule'!$C$29=\"\",'3 Irrigation Schedule'!$C$31=\"\",H796=\"\"),\"\",(('3 Irrigation Schedule'!$C$29-'3 Irrigation Schedule'!$C$31)/100)*1000*N796)","v":""},"",{"$f":"IF(H796=\"\",\"\",IF(H796=1,O796*(1-'3 Irrigation Schedule'!$C$27),T795-V795))","v":""},"","","",{"$f":"IF(H796=\"\",\"\",IF('3 Irrigation Schedule'!$P$19<P796,'3 Irrigation Schedule'!$P$19,P796))","v":""},"",{"$f":"IF(H796=\"\",\"\",V796/'3 Irrigation Schedule'!$M$19)","v":""}]
[null,null,null,"2022","April","2022-04-03",null,"","",5.3054400000000008,3.0080000000000005,"",0,"",{"$f":"IF(OR('3 Irrigation Schedule'!$C$29=\"\",'3 Irrigation Schedule'!$C$31=\"\",H797=\"\"),\"\",(('3 Irrigation Schedule'!$C$29-'3 Irrigation Schedule'!$C$31)/100)*1000*N797)","v":""},"",{"$f":"IF(H797=\"\",\"\",IF(H797=1,O797*(1-'3 Irrigation Schedule'!$C$27),T796-V796))","v":""},"","","",{"$f":"IF(H797=\"\",\"\",IF('3 Irrigation Schedule'!$P$19<P797,'3 Irrigation Schedule'!$P$19,P797))","v":""},"",{"$f":"IF(H797=\"\",\"\",V797/'3 Irrigation Schedule'!$M$19)","v":""}]
[null,null,null,"2022","April","2022-04-04",null,"","",5.3054400000000008,3.0080000000000005,"",0,"",{"$f":"IF(OR('3 Irrigation Schedule'!$C$29=\"\",'3 Irrigation Schedule'!$C$31=\"\",H798=\"\"),\"\",(('3 Irrigation Schedule'!$C$29-'3 Irrigation Schedule'!$C$31)/100)*1000*N798)","v":""},"",{"$f":"IF(H798=\"\",\"\",IF(H798=1,O798*(1-'3 Irrigation Schedule'!$C$27),T797-V797))","v":""},"","","",{"$f":"IF(H798=\"\",\"\",IF('3 Irrigation Schedule'!$P$19<P798,'3 Irrigation Schedule'!$P$19,P798))","v":""},"",{"$f":"IF(H798=\"\",\"\",V798/'3 Irrigation Schedule'!$M$19)","v":""}]
[null,null,null,"2022","April","2022-04-05",null,"","",5.3054400000000008,3.0080000000000005,"",0,"",{"$f":"IF(OR('3 Irrigation Schedule'!$C$29=\"\",'3 Irrigation Schedule'!$C$31=\"\",H799=\"\"),\"\",(('3 Irrigation Schedule'!$C$29-'3 Irrigation Schedule'!$C$31)/100)*1000*N799)","v":""},"",{"$f":"IF(H799=\"\",\"\",IF(H799=1,O799*(1-'3 Irrigation Schedule'!$C$27),T798-V798))","v":""},"","","",{"$f":"IF(H799=\"\",\"\",IF('3 Irrigation Schedule'!$P$19<P799,'3 Irrigation Schedule'!$P$19,P799))","v":""},"",{"$f":"IF(H799=\"\",\"\",V799/'3 Irrigation Schedule'!$M$19)","v":""}]
[null,null,null,"2022","April","2022-04-06",null,"","",5.3054400000000008,3.0080000000000005,"",0,"",{"$f":"IF(OR('3 Irrigation Schedule'!$C$29=\"\",'3 Irrigation Schedule'!$C$31=\"\",H800=\"\"),\"\",(('3 Irrigation Schedule'!$C$29-'3 Irrigation Schedule'!$C$31)/100)*1000*N800)","v":""},"",{"$f":"IF(H800=\"\",\"\",IF(H800=1,O800*(1-'3 Irrigation Schedule'!$C$27),T799-V799))","v":""},"","","",{"$f":"IF(H800=\"\",\"\",IF('3 Irrigation Schedule'!$P$19<P800,'3 Irrigation Schedule'!$P$19,P800))","v":""},"",{"$f":"IF(H800=\"\",\"\",V800/'3 Irrigation Schedule'!$M$19)","v":""}]
[null,null,null,"2022","April","2022-04-07",null,"","",5.3054400000000008,3.0080000000000005,"",0,"",{"$f":"IF(OR('3 Irrigation Schedule'!$C$29=\"\",'3 Irrigation Schedule'!$C$31=\"\",H801=\"\"),\"\",(('3 Irrigation Schedule'!$C$29-'3 Irrigation Schedule'!$C$31)/100)*1000*N801)","v":""},"",{"$f":"IF(H801=\"\",\"\",IF(H801=1,O801*(1-'3 Irrigation Schedule'!$C$27),T800-V800))","v":""},"","","",{"$f":"IF(H801=\"\",\"\",IF('3 Irrigation Schedule'!$P$19<P801,'3 Irrigation Schedule'!$P$19,P801))","v":""},"",{"$f":"IF(H801=\"\",\"\",V801/'3 Irrigation Schedule'!$M$19)","v":""}]
[null,null,null,{"$f":"IFERROR(TEXT(DATE(YEAR($F802),MONTH($F802),1),$D$7&$D$4),\"\")","v":"2022"},{"$f":"IFERROR(TEXT(DATE(YEAR($F802),MONTH($F802),1),$D$7&$D$5),\"\")","v":"April"},"2022-04-08",null,"","",{"$f":"IFERROR(VLOOKUP($E802,$B$19:$C$30,2,FALSE),\"\")","v":5.3054400000000008},3.0080000000000005,{"$f":"IF(H802=\"\",\"\",IF(H802<=$I$27,$L$27,IF(AND(H802>$I$27,H802<=$I$28),$L$27+((H802-$I$27)/$H$28)*($L$29-$L$27),IF(AND(H802>$I$28,H802<=$I$29),$L$29,$L$29+((H802-$I$29)/$H$30)*($L$30-$L$29)))))","v":""},{"$f":"IFERROR((J802*L802),0)","v":0},{"$f":"IF(H802=\"\",\"\",IF(OR(H802=1,H802<$I$28),$M$27+(($M$28-$M$27)*((H802-1)/($I$28-1))),$M$28))","v":""},{"$f":"IF(OR('3 Irrigation Schedule'!$C$29=\"\",'3 Irrigation Schedule'!$C$31=\"\",H802=\"\"),\"\",(('3 Irrigation Schedule'!$C$29-'3 Irrigation Schedule'!$C$31)/100)*1000*N802)","v":""},{"$f":"IF(H802=\"\",\"\",O802*$N$27)","v":""},{"$f":"IF(H802=\"\",\"\",IF(H802=1,O802*(1-'3 Irrigation Schedule'!$C$27),T801-V801))","v":""},{"$f":"IF(H802=\"\",\"\",IF(Q802>P802,(O802-Q802)/(O802-P802),1))","v":""},{"$f":"IF(H802=\"\",\"\",M802*R802)","v":""},{"$f":"IF(H802=\"\",\"\",IF(Q802+S802-K802<0,0,Q802+S802-K802))","v":""},{"$f":"IF(H802=\"\",\"\",IF('3 Irrigation Schedule'!$P$19<P802,'3 Irrigation Schedule'!$P$19,P802))","v":""},{"$f":"IF(H802=\"\",\"\",IF(U802<=T802,U802,0))","v":""},{"$f":"IF(H802=\"\",\"\",V802/'3 Irrigation Schedule'!$M$19)","v":""}]
[null,null,null,"2022","April",{"$f":"IFERROR(IF(F802+1<=$N$7, F802+1,\"\"),\"\")","v":"2022-04-09"},null,{"$f":"IFERROR(IF(OR($F803-$J$27+1<=0,$F803>$K$30),\"\",$F803-$J$27+1),\"\")","v":""},"",5.3054400000000008,{"$f":"IFERROR(VLOOKUP($E803,$B$19:$D$30,3,FALSE),\"\")","v":3.0080000000000005},"",0,"",{"$f":"IF(OR('3 Irrigation Schedule'!$C$29=\"\",'3 Irrigation Schedule'!$C$31=\"\",H803=\"\"),\"\",(('3 Irrigation Schedule'!$C$29-'3 Irrigation Schedule'!$C$31)/100)*1000*N803)","v":""},"",{"$f":"IF(H803=\"\",\"\",IF(H803=1,O803*(1-'3 Irrigation Schedule'!$C$27),T802-V802))","v":""},"","","",{"$f":"IF(H803=\"\",\"\",IF('3 Irrigation Schedule'!$P$19<P803,'3 Irrigation Schedule'!$P$19,P803))","v":""},"",{"$f":"IF(H803=\"\",\"\",V803/'3 Irrigation Schedule'!$M$19)","v":""}]
[null,null,null,"2022","April","2022-04-10",null,"","",5.3054400000000008,3.0080000000000005,"",0,"",{"$f":"IF(OR('3 Irrigation Schedule'!$C$29=\"\",'3 Irrigation Schedule'!$C$31=\"\",H804=\"\"),\"\",(('3 Irrigation Schedule'!$C$29-'3 Irrigation Schedule'!$C$31)/100)*1000*N804)","v":""},"",{"$f":"IF(H804=\"\",\"\",IF(H804=1,O804*(1-'3 Irrigation Schedule'!$C$27),T803-V803))","v":""},"","","",{"$f":"IF(H804=\"\",\"\",IF('3 Irrigation Schedule'!$P$19<P804,'3 Irrigation Schedule'!$P$19,P804))","v":""},"",{"$f":"IF(H804=\"\",\"\",V804/'3 Irrigation Schedule'!$M$19)","v":""}]
[null,null,null,"2022","April","2022-04-11",null,"","",5.3054400000000008,3.0080000000000005,"",0,"",{"$f":"IF(OR('3 Irrigation Schedule'!$C$29=\"\",'3 Irrigation Schedule'!$C$31=\"\",H805=\"\"),\"\",(('3 Irrigation Schedule'!$C$29-'3 Irrigation Schedule'!$C$31)/100)*1000*N805)","v":""},"",{"$f":"IF(H805=\"\",\"\",IF(H805=1,O805*(1-'3 Irrigation Schedule'!$C$27),T804-V804))","v":""},"","","",{"$f":"IF(H805=\"\",\"\",IF('3 Irrigation Schedule'!$P$19<P805,'3 Irrigation Schedule'!$P$19,P805))","v":""},"",{"$f":"IF(H805=\"\",\"\",V805/'3 Irrigation Schedule'!$M$19)","v":""}]
[null,null,null,"2022","April","2022-04-12",null,"","",5.3054400000000008,3.0080000000000005,"",0,"",{"$f":"IF(OR('3 Irrigation Schedule'!$C$29=\"\",'3 Irrigation Schedule'!$C$31=\"\",H806=\"\"),\"\",(('3 Irrigation Schedule'!$C$29-'3 Irrigation Schedule'!$C$31)/100)*1000*N806)","v":""},"",{"$f":"IF(H806=\"\",\"\",IF(H806=1,O806*(1-'3 Irrigation Schedule'!$C$27),T805-V805))","v":""},"","","",{"$f":"IF(H806=\"\",\"\",IF('3 Irrigation Schedule'!$P$19<P806,'3 Irrigation Schedule'!$P$19,P806))","v":""},"",{"$f":"IF(H806=\"\",\"\",V806/'3 Irrigation Schedule'!$M$19)","v":""}]
[null,null,null,"2022","April","2022-04-13",null,"","",5.3054400000000008,3.0080000000000005,"",0,"",{"$f":"IF(OR('3 Irrigation Schedule'!$C$29=\"\",'3 Irrigation Schedule'!$C$31=\"\",H807=\"\"),\"\",(('3 Irrigation Schedule'!$C$29-'3 Irrigation Schedule'!$C$31)/100)*1000*N807)","v":""},"",{"$f":"IF(H807=\"\",\"\",IF(H807=1,O807*(1-'3 Irrigation Schedule'!$C$27),T806-V806))","v":""},"","","",{"$f":"IF(H807=\"\",\"\",IF('3 Irrigation Schedule'!$P$19<P807,'3 Irrigation Schedule'!$P$19,P807))","v":""},"",{"$f":"IF(H807=\"\",\"\",V807/'3 Irrigation Schedule'!$M$19)","v":""}]
[null,null,null,"2022","April","2022-04-14",null,"","",5.3054400000000008,3.0080000000000005,"",0,"",{"$f":"IF(OR('3 Irrigation Schedule'!$C$29=\"\",'3 Irrigation Schedule'!$C$31=\"\",H808=\"\"),\"\",(('3 Irrigation Schedule'!$C$29-'3 Irrigation Schedule'!$C$31)/100)*1000*N808)","v":""},"",{"$f":"IF(H808=\"\",\"\",IF(H808=1,O808*(1-'3 Irrigation Schedule'!$C$27),T807-V807))","v":""},"","","",{"$f":"IF(H808=\"\",\"\",IF('3 Irrigation Schedule'!$P$19<P808,'3 Irrigation Schedule'!$P$19,P808))","v":""},"",{"$f":"IF(H808=\"\",\"\",V808/'3 Irrigation Schedule'!$M$19)","v":""}]
[null,null,null,"2022","April","2022-04-15",null,"","",5.3054400000000008,3.0080000000000005,"",0,"",{"$f":"IF(OR('3 Irrigation Schedule'!$C$29=\"\",'3 Irrigation Schedule'!$C$31=\"\",H809=\"\"),\"\",(('3 Irrigation Schedule'!$C$29-'3 Irrigation Schedule'!$C$31)/100)*1000*N809)","v":""},"",{"$f":"IF(H809=\"\",\"\",IF(H809=1,O809*(1-'3 Irrigation Schedule'!$C$27),T808-V808))","v":""},"","","",{"$f":"IF(H809=\"\",\"\",IF('3 Irrigation Schedule'!$P$19<P809,'3 Irrigation Schedule'!$P$19,P809))","v":""},"",{"$f":"IF(H809=\"\",\"\",V809/'3 Irrigation Schedule'!$M$19)","v":""}]
[null,null,null,"2022","April","2022-04-16",null,"","",5.3054400000000008,3.0080000000000005,"",0,"",{"$f":"IF(OR('3 Irrigation Schedule'!$C$29=\"\",'3 Irrigation Schedule'!$C$31=\"\",H810=\"\"),\"\",(('3 Irrigation Schedule'!$C$29-'3 Irrigation Schedule'!$C$31)/100)*1000*N810)","v":""},"",{"$f":"IF(H810=\"\",\"\",IF(H810=1,O810*(1-'3 Irrigation Schedule'!$C$27),T809-V809))","v":""},"","","",{"$f":"IF(H810=\"\",\"\",IF('3 Irrigation Schedule'!$P$19<P810,'3 Irrigation Schedule'!$P$19,P810))","v":""},"",{"$f":"IF(H810=\"\",\"\",V810/'3 Irrigation Schedule'!$M$19)","v":""}]
[null,null,null,"2022","April","2022-04-17",null,"","",5.3054400000000008,3.0080000000000005,"",0,"",{"$f":"IF(OR('3 Irrigation Schedule'!$C$29=\"\",'3 Irrigation Schedule'!$C$31=\"\",H811=\"\"),\"\",(('3 Irrigation Schedule'!$C$29-'3 Irrigation Schedule'!$C$31)/100)*1000*N811)","v":""},"",{"$f":"IF(H811=\"\",\"\",IF(H811=1,O811*(1-'3 Irrigation Schedule'!$C$27),T810-V810))","v":""},"","","",{"$f":"IF(H811=\"\",\"\",IF('3 Irrigation Schedule'!$P$19<P811,'3 Irrigation Schedule'!$P$19,P811))","v":""},"",{"$f":"IF(H811=\"\",\"\",V811/'3 Irrigation Schedule'!$M$19)","v":""}]
[null,null,null,"2022","April","2022-04-18",null,"","",5.3054400000000008,3.0080000000000005,"",0,"",{"$f":"IF(OR('3 Irrigation Schedule'!$C$29=\"\",'3 Irrigation Schedule'!$C$31=\"\",H812=\"\"),\"\",(('3 Irrigation Schedule'!$C$29-'3 Irrigation Schedule'!$C$31)/100)*1000*N812)","v":""},"",{"$f":"IF(H812=\"\",\"\",IF(H812=1,O812*(1-'3 Irrigation Schedule'!$C$27),T811-V811))","v":""},"","","",{"$f":"IF(H812=\"\",\"\",IF('3 Irrigation Schedule'!$P$19<P812,'3 Irrigation Schedule'!$P$19,P812))","v":""},"",{"$f":"IF(H812=\"\",\"\",V812/'3 Irrigation Schedule'!$M$19)","v":""}]
[null,null,null,"2022","April","2022-04-19",null,"","",5.3054400000000008,3.0080000000000005,"",0,"",{"$f":"IF(OR('3 Irrigation Schedule'!$C$29=\"\",'3 Irrigation Schedule'!$C$31=\"\",H813=\"\"),\"\",(('3 Irrigation Schedule'!$C$29-'3 Irrigation Schedule'!$C$31)/100)*1000*N813)","v":""},"",{"$f":"IF(H813=\"\",\"\",IF(H813=1,O813*(1-'3 Irrigation Schedule'!$C$27),T812-V812))","v":""},"","","",{"$f":"IF(H813=\"\",\"\",IF('3 Irrigation Schedule'!$P$19<P813,'3 Irrigation Schedule'!$P$19,P813))","v":""},"",{"$f":"IF(H813=\"\",\"\",V813/'3 Irrigation Schedule'!$M$19)","v":""}]
[null,null,null,"2022","April","2022-04-20",null,"","",5.3054400000000008,3.0080000000000005,"",0,"",{"$f":"IF(OR('3 Irrigation Schedule'!$C$29=\"\",'3 Irrigation Schedule'!$C$31=\"\",H814=\"\"),\"\",(('3 Irrigation Schedule'!$C$29-'3 Irrigation Schedule'!$C$31)/100)*1000*N814)","v":""},"",{"$f":"IF(H814=\"\",\"\",IF(H814=1,O814*(1-'3 Irrigation Schedule'!$C$27),T813-V813))","v":""},"","","",{"$f":"IF(H814=\"\",\"\",IF('3 Irrigation Schedule'!$P$19<P814,'3 Irrigation Schedule'!$P$19,P814))","v":""},"",{"$f":"IF(H814=\"\",\"\",V814/'3 Irrigation Schedule'!$M$19)","v":""}]
[null,null,null,"2022","April","2022-04-21",null,"","",5.3054400000000008,3.0080000000000005,"",0,"",{"$f":"IF(OR('3 Irrigation Schedule'!$C$29=\"\",'3 Irrigation Schedule'!$C$31=\"\",H815=\"\"),\"\",(('3 Irrigation Schedule'!$C$29-'3 Irrigation Schedule'!$C$31)/100)*1000*N815)","v":""},"",{"$f":"IF(H815=\"\",\"\",IF(H815=1,O815*(1-'3 Irrigation Schedule'!$C$27),T814-V814))","v":""},"","","",{"$f":"IF(H815=\"\",\"\",IF('3 Irrigation Schedule'!$P$19<P815,'3 Irrigation Schedule'!$P$19,P815))","v":""},"",{"$f":"IF(H815=\"\",\"\",V815/'3 Irrigation Schedule'!$M$19)","v":""}]
[null,null,null,"2022","April","2022-04-22",null,"","",5.3054400000000008,3.0080000000000005,"",0,"",{"$f":"IF(OR('3 Irrigation Schedule'!$C$29=\"\",'3 Irrigation Schedule'!$C$31=\"\",H816=\"\"),\"\",(('3 Irrigation Schedule'!$C$29-'3 Irrigation Schedule'!$C$31)/100)*1000*N816)","v":""},"",{"$f":"IF(H816=\"\",\"\",IF(H816=1,O816*(1-'3 Irrigation Schedule'!$C$27),T815-V815))","v":""},"","","",{"$f":"IF(H816=\"\",\"\",IF('3 Irrigation Schedule'!$P$19<P816,'3 Irrigation Schedule'!$P$19,P816))","v":""},"",{"$f":"IF(H816=\"\",\"\",V816/'3 Irrigation Schedule'!$M$19)","v":""}]
[null,null,null,"2022","April","2022-04-23",null,"","",5.3054400000000008,3.0080000000000005,"",0,"",{"$f":"IF(OR('3 Irrigation Schedule'!$C$29=\"\",'3 Irrigation Schedule'!$C$31=\"\",H817=\"\"),\"\",(('3 Irrigation Schedule'!$C$29-'3 Irrigation Schedule'!$C$31)/100)*1000*N817)","v":""},"",{"$f":"IF(H817=\"\",\"\",IF(H817=1,O817*(1-'3 Irrigation Schedule'!$C$27),T816-V816))","v":""},"","","",{"$f":"IF(H817=\"\",\"\",IF('3 Irrigation Schedule'!$P$19<P817,'3 Irrigation Schedule'!$P$19,P817))","v":""},"",{"$f":"IF(H817=\"\",\"\",V817/'3 Irrigation Schedule'!$M$19)","v":""}]
[null,null,null,"2022","April","2022-04-24",null,"","",5.3054400000000008,3.0080000000000005,"",0,"",{"$f":"IF(OR('3 Irrigation Schedule'!$C$29=\"\",'3 Irrigation Schedule'!$C$31=\"\",H818=\"\"),\"\",(('3 Irrigation Schedule'!$C$29-'3 Irrigation Schedule'!$C$31)/100)*1000*N818)","v":""},"",{"$f":"IF(H818=\"\",\"\",IF(H818=1,O818*(1-'3 Irrigation Schedule'!$C$27),T817-V817))","v":""},"","","",{"$f":"IF(H818=\"\",\"\",IF('3 Irrigation Schedule'!$P$19<P818,'3 Irrigation Schedule'!$P$19,P818))","v":""},"",{"$f":"IF(H818=\"\",\"\",V818/'3 Irrigation Schedule'!$M$19)","v":""}]
[null,null,null,"2022","April","2022-04-25",null,"","",5.3054400000000008,3.0080000000000005,"",0,"",{"$f":"IF(OR('3 Irrigation Schedule'!$C$29=\"\",'3 Irrigation Schedule'!$C$31=\"\",H819=\"\"),\"\",(('3 Irrigation Schedule'!$C$29-'3 Irrigation Schedule'!$C$31)/100)*1000*N819)","v":""},"",{"$f":"IF(H819=\"\",\"\",IF(H819=1,O819*(1-'3 Irrigation Schedule'!$C$27),T818-V818))","v":""},"","","",{"$f":"IF(H819=\"\",\"\",IF('3 Irrigation Schedule'!$P$19<P819,'3 Irrigation Schedule'!$P$19,P819))","v":""},"",{"$f":"IF(H819=\"\",\"\",V819/'3 Irrigation Schedule'!$M$19)","v":""}]
[null,null,null,"2022","April","2022-04-26",null,"","",5.3054400000000008,3.0080000000000005,"",0,"",{"$f":"IF(OR('3 Irrigation Schedule'!$C$29=\"\",'3 Irrigation Schedule'!$C$31=\"\",H820=\"\"),\"\",(('3 Irrigation Schedule'!$C$29-'3 Irrigation Schedule'!$C$31)/100)*1000*N820)","v":""},"",{"$f":"IF(H820=\"\",\"\",IF(H820=1,O820*(1-'3 Irrigation Schedule'!$C$27),T819-V819))","v":""},"","","",{"$f":"IF(H820=\"\",\"\",IF('3 Irrigation Schedule'!$P$19<P820,'3 Irrigation Schedule'!$P$19,P820))","v":""},"",{"$f":"IF(H820=\"\",\"\",V820/'3 Irrigation Schedule'!$M$19)","v":""}]
[null,null,null,"2022","April","2022-04-27",null,"","",5.3054400000000008,3.0080000000000005,"",0,"",{"$f":"IF(OR('3 Irrigation Schedule'!$C$29=\"\",'3 Irrigation Schedule'!$C$31=\"\",H821=\"\"),\"\",(('3 Irrigation Schedule'!$C$29-'3 Irrigation Schedule'!$C$31)/100)*1000*N821)","v":""},"",{"$f":"IF(H821=\"\",\"\",IF(H821=1,O821*(1-'3 Irrigation Schedule'!$C$27),T820-V820))","v":""},"","","",{"$f":"IF(H821=\"\",\"\",IF('3 Irrigation Schedule'!$P$19<P821,'3 Irrigation Schedule'!$P$19,P821))","v":""},"",{"$f":"IF(H821=\"\",\"\",V821/'3 Irrigation Schedule'!$M$19)","v":""}]
[null,null,null,"2022","April","2022-04-28",null,"","",5.3054400000000008,3.0080000000000005,"",0,"",{"$f":"IF(OR('3 Irrigation Schedule'!$C$29=\"\",'3 Irrigation Schedule'!$C$31=\"\",H822=\"\"),\"\",(('3 Irrigation Schedule'!$C$29-'3 Irrigation Schedule'!$C$31)/100)*1000*N822)","v":""},"",{"$f":"IF(H822=\"\",\"\",IF(H822=1,O822*(1-'3 Irrigation Schedule'!$C$27),T821-V821))","v":""},"","","",{"$f":"IF(H822=\"\",\"\",IF('3 Irrigation Schedule'!$P$19<P822,'3 Irrigation Schedule'!$P$19,P822))","v":""},"",{"$f":"IF(H822=\"\",\"\",V822/'3 Irrigation Schedule'!$M$19)","v":""}]
[null,null,null,"2022","April","2022-04-29",null,"","",5.3054400000000008,3.0080000000000005,"",0,"",{"$f":"IF(OR('3 Irrigation Schedule'!$C$29=\"\",'3 Irrigation Schedule'!$C$31=\"\",H823=\"\"),\"\",(('3 Irrigation Schedule'!$C$29-'3 Irrigation Schedule'!$C$31)/100)*1000*N823)","v":""},"",{"$f":"IF(H823=\"\",\"\",IF(H823=1,O823*(1-'3 Irrigation Schedule'!$C$27),T822-V822))","v":""},"","","",{"$f":"IF(H823=\"\",\"\",IF('3 Irrigation Schedule'!$P$19<P823,'3 Irrigation Schedule'!$P$19,P823))","v":""},"",{"$f":"IF(H823=\"\",\"\",V823/'3 Irrigation Schedule'!$M$19)","v":""}]
[null,null,null,"2022","April","2022-04-30",null,"","",5.3054400000000008,3.0080000000000005,"",0,"",{"$f":"IF(OR('3 Irrigation Schedule'!$C$29=\"\",'3 Irrigation Schedule'!$C$31=\"\",H824=\"\"),\"\",(('3 Irrigation Schedule'!$C$29-'3 Irrigation Schedule'!$C$31)/100)*1000*N824)","v":""},"",{"$f":"IF(H824=\"\",\"\",IF(H824=1,O824*(1-'3 Irrigation Schedule'!$C$27),T823-V823))","v":""},"","","",{"$f":"IF(H824=\"\",\"\",IF('3 Irrigation Schedule'!$P$19<P824,'3 Irrigation Schedule'!$P$19,P824))","v":""},"",{"$f":"IF(H824=\"\",\"\",V824/'3 Irrigation Schedule'!$M$19)","v":""}]
[null,null,null,"2022","May","2022-05-01",null,"","",5.3183200000000008,2.0593548387096776,"",0,"",{"$f":"IF(OR('3 Irrigation Schedule'!$C$29=\"\",'3 Irrigation Schedule'!$C$31=\"\",H825=\"\"),\"\",(('3 Irrigation Schedule'!$C$29-'3 Irrigation Schedule'!$C$31)/100)*1000*N825)","v":""},"",{"$f":"IF(H825=\"\",\"\",IF(H825=1,O825*(1-'3 Irrigation Schedule'!$C$27),T824-V824))","v":""},"","","",{"$f":"IF(H825=\"\",\"\",IF('3 Irrigation Schedule'!$P$19<P825,'3 Irrigation Schedule'!$P$19,P825))","v":""},"",{"$f":"IF(H825=\"\",\"\",V825/'3 Irrigation Schedule'!$M$19)","v":""}]
[null,null,null,"2022","May","2022-05-02",null,"","",5.3183200000000008,2.0593548387096776,"",0,"",{"$f":"IF(OR('3 Irrigation Schedule'!$C$29=\"\",'3 Irrigation Schedule'!$C$31=\"\",H826=\"\"),\"\",(('3 Irrigation Schedule'!$C$29-'3 Irrigation Schedule'!$C$31)/100)*1000*N826)","v":""},"",{"$f":"IF(H826=\"\",\"\",IF(H826=1,O826*(1-'3 Irrigation Schedule'!$C$27),T825-V825))","v":""},"","","",{"$f":"IF(H826=\"\",\"\",IF('3 Irrigation Schedule'!$P$19<P826,'3 Irrigation Schedule'!$P$19,P826))","v":""},"",{"$f":"IF(H826=\"\",\"\",V826/'3 Irrigation Schedule'!$M$19)","v":""}]
[null,null,null,"2022","May","2022-05-03",null,"","",5.3183200000000008,2.0593548387096776,"",0,"",{"$f":"IF(OR('3 Irrigation Schedule'!$C$29=\"\",'3 Irrigation Schedule'!$C$31=\"\",H827=\"\"),\"\",(('3 Irrigation Schedule'!$C$29-'3 Irrigation Schedule'!$C$31)/100)*1000*N827)","v":""},"",{"$f":"IF(H827=\"\",\"\",IF(H827=1,O827*(1-'3 Irrigation Schedule'!$C$27),T826-V826))","v":""},"","","",{"$f":"IF(H827=\"\",\"\",IF('3 Irrigation Schedule'!$P$19<P827,'3 Irrigation Schedule'!$P$19,P827))","v":""},"",{"$f":"IF(H827=\"\",\"\",V827/'3 Irrigation Schedule'!$M$19)","v":""}]
[null,null,null,"2022","May","2022-05-04",null,"","",5.3183200000000008,2.0593548387096776,"",0,"",{"$f":"IF(OR('3 Irrigation Schedule'!$C$29=\"\",'3 Irrigation Schedule'!$C$31=\"\",H828=\"\"),\"\",(('3 Irrigation Schedule'!$C$29-'3 Irrigation Schedule'!$C$31)/100)*1000*N828)","v":""},"",{"$f":"IF(H828=\"\",\"\",IF(H828=1,O828*(1-'3 Irrigation Schedule'!$C$27),T827-V827))","v":""},"","","",{"$f":"IF(H828=\"\",\"\",IF('3 Irrigation Schedule'!$P$19<P828,'3 Irrigation Schedule'!$P$19,P828))","v":""},"",{"$f":"IF(H828=\"\",\"\",V828/'3 Irrigation Schedule'!$M$19)","v":""}]
[null,null,null,"2022","May","2022-05-05",null,"",{"$f":"IF(H829=\"\",\"\",IF(H829<=$I$27,\"Initial\",IF(AND(H829>$I$27,H829<=$I$28),\"Development\",IF(AND(H829>$I$28,H829<=$I$29),\"Mid Season\",\"Late Season\"))))","v":""},5.3183200000000008,2.0593548387096776,"",0,"",{"$f":"IF(OR('3 Irrigation Schedule'!$C$29=\"\",'3 Irrigation Schedule'!$C$31=\"\",H829=\"\"),\"\",(('3 Irrigation Schedule'!$C$29-'3 Irrigation Schedule'!$C$31)/100)*1000*N829)","v":""},"",{"$f":"IF(H829=\"\",\"\",IF(H829=1,O829*(1-'3 Irrigation Schedule'!$C$27),T828-V828))","v":""},"","","",{"$f":"IF(H829=\"\",\"\",IF('3 Irrigation Schedule'!$P$19<P829,'3 Irrigation Schedule'!$P$19,P829))","v":""},"",{"$f":"IF(H829=\"\",\"\",V829/'3 Irrigation Schedule'!$M$19)","v":""}]
[null,null,null,"2022","May","2022-05-06",null,"","",5.3183200000000008,2.0593548387096776,"",0,"",{"$f":"IF(OR('3 Irrigation Schedule'!$C$29=\"\",'3 Irrigation Schedule'!$C$31=\"\",H830=\"\"),\"\",(('3 Irrigation Schedule'!$C$29-'3 Irrigation Schedule'!$C$31)/100)*1000*N830)","v":""},"",{"$f":"IF(H830=\"\",\"\",IF(H830=1,O830*(1-'3 Irrigation Schedule'!$C$27),T829-V829))","v":""},"","","",{"$f":"IF(H830=\"\",\"\",IF('3 Irrigation Schedule'!$P$19<P830,'3 Irrigation Schedule'!$P$19,P830))","v":""},"",{"$f":"IF(H830=\"\",\"\",V830/'3 Irrigation Schedule'!$M$19)","v":""}]
[null,null,null,"2022","May","2022-05-07",null,"","",5.3183200000000008,2.0593548387096776,"",0,"",{"$f":"IF(OR('3 Irrigation Schedule'!$C$29=\"\",'3 Irrigation Schedule'!$C$31=\"\",H831=\"\"),\"\",(('3 Irrigation Schedule'!$C$29-'3 Irrigation Schedule'!$C$31)/100)*1000*N831)","v":""},"",{"$f":"IF(H831=\"\",\"\",IF(H831=1,O831*(1-'3 Irrigation Schedule'!$C$27),T830-V830))","v":""},"","","",{"$f":"IF(H831=\"\",\"\",IF('3 Irrigation Schedule'!$P$19<P831,'3 Irrigation Schedule'!$P$19,P831))","v":""},"",{"$f":"IF(H831=\"\",\"\",V831/'3 Irrigation Schedule'!$M$19)","v":""}]
[null,null,null,"2022","May","2022-05-08",null,"","",5.3183200000000008,2.0593548387096776,"",0,"",{"$f":"IF(OR('3 Irrigation Schedule'!$C$29=\"\",'3 Irrigation Schedule'!$C$31=\"\",H832=\"\"),\"\",(('3 Irrigation Schedule'!$C$29-'3 Irrigation Schedule'!$C$31)/100)*1000*N832)","v":""},"",{"$f":"IF(H832=\"\",\"\",IF(H832=1,O832*(1-'3 Irrigation Schedule'!$C$27),T831-V831))","v":""},"","","",{"$f":"IF(H832=\"\",\"\",IF('3 Irrigation Schedule'!$P$19<P832,'3 Irrigation Schedule'!$P$19,P832))","v":""},"",{"$f":"IF(H832=\"\",\"\",V832/'3 Irrigation Schedule'!$M$19)","v":""}]
[null,null,null,"2022","May","2022-05-09",null,"","",5.3183200000000008,2.0593548387096776,"",0,"",{"$f":"IF(OR('3 Irrigation Schedule'!$C$29=\"\",'3 Irrigation Schedule'!$C$31=\"\",H833=\"\"),\"\",(('3 Irrigation Schedule'!$C$29-'3 Irrigation Schedule'!$C$31)/100)*1000*N833)","v":""},"",{"$f":"IF(H833=\"\",\"\",IF(H833=1,O833*(1-'3 Irrigation Schedule'!$C$27),T832-V832))","v":""},"","","",{"$f":"IF(H833=\"\",\"\",IF('3 Irrigation Schedule'!$P$19<P833,'3 Irrigation Schedule'!$P$19,P833))","v":""},"",{"$f":"IF(H833=\"\",\"\",V833/'3 Irrigation Schedule'!$M$19)","v":""}]
[null,null,null,"2022","May","2022-05-10",null,"","",5.3183200000000008,2.0593548387096776,"",0,"",{"$f":"IF(OR('3 Irrigation Schedule'!$C$29=\"\",'3 Irrigation Schedule'!$C$31=\"\",H834=\"\"),\"\",(('3 Irrigation Schedule'!$C$29-'3 Irrigation Schedule'!$C$31)/100)*1000*N834)","v":""},"",{"$f":"IF(H834=\"\",\"\",IF(H834=1,O834*(1-'3 Irrigation Schedule'!$C$27),T833-V833))","v":""},"","","",{"$f":"IF(H834=\"\",\"\",IF('3 Irrigation Schedule'!$P$19<P834,'3 Irrigation Schedule'!$P$19,P834))","v":""},"",{"$f":"IF(H834=\"\",\"\",V834/'3 Irrigation Schedule'!$M$19)","v":""}]
[null,null,null,"2022","May","2022-05-11",null,"","",5.3183200000000008,2.0593548387096776,"",0,"",{"$f":"IF(OR('3 Irrigation Schedule'!$C$29=\"\",'3 Irrigation Schedule'!$C$31=\"\",H835=\"\"),\"\",(('3 Irrigation Schedule'!$C$29-'3 Irrigation Schedule'!$C$31)/100)*1000*N835)","v":""},"",{"$f":"IF(H835=\"\",\"\",IF(H835=1,O835*(1-'3 Irrigation Schedule'!$C$27),T834-V834))","v":""},"","","",{"$f":"IF(H835=\"\",\"\",IF('3 Irrigation Schedule'!$P$19<P835,'3 Irrigation Schedule'!$P$19,P835))","v":""},"",{"$f":"IF(H835=\"\",\"\",V835/'3 Irrigation Schedule'!$M$19)","v":""}]
[null,null,null,"2022","May","2022-05-12",null,"","",5.3183200000000008,2.0593548387096776,"",0,"",{"$f":"IF(OR('3 Irrigation Schedule'!$C$29=\"\",'3 Irrigation Schedule'!$C$31=\"\",H836=\"\"),\"\",(('3 Irrigation Schedule'!$C$29-'3 Irrigation Schedule'!$C$31)/100)*1000*N836)","v":""},"",{"$f":"IF(H836=\"\",\"\",IF(H836=1,O836*(1-'3 Irrigation Schedule'!$C$27),T835-V835))","v":""},"","","",{"$f":"IF(H836=\"\",\"\",IF('3 Irrigation Schedule'!$P$19<P836,'3 Irrigation Schedule'!$P$19,P836))","v":""},"",{"$f":"IF(H836=\"\",\"\",V836/'3 Irrigation Schedule'!$M$19)","v":""}]
[null,null,null,"2022","May","2022-05-13",null,"","",5.3183200000000008,2.0593548387096776,"",0,"",{"$f":"IF(OR('3 Irrigation Schedule'!$C$29=\"\",'3 Irrigation Schedule'!$C$31=\"\",H837=\"\"),\"\",(('3 Irrigation Schedule'!$C$29-'3 Irrigation Schedule'!$C$31)/100)*1000*N837)","v":""},"",{"$f":"IF(H837=\"\",\"\",IF(H837=1,O837*(1-'3 Irrigation Schedule'!$C$27),T836-V836))","v":""},"","","",{"$f":"IF(H837=\"\",\"\",IF('3 Irrigation Schedule'!$P$19<P837,'3 Irrigation Schedule'!$P$19,P837))","v":""},"",{"$f":"IF(H837=\"\",\"\",V837/'3 Irrigation Schedule'!$M$19)","v":""}]
[null,null,null,"2022","May","2022-05-14",null,"","",5.3183200000000008,2.0593548387096776,"",0,"",{"$f":"IF(OR('3 Irrigation Schedule'!$C$29=\"\",'3 Irrigation Schedule'!$C$31=\"\",H838=\"\"),\"\",(('3 Irrigation Schedule'!$C$29-'3 Irrigation Schedule'!$C$31)/100)*1000*N838)","v":""},"",{"$f":"IF(H838=\"\",\"\",IF(H838=1,O838*(1-'3 Irrigation Schedule'!$C$27),T837-V837))","v":""},"","","",{"$f":"IF(H838=\"\",\"\",IF('3 Irrigation Schedule'!$P$19<P838,'3 Irrigation Schedule'!$P$19,P838))","v":""},"",{"$f":"IF(H838=\"\",\"\",V838/'3 Irrigation Schedule'!$M$19)","v":""}]
[null,null,null,"2022","May","2022-05-15",null,"","",5.3183200000000008,2.0593548387096776,"",0,"",{"$f":"IF(OR('3 Irrigation Schedule'!$C$29=\"\",'3 Irrigation Schedule'!$C$31=\"\",H839=\"\"),\"\",(('3 Irrigation Schedule'!$C$29-'3 Irrigation Schedule'!$C$31)/100)*1000*N839)","v":""},"",{"$f":"IF(H839=\"\",\"\",IF(H839=1,O839*(1-'3 Irrigation Schedule'!$C$27),T838-V838))","v":""},"","","",{"$f":"IF(H839=\"\",\"\",IF('3 Irrigation Schedule'!$P$19<P839,'3 Irrigation Schedule'!$P$19,P839))","v":""},"",{"$f":"IF(H839=\"\",\"\",V839/'3 Irrigation Schedule'!$M$19)","v":""}]
[null,null,null,"2022","May","2022-05-16",null,"","",5.3183200000000008,2.0593548387096776,"",0,"",{"$f":"IF(OR('3 Irrigation Schedule'!$C$29=\"\",'3 Irrigation Schedule'!$C$31=\"\",H840=\"\"),\"\",(('3 Irrigation Schedule'!$C$29-'3 Irrigation Schedule'!$C$31)/100)*1000*N840)","v":""},"",{"$f":"IF(H840=\"\",\"\",IF(H840=1,O840*(1-'3 Irrigation Schedule'!$C$27),T839-V839))","v":""},"","","",{"$f":"IF(H840=\"\",\"\",IF('3 Irrigation Schedule'!$P$19<P840,'3 Irrigation Schedule'!$P$19,P840))","v":""},"",{"$f":"IF(H840=\"\",\"\",V840/'3 Irrigation Schedule'!$M$19)","v":""}]
[null,null,null,"2022","May","2022-05-17",null,"","",5.3183200000000008,2.0593548387096776,"",0,"",{"$f":"IF(OR('3 Irrigation Schedule'!$C$29=\"\",'3 Irrigation Schedule'!$C$31=\"\",H841=\"\"),\"\",(('3 Irrigation Schedule'!$C$29-'3 Irrigation Schedule'!$C$31)/100)*1000*N841)","v":""},"",{"$f":"IF(H841=\"\",\"\",IF(H841=1,O841*(1-'3 Irrigation Schedule'!$C$27),T840-V840))","v":""},"","","",{"$f":"IF(H841=\"\",\"\",IF('3 Irrigation Schedule'!$P$19<P841,'3 Irrigation Schedule'!$P$19,P841))","v":""},"",{"$f":"IF(H841=\"\",\"\",V841/'3 Irrigation Schedule'!$M$19)","v":""}]
[null,null,null,"2022","May","2022-05-18",null,"","",5.3183200000000008,2.0593548387096776,"",0,"",{"$f":"IF(OR('3 Irrigation Schedule'!$C$29=\"\",'3 Irrigation Schedule'!$C$31=\"\",H842=\"\"),\"\",(('3 Irrigation Schedule'!$C$29-'3 Irrigation Schedule'!$C$31)/100)*1000*N842)","v":""},"",{"$f":"IF(H842=\"\",\"\",IF(H842=1,O842*(1-'3 Irrigation Schedule'!$C$27),T841-V841))","v":""},"","","",{"$f":"IF(H842=\"\",\"\",IF('3 Irrigation Schedule'!$P$19<P842,'3 Irrigation Schedule'!$P$19,P842))","v":""},"",{"$f":"IF(H842=\"\",\"\",V842/'3 Irrigation Schedule'!$M$19)","v":""}]
[null,null,null,"2022","May","2022-05-19",null,"","",5.3183200000000008,2.0593548387096776,"",0,"",{"$f":"IF(OR('3 Irrigation Schedule'!$C$29=\"\",'3 Irrigation Schedule'!$C$31=\"\",H843=\"\"),\"\",(('3 Irrigation Schedule'!$C$29-'3 Irrigation Schedule'!$C$31)/100)*1000*N843)","v":""},"",{"$f":"IF(H843=\"\",\"\",IF(H843=1,O843*(1-'3 Irrigation Schedule'!$C$27),T842-V842))","v":""},"","","",{"$f":"IF(H843=\"\",\"\",IF('3 Irrigation Schedule'!$P$19<P843,'3 Irrigation Schedule'!$P$19,P843))","v":""},"",{"$f":"IF(H843=\"\",\"\",V843/'3 Irrigation Schedule'!$M$19)","v":""}]
[null,null,null,"2022","May","2022-05-20",null,"","",5.3183200000000008,2.0593548387096776,"",0,"",{"$f":"IF(OR('3 Irrigation Schedule'!$C$29=\"\",'3 Irrigation Schedule'!$C$31=\"\",H844=\"\"),\"\",(('3 Irrigation Schedule'!$C$29-'3 Irrigation Schedule'!$C$31)/100)*1000*N844)","v":""},"",{"$f":"IF(H844=\"\",\"\",IF(H844=1,O844*(1-'3 Irrigation Schedule'!$C$27),T843-V843))","v":""},"","","",{"$f":"IF(H844=\"\",\"\",IF('3 Irrigation Schedule'!$P$19<P844,'3 Irrigation Schedule'!$P$19,P844))","v":""},"",{"$f":"IF(H844=\"\",\"\",V844/'3 Irrigation Schedule'!$M$19)","v":""}]
[null,null,null,"2022","May","2022-05-21",null,"","",5.3183200000000008,2.0593548387096776,"",0,"",{"$f":"IF(OR('3 Irrigation Schedule'!$C$29=\"\",'3 Irrigation Schedule'!$C$31=\"\",H845=\"\"),\"\",(('3 Irrigation Schedule'!$C$29-'3 Irrigation Schedule'!$C$31)/100)*1000*N845)","v":""},"",{"$f":"IF(H845=\"\",\"\",IF(H845=1,O845*(1-'3 Irrigation Schedule'!$C$27),T844-V844))","v":""},"","","",{"$f":"IF(H845=\"\",\"\",IF('3 Irrigation Schedule'!$P$19<P845,'3 Irrigation Schedule'!$P$19,P845))","v":""},"",{"$f":"IF(H845=\"\",\"\",V845/'3 Irrigation Schedule'!$M$19)","v":""}]
[null,null,null,"2022","May","2022-05-22",null,"","",5.3183200000000008,2.0593548387096776,"",0,"",{"$f":"IF(OR('3 Irrigation Schedule'!$C$29=\"\",'3 Irrigation Schedule'!$C$31=\"\",H846=\"\"),\"\",(('3 Irrigation Schedule'!$C$29-'3 Irrigation Schedule'!$C$31)/100)*1000*N846)","v":""},"",{"$f":"IF(H846=\"\",\"\",IF(H846=1,O846*(1-'3 Irrigation Schedule'!$C$27),T845-V845))","v":""},"","","",{"$f":"IF(H846=\"\",\"\",IF('3 Irrigation Schedule'!$P$19<P846,'3 Irrigation Schedule'!$P$19,P846))","v":""},"",{"$f":"IF(H846=\"\",\"\",V846/'3 Irrigation Schedule'!$M$19)","v":""}]
[null,null,null,"2022","May","2022-05-23",null,"","",5.3183200000000008,2.0593548387096776,"",0,"",{"$f":"IF(OR('3 Irrigation Schedule'!$C$29=\"\",'3 Irrigation Schedule'!$C$31=\"\",H847=\"\"),\"\",(('3 Irrigation Schedule'!$C$29-'3 Irrigation Schedule'!$C$31)/100)*1000*N847)","v":""},"",{"$f":"IF(H847=\"\",\"\",IF(H847=1,O847*(1-'3 Irrigation Schedule'!$C$27),T846-V846))","v":""},"","","",{"$f":"IF(H847=\"\",\"\",IF('3 Irrigation Schedule'!$P$19<P847,'3 Irrigation Schedule'!$P$19,P847))","v":""},"",{"$f":"IF(H847=\"\",\"\",V847/'3 Irrigation Schedule'!$M$19)","v":""}]
[null,null,null,"2022","May","2022-05-24",null,"","",5.3183200000000008,2.0593548387096776,"",0,"",{"$f":"IF(OR('3 Irrigation Schedule'!$C$29=\"\",'3 Irrigation Schedule'!$C$31=\"\",H848=\"\"),\"\",(('3 Irrigation Schedule'!$C$29-'3 Irrigation Schedule'!$C$31)/100)*1000*N848)","v":""},"",{"$f":"IF(H848=\"\",\"\",IF(H848=1,O848*(1-'3 Irrigation Schedule'!$C$27),T847-V847))","v":""},"","","",{"$f":"IF(H848=\"\",\"\",IF('3 Irrigation Schedule'!$P$19<P848,'3 Irrigation Schedule'!$P$19,P848))","v":""},"",{"$f":"IF(H848=\"\",\"\",V848/'3 Irrigation Schedule'!$M$19)","v":""}]
[null,null,null,"2022","May","2022-05-25",null,"","",5.3183200000000008,2.0593548387096776,"",0,"",{"$f":"IF(OR('3 Irrigation Schedule'!$C$29=\"\",'3 Irrigation Schedule'!$C$31=\"\",H849=\"\"),\"\",(('3 Irrigation Schedule'!$C$29-'3 Irrigation Schedule'!$C$31)/100)*1000*N849)","v":""},"",{"$f":"IF(H849=\"\",\"\",IF(H849=1,O849*(1-'3 Irrigation Schedule'!$C$27),T848-V848))","v":""},"","","",{"$f":"IF(H849=\"\",\"\",IF('3 Irrigation Schedule'!$P$19<P849,'3 Irrigation Schedule'!$P$19,P849))","v":""},"",{"$f":"IF(H849=\"\",\"\",V849/'3 Irrigation Schedule'!$M$19)","v":""}]
[null,null,null,"2022","May","2022-05-26",null,"","",5.3183200000000008,2.0593548387096776,"",0,"",{"$f":"IF(OR('3 Irrigation Schedule'!$C$29=\"\",'3 Irrigation Schedule'!$C$31=\"\",H850=\"\"),\"\",(('3 Irrigation Schedule'!$C$29-'3 Irrigation Schedule'!$C$31)/100)*1000*N850)","v":""},"",{"$f":"IF(H850=\"\",\"\",IF(H850=1,O850*(1-'3 Irrigation Schedule'!$C$27),T849-V849))","v":""},"","","",{"$f":"IF(H850=\"\",\"\",IF('3 Irrigation Schedule'!$P$19<P850,'3 Irrigation Schedule'!$P$19,P850))","v":""},"",{"$f":"IF(H850=\"\",\"\",V850/'3 Irrigation Schedule'!$M$19)","v":""}]
[null,null,null,"2022","May","2022-05-27",null,"","",5.3183200000000008,2.0593548387096776,"",0,"",{"$f":"IF(OR('3 Irrigation Schedule'!$C$29=\"\",'3 Irrigation Schedule'!$C$31=\"\",H851=\"\"),\"\",(('3 Irrigation Schedule'!$C$29-'3 Irrigation Schedule'!$C$31)/100)*1000*N851)","v":""},"",{"$f":"IF(H851=\"\",\"\",IF(H851=1,O851*(1-'3 Irrigation Schedule'!$C$27),T850-V850))","v":""},"","","",{"$f":"IF(H851=\"\",\"\",IF('3 Irrigation Schedule'!$P$19<P851,'3 Irrigation Schedule'!$P$19,P851))","v":""},"",{"$f":"IF(H851=\"\",\"\",V851/'3 Irrigation Schedule'!$M$19)","v":""}]
[null,null,null,"2022","May","2022-05-28",null,"","",5.3183200000000008,2.0593548387096776,"",0,"",{"$f":"IF(OR('3 Irrigation Schedule'!$C$29=\"\",'3 Irrigation Schedule'!$C$31=\"\",H852=\"\"),\"\",(('3 Irrigation Schedule'!$C$29-'3 Irrigation Schedule'!$C$31)/100)*1000*N852)","v":""},"",{"$f":"IF(H852=\"\",\"\",IF(H852=1,O852*(1-'3 Irrigation Schedule'!$C$27),T851-V851))","v":""},"","","",{"$f":"IF(H852=\"\",\"\",IF('3 Irrigation Schedule'!$P$19<P852,'3 Irrigation Schedule'!$P$19,P852))","v":""},"",{"$f":"IF(H852=\"\",\"\",V852/'3 Irrigation Schedule'!$M$19)","v":""}]
[null,null,null,"2022","May","2022-05-29",null,"","",5.3183200000000008,2.0593548387096776,"",0,"",{"$f":"IF(OR('3 Irrigation Schedule'!$C$29=\"\",'3 Irrigation Schedule'!$C$31=\"\",H853=\"\"),\"\",(('3 Irrigation Schedule'!$C$29-'3 Irrigation Schedule'!$C$31)/100)*1000*N853)","v":""},"",{"$f":"IF(H853=\"\",\"\",IF(H853=1,O853*(1-'3 Irrigation Schedule'!$C$27),T852-V852))","v":""},"","","",{"$f":"IF(H853=\"\",\"\",IF('3 Irrigation Schedule'!$P$19<P853,'3 Irrigation Schedule'!$P$19,P853))","v":""},"",{"$f":"IF(H853=\"\",\"\",V853/'3 Irrigation Schedule'!$M$19)","v":""}]
[null,null,null,"2022","May","2022-05-30",null,"","",5.3183200000000008,2.0593548387096776,"",0,"",{"$f":"IF(OR('3 Irrigation Schedule'!$C$29=\"\",'3 Irrigation Schedule'!$C$31=\"\",H854=\"\"),\"\",(('3 Irrigation Schedule'!$C$29-'3 Irrigation Schedule'!$C$31)/100)*1000*N854)","v":""},"",{"$f":"IF(H854=\"\",\"\",IF(H854=1,O854*(1-'3 Irrigation Schedule'!$C$27),T853-V853))","v":""},"","","",{"$f":"IF(H854=\"\",\"\",IF('3 Irrigation Schedule'!$P$19<P854,'3 Irrigation Schedule'!$P$19,P854))","v":""},"",{"$f":"IF(H854=\"\",\"\",V854/'3 Irrigation Schedule'!$M$19)","v":""}]
[null,null,null,"2022","May","2022-05-31",null,"","",5.3183200000000008,2.0593548387096776,"",0,"",{"$f":"IF(OR('3 Irrigation Schedule'!$C$29=\"\",'3 Irrigation Schedule'!$C$31=\"\",H855=\"\"),\"\",(('3 Irrigation Schedule'!$C$29-'3 Irrigation Schedule'!$C$31)/100)*1000*N855)","v":""},"",{"$f":"IF(H855=\"\",\"\",IF(H855=1,O855*(1-'3 Irrigation Schedule'!$C$27),T854-V854))","v":""},"","","",{"$f":"IF(H855=\"\",\"\",IF('3 Irrigation Schedule'!$P$19<P855,'3 Irrigation Schedule'!$P$19,P855))","v":""},"",{"$f":"IF(H855=\"\",\"\",V855/'3 Irrigation Schedule'!$M$19)","v":""}]
[null,null,null,"2022","June","2022-06-01",null,"","",5.2668000000000008,0.42866666666666664,"",0,"",{"$f":"IF(OR('3 Irrigation Schedule'!$C$29=\"\",'3 Irrigation Schedule'!$C$31=\"\",H856=\"\"),\"\",(('3 Irrigation Schedule'!$C$29-'3 Irrigation Schedule'!$C$31)/100)*1000*N856)","v":""},"",{"$f":"IF(H856=\"\",\"\",IF(H856=1,O856*(1-'3 Irrigation Schedule'!$C$27),T855-V855))","v":""},"","","",{"$f":"IF(H856=\"\",\"\",IF('3 Irrigation Schedule'!$P$19<P856,'3 Irrigation Schedule'!$P$19,P856))","v":""},"",{"$f":"IF(H856=\"\",\"\",V856/'3 Irrigation Schedule'!$M$19)","v":""}]
[null,null,null,"2022","June","2022-06-02",null,"","",5.2668000000000008,0.42866666666666664,"",0,"",{"$f":"IF(OR('3 Irrigation Schedule'!$C$29=\"\",'3 Irrigation Schedule'!$C$31=\"\",H857=\"\"),\"\",(('3 Irrigation Schedule'!$C$29-'3 Irrigation Schedule'!$C$31)/100)*1000*N857)","v":""},"",{"$f":"IF(H857=\"\",\"\",IF(H857=1,O857*(1-'3 Irrigation Schedule'!$C$27),T856-V856))","v":""},"","","",{"$f":"IF(H857=\"\",\"\",IF('3 Irrigation Schedule'!$P$19<P857,'3 Irrigation Schedule'!$P$19,P857))","v":""},"",{"$f":"IF(H857=\"\",\"\",V857/'3 Irrigation Schedule'!$M$19)","v":""}]
[null,null,null,"2022","June","2022-06-03",null,"","",5.2668000000000008,0.42866666666666664,"",0,"",{"$f":"IF(OR('3 Irrigation Schedule'!$C$29=\"\",'3 Irrigation Schedule'!$C$31=\"\",H858=\"\"),\"\",(('3 Irrigation Schedule'!$C$29-'3 Irrigation Schedule'!$C$31)/100)*1000*N858)","v":""},"",{"$f":"IF(H858=\"\",\"\",IF(H858=1,O858*(1-'3 Irrigation Schedule'!$C$27),T857-V857))","v":""},"","","",{"$f":"IF(H858=\"\",\"\",IF('3 Irrigation Schedule'!$P$19<P858,'3 Irrigation Schedule'!$P$19,P858))","v":""},"",{"$f":"IF(H858=\"\",\"\",V858/'3 Irrigation Schedule'!$M$19)","v":""}]
[null,null,null,"2022","June","2022-06-04",null,"","",5.2668000000000008,0.42866666666666664,"",0,"",{"$f":"IF(OR('3 Irrigation Schedule'!$C$29=\"\",'3 Irrigation Schedule'!$C$31=\"\",H859=\"\"),\"\",(('3 Irrigation Schedule'!$C$29-'3 Irrigation Schedule'!$C$31)/100)*1000*N859)","v":""},"",{"$f":"IF(H859=\"\",\"\",IF(H859=1,O859*(1-'3 Irrigation Schedule'!$C$27),T858-V858))","v":""},"","","",{"$f":"IF(H859=\"\",\"\",IF('3 Irrigation Schedule'!$P$19<P859,'3 Irrigation Schedule'!$P$19,P859))","v":""},"",{"$f":"IF(H859=\"\",\"\",V859/'3 Irrigation Schedule'!$M$19)","v":""}]
[null,null,null,"2022","June","2022-06-05",null,"","",5.2668000000000008,0.42866666666666664,"",0,"",{"$f":"IF(OR('3 Irrigation Schedule'!$C$29=\"\",'3 Irrigation Schedule'!$C$31=\"\",H860=\"\"),\"\",(('3 Irrigation Schedule'!$C$29-'3 Irrigation Schedule'!$C$31)/100)*1000*N860)","v":""},"",{"$f":"IF(H860=\"\",\"\",IF(H860=1,O860*(1-'3 Irrigation Schedule'!$C$27),T859-V859))","v":""},"","","",{"$f":"IF(H860=\"\",\"\",IF('3 Irrigation Schedule'!$P$19<P860,'3 Irrigation Schedule'!$P$19,P860))","v":""},"",{"$f":"IF(H860=\"\",\"\",V860/'3 Irrigation Schedule'!$M$19)","v":""}]
[null,null,null,"2022","June","2022-06-06",null,"","",5.2668000000000008,0.42866666666666664,"",0,"",{"$f":"IF(OR('3 Irrigation Schedule'!$C$29=\"\",'3 Irrigation Schedule'!$C$31=\"\",H861=\"\"),\"\",(('3 Irrigation Schedule'!$C$29-'3 Irrigation Schedule'!$C$31)/100)*1000*N861)","v":""},"",{"$f":"IF(H861=\"\",\"\",IF(H861=1,O861*(1-'3 Irrigation Schedule'!$C$27),T860-V860))","v":""},"","","",{"$f":"IF(H861=\"\",\"\",IF('3 Irrigation Schedule'!$P$19<P861,'3 Irrigation Schedule'!$P$19,P861))","v":""},"",{"$f":"IF(H861=\"\",\"\",V861/'3 Irrigation Schedule'!$M$19)","v":""}]
[null,null,null,"2022","June","2022-06-07",null,"","",5.2668000000000008,0.42866666666666664,"",0,"",{"$f":"IF(OR('3 Irrigation Schedule'!$C$29=\"\",'3 Irrigation Schedule'!$C$31=\"\",H862=\"\"),\"\",(('3 Irrigation Schedule'!$C$29-'3 Irrigation Schedule'!$C$31)/100)*1000*N862)","v":""},"",{"$f":"IF(H862=\"\",\"\",IF(H862=1,O862*(1-'3 Irrigation Schedule'!$C$27),T861-V861))","v":""},"","","",{"$f":"IF(H862=\"\",\"\",IF('3 Irrigation Schedule'!$P$19<P862,'3 Irrigation Schedule'!$P$19,P862))","v":""},"",{"$f":"IF(H862=\"\",\"\",V862/'3 Irrigation Schedule'!$M$19)","v":""}]
[null,null,null,"2022","June","2022-06-08",null,"","",5.2668000000000008,0.42866666666666664,"",0,"",{"$f":"IF(OR('3 Irrigation Schedule'!$C$29=\"\",'3 Irrigation Schedule'!$C$31=\"\",H863=\"\"),\"\",(('3 Irrigation Schedule'!$C$29-'3 Irrigation Schedule'!$C$31)/100)*1000*N863)","v":""},"",{"$f":"IF(H863=\"\",\"\",IF(H863=1,O863*(1-'3 Irrigation Schedule'!$C$27),T862-V862))","v":""},"","","",{"$f":"IF(H863=\"\",\"\",IF('3 Irrigation Schedule'!$P$19<P863,'3 Irrigation Schedule'!$P$19,P863))","v":""},"",{"$f":"IF(H863=\"\",\"\",V863/'3 Irrigation Schedule'!$M$19)","v":""}]
[null,null,null,"2022","June","2022-06-09",null,"","",5.2668000000000008,0.42866666666666664,"",0,"",{"$f":"IF(OR('3 Irrigation Schedule'!$C$29=\"\",'3 Irrigation Schedule'!$C$31=\"\",H864=\"\"),\"\",(('3 Irrigation Schedule'!$C$29-'3 Irrigation Schedule'!$C$31)/100)*1000*N864)","v":""},"",{"$f":"IF(H864=\"\",\"\",IF(H864=1,O864*(1-'3 Irrigation Schedule'!$C$27),T863-V863))","v":""},"","","",{"$f":"IF(H864=\"\",\"\",IF('3 Irrigation Schedule'!$P$19<P864,'3 Irrigation Schedule'!$P$19,P864))","v":""},"",{"$f":"IF(H864=\"\",\"\",V864/'3 Irrigation Schedule'!$M$19)","v":""}]
[null,null,null,"2022","June","2022-06-10",null,"","",5.2668000000000008,0.42866666666666664,"",0,"",{"$f":"IF(OR('3 Irrigation Schedule'!$C$29=\"\",'3 Irrigation Schedule'!$C$31=\"\",H865=\"\"),\"\",(('3 Irrigation Schedule'!$C$29-'3 Irrigation Schedule'!$C$31)/100)*1000*N865)","v":""},"",{"$f":"IF(H865=\"\",\"\",IF(H865=1,O865*(1-'3 Irrigation Schedule'!$C$27),T864-V864))","v":""},"","","",{"$f":"IF(H865=\"\",\"\",IF('3 Irrigation Schedule'!$P$19<P865,'3 Irrigation Schedule'!$P$19,P865))","v":""},"",{"$f":"IF(H865=\"\",\"\",V865/'3 Irrigation Schedule'!$M$19)","v":""}]
[null,null,null,{"$f":"IFERROR(TEXT(DATE(YEAR($F866),MONTH($F866),1),$D$7&$D$4),\"\")","v":"2022"},{"$f":"IFERROR(TEXT(DATE(YEAR($F866),MONTH($F866),1),$D$7&$D$5),\"\")","v":"June"},"2022-06-11",null,"","",{"$f":"IFERROR(VLOOKUP($E866,$B$19:$C$30,2,FALSE),\"\")","v":5.2668000000000008},0.42866666666666664,{"$f":"IF(H866=\"\",\"\",IF(H866<=$I$27,$L$27,IF(AND(H866>$I$27,H866<=$I$28),$L$27+((H866-$I$27)/$H$28)*($L$29-$L$27),IF(AND(H866>$I$28,H866<=$I$29),$L$29,$L$29+((H866-$I$29)/$H$30)*($L$30-$L$29)))))","v":""},{"$f":"IFERROR((J866*L866),0)","v":0},{"$f":"IF(H866=\"\",\"\",IF(OR(H866=1,H866<$I$28),$M$27+(($M$28-$M$27)*((H866-1)/($I$28-1))),$M$28))","v":""},{"$f":"IF(OR('3 Irrigation Schedule'!$C$29=\"\",'3 Irrigation Schedule'!$C$31=\"\",H866=\"\"),\"\",(('3 Irrigation Schedule'!$C$29-'3 Irrigation Schedule'!$C$31)/100)*1000*N866)","v":""},{"$f":"IF(H866=\"\",\"\",O866*$N$27)","v":""},{"$f":"IF(H866=\"\",\"\",IF(H866=1,O866*(1-'3 Irrigation Schedule'!$C$27),T865-V865))","v":""},{"$f":"IF(H866=\"\",\"\",IF(Q866>P866,(O866-Q866)/(O866-P866),1))","v":""},{"$f":"IF(H866=\"\",\"\",M866*R866)","v":""},{"$f":"IF(H866=\"\",\"\",IF(Q866+S866-K866<0,0,Q866+S866-K866))","v":""},{"$f":"IF(H866=\"\",\"\",IF('3 Irrigation Schedule'!$P$19<P866,'3 Irrigation Schedule'!$P$19,P866))","v":""},{"$f":"IF(H866=\"\",\"\",IF(U866<=T866,U866,0))","v":""},{"$f":"IF(H866=\"\",\"\",V866/'3 Irrigation Schedule'!$M$19)","v":""}]
[null,null,null,"2022","June",{"$f":"IFERROR(IF(F866+1<=$N$7, F866+1,\"\"),\"\")","v":"2022-06-12"},null,{"$f":"IFERROR(IF(OR($F867-$J$27+1<=0,$F867>$K$30),\"\",$F867-$J$27+1),\"\")","v":""},"",5.2668000000000008,{"$f":"IFERROR(VLOOKUP($E867,$B$19:$D$30,3,FALSE),\"\")","v":0.42866666666666664},"",0,"",{"$f":"IF(OR('3 Irrigation Schedule'!$C$29=\"\",'3 Irrigation Schedule'!$C$31=\"\",H867=\"\"),\"\",(('3 Irrigation Schedule'!$C$29-'3 Irrigation Schedule'!$C$31)/100)*1000*N867)","v":""},"",{"$f":"IF(H867=\"\",\"\",IF(H867=1,O867*(1-'3 Irrigation Schedule'!$C$27),T866-V866))","v":""},"","","",{"$f":"IF(H867=\"\",\"\",IF('3 Irrigation Schedule'!$P$19<P867,'3 Irrigation Schedule'!$P$19,P867))","v":""},"",{"$f":"IF(H867=\"\",\"\",V867/'3 Irrigation Schedule'!$M$19)","v":""}]
[null,null,null,"2022","June","2022-06-13",null,"","",5.2668000000000008,0.42866666666666664,"",0,"",{"$f":"IF(OR('3 Irrigation Schedule'!$C$29=\"\",'3 Irrigation Schedule'!$C$31=\"\",H868=\"\"),\"\",(('3 Irrigation Schedule'!$C$29-'3 Irrigation Schedule'!$C$31)/100)*1000*N868)","v":""},"",{"$f":"IF(H868=\"\",\"\",IF(H868=1,O868*(1-'3 Irrigation Schedule'!$C$27),T867-V867))","v":""},"","","",{"$f":"IF(H868=\"\",\"\",IF('3 Irrigation Schedule'!$P$19<P868,'3 Irrigation Schedule'!$P$19,P868))","v":""},"",{"$f":"IF(H868=\"\",\"\",V868/'3 Irrigation Schedule'!$M$19)","v":""}]
[null,null,null,"2022","June","2022-06-14",null,"","",5.2668000000000008,0.42866666666666664,"",0,"",{"$f":"IF(OR('3 Irrigation Schedule'!$C$29=\"\",'3 Irrigation Schedule'!$C$31=\"\",H869=\"\"),\"\",(('3 Irrigation Schedule'!$C$29-'3 Irrigation Schedule'!$C$31)/100)*1000*N869)","v":""},"",{"$f":"IF(H869=\"\",\"\",IF(H869=1,O869*(1-'3 Irrigation Schedule'!$C$27),T868-V868))","v":""},"","","",{"$f":"IF(H869=\"\",\"\",IF('3 Irrigation Schedule'!$P$19<P869,'3 Irrigation Schedule'!$P$19,P869))","v":""},"",{"$f":"IF(H869=\"\",\"\",V869/'3 Irrigation Schedule'!$M$19)","v":""}]
[null,null,null,"2022","June","2022-06-15",null,"","",5.2668000000000008,0.42866666666666664,"",0,"",{"$f":"IF(OR('3 Irrigation Schedule'!$C$29=\"\",'3 Irrigation Schedule'!$C$31=\"\",H870=\"\"),\"\",(('3 Irrigation Schedule'!$C$29-'3 Irrigation Schedule'!$C$31)/100)*1000*N870)","v":""},"",{"$f":"IF(H870=\"\",\"\",IF(H870=1,O870*(1-'3 Irrigation Schedule'!$C$27),T869-V869))","v":""},"","","",{"$f":"IF(H870=\"\",\"\",IF('3 Irrigation Schedule'!$P$19<P870,'3 Irrigation Schedule'!$P$19,P870))","v":""},"",{"$f":"IF(H870=\"\",\"\",V870/'3 Irrigation Schedule'!$M$19)","v":""}]
[null,null,null,"2022","June","2022-06-16",null,"","",5.2668000000000008,0.42866666666666664,"",0,"",{"$f":"IF(OR('3 Irrigation Schedule'!$C$29=\"\",'3 Irrigation Schedule'!$C$31=\"\",H871=\"\"),\"\",(('3 Irrigation Schedule'!$C$29-'3 Irrigation Schedule'!$C$31)/100)*1000*N871)","v":""},"",{"$f":"IF(H871=\"\",\"\",IF(H871=1,O871*(1-'3 Irrigation Schedule'!$C$27),T870-V870))","v":""},"","","",{"$f":"IF(H871=\"\",\"\",IF('3 Irrigation Schedule'!$P$19<P871,'3 Irrigation Schedule'!$P$19,P871))","v":""},"",{"$f":"IF(H871=\"\",\"\",V871/'3 Irrigation Schedule'!$M$19)","v":""}]
[null,null,null,"2022","June","2022-06-17",null,"","",5.2668000000000008,0.42866666666666664,"",0,"",{"$f":"IF(OR('3 Irrigation Schedule'!$C$29=\"\",'3 Irrigation Schedule'!$C$31=\"\",H872=\"\"),\"\",(('3 Irrigation Schedule'!$C$29-'3 Irrigation Schedule'!$C$31)/100)*1000*N872)","v":""},"",{"$f":"IF(H872=\"\",\"\",IF(H872=1,O872*(1-'3 Irrigation Schedule'!$C$27),T871-V871))","v":""},"","","",{"$f":"IF(H872=\"\",\"\",IF('3 Irrigation Schedule'!$P$19<P872,'3 Irrigation Schedule'!$P$19,P872))","v":""},"",{"$f":"IF(H872=\"\",\"\",V872/'3 Irrigation Schedule'!$M$19)","v":""}]
[null,null,null,"2022","June","2022-06-18",null,"","",5.2668000000000008,0.42866666666666664,"",0,"",{"$f":"IF(OR('3 Irrigation Schedule'!$C$29=\"\",'3 Irrigation Schedule'!$C$31=\"\",H873=\"\"),\"\",(('3 Irrigation Schedule'!$C$29-'3 Irrigation Schedule'!$C$31)/100)*1000*N873)","v":""},"",{"$f":"IF(H873=\"\",\"\",IF(H873=1,O873*(1-'3 Irrigation Schedule'!$C$27),T872-V872))","v":""},"","","",{"$f":"IF(H873=\"\",\"\",IF('3 Irrigation Schedule'!$P$19<P873,'3 Irrigation Schedule'!$P$19,P873))","v":""},"",{"$f":"IF(H873=\"\",\"\",V873/'3 Irrigation Schedule'!$M$19)","v":""}]
[null,null,null,"2022","June","2022-06-19",null,"","",5.2668000000000008,0.42866666666666664,"",0,"",{"$f":"IF(OR('3 Irrigation Schedule'!$C$29=\"\",'3 Irrigation Schedule'!$C$31=\"\",H874=\"\"),\"\",(('3 Irrigation Schedule'!$C$29-'3 Irrigation Schedule'!$C$31)/100)*1000*N874)","v":""},"",{"$f":"IF(H874=\"\",\"\",IF(H874=1,O874*(1-'3 Irrigation Schedule'!$C$27),T873-V873))","v":""},"","","",{"$f":"IF(H874=\"\",\"\",IF('3 Irrigation Schedule'!$P$19<P874,'3 Irrigation Schedule'!$P$19,P874))","v":""},"",{"$f":"IF(H874=\"\",\"\",V874/'3 Irrigation Schedule'!$M$19)","v":""}]
[null,null,null,"2022","June","2022-06-20",null,"","",5.2668000000000008,0.42866666666666664,"",0,"",{"$f":"IF(OR('3 Irrigation Schedule'!$C$29=\"\",'3 Irrigation Schedule'!$C$31=\"\",H875=\"\"),\"\",(('3 Irrigation Schedule'!$C$29-'3 Irrigation Schedule'!$C$31)/100)*1000*N875)","v":""},"",{"$f":"IF(H875=\"\",\"\",IF(H875=1,O875*(1-'3 Irrigation Schedule'!$C$27),T874-V874))","v":""},"","","",{"$f":"IF(H875=\"\",\"\",IF('3 Irrigation Schedule'!$P$19<P875,'3 Irrigation Schedule'!$P$19,P875))","v":""},"",{"$f":"IF(H875=\"\",\"\",V875/'3 Irrigation Schedule'!$M$19)","v":""}]
[null,null,null,"2022","June","2022-06-21",null,"","",5.2668000000000008,0.42866666666666664,"",0,"",{"$f":"IF(OR('3 Irrigation Schedule'!$C$29=\"\",'3 Irrigation Schedule'!$C$31=\"\",H876=\"\"),\"\",(('3 Irrigation Schedule'!$C$29-'3 Irrigation Schedule'!$C$31)/100)*1000*N876)","v":""},"",{"$f":"IF(H876=\"\",\"\",IF(H876=1,O876*(1-'3 Irrigation Schedule'!$C$27),T875-V875))","v":""},"","","",{"$f":"IF(H876=\"\",\"\",IF('3 Irrigation Schedule'!$P$19<P876,'3 Irrigation Schedule'!$P$19,P876))","v":""},"",{"$f":"IF(H876=\"\",\"\",V876/'3 Irrigation Schedule'!$M$19)","v":""}]
[null,null,null,"2022","June","2022-06-22",null,"","",5.2668000000000008,0.42866666666666664,"",0,"",{"$f":"IF(OR('3 Irrigation Schedule'!$C$29=\"\",'3 Irrigation Schedule'!$C$31=\"\",H877=\"\"),\"\",(('3 Irrigation Schedule'!$C$29-'3 Irrigation Schedule'!$C$31)/100)*1000*N877)","v":""},"",{"$f":"IF(H877=\"\",\"\",IF(H877=1,O877*(1-'3 Irrigation Schedule'!$C$27),T876-V876))","v":""},"","","",{"$f":"IF(H877=\"\",\"\",IF('3 Irrigation Schedule'!$P$19<P877,'3 Irrigation Schedule'!$P$19,P877))","v":""},"",{"$f":"IF(H877=\"\",\"\",V877/'3 Irrigation Schedule'!$M$19)","v":""}]
[null,null,null,"2022","June","2022-06-23",null,"","",5.2668000000000008,0.42866666666666664,"",0,"",{"$f":"IF(OR('3 Irrigation Schedule'!$C$29=\"\",'3 Irrigation Schedule'!$C$31=\"\",H878=\"\"),\"\",(('3 Irrigation Schedule'!$C$29-'3 Irrigation Schedule'!$C$31)/100)*1000*N878)","v":""},"",{"$f":"IF(H878=\"\",\"\",IF(H878=1,O878*(1-'3 Irrigation Schedule'!$C$27),T877-V877))","v":""},"","","",{"$f":"IF(H878=\"\",\"\",IF('3 Irrigation Schedule'!$P$19<P878,'3 Irrigation Schedule'!$P$19,P878))","v":""},"",{"$f":"IF(H878=\"\",\"\",V878/'3 Irrigation Schedule'!$M$19)","v":""}]
[null,null,null,"2022","June","2022-06-24",null,"","",5.2668000000000008,0.42866666666666664,"",0,"",{"$f":"IF(OR('3 Irrigation Schedule'!$C$29=\"\",'3 Irrigation Schedule'!$C$31=\"\",H879=\"\"),\"\",(('3 Irrigation Schedule'!$C$29-'3 Irrigation Schedule'!$C$31)/100)*1000*N879)","v":""},"",{"$f":"IF(H879=\"\",\"\",IF(H879=1,O879*(1-'3 Irrigation Schedule'!$C$27),T878-V878))","v":""},"","","",{"$f":"IF(H879=\"\",\"\",IF('3 Irrigation Schedule'!$P$19<P879,'3 Irrigation Schedule'!$P$19,P879))","v":""},"",{"$f":"IF(H879=\"\",\"\",V879/'3 Irrigation Schedule'!$M$19)","v":""}]
[null,null,null,"2022","June","2022-06-25",null,"","",5.2668000000000008,0.42866666666666664,"",0,"",{"$f":"IF(OR('3 Irrigation Schedule'!$C$29=\"\",'3 Irrigation Schedule'!$C$31=\"\",H880=\"\"),\"\",(('3 Irrigation Schedule'!$C$29-'3 Irrigation Schedule'!$C$31)/100)*1000*N880)","v":""},"",{"$f":"IF(H880=\"\",\"\",IF(H880=1,O880*(1-'3 Irrigation Schedule'!$C$27),T879-V879))","v":""},"","","",{"$f":"IF(H880=\"\",\"\",IF('3 Irrigation Schedule'!$P$19<P880,'3 Irrigation Schedule'!$P$19,P880))","v":""},"",{"$f":"IF(H880=\"\",\"\",V880/'3 Irrigation Schedule'!$M$19)","v":""}]
[null,null,null,"2022","June","2022-06-26",null,"","",5.2668000000000008,0.42866666666666664,"",0,"",{"$f":"IF(OR('3 Irrigation Schedule'!$C$29=\"\",'3 Irrigation Schedule'!$C$31=\"\",H881=\"\"),\"\",(('3 Irrigation Schedule'!$C$29-'3 Irrigation Schedule'!$C$31)/100)*1000*N881)","v":""},"",{"$f":"IF(H881=\"\",\"\",IF(H881=1,O881*(1-'3 Irrigation Schedule'!$C$27),T880-V880))","v":""},"","","",{"$f":"IF(H881=\"\",\"\",IF('3 Irrigation Schedule'!$P$19<P881,'3 Irrigation Schedule'!$P$19,P881))","v":""},"",{"$f":"IF(H881=\"\",\"\",V881/'3 Irrigation Schedule'!$M$19)","v":""}]
[null,null,null,"2022","June","2022-06-27",null,"","",5.2668000000000008,0.42866666666666664,"",0,"",{"$f":"IF(OR('3 Irrigation Schedule'!$C$29=\"\",'3 Irrigation Schedule'!$C$31=\"\",H882=\"\"),\"\",(('3 Irrigation Schedule'!$C$29-'3 Irrigation Schedule'!$C$31)/100)*1000*N882)","v":""},"",{"$f":"IF(H882=\"\",\"\",IF(H882=1,O882*(1-'3 Irrigation Schedule'!$C$27),T881-V881))","v":""},"","","",{"$f":"IF(H882=\"\",\"\",IF('3 Irrigation Schedule'!$P$19<P882,'3 Irrigation Schedule'!$P$19,P882))","v":""},"",{"$f":"IF(H882=\"\",\"\",V882/'3 Irrigation Schedule'!$M$19)","v":""}]
[null,null,null,"2022","June","2022-06-28",null,"","",5.2668000000000008,0.42866666666666664,"",0,"",{"$f":"IF(OR('3 Irrigation Schedule'!$C$29=\"\",'3 Irrigation Schedule'!$C$31=\"\",H883=\"\"),\"\",(('3 Irrigation Schedule'!$C$29-'3 Irrigation Schedule'!$C$31)/100)*1000*N883)","v":""},"",{"$f":"IF(H883=\"\",\"\",IF(H883=1,O883*(1-'3 Irrigation Schedule'!$C$27),T882-V882))","v":""},"","","",{"$f":"IF(H883=\"\",\"\",IF('3 Irrigation Schedule'!$P$19<P883,'3 Irrigation Schedule'!$P$19,P883))","v":""},"",{"$f":"IF(H883=\"\",\"\",V883/'3 Irrigation Schedule'!$M$19)","v":""}]
[null,null,null,"2022","June","2022-06-29",null,"","",5.2668000000000008,0.42866666666666664,"",0,"",{"$f":"IF(OR('3 Irrigation Schedule'!$C$29=\"\",'3 Irrigation Schedule'!$C$31=\"\",H884=\"\"),\"\",(('3 Irrigation Schedule'!$C$29-'3 Irrigation Schedule'!$C$31)/100)*1000*N884)","v":""},"",{"$f":"IF(H884=\"\",\"\",IF(H884=1,O884*(1-'3 Irrigation Schedule'!$C$27),T883-V883))","v":""},"","","",{"$f":"IF(H884=\"\",\"\",IF('3 Irrigation Schedule'!$P$19<P884,'3 Irrigation Schedule'!$P$19,P884))","v":""},"",{"$f":"IF(H884=\"\",\"\",V884/'3 Irrigation Schedule'!$M$19)","v":""}]
[null,null,null,"2022","June","2022-06-30",null,"","",5.2668000000000008,0.42866666666666664,"",0,"",{"$f":"IF(OR('3 Irrigation Schedule'!$C$29=\"\",'3 Irrigation Schedule'!$C$31=\"\",H885=\"\"),\"\",(('3 Irrigation Schedule'!$C$29-'3 Irrigation Schedule'!$C$31)/100)*1000*N885)","v":""},"",{"$f":"IF(H885=\"\",\"\",IF(H885=1,O885*(1-'3 Irrigation Schedule'!$C$27),T884-V884))","v":""},"","","",{"$f":"IF(H885=\"\",\"\",IF('3 Irrigation Schedule'!$P$19<P885,'3 Irrigation Schedule'!$P$19,P885))","v":""},"",{"$f":"IF(H885=\"\",\"\",V885/'3 Irrigation Schedule'!$M$19)","v":""}]
[null,null,null,"2022","July","2022-07-01",null,"","",5.2023999999999999,0.19999999999999998,"",0,"",{"$f":"IF(OR('3 Irrigation Schedule'!$C$29=\"\",'3 Irrigation Schedule'!$C$31=\"\",H886=\"\"),\"\",(('3 Irrigation Schedule'!$C$29-'3 Irrigation Schedule'!$C$31)/100)*1000*N886)","v":""},"",{"$f":"IF(H886=\"\",\"\",IF(H886=1,O886*(1-'3 Irrigation Schedule'!$C$27),T885-V885))","v":""},"","","",{"$f":"IF(H886=\"\",\"\",IF('3 Irrigation Schedule'!$P$19<P886,'3 Irrigation Schedule'!$P$19,P886))","v":""},"",{"$f":"IF(H886=\"\",\"\",V886/'3 Irrigation Schedule'!$M$19)","v":""}]
[null,null,null,"2022","July","2022-07-02",null,"","",5.2023999999999999,0.19999999999999998,"",0,"",{"$f":"IF(OR('3 Irrigation Schedule'!$C$29=\"\",'3 Irrigation Schedule'!$C$31=\"\",H887=\"\"),\"\",(('3 Irrigation Schedule'!$C$29-'3 Irrigation Schedule'!$C$31)/100)*1000*N887)","v":""},"",{"$f":"IF(H887=\"\",\"\",IF(H887=1,O887*(1-'3 Irrigation Schedule'!$C$27),T886-V886))","v":""},"","","",{"$f":"IF(H887=\"\",\"\",IF('3 Irrigation Schedule'!$P$19<P887,'3 Irrigation Schedule'!$P$19,P887))","v":""},"",{"$f":"IF(H887=\"\",\"\",V887/'3 Irrigation Schedule'!$M$19)","v":""}]
[null,null,null,"2022","July","2022-07-03",null,"","",5.2023999999999999,0.19999999999999998,"",0,"",{"$f":"IF(OR('3 Irrigation Schedule'!$C$29=\"\",'3 Irrigation Schedule'!$C$31=\"\",H888=\"\"),\"\",(('3 Irrigation Schedule'!$C$29-'3 Irrigation Schedule'!$C$31)/100)*1000*N888)","v":""},"",{"$f":"IF(H888=\"\",\"\",IF(H888=1,O888*(1-'3 Irrigation Schedule'!$C$27),T887-V887))","v":""},"","","",{"$f":"IF(H888=\"\",\"\",IF('3 Irrigation Schedule'!$P$19<P888,'3 Irrigation Schedule'!$P$19,P888))","v":""},"",{"$f":"IF(H888=\"\",\"\",V888/'3 Irrigation Schedule'!$M$19)","v":""}]
[null,null,null,"2022","July","2022-07-04",null,"","",5.2023999999999999,0.19999999999999998,"",0,"",{"$f":"IF(OR('3 Irrigation Schedule'!$C$29=\"\",'3 Irrigation Schedule'!$C$31=\"\",H889=\"\"),\"\",(('3 Irrigation Schedule'!$C$29-'3 Irrigation Schedule'!$C$31)/100)*1000*N889)","v":""},"",{"$f":"IF(H889=\"\",\"\",IF(H889=1,O889*(1-'3 Irrigation Schedule'!$C$27),T888-V888))","v":""},"","","",{"$f":"IF(H889=\"\",\"\",IF('3 Irrigation Schedule'!$P$19<P889,'3 Irrigation Schedule'!$P$19,P889))","v":""},"",{"$f":"IF(H889=\"\",\"\",V889/'3 Irrigation Schedule'!$M$19)","v":""}]
[null,null,null,"2022","July","2022-07-05",null,"","",5.2023999999999999,0.19999999999999998,"",0,"",{"$f":"IF(OR('3 Irrigation Schedule'!$C$29=\"\",'3 Irrigation Schedule'!$C$31=\"\",H890=\"\"),\"\",(('3 Irrigation Schedule'!$C$29-'3 Irrigation Schedule'!$C$31)/100)*1000*N890)","v":""},"",{"$f":"IF(H890=\"\",\"\",IF(H890=1,O890*(1-'3 Irrigation Schedule'!$C$27),T889-V889))","v":""},"","","",{"$f":"IF(H890=\"\",\"\",IF('3 Irrigation Schedule'!$P$19<P890,'3 Irrigation Schedule'!$P$19,P890))","v":""},"",{"$f":"IF(H890=\"\",\"\",V890/'3 Irrigation Schedule'!$M$19)","v":""}]
[null,null,null,"2022","July","2022-07-06",null,"","",5.2023999999999999,0.19999999999999998,"",0,"",{"$f":"IF(OR('3 Irrigation Schedule'!$C$29=\"\",'3 Irrigation Schedule'!$C$31=\"\",H891=\"\"),\"\",(('3 Irrigation Schedule'!$C$29-'3 Irrigation Schedule'!$C$31)/100)*1000*N891)","v":""},"",{"$f":"IF(H891=\"\",\"\",IF(H891=1,O891*(1-'3 Irrigation Schedule'!$C$27),T890-V890))","v":""},"","","",{"$f":"IF(H891=\"\",\"\",IF('3 Irrigation Schedule'!$P$19<P891,'3 Irrigation Schedule'!$P$19,P891))","v":""},"",{"$f":"IF(H891=\"\",\"\",V891/'3 Irrigation Schedule'!$M$19)","v":""}]
[null,null,null,"2022","July","2022-07-07",null,"","",5.2023999999999999,0.19999999999999998,"",0,"",{"$f":"IF(OR('3 Irrigation Schedule'!$C$29=\"\",'3 Irrigation Schedule'!$C$31=\"\",H892=\"\"),\"\",(('3 Irrigation Schedule'!$C$29-'3 Irrigation Schedule'!$C$31)/100)*1000*N892)","v":""},"",{"$f":"IF(H892=\"\",\"\",IF(H892=1,O892*(1-'3 Irrigation Schedule'!$C$27),T891-V891))","v":""},"","","",{"$f":"IF(H892=\"\",\"\",IF('3 Irrigation Schedule'!$P$19<P892,'3 Irrigation Schedule'!$P$19,P892))","v":""},"",{"$f":"IF(H892=\"\",\"\",V892/'3 Irrigation Schedule'!$M$19)","v":""}]
[null,null,null,"2022","July","2022-07-08",null,"",{"$f":"IF(H893=\"\",\"\",IF(H893<=$I$27,\"Initial\",IF(AND(H893>$I$27,H893<=$I$28),\"Development\",IF(AND(H893>$I$28,H893<=$I$29),\"Mid Season\",\"Late Season\"))))","v":""},5.2023999999999999,0.19999999999999998,"",0,"",{"$f":"IF(OR('3 Irrigation Schedule'!$C$29=\"\",'3 Irrigation Schedule'!$C$31=\"\",H893=\"\"),\"\",(('3 Irrigation Schedule'!$C$29-'3 Irrigation Schedule'!$C$31)/100)*1000*N893)","v":""},"",{"$f":"IF(H893=\"\",\"\",IF(H893=1,O893*(1-'3 Irrigation Schedule'!$C$27),T892-V892))","v":""},"","","",{"$f":"IF(H893=\"\",\"\",IF('3 Irrigation Schedule'!$P$19<P893,'3 Irrigation Schedule'!$P$19,P893))","v":""},"",{"$f":"IF(H893=\"\",\"\",V893/'3 Irrigation Schedule'!$M$19)","v":""}]
[null,null,null,"2022","July","2022-07-09",null,"","",5.2023999999999999,0.19999999999999998,"",0,"",{"$f":"IF(OR('3 Irrigation Schedule'!$C$29=\"\",'3 Irrigation Schedule'!$C$31=\"\",H894=\"\"),\"\",(('3 Irrigation Schedule'!$C$29-'3 Irrigation Schedule'!$C$31)/100)*1000*N894)","v":""},"",{"$f":"IF(H894=\"\",\"\",IF(H894=1,O894*(1-'3 Irrigation Schedule'!$C$27),T893-V893))","v":""},"","","",{"$f":"IF(H894=\"\",\"\",IF('3 Irrigation Schedule'!$P$19<P894,'3 Irrigation Schedule'!$P$19,P894))","v":""},"",{"$f":"IF(H894=\"\",\"\",V894/'3 Irrigation Schedule'!$M$19)","v":""}]
[null,null,null,"2022","July","2022-07-10",null,"","",5.2023999999999999,0.19999999999999998,"",0,"",{"$f":"IF(OR('3 Irrigation Schedule'!$C$29=\"\",'3 Irrigation Schedule'!$C$31=\"\",H895=\"\"),\"\",(('3 Irrigation Schedule'!$C$29-'3 Irrigation Schedule'!$C$31)/100)*1000*N895)","v":""},"",{"$f":"IF(H895=\"\",\"\",IF(H895=1,O895*(1-'3 Irrigation Schedule'!$C$27),T894-V894))","v":""},"","","",{"$f":"IF(H895=\"\",\"\",IF('3 Irrigation Schedule'!$P$19<P895,'3 Irrigation Schedule'!$P$19,P895))","v":""},"",{"$f":"IF(H895=\"\",\"\",V895/'3 Irrigation Schedule'!$M$19)","v":""}]
[null,null,null,"2022","July","2022-07-11",null,"","",5.2023999999999999,0.19999999999999998,"",0,"",{"$f":"IF(OR('3 Irrigation Schedule'!$C$29=\"\",'3 Irrigation Schedule'!$C$31=\"\",H896=\"\"),\"\",(('3 Irrigation Schedule'!$C$29-'3 Irrigation Schedule'!$C$31)/100)*1000*N896)","v":""},"",{"$f":"IF(H896=\"\",\"\",IF(H896=1,O896*(1-'3 Irrigation Schedule'!$C$27),T895-V895))","v":""},"","","",{"$f":"IF(H896=\"\",\"\",IF('3 Irrigation Schedule'!$P$19<P896,'3 Irrigation Schedule'!$P$19,P896))","v":""},"",{"$f":"IF(H896=\"\",\"\",V896/'3 Irrigation Schedule'!$M$19)","v":""}]
[null,null,null,"2022","July","2022-07-12",null,"","",5.2023999999999999,0.19999999999999998,"",0,"",{"$f":"IF(OR('3 Irrigation Schedule'!$C$29=\"\",'3 Irrigation Schedule'!$C$31=\"\",H897=\"\"),\"\",(('3 Irrigation Schedule'!$C$29-'3 Irrigation Schedule'!$C$31)/100)*1000*N897)","v":""},"",{"$f":"IF(H897=\"\",\"\",IF(H897=1,O897*(1-'3 Irrigation Schedule'!$C$27),T896-V896))","v":""},"","","",{"$f":"IF(H897=\"\",\"\",IF('3 Irrigation Schedule'!$P$19<P897,'3 Irrigation Schedule'!$P$19,P897))","v":""},"",{"$f":"IF(H897=\"\",\"\",V897/'3 Irrigation Schedule'!$M$19)","v":""}]
[null,null,null,"2022","July","2022-07-13",null,"","",5.2023999999999999,0.19999999999999998,"",0,"",{"$f":"IF(OR('3 Irrigation Schedule'!$C$29=\"\",'3 Irrigation Schedule'!$C$31=\"\",H898=\"\"),\"\",(('3 Irrigation Schedule'!$C$29-'3 Irrigation Schedule'!$C$31)/100)*1000*N898)","v":""},"",{"$f":"IF(H898=\"\",\"\",IF(H898=1,O898*(1-'3 Irrigation Schedule'!$C$27),T897-V897))","v":""},"","","",{"$f":"IF(H898=\"\",\"\",IF('3 Irrigation Schedule'!$P$19<P898,'3 Irrigation Schedule'!$P$19,P898))","v":""},"",{"$f":"IF(H898=\"\",\"\",V898/'3 Irrigation Schedule'!$M$19)","v":""}]
[null,null,null,"2022","July","2022-07-14",null,"","",5.2023999999999999,0.19999999999999998,"",0,"",{"$f":"IF(OR('3 Irrigation Schedule'!$C$29=\"\",'3 Irrigation Schedule'!$C$31=\"\",H899=\"\"),\"\",(('3 Irrigation Schedule'!$C$29-'3 Irrigation Schedule'!$C$31)/100)*1000*N899)","v":""},"",{"$f":"IF(H899=\"\",\"\",IF(H899=1,O899*(1-'3 Irrigation Schedule'!$C$27),T898-V898))","v":""},"","","",{"$f":"IF(H899=\"\",\"\",IF('3 Irrigation Schedule'!$P$19<P899,'3 Irrigation Schedule'!$P$19,P899))","v":""},"",{"$f":"IF(H899=\"\",\"\",V899/'3 Irrigation Schedule'!$M$19)","v":""}]
[null,null,null,"2022","July","2022-07-15",null,"","",5.2023999999999999,0.19999999999999998,"",0,"",{"$f":"IF(OR('3 Irrigation Schedule'!$C$29=\"\",'3 Irrigation Schedule'!$C$31=\"\",H900=\"\"),\"\",(('3 Irrigation Schedule'!$C$29-'3 Irrigation Schedule'!$C$31)/100)*1000*N900)","v":""},"",{"$f":"IF(H900=\"\",\"\",IF(H900=1,O900*(1-'3 Irrigation Schedule'!$C$27),T899-V899))","v":""},"","","",{"$f":"IF(H900=\"\",\"\",IF('3 Irrigation Schedule'!$P$19<P900,'3 Irrigation Schedule'!$P$19,P900))","v":""},"",{"$f":"IF(H900=\"\",\"\",V900/'3 Irrigation Schedule'!$M$19)","v":""}]
[null,null,null,"2022","July","2022-07-16",null,"","",5.2023999999999999,0.19999999999999998,"",0,"",{"$f":"IF(OR('3 Irrigation Schedule'!$C$29=\"\",'3 Irrigation Schedule'!$C$31=\"\",H901=\"\"),\"\",(('3 Irrigation Schedule'!$C$29-'3 Irrigation Schedule'!$C$31)/100)*1000*N901)","v":""},"",{"$f":"IF(H901=\"\",\"\",IF(H901=1,O901*(1-'3 Irrigation Schedule'!$C$27),T900-V900))","v":""},"","","",{"$f":"IF(H901=\"\",\"\",IF('3 Irrigation Schedule'!$P$19<P901,'3 Irrigation Schedule'!$P$19,P901))","v":""},"",{"$f":"IF(H901=\"\",\"\",V901/'3 Irrigation Schedule'!$M$19)","v":""}]
[null,null,null,"2022","July","2022-07-17",null,"","",5.2023999999999999,0.19999999999999998,"",0,"",{"$f":"IF(OR('3 Irrigation Schedule'!$C$29=\"\",'3 Irrigation Schedule'!$C$31=\"\",H902=\"\"),\"\",(('3 Irrigation Schedule'!$C$29-'3 Irrigation Schedule'!$C$31)/100)*1000*N902)","v":""},"",{"$f":"IF(H902=\"\",\"\",IF(H902=1,O902*(1-'3 Irrigation Schedule'!$C$27),T901-V901))","v":""},"","","",{"$f":"IF(H902=\"\",\"\",IF('3 Irrigation Schedule'!$P$19<P902,'3 Irrigation Schedule'!$P$19,P902))","v":""},"",{"$f":"IF(H902=\"\",\"\",V902/'3 Irrigation Schedule'!$M$19)","v":""}]
[null,null,null,"2022","July","2022-07-18",null,"","",5.2023999999999999,0.19999999999999998,"",0,"",{"$f":"IF(OR('3 Irrigation Schedule'!$C$29=\"\",'3 Irrigation Schedule'!$C$31=\"\",H903=\"\"),\"\",(('3 Irrigation Schedule'!$C$29-'3 Irrigation Schedule'!$C$31)/100)*1000*N903)","v":""},"",{"$f":"IF(H903=\"\",\"\",IF(H903=1,O903*(1-'3 Irrigation Schedule'!$C$27),T902-V902))","v":""},"","","",{"$f":"IF(H903=\"\",\"\",IF('3 Irrigation Schedule'!$P$19<P903,'3 Irrigation Schedule'!$P$19,P903))","v":""},"",{"$f":"IF(H903=\"\",\"\",V903/'3 Irrigation Schedule'!$M$19)","v":""}]
[null,null,null,"2022","July","2022-07-19",null,"","",5.2023999999999999,0.19999999999999998,"",0,"",{"$f":"IF(OR('3 Irrigation Schedule'!$C$29=\"\",'3 Irrigation Schedule'!$C$31=\"\",H904=\"\"),\"\",(('3 Irrigation Schedule'!$C$29-'3 Irrigation Schedule'!$C$31)/100)*1000*N904)","v":""},"",{"$f":"IF(H904=\"\",\"\",IF(H904=1,O904*(1-'3 Irrigation Schedule'!$C$27),T903-V903))","v":""},"","","",{"$f":"IF(H904=\"\",\"\",IF('3 Irrigation Schedule'!$P$19<P904,'3 Irrigation Schedule'!$P$19,P904))","v":""},"",{"$f":"IF(H904=\"\",\"\",V904/'3 Irrigation Schedule'!$M$19)","v":""}]
[null,null,null,"2022","July","2022-07-20",null,"","",5.2023999999999999,0.19999999999999998,"",0,"",{"$f":"IF(OR('3 Irrigation Schedule'!$C$29=\"\",'3 Irrigation Schedule'!$C$31=\"\",H905=\"\"),\"\",(('3 Irrigation Schedule'!$C$29-'3 Irrigation Schedule'!$C$31)/100)*1000*N905)","v":""},"",{"$f":"IF(H905=\"\",\"\",IF(H905=1,O905*(1-'3 Irrigation Schedule'!$C$27),T904-V904))","v":""},"","","",{"$f":"IF(H905=\"\",\"\",IF('3 Irrigation Schedule'!$P$19<P905,'3 Irrigation Schedule'!$P$19,P905))","v":""},"",{"$f":"IF(H905=\"\",\"\",V905/'3 Irrigation Schedule'!$M$19)","v":""}]
[null,null,null,"2022","July","2022-07-21",null,"","",5.2023999999999999,0.19999999999999998,"",0,"",{"$f":"IF(OR('3 Irrigation Schedule'!$C$29=\"\",'3 Irrigation Schedule'!$C$31=\"\",H906=\"\"),\"\",(('3 Irrigation Schedule'!$C$29-'3 Irrigation Schedule'!$C$31)/100)*1000*N906)","v":""},"",{"$f":"IF(H906=\"\",\"\",IF(H906=1,O906*(1-'3 Irrigation Schedule'!$C$27),T905-V905))","v":""},"","","",{"$f":"IF(H906=\"\",\"\",IF('3 Irrigation Schedule'!$P$19<P906,'3 Irrigation Schedule'!$P$19,P906))","v":""},"",{"$f":"IF(H906=\"\",\"\",V906/'3 Irrigation Schedule'!$M$19)","v":""}]
[null,null,null,"2022","July","2022-07-22",null,"","",5.2023999999999999,0.19999999999999998,"",0,"",{"$f":"IF(OR('3 Irrigation Schedule'!$C$29=\"\",'3 Irrigation Schedule'!$C$31=\"\",H907=\"\"),\"\",(('3 Irrigation Schedule'!$C$29-'3 Irrigation Schedule'!$C$31)/100)*1000*N907)","v":""},"",{"$f":"IF(H907=\"\",\"\",IF(H907=1,O907*(1-'3 Irrigation Schedule'!$C$27),T906-V906))","v":""},"","","",{"$f":"IF(H907=\"\",\"\",IF('3 Irrigation Schedule'!$P$19<P907,'3 Irrigation Schedule'!$P$19,P907))","v":""},"",{"$f":"IF(H907=\"\",\"\",V907/'3 Irrigation Schedule'!$M$19)","v":""}]
[null,null,null,"2022","July","2022-07-23",null,"","",5.2023999999999999,0.19999999999999998,"",0,"",{"$f":"IF(OR('3 Irrigation Schedule'!$C$29=\"\",'3 Irrigation Schedule'!$C$31=\"\",H908=\"\"),\"\",(('3 Irrigation Schedule'!$C$29-'3 Irrigation Schedule'!$C$31)/100)*1000*N908)","v":""},"",{"$f":"IF(H908=\"\",\"\",IF(H908=1,O908*(1-'3 Irrigation Schedule'!$C$27),T907-V907))","v":""},"","","",{"$f":"IF(H908=\"\",\"\",IF('3 Irrigation Schedule'!$P$19<P908,'3 Irrigation Schedule'!$P$19,P908))","v":""},"",{"$f":"IF(H908=\"\",\"\",V908/'3 Irrigation Schedule'!$M$19)","v":""}]
[null,null,null,"2022","July","2022-07-24",null,"","",5.2023999999999999,0.19999999999999998,"",0,"",{"$f":"IF(OR('3 Irrigation Schedule'!$C$29=\"\",'3 Irrigation Schedule'!$C$31=\"\",H909=\"\"),\"\",(('3 Irrigation Schedule'!$C$29-'3 Irrigation Schedule'!$C$31)/100)*1000*N909)","v":""},"",{"$f":"IF(H909=\"\",\"\",IF(H909=1,O909*(1-'3 Irrigation Schedule'!$C$27),T908-V908))","v":""},"","","",{"$f":"IF(H909=\"\",\"\",IF('3 Irrigation Schedule'!$P$19<P909,'3 Irrigation Schedule'!$P$19,P909))","v":""},"",{"$f":"IF(H909=\"\",\"\",V909/'3 Irrigation Schedule'!$M$19)","v":""}]
[null,null,null,"2022","July","2022-07-25",null,"","",5.2023999999999999,0.19999999999999998,"",0,"",{"$f":"IF(OR('3 Irrigation Schedule'!$C$29=\"\",'3 Irrigation Schedule'!$C$31=\"\",H910=\"\"),\"\",(('3 Irrigation Schedule'!$C$29-'3 Irrigation Schedule'!$C$31)/100)*1000*N910)","v":""},"",{"$f":"IF(H910=\"\",\"\",IF(H910=1,O910*(1-'3 Irrigation Schedule'!$C$27),T909-V909))","v":""},"","","",{"$f":"IF(H910=\"\",\"\",IF('3 Irrigation Schedule'!$P$19<P910,'3 Irrigation Schedule'!$P$19,P910))","v":""},"",{"$f":"IF(H910=\"\",\"\",V910/'3 Irrigation Schedule'!$M$19)","v":""}]
[null,null,null,"2022","July","2022-07-26",null,"","",5.2023999999999999,0.19999999999999998,"",0,"",{"$f":"IF(OR('3 Irrigation Schedule'!$C$29=\"\",'3 Irrigation Schedule'!$C$31=\"\",H911=\"\"),\"\",(('3 Irrigation Schedule'!$C$29-'3 Irrigation Schedule'!$C$31)/100)*1000*N911)","v":""},"",{"$f":"IF(H911=\"\",\"\",IF(H911=1,O911*(1-'3 Irrigation Schedule'!$C$27),T910-V910))","v":""},"","","",{"$f":"IF(H911=\"\",\"\",IF('3 Irrigation Schedule'!$P$19<P911,'3 Irrigation Schedule'!$P$19,P911))","v":""},"",{"$f":"IF(H911=\"\",\"\",V911/'3 Irrigation Schedule'!$M$19)","v":""}]
[null,null,null,"2022","July","2022-07-27",null,"","",5.2023999999999999,0.19999999999999998,"",0,"",{"$f":"IF(OR('3 Irrigation Schedule'!$C$29=\"\",'3 Irrigation Schedule'!$C$31=\"\",H912=\"\"),\"\",(('3 Irrigation Schedule'!$C$29-'3 Irrigation Schedule'!$C$31)/100)*1000*N912)","v":""},"",{"$f":"IF(H912=\"\",\"\",IF(H912=1,O912*(1-'3 Irrigation Schedule'!$C$27),T911-V911))","v":""},"","","",{"$f":"IF(H912=\"\",\"\",IF('3 Irrigation Schedule'!$P$19<P912,'3 Irrigation Schedule'!$P$19,P912))","v":""},"",{"$f":"IF(H912=\"\",\"\",V912/'3 Irrigation Schedule'!$M$19)","v":""}]
[null,null,null,"2022","July","2022-07-28",null,"","",5.2023999999999999,0.19999999999999998,"",0,"",{"$f":"IF(OR('3 Irrigation Schedule'!$C$29=\"\",'3 Irrigation Schedule'!$C$31=\"\",H913=\"\"),\"\",(('3 Irrigation Schedule'!$C$29-'3 Irrigation Schedule'!$C$31)/100)*1000*N913)","v":""},"",{"$f":"IF(H913=\"\",\"\",IF(H913=1,O913*(1-'3 Irrigation Schedule'!$C$27),T912-V912))","v":""},"","","",{"$f":"IF(H913=\"\",\"\",IF('3 Irrigation Schedule'!$P$19<P913,'3 Irrigation Schedule'!$P$19,P913))","v":""},"",{"$f":"IF(H913=\"\",\"\",V913/'3 Irrigation Schedule'!$M$19)","v":""}]
[null,null,null,"2022","July","2022-07-29",null,"","",5.2023999999999999,0.19999999999999998,"",0,"",{"$f":"IF(OR('3 Irrigation Schedule'!$C$29=\"\",'3 Irrigation Schedule'!$C$31=\"\",H914=\"\"),\"\",(('3 Irrigation Schedule'!$C$29-'3 Irrigation Schedule'!$C$31)/100)*1000*N914)","v":""},"",{"$f":"IF(H914=\"\",\"\",IF(H914=1,O914*(1-'3 Irrigation Schedule'!$C$27),T913-V913))","v":""},"","","",{"$f":"IF(H914=\"\",\"\",IF('3 Irrigation Schedule'!$P$19<P914,'3 Irrigation Schedule'!$P$19,P914))","v":""},"",{"$f":"IF(H914=\"\",\"\",V914/'3 Irrigation Schedule'!$M$19)","v":""}]
[null,null,null,"2022","July","2022-07-30",null,"","",5.2023999999999999,0.19999999999999998,"",0,"",{"$f":"IF(OR('3 Irrigation Schedule'!$C$29=\"\",'3 Irrigation Schedule'!$C$31=\"\",H915=\"\"),\"\",(('3 Irrigation Schedule'!$C$29-'3 Irrigation Schedule'!$C$31)/100)*1000*N915)","v":""},"",{"$f":"IF(H915=\"\",\"\",IF(H915=1,O915*(1-'3 Irrigation Schedule'!$C$27),T914-V914))","v":""},"","","",{"$f":"IF(H915=\"\",\"\",IF('3 Irrigation Schedule'!$P$19<P915,'3 Irrigation Schedule'!$P$19,P915))","v":""},"",{"$f":"IF(H915=\"\",\"\",V915/'3 Irrigation Schedule'!$M$19)","v":""}]
[null,null,null,"2022","July","2022-07-31",null,"","",5.2023999999999999,0.19999999999999998,"",0,"",{"$f":"IF(OR('3 Irrigation Schedule'!$C$29=\"\",'3 Irrigation Schedule'!$C$31=\"\",H916=\"\"),\"\",(('3 Irrigation Schedule'!$C$29-'3 Irrigation Schedule'!$C$31)/100)*1000*N916)","v":""},"",{"$f":"IF(H916=\"\",\"\",IF(H916=1,O916*(1-'3 Irrigation Schedule'!$C$27),T915-V915))","v":""},"","","",{"$f":"IF(H916=\"\",\"\",IF('3 Irrigation Schedule'!$P$19<P916,'3 Irrigation Schedule'!$P$19,P916))","v":""},"",{"$f":"IF(H916=\"\",\"\",V916/'3 Irrigation Schedule'!$M$19)","v":""}]
[null,null,null,"2022","August","2022-08-01",null,"","",5.2023999999999999,9.5483870967741968E-2,"",0,"",{"$f":"IF(OR('3 Irrigation Schedule'!$C$29=\"\",'3 Irrigation Schedule'!$C$31=\"\",H917=\"\"),\"\",(('3 Irrigation Schedule'!$C$29-'3 Irrigation Schedule'!$C$31)/100)*1000*N917)","v":""},"",{"$f":"IF(H917=\"\",\"\",IF(H917=1,O917*(1-'3 Irrigation Schedule'!$C$27),T916-V916))","v":""},"","","",{"$f":"IF(H917=\"\",\"\",IF('3 Irrigation Schedule'!$P$19<P917,'3 Irrigation Schedule'!$P$19,P917))","v":""},"",{"$f":"IF(H917=\"\",\"\",V917/'3 Irrigation Schedule'!$M$19)","v":""}]
[null,null,null,"2022","August","2022-08-02",null,"","",5.2023999999999999,9.5483870967741968E-2,"",0,"",{"$f":"IF(OR('3 Irrigation Schedule'!$C$29=\"\",'3 Irrigation Schedule'!$C$31=\"\",H918=\"\"),\"\",(('3 Irrigation Schedule'!$C$29-'3 Irrigation Schedule'!$C$31)/100)*1000*N918)","v":""},"",{"$f":"IF(H918=\"\",\"\",IF(H918=1,O918*(1-'3 Irrigation Schedule'!$C$27),T917-V917))","v":""},"","","",{"$f":"IF(H918=\"\",\"\",IF('3 Irrigation Schedule'!$P$19<P918,'3 Irrigation Schedule'!$P$19,P918))","v":""},"",{"$f":"IF(H918=\"\",\"\",V918/'3 Irrigation Schedule'!$M$19)","v":""}]
[null,null,null,"2022","August","2022-08-03",null,"","",5.2023999999999999,9.5483870967741968E-2,"",0,"",{"$f":"IF(OR('3 Irrigation Schedule'!$C$29=\"\",'3 Irrigation Schedule'!$C$31=\"\",H919=\"\"),\"\",(('3 Irrigation Schedule'!$C$29-'3 Irrigation Schedule'!$C$31)/100)*1000*N919)","v":""},"",{"$f":"IF(H919=\"\",\"\",IF(H919=1,O919*(1-'3 Irrigation Schedule'!$C$27),T918-V918))","v":""},"","","",{"$f":"IF(H919=\"\",\"\",IF('3 Irrigation Schedule'!$P$19<P919,'3 Irrigation Schedule'!$P$19,P919))","v":""},"",{"$f":"IF(H919=\"\",\"\",V919/'3 Irrigation Schedule'!$M$19)","v":""}]
[null,null,null,"2022","August","2022-08-04",null,"","",5.2023999999999999,9.5483870967741968E-2,"",0,"",{"$f":"IF(OR('3 Irrigation Schedule'!$C$29=\"\",'3 Irrigation Schedule'!$C$31=\"\",H920=\"\"),\"\",(('3 Irrigation Schedule'!$C$29-'3 Irrigation Schedule'!$C$31)/100)*1000*N920)","v":""},"",{"$f":"IF(H920=\"\",\"\",IF(H920=1,O920*(1-'3 Irrigation Schedule'!$C$27),T919-V919))","v":""},"","","",{"$f":"IF(H920=\"\",\"\",IF('3 Irrigation Schedule'!$P$19<P920,'3 Irrigation Schedule'!$P$19,P920))","v":""},"",{"$f":"IF(H920=\"\",\"\",V920/'3 Irrigation Schedule'!$M$19)","v":""}]
[null,null,null,"2022","August","2022-08-05",null,"","",5.2023999999999999,9.5483870967741968E-2,"",0,"",{"$f":"IF(OR('3 Irrigation Schedule'!$C$29=\"\",'3 Irrigation Schedule'!$C$31=\"\",H921=\"\"),\"\",(('3 Irrigation Schedule'!$C$29-'3 Irrigation Schedule'!$C$31)/100)*1000*N921)","v":""},"",{"$f":"IF(H921=\"\",\"\",IF(H921=1,O921*(1-'3 Irrigation Schedule'!$C$27),T920-V920))","v":""},"","","",{"$f":"IF(H921=\"\",\"\",IF('3 Irrigation Schedule'!$P$19<P921,'3 Irrigation Schedule'!$P$19,P921))","v":""},"",{"$f":"IF(H921=\"\",\"\",V921/'3 Irrigation Schedule'!$M$19)","v":""}]
[null,null,null,"2022","August","2022-08-06",null,"","",5.2023999999999999,9.5483870967741968E-2,"",0,"",{"$f":"IF(OR('3 Irrigation Schedule'!$C$29=\"\",'3 Irrigation Schedule'!$C$31=\"\",H922=\"\"),\"\",(('3 Irrigation Schedule'!$C$29-'3 Irrigation Schedule'!$C$31)/100)*1000*N922)","v":""},"",{"$f":"IF(H922=\"\",\"\",IF(H922=1,O922*(1-'3 Irrigation Schedule'!$C$27),T921-V921))","v":""},"","","",{"$f":"IF(H922=\"\",\"\",IF('3 Irrigation Schedule'!$P$19<P922,'3 Irrigation Schedule'!$P$19,P922))","v":""},"",{"$f":"IF(H922=\"\",\"\",V922/'3 Irrigation Schedule'!$M$19)","v":""}]
[null,null,null,"2022","August","2022-08-07",null,"","",5.2023999999999999,9.5483870967741968E-2,"",0,"",{"$f":"IF(OR('3 Irrigation Schedule'!$C$29=\"\",'3 Irrigation Schedule'!$C$31=\"\",H923=\"\"),\"\",(('3 Irrigation Schedule'!$C$29-'3 Irrigation Schedule'!$C$31)/100)*1000*N923)","v":""},"",{"$f":"IF(H923=\"\",\"\",IF(H923=1,O923*(1-'3 Irrigation Schedule'!$C$27),T922-V922))","v":""},"","","",{"$f":"IF(H923=\"\",\"\",IF('3 Irrigation Schedule'!$P$19<P923,'3 Irrigation Schedule'!$P$19,P923))","v":""},"",{"$f":"IF(H923=\"\",\"\",V923/'3 Irrigation Schedule'!$M$19)","v":""}]
[null,null,null,"2022","August","2022-08-08",null,"","",5.2023999999999999,9.5483870967741968E-2,"",0,"",{"$f":"IF(OR('3 Irrigation Schedule'!$C$29=\"\",'3 Irrigation Schedule'!$C$31=\"\",H924=\"\"),\"\",(('3 Irrigation Schedule'!$C$29-'3 Irrigation Schedule'!$C$31)/100)*1000*N924)","v":""},"",{"$f":"IF(H924=\"\",\"\",IF(H924=1,O924*(1-'3 Irrigation Schedule'!$C$27),T923-V923))","v":""},"","","",{"$f":"IF(H924=\"\",\"\",IF('3 Irrigation Schedule'!$P$19<P924,'3 Irrigation Schedule'!$P$19,P924))","v":""},"",{"$f":"IF(H924=\"\",\"\",V924/'3 Irrigation Schedule'!$M$19)","v":""}]
[null,null,null,"2022","August","2022-08-09",null,"","",5.2023999999999999,9.5483870967741968E-2,"",0,"",{"$f":"IF(OR('3 Irrigation Schedule'!$C$29=\"\",'3 Irrigation Schedule'!$C$31=\"\",H925=\"\"),\"\",(('3 Irrigation Schedule'!$C$29-'3 Irrigation Schedule'!$C$31)/100)*1000*N925)","v":""},"",{"$f":"IF(H925=\"\",\"\",IF(H925=1,O925*(1-'3 Irrigation Schedule'!$C$27),T924-V924))","v":""},"","","",{"$f":"IF(H925=\"\",\"\",IF('3 Irrigation Schedule'!$P$19<P925,'3 Irrigation Schedule'!$P$19,P925))","v":""},"",{"$f":"IF(H925=\"\",\"\",V925/'3 Irrigation Schedule'!$M$19)","v":""}]
[null,null,null,"2022","August","2022-08-10",null,"","",5.2023999999999999,9.5483870967741968E-2,"",0,"",{"$f":"IF(OR('3 Irrigation Schedule'!$C$29=\"\",'3 Irrigation Schedule'!$C$31=\"\",H926=\"\"),\"\",(('3 Irrigation Schedule'!$C$29-'3 Irrigation Schedule'!$C$31)/100)*1000*N926)","v":""},"",{"$f":"IF(H926=\"\",\"\",IF(H926=1,O926*(1-'3 Irrigation Schedule'!$C$27),T925-V925))","v":""},"","","",{"$f":"IF(H926=\"\",\"\",IF('3 Irrigation Schedule'!$P$19<P926,'3 Irrigation Schedule'!$P$19,P926))","v":""},"",{"$f":"IF(H926=\"\",\"\",V926/'3 Irrigation Schedule'!$M$19)","v":""}]
[null,null,null,"2022","August","2022-08-11",null,"","",5.2023999999999999,9.5483870967741968E-2,"",0,"",{"$f":"IF(OR('3 Irrigation Schedule'!$C$29=\"\",'3 Irrigation Schedule'!$C$31=\"\",H927=\"\"),\"\",(('3 Irrigation Schedule'!$C$29-'3 Irrigation Schedule'!$C$31)/100)*1000*N927)","v":""},"",{"$f":"IF(H927=\"\",\"\",IF(H927=1,O927*(1-'3 Irrigation Schedule'!$C$27),T926-V926))","v":""},"","","",{"$f":"IF(H927=\"\",\"\",IF('3 Irrigation Schedule'!$P$19<P927,'3 Irrigation Schedule'!$P$19,P927))","v":""},"",{"$f":"IF(H927=\"\",\"\",V927/'3 Irrigation Schedule'!$M$19)","v":""}]
[null,null,null,"2022","August","2022-08-12",null,"","",5.2023999999999999,9.5483870967741968E-2,"",0,"",{"$f":"IF(OR('3 Irrigation Schedule'!$C$29=\"\",'3 Irrigation Schedule'!$C$31=\"\",H928=\"\"),\"\",(('3 Irrigation Schedule'!$C$29-'3 Irrigation Schedule'!$C$31)/100)*1000*N928)","v":""},"",{"$f":"IF(H928=\"\",\"\",IF(H928=1,O928*(1-'3 Irrigation Schedule'!$C$27),T927-V927))","v":""},"","","",{"$f":"IF(H928=\"\",\"\",IF('3 Irrigation Schedule'!$P$19<P928,'3 Irrigation Schedule'!$P$19,P928))","v":""},"",{"$f":"IF(H928=\"\",\"\",V928/'3 Irrigation Schedule'!$M$19)","v":""}]
[null,null,null,"2022","August","2022-08-13",null,"","",5.2023999999999999,9.5483870967741968E-2,"",0,"",{"$f":"IF(OR('3 Irrigation Schedule'!$C$29=\"\",'3 Irrigation Schedule'!$C$31=\"\",H929=\"\"),\"\",(('3 Irrigation Schedule'!$C$29-'3 Irrigation Schedule'!$C$31)/100)*1000*N929)","v":""},"",{"$f":"IF(H929=\"\",\"\",IF(H929=1,O929*(1-'3 Irrigation Schedule'!$C$27),T928-V928))","v":""},"","","",{"$f":"IF(H929=\"\",\"\",IF('3 Irrigation Schedule'!$P$19<P929,'3 Irrigation Schedule'!$P$19,P929))","v":""},"",{"$f":"IF(H929=\"\",\"\",V929/'3 Irrigation Schedule'!$M$19)","v":""}]
[null,null,null,{"$f":"IFERROR(TEXT(DATE(YEAR($F930),MONTH($F930),1),$D$7&$D$4),\"\")","v":"2022"},{"$f":"IFERROR(TEXT(DATE(YEAR($F930),MONTH($F930),1),$D$7&$D$5),\"\")","v":"August"},"2022-08-14",null,"","",{"$f":"IFERROR(VLOOKUP($E930,$B$19:$C$30,2,FALSE),\"\")","v":5.2023999999999999},9.5483870967741968E-2,{"$f":"IF(H930=\"\",\"\",IF(H930<=$I$27,$L$27,IF(AND(H930>$I$27,H930<=$I$28),$L$27+((H930-$I$27)/$H$28)*($L$29-$L$27),IF(AND(H930>$I$28,H930<=$I$29),$L$29,$L$29+((H930-$I$29)/$H$30)*($L$30-$L$29)))))","v":""},{"$f":"IFERROR((J930*L930),0)","v":0},{"$f":"IF(H930=\"\",\"\",IF(OR(H930=1,H930<$I$28),$M$27+(($M$28-$M$27)*((H930-1)/($I$28-1))),$M$28))","v":""},{"$f":"IF(OR('3 Irrigation Schedule'!$C$29=\"\",'3 Irrigation Schedule'!$C$31=\"\",H930=\"\"),\"\",(('3 Irrigation Schedule'!$C$29-'3 Irrigation Schedule'!$C$31)/100)*1000*N930)","v":""},{"$f":"IF(H930=\"\",\"\",O930*$N$27)","v":""},{"$f":"IF(H930=\"\",\"\",IF(H930=1,O930*(1-'3 Irrigation Schedule'!$C$27),T929-V929))","v":""},{"$f":"IF(H930=\"\",\"\",IF(Q930>P930,(O930-Q930)/(O930-P930),1))","v":""},{"$f":"IF(H930=\"\",\"\",M930*R930)","v":""},{"$f":"IF(H930=\"\",\"\",IF(Q930+S930-K930<0,0,Q930+S930-K930))","v":""},{"$f":"IF(H930=\"\",\"\",IF('3 Irrigation Schedule'!$P$19<P930,'3 Irrigation Schedule'!$P$19,P930))","v":""},{"$f":"IF(H930=\"\",\"\",IF(U930<=T930,U930,0))","v":""},{"$f":"IF(H930=\"\",\"\",V930/'3 Irrigation Schedule'!$M$19)","v":""}]
[null,null,null,"2022","August",{"$f":"IFERROR(IF(F930+1<=$N$7, F930+1,\"\"),\"\")","v":"2022-08-15"},null,{"$f":"IFERROR(IF(OR($F931-$J$27+1<=0,$F931>$K$30),\"\",$F931-$J$27+1),\"\")","v":""},"",5.2023999999999999,{"$f":"IFERROR(VLOOKUP($E931,$B$19:$D$30,3,FALSE),\"\")","v":9.5483870967741968E-2},"",0,"",{"$f":"IF(OR('3 Irrigation Schedule'!$C$29=\"\",'3 Irrigation Schedule'!$C$31=\"\",H931=\"\"),\"\",(('3 Irrigation Schedule'!$C$29-'3 Irrigation Schedule'!$C$31)/100)*1000*N931)","v":""},"",{"$f":"IF(H931=\"\",\"\",IF(H931=1,O931*(1-'3 Irrigation Schedule'!$C$27),T930-V930))","v":""},"","","",{"$f":"IF(H931=\"\",\"\",IF('3 Irrigation Schedule'!$P$19<P931,'3 Irrigation Schedule'!$P$19,P931))","v":""},"",{"$f":"IF(H931=\"\",\"\",V931/'3 Irrigation Schedule'!$M$19)","v":""}]
[null,null,null,"2022","August","2022-08-16",null,"","",5.2023999999999999,9.5483870967741968E-2,"",0,"",{"$f":"IF(OR('3 Irrigation Schedule'!$C$29=\"\",'3 Irrigation Schedule'!$C$31=\"\",H932=\"\"),\"\",(('3 Irrigation Schedule'!$C$29-'3 Irrigation Schedule'!$C$31)/100)*1000*N932)","v":""},"",{"$f":"IF(H932=\"\",\"\",IF(H932=1,O932*(1-'3 Irrigation Schedule'!$C$27),T931-V931))","v":""},"","","",{"$f":"IF(H932=\"\",\"\",IF('3 Irrigation Schedule'!$P$19<P932,'3 Irrigation Schedule'!$P$19,P932))","v":""},"",{"$f":"IF(H932=\"\",\"\",V932/'3 Irrigation Schedule'!$M$19)","v":""}]
[null,null,null,"2022","August","2022-08-17",null,"","",5.2023999999999999,9.5483870967741968E-2,"",0,"",{"$f":"IF(OR('3 Irrigation Schedule'!$C$29=\"\",'3 Irrigation Schedule'!$C$31=\"\",H933=\"\"),\"\",(('3 Irrigation Schedule'!$C$29-'3 Irrigation Schedule'!$C$31)/100)*1000*N933)","v":""},"",{"$f":"IF(H933=\"\",\"\",IF(H933=1,O933*(1-'3 Irrigation Schedule'!$C$27),T932-V932))","v":""},"","","",{"$f":"IF(H933=\"\",\"\",IF('3 Irrigation Schedule'!$P$19<P933,'3 Irrigation Schedule'!$P$19,P933))","v":""},"",{"$f":"IF(H933=\"\",\"\",V933/'3 Irrigation Schedule'!$M$19)","v":""}]
[null,null,null,"2022","August","2022-08-18",null,"","",5.2023999999999999,9.5483870967741968E-2,"",0,"",{"$f":"IF(OR('3 Irrigation Schedule'!$C$29=\"\",'3 Irrigation Schedule'!$C$31=\"\",H934=\"\"),\"\",(('3 Irrigation Schedule'!$C$29-'3 Irrigation Schedule'!$C$31)/100)*1000*N934)","v":""},"",{"$f":"IF(H934=\"\",\"\",IF(H934=1,O934*(1-'3 Irrigation Schedule'!$C$27),T933-V933))","v":""},"","","",{"$f":"IF(H934=\"\",\"\",IF('3 Irrigation Schedule'!$P$19<P934,'3 Irrigation Schedule'!$P$19,P934))","v":""},"",{"$f":"IF(H934=\"\",\"\",V934/'3 Irrigation Schedule'!$M$19)","v":""}]
[null,null,null,"2022","August","2022-08-19",null,"","",5.2023999999999999,9.5483870967741968E-2,"",0,"",{"$f":"IF(OR('3 Irrigation Schedule'!$C$29=\"\",'3 Irrigation Schedule'!$C$31=\"\",H935=\"\"),\"\",(('3 Irrigation Schedule'!$C$29-'3 Irrigation Schedule'!$C$31)/100)*1000*N935)","v":""},"",{"$f":"IF(H935=\"\",\"\",IF(H935=1,O935*(1-'3 Irrigation Schedule'!$C$27),T934-V934))","v":""},"","","",{"$f":"IF(H935=\"\",\"\",IF('3 Irrigation Schedule'!$P$19<P935,'3 Irrigation Schedule'!$P$19,P935))","v":""},"",{"$f":"IF(H935=\"\",\"\",V935/'3 Irrigation Schedule'!$M$19)","v":""}]
[null,null,null,"2022","August","2022-08-20",null,"","",5.2023999999999999,9.5483870967741968E-2,"",0,"",{"$f":"IF(OR('3 Irrigation Schedule'!$C$29=\"\",'3 Irrigation Schedule'!$C$31=\"\",H936=\"\"),\"\",(('3 Irrigation Schedule'!$C$29-'3 Irrigation Schedule'!$C$31)/100)*1000*N936)","v":""},"",{"$f":"IF(H936=\"\",\"\",IF(H936=1,O936*(1-'3 Irrigation Schedule'!$C$27),T935-V935))","v":""},"","","",{"$f":"IF(H936=\"\",\"\",IF('3 Irrigation Schedule'!$P$19<P936,'3 Irrigation Schedule'!$P$19,P936))","v":""},"",{"$f":"IF(H936=\"\",\"\",V936/'3 Irrigation Schedule'!$M$19)","v":""}]
[null,null,null,"2022","August","2022-08-21",null,"","",5.2023999999999999,9.5483870967741968E-2,"",0,"",{"$f":"IF(OR('3 Irrigation Schedule'!$C$29=\"\",'3 Irrigation Schedule'!$C$31=\"\",H937=\"\"),\"\",(('3 Irrigation Schedule'!$C$29-'3 Irrigation Schedule'!$C$31)/100)*1000*N937)","v":""},"",{"$f":"IF(H937=\"\",\"\",IF(H937=1,O937*(1-'3 Irrigation Schedule'!$C$27),T936-V936))","v":""},"","","",{"$f":"IF(H937=\"\",\"\",IF('3 Irrigation Schedule'!$P$19<P937,'3 Irrigation Schedule'!$P$19,P937))","v":""},"",{"$f":"IF(H937=\"\",\"\",V937/'3 Irrigation Schedule'!$M$19)","v":""}]
[null,null,null,"2022","August","2022-08-22",null,"","",5.2023999999999999,9.5483870967741968E-2,"",0,"",{"$f":"IF(OR('3 Irrigation Schedule'!$C$29=\"\",'3 Irrigation Schedule'!$C$31=\"\",H938=\"\"),\"\",(('3 Irrigation Schedule'!$C$29-'3 Irrigation Schedule'!$C$31)/100)*1000*N938)","v":""},"",{"$f":"IF(H938=\"\",\"\",IF(H938=1,O938*(1-'3 Irrigation Schedule'!$C$27),T937-V937))","v":""},"","","",{"$f":"IF(H938=\"\",\"\",IF('3 Irrigation Schedule'!$P$19<P938,'3 Irrigation Schedule'!$P$19,P938))","v":""},"",{"$f":"IF(H938=\"\",\"\",V938/'3 Irrigation Schedule'!$M$19)","v":""}]
[null,null,null,"2022","August","2022-08-23",null,"","",5.2023999999999999,9.5483870967741968E-2,"",0,"",{"$f":"IF(OR('3 Irrigation Schedule'!$C$29=\"\",'3 Irrigation Schedule'!$C$31=\"\",H939=\"\"),\"\",(('3 Irrigation Schedule'!$C$29-'3 Irrigation Schedule'!$C$31)/100)*1000*N939)","v":""},"",{"$f":"IF(H939=\"\",\"\",IF(H939=1,O939*(1-'3 Irrigation Schedule'!$C$27),T938-V938))","v":""},"","","",{"$f":"IF(H939=\"\",\"\",IF('3 Irrigation Schedule'!$P$19<P939,'3 Irrigation Schedule'!$P$19,P939))","v":""},"",{"$f":"IF(H939=\"\",\"\",V939/'3 Irrigation Schedule'!$M$19)","v":""}]
[null,null,null,"2022","August","2022-08-24",null,"","",5.2023999999999999,9.5483870967741968E-2,"",0,"",{"$f":"IF(OR('3 Irrigation Schedule'!$C$29=\"\",'3 Irrigation Schedule'!$C$31=\"\",H940=\"\"),\"\",(('3 Irrigation Schedule'!$C$29-'3 Irrigation Schedule'!$C$31)/100)*1000*N940)","v":""},"",{"$f":"IF(H940=\"\",\"\",IF(H940=1,O940*(1-'3 Irrigation Schedule'!$C$27),T939-V939))","v":""},"","","",{"$f":"IF(H940=\"\",\"\",IF('3 Irrigation Schedule'!$P$19<P940,'3 Irrigation Schedule'!$P$19,P940))","v":""},"",{"$f":"IF(H940=\"\",\"\",V940/'3 Irrigation Schedule'!$M$19)","v":""}]
[null,null,null,"2022","August","2022-08-25",null,"","",5.2023999999999999,9.5483870967741968E-2,"",0,"",{"$f":"IF(OR('3 Irrigation Schedule'!$C$29=\"\",'3 Irrigation Schedule'!$C$31=\"\",H941=\"\"),\"\",(('3 Irrigation Schedule'!$C$29-'3 Irrigation Schedule'!$C$31)/100)*1000*N941)","v":""},"",{"$f":"IF(H941=\"\",\"\",IF(H941=1,O941*(1-'3 Irrigation Schedule'!$C$27),T940-V940))","v":""},"","","",{"$f":"IF(H941=\"\",\"\",IF('3 Irrigation Schedule'!$P$19<P941,'3 Irrigation Schedule'!$P$19,P941))","v":""},"",{"$f":"IF(H941=\"\",\"\",V941/'3 Irrigation Schedule'!$M$19)","v":""}]
[null,null,null,"2022","August","2022-08-26",null,"","",5.2023999999999999,9.5483870967741968E-2,"",0,"",{"$f":"IF(OR('3 Irrigation Schedule'!$C$29=\"\",'3 Irrigation Schedule'!$C$31=\"\",H942=\"\"),\"\",(('3 Irrigation Schedule'!$C$29-'3 Irrigation Schedule'!$C$31)/100)*1000*N942)","v":""},"",{"$f":"IF(H942=\"\",\"\",IF(H942=1,O942*(1-'3 Irrigation Schedule'!$C$27),T941-V941))","v":""},"","","",{"$f":"IF(H942=\"\",\"\",IF('3 Irrigation Schedule'!$P$19<P942,'3 Irrigation Schedule'!$P$19,P942))","v":""},"",{"$f":"IF(H942=\"\",\"\",V942/'3 Irrigation Schedule'!$M$19)","v":""}]
[null,null,null,"2022","August","2022-08-27",null,"","",5.2023999999999999,9.5483870967741968E-2,"",0,"",{"$f":"IF(OR('3 Irrigation Schedule'!$C$29=\"\",'3 Irrigation Schedule'!$C$31=\"\",H943=\"\"),\"\",(('3 Irrigation Schedule'!$C$29-'3 Irrigation Schedule'!$C$31)/100)*1000*N943)","v":""},"",{"$f":"IF(H943=\"\",\"\",IF(H943=1,O943*(1-'3 Irrigation Schedule'!$C$27),T942-V942))","v":""},"","","",{"$f":"IF(H943=\"\",\"\",IF('3 Irrigation Schedule'!$P$19<P943,'3 Irrigation Schedule'!$P$19,P943))","v":""},"",{"$f":"IF(H943=\"\",\"\",V943/'3 Irrigation Schedule'!$M$19)","v":""}]
[null,null,null,"2022","August","2022-08-28",null,"","",5.2023999999999999,9.5483870967741968E-2,"",0,"",{"$f":"IF(OR('3 Irrigation Schedule'!$C$29=\"\",'3 Irrigation Schedule'!$C$31=\"\",H944=\"\"),\"\",(('3 Irrigation Schedule'!$C$29-'3 Irrigation Schedule'!$C$31)/100)*1000*N944)","v":""},"",{"$f":"IF(H944=\"\",\"\",IF(H944=1,O944*(1-'3 Irrigation Schedule'!$C$27),T943-V943))","v":""},"","","",{"$f":"IF(H944=\"\",\"\",IF('3 Irrigation Schedule'!$P$19<P944,'3 Irrigation Schedule'!$P$19,P944))","v":""},"",{"$f":"IF(H944=\"\",\"\",V944/'3 Irrigation Schedule'!$M$19)","v":""}]
[null,null,null,"2022","August","2022-08-29",null,"","",5.2023999999999999,9.5483870967741968E-2,"",0,"",{"$f":"IF(OR('3 Irrigation Schedule'!$C$29=\"\",'3 Irrigation Schedule'!$C$31=\"\",H945=\"\"),\"\",(('3 Irrigation Schedule'!$C$29-'3 Irrigation Schedule'!$C$31)/100)*1000*N945)","v":""},"",{"$f":"IF(H945=\"\",\"\",IF(H945=1,O945*(1-'3 Irrigation Schedule'!$C$27),T944-V944))","v":""},"","","",{"$f":"IF(H945=\"\",\"\",IF('3 Irrigation Schedule'!$P$19<P945,'3 Irrigation Schedule'!$P$19,P945))","v":""},"",{"$f":"IF(H945=\"\",\"\",V945/'3 Irrigation Schedule'!$M$19)","v":""}]
[null,null,null,"2022","August","2022-08-30",null,"","",5.2023999999999999,9.5483870967741968E-2,"",0,"",{"$f":"IF(OR('3 Irrigation Schedule'!$C$29=\"\",'3 Irrigation Schedule'!$C$31=\"\",H946=\"\"),\"\",(('3 Irrigation Schedule'!$C$29-'3 Irrigation Schedule'!$C$31)/100)*1000*N946)","v":""},"",{"$f":"IF(H946=\"\",\"\",IF(H946=1,O946*(1-'3 Irrigation Schedule'!$C$27),T945-V945))","v":""},"","","",{"$f":"IF(H946=\"\",\"\",IF('3 Irrigation Schedule'!$P$19<P946,'3 Irrigation Schedule'!$P$19,P946))","v":""},"",{"$f":"IF(H946=\"\",\"\",V946/'3 Irrigation Schedule'!$M$19)","v":""}]
[null,null,null,"2022","August","2022-08-31",null,"","",5.2023999999999999,9.5483870967741968E-2,"",0,"",{"$f":"IF(OR('3 Irrigation Schedule'!$C$29=\"\",'3 Irrigation Schedule'!$C$31=\"\",H947=\"\"),\"\",(('3 Irrigation Schedule'!$C$29-'3 Irrigation Schedule'!$C$31)/100)*1000*N947)","v":""},"",{"$f":"IF(H947=\"\",\"\",IF(H947=1,O947*(1-'3 Irrigation Schedule'!$C$27),T946-V946))","v":""},"","","",{"$f":"IF(H947=\"\",\"\",IF('3 Irrigation Schedule'!$P$19<P947,'3 Irrigation Schedule'!$P$19,P947))","v":""},"",{"$f":"IF(H947=\"\",\"\",V947/'3 Irrigation Schedule'!$M$19)","v":""}]
[null,null,null,"2022","September","2022-09-01",null,"","",5.2796800000000008,3.2666666666666684E-2,"",0,"",{"$f":"IF(OR('3 Irrigation Schedule'!$C$29=\"\",'3 Irrigation Schedule'!$C$31=\"\",H948=\"\"),\"\",(('3 Irrigation Schedule'!$C$29-'3 Irrigation Schedule'!$C$31)/100)*1000*N948)","v":""},"",{"$f":"IF(H948=\"\",\"\",IF(H948=1,O948*(1-'3 Irrigation Schedule'!$C$27),T947-V947))","v":""},"","","",{"$f":"IF(H948=\"\",\"\",IF('3 Irrigation Schedule'!$P$19<P948,'3 Irrigation Schedule'!$P$19,P948))","v":""},"",{"$f":"IF(H948=\"\",\"\",V948/'3 Irrigation Schedule'!$M$19)","v":""}]
[null,null,null,"2022","September","2022-09-02",null,"","",5.2796800000000008,3.2666666666666684E-2,"",0,"",{"$f":"IF(OR('3 Irrigation Schedule'!$C$29=\"\",'3 Irrigation Schedule'!$C$31=\"\",H949=\"\"),\"\",(('3 Irrigation Schedule'!$C$29-'3 Irrigation Schedule'!$C$31)/100)*1000*N949)","v":""},"",{"$f":"IF(H949=\"\",\"\",IF(H949=1,O949*(1-'3 Irrigation Schedule'!$C$27),T948-V948))","v":""},"","","",{"$f":"IF(H949=\"\",\"\",IF('3 Irrigation Schedule'!$P$19<P949,'3 Irrigation Schedule'!$P$19,P949))","v":""},"",{"$f":"IF(H949=\"\",\"\",V949/'3 Irrigation Schedule'!$M$19)","v":""}]
[null,null,null,"2022","September","2022-09-03",null,"","",5.2796800000000008,3.2666666666666684E-2,"",0,"",{"$f":"IF(OR('3 Irrigation Schedule'!$C$29=\"\",'3 Irrigation Schedule'!$C$31=\"\",H950=\"\"),\"\",(('3 Irrigation Schedule'!$C$29-'3 Irrigation Schedule'!$C$31)/100)*1000*N950)","v":""},"",{"$f":"IF(H950=\"\",\"\",IF(H950=1,O950*(1-'3 Irrigation Schedule'!$C$27),T949-V949))","v":""},"","","",{"$f":"IF(H950=\"\",\"\",IF('3 Irrigation Schedule'!$P$19<P950,'3 Irrigation Schedule'!$P$19,P950))","v":""},"",{"$f":"IF(H950=\"\",\"\",V950/'3 Irrigation Schedule'!$M$19)","v":""}]
[null,null,null,"2022","September","2022-09-04",null,"","",5.2796800000000008,3.2666666666666684E-2,"",0,"",{"$f":"IF(OR('3 Irrigation Schedule'!$C$29=\"\",'3 Irrigation Schedule'!$C$31=\"\",H951=\"\"),\"\",(('3 Irrigation Schedule'!$C$29-'3 Irrigation Schedule'!$C$31)/100)*1000*N951)","v":""},"",{"$f":"IF(H951=\"\",\"\",IF(H951=1,O951*(1-'3 Irrigation Schedule'!$C$27),T950-V950))","v":""},"","","",{"$f":"IF(H951=\"\",\"\",IF('3 Irrigation Schedule'!$P$19<P951,'3 Irrigation Schedule'!$P$19,P951))","v":""},"",{"$f":"IF(H951=\"\",\"\",V951/'3 Irrigation Schedule'!$M$19)","v":""}]
[null,null,null,"2022","September","2022-09-05",null,"","",5.2796800000000008,3.2666666666666684E-2,"",0,"",{"$f":"IF(OR('3 Irrigation Schedule'!$C$29=\"\",'3 Irrigation Schedule'!$C$31=\"\",H952=\"\"),\"\",(('3 Irrigation Schedule'!$C$29-'3 Irrigation Schedule'!$C$31)/100)*1000*N952)","v":""},"",{"$f":"IF(H952=\"\",\"\",IF(H952=1,O952*(1-'3 Irrigation Schedule'!$C$27),T951-V951))","v":""},"","","",{"$f":"IF(H952=\"\",\"\",IF('3 Irrigation Schedule'!$P$19<P952,'3 Irrigation Schedule'!$P$19,P952))","v":""},"",{"$f":"IF(H952=\"\",\"\",V952/'3 Irrigation Schedule'!$M$19)","v":""}]
[null,null,null,"2022","September","2022-09-06",null,"","",5.2796800000000008,3.2666666666666684E-2,"",0,"",{"$f":"IF(OR('3 Irrigation Schedule'!$C$29=\"\",'3 Irrigation Schedule'!$C$31=\"\",H953=\"\"),\"\",(('3 Irrigation Schedule'!$C$29-'3 Irrigation Schedule'!$C$31)/100)*1000*N953)","v":""},"",{"$f":"IF(H953=\"\",\"\",IF(H953=1,O953*(1-'3 Irrigation Schedule'!$C$27),T952-V952))","v":""},"","","",{"$f":"IF(H953=\"\",\"\",IF('3 Irrigation Schedule'!$P$19<P953,'3 Irrigation Schedule'!$P$19,P953))","v":""},"",{"$f":"IF(H953=\"\",\"\",V953/'3 Irrigation Schedule'!$M$19)","v":""}]
[null,null,null,"2022","September","2022-09-07",null,"","",5.2796800000000008,3.2666666666666684E-2,"",0,"",{"$f":"IF(OR('3 Irrigation Schedule'!$C$29=\"\",'3 Irrigation Schedule'!$C$31=\"\",H954=\"\"),\"\",(('3 Irrigation Schedule'!$C$29-'3 Irrigation Schedule'!$C$31)/100)*1000*N954)","v":""},"",{"$f":"IF(H954=\"\",\"\",IF(H954=1,O954*(1-'3 Irrigation Schedule'!$C$27),T953-V953))","v":""},"","","",{"$f":"IF(H954=\"\",\"\",IF('3 Irrigation Schedule'!$P$19<P954,'3 Irrigation Schedule'!$P$19,P954))","v":""},"",{"$f":"IF(H954=\"\",\"\",V954/'3 Irrigation Schedule'!$M$19)","v":""}]
[null,null,null,"2022","September","2022-09-08",null,"","",5.2796800000000008,3.2666666666666684E-2,"",0,"",{"$f":"IF(OR('3 Irrigation Schedule'!$C$29=\"\",'3 Irrigation Schedule'!$C$31=\"\",H955=\"\"),\"\",(('3 Irrigation Schedule'!$C$29-'3 Irrigation Schedule'!$C$31)/100)*1000*N955)","v":""},"",{"$f":"IF(H955=\"\",\"\",IF(H955=1,O955*(1-'3 Irrigation Schedule'!$C$27),T954-V954))","v":""},"","","",{"$f":"IF(H955=\"\",\"\",IF('3 Irrigation Schedule'!$P$19<P955,'3 Irrigation Schedule'!$P$19,P955))","v":""},"",{"$f":"IF(H955=\"\",\"\",V955/'3 Irrigation Schedule'!$M$19)","v":""}]
[null,null,null,"2022","September","2022-09-09",null,"","",5.2796800000000008,3.2666666666666684E-2,"",0,"",{"$f":"IF(OR('3 Irrigation Schedule'!$C$29=\"\",'3 Irrigation Schedule'!$C$31=\"\",H956=\"\"),\"\",(('3 Irrigation Schedule'!$C$29-'3 Irrigation Schedule'!$C$31)/100)*1000*N956)","v":""},"",{"$f":"IF(H956=\"\",\"\",IF(H956=1,O956*(1-'3 Irrigation Schedule'!$C$27),T955-V955))","v":""},"","","",{"$f":"IF(H956=\"\",\"\",IF('3 Irrigation Schedule'!$P$19<P956,'3 Irrigation Schedule'!$P$19,P956))","v":""},"",{"$f":"IF(H956=\"\",\"\",V956/'3 Irrigation Schedule'!$M$19)","v":""}]
[null,null,null,"2022","September","2022-09-10",null,"",{"$f":"IF(H957=\"\",\"\",IF(H957<=$I$27,\"Initial\",IF(AND(H957>$I$27,H957<=$I$28),\"Development\",IF(AND(H957>$I$28,H957<=$I$29),\"Mid Season\",\"Late Season\"))))","v":""},5.2796800000000008,3.2666666666666684E-2,"",0,"",{"$f":"IF(OR('3 Irrigation Schedule'!$C$29=\"\",'3 Irrigation Schedule'!$C$31=\"\",H957=\"\"),\"\",(('3 Irrigation Schedule'!$C$29-'3 Irrigation Schedule'!$C$31)/100)*1000*N957)","v":""},"",{"$f":"IF(H957=\"\",\"\",IF(H957=1,O957*(1-'3 Irrigation Schedule'!$C$27),T956-V956))","v":""},"","","",{"$f":"IF(H957=\"\",\"\",IF('3 Irrigation Schedule'!$P$19<P957,'3 Irrigation Schedule'!$P$19,P957))","v":""},"",{"$f":"IF(H957=\"\",\"\",V957/'3 Irrigation Schedule'!$M$19)","v":""}]
[null,null,null,"2022","September","2022-09-11",null,"","",5.2796800000000008,3.2666666666666684E-2,"",0,"",{"$f":"IF(OR('3 Irrigation Schedule'!$C$29=\"\",'3 Irrigation Schedule'!$C$31=\"\",H958=\"\"),\"\",(('3 Irrigation Schedule'!$C$29-'3 Irrigation Schedule'!$C$31)/100)*1000*N958)","v":""},"",{"$f":"IF(H958=\"\",\"\",IF(H958=1,O958*(1-'3 Irrigation Schedule'!$C$27),T957-V957))","v":""},"","","",{"$f":"IF(H958=\"\",\"\",IF('3 Irrigation Schedule'!$P$19<P958,'3 Irrigation Schedule'!$P$19,P958))","v":""},"",{"$f":"IF(H958=\"\",\"\",V958/'3 Irrigation Schedule'!$M$19)","v":""}]
[null,null,null,"2022","September","2022-09-12",null,"","",5.2796800000000008,3.2666666666666684E-2,"",0,"",{"$f":"IF(OR('3 Irrigation Schedule'!$C$29=\"\",'3 Irrigation Schedule'!$C$31=\"\",H959=\"\"),\"\",(('3 Irrigation Schedule'!$C$29-'3 Irrigation Schedule'!$C$31)/100)*1000*N959)","v":""},"",{"$f":"IF(H959=\"\",\"\",IF(H959=1,O959*(1-'3 Irrigation Schedule'!$C$27),T958-V958))","v":""},"","","",{"$f":"IF(H959=\"\",\"\",IF('3 Irrigation Schedule'!$P$19<P959,'3 Irrigation Schedule'!$P$19,P959))","v":""},"",{"$f":"IF(H959=\"\",\"\",V959/'3 Irrigation Schedule'!$M$19)","v":""}]
[null,null,null,"2022","September","2022-09-13",null,"","",5.2796800000000008,3.2666666666666684E-2,"",0,"",{"$f":"IF(OR('3 Irrigation Schedule'!$C$29=\"\",'3 Irrigation Schedule'!$C$31=\"\",H960=\"\"),\"\",(('3 Irrigation Schedule'!$C$29-'3 Irrigation Schedule'!$C$31)/100)*1000*N960)","v":""},"",{"$f":"IF(H960=\"\",\"\",IF(H960=1,O960*(1-'3 Irrigation Schedule'!$C$27),T959-V959))","v":""},"","","",{"$f":"IF(H960=\"\",\"\",IF('3 Irrigation Schedule'!$P$19<P960,'3 Irrigation Schedule'!$P$19,P960))","v":""},"",{"$f":"IF(H960=\"\",\"\",V960/'3 Irrigation Schedule'!$M$19)","v":""}]
[null,null,null,"2022","September","2022-09-14",null,"","",5.2796800000000008,3.2666666666666684E-2,"",0,"",{"$f":"IF(OR('3 Irrigation Schedule'!$C$29=\"\",'3 Irrigation Schedule'!$C$31=\"\",H961=\"\"),\"\",(('3 Irrigation Schedule'!$C$29-'3 Irrigation Schedule'!$C$31)/100)*1000*N961)","v":""},"",{"$f":"IF(H961=\"\",\"\",IF(H961=1,O961*(1-'3 Irrigation Schedule'!$C$27),T960-V960))","v":""},"","","",{"$f":"IF(H961=\"\",\"\",IF('3 Irrigation Schedule'!$P$19<P961,'3 Irrigation Schedule'!$P$19,P961))","v":""},"",{"$f":"IF(H961=\"\",\"\",V961/'3 Irrigation Schedule'!$M$19)","v":""}]
[null,null,null,"2022","September","2022-09-15",null,"","",5.2796800000000008,3.2666666666666684E-2,"",0,"",{"$f":"IF(OR('3 Irrigation Schedule'!$C$29=\"\",'3 Irrigation Schedule'!$C$31=\"\",H962=\"\"),\"\",(('3 Irrigation Schedule'!$C$29-'3 Irrigation Schedule'!$C$31)/100)*1000*N962)","v":""},"",{"$f":"IF(H962=\"\",\"\",IF(H962=1,O962*(1-'3 Irrigation Schedule'!$C$27),T961-V961))","v":""},"","","",{"$f":"IF(H962=\"\",\"\",IF('3 Irrigation Schedule'!$P$19<P962,'3 Irrigation Schedule'!$P$19,P962))","v":""},"",{"$f":"IF(H962=\"\",\"\",V962/'3 Irrigation Schedule'!$M$19)","v":""}]
[null,null,null,"2022","September","2022-09-16",null,"","",5.2796800000000008,3.2666666666666684E-2,"",0,"",{"$f":"IF(OR('3 Irrigation Schedule'!$C$29=\"\",'3 Irrigation Schedule'!$C$31=\"\",H963=\"\"),\"\",(('3 Irrigation Schedule'!$C$29-'3 Irrigation Schedule'!$C$31)/100)*1000*N963)","v":""},"",{"$f":"IF(H963=\"\",\"\",IF(H963=1,O963*(1-'3 Irrigation Schedule'!$C$27),T962-V962))","v":""},"","","",{"$f":"IF(H963=\"\",\"\",IF('3 Irrigation Schedule'!$P$19<P963,'3 Irrigation Schedule'!$P$19,P963))","v":""},"",{"$f":"IF(H963=\"\",\"\",V963/'3 Irrigation Schedule'!$M$19)","v":""}]
[null,null,null,"2022","September","2022-09-17",null,"","",5.2796800000000008,3.2666666666666684E-2,"",0,"",{"$f":"IF(OR('3 Irrigation Schedule'!$C$29=\"\",'3 Irrigation Schedule'!$C$31=\"\",H964=\"\"),\"\",(('3 Irrigation Schedule'!$C$29-'3 Irrigation Schedule'!$C$31)/100)*1000*N964)","v":""},"",{"$f":"IF(H964=\"\",\"\",IF(H964=1,O964*(1-'3 Irrigation Schedule'!$C$27),T963-V963))","v":""},"","","",{"$f":"IF(H964=\"\",\"\",IF('3 Irrigation Schedule'!$P$19<P964,'3 Irrigation Schedule'!$P$19,P964))","v":""},"",{"$f":"IF(H964=\"\",\"\",V964/'3 Irrigation Schedule'!$M$19)","v":""}]
[null,null,null,"2022","September","2022-09-18",null,"","",5.2796800000000008,3.2666666666666684E-2,"",0,"",{"$f":"IF(OR('3 Irrigation Schedule'!$C$29=\"\",'3 Irrigation Schedule'!$C$31=\"\",H965=\"\"),\"\",(('3 Irrigation Schedule'!$C$29-'3 Irrigation Schedule'!$C$31)/100)*1000*N965)","v":""},"",{"$f":"IF(H965=\"\",\"\",IF(H965=1,O965*(1-'3 Irrigation Schedule'!$C$27),T964-V964))","v":""},"","","",{"$f":"IF(H965=\"\",\"\",IF('3 Irrigation Schedule'!$P$19<P965,'3 Irrigation Schedule'!$P$19,P965))","v":""},"",{"$f":"IF(H965=\"\",\"\",V965/'3 Irrigation Schedule'!$M$19)","v":""}]
[null,null,null,"2022","September","2022-09-19",null,"","",5.2796800000000008,3.2666666666666684E-2,"",0,"",{"$f":"IF(OR('3 Irrigation Schedule'!$C$29=\"\",'3 Irrigation Schedule'!$C$31=\"\",H966=\"\"),\"\",(('3 Irrigation Schedule'!$C$29-'3 Irrigation Schedule'!$C$31)/100)*1000*N966)","v":""},"",{"$f":"IF(H966=\"\",\"\",IF(H966=1,O966*(1-'3 Irrigation Schedule'!$C$27),T965-V965))","v":""},"","","",{"$f":"IF(H966=\"\",\"\",IF('3 Irrigation Schedule'!$P$19<P966,'3 Irrigation Schedule'!$P$19,P966))","v":""},"",{"$f":"IF(H966=\"\",\"\",V966/'3 Irrigation Schedule'!$M$19)","v":""}]
[null,null,null,"2022","September","2022-09-20",null,"","",5.2796800000000008,3.2666666666666684E-2,"",0,"",{"$f":"IF(OR('3 Irrigation Schedule'!$C$29=\"\",'3 Irrigation Schedule'!$C$31=\"\",H967=\"\"),\"\",(('3 Irrigation Schedule'!$C$29-'3 Irrigation Schedule'!$C$31)/100)*1000*N967)","v":""},"",{"$f":"IF(H967=\"\",\"\",IF(H967=1,O967*(1-'3 Irrigation Schedule'!$C$27),T966-V966))","v":""},"","","",{"$f":"IF(H967=\"\",\"\",IF('3 Irrigation Schedule'!$P$19<P967,'3 Irrigation Schedule'!$P$19,P967))","v":""},"",{"$f":"IF(H967=\"\",\"\",V967/'3 Irrigation Schedule'!$M$19)","v":""}]
[null,null,null,"2022","September","2022-09-21",null,"","",5.2796800000000008,3.2666666666666684E-2,"",0,"",{"$f":"IF(OR('3 Irrigation Schedule'!$C$29=\"\",'3 Irrigation Schedule'!$C$31=\"\",H968=\"\"),\"\",(('3 Irrigation Schedule'!$C$29-'3 Irrigation Schedule'!$C$31)/100)*1000*N968)","v":""},"",{"$f":"IF(H968=\"\",\"\",IF(H968=1,O968*(1-'3 Irrigation Schedule'!$C$27),T967-V967))","v":""},"","","",{"$f":"IF(H968=\"\",\"\",IF('3 Irrigation Schedule'!$P$19<P968,'3 Irrigation Schedule'!$P$19,P968))","v":""},"",{"$f":"IF(H968=\"\",\"\",V968/'3 Irrigation Schedule'!$M$19)","v":""}]
[null,null,null,"2022","September","2022-09-22",null,"","",5.2796800000000008,3.2666666666666684E-2,"",0,"",{"$f":"IF(OR('3 Irrigation Schedule'!$C$29=\"\",'3 Irrigation Schedule'!$C$31=\"\",H969=\"\"),\"\",(('3 Irrigation Schedule'!$C$29-'3 Irrigation Schedule'!$C$31)/100)*1000*N969)","v":""},"",{"$f":"IF(H969=\"\",\"\",IF(H969=1,O969*(1-'3 Irrigation Schedule'!$C$27),T968-V968))","v":""},"","","",{"$f":"IF(H969=\"\",\"\",IF('3 Irrigation Schedule'!$P$19<P969,'3 Irrigation Schedule'!$P$19,P969))","v":""},"",{"$f":"IF(H969=\"\",\"\",V969/'3 Irrigation Schedule'!$M$19)","v":""}]
[null,null,null,"2022","September","2022-09-23",null,"","",5.2796800000000008,3.2666666666666684E-2,"",0,"",{"$f":"IF(OR('3 Irrigation Schedule'!$C$29=\"\",'3 Irrigation Schedule'!$C$31=\"\",H970=\"\"),\"\",(('3 Irrigation Schedule'!$C$29-'3 Irrigation Schedule'!$C$31)/100)*1000*N970)","v":""},"",{"$f":"IF(H970=\"\",\"\",IF(H970=1,O970*(1-'3 Irrigation Schedule'!$C$27),T969-V969))","v":""},"","","",{"$f":"IF(H970=\"\",\"\",IF('3 Irrigation Schedule'!$P$19<P970,'3 Irrigation Schedule'!$P$19,P970))","v":""},"",{"$f":"IF(H970=\"\",\"\",V970/'3 Irrigation Schedule'!$M$19)","v":""}]
[null,null,null,"2022","September","2022-09-24",null,"","",5.2796800000000008,3.2666666666666684E-2,"",0,"",{"$f":"IF(OR('3 Irrigation Schedule'!$C$29=\"\",'3 Irrigation Schedule'!$C$31=\"\",H971=\"\"),\"\",(('3 Irrigation Schedule'!$C$29-'3 Irrigation Schedule'!$C$31)/100)*1000*N971)","v":""},"",{"$f":"IF(H971=\"\",\"\",IF(H971=1,O971*(1-'3 Irrigation Schedule'!$C$27),T970-V970))","v":""},"","","",{"$f":"IF(H971=\"\",\"\",IF('3 Irrigation Schedule'!$P$19<P971,'3 Irrigation Schedule'!$P$19,P971))","v":""},"",{"$f":"IF(H971=\"\",\"\",V971/'3 Irrigation Schedule'!$M$19)","v":""}]
[null,null,null,"2022","September","2022-09-25",null,"","",5.2796800000000008,3.2666666666666684E-2,"",0,"",{"$f":"IF(OR('3 Irrigation Schedule'!$C$29=\"\",'3 Irrigation Schedule'!$C$31=\"\",H972=\"\"),\"\",(('3 Irrigation Schedule'!$C$29-'3 Irrigation Schedule'!$C$31)/100)*1000*N972)","v":""},"",{"$f":"IF(H972=\"\",\"\",IF(H972=1,O972*(1-'3 Irrigation Schedule'!$C$27),T971-V971))","v":""},"","","",{"$f":"IF(H972=\"\",\"\",IF('3 Irrigation Schedule'!$P$19<P972,'3 Irrigation Schedule'!$P$19,P972))","v":""},"",{"$f":"IF(H972=\"\",\"\",V972/'3 Irrigation Schedule'!$M$19)","v":""}]
[null,null,null,"2022","September","2022-09-26",null,"","",5.2796800000000008,3.2666666666666684E-2,"",0,"",{"$f":"IF(OR('3 Irrigation Schedule'!$C$29=\"\",'3 Irrigation Schedule'!$C$31=\"\",H973=\"\"),\"\",(('3 Irrigation Schedule'!$C$29-'3 Irrigation Schedule'!$C$31)/100)*1000*N973)","v":""},"",{"$f":"IF(H973=\"\",\"\",IF(H973=1,O973*(1-'3 Irrigation Schedule'!$C$27),T972-V972))","v":""},"","","",{"$f":"IF(H973=\"\",\"\",IF('3 Irrigation Schedule'!$P$19<P973,'3 Irrigation Schedule'!$P$19,P973))","v":""},"",{"$f":"IF(H973=\"\",\"\",V973/'3 Irrigation Schedule'!$M$19)","v":""}]
[null,null,null,"2022","September","2022-09-27",null,"","",5.2796800000000008,3.2666666666666684E-2,"",0,"",{"$f":"IF(OR('3 Irrigation Schedule'!$C$29=\"\",'3 Irrigation Schedule'!$C$31=\"\",H974=\"\"),\"\",(('3 Irrigation Schedule'!$C$29-'3 Irrigation Schedule'!$C$31)/100)*1000*N974)","v":""},"",{"$f":"IF(H974=\"\",\"\",IF(H974=1,O974*(1-'3 Irrigation Schedule'!$C$27),T973-V973))","v":""},"","","",{"$f":"IF(H974=\"\",\"\",IF('3 Irrigation Schedule'!$P$19<P974,'3 Irrigation Schedule'!$P$19,P974))","v":""},"",{"$f":"IF(H974=\"\",\"\",V974/'3 Irrigation Schedule'!$M$19)","v":""}]
[null,null,null,"2022","September","2022-09-28",null,"","",5.2796800000000008,3.2666666666666684E-2,"",0,"",{"$f":"IF(OR('3 Irrigation Schedule'!$C$29=\"\",'3 Irrigation Schedule'!$C$31=\"\",H975=\"\"),\"\",(('3 Irrigation Schedule'!$C$29-'3 Irrigation Schedule'!$C$31)/100)*1000*N975)","v":""},"",{"$f":"IF(H975=\"\",\"\",IF(H975=1,O975*(1-'3 Irrigation Schedule'!$C$27),T974-V974))","v":""},"","","",{"$f":"IF(H975=\"\",\"\",IF('3 Irrigation Schedule'!$P$19<P975,'3 Irrigation Schedule'!$P$19,P975))","v":""},"",{"$f":"IF(H975=\"\",\"\",V975/'3 Irrigation Schedule'!$M$19)","v":""}]
[null,null,null,"2022","September","2022-09-29",null,"","",5.2796800000000008,3.2666666666666684E-2,"",0,"",{"$f":"IF(OR('3 Irrigation Schedule'!$C$29=\"\",'3 Irrigation Schedule'!$C$31=\"\",H976=\"\"),\"\",(('3 Irrigation Schedule'!$C$29-'3 Irrigation Schedule'!$C$31)/100)*1000*N976)","v":""},"",{"$f":"IF(H976=\"\",\"\",IF(H976=1,O976*(1-'3 Irrigation Schedule'!$C$27),T975-V975))","v":""},"","","",{"$f":"IF(H976=\"\",\"\",IF('3 Irrigation Schedule'!$P$19<P976,'3 Irrigation Schedule'!$P$19,P976))","v":""},"",{"$f":"IF(H976=\"\",\"\",V976/'3 Irrigation Schedule'!$M$19)","v":""}]
[null,null,null,"2022","September","2022-09-30",null,"","",5.2796800000000008,3.2666666666666684E-2,"",0,"",{"$f":"IF(OR('3 Irrigation Schedule'!$C$29=\"\",'3 Irrigation Schedule'!$C$31=\"\",H977=\"\"),\"\",(('3 Irrigation Schedule'!$C$29-'3 Irrigation Schedule'!$C$31)/100)*1000*N977)","v":""},"",{"$f":"IF(H977=\"\",\"\",IF(H977=1,O977*(1-'3 Irrigation Schedule'!$C$27),T976-V976))","v":""},"","","",{"$f":"IF(H977=\"\",\"\",IF('3 Irrigation Schedule'!$P$19<P977,'3 Irrigation Schedule'!$P$19,P977))","v":""},"",{"$f":"IF(H977=\"\",\"\",V977/'3 Irrigation Schedule'!$M$19)","v":""}]
[null,null,null,"2022","October","2022-10-01",null,"","",5.1283799999999999,0.61225806451612896,"",0,"",{"$f":"IF(OR('3 Irrigation Schedule'!$C$29=\"\",'3 Irrigation Schedule'!$C$31=\"\",H978=\"\"),\"\",(('3 Irrigation Schedule'!$C$29-'3 Irrigation Schedule'!$C$31)/100)*1000*N978)","v":""},"",{"$f":"IF(H978=\"\",\"\",IF(H978=1,O978*(1-'3 Irrigation Schedule'!$C$27),T977-V977))","v":""},"","","",{"$f":"IF(H978=\"\",\"\",IF('3 Irrigation Schedule'!$P$19<P978,'3 Irrigation Schedule'!$P$19,P978))","v":""},"",{"$f":"IF(H978=\"\",\"\",V978/'3 Irrigation Schedule'!$M$19)","v":""}]
[null,null,null,"2022","October","2022-10-02",null,"","",5.1283799999999999,0.61225806451612896,"",0,"",{"$f":"IF(OR('3 Irrigation Schedule'!$C$29=\"\",'3 Irrigation Schedule'!$C$31=\"\",H979=\"\"),\"\",(('3 Irrigation Schedule'!$C$29-'3 Irrigation Schedule'!$C$31)/100)*1000*N979)","v":""},"",{"$f":"IF(H979=\"\",\"\",IF(H979=1,O979*(1-'3 Irrigation Schedule'!$C$27),T978-V978))","v":""},"","","",{"$f":"IF(H979=\"\",\"\",IF('3 Irrigation Schedule'!$P$19<P979,'3 Irrigation Schedule'!$P$19,P979))","v":""},"",{"$f":"IF(H979=\"\",\"\",V979/'3 Irrigation Schedule'!$M$19)","v":""}]
[null,null,null,"2022","October","2022-10-03",null,"","",5.1283799999999999,0.61225806451612896,"",0,"",{"$f":"IF(OR('3 Irrigation Schedule'!$C$29=\"\",'3 Irrigation Schedule'!$C$31=\"\",H980=\"\"),\"\",(('3 Irrigation Schedule'!$C$29-'3 Irrigation Schedule'!$C$31)/100)*1000*N980)","v":""},"",{"$f":"IF(H980=\"\",\"\",IF(H980=1,O980*(1-'3 Irrigation Schedule'!$C$27),T979-V979))","v":""},"","","",{"$f":"IF(H980=\"\",\"\",IF('3 Irrigation Schedule'!$P$19<P980,'3 Irrigation Schedule'!$P$19,P980))","v":""},"",{"$f":"IF(H980=\"\",\"\",V980/'3 Irrigation Schedule'!$M$19)","v":""}]
[null,null,null,"2022","October","2022-10-04",null,"","",5.1283799999999999,0.61225806451612896,"",0,"",{"$f":"IF(OR('3 Irrigation Schedule'!$C$29=\"\",'3 Irrigation Schedule'!$C$31=\"\",H981=\"\"),\"\",(('3 Irrigation Schedule'!$C$29-'3 Irrigation Schedule'!$C$31)/100)*1000*N981)","v":""},"",{"$f":"IF(H981=\"\",\"\",IF(H981=1,O981*(1-'3 Irrigation Schedule'!$C$27),T980-V980))","v":""},"","","",{"$f":"IF(H981=\"\",\"\",IF('3 Irrigation Schedule'!$P$19<P981,'3 Irrigation Schedule'!$P$19,P981))","v":""},"",{"$f":"IF(H981=\"\",\"\",V981/'3 Irrigation Schedule'!$M$19)","v":""}]
[null,null,null,"2022","October","2022-10-05",null,"","",5.1283799999999999,0.61225806451612896,"",0,"",{"$f":"IF(OR('3 Irrigation Schedule'!$C$29=\"\",'3 Irrigation Schedule'!$C$31=\"\",H982=\"\"),\"\",(('3 Irrigation Schedule'!$C$29-'3 Irrigation Schedule'!$C$31)/100)*1000*N982)","v":""},"",{"$f":"IF(H982=\"\",\"\",IF(H982=1,O982*(1-'3 Irrigation Schedule'!$C$27),T981-V981))","v":""},"","","",{"$f":"IF(H982=\"\",\"\",IF('3 Irrigation Schedule'!$P$19<P982,'3 Irrigation Schedule'!$P$19,P982))","v":""},"",{"$f":"IF(H982=\"\",\"\",V982/'3 Irrigation Schedule'!$M$19)","v":""}]
[null,null,null,"2022","October","2022-10-06",null,"","",5.1283799999999999,0.61225806451612896,"",0,"",{"$f":"IF(OR('3 Irrigation Schedule'!$C$29=\"\",'3 Irrigation Schedule'!$C$31=\"\",H983=\"\"),\"\",(('3 Irrigation Schedule'!$C$29-'3 Irrigation Schedule'!$C$31)/100)*1000*N983)","v":""},"",{"$f":"IF(H983=\"\",\"\",IF(H983=1,O983*(1-'3 Irrigation Schedule'!$C$27),T982-V982))","v":""},"","","",{"$f":"IF(H983=\"\",\"\",IF('3 Irrigation Schedule'!$P$19<P983,'3 Irrigation Schedule'!$P$19,P983))","v":""},"",{"$f":"IF(H983=\"\",\"\",V983/'3 Irrigation Schedule'!$M$19)","v":""}]
[null,null,null,"2022","October","2022-10-07",null,"","",5.1283799999999999,0.61225806451612896,"",0,"",{"$f":"IF(OR('3 Irrigation Schedule'!$C$29=\"\",'3 Irrigation Schedule'!$C$31=\"\",H984=\"\"),\"\",(('3 Irrigation Schedule'!$C$29-'3 Irrigation Schedule'!$C$31)/100)*1000*N984)","v":""},"",{"$f":"IF(H984=\"\",\"\",IF(H984=1,O984*(1-'3 Irrigation Schedule'!$C$27),T983-V983))","v":""},"","","",{"$f":"IF(H984=\"\",\"\",IF('3 Irrigation Schedule'!$P$19<P984,'3 Irrigation Schedule'!$P$19,P984))","v":""},"",{"$f":"IF(H984=\"\",\"\",V984/'3 Irrigation Schedule'!$M$19)","v":""}]
[null,null,null,"2022","October","2022-10-08",null,"","",5.1283799999999999,0.61225806451612896,"",0,"",{"$f":"IF(OR('3 Irrigation Schedule'!$C$29=\"\",'3 Irrigation Schedule'!$C$31=\"\",H985=\"\"),\"\",(('3 Irrigation Schedule'!$C$29-'3 Irrigation Schedule'!$C$31)/100)*1000*N985)","v":""},"",{"$f":"IF(H985=\"\",\"\",IF(H985=1,O985*(1-'3 Irrigation Schedule'!$C$27),T984-V984))","v":""},"","","",{"$f":"IF(H985=\"\",\"\",IF('3 Irrigation Schedule'!$P$19<P985,'3 Irrigation Schedule'!$P$19,P985))","v":""},"",{"$f":"IF(H985=\"\",\"\",V985/'3 Irrigation Schedule'!$M$19)","v":""}]
[null,null,null,"2022","October","2022-10-09",null,"","",5.1283799999999999,0.61225806451612896,"",0,"",{"$f":"IF(OR('3 Irrigation Schedule'!$C$29=\"\",'3 Irrigation Schedule'!$C$31=\"\",H986=\"\"),\"\",(('3 Irrigation Schedule'!$C$29-'3 Irrigation Schedule'!$C$31)/100)*1000*N986)","v":""},"",{"$f":"IF(H986=\"\",\"\",IF(H986=1,O986*(1-'3 Irrigation Schedule'!$C$27),T985-V985))","v":""},"","","",{"$f":"IF(H986=\"\",\"\",IF('3 Irrigation Schedule'!$P$19<P986,'3 Irrigation Schedule'!$P$19,P986))","v":""},"",{"$f":"IF(H986=\"\",\"\",V986/'3 Irrigation Schedule'!$M$19)","v":""}]
[null,null,null,"2022","October","2022-10-10",null,"","",5.1283799999999999,0.61225806451612896,"",0,"",{"$f":"IF(OR('3 Irrigation Schedule'!$C$29=\"\",'3 Irrigation Schedule'!$C$31=\"\",H987=\"\"),\"\",(('3 Irrigation Schedule'!$C$29-'3 Irrigation Schedule'!$C$31)/100)*1000*N987)","v":""},"",{"$f":"IF(H987=\"\",\"\",IF(H987=1,O987*(1-'3 Irrigation Schedule'!$C$27),T986-V986))","v":""},"","","",{"$f":"IF(H987=\"\",\"\",IF('3 Irrigation Schedule'!$P$19<P987,'3 Irrigation Schedule'!$P$19,P987))","v":""},"",{"$f":"IF(H987=\"\",\"\",V987/'3 Irrigation Schedule'!$M$19)","v":""}]
[null,null,null,"2022","October","2022-10-11",null,"","",5.1283799999999999,0.61225806451612896,"",0,"",{"$f":"IF(OR('3 Irrigation Schedule'!$C$29=\"\",'3 Irrigation Schedule'!$C$31=\"\",H988=\"\"),\"\",(('3 Irrigation Schedule'!$C$29-'3 Irrigation Schedule'!$C$31)/100)*1000*N988)","v":""},"",{"$f":"IF(H988=\"\",\"\",IF(H988=1,O988*(1-'3 Irrigation Schedule'!$C$27),T987-V987))","v":""},"","","",{"$f":"IF(H988=\"\",\"\",IF('3 Irrigation Schedule'!$P$19<P988,'3 Irrigation Schedule'!$P$19,P988))","v":""},"",{"$f":"IF(H988=\"\",\"\",V988/'3 Irrigation Schedule'!$M$19)","v":""}]
[null,null,null,"2022","October","2022-10-12",null,"","",5.1283799999999999,0.61225806451612896,"",0,"",{"$f":"IF(OR('3 Irrigation Schedule'!$C$29=\"\",'3 Irrigation Schedule'!$C$31=\"\",H989=\"\"),\"\",(('3 Irrigation Schedule'!$C$29-'3 Irrigation Schedule'!$C$31)/100)*1000*N989)","v":""},"",{"$f":"IF(H989=\"\",\"\",IF(H989=1,O989*(1-'3 Irrigation Schedule'!$C$27),T988-V988))","v":""},"","","",{"$f":"IF(H989=\"\",\"\",IF('3 Irrigation Schedule'!$P$19<P989,'3 Irrigation Schedule'!$P$19,P989))","v":""},"",{"$f":"IF(H989=\"\",\"\",V989/'3 Irrigation Schedule'!$M$19)","v":""}]
[null,null,null,"2022","October","2022-10-13",null,"","",5.1283799999999999,0.61225806451612896,"",0,"",{"$f":"IF(OR('3 Irrigation Schedule'!$C$29=\"\",'3 Irrigation Schedule'!$C$31=\"\",H990=\"\"),\"\",(('3 Irrigation Schedule'!$C$29-'3 Irrigation Schedule'!$C$31)/100)*1000*N990)","v":""},"",{"$f":"IF(H990=\"\",\"\",IF(H990=1,O990*(1-'3 Irrigation Schedule'!$C$27),T989-V989))","v":""},"","","",{"$f":"IF(H990=\"\",\"\",IF('3 Irrigation Schedule'!$P$19<P990,'3 Irrigation Schedule'!$P$19,P990))","v":""},"",{"$f":"IF(H990=\"\",\"\",V990/'3 Irrigation Schedule'!$M$19)","v":""}]
[null,null,null,"2022","October","2022-10-14",null,"","",5.1283799999999999,0.61225806451612896,"",0,"",{"$f":"IF(OR('3 Irrigation Schedule'!$C$29=\"\",'3 Irrigation Schedule'!$C$31=\"\",H991=\"\"),\"\",(('3 Irrigation Schedule'!$C$29-'3 Irrigation Schedule'!$C$31)/100)*1000*N991)","v":""},"",{"$f":"IF(H991=\"\",\"\",IF(H991=1,O991*(1-'3 Irrigation Schedule'!$C$27),T990-V990))","v":""},"","","",{"$f":"IF(H991=\"\",\"\",IF('3 Irrigation Schedule'!$P$19<P991,'3 Irrigation Schedule'!$P$19,P991))","v":""},"",{"$f":"IF(H991=\"\",\"\",V991/'3 Irrigation Schedule'!$M$19)","v":""}]
[null,null,null,"2022","October","2022-10-15",null,"","",5.1283799999999999,0.61225806451612896,"",0,"",{"$f":"IF(OR('3 Irrigation Schedule'!$C$29=\"\",'3 Irrigation Schedule'!$C$31=\"\",H992=\"\"),\"\",(('3 Irrigation Schedule'!$C$29-'3 Irrigation Schedule'!$C$31)/100)*1000*N992)","v":""},"",{"$f":"IF(H992=\"\",\"\",IF(H992=1,O992*(1-'3 Irrigation Schedule'!$C$27),T991-V991))","v":""},"","","",{"$f":"IF(H992=\"\",\"\",IF('3 Irrigation Schedule'!$P$19<P992,'3 Irrigation Schedule'!$P$19,P992))","v":""},"",{"$f":"IF(H992=\"\",\"\",V992/'3 Irrigation Schedule'!$M$19)","v":""}]
[null,null,null,"2022","October","2022-10-16",null,"","",5.1283799999999999,0.61225806451612896,"",0,"",{"$f":"IF(OR('3 Irrigation Schedule'!$C$29=\"\",'3 Irrigation Schedule'!$C$31=\"\",H993=\"\"),\"\",(('3 Irrigation Schedule'!$C$29-'3 Irrigation Schedule'!$C$31)/100)*1000*N993)","v":""},"",{"$f":"IF(H993=\"\",\"\",IF(H993=1,O993*(1-'3 Irrigation Schedule'!$C$27),T992-V992))","v":""},"","","",{"$f":"IF(H993=\"\",\"\",IF('3 Irrigation Schedule'!$P$19<P993,'3 Irrigation Schedule'!$P$19,P993))","v":""},"",{"$f":"IF(H993=\"\",\"\",V993/'3 Irrigation Schedule'!$M$19)","v":""}]
[null,null,null,{"$f":"IFERROR(TEXT(DATE(YEAR($F994),MONTH($F994),1),$D$7&$D$4),\"\")","v":"2022"},{"$f":"IFERROR(TEXT(DATE(YEAR($F994),MONTH($F994),1),$D$7&$D$5),\"\")","v":"October"},"2022-10-17",null,"","",{"$f":"IFERROR(VLOOKUP($E994,$B$19:$C$30,2,FALSE),\"\")","v":5.1283799999999999},0.61225806451612896,{"$f":"IF(H994=\"\",\"\",IF(H994<=$I$27,$L$27,IF(AND(H994>$I$27,H994<=$I$28),$L$27+((H994-$I$27)/$H$28)*($L$29-$L$27),IF(AND(H994>$I$28,H994<=$I$29),$L$29,$L$29+((H994-$I$29)/$H$30)*($L$30-$L$29)))))","v":""},{"$f":"IFERROR((J994*L994),0)","v":0},{"$f":"IF(H994=\"\",\"\",IF(OR(H994=1,H994<$I$28),$M$27+(($M$28-$M$27)*((H994-1)/($I$28-1))),$M$28))","v":""},{"$f":"IF(OR('3 Irrigation Schedule'!$C$29=\"\",'3 Irrigation Schedule'!$C$31=\"\",H994=\"\"),\"\",(('3 Irrigation Schedule'!$C$29-'3 Irrigation Schedule'!$C$31)/100)*1000*N994)","v":""},{"$f":"IF(H994=\"\",\"\",O994*$N$27)","v":""},{"$f":"IF(H994=\"\",\"\",IF(H994=1,O994*(1-'3 Irrigation Schedule'!$C$27),T993-V993))","v":""},{"$f":"IF(H994=\"\",\"\",IF(Q994>P994,(O994-Q994)/(O994-P994),1))","v":""},{"$f":"IF(H994=\"\",\"\",M994*R994)","v":""},{"$f":"IF(H994=\"\",\"\",IF(Q994+S994-K994<0,0,Q994+S994-K994))","v":""},{"$f":"IF(H994=\"\",\"\",IF('3 Irrigation Schedule'!$P$19<P994,'3 Irrigation Schedule'!$P$19,P994))","v":""},{"$f":"IF(H994=\"\",\"\",IF(U994<=T994,U994,0))","v":""},{"$f":"IF(H994=\"\",\"\",V994/'3 Irrigation Schedule'!$M$19)","v":""}]
[null,null,null,"2022","October",{"$f":"IFERROR(IF(F994+1<=$N$7, F994+1,\"\"),\"\")","v":"2022-10-18"},null,{"$f":"IFERROR(IF(OR($F995-$J$27+1<=0,$F995>$K$30),\"\",$F995-$J$27+1),\"\")","v":""},"",5.1283799999999999,{"$f":"IFERROR(VLOOKUP($E995,$B$19:$D$30,3,FALSE),\"\")","v":0.61225806451612896},"",0,"",{"$f":"IF(OR('3 Irrigation Schedule'!$C$29=\"\",'3 Irrigation Schedule'!$C$31=\"\",H995=\"\"),\"\",(('3 Irrigation Schedule'!$C$29-'3 Irrigation Schedule'!$C$31)/100)*1000*N995)","v":""},"",{"$f":"IF(H995=\"\",\"\",IF(H995=1,O995*(1-'3 Irrigation Schedule'!$C$27),T994-V994))","v":""},"","","",{"$f":"IF(H995=\"\",\"\",IF('3 Irrigation Schedule'!$P$19<P995,'3 Irrigation Schedule'!$P$19,P995))","v":""},"",{"$f":"IF(H995=\"\",\"\",V995/'3 Irrigation Schedule'!$M$19)","v":""}]
[null,null,null,"2022","October","2022-10-19",null,"","",5.1283799999999999,0.61225806451612896,"",0,"",{"$f":"IF(OR('3 Irrigation Schedule'!$C$29=\"\",'3 Irrigation Schedule'!$C$31=\"\",H996=\"\"),\"\",(('3 Irrigation Schedule'!$C$29-'3 Irrigation Schedule'!$C$31)/100)*1000*N996)","v":""},"",{"$f":"IF(H996=\"\",\"\",IF(H996=1,O996*(1-'3 Irrigation Schedule'!$C$27),T995-V995))","v":""},"","","",{"$f":"IF(H996=\"\",\"\",IF('3 Irrigation Schedule'!$P$19<P996,'3 Irrigation Schedule'!$P$19,P996))","v":""},"",{"$f":"IF(H996=\"\",\"\",V996/'3 Irrigation Schedule'!$M$19)","v":""}]
[null,null,null,"2022","October","2022-10-20",null,"","",5.1283799999999999,0.61225806451612896,"",0,"",{"$f":"IF(OR('3 Irrigation Schedule'!$C$29=\"\",'3 Irrigation Schedule'!$C$31=\"\",H997=\"\"),\"\",(('3 Irrigation Schedule'!$C$29-'3 Irrigation Schedule'!$C$31)/100)*1000*N997)","v":""},"",{"$f":"IF(H997=\"\",\"\",IF(H997=1,O997*(1-'3 Irrigation Schedule'!$C$27),T996-V996))","v":""},"","","",{"$f":"IF(H997=\"\",\"\",IF('3 Irrigation Schedule'!$P$19<P997,'3 Irrigation Schedule'!$P$19,P997))","v":""},"",{"$f":"IF(H997=\"\",\"\",V997/'3 Irrigation Schedule'!$M$19)","v":""}]
[null,null,null,"2022","October","2022-10-21",null,"","",5.1283799999999999,0.61225806451612896,"",0,"",{"$f":"IF(OR('3 Irrigation Schedule'!$C$29=\"\",'3 Irrigation Schedule'!$C$31=\"\",H998=\"\"),\"\",(('3 Irrigation Schedule'!$C$29-'3 Irrigation Schedule'!$C$31)/100)*1000*N998)","v":""},"",{"$f":"IF(H998=\"\",\"\",IF(H998=1,O998*(1-'3 Irrigation Schedule'!$C$27),T997-V997))","v":""},"","","",{"$f":"IF(H998=\"\",\"\",IF('3 Irrigation Schedule'!$P$19<P998,'3 Irrigation Schedule'!$P$19,P998))","v":""},"",{"$f":"IF(H998=\"\",\"\",V998/'3 Irrigation Schedule'!$M$19)","v":""}]
[null,null,null,"2022","October","2022-10-22",null,"","",5.1283799999999999,0.61225806451612896,"",0,"",{"$f":"IF(OR('3 Irrigation Schedule'!$C$29=\"\",'3 Irrigation Schedule'!$C$31=\"\",H999=\"\"),\"\",(('3 Irrigation Schedule'!$C$29-'3 Irrigation Schedule'!$C$31)/100)*1000*N999)","v":""},"",{"$f":"IF(H999=\"\",\"\",IF(H999=1,O999*(1-'3 Irrigation Schedule'!$C$27),T998-V998))","v":""},"","","",{"$f":"IF(H999=\"\",\"\",IF('3 Irrigation Schedule'!$P$19<P999,'3 Irrigation Schedule'!$P$19,P999))","v":""},"",{"$f":"IF(H999=\"\",\"\",V999/'3 Irrigation Schedule'!$M$19)","v":""}]
[null,null,null,"2022","October","2022-10-23",null,"","",5.1283799999999999,0.61225806451612896,"",0,"",{"$f":"IF(OR('3 Irrigation Schedule'!$C$29=\"\",'3 Irrigation Schedule'!$C$31=\"\",H1000=\"\"),\"\",(('3 Irrigation Schedule'!$C$29-'3 Irrigation Schedule'!$C$31)/100)*1000*N1000)","v":""},"",{"$f":"IF(H1000=\"\",\"\",IF(H1000=1,O1000*(1-'3 Irrigation Schedule'!$C$27),T999-V999))","v":""},"","","",{"$f":"IF(H1000=\"\",\"\",IF('3 Irrigation Schedule'!$P$19<P1000,'3 Irrigation Schedule'!$P$19,P1000))","v":""},"",{"$f":"IF(H1000=\"\",\"\",V1000/'3 Irrigation Schedule'!$M$19)","v":""}]
[null,null,null,"2022","October","2022-10-24",null,"","",5.1283799999999999,0.61225806451612896,"",0,"",{"$f":"IF(OR('3 Irrigation Schedule'!$C$29=\"\",'3 Irrigation Schedule'!$C$31=\"\",H1001=\"\"),\"\",(('3 Irrigation Schedule'!$C$29-'3 Irrigation Schedule'!$C$31)/100)*1000*N1001)","v":""},"",{"$f":"IF(H1001=\"\",\"\",IF(H1001=1,O1001*(1-'3 Irrigation Schedule'!$C$27),T1000-V1000))","v":""},"","","",{"$f":"IF(H1001=\"\",\"\",IF('3 Irrigation Schedule'!$P$19<P1001,'3 Irrigation Schedule'!$P$19,P1001))","v":""},"",{"$f":"IF(H1001=\"\",\"\",V1001/'3 Irrigation Schedule'!$M$19)","v":""}]
[null,null,null,"2022","October","2022-10-25",null,"","",5.1283799999999999,0.61225806451612896,"",0,"",{"$f":"IF(OR('3 Irrigation Schedule'!$C$29=\"\",'3 Irrigation Schedule'!$C$31=\"\",H1002=\"\"),\"\",(('3 Irrigation Schedule'!$C$29-'3 Irrigation Schedule'!$C$31)/100)*1000*N1002)","v":""},"",{"$f":"IF(H1002=\"\",\"\",IF(H1002=1,O1002*(1-'3 Irrigation Schedule'!$C$27),T1001-V1001))","v":""},"","","",{"$f":"IF(H1002=\"\",\"\",IF('3 Irrigation Schedule'!$P$19<P1002,'3 Irrigation Schedule'!$P$19,P1002))","v":""},"",{"$f":"IF(H1002=\"\",\"\",V1002/'3 Irrigation Schedule'!$M$19)","v":""}]
[null,null,null,"2022","October","2022-10-26",null,"","",5.1283799999999999,0.61225806451612896,"",0,"",{"$f":"IF(OR('3 Irrigation Schedule'!$C$29=\"\",'3 Irrigation Schedule'!$C$31=\"\",H1003=\"\"),\"\",(('3 Irrigation Schedule'!$C$29-'3 Irrigation Schedule'!$C$31)/100)*1000*N1003)","v":""},"",{"$f":"IF(H1003=\"\",\"\",IF(H1003=1,O1003*(1-'3 Irrigation Schedule'!$C$27),T1002-V1002))","v":""},"","","",{"$f":"IF(H1003=\"\",\"\",IF('3 Irrigation Schedule'!$P$19<P1003,'3 Irrigation Schedule'!$P$19,P1003))","v":""},"",{"$f":"IF(H1003=\"\",\"\",V1003/'3 Irrigation Schedule'!$M$19)","v":""}]
[null,null,null,"2022","October","2022-10-27",null,"","",5.1283799999999999,0.61225806451612896,"",0,"",{"$f":"IF(OR('3 Irrigation Schedule'!$C$29=\"\",'3 Irrigation Schedule'!$C$31=\"\",H1004=\"\"),\"\",(('3 Irrigation Schedule'!$C$29-'3 Irrigation Schedule'!$C$31)/100)*1000*N1004)","v":""},"",{"$f":"IF(H1004=\"\",\"\",IF(H1004=1,O1004*(1-'3 Irrigation Schedule'!$C$27),T1003-V1003))","v":""},"","","",{"$f":"IF(H1004=\"\",\"\",IF('3 Irrigation Schedule'!$P$19<P1004,'3 Irrigation Schedule'!$P$19,P1004))","v":""},"",{"$f":"IF(H1004=\"\",\"\",V1004/'3 Irrigation Schedule'!$M$19)","v":""}]
[null,null,null,"2022","October","2022-10-28",null,"","",5.1283799999999999,0.61225806451612896,"",0,"",{"$f":"IF(OR('3 Irrigation Schedule'!$C$29=\"\",'3 Irrigation Schedule'!$C$31=\"\",H1005=\"\"),\"\",(('3 Irrigation Schedule'!$C$29-'3 Irrigation Schedule'!$C$31)/100)*1000*N1005)","v":""},"",{"$f":"IF(H1005=\"\",\"\",IF(H1005=1,O1005*(1-'3 Irrigation Schedule'!$C$27),T1004-V1004))","v":""},"","","",{"$f":"IF(H1005=\"\",\"\",IF('3 Irrigation Schedule'!$P$19<P1005,'3 Irrigation Schedule'!$P$19,P1005))","v":""},"",{"$f":"IF(H1005=\"\",\"\",V1005/'3 Irrigation Schedule'!$M$19)","v":""}]
[null,null,null,"2022","October","2022-10-29",null,"","",5.1283799999999999,0.61225806451612896,"",0,"",{"$f":"IF(OR('3 Irrigation Schedule'!$C$29=\"\",'3 Irrigation Schedule'!$C$31=\"\",H1006=\"\"),\"\",(('3 Irrigation Schedule'!$C$29-'3 Irrigation Schedule'!$C$31)/100)*1000*N1006)","v":""},"",{"$f":"IF(H1006=\"\",\"\",IF(H1006=1,O1006*(1-'3 Irrigation Schedule'!$C$27),T1005-V1005))","v":""},"","","",{"$f":"IF(H1006=\"\",\"\",IF('3 Irrigation Schedule'!$P$19<P1006,'3 Irrigation Schedule'!$P$19,P1006))","v":""},"",{"$f":"IF(H1006=\"\",\"\",V1006/'3 Irrigation Schedule'!$M$19)","v":""}]
[null,null,null,"2022","October","2022-10-30",null,"","",5.1283799999999999,0.61225806451612896,"",0,"",{"$f":"IF(OR('3 Irrigation Schedule'!$C$29=\"\",'3 Irrigation Schedule'!$C$31=\"\",H1007=\"\"),\"\",(('3 Irrigation Schedule'!$C$29-'3 Irrigation Schedule'!$C$31)/100)*1000*N1007)","v":""},"",{"$f":"IF(H1007=\"\",\"\",IF(H1007=1,O1007*(1-'3 Irrigation Schedule'!$C$27),T1006-V1006))","v":""},"","","",{"$f":"IF(H1007=\"\",\"\",IF('3 Irrigation Schedule'!$P$19<P1007,'3 Irrigation Schedule'!$P$19,P1007))","v":""},"",{"$f":"IF(H1007=\"\",\"\",V1007/'3 Irrigation Schedule'!$M$19)","v":""}]
[null,null,null,"2022","October","2022-10-31",null,"","",5.1283799999999999,0.61225806451612896,"",0,"",{"$f":"IF(OR('3 Irrigation Schedule'!$C$29=\"\",'3 Irrigation Schedule'!$C$31=\"\",H1008=\"\"),\"\",(('3 Irrigation Schedule'!$C$29-'3 Irrigation Schedule'!$C$31)/100)*1000*N1008)","v":""},"",{"$f":"IF(H1008=\"\",\"\",IF(H1008=1,O1008*(1-'3 Irrigation Schedule'!$C$27),T1007-V1007))","v":""},"","","",{"$f":"IF(H1008=\"\",\"\",IF('3 Irrigation Schedule'!$P$19<P1008,'3 Irrigation Schedule'!$P$19,P1008))","v":""},"",{"$f":"IF(H1008=\"\",\"\",V1008/'3 Irrigation Schedule'!$M$19)","v":""}]
[null,null,null,"2022","November","2022-11-01",null,"","",5.091120000000001,1.7920000000000003,"",0,"",{"$f":"IF(OR('3 Irrigation Schedule'!$C$29=\"\",'3 Irrigation Schedule'!$C$31=\"\",H1009=\"\"),\"\",(('3 Irrigation Schedule'!$C$29-'3 Irrigation Schedule'!$C$31)/100)*1000*N1009)","v":""},"",{"$f":"IF(H1009=\"\",\"\",IF(H1009=1,O1009*(1-'3 Irrigation Schedule'!$C$27),T1008-V1008))","v":""},"","","",{"$f":"IF(H1009=\"\",\"\",IF('3 Irrigation Schedule'!$P$19<P1009,'3 Irrigation Schedule'!$P$19,P1009))","v":""},"",{"$f":"IF(H1009=\"\",\"\",V1009/'3 Irrigation Schedule'!$M$19)","v":""}]
[null,null,null,"2022","November","2022-11-02",null,"","",5.091120000000001,1.7920000000000003,"",0,"",{"$f":"IF(OR('3 Irrigation Schedule'!$C$29=\"\",'3 Irrigation Schedule'!$C$31=\"\",H1010=\"\"),\"\",(('3 Irrigation Schedule'!$C$29-'3 Irrigation Schedule'!$C$31)/100)*1000*N1010)","v":""},"",{"$f":"IF(H1010=\"\",\"\",IF(H1010=1,O1010*(1-'3 Irrigation Schedule'!$C$27),T1009-V1009))","v":""},"","","",{"$f":"IF(H1010=\"\",\"\",IF('3 Irrigation Schedule'!$P$19<P1010,'3 Irrigation Schedule'!$P$19,P1010))","v":""},"",{"$f":"IF(H1010=\"\",\"\",V1010/'3 Irrigation Schedule'!$M$19)","v":""}]
[null,null,null,"2022","November","2022-11-03",null,"","",5.091120000000001,1.7920000000000003,"",0,"",{"$f":"IF(OR('3 Irrigation Schedule'!$C$29=\"\",'3 Irrigation Schedule'!$C$31=\"\",H1011=\"\"),\"\",(('3 Irrigation Schedule'!$C$29-'3 Irrigation Schedule'!$C$31)/100)*1000*N1011)","v":""},"",{"$f":"IF(H1011=\"\",\"\",IF(H1011=1,O1011*(1-'3 Irrigation Schedule'!$C$27),T1010-V1010))","v":""},"","","",{"$f":"IF(H1011=\"\",\"\",IF('3 Irrigation Schedule'!$P$19<P1011,'3 Irrigation Schedule'!$P$19,P1011))","v":""},"",{"$f":"IF(H1011=\"\",\"\",V1011/'3 Irrigation Schedule'!$M$19)","v":""}]
[null,null,null,"2022","November","2022-11-04",null,"","",5.091120000000001,1.7920000000000003,"",0,"",{"$f":"IF(OR('3 Irrigation Schedule'!$C$29=\"\",'3 Irrigation Schedule'!$C$31=\"\",H1012=\"\"),\"\",(('3 Irrigation Schedule'!$C$29-'3 Irrigation Schedule'!$C$31)/100)*1000*N1012)","v":""},"",{"$f":"IF(H1012=\"\",\"\",IF(H1012=1,O1012*(1-'3 Irrigation Schedule'!$C$27),T1011-V1011))","v":""},"","","",{"$f":"IF(H1012=\"\",\"\",IF('3 Irrigation Schedule'!$P$19<P1012,'3 Irrigation Schedule'!$P$19,P1012))","v":""},"",{"$f":"IF(H1012=\"\",\"\",V1012/'3 Irrigation Schedule'!$M$19)","v":""}]
[null,null,null,"2022","November","2022-11-05",null,"","",5.091120000000001,1.7920000000000003,"",0,"",{"$f":"IF(OR('3 Irrigation Schedule'!$C$29=\"\",'3 Irrigation Schedule'!$C$31=\"\",H1013=\"\"),\"\",(('3 Irrigation Schedule'!$C$29-'3 Irrigation Schedule'!$C$31)/100)*1000*N1013)","v":""},"",{"$f":"IF(H1013=\"\",\"\",IF(H1013=1,O1013*(1-'3 Irrigation Schedule'!$C$27),T1012-V1012))","v":""},"","","",{"$f":"IF(H1013=\"\",\"\",IF('3 Irrigation Schedule'!$P$19<P1013,'3 Irrigation Schedule'!$P$19,P1013))","v":""},"",{"$f":"IF(H1013=\"\",\"\",V1013/'3 Irrigation Schedule'!$M$19)","v":""}]
[null,null,null,"2022","November","2022-11-06",null,"","",5.091120000000001,1.7920000000000003,"",0,"",{"$f":"IF(OR('3 Irrigation Schedule'!$C$29=\"\",'3 Irrigation Schedule'!$C$31=\"\",H1014=\"\"),\"\",(('3 Irrigation Schedule'!$C$29-'3 Irrigation Schedule'!$C$31)/100)*1000*N1014)","v":""},"",{"$f":"IF(H1014=\"\",\"\",IF(H1014=1,O1014*(1-'3 Irrigation Schedule'!$C$27),T1013-V1013))","v":""},"","","",{"$f":"IF(H1014=\"\",\"\",IF('3 Irrigation Schedule'!$P$19<P1014,'3 Irrigation Schedule'!$P$19,P1014))","v":""},"",{"$f":"IF(H1014=\"\",\"\",V1014/'3 Irrigation Schedule'!$M$19)","v":""}]
[null,null,null,"2022","November","2022-11-07",null,"","",5.091120000000001,1.7920000000000003,"",0,"",{"$f":"IF(OR('3 Irrigation Schedule'!$C$29=\"\",'3 Irrigation Schedule'!$C$31=\"\",H1015=\"\"),\"\",(('3 Irrigation Schedule'!$C$29-'3 Irrigation Schedule'!$C$31)/100)*1000*N1015)","v":""},"",{"$f":"IF(H1015=\"\",\"\",IF(H1015=1,O1015*(1-'3 Irrigation Schedule'!$C$27),T1014-V1014))","v":""},"","","",{"$f":"IF(H1015=\"\",\"\",IF('3 Irrigation Schedule'!$P$19<P1015,'3 Irrigation Schedule'!$P$19,P1015))","v":""},"",{"$f":"IF(H1015=\"\",\"\",V1015/'3 Irrigation Schedule'!$M$19)","v":""}]
[null,null,null,"2022","November","2022-11-08",null,"","",5.091120000000001,1.7920000000000003,"",0,"",{"$f":"IF(OR('3 Irrigation Schedule'!$C$29=\"\",'3 Irrigation Schedule'!$C$31=\"\",H1016=\"\"),\"\",(('3 Irrigation Schedule'!$C$29-'3 Irrigation Schedule'!$C$31)/100)*1000*N1016)","v":""},"",{"$f":"IF(H1016=\"\",\"\",IF(H1016=1,O1016*(1-'3 Irrigation Schedule'!$C$27),T1015-V1015))","v":""},"","","",{"$f":"IF(H1016=\"\",\"\",IF('3 Irrigation Schedule'!$P$19<P1016,'3 Irrigation Schedule'!$P$19,P1016))","v":""},"",{"$f":"IF(H1016=\"\",\"\",V1016/'3 Irrigation Schedule'!$M$19)","v":""}]
[null,null,null,"2022","November","2022-11-09",null,"","",5.091120000000001,1.7920000000000003,"",0,"",{"$f":"IF(OR('3 Irrigation Schedule'!$C$29=\"\",'3 Irrigation Schedule'!$C$31=\"\",H1017=\"\"),\"\",(('3 Irrigation Schedule'!$C$29-'3 Irrigation Schedule'!$C$31)/100)*1000*N1017)","v":""},"",{"$f":"IF(H1017=\"\",\"\",IF(H1017=1,O1017*(1-'3 Irrigation Schedule'!$C$27),T1016-V1016))","v":""},"","","",{"$f":"IF(H1017=\"\",\"\",IF('3 Irrigation Schedule'!$P$19<P1017,'3 Irrigation Schedule'!$P$19,P1017))","v":""},"",{"$f":"IF(H1017=\"\",\"\",V1017/'3 Irrigation Schedule'!$M$19)","v":""}]
[null,null,null,"2022","November","2022-11-10",null,"","",5.091120000000001,1.7920000000000003,"",0,"",{"$f":"IF(OR('3 Irrigation Schedule'!$C$29=\"\",'3 Irrigation Schedule'!$C$31=\"\",H1018=\"\"),\"\",(('3 Irrigation Schedule'!$C$29-'3 Irrigation Schedule'!$C$31)/100)*1000*N1018)","v":""},"",{"$f":"IF(H1018=\"\",\"\",IF(H1018=1,O1018*(1-'3 Irrigation Schedule'!$C$27),T1017-V1017))","v":""},"","","",{"$f":"IF(H1018=\"\",\"\",IF('3 Irrigation Schedule'!$P$19<P1018,'3 Irrigation Schedule'!$P$19,P1018))","v":""},"",{"$f":"IF(H1018=\"\",\"\",V1018/'3 Irrigation Schedule'!$M$19)","v":""}]
[null,null,null,"2022","November","2022-11-11",null,"","",5.091120000000001,1.7920000000000003,"",0,"",{"$f":"IF(OR('3 Irrigation Schedule'!$C$29=\"\",'3 Irrigation Schedule'!$C$31=\"\",H1019=\"\"),\"\",(('3 Irrigation Schedule'!$C$29-'3 Irrigation Schedule'!$C$31)/100)*1000*N1019)","v":""},"",{"$f":"IF(H1019=\"\",\"\",IF(H1019=1,O1019*(1-'3 Irrigation Schedule'!$C$27),T1018-V1018))","v":""},"","","",{"$f":"IF(H1019=\"\",\"\",IF('3 Irrigation Schedule'!$P$19<P1019,'3 Irrigation Schedule'!$P$19,P1019))","v":""},"",{"$f":"IF(H1019=\"\",\"\",V1019/'3 Irrigation Schedule'!$M$19)","v":""}]
[null,null,null,"2022","November","2022-11-12",null,"","",5.091120000000001,1.7920000000000003,"",0,"",{"$f":"IF(OR('3 Irrigation Schedule'!$C$29=\"\",'3 Irrigation Schedule'!$C$31=\"\",H1020=\"\"),\"\",(('3 Irrigation Schedule'!$C$29-'3 Irrigation Schedule'!$C$31)/100)*1000*N1020)","v":""},"",{"$f":"IF(H1020=\"\",\"\",IF(H1020=1,O1020*(1-'3 Irrigation Schedule'!$C$27),T1019-V1019))","v":""},"","","",{"$f":"IF(H1020=\"\",\"\",IF('3 Irrigation Schedule'!$P$19<P1020,'3 Irrigation Schedule'!$P$19,P1020))","v":""},"",{"$f":"IF(H1020=\"\",\"\",V1020/'3 Irrigation Schedule'!$M$19)","v":""}]
[null,null,null,"2022","November","2022-11-13",null,"",{"$f":"IF(H1021=\"\",\"\",IF(H1021<=$I$27,\"Initial\",IF(AND(H1021>$I$27,H1021<=$I$28),\"Development\",IF(AND(H1021>$I$28,H1021<=$I$29),\"Mid Season\",\"Late Season\"))))","v":""},5.091120000000001,1.7920000000000003,"",0,"",{"$f":"IF(OR('3 Irrigation Schedule'!$C$29=\"\",'3 Irrigation Schedule'!$C$31=\"\",H1021=\"\"),\"\",(('3 Irrigation Schedule'!$C$29-'3 Irrigation Schedule'!$C$31)/100)*1000*N1021)","v":""},"",{"$f":"IF(H1021=\"\",\"\",IF(H1021=1,O1021*(1-'3 Irrigation Schedule'!$C$27),T1020-V1020))","v":""},"","","",{"$f":"IF(H1021=\"\",\"\",IF('3 Irrigation Schedule'!$P$19<P1021,'3 Irrigation Schedule'!$P$19,P1021))","v":""},"",{"$f":"IF(H1021=\"\",\"\",V1021/'3 Irrigation Schedule'!$M$19)","v":""}]
[null,null,null,"2022","November","2022-11-14",null,"","",5.091120000000001,1.7920000000000003,"",0,"",{"$f":"IF(OR('3 Irrigation Schedule'!$C$29=\"\",'3 Irrigation Schedule'!$C$31=\"\",H1022=\"\"),\"\",(('3 Irrigation Schedule'!$C$29-'3 Irrigation Schedule'!$C$31)/100)*1000*N1022)","v":""},"",{"$f":"IF(H1022=\"\",\"\",IF(H1022=1,O1022*(1-'3 Irrigation Schedule'!$C$27),T1021-V1021))","v":""},"","","",{"$f":"IF(H1022=\"\",\"\",IF('3 Irrigation Schedule'!$P$19<P1022,'3 Irrigation Schedule'!$P$19,P1022))","v":""},"",{"$f":"IF(H1022=\"\",\"\",V1022/'3 Irrigation Schedule'!$M$19)","v":""}]
[null,null,null,"2022","November","2022-11-15",null,"","",5.091120000000001,1.7920000000000003,"",0,"",{"$f":"IF(OR('3 Irrigation Schedule'!$C$29=\"\",'3 Irrigation Schedule'!$C$31=\"\",H1023=\"\"),\"\",(('3 Irrigation Schedule'!$C$29-'3 Irrigation Schedule'!$C$31)/100)*1000*N1023)","v":""},"",{"$f":"IF(H1023=\"\",\"\",IF(H1023=1,O1023*(1-'3 Irrigation Schedule'!$C$27),T1022-V1022))","v":""},"","","",{"$f":"IF(H1023=\"\",\"\",IF('3 Irrigation Schedule'!$P$19<P1023,'3 Irrigation Schedule'!$P$19,P1023))","v":""},"",{"$f":"IF(H1023=\"\",\"\",V1023/'3 Irrigation Schedule'!$M$19)","v":""}]
[null,null,null,"2022","November","2022-11-16",null,"","",5.091120000000001,1.7920000000000003,"",0,"",{"$f":"IF(OR('3 Irrigation Schedule'!$C$29=\"\",'3 Irrigation Schedule'!$C$31=\"\",H1024=\"\"),\"\",(('3 Irrigation Schedule'!$C$29-'3 Irrigation Schedule'!$C$31)/100)*1000*N1024)","v":""},"",{"$f":"IF(H1024=\"\",\"\",IF(H1024=1,O1024*(1-'3 Irrigation Schedule'!$C$27),T1023-V1023))","v":""},"","","",{"$f":"IF(H1024=\"\",\"\",IF('3 Irrigation Schedule'!$P$19<P1024,'3 Irrigation Schedule'!$P$19,P1024))","v":""},"",{"$f":"IF(H1024=\"\",\"\",V1024/'3 Irrigation Schedule'!$M$19)","v":""}]
[null,null,null,"2022","November","2022-11-17",null,"","",5.091120000000001,1.7920000000000003,"",0,"",{"$f":"IF(OR('3 Irrigation Schedule'!$C$29=\"\",'3 Irrigation Schedule'!$C$31=\"\",H1025=\"\"),\"\",(('3 Irrigation Schedule'!$C$29-'3 Irrigation Schedule'!$C$31)/100)*1000*N1025)","v":""},"",{"$f":"IF(H1025=\"\",\"\",IF(H1025=1,O1025*(1-'3 Irrigation Schedule'!$C$27),T1024-V1024))","v":""},"","","",{"$f":"IF(H1025=\"\",\"\",IF('3 Irrigation Schedule'!$P$19<P1025,'3 Irrigation Schedule'!$P$19,P1025))","v":""},"",{"$f":"IF(H1025=\"\",\"\",V1025/'3 Irrigation Schedule'!$M$19)","v":""}]
[null,null,null,"2022","November","2022-11-18",null,"","",5.091120000000001,1.7920000000000003,"",0,"",{"$f":"IF(OR('3 Irrigation Schedule'!$C$29=\"\",'3 Irrigation Schedule'!$C$31=\"\",H1026=\"\"),\"\",(('3 Irrigation Schedule'!$C$29-'3 Irrigation Schedule'!$C$31)/100)*1000*N1026)","v":""},"",{"$f":"IF(H1026=\"\",\"\",IF(H1026=1,O1026*(1-'3 Irrigation Schedule'!$C$27),T1025-V1025))","v":""},"","","",{"$f":"IF(H1026=\"\",\"\",IF('3 Irrigation Schedule'!$P$19<P1026,'3 Irrigation Schedule'!$P$19,P1026))","v":""},"",{"$f":"IF(H1026=\"\",\"\",V1026/'3 Irrigation Schedule'!$M$19)","v":""}]
[null,null,null,"2022","November","2022-11-19",null,"","",5.091120000000001,1.7920000000000003,"",0,"",{"$f":"IF(OR('3 Irrigation Schedule'!$C$29=\"\",'3 Irrigation Schedule'!$C$31=\"\",H1027=\"\"),\"\",(('3 Irrigation Schedule'!$C$29-'3 Irrigation Schedule'!$C$31)/100)*1000*N1027)","v":""},"",{"$f":"IF(H1027=\"\",\"\",IF(H1027=1,O1027*(1-'3 Irrigation Schedule'!$C$27),T1026-V1026))","v":""},"","","",{"$f":"IF(H1027=\"\",\"\",IF('3 Irrigation Schedule'!$P$19<P1027,'3 Irrigation Schedule'!$P$19,P1027))","v":""},"",{"$f":"IF(H1027=\"\",\"\",V1027/'3 Irrigation Schedule'!$M$19)","v":""}]
[null,null,null,"2022","November","2022-11-20",null,"","",5.091120000000001,1.7920000000000003,"",0,"",{"$f":"IF(OR('3 Irrigation Schedule'!$C$29=\"\",'3 Irrigation Schedule'!$C$31=\"\",H1028=\"\"),\"\",(('3 Irrigation Schedule'!$C$29-'3 Irrigation Schedule'!$C$31)/100)*1000*N1028)","v":""},"",{"$f":"IF(H1028=\"\",\"\",IF(H1028=1,O1028*(1-'3 Irrigation Schedule'!$C$27),T1027-V1027))","v":""},"","","",{"$f":"IF(H1028=\"\",\"\",IF('3 Irrigation Schedule'!$P$19<P1028,'3 Irrigation Schedule'!$P$19,P1028))","v":""},"",{"$f":"IF(H1028=\"\",\"\",V1028/'3 Irrigation Schedule'!$M$19)","v":""}]
[null,null,null,"2022","November","2022-11-21",null,"","",5.091120000000001,1.7920000000000003,"",0,"",{"$f":"IF(OR('3 Irrigation Schedule'!$C$29=\"\",'3 Irrigation Schedule'!$C$31=\"\",H1029=\"\"),\"\",(('3 Irrigation Schedule'!$C$29-'3 Irrigation Schedule'!$C$31)/100)*1000*N1029)","v":""},"",{"$f":"IF(H1029=\"\",\"\",IF(H1029=1,O1029*(1-'3 Irrigation Schedule'!$C$27),T1028-V1028))","v":""},"","","",{"$f":"IF(H1029=\"\",\"\",IF('3 Irrigation Schedule'!$P$19<P1029,'3 Irrigation Schedule'!$P$19,P1029))","v":""},"",{"$f":"IF(H1029=\"\",\"\",V1029/'3 Irrigation Schedule'!$M$19)","v":""}]
[null,null,null,"2022","November","2022-11-22",null,"","",5.091120000000001,1.7920000000000003,"",0,"",{"$f":"IF(OR('3 Irrigation Schedule'!$C$29=\"\",'3 Irrigation Schedule'!$C$31=\"\",H1030=\"\"),\"\",(('3 Irrigation Schedule'!$C$29-'3 Irrigation Schedule'!$C$31)/100)*1000*N1030)","v":""},"",{"$f":"IF(H1030=\"\",\"\",IF(H1030=1,O1030*(1-'3 Irrigation Schedule'!$C$27),T1029-V1029))","v":""},"","","",{"$f":"IF(H1030=\"\",\"\",IF('3 Irrigation Schedule'!$P$19<P1030,'3 Irrigation Schedule'!$P$19,P1030))","v":""},"",{"$f":"IF(H1030=\"\",\"\",V1030/'3 Irrigation Schedule'!$M$19)","v":""}]
[null,null,null,"2022","November","2022-11-23",null,"","",5.091120000000001,1.7920000000000003,"",0,"",{"$f":"IF(OR('3 Irrigation Schedule'!$C$29=\"\",'3 Irrigation Schedule'!$C$31=\"\",H1031=\"\"),\"\",(('3 Irrigation Schedule'!$C$29-'3 Irrigation Schedule'!$C$31)/100)*1000*N1031)","v":""},"",{"$f":"IF(H1031=\"\",\"\",IF(H1031=1,O1031*(1-'3 Irrigation Schedule'!$C$27),T1030-V1030))","v":""},"","","",{"$f":"IF(H1031=\"\",\"\",IF('3 Irrigation Schedule'!$P$19<P1031,'3 Irrigation Schedule'!$P$19,P1031))","v":""},"",{"$f":"IF(H1031=\"\",\"\",V1031/'3 Irrigation Schedule'!$M$19)","v":""}]
[null,null,null,"2022","November","2022-11-24",null,"","",5.091120000000001,1.7920000000000003,"",0,"",{"$f":"IF(OR('3 Irrigation Schedule'!$C$29=\"\",'3 Irrigation Schedule'!$C$31=\"\",H1032=\"\"),\"\",(('3 Irrigation Schedule'!$C$29-'3 Irrigation Schedule'!$C$31)/100)*1000*N1032)","v":""},"",{"$f":"IF(H1032=\"\",\"\",IF(H1032=1,O1032*(1-'3 Irrigation Schedule'!$C$27),T1031-V1031))","v":""},"","","",{"$f":"IF(H1032=\"\",\"\",IF('3 Irrigation Schedule'!$P$19<P1032,'3 Irrigation Schedule'!$P$19,P1032))","v":""},"",{"$f":"IF(H1032=\"\",\"\",V1032/'3 Irrigation Schedule'!$M$19)","v":""}]
[null,null,null,"2022","November","2022-11-25",null,"","",5.091120000000001,1.7920000000000003,"",0,"",{"$f":"IF(OR('3 Irrigation Schedule'!$C$29=\"\",'3 Irrigation Schedule'!$C$31=\"\",H1033=\"\"),\"\",(('3 Irrigation Schedule'!$C$29-'3 Irrigation Schedule'!$C$31)/100)*1000*N1033)","v":""},"",{"$f":"IF(H1033=\"\",\"\",IF(H1033=1,O1033*(1-'3 Irrigation Schedule'!$C$27),T1032-V1032))","v":""},"","","",{"$f":"IF(H1033=\"\",\"\",IF('3 Irrigation Schedule'!$P$19<P1033,'3 Irrigation Schedule'!$P$19,P1033))","v":""},"",{"$f":"IF(H1033=\"\",\"\",V1033/'3 Irrigation Schedule'!$M$19)","v":""}]
[null,null,null,"2022","November","2022-11-26",null,"","",5.091120000000001,1.7920000000000003,"",0,"",{"$f":"IF(OR('3 Irrigation Schedule'!$C$29=\"\",'3 Irrigation Schedule'!$C$31=\"\",H1034=\"\"),\"\",(('3 Irrigation Schedule'!$C$29-'3 Irrigation Schedule'!$C$31)/100)*1000*N1034)","v":""},"",{"$f":"IF(H1034=\"\",\"\",IF(H1034=1,O1034*(1-'3 Irrigation Schedule'!$C$27),T1033-V1033))","v":""},"","","",{"$f":"IF(H1034=\"\",\"\",IF('3 Irrigation Schedule'!$P$19<P1034,'3 Irrigation Schedule'!$P$19,P1034))","v":""},"",{"$f":"IF(H1034=\"\",\"\",V1034/'3 Irrigation Schedule'!$M$19)","v":""}]
[null,null,null,"2022","November","2022-11-27",null,"","",5.091120000000001,1.7920000000000003,"",0,"",{"$f":"IF(OR('3 Irrigation Schedule'!$C$29=\"\",'3 Irrigation Schedule'!$C$31=\"\",H1035=\"\"),\"\",(('3 Irrigation Schedule'!$C$29-'3 Irrigation Schedule'!$C$31)/100)*1000*N1035)","v":""},"",{"$f":"IF(H1035=\"\",\"\",IF(H1035=1,O1035*(1-'3 Irrigation Schedule'!$C$27),T1034-V1034))","v":""},"","","",{"$f":"IF(H1035=\"\",\"\",IF('3 Irrigation Schedule'!$P$19<P1035,'3 Irrigation Schedule'!$P$19,P1035))","v":""},"",{"$f":"IF(H1035=\"\",\"\",V1035/'3 Irrigation Schedule'!$M$19)","v":""}]
[null,null,null,"2022","November","2022-11-28",null,"","",5.091120000000001,1.7920000000000003,"",0,"",{"$f":"IF(OR('3 Irrigation Schedule'!$C$29=\"\",'3 Irrigation Schedule'!$C$31=\"\",H1036=\"\"),\"\",(('3 Irrigation Schedule'!$C$29-'3 Irrigation Schedule'!$C$31)/100)*1000*N1036)","v":""},"",{"$f":"IF(H1036=\"\",\"\",IF(H1036=1,O1036*(1-'3 Irrigation Schedule'!$C$27),T1035-V1035))","v":""},"","","",{"$f":"IF(H1036=\"\",\"\",IF('3 Irrigation Schedule'!$P$19<P1036,'3 Irrigation Schedule'!$P$19,P1036))","v":""},"",{"$f":"IF(H1036=\"\",\"\",V1036/'3 Irrigation Schedule'!$M$19)","v":""}]
[null,null,null,"2022","November","2022-11-29",null,"","",5.091120000000001,1.7920000000000003,"",0,"",{"$f":"IF(OR('3 Irrigation Schedule'!$C$29=\"\",'3 Irrigation Schedule'!$C$31=\"\",H1037=\"\"),\"\",(('3 Irrigation Schedule'!$C$29-'3 Irrigation Schedule'!$C$31)/100)*1000*N1037)","v":""},"",{"$f":"IF(H1037=\"\",\"\",IF(H1037=1,O1037*(1-'3 Irrigation Schedule'!$C$27),T1036-V1036))","v":""},"","","",{"$f":"IF(H1037=\"\",\"\",IF('3 Irrigation Schedule'!$P$19<P1037,'3 Irrigation Schedule'!$P$19,P1037))","v":""},"",{"$f":"IF(H1037=\"\",\"\",V1037/'3 Irrigation Schedule'!$M$19)","v":""}]
[null,null,null,"2022","November","2022-11-30",null,"","",5.091120000000001,1.7920000000000003,"",0,"",{"$f":"IF(OR('3 Irrigation Schedule'!$C$29=\"\",'3 Irrigation Schedule'!$C$31=\"\",H1038=\"\"),\"\",(('3 Irrigation Schedule'!$C$29-'3 Irrigation Schedule'!$C$31)/100)*1000*N1038)","v":""},"",{"$f":"IF(H1038=\"\",\"\",IF(H1038=1,O1038*(1-'3 Irrigation Schedule'!$C$27),T1037-V1037))","v":""},"","","",{"$f":"IF(H1038=\"\",\"\",IF('3 Irrigation Schedule'!$P$19<P1038,'3 Irrigation Schedule'!$P$19,P1038))","v":""},"",{"$f":"IF(H1038=\"\",\"\",V1038/'3 Irrigation Schedule'!$M$19)","v":""}]
[null,null,null,"2022","December","2022-12-01",null,"","",5.1408000000000005,1.4477419354838708,"",0,"",{"$f":"IF(OR('3 Irrigation Schedule'!$C$29=\"\",'3 Irrigation Schedule'!$C$31=\"\",H1039=\"\"),\"\",(('3 Irrigation Schedule'!$C$29-'3 Irrigation Schedule'!$C$31)/100)*1000*N1039)","v":""},"",{"$f":"IF(H1039=\"\",\"\",IF(H1039=1,O1039*(1-'3 Irrigation Schedule'!$C$27),T1038-V1038))","v":""},"","","",{"$f":"IF(H1039=\"\",\"\",IF('3 Irrigation Schedule'!$P$19<P1039,'3 Irrigation Schedule'!$P$19,P1039))","v":""},"",{"$f":"IF(H1039=\"\",\"\",V1039/'3 Irrigation Schedule'!$M$19)","v":""}]
[null,null,null,"2022","December","2022-12-02",null,"","",5.1408000000000005,1.4477419354838708,"",0,"",{"$f":"IF(OR('3 Irrigation Schedule'!$C$29=\"\",'3 Irrigation Schedule'!$C$31=\"\",H1040=\"\"),\"\",(('3 Irrigation Schedule'!$C$29-'3 Irrigation Schedule'!$C$31)/100)*1000*N1040)","v":""},"",{"$f":"IF(H1040=\"\",\"\",IF(H1040=1,O1040*(1-'3 Irrigation Schedule'!$C$27),T1039-V1039))","v":""},"","","",{"$f":"IF(H1040=\"\",\"\",IF('3 Irrigation Schedule'!$P$19<P1040,'3 Irrigation Schedule'!$P$19,P1040))","v":""},"",{"$f":"IF(H1040=\"\",\"\",V1040/'3 Irrigation Schedule'!$M$19)","v":""}]
[null,null,null,"2022","December","2022-12-03",null,"","",5.1408000000000005,1.4477419354838708,"",0,"",{"$f":"IF(OR('3 Irrigation Schedule'!$C$29=\"\",'3 Irrigation Schedule'!$C$31=\"\",H1041=\"\"),\"\",(('3 Irrigation Schedule'!$C$29-'3 Irrigation Schedule'!$C$31)/100)*1000*N1041)","v":""},"",{"$f":"IF(H1041=\"\",\"\",IF(H1041=1,O1041*(1-'3 Irrigation Schedule'!$C$27),T1040-V1040))","v":""},"","","",{"$f":"IF(H1041=\"\",\"\",IF('3 Irrigation Schedule'!$P$19<P1041,'3 Irrigation Schedule'!$P$19,P1041))","v":""},"",{"$f":"IF(H1041=\"\",\"\",V1041/'3 Irrigation Schedule'!$M$19)","v":""}]
[null,null,null,"2022","December","2022-12-04",null,"","",5.1408000000000005,1.4477419354838708,"",0,"",{"$f":"IF(OR('3 Irrigation Schedule'!$C$29=\"\",'3 Irrigation Schedule'!$C$31=\"\",H1042=\"\"),\"\",(('3 Irrigation Schedule'!$C$29-'3 Irrigation Schedule'!$C$31)/100)*1000*N1042)","v":""},"",{"$f":"IF(H1042=\"\",\"\",IF(H1042=1,O1042*(1-'3 Irrigation Schedule'!$C$27),T1041-V1041))","v":""},"","","",{"$f":"IF(H1042=\"\",\"\",IF('3 Irrigation Schedule'!$P$19<P1042,'3 Irrigation Schedule'!$P$19,P1042))","v":""},"",{"$f":"IF(H1042=\"\",\"\",V1042/'3 Irrigation Schedule'!$M$19)","v":""}]
[null,null,null,"2022","December","2022-12-05",null,"","",5.1408000000000005,1.4477419354838708,"",0,"",{"$f":"IF(OR('3 Irrigation Schedule'!$C$29=\"\",'3 Irrigation Schedule'!$C$31=\"\",H1043=\"\"),\"\",(('3 Irrigation Schedule'!$C$29-'3 Irrigation Schedule'!$C$31)/100)*1000*N1043)","v":""},"",{"$f":"IF(H1043=\"\",\"\",IF(H1043=1,O1043*(1-'3 Irrigation Schedule'!$C$27),T1042-V1042))","v":""},"","","",{"$f":"IF(H1043=\"\",\"\",IF('3 Irrigation Schedule'!$P$19<P1043,'3 Irrigation Schedule'!$P$19,P1043))","v":""},"",{"$f":"IF(H1043=\"\",\"\",V1043/'3 Irrigation Schedule'!$M$19)","v":""}]
[null,null,null,"2022","December","2022-12-06",null,"","",5.1408000000000005,1.4477419354838708,"",0,"",{"$f":"IF(OR('3 Irrigation Schedule'!$C$29=\"\",'3 Irrigation Schedule'!$C$31=\"\",H1044=\"\"),\"\",(('3 Irrigation Schedule'!$C$29-'3 Irrigation Schedule'!$C$31)/100)*1000*N1044)","v":""},"",{"$f":"IF(H1044=\"\",\"\",IF(H1044=1,O1044*(1-'3 Irrigation Schedule'!$C$27),T1043-V1043))","v":""},"","","",{"$f":"IF(H1044=\"\",\"\",IF('3 Irrigation Schedule'!$P$19<P1044,'3 Irrigation Schedule'!$P$19,P1044))","v":""},"",{"$f":"IF(H1044=\"\",\"\",V1044/'3 Irrigation Schedule'!$M$19)","v":""}]
[null,null,null,"2022","December","2022-12-07",null,"","",5.1408000000000005,1.4477419354838708,"",0,"",{"$f":"IF(OR('3 Irrigation Schedule'!$C$29=\"\",'3 Irrigation Schedule'!$C$31=\"\",H1045=\"\"),\"\",(('3 Irrigation Schedule'!$C$29-'3 Irrigation Schedule'!$C$31)/100)*1000*N1045)","v":""},"",{"$f":"IF(H1045=\"\",\"\",IF(H1045=1,O1045*(1-'3 Irrigation Schedule'!$C$27),T1044-V1044))","v":""},"","","",{"$f":"IF(H1045=\"\",\"\",IF('3 Irrigation Schedule'!$P$19<P1045,'3 Irrigation Schedule'!$P$19,P1045))","v":""},"",{"$f":"IF(H1045=\"\",\"\",V1045/'3 Irrigation Schedule'!$M$19)","v":""}]
[null,null,null,"2022","December","2022-12-08",null,"","",5.1408000000000005,1.4477419354838708,"",0,"",{"$f":"IF(OR('3 Irrigation Schedule'!$C$29=\"\",'3 Irrigation Schedule'!$C$31=\"\",H1046=\"\"),\"\",(('3 Irrigation Schedule'!$C$29-'3 Irrigation Schedule'!$C$31)/100)*1000*N1046)","v":""},"",{"$f":"IF(H1046=\"\",\"\",IF(H1046=1,O1046*(1-'3 Irrigation Schedule'!$C$27),T1045-V1045))","v":""},"","","",{"$f":"IF(H1046=\"\",\"\",IF('3 Irrigation Schedule'!$P$19<P1046,'3 Irrigation Schedule'!$P$19,P1046))","v":""},"",{"$f":"IF(H1046=\"\",\"\",V1046/'3 Irrigation Schedule'!$M$19)","v":""}]
[null,null,null,"2022","December","2022-12-09",null,"","",5.1408000000000005,1.4477419354838708,"",0,"",{"$f":"IF(OR('3 Irrigation Schedule'!$C$29=\"\",'3 Irrigation Schedule'!$C$31=\"\",H1047=\"\"),\"\",(('3 Irrigation Schedule'!$C$29-'3 Irrigation Schedule'!$C$31)/100)*1000*N1047)","v":""},"",{"$f":"IF(H1047=\"\",\"\",IF(H1047=1,O1047*(1-'3 Irrigation Schedule'!$C$27),T1046-V1046))","v":""},"","","",{"$f":"IF(H1047=\"\",\"\",IF('3 Irrigation Schedule'!$P$19<P1047,'3 Irrigation Schedule'!$P$19,P1047))","v":""},"",{"$f":"IF(H1047=\"\",\"\",V1047/'3 Irrigation Schedule'!$M$19)","v":""}]
[null,null,null,"2022","December","2022-12-10",null,"","",5.1408000000000005,1.4477419354838708,"",0,"",{"$f":"IF(OR('3 Irrigation Schedule'!$C$29=\"\",'3 Irrigation Schedule'!$C$31=\"\",H1048=\"\"),\"\",(('3 Irrigation Schedule'!$C$29-'3 Irrigation Schedule'!$C$31)/100)*1000*N1048)","v":""},"",{"$f":"IF(H1048=\"\",\"\",IF(H1048=1,O1048*(1-'3 Irrigation Schedule'!$C$27),T1047-V1047))","v":""},"","","",{"$f":"IF(H1048=\"\",\"\",IF('3 Irrigation Schedule'!$P$19<P1048,'3 Irrigation Schedule'!$P$19,P1048))","v":""},"",{"$f":"IF(H1048=\"\",\"\",V1048/'3 Irrigation Schedule'!$M$19)","v":""}]
[null,null,null,"2022","December","2022-12-11",null,"","",5.1408000000000005,1.4477419354838708,"",0,"",{"$f":"IF(OR('3 Irrigation Schedule'!$C$29=\"\",'3 Irrigation Schedule'!$C$31=\"\",H1049=\"\"),\"\",(('3 Irrigation Schedule'!$C$29-'3 Irrigation Schedule'!$C$31)/100)*1000*N1049)","v":""},"",{"$f":"IF(H1049=\"\",\"\",IF(H1049=1,O1049*(1-'3 Irrigation Schedule'!$C$27),T1048-V1048))","v":""},"","","",{"$f":"IF(H1049=\"\",\"\",IF('3 Irrigation Schedule'!$P$19<P1049,'3 Irrigation Schedule'!$P$19,P1049))","v":""},"",{"$f":"IF(H1049=\"\",\"\",V1049/'3 Irrigation Schedule'!$M$19)","v":""}]
[null,null,null,"2022","December","2022-12-12",null,"","",5.1408000000000005,1.4477419354838708,"",0,"",{"$f":"IF(OR('3 Irrigation Schedule'!$C$29=\"\",'3 Irrigation Schedule'!$C$31=\"\",H1050=\"\"),\"\",(('3 Irrigation Schedule'!$C$29-'3 Irrigation Schedule'!$C$31)/100)*1000*N1050)","v":""},"",{"$f":"IF(H1050=\"\",\"\",IF(H1050=1,O1050*(1-'3 Irrigation Schedule'!$C$27),T1049-V1049))","v":""},"","","",{"$f":"IF(H1050=\"\",\"\",IF('3 Irrigation Schedule'!$P$19<P1050,'3 Irrigation Schedule'!$P$19,P1050))","v":""},"",{"$f":"IF(H1050=\"\",\"\",V1050/'3 Irrigation Schedule'!$M$19)","v":""}]
[null,null,null,"2022","December","2022-12-13",null,"","",5.1408000000000005,1.4477419354838708,"",0,"",{"$f":"IF(OR('3 Irrigation Schedule'!$C$29=\"\",'3 Irrigation Schedule'!$C$31=\"\",H1051=\"\"),\"\",(('3 Irrigation Schedule'!$C$29-'3 Irrigation Schedule'!$C$31)/100)*1000*N1051)","v":""},"",{"$f":"IF(H1051=\"\",\"\",IF(H1051=1,O1051*(1-'3 Irrigation Schedule'!$C$27),T1050-V1050))","v":""},"","","",{"$f":"IF(H1051=\"\",\"\",IF('3 Irrigation Schedule'!$P$19<P1051,'3 Irrigation Schedule'!$P$19,P1051))","v":""},"",{"$f":"IF(H1051=\"\",\"\",V1051/'3 Irrigation Schedule'!$M$19)","v":""}]
[null,null,null,"2022","December","2022-12-14",null,"","",5.1408000000000005,1.4477419354838708,"",0,"",{"$f":"IF(OR('3 Irrigation Schedule'!$C$29=\"\",'3 Irrigation Schedule'!$C$31=\"\",H1052=\"\"),\"\",(('3 Irrigation Schedule'!$C$29-'3 Irrigation Schedule'!$C$31)/100)*1000*N1052)","v":""},"",{"$f":"IF(H1052=\"\",\"\",IF(H1052=1,O1052*(1-'3 Irrigation Schedule'!$C$27),T1051-V1051))","v":""},"","","",{"$f":"IF(H1052=\"\",\"\",IF('3 Irrigation Schedule'!$P$19<P1052,'3 Irrigation Schedule'!$P$19,P1052))","v":""},"",{"$f":"IF(H1052=\"\",\"\",V1052/'3 Irrigation Schedule'!$M$19)","v":""}]
[null,null,null,"2022","December","2022-12-15",null,"","",5.1408000000000005,1.4477419354838708,"",0,"",{"$f":"IF(OR('3 Irrigation Schedule'!$C$29=\"\",'3 Irrigation Schedule'!$C$31=\"\",H1053=\"\"),\"\",(('3 Irrigation Schedule'!$C$29-'3 Irrigation Schedule'!$C$31)/100)*1000*N1053)","v":""},"",{"$f":"IF(H1053=\"\",\"\",IF(H1053=1,O1053*(1-'3 Irrigation Schedule'!$C$27),T1052-V1052))","v":""},"","","",{"$f":"IF(H1053=\"\",\"\",IF('3 Irrigation Schedule'!$P$19<P1053,'3 Irrigation Schedule'!$P$19,P1053))","v":""},"",{"$f":"IF(H1053=\"\",\"\",V1053/'3 Irrigation Schedule'!$M$19)","v":""}]
[null,null,null,"2022","December","2022-12-16",null,"","",5.1408000000000005,1.4477419354838708,"",0,"",{"$f":"IF(OR('3 Irrigation Schedule'!$C$29=\"\",'3 Irrigation Schedule'!$C$31=\"\",H1054=\"\"),\"\",(('3 Irrigation Schedule'!$C$29-'3 Irrigation Schedule'!$C$31)/100)*1000*N1054)","v":""},"",{"$f":"IF(H1054=\"\",\"\",IF(H1054=1,O1054*(1-'3 Irrigation Schedule'!$C$27),T1053-V1053))","v":""},"","","",{"$f":"IF(H1054=\"\",\"\",IF('3 Irrigation Schedule'!$P$19<P1054,'3 Irrigation Schedule'!$P$19,P1054))","v":""},"",{"$f":"IF(H1054=\"\",\"\",V1054/'3 Irrigation Schedule'!$M$19)","v":""}]
[null,null,null,"2022","December","2022-12-17",null,"","",5.1408000000000005,1.4477419354838708,"",0,"",{"$f":"IF(OR('3 Irrigation Schedule'!$C$29=\"\",'3 Irrigation Schedule'!$C$31=\"\",H1055=\"\"),\"\",(('3 Irrigation Schedule'!$C$29-'3 Irrigation Schedule'!$C$31)/100)*1000*N1055)","v":""},"",{"$f":"IF(H1055=\"\",\"\",IF(H1055=1,O1055*(1-'3 Irrigation Schedule'!$C$27),T1054-V1054))","v":""},"","","",{"$f":"IF(H1055=\"\",\"\",IF('3 Irrigation Schedule'!$P$19<P1055,'3 Irrigation Schedule'!$P$19,P1055))","v":""},"",{"$f":"IF(H1055=\"\",\"\",V1055/'3 Irrigation Schedule'!$M$19)","v":""}]
[null,null,null,"2022","December","2022-12-18",null,"","",5.1408000000000005,1.4477419354838708,"",0,"",{"$f":"IF(OR('3 Irrigation Schedule'!$C$29=\"\",'3 Irrigation Schedule'!$C$31=\"\",H1056=\"\"),\"\",(('3 Irrigation Schedule'!$C$29-'3 Irrigation Schedule'!$C$31)/100)*1000*N1056)","v":""},"",{"$f":"IF(H1056=\"\",\"\",IF(H1056=1,O1056*(1-'3 Irrigation Schedule'!$C$27),T1055-V1055))","v":""},"","","",{"$f":"IF(H1056=\"\",\"\",IF('3 Irrigation Schedule'!$P$19<P1056,'3 Irrigation Schedule'!$P$19,P1056))","v":""},"",{"$f":"IF(H1056=\"\",\"\",V1056/'3 Irrigation Schedule'!$M$19)","v":""}]
[null,null,null,"2022","December","2022-12-19",null,"","",5.1408000000000005,1.4477419354838708,"",0,"",{"$f":"IF(OR('3 Irrigation Schedule'!$C$29=\"\",'3 Irrigation Schedule'!$C$31=\"\",H1057=\"\"),\"\",(('3 Irrigation Schedule'!$C$29-'3 Irrigation Schedule'!$C$31)/100)*1000*N1057)","v":""},"",{"$f":"IF(H1057=\"\",\"\",IF(H1057=1,O1057*(1-'3 Irrigation Schedule'!$C$27),T1056-V1056))","v":""},"","","",{"$f":"IF(H1057=\"\",\"\",IF('3 Irrigation Schedule'!$P$19<P1057,'3 Irrigation Schedule'!$P$19,P1057))","v":""},"",{"$f":"IF(H1057=\"\",\"\",V1057/'3 Irrigation Schedule'!$M$19)","v":""}]
[null,null,null,{"$f":"IFERROR(TEXT(DATE(YEAR($F1058),MONTH($F1058),1),$D$7&$D$4),\"\")","v":"2022"},{"$f":"IFERROR(TEXT(DATE(YEAR($F1058),MONTH($F1058),1),$D$7&$D$5),\"\")","v":"December"},"2022-12-20",null,"","",{"$f":"IFERROR(VLOOKUP($E1058,$B$19:$C$30,2,FALSE),\"\")","v":5.1408000000000005},1.4477419354838708,{"$f":"IF(H1058=\"\",\"\",IF(H1058<=$I$27,$L$27,IF(AND(H1058>$I$27,H1058<=$I$28),$L$27+((H1058-$I$27)/$H$28)*($L$29-$L$27),IF(AND(H1058>$I$28,H1058<=$I$29),$L$29,$L$29+((H1058-$I$29)/$H$30)*($L$30-$L$29)))))","v":""},{"$f":"IFERROR((J1058*L1058),0)","v":0},{"$f":"IF(H1058=\"\",\"\",IF(OR(H1058=1,H1058<$I$28),$M$27+(($M$28-$M$27)*((H1058-1)/($I$28-1))),$M$28))","v":""},{"$f":"IF(OR('3 Irrigation Schedule'!$C$29=\"\",'3 Irrigation Schedule'!$C$31=\"\",H1058=\"\"),\"\",(('3 Irrigation Schedule'!$C$29-'3 Irrigation Schedule'!$C$31)/100)*1000*N1058)","v":""},{"$f":"IF(H1058=\"\",\"\",O1058*$N$27)","v":""},{"$f":"IF(H1058=\"\",\"\",IF(H1058=1,O1058*(1-'3 Irrigation Schedule'!$C$27),T1057-V1057))","v":""},{"$f":"IF(H1058=\"\",\"\",IF(Q1058>P1058,(O1058-Q1058)/(O1058-P1058),1))","v":""},{"$f":"IF(H1058=\"\",\"\",M1058*R1058)","v":""},{"$f":"IF(H1058=\"\",\"\",IF(Q1058+S1058-K1058<0,0,Q1058+S1058-K1058))","v":""},{"$f":"IF(H1058=\"\",\"\",IF('3 Irrigation Schedule'!$P$19<P1058,'3 Irrigation Schedule'!$P$19,P1058))","v":""},{"$f":"IF(H1058=\"\",\"\",IF(U1058<=T1058,U1058,0))","v":""},{"$f":"IF(H1058=\"\",\"\",V1058/'3 Irrigation Schedule'!$M$19)","v":""}]
[null,null,null,"2022","December",{"$f":"IFERROR(IF(F1058+1<=$N$7, F1058+1,\"\"),\"\")","v":"2022-12-21"},null,{"$f":"IFERROR(IF(OR($F1059-$J$27+1<=0,$F1059>$K$30),\"\",$F1059-$J$27+1),\"\")","v":""},"",5.1408000000000005,{"$f":"IFERROR(VLOOKUP($E1059,$B$19:$D$30,3,FALSE),\"\")","v":1.4477419354838708},"",0,"",{"$f":"IF(OR('3 Irrigation Schedule'!$C$29=\"\",'3 Irrigation Schedule'!$C$31=\"\",H1059=\"\"),\"\",(('3 Irrigation Schedule'!$C$29-'3 Irrigation Schedule'!$C$31)/100)*1000*N1059)","v":""},"",{"$f":"IF(H1059=\"\",\"\",IF(H1059=1,O1059*(1-'3 Irrigation Schedule'!$C$27),T1058-V1058))","v":""},"","","",{"$f":"IF(H1059=\"\",\"\",IF('3 Irrigation Schedule'!$P$19<P1059,'3 Irrigation Schedule'!$P$19,P1059))","v":""},"",{"$f":"IF(H1059=\"\",\"\",V1059/'3 Irrigation Schedule'!$M$19)","v":""}]
[null,null,null,"2022","December","2022-12-22",null,"","",5.1408000000000005,1.4477419354838708,"",0,"",{"$f":"IF(OR('3 Irrigation Schedule'!$C$29=\"\",'3 Irrigation Schedule'!$C$31=\"\",H1060=\"\"),\"\",(('3 Irrigation Schedule'!$C$29-'3 Irrigation Schedule'!$C$31)/100)*1000*N1060)","v":""},"",{"$f":"IF(H1060=\"\",\"\",IF(H1060=1,O1060*(1-'3 Irrigation Schedule'!$C$27),T1059-V1059))","v":""},"","","",{"$f":"IF(H1060=\"\",\"\",IF('3 Irrigation Schedule'!$P$19<P1060,'3 Irrigation Schedule'!$P$19,P1060))","v":""},"",{"$f":"IF(H1060=\"\",\"\",V1060/'3 Irrigation Schedule'!$M$19)","v":""}]
[null,null,null,"2022","December","2022-12-23",null,"","",5.1408000000000005,1.4477419354838708,"",0,"",{"$f":"IF(OR('3 Irrigation Schedule'!$C$29=\"\",'3 Irrigation Schedule'!$C$31=\"\",H1061=\"\"),\"\",(('3 Irrigation Schedule'!$C$29-'3 Irrigation Schedule'!$C$31)/100)*1000*N1061)","v":""},"",{"$f":"IF(H1061=\"\",\"\",IF(H1061=1,O1061*(1-'3 Irrigation Schedule'!$C$27),T1060-V1060))","v":""},"","","",{"$f":"IF(H1061=\"\",\"\",IF('3 Irrigation Schedule'!$P$19<P1061,'3 Irrigation Schedule'!$P$19,P1061))","v":""},"",{"$f":"IF(H1061=\"\",\"\",V1061/'3 Irrigation Schedule'!$M$19)","v":""}]
[null,null,null,"2022","December","2022-12-24",null,"","",5.1408000000000005,1.4477419354838708,"",0,"",{"$f":"IF(OR('3 Irrigation Schedule'!$C$29=\"\",'3 Irrigation Schedule'!$C$31=\"\",H1062=\"\"),\"\",(('3 Irrigation Schedule'!$C$29-'3 Irrigation Schedule'!$C$31)/100)*1000*N1062)","v":""},"",{"$f":"IF(H1062=\"\",\"\",IF(H1062=1,O1062*(1-'3 Irrigation Schedule'!$C$27),T1061-V1061))","v":""},"","","",{"$f":"IF(H1062=\"\",\"\",IF('3 Irrigation Schedule'!$P$19<P1062,'3 Irrigation Schedule'!$P$19,P1062))","v":""},"",{"$f":"IF(H1062=\"\",\"\",V1062/'3 Irrigation Schedule'!$M$19)","v":""}]
[null,null,null,"2022","December","2022-12-25",null,"","",5.1408000000000005,1.4477419354838708,"",0,"",{"$f":"IF(OR('3 Irrigation Schedule'!$C$29=\"\",'3 Irrigation Schedule'!$C$31=\"\",H1063=\"\"),\"\",(('3 Irrigation Schedule'!$C$29-'3 Irrigation Schedule'!$C$31)/100)*1000*N1063)","v":""},"",{"$f":"IF(H1063=\"\",\"\",IF(H1063=1,O1063*(1-'3 Irrigation Schedule'!$C$27),T1062-V1062))","v":""},"","","",{"$f":"IF(H1063=\"\",\"\",IF('3 Irrigation Schedule'!$P$19<P1063,'3 Irrigation Schedule'!$P$19,P1063))","v":""},"",{"$f":"IF(H1063=\"\",\"\",V1063/'3 Irrigation Schedule'!$M$19)","v":""}]
[null,null,null,"2022","December","2022-12-26",null,"","",5.1408000000000005,1.4477419354838708,"",0,"",{"$f":"IF(OR('3 Irrigation Schedule'!$C$29=\"\",'3 Irrigation Schedule'!$C$31=\"\",H1064=\"\"),\"\",(('3 Irrigation Schedule'!$C$29-'3 Irrigation Schedule'!$C$31)/100)*1000*N1064)","v":""},"",{"$f":"IF(H1064=\"\",\"\",IF(H1064=1,O1064*(1-'3 Irrigation Schedule'!$C$27),T1063-V1063))","v":""},"","","",{"$f":"IF(H1064=\"\",\"\",IF('3 Irrigation Schedule'!$P$19<P1064,'3 Irrigation Schedule'!$P$19,P1064))","v":""},"",{"$f":"IF(H1064=\"\",\"\",V1064/'3 Irrigation Schedule'!$M$19)","v":""}]
[null,null,null,"2022","December","2022-12-27",null,"","",5.1408000000000005,1.4477419354838708,"",0,"",{"$f":"IF(OR('3 Irrigation Schedule'!$C$29=\"\",'3 Irrigation Schedule'!$C$31=\"\",H1065=\"\"),\"\",(('3 Irrigation Schedule'!$C$29-'3 Irrigation Schedule'!$C$31)/100)*1000*N1065)","v":""},"",{"$f":"IF(H1065=\"\",\"\",IF(H1065=1,O1065*(1-'3 Irrigation Schedule'!$C$27),T1064-V1064))","v":""},"","","",{"$f":"IF(H1065=\"\",\"\",IF('3 Irrigation Schedule'!$P$19<P1065,'3 Irrigation Schedule'!$P$19,P1065))","v":""},"",{"$f":"IF(H1065=\"\",\"\",V1065/'3 Irrigation Schedule'!$M$19)","v":""}]
[null,null,null,"2022","December","2022-12-28",null,"","",5.1408000000000005,1.4477419354838708,"",0,"",{"$f":"IF(OR('3 Irrigation Schedule'!$C$29=\"\",'3 Irrigation Schedule'!$C$31=\"\",H1066=\"\"),\"\",(('3 Irrigation Schedule'!$C$29-'3 Irrigation Schedule'!$C$31)/100)*1000*N1066)","v":""},"",{"$f":"IF(H1066=\"\",\"\",IF(H1066=1,O1066*(1-'3 Irrigation Schedule'!$C$27),T1065-V1065))","v":""},"","","",{"$f":"IF(H1066=\"\",\"\",IF('3 Irrigation Schedule'!$P$19<P1066,'3 Irrigation Schedule'!$P$19,P1066))","v":""},"",{"$f":"IF(H1066=\"\",\"\",V1066/'3 Irrigation Schedule'!$M$19)","v":""}]
[null,null,null,"2022","December","2022-12-29",null,"","",5.1408000000000005,1.4477419354838708,"",0,"",{"$f":"IF(OR('3 Irrigation Schedule'!$C$29=\"\",'3 Irrigation Schedule'!$C$31=\"\",H1067=\"\"),\"\",(('3 Irrigation Schedule'!$C$29-'3 Irrigation Schedule'!$C$31)/100)*1000*N1067)","v":""},"",{"$f":"IF(H1067=\"\",\"\",IF(H1067=1,O1067*(1-'3 Irrigation Schedule'!$C$27),T1066-V1066))","v":""},"","","",{"$f":"IF(H1067=\"\",\"\",IF('3 Irrigation Schedule'!$P$19<P1067,'3 Irrigation Schedule'!$P$19,P1067))","v":""},"",{"$f":"IF(H1067=\"\",\"\",V1067/'3 Irrigation Schedule'!$M$19)","v":""}]
[null,null,null,"2022","December","2022-12-30",null,"","",5.1408000000000005,1.4477419354838708,"",0,"",{"$f":"IF(OR('3 Irrigation Schedule'!$C$29=\"\",'3 Irrigation Schedule'!$C$31=\"\",H1068=\"\"),\"\",(('3 Irrigation Schedule'!$C$29-'3 Irrigation Schedule'!$C$31)/100)*1000*N1068)","v":""},"",{"$f":"IF(H1068=\"\",\"\",IF(H1068=1,O1068*(1-'3 Irrigation Schedule'!$C$27),T1067-V1067))","v":""},"","","",{"$f":"IF(H1068=\"\",\"\",IF('3 Irrigation Schedule'!$P$19<P1068,'3 Irrigation Schedule'!$P$19,P1068))","v":""},"",{"$f":"IF(H1068=\"\",\"\",V1068/'3 Irrigation Schedule'!$M$19)","v":""}]
[null,null,null,"2022","December","2022-12-31",null,"","",5.1408000000000005,1.4477419354838708,"",0,"",{"$f":"IF(OR('3 Irrigation Schedule'!$C$29=\"\",'3 Irrigation Schedule'!$C$31=\"\",H1069=\"\"),\"\",(('3 Irrigation Schedule'!$C$29-'3 Irrigation Schedule'!$C$31)/100)*1000*N1069)","v":""},"",{"$f":"IF(H1069=\"\",\"\",IF(H1069=1,O1069*(1-'3 Irrigation Schedule'!$C$27),T1068-V1068))","v":""},"","","",{"$f":"IF(H1069=\"\",\"\",IF('3 Irrigation Schedule'!$P$19<P1069,'3 Irrigation Schedule'!$P$19,P1069))","v":""},"",{"$f":"IF(H1069=\"\",\"\",V1069/'3 Irrigation Schedule'!$M$19)","v":""}]
[null,null,null,"2023","January","2023-01-01",null,"","",5.3271000000000006,0.54838709677419351,"",0,"",{"$f":"IF(OR('3 Irrigation Schedule'!$C$29=\"\",'3 Irrigation Schedule'!$C$31=\"\",H1070=\"\"),\"\",(('3 Irrigation Schedule'!$C$29-'3 Irrigation Schedule'!$C$31)/100)*1000*N1070)","v":""},"",{"$f":"IF(H1070=\"\",\"\",IF(H1070=1,O1070*(1-'3 Irrigation Schedule'!$C$27),T1069-V1069))","v":""},"","","",{"$f":"IF(H1070=\"\",\"\",IF('3 Irrigation Schedule'!$P$19<P1070,'3 Irrigation Schedule'!$P$19,P1070))","v":""},"",{"$f":"IF(H1070=\"\",\"\",V1070/'3 Irrigation Schedule'!$M$19)","v":""}]
[null,null,null,"2023","January","2023-01-02",null,"","",5.3271000000000006,0.54838709677419351,"",0,"",{"$f":"IF(OR('3 Irrigation Schedule'!$C$29=\"\",'3 Irrigation Schedule'!$C$31=\"\",H1071=\"\"),\"\",(('3 Irrigation Schedule'!$C$29-'3 Irrigation Schedule'!$C$31)/100)*1000*N1071)","v":""},"",{"$f":"IF(H1071=\"\",\"\",IF(H1071=1,O1071*(1-'3 Irrigation Schedule'!$C$27),T1070-V1070))","v":""},"","","",{"$f":"IF(H1071=\"\",\"\",IF('3 Irrigation Schedule'!$P$19<P1071,'3 Irrigation Schedule'!$P$19,P1071))","v":""},"",{"$f":"IF(H1071=\"\",\"\",V1071/'3 Irrigation Schedule'!$M$19)","v":""}]
[null,null,null,"2023","January","2023-01-03",null,"","",5.3271000000000006,0.54838709677419351,"",0,"",{"$f":"IF(OR('3 Irrigation Schedule'!$C$29=\"\",'3 Irrigation Schedule'!$C$31=\"\",H1072=\"\"),\"\",(('3 Irrigation Schedule'!$C$29-'3 Irrigation Schedule'!$C$31)/100)*1000*N1072)","v":""},"",{"$f":"IF(H1072=\"\",\"\",IF(H1072=1,O1072*(1-'3 Irrigation Schedule'!$C$27),T1071-V1071))","v":""},"","","",{"$f":"IF(H1072=\"\",\"\",IF('3 Irrigation Schedule'!$P$19<P1072,'3 Irrigation Schedule'!$P$19,P1072))","v":""},"",{"$f":"IF(H1072=\"\",\"\",V1072/'3 Irrigation Schedule'!$M$19)","v":""}]
[null,null,null,"2023","January","2023-01-04",null,"","",5.3271000000000006,0.54838709677419351,"",0,"",{"$f":"IF(OR('3 Irrigation Schedule'!$C$29=\"\",'3 Irrigation Schedule'!$C$31=\"\",H1073=\"\"),\"\",(('3 Irrigation Schedule'!$C$29-'3 Irrigation Schedule'!$C$31)/100)*1000*N1073)","v":""},"",{"$f":"IF(H1073=\"\",\"\",IF(H1073=1,O1073*(1-'3 Irrigation Schedule'!$C$27),T1072-V1072))","v":""},"","","",{"$f":"IF(H1073=\"\",\"\",IF('3 Irrigation Schedule'!$P$19<P1073,'3 Irrigation Schedule'!$P$19,P1073))","v":""},"",{"$f":"IF(H1073=\"\",\"\",V1073/'3 Irrigation Schedule'!$M$19)","v":""}]
[null,null,null,"2023","January","2023-01-05",null,"","",5.3271000000000006,0.54838709677419351,"",0,"",{"$f":"IF(OR('3 Irrigation Schedule'!$C$29=\"\",'3 Irrigation Schedule'!$C$31=\"\",H1074=\"\"),\"\",(('3 Irrigation Schedule'!$C$29-'3 Irrigation Schedule'!$C$31)/100)*1000*N1074)","v":""},"",{"$f":"IF(H1074=\"\",\"\",IF(H1074=1,O1074*(1-'3 Irrigation Schedule'!$C$27),T1073-V1073))","v":""},"","","",{"$f":"IF(H1074=\"\",\"\",IF('3 Irrigation Schedule'!$P$19<P1074,'3 Irrigation Schedule'!$P$19,P1074))","v":""},"",{"$f":"IF(H1074=\"\",\"\",V1074/'3 Irrigation Schedule'!$M$19)","v":""}]
[null,null,null,"2023","January","2023-01-06",null,"","",5.3271000000000006,0.54838709677419351,"",0,"",{"$f":"IF(OR('3 Irrigation Schedule'!$C$29=\"\",'3 Irrigation Schedule'!$C$31=\"\",H1075=\"\"),\"\",(('3 Irrigation Schedule'!$C$29-'3 Irrigation Schedule'!$C$31)/100)*1000*N1075)","v":""},"",{"$f":"IF(H1075=\"\",\"\",IF(H1075=1,O1075*(1-'3 Irrigation Schedule'!$C$27),T1074-V1074))","v":""},"","","",{"$f":"IF(H1075=\"\",\"\",IF('3 Irrigation Schedule'!$P$19<P1075,'3 Irrigation Schedule'!$P$19,P1075))","v":""},"",{"$f":"IF(H1075=\"\",\"\",V1075/'3 Irrigation Schedule'!$M$19)","v":""}]
[null,null,null,"2023","January","2023-01-07",null,"","",5.3271000000000006,0.54838709677419351,"",0,"",{"$f":"IF(OR('3 Irrigation Schedule'!$C$29=\"\",'3 Irrigation Schedule'!$C$31=\"\",H1076=\"\"),\"\",(('3 Irrigation Schedule'!$C$29-'3 Irrigation Schedule'!$C$31)/100)*1000*N1076)","v":""},"",{"$f":"IF(H1076=\"\",\"\",IF(H1076=1,O1076*(1-'3 Irrigation Schedule'!$C$27),T1075-V1075))","v":""},"","","",{"$f":"IF(H1076=\"\",\"\",IF('3 Irrigation Schedule'!$P$19<P1076,'3 Irrigation Schedule'!$P$19,P1076))","v":""},"",{"$f":"IF(H1076=\"\",\"\",V1076/'3 Irrigation Schedule'!$M$19)","v":""}]
[null,null,null,"2023","January","2023-01-08",null,"","",5.3271000000000006,0.54838709677419351,"",0,"",{"$f":"IF(OR('3 Irrigation Schedule'!$C$29=\"\",'3 Irrigation Schedule'!$C$31=\"\",H1077=\"\"),\"\",(('3 Irrigation Schedule'!$C$29-'3 Irrigation Schedule'!$C$31)/100)*1000*N1077)","v":""},"",{"$f":"IF(H1077=\"\",\"\",IF(H1077=1,O1077*(1-'3 Irrigation Schedule'!$C$27),T1076-V1076))","v":""},"","","",{"$f":"IF(H1077=\"\",\"\",IF('3 Irrigation Schedule'!$P$19<P1077,'3 Irrigation Schedule'!$P$19,P1077))","v":""},"",{"$f":"IF(H1077=\"\",\"\",V1077/'3 Irrigation Schedule'!$M$19)","v":""}]
[null,null,null,"2023","January","2023-01-09",null,"","",5.3271000000000006,0.54838709677419351,"",0,"",{"$f":"IF(OR('3 Irrigation Schedule'!$C$29=\"\",'3 Irrigation Schedule'!$C$31=\"\",H1078=\"\"),\"\",(('3 Irrigation Schedule'!$C$29-'3 Irrigation Schedule'!$C$31)/100)*1000*N1078)","v":""},"",{"$f":"IF(H1078=\"\",\"\",IF(H1078=1,O1078*(1-'3 Irrigation Schedule'!$C$27),T1077-V1077))","v":""},"","","",{"$f":"IF(H1078=\"\",\"\",IF('3 Irrigation Schedule'!$P$19<P1078,'3 Irrigation Schedule'!$P$19,P1078))","v":""},"",{"$f":"IF(H1078=\"\",\"\",V1078/'3 Irrigation Schedule'!$M$19)","v":""}]
[null,null,null,"2023","January","2023-01-10",null,"","",5.3271000000000006,0.54838709677419351,"",0,"",{"$f":"IF(OR('3 Irrigation Schedule'!$C$29=\"\",'3 Irrigation Schedule'!$C$31=\"\",H1079=\"\"),\"\",(('3 Irrigation Schedule'!$C$29-'3 Irrigation Schedule'!$C$31)/100)*1000*N1079)","v":""},"",{"$f":"IF(H1079=\"\",\"\",IF(H1079=1,O1079*(1-'3 Irrigation Schedule'!$C$27),T1078-V1078))","v":""},"","","",{"$f":"IF(H1079=\"\",\"\",IF('3 Irrigation Schedule'!$P$19<P1079,'3 Irrigation Schedule'!$P$19,P1079))","v":""},"",{"$f":"IF(H1079=\"\",\"\",V1079/'3 Irrigation Schedule'!$M$19)","v":""}]
[null,null,null,"2023","January","2023-01-11",null,"","",5.3271000000000006,0.54838709677419351,"",0,"",{"$f":"IF(OR('3 Irrigation Schedule'!$C$29=\"\",'3 Irrigation Schedule'!$C$31=\"\",H1080=\"\"),\"\",(('3 Irrigation Schedule'!$C$29-'3 Irrigation Schedule'!$C$31)/100)*1000*N1080)","v":""},"",{"$f":"IF(H1080=\"\",\"\",IF(H1080=1,O1080*(1-'3 Irrigation Schedule'!$C$27),T1079-V1079))","v":""},"","","",{"$f":"IF(H1080=\"\",\"\",IF('3 Irrigation Schedule'!$P$19<P1080,'3 Irrigation Schedule'!$P$19,P1080))","v":""},"",{"$f":"IF(H1080=\"\",\"\",V1080/'3 Irrigation Schedule'!$M$19)","v":""}]
[null,null,null,"2023","January","2023-01-12",null,"","",5.3271000000000006,0.54838709677419351,"",0,"",{"$f":"IF(OR('3 Irrigation Schedule'!$C$29=\"\",'3 Irrigation Schedule'!$C$31=\"\",H1081=\"\"),\"\",(('3 Irrigation Schedule'!$C$29-'3 Irrigation Schedule'!$C$31)/100)*1000*N1081)","v":""},"",{"$f":"IF(H1081=\"\",\"\",IF(H1081=1,O1081*(1-'3 Irrigation Schedule'!$C$27),T1080-V1080))","v":""},"","","",{"$f":"IF(H1081=\"\",\"\",IF('3 Irrigation Schedule'!$P$19<P1081,'3 Irrigation Schedule'!$P$19,P1081))","v":""},"",{"$f":"IF(H1081=\"\",\"\",V1081/'3 Irrigation Schedule'!$M$19)","v":""}]
[null,null,null,"2023","January","2023-01-13",null,"","",5.3271000000000006,0.54838709677419351,"",0,"",{"$f":"IF(OR('3 Irrigation Schedule'!$C$29=\"\",'3 Irrigation Schedule'!$C$31=\"\",H1082=\"\"),\"\",(('3 Irrigation Schedule'!$C$29-'3 Irrigation Schedule'!$C$31)/100)*1000*N1082)","v":""},"",{"$f":"IF(H1082=\"\",\"\",IF(H1082=1,O1082*(1-'3 Irrigation Schedule'!$C$27),T1081-V1081))","v":""},"","","",{"$f":"IF(H1082=\"\",\"\",IF('3 Irrigation Schedule'!$P$19<P1082,'3 Irrigation Schedule'!$P$19,P1082))","v":""},"",{"$f":"IF(H1082=\"\",\"\",V1082/'3 Irrigation Schedule'!$M$19)","v":""}]
[null,null,null,"2023","January","2023-01-14",null,"","",5.3271000000000006,0.54838709677419351,"",0,"",{"$f":"IF(OR('3 Irrigation Schedule'!$C$29=\"\",'3 Irrigation Schedule'!$C$31=\"\",H1083=\"\"),\"\",(('3 Irrigation Schedule'!$C$29-'3 Irrigation Schedule'!$C$31)/100)*1000*N1083)","v":""},"",{"$f":"IF(H1083=\"\",\"\",IF(H1083=1,O1083*(1-'3 Irrigation Schedule'!$C$27),T1082-V1082))","v":""},"","","",{"$f":"IF(H1083=\"\",\"\",IF('3 Irrigation Schedule'!$P$19<P1083,'3 Irrigation Schedule'!$P$19,P1083))","v":""},"",{"$f":"IF(H1083=\"\",\"\",V1083/'3 Irrigation Schedule'!$M$19)","v":""}]
[null,null,null,"2023","January","2023-01-15",null,"","",5.3271000000000006,0.54838709677419351,"",0,"",{"$f":"IF(OR('3 Irrigation Schedule'!$C$29=\"\",'3 Irrigation Schedule'!$C$31=\"\",H1084=\"\"),\"\",(('3 Irrigation Schedule'!$C$29-'3 Irrigation Schedule'!$C$31)/100)*1000*N1084)","v":""},"",{"$f":"IF(H1084=\"\",\"\",IF(H1084=1,O1084*(1-'3 Irrigation Schedule'!$C$27),T1083-V1083))","v":""},"","","",{"$f":"IF(H1084=\"\",\"\",IF('3 Irrigation Schedule'!$P$19<P1084,'3 Irrigation Schedule'!$P$19,P1084))","v":""},"",{"$f":"IF(H1084=\"\",\"\",V1084/'3 Irrigation Schedule'!$M$19)","v":""}]
[null,null,null,"2023","January","2023-01-16",null,"",{"$f":"IF(H1085=\"\",\"\",IF(H1085<=$I$27,\"Initial\",IF(AND(H1085>$I$27,H1085<=$I$28),\"Development\",IF(AND(H1085>$I$28,H1085<=$I$29),\"Mid Season\",\"Late Season\"))))","v":""},5.3271000000000006,0.54838709677419351,"",0,"",{"$f":"IF(OR('3 Irrigation Schedule'!$C$29=\"\",'3 Irrigation Schedule'!$C$31=\"\",H1085=\"\"),\"\",(('3 Irrigation Schedule'!$C$29-'3 Irrigation Schedule'!$C$31)/100)*1000*N1085)","v":""},"",{"$f":"IF(H1085=\"\",\"\",IF(H1085=1,O1085*(1-'3 Irrigation Schedule'!$C$27),T1084-V1084))","v":""},"","","",{"$f":"IF(H1085=\"\",\"\",IF('3 Irrigation Schedule'!$P$19<P1085,'3 Irrigation Schedule'!$P$19,P1085))","v":""},"",{"$f":"IF(H1085=\"\",\"\",V1085/'3 Irrigation Schedule'!$M$19)","v":""}]
[null,null,null,"2023","January","2023-01-17",null,"","",5.3271000000000006,0.54838709677419351,"",0,"",{"$f":"IF(OR('3 Irrigation Schedule'!$C$29=\"\",'3 Irrigation Schedule'!$C$31=\"\",H1086=\"\"),\"\",(('3 Irrigation Schedule'!$C$29-'3 Irrigation Schedule'!$C$31)/100)*1000*N1086)","v":""},"",{"$f":"IF(H1086=\"\",\"\",IF(H1086=1,O1086*(1-'3 Irrigation Schedule'!$C$27),T1085-V1085))","v":""},"","","",{"$f":"IF(H1086=\"\",\"\",IF('3 Irrigation Schedule'!$P$19<P1086,'3 Irrigation Schedule'!$P$19,P1086))","v":""},"",{"$f":"IF(H1086=\"\",\"\",V1086/'3 Irrigation Schedule'!$M$19)","v":""}]
[null,null,null,"2023","January","2023-01-18",null,"","",5.3271000000000006,0.54838709677419351,"",0,"",{"$f":"IF(OR('3 Irrigation Schedule'!$C$29=\"\",'3 Irrigation Schedule'!$C$31=\"\",H1087=\"\"),\"\",(('3 Irrigation Schedule'!$C$29-'3 Irrigation Schedule'!$C$31)/100)*1000*N1087)","v":""},"",{"$f":"IF(H1087=\"\",\"\",IF(H1087=1,O1087*(1-'3 Irrigation Schedule'!$C$27),T1086-V1086))","v":""},"","","",{"$f":"IF(H1087=\"\",\"\",IF('3 Irrigation Schedule'!$P$19<P1087,'3 Irrigation Schedule'!$P$19,P1087))","v":""},"",{"$f":"IF(H1087=\"\",\"\",V1087/'3 Irrigation Schedule'!$M$19)","v":""}]
[null,null,null,"2023","January","2023-01-19",null,"","",5.3271000000000006,0.54838709677419351,"",0,"",{"$f":"IF(OR('3 Irrigation Schedule'!$C$29=\"\",'3 Irrigation Schedule'!$C$31=\"\",H1088=\"\"),\"\",(('3 Irrigation Schedule'!$C$29-'3 Irrigation Schedule'!$C$31)/100)*1000*N1088)","v":""},"",{"$f":"IF(H1088=\"\",\"\",IF(H1088=1,O1088*(1-'3 Irrigation Schedule'!$C$27),T1087-V1087))","v":""},"","","",{"$f":"IF(H1088=\"\",\"\",IF('3 Irrigation Schedule'!$P$19<P1088,'3 Irrigation Schedule'!$P$19,P1088))","v":""},"",{"$f":"IF(H1088=\"\",\"\",V1088/'3 Irrigation Schedule'!$M$19)","v":""}]
[null,null,null,"2023","January","2023-01-20",null,"","",5.3271000000000006,0.54838709677419351,"",0,"",{"$f":"IF(OR('3 Irrigation Schedule'!$C$29=\"\",'3 Irrigation Schedule'!$C$31=\"\",H1089=\"\"),\"\",(('3 Irrigation Schedule'!$C$29-'3 Irrigation Schedule'!$C$31)/100)*1000*N1089)","v":""},"",{"$f":"IF(H1089=\"\",\"\",IF(H1089=1,O1089*(1-'3 Irrigation Schedule'!$C$27),T1088-V1088))","v":""},"","","",{"$f":"IF(H1089=\"\",\"\",IF('3 Irrigation Schedule'!$P$19<P1089,'3 Irrigation Schedule'!$P$19,P1089))","v":""},"",{"$f":"IF(H1089=\"\",\"\",V1089/'3 Irrigation Schedule'!$M$19)","v":""}]
[null,null,null,"2023","January","2023-01-21",null,"","",5.3271000000000006,0.54838709677419351,"",0,"",{"$f":"IF(OR('3 Irrigation Schedule'!$C$29=\"\",'3 Irrigation Schedule'!$C$31=\"\",H1090=\"\"),\"\",(('3 Irrigation Schedule'!$C$29-'3 Irrigation Schedule'!$C$31)/100)*1000*N1090)","v":""},"",{"$f":"IF(H1090=\"\",\"\",IF(H1090=1,O1090*(1-'3 Irrigation Schedule'!$C$27),T1089-V1089))","v":""},"","","",{"$f":"IF(H1090=\"\",\"\",IF('3 Irrigation Schedule'!$P$19<P1090,'3 Irrigation Schedule'!$P$19,P1090))","v":""},"",{"$f":"IF(H1090=\"\",\"\",V1090/'3 Irrigation Schedule'!$M$19)","v":""}]
[null,null,null,"2023","January","2023-01-22",null,"","",5.3271000000000006,0.54838709677419351,"",0,"",{"$f":"IF(OR('3 Irrigation Schedule'!$C$29=\"\",'3 Irrigation Schedule'!$C$31=\"\",H1091=\"\"),\"\",(('3 Irrigation Schedule'!$C$29-'3 Irrigation Schedule'!$C$31)/100)*1000*N1091)","v":""},"",{"$f":"IF(H1091=\"\",\"\",IF(H1091=1,O1091*(1-'3 Irrigation Schedule'!$C$27),T1090-V1090))","v":""},"","","",{"$f":"IF(H1091=\"\",\"\",IF('3 Irrigation Schedule'!$P$19<P1091,'3 Irrigation Schedule'!$P$19,P1091))","v":""},"",{"$f":"IF(H1091=\"\",\"\",V1091/'3 Irrigation Schedule'!$M$19)","v":""}]
[null,null,null,"2023","January","2023-01-23",null,"","",5.3271000000000006,0.54838709677419351,"",0,"",{"$f":"IF(OR('3 Irrigation Schedule'!$C$29=\"\",'3 Irrigation Schedule'!$C$31=\"\",H1092=\"\"),\"\",(('3 Irrigation Schedule'!$C$29-'3 Irrigation Schedule'!$C$31)/100)*1000*N1092)","v":""},"",{"$f":"IF(H1092=\"\",\"\",IF(H1092=1,O1092*(1-'3 Irrigation Schedule'!$C$27),T1091-V1091))","v":""},"","","",{"$f":"IF(H1092=\"\",\"\",IF('3 Irrigation Schedule'!$P$19<P1092,'3 Irrigation Schedule'!$P$19,P1092))","v":""},"",{"$f":"IF(H1092=\"\",\"\",V1092/'3 Irrigation Schedule'!$M$19)","v":""}]
[null,null,null,"2023","January","2023-01-24",null,"","",5.3271000000000006,0.54838709677419351,"",0,"",{"$f":"IF(OR('3 Irrigation Schedule'!$C$29=\"\",'3 Irrigation Schedule'!$C$31=\"\",H1093=\"\"),\"\",(('3 Irrigation Schedule'!$C$29-'3 Irrigation Schedule'!$C$31)/100)*1000*N1093)","v":""},"",{"$f":"IF(H1093=\"\",\"\",IF(H1093=1,O1093*(1-'3 Irrigation Schedule'!$C$27),T1092-V1092))","v":""},"","","",{"$f":"IF(H1093=\"\",\"\",IF('3 Irrigation Schedule'!$P$19<P1093,'3 Irrigation Schedule'!$P$19,P1093))","v":""},"",{"$f":"IF(H1093=\"\",\"\",V1093/'3 Irrigation Schedule'!$M$19)","v":""}]
[null,null,null,"2023","January","2023-01-25",null,"","",5.3271000000000006,0.54838709677419351,"",0,"",{"$f":"IF(OR('3 Irrigation Schedule'!$C$29=\"\",'3 Irrigation Schedule'!$C$31=\"\",H1094=\"\"),\"\",(('3 Irrigation Schedule'!$C$29-'3 Irrigation Schedule'!$C$31)/100)*1000*N1094)","v":""},"",{"$f":"IF(H1094=\"\",\"\",IF(H1094=1,O1094*(1-'3 Irrigation Schedule'!$C$27),T1093-V1093))","v":""},"","","",{"$f":"IF(H1094=\"\",\"\",IF('3 Irrigation Schedule'!$P$19<P1094,'3 Irrigation Schedule'!$P$19,P1094))","v":""},"",{"$f":"IF(H1094=\"\",\"\",V1094/'3 Irrigation Schedule'!$M$19)","v":""}]
[null,null,null,"2023","January","2023-01-26",null,"","",5.3271000000000006,0.54838709677419351,"",0,"",{"$f":"IF(OR('3 Irrigation Schedule'!$C$29=\"\",'3 Irrigation Schedule'!$C$31=\"\",H1095=\"\"),\"\",(('3 Irrigation Schedule'!$C$29-'3 Irrigation Schedule'!$C$31)/100)*1000*N1095)","v":""},"",{"$f":"IF(H1095=\"\",\"\",IF(H1095=1,O1095*(1-'3 Irrigation Schedule'!$C$27),T1094-V1094))","v":""},"","","",{"$f":"IF(H1095=\"\",\"\",IF('3 Irrigation Schedule'!$P$19<P1095,'3 Irrigation Schedule'!$P$19,P1095))","v":""},"",{"$f":"IF(H1095=\"\",\"\",V1095/'3 Irrigation Schedule'!$M$19)","v":""}]
[null,null,null,"2023","January","2023-01-27",null,"","",5.3271000000000006,0.54838709677419351,"",0,"",{"$f":"IF(OR('3 Irrigation Schedule'!$C$29=\"\",'3 Irrigation Schedule'!$C$31=\"\",H1096=\"\"),\"\",(('3 Irrigation Schedule'!$C$29-'3 Irrigation Schedule'!$C$31)/100)*1000*N1096)","v":""},"",{"$f":"IF(H1096=\"\",\"\",IF(H1096=1,O1096*(1-'3 Irrigation Schedule'!$C$27),T1095-V1095))","v":""},"","","",{"$f":"IF(H1096=\"\",\"\",IF('3 Irrigation Schedule'!$P$19<P1096,'3 Irrigation Schedule'!$P$19,P1096))","v":""},"",{"$f":"IF(H1096=\"\",\"\",V1096/'3 Irrigation Schedule'!$M$19)","v":""}]
[null,null,null,"2023","January","2023-01-28",null,"","",5.3271000000000006,0.54838709677419351,"",0,"",{"$f":"IF(OR('3 Irrigation Schedule'!$C$29=\"\",'3 Irrigation Schedule'!$C$31=\"\",H1097=\"\"),\"\",(('3 Irrigation Schedule'!$C$29-'3 Irrigation Schedule'!$C$31)/100)*1000*N1097)","v":""},"",{"$f":"IF(H1097=\"\",\"\",IF(H1097=1,O1097*(1-'3 Irrigation Schedule'!$C$27),T1096-V1096))","v":""},"","","",{"$f":"IF(H1097=\"\",\"\",IF('3 Irrigation Schedule'!$P$19<P1097,'3 Irrigation Schedule'!$P$19,P1097))","v":""},"",{"$f":"IF(H1097=\"\",\"\",V1097/'3 Irrigation Schedule'!$M$19)","v":""}]
[null,null,null,"2023","January","2023-01-29",null,"","",5.3271000000000006,0.54838709677419351,"",0,"",{"$f":"IF(OR('3 Irrigation Schedule'!$C$29=\"\",'3 Irrigation Schedule'!$C$31=\"\",H1098=\"\"),\"\",(('3 Irrigation Schedule'!$C$29-'3 Irrigation Schedule'!$C$31)/100)*1000*N1098)","v":""},"",{"$f":"IF(H1098=\"\",\"\",IF(H1098=1,O1098*(1-'3 Irrigation Schedule'!$C$27),T1097-V1097))","v":""},"","","",{"$f":"IF(H1098=\"\",\"\",IF('3 Irrigation Schedule'!$P$19<P1098,'3 Irrigation Schedule'!$P$19,P1098))","v":""},"",{"$f":"IF(H1098=\"\",\"\",V1098/'3 Irrigation Schedule'!$M$19)","v":""}]
[null,null,null,"2023","January","2023-01-30",null,"","",5.3271000000000006,0.54838709677419351,"",0,"",{"$f":"IF(OR('3 Irrigation Schedule'!$C$29=\"\",'3 Irrigation Schedule'!$C$31=\"\",H1099=\"\"),\"\",(('3 Irrigation Schedule'!$C$29-'3 Irrigation Schedule'!$C$31)/100)*1000*N1099)","v":""},"",{"$f":"IF(H1099=\"\",\"\",IF(H1099=1,O1099*(1-'3 Irrigation Schedule'!$C$27),T1098-V1098))","v":""},"","","",{"$f":"IF(H1099=\"\",\"\",IF('3 Irrigation Schedule'!$P$19<P1099,'3 Irrigation Schedule'!$P$19,P1099))","v":""},"",{"$f":"IF(H1099=\"\",\"\",V1099/'3 Irrigation Schedule'!$M$19)","v":""}]
[null,null,null,"2023","January","2023-01-31",null,"","",5.3271000000000006,0.54838709677419351,"",0,"",{"$f":"IF(OR('3 Irrigation Schedule'!$C$29=\"\",'3 Irrigation Schedule'!$C$31=\"\",H1100=\"\"),\"\",(('3 Irrigation Schedule'!$C$29-'3 Irrigation Schedule'!$C$31)/100)*1000*N1100)","v":""},"",{"$f":"IF(H1100=\"\",\"\",IF(H1100=1,O1100*(1-'3 Irrigation Schedule'!$C$27),T1099-V1099))","v":""},"","","",{"$f":"IF(H1100=\"\",\"\",IF('3 Irrigation Schedule'!$P$19<P1100,'3 Irrigation Schedule'!$P$19,P1100))","v":""},"",{"$f":"IF(H1100=\"\",\"\",V1100/'3 Irrigation Schedule'!$M$19)","v":""}]
[null,null,null,"2023","February","2023-02-01",null,"","",5.2650000000000006,0.35000000000000003,"",0,"",{"$f":"IF(OR('3 Irrigation Schedule'!$C$29=\"\",'3 Irrigation Schedule'!$C$31=\"\",H1101=\"\"),\"\",(('3 Irrigation Schedule'!$C$29-'3 Irrigation Schedule'!$C$31)/100)*1000*N1101)","v":""},"",{"$f":"IF(H1101=\"\",\"\",IF(H1101=1,O1101*(1-'3 Irrigation Schedule'!$C$27),T1100-V1100))","v":""},"","","",{"$f":"IF(H1101=\"\",\"\",IF('3 Irrigation Schedule'!$P$19<P1101,'3 Irrigation Schedule'!$P$19,P1101))","v":""},"",{"$f":"IF(H1101=\"\",\"\",V1101/'3 Irrigation Schedule'!$M$19)","v":""}]
[null,null,null,"2023","February","2023-02-02",null,"","",5.2650000000000006,0.35000000000000003,"",0,"",{"$f":"IF(OR('3 Irrigation Schedule'!$C$29=\"\",'3 Irrigation Schedule'!$C$31=\"\",H1102=\"\"),\"\",(('3 Irrigation Schedule'!$C$29-'3 Irrigation Schedule'!$C$31)/100)*1000*N1102)","v":""},"",{"$f":"IF(H1102=\"\",\"\",IF(H1102=1,O1102*(1-'3 Irrigation Schedule'!$C$27),T1101-V1101))","v":""},"","","",{"$f":"IF(H1102=\"\",\"\",IF('3 Irrigation Schedule'!$P$19<P1102,'3 Irrigation Schedule'!$P$19,P1102))","v":""},"",{"$f":"IF(H1102=\"\",\"\",V1102/'3 Irrigation Schedule'!$M$19)","v":""}]
[null,null,null,"2023","February","2023-02-03",null,"","",5.2650000000000006,0.35000000000000003,"",0,"",{"$f":"IF(OR('3 Irrigation Schedule'!$C$29=\"\",'3 Irrigation Schedule'!$C$31=\"\",H1103=\"\"),\"\",(('3 Irrigation Schedule'!$C$29-'3 Irrigation Schedule'!$C$31)/100)*1000*N1103)","v":""},"",{"$f":"IF(H1103=\"\",\"\",IF(H1103=1,O1103*(1-'3 Irrigation Schedule'!$C$27),T1102-V1102))","v":""},"","","",{"$f":"IF(H1103=\"\",\"\",IF('3 Irrigation Schedule'!$P$19<P1103,'3 Irrigation Schedule'!$P$19,P1103))","v":""},"",{"$f":"IF(H1103=\"\",\"\",V1103/'3 Irrigation Schedule'!$M$19)","v":""}]
[null,null,null,"2023","February","2023-02-04",null,"","",5.2650000000000006,0.35000000000000003,"",0,"",{"$f":"IF(OR('3 Irrigation Schedule'!$C$29=\"\",'3 Irrigation Schedule'!$C$31=\"\",H1104=\"\"),\"\",(('3 Irrigation Schedule'!$C$29-'3 Irrigation Schedule'!$C$31)/100)*1000*N1104)","v":""},"",{"$f":"IF(H1104=\"\",\"\",IF(H1104=1,O1104*(1-'3 Irrigation Schedule'!$C$27),T1103-V1103))","v":""},"","","",{"$f":"IF(H1104=\"\",\"\",IF('3 Irrigation Schedule'!$P$19<P1104,'3 Irrigation Schedule'!$P$19,P1104))","v":""},"",{"$f":"IF(H1104=\"\",\"\",V1104/'3 Irrigation Schedule'!$M$19)","v":""}]
[null,null,null,"2023","February","2023-02-05",null,"","",5.2650000000000006,0.35000000000000003,"",0,"",{"$f":"IF(OR('3 Irrigation Schedule'!$C$29=\"\",'3 Irrigation Schedule'!$C$31=\"\",H1105=\"\"),\"\",(('3 Irrigation Schedule'!$C$29-'3 Irrigation Schedule'!$C$31)/100)*1000*N1105)","v":""},"",{"$f":"IF(H1105=\"\",\"\",IF(H1105=1,O1105*(1-'3 Irrigation Schedule'!$C$27),T1104-V1104))","v":""},"","","",{"$f":"IF(H1105=\"\",\"\",IF('3 Irrigation Schedule'!$P$19<P1105,'3 Irrigation Schedule'!$P$19,P1105))","v":""},"",{"$f":"IF(H1105=\"\",\"\",V1105/'3 Irrigation Schedule'!$M$19)","v":""}]
[null,null,null,"2023","February","2023-02-06",null,"","",5.2650000000000006,0.35000000000000003,"",0,"",{"$f":"IF(OR('3 Irrigation Schedule'!$C$29=\"\",'3 Irrigation Schedule'!$C$31=\"\",H1106=\"\"),\"\",(('3 Irrigation Schedule'!$C$29-'3 Irrigation Schedule'!$C$31)/100)*1000*N1106)","v":""},"",{"$f":"IF(H1106=\"\",\"\",IF(H1106=1,O1106*(1-'3 Irrigation Schedule'!$C$27),T1105-V1105))","v":""},"","","",{"$f":"IF(H1106=\"\",\"\",IF('3 Irrigation Schedule'!$P$19<P1106,'3 Irrigation Schedule'!$P$19,P1106))","v":""},"",{"$f":"IF(H1106=\"\",\"\",V1106/'3 Irrigation Schedule'!$M$19)","v":""}]
[null,null,null,"2023","February","2023-02-07",null,"","",5.2650000000000006,0.35000000000000003,"",0,"",{"$f":"IF(OR('3 Irrigation Schedule'!$C$29=\"\",'3 Irrigation Schedule'!$C$31=\"\",H1107=\"\"),\"\",(('3 Irrigation Schedule'!$C$29-'3 Irrigation Schedule'!$C$31)/100)*1000*N1107)","v":""},"",{"$f":"IF(H1107=\"\",\"\",IF(H1107=1,O1107*(1-'3 Irrigation Schedule'!$C$27),T1106-V1106))","v":""},"","","",{"$f":"IF(H1107=\"\",\"\",IF('3 Irrigation Schedule'!$P$19<P1107,'3 Irrigation Schedule'!$P$19,P1107))","v":""},"",{"$f":"IF(H1107=\"\",\"\",V1107/'3 Irrigation Schedule'!$M$19)","v":""}]
[null,null,null,"2023","February","2023-02-08",null,"","",5.2650000000000006,0.35000000000000003,"",0,"",{"$f":"IF(OR('3 Irrigation Schedule'!$C$29=\"\",'3 Irrigation Schedule'!$C$31=\"\",H1108=\"\"),\"\",(('3 Irrigation Schedule'!$C$29-'3 Irrigation Schedule'!$C$31)/100)*1000*N1108)","v":""},"",{"$f":"IF(H1108=\"\",\"\",IF(H1108=1,O1108*(1-'3 Irrigation Schedule'!$C$27),T1107-V1107))","v":""},"","","",{"$f":"IF(H1108=\"\",\"\",IF('3 Irrigation Schedule'!$P$19<P1108,'3 Irrigation Schedule'!$P$19,P1108))","v":""},"",{"$f":"IF(H1108=\"\",\"\",V1108/'3 Irrigation Schedule'!$M$19)","v":""}]
[null,null,null,"2023","February","2023-02-09",null,"","",5.2650000000000006,0.35000000000000003,"",0,"",{"$f":"IF(OR('3 Irrigation Schedule'!$C$29=\"\",'3 Irrigation Schedule'!$C$31=\"\",H1109=\"\"),\"\",(('3 Irrigation Schedule'!$C$29-'3 Irrigation Schedule'!$C$31)/100)*1000*N1109)","v":""},"",{"$f":"IF(H1109=\"\",\"\",IF(H1109=1,O1109*(1-'3 Irrigation Schedule'!$C$27),T1108-V1108))","v":""},"","","",{"$f":"IF(H1109=\"\",\"\",IF('3 Irrigation Schedule'!$P$19<P1109,'3 Irrigation Schedule'!$P$19,P1109))","v":""},"",{"$f":"IF(H1109=\"\",\"\",V1109/'3 Irrigation Schedule'!$M$19)","v":""}]
[null,null,null,"2023","February","2023-02-10",null,"","",5.2650000000000006,0.35000000000000003,"",0,"",{"$f":"IF(OR('3 Irrigation Schedule'!$C$29=\"\",'3 Irrigation Schedule'!$C$31=\"\",H1110=\"\"),\"\",(('3 Irrigation Schedule'!$C$29-'3 Irrigation Schedule'!$C$31)/100)*1000*N1110)","v":""},"",{"$f":"IF(H1110=\"\",\"\",IF(H1110=1,O1110*(1-'3 Irrigation Schedule'!$C$27),T1109-V1109))","v":""},"","","",{"$f":"IF(H1110=\"\",\"\",IF('3 Irrigation Schedule'!$P$19<P1110,'3 Irrigation Schedule'!$P$19,P1110))","v":""},"",{"$f":"IF(H1110=\"\",\"\",V1110/'3 Irrigation Schedule'!$M$19)","v":""}]
[null,null,null,"2023","February","2023-02-11",null,"","",5.2650000000000006,0.35000000000000003,"",0,"",{"$f":"IF(OR('3 Irrigation Schedule'!$C$29=\"\",'3 Irrigation Schedule'!$C$31=\"\",H1111=\"\"),\"\",(('3 Irrigation Schedule'!$C$29-'3 Irrigation Schedule'!$C$31)/100)*1000*N1111)","v":""},"",{"$f":"IF(H1111=\"\",\"\",IF(H1111=1,O1111*(1-'3 Irrigation Schedule'!$C$27),T1110-V1110))","v":""},"","","",{"$f":"IF(H1111=\"\",\"\",IF('3 Irrigation Schedule'!$P$19<P1111,'3 Irrigation Schedule'!$P$19,P1111))","v":""},"",{"$f":"IF(H1111=\"\",\"\",V1111/'3 Irrigation Schedule'!$M$19)","v":""}]
[null,null,null,"2023","February","2023-02-12",null,"","",5.2650000000000006,0.35000000000000003,"",0,"",{"$f":"IF(OR('3 Irrigation Schedule'!$C$29=\"\",'3 Irrigation Schedule'!$C$31=\"\",H1112=\"\"),\"\",(('3 Irrigation Schedule'!$C$29-'3 Irrigation Schedule'!$C$31)/100)*1000*N1112)","v":""},"",{"$f":"IF(H1112=\"\",\"\",IF(H1112=1,O1112*(1-'3 Irrigation Schedule'!$C$27),T1111-V1111))","v":""},"","","",{"$f":"IF(H1112=\"\",\"\",IF('3 Irrigation Schedule'!$P$19<P1112,'3 Irrigation Schedule'!$P$19,P1112))","v":""},"",{"$f":"IF(H1112=\"\",\"\",V1112/'3 Irrigation Schedule'!$M$19)","v":""}]
[null,null,null,"2023","February","2023-02-13",null,"","",5.2650000000000006,0.35000000000000003,"",0,"",{"$f":"IF(OR('3 Irrigation Schedule'!$C$29=\"\",'3 Irrigation Schedule'!$C$31=\"\",H1113=\"\"),\"\",(('3 Irrigation Schedule'!$C$29-'3 Irrigation Schedule'!$C$31)/100)*1000*N1113)","v":""},"",{"$f":"IF(H1113=\"\",\"\",IF(H1113=1,O1113*(1-'3 Irrigation Schedule'!$C$27),T1112-V1112))","v":""},"","","",{"$f":"IF(H1113=\"\",\"\",IF('3 Irrigation Schedule'!$P$19<P1113,'3 Irrigation Schedule'!$P$19,P1113))","v":""},"",{"$f":"IF(H1113=\"\",\"\",V1113/'3 Irrigation Schedule'!$M$19)","v":""}]
[null,null,null,"2023","February","2023-02-14",null,"","",5.2650000000000006,0.35000000000000003,"",0,"",{"$f":"IF(OR('3 Irrigation Schedule'!$C$29=\"\",'3 Irrigation Schedule'!$C$31=\"\",H1114=\"\"),\"\",(('3 Irrigation Schedule'!$C$29-'3 Irrigation Schedule'!$C$31)/100)*1000*N1114)","v":""},"",{"$f":"IF(H1114=\"\",\"\",IF(H1114=1,O1114*(1-'3 Irrigation Schedule'!$C$27),T1113-V1113))","v":""},"","","",{"$f":"IF(H1114=\"\",\"\",IF('3 Irrigation Schedule'!$P$19<P1114,'3 Irrigation Schedule'!$P$19,P1114))","v":""},"",{"$f":"IF(H1114=\"\",\"\",V1114/'3 Irrigation Schedule'!$M$19)","v":""}]
[null,null,null,"2023","February","2023-02-15",null,"","",5.2650000000000006,0.35000000000000003,"",0,"",{"$f":"IF(OR('3 Irrigation Schedule'!$C$29=\"\",'3 Irrigation Schedule'!$C$31=\"\",H1115=\"\"),\"\",(('3 Irrigation Schedule'!$C$29-'3 Irrigation Schedule'!$C$31)/100)*1000*N1115)","v":""},"",{"$f":"IF(H1115=\"\",\"\",IF(H1115=1,O1115*(1-'3 Irrigation Schedule'!$C$27),T1114-V1114))","v":""},"","","",{"$f":"IF(H1115=\"\",\"\",IF('3 Irrigation Schedule'!$P$19<P1115,'3 Irrigation Schedule'!$P$19,P1115))","v":""},"",{"$f":"IF(H1115=\"\",\"\",V1115/'3 Irrigation Schedule'!$M$19)","v":""}]
[null,null,null,"2023","February","2023-02-16",null,"","",5.2650000000000006,0.35000000000000003,"",0,"",{"$f":"IF(OR('3 Irrigation Schedule'!$C$29=\"\",'3 Irrigation Schedule'!$C$31=\"\",H1116=\"\"),\"\",(('3 Irrigation Schedule'!$C$29-'3 Irrigation Schedule'!$C$31)/100)*1000*N1116)","v":""},"",{"$f":"IF(H1116=\"\",\"\",IF(H1116=1,O1116*(1-'3 Irrigation Schedule'!$C$27),T1115-V1115))","v":""},"","","",{"$f":"IF(H1116=\"\",\"\",IF('3 Irrigation Schedule'!$P$19<P1116,'3 Irrigation Schedule'!$P$19,P1116))","v":""},"",{"$f":"IF(H1116=\"\",\"\",V1116/'3 Irrigation Schedule'!$M$19)","v":""}]
[null,null,null,"2023","February","2023-02-17",null,"","",5.2650000000000006,0.35000000000000003,"",0,"",{"$f":"IF(OR('3 Irrigation Schedule'!$C$29=\"\",'3 Irrigation Schedule'!$C$31=\"\",H1117=\"\"),\"\",(('3 Irrigation Schedule'!$C$29-'3 Irrigation Schedule'!$C$31)/100)*1000*N1117)","v":""},"",{"$f":"IF(H1117=\"\",\"\",IF(H1117=1,O1117*(1-'3 Irrigation Schedule'!$C$27),T1116-V1116))","v":""},"","","",{"$f":"IF(H1117=\"\",\"\",IF('3 Irrigation Schedule'!$P$19<P1117,'3 Irrigation Schedule'!$P$19,P1117))","v":""},"",{"$f":"IF(H1117=\"\",\"\",V1117/'3 Irrigation Schedule'!$M$19)","v":""}]
[null,null,null,"2023","February","2023-02-18",null,"","",5.2650000000000006,0.35000000000000003,"",0,"",{"$f":"IF(OR('3 Irrigation Schedule'!$C$29=\"\",'3 Irrigation Schedule'!$C$31=\"\",H1118=\"\"),\"\",(('3 Irrigation Schedule'!$C$29-'3 Irrigation Schedule'!$C$31)/100)*1000*N1118)","v":""},"",{"$f":"IF(H1118=\"\",\"\",IF(H1118=1,O1118*(1-'3 Irrigation Schedule'!$C$27),T1117-V1117))","v":""},"","","",{"$f":"IF(H1118=\"\",\"\",IF('3 Irrigation Schedule'!$P$19<P1118,'3 Irrigation Schedule'!$P$19,P1118))","v":""},"",{"$f":"IF(H1118=\"\",\"\",V1118/'3 Irrigation Schedule'!$M$19)","v":""}]
[null,null,null,"2023","February","2023-02-19",null,"","",5.2650000000000006,0.35000000000000003,"",0,"",{"$f":"IF(OR('3 Irrigation Schedule'!$C$29=\"\",'3 Irrigation Schedule'!$C$31=\"\",H1119=\"\"),\"\",(('3 Irrigation Schedule'!$C$29-'3 Irrigation Schedule'!$C$31)/100)*1000*N1119)","v":""},"",{"$f":"IF(H1119=\"\",\"\",IF(H1119=1,O1119*(1-'3 Irrigation Schedule'!$C$27),T1118-V1118))","v":""},"","","",{"$f":"IF(H1119=\"\",\"\",IF('3 Irrigation Schedule'!$P$19<P1119,'3 Irrigation Schedule'!$P$19,P1119))","v":""},"",{"$f":"IF(H1119=\"\",\"\",V1119/'3 Irrigation Schedule'!$M$19)","v":""}]
[null,null,null,"2023","February","2023-02-20",null,"","",5.2650000000000006,0.35000000000000003,"",0,"",{"$f":"IF(OR('3 Irrigation Schedule'!$C$29=\"\",'3 Irrigation Schedule'!$C$31=\"\",H1120=\"\"),\"\",(('3 Irrigation Schedule'!$C$29-'3 Irrigation Schedule'!$C$31)/100)*1000*N1120)","v":""},"",{"$f":"IF(H1120=\"\",\"\",IF(H1120=1,O1120*(1-'3 Irrigation Schedule'!$C$27),T1119-V1119))","v":""},"","","",{"$f":"IF(H1120=\"\",\"\",IF('3 Irrigation Schedule'!$P$19<P1120,'3 Irrigation Schedule'!$P$19,P1120))","v":""},"",{"$f":"IF(H1120=\"\",\"\",V1120/'3 Irrigation Schedule'!$M$19)","v":""}]
[null,null,null,"2023","February","2023-02-21",null,"","",5.2650000000000006,0.35000000000000003,"",0,"",{"$f":"IF(OR('3 Irrigation Schedule'!$C$29=\"\",'3 Irrigation Schedule'!$C$31=\"\",H1121=\"\"),\"\",(('3 Irrigation Schedule'!$C$29-'3 Irrigation Schedule'!$C$31)/100)*1000*N1121)","v":""},"",{"$f":"IF(H1121=\"\",\"\",IF(H1121=1,O1121*(1-'3 Irrigation Schedule'!$C$27),T1120-V1120))","v":""},"","","",{"$f":"IF(H1121=\"\",\"\",IF('3 Irrigation Schedule'!$P$19<P1121,'3 Irrigation Schedule'!$P$19,P1121))","v":""},"",{"$f":"IF(H1121=\"\",\"\",V1121/'3 Irrigation Schedule'!$M$19)","v":""}]
[null,null,null,{"$f":"IFERROR(TEXT(DATE(YEAR($F1122),MONTH($F1122),1),$D$7&$D$4),\"\")","v":"2023"},{"$f":"IFERROR(TEXT(DATE(YEAR($F1122),MONTH($F1122),1),$D$7&$D$5),\"\")","v":"February"},"2023-02-22",null,"","",{"$f":"IFERROR(VLOOKUP($E1122,$B$19:$C$30,2,FALSE),\"\")","v":5.2650000000000006},0.35000000000000003,{"$f":"IF(H1122=\"\",\"\",IF(H1122<=$I$27,$L$27,IF(AND(H1122>$I$27,H1122<=$I$28),$L$27+((H1122-$I$27)/$H$28)*($L$29-$L$27),IF(AND(H1122>$I$28,H1122<=$I$29),$L$29,$L$29+((H1122-$I$29)/$H$30)*($L$30-$L$29)))))","v":""},{"$f":"IFERROR((J1122*L1122),0)","v":0},{"$f":"IF(H1122=\"\",\"\",IF(OR(H1122=1,H1122<$I$28),$M$27+(($M$28-$M$27)*((H1122-1)/($I$28-1))),$M$28))","v":""},{"$f":"IF(OR('3 Irrigation Schedule'!$C$29=\"\",'3 Irrigation Schedule'!$C$31=\"\",H1122=\"\"),\"\",(('3 Irrigation Schedule'!$C$29-'3 Irrigation Schedule'!$C$31)/100)*1000*N1122)","v":""},{"$f":"IF(H1122=\"\",\"\",O1122*$N$27)","v":""},{"$f":"IF(H1122=\"\",\"\",IF(H1122=1,O1122*(1-'3 Irrigation Schedule'!$C$27),T1121-V1121))","v":""},{"$f":"IF(H1122=\"\",\"\",IF(Q1122>P1122,(O1122-Q1122)/(O1122-P1122),1))","v":""},{"$f":"IF(H1122=\"\",\"\",M1122*R1122)","v":""},{"$f":"IF(H1122=\"\",\"\",IF(Q1122+S1122-K1122<0,0,Q1122+S1122-K1122))","v":""},{"$f":"IF(H1122=\"\",\"\",IF('3 Irrigation Schedule'!$P$19<P1122,'3 Irrigation Schedule'!$P$19,P1122))","v":""},{"$f":"IF(H1122=\"\",\"\",IF(U1122<=T1122,U1122,0))","v":""},{"$f":"IF(H1122=\"\",\"\",V1122/'3 Irrigation Schedule'!$M$19)","v":""}]
[null,null,null,"2023","February",{"$f":"IFERROR(IF(F1122+1<=$N$7, F1122+1,\"\"),\"\")","v":"2023-02-23"},null,{"$f":"IFERROR(IF(OR($F1123-$J$27+1<=0,$F1123>$K$30),\"\",$F1123-$J$27+1),\"\")","v":""},"",5.2650000000000006,{"$f":"IFERROR(VLOOKUP($E1123,$B$19:$D$30,3,FALSE),\"\")","v":0.35000000000000003},"",0,"",{"$f":"IF(OR('3 Irrigation Schedule'!$C$29=\"\",'3 Irrigation Schedule'!$C$31=\"\",H1123=\"\"),\"\",(('3 Irrigation Schedule'!$C$29-'3 Irrigation Schedule'!$C$31)/100)*1000*N1123)","v":""},"",{"$f":"IF(H1123=\"\",\"\",IF(H1123=1,O1123*(1-'3 Irrigation Schedule'!$C$27),T1122-V1122))","v":""},"","","",{"$f":"IF(H1123=\"\",\"\",IF('3 Irrigation Schedule'!$P$19<P1123,'3 Irrigation Schedule'!$P$19,P1123))","v":""},"",{"$f":"IF(H1123=\"\",\"\",V1123/'3 Irrigation Schedule'!$M$19)","v":""}]
[null,null,null,"2023","February","2023-02-24",null,"","",5.2650000000000006,0.35000000000000003,"",0,"",{"$f":"IF(OR('3 Irrigation Schedule'!$C$29=\"\",'3 Irrigation Schedule'!$C$31=\"\",H1124=\"\"),\"\",(('3 Irrigation Schedule'!$C$29-'3 Irrigation Schedule'!$C$31)/100)*1000*N1124)","v":""},"",{"$f":"IF(H1124=\"\",\"\",IF(H1124=1,O1124*(1-'3 Irrigation Schedule'!$C$27),T1123-V1123))","v":""},"","","",{"$f":"IF(H1124=\"\",\"\",IF('3 Irrigation Schedule'!$P$19<P1124,'3 Irrigation Schedule'!$P$19,P1124))","v":""},"",{"$f":"IF(H1124=\"\",\"\",V1124/'3 Irrigation Schedule'!$M$19)","v":""}]
[null,null,null,"2023","February","2023-02-25",null,"","",5.2650000000000006,0.35000000000000003,"",0,"",{"$f":"IF(OR('3 Irrigation Schedule'!$C$29=\"\",'3 Irrigation Schedule'!$C$31=\"\",H1125=\"\"),\"\",(('3 Irrigation Schedule'!$C$29-'3 Irrigation Schedule'!$C$31)/100)*1000*N1125)","v":""},"",{"$f":"IF(H1125=\"\",\"\",IF(H1125=1,O1125*(1-'3 Irrigation Schedule'!$C$27),T1124-V1124))","v":""},"","","",{"$f":"IF(H1125=\"\",\"\",IF('3 Irrigation Schedule'!$P$19<P1125,'3 Irrigation Schedule'!$P$19,P1125))","v":""},"",{"$f":"IF(H1125=\"\",\"\",V1125/'3 Irrigation Schedule'!$M$19)","v":""}]
[null,null,null,"2023","February","2023-02-26",null,"","",5.2650000000000006,0.35000000000000003,"",0,"",{"$f":"IF(OR('3 Irrigation Schedule'!$C$29=\"\",'3 Irrigation Schedule'!$C$31=\"\",H1126=\"\"),\"\",(('3 Irrigation Schedule'!$C$29-'3 Irrigation Schedule'!$C$31)/100)*1000*N1126)","v":""},"",{"$f":"IF(H1126=\"\",\"\",IF(H1126=1,O1126*(1-'3 Irrigation Schedule'!$C$27),T1125-V1125))","v":""},"","","",{"$f":"IF(H1126=\"\",\"\",IF('3 Irrigation Schedule'!$P$19<P1126,'3 Irrigation Schedule'!$P$19,P1126))","v":""},"",{"$f":"IF(H1126=\"\",\"\",V1126/'3 Irrigation Schedule'!$M$19)","v":""}]
[null,null,null,"2023","February","2023-02-27",null,"","",5.2650000000000006,0.35000000000000003,"",0,"",{"$f":"IF(OR('3 Irrigation Schedule'!$C$29=\"\",'3 Irrigation Schedule'!$C$31=\"\",H1127=\"\"),\"\",(('3 Irrigation Schedule'!$C$29-'3 Irrigation Schedule'!$C$31)/100)*1000*N1127)","v":""},"",{"$f":"IF(H1127=\"\",\"\",IF(H1127=1,O1127*(1-'3 Irrigation Schedule'!$C$27),T1126-V1126))","v":""},"","","",{"$f":"IF(H1127=\"\",\"\",IF('3 Irrigation Schedule'!$P$19<P1127,'3 Irrigation Schedule'!$P$19,P1127))","v":""},"",{"$f":"IF(H1127=\"\",\"\",V1127/'3 Irrigation Schedule'!$M$19)","v":""}]
[null,null,null,"2023","February","2023-02-28",null,"","",5.2650000000000006,0.35000000000000003,"",0,"",{"$f":"IF(OR('3 Irrigation Schedule'!$C$29=\"\",'3 Irrigation Schedule'!$C$31=\"\",H1128=\"\"),\"\",(('3 Irrigation Schedule'!$C$29-'3 Irrigation Schedule'!$C$31)/100)*1000*N1128)","v":""},"",{"$f":"IF(H1128=\"\",\"\",IF(H1128=1,O1128*(1-'3 Irrigation Schedule'!$C$27),T1127-V1127))","v":""},"","","",{"$f":"IF(H1128=\"\",\"\",IF('3 Irrigation Schedule'!$P$19<P1128,'3 Irrigation Schedule'!$P$19,P1128))","v":""},"",{"$f":"IF(H1128=\"\",\"\",V1128/'3 Irrigation Schedule'!$M$19)","v":""}]

{"sheet":"Soil Information-Calculations","index":10,"n_rows":42,"n_cols":6,"rows_kept":42,"cut":false,"hidden":true,"merged":[[1,3,1,5],[16,3,16,4],[20,1,20,4]]}
[]
[null,null,null,"Soil texture calculation"]
[null,null,null,"Status","Soil Type","Formula"]
[null,null,null,{"$f":"IFERROR(IF('2 Soil Texture Calculator'!$E$16+1.5*'2 Soil Texture Calculator'!$E$13<0.15,TRUE,FALSE),\"\")","v":false},{"$f":"Translate!C131","v":"SAND"},"((silt + 1.5*clay) < 15)"]
[null,null,null,{"$f":"IFERROR(IF(AND('2 Soil Texture Calculator'!$E$16+1.5*'2 Soil Texture Calculator'!$E$13>=0.15, '2 Soil Texture Calculator'!$E$16+2*'2 Soil Texture Calculator'!$E$13<0.3), TRUE,FALSE),\"\")","v":false},{"$f":"Translate!C132","v":"LOAMY SAND"},"((silt + 1.5*clay >= 15) && (silt + 2*clay < 30))"]
[null,null,null,{"$f":"IFERROR(IF(OR(AND('2 Soil Texture Calculator'!$E$13>=0.07, '2 Soil Texture Calculator'!$E$13<0.2,'2 Soil Texture Calculator'!$E$10>0.52,'2 Soil Texture Calculator'!$E$16+2*'2 Soil Texture Calculator'!$E$13>=0.3), AND('2 Soil Texture Calculator'!$E$13<0.07, '2 Soil Texture Calculator'!$E$16<0.5, '2 Soil Texture Calculator'!$E$16+2*'2 Soil Texture Calculator'!$E$13>=0.3)), TRUE,FALSE),\"\")","v":false},{"$f":"Translate!C133","v":"SANDY LOAM"},"((clay >= 7 && clay < 20) && (sand > 52) && ((silt + 2*clay) >= 30) || (clay < 7 && silt < 50 && (silt+2*clay)>=30))"]
[null,null,null,{"$f":"IFERROR(IF(AND('2 Soil Texture Calculator'!$E$13>=0.07, '2 Soil Texture Calculator'!$E$13<0.27, '2 Soil Texture Calculator'!$E$16>=0.28, '2 Soil Texture Calculator'!$E$16<0.5, '2 Soil Texture Calculator'!$E$10<=0.52), TRUE,FALSE),\"\")","v":false},{"$f":"Translate!C134","v":"LOAM"},"((clay >= 7 && clay < 27) && (silt >= 28 && silt < 50) && (sand <= 52))"]
[null,null,null,{"$f":"IFERROR(IF(OR(AND('2 Soil Texture Calculator'!$E$16>=0.5, '2 Soil Texture Calculator'!$E$13>=0.12,'2 Soil Texture Calculator'!$E$13<0.27), AND('2 Soil Texture Calculator'!$E$16>=0.5,'2 Soil Texture Calculator'!$E$16<0.8,'2 Soil Texture Calculator'!$E$13<0.12)), TRUE,FALSE),\"\")","v":false},{"$f":"Translate!C135","v":"SILT LOAM"},"((silt >= 50 && (clay >= 12 && clay < 27)) || ((silt >= 50 && silt < 80) && clay < 12))"]
[null,null,null,{"$f":"IFERROR(IF(AND('2 Soil Texture Calculator'!$E$16>=0.8, '2 Soil Texture Calculator'!$E$13<0.12), TRUE,FALSE),\"\")","v":false},{"$f":"Translate!C136","v":"SILT"},"(silt >= 80 && clay < 12)"]
[null,null,null,{"$f":"IFERROR(IF(AND('2 Soil Texture Calculator'!$E$13>=0.2, '2 Soil Texture Calculator'!$E$13<0.35, '2 Soil Texture Calculator'!$E$16<0.28, '2 Soil Texture Calculator'!$E$10>0.45), TRUE,FALSE),\"\")","v":false},{"$f":"Translate!C137","v":"SANDY CLAY LOAM"},"((clay >= 20 && clay < 35) && (silt < 28) && (sand > 45)) "]
[null,null,null,{"$f":"IFERROR(IF(AND('2 Soil Texture Calculator'!$E$13>=0.27, '2 Soil Texture Calculator'!$E$13<0.4, '2 Soil Texture Calculator'!$E$10>0.2, '2 Soil Texture Calculator'!$E$10<=0.45), TRUE,FALSE),\"\")","v":false},{"$f":"Translate!C138","v":"CLAY LOAM"},"((clay >= 27 && clay < 40) && (sand > 20 && sand <= 45))"]
[null,null,null,{"$f":"IFERROR(IF(AND('2 Soil Texture Calculator'!$E$13>=0.27, '2 Soil Texture Calculator'!$E$13<0.4, '2 Soil Texture Calculator'!$E$10<=0.2), TRUE,FALSE),\"\")","v":true},{"$f":"Translate!C139","v":"SILTY CLAY LOAM"},"((clay >= 27 && clay < 40) && (sand  <= 20))"]
[null,null,null,{"$f":"IFERROR(IF(AND('2 Soil Texture Calculator'!$E$13>=0.35, '2 Soil Texture Calculator'!$E$10>0.45), TRUE,FALSE),\"\")","v":false},{"$f":"Translate!C140","v":"SANDY CLAY"},"(clay >= 35 && sand > 45)"]
[null,null,null,{"$f":"IFERROR(IF(AND('2 Soil Texture Calculator'!$E$13>=0.4, '2 Soil Texture Calculator'!$E$16>=0.4), TRUE,FALSE),\"\")","v":false},{"$f":"Translate!C141","v":"SILTY CLAY"},"(clay >= 40 && silt >= 40)"]
[null,null,null,{"$f":"IFERROR(IF(AND('2 Soil Texture Calculator'!$E$13>=0.4, '2 Soil Texture Calculator'!$E$10<=0.45,'2 Soil Texture Calculator'!$E$16<0.4), TRUE,FALSE),\"\")","v":false},{"$f":"Translate!C142","v":"CLAY"},"(clay >= 40 && sand <= 45 && silt < 40)"]
[]
[null,null,null,"Soil texture chart Identifier"]
[null,null,null,{"$f":"(1.095-('2 Soil Texture Calculator'!$E$10*0.0104*100))-((0.52)*(0.0099*'2 Soil Texture Calculator'!$E$13*100))","v":0.78455999999999992},{"$f":"0.145+(0.0099*'2 Soil Texture Calculator'!$E$13*100)","v":0.44199999999999995}]
[]
[]
[null,"Soil water content"]
[null,"Texture","FC (v%)","PWP (v%)","Max infiltration (mm/h)"]
[null,{"$f":"Translate!C143","v":"Sand"},10,5,40]
[null,{"$f":"Translate!C144","v":"Loamy sand"},12,5,30]
[null,{"$f":"Translate!C145","v":"Sandy loam"},18,8,30]
[null,{"$f":"Translate!C146","v":"Sandy clay loam"},27,17,30]
[null,{"$f":"Translate!C147","v":"Loam"},28,14,30]
[null,{"$f":"Translate!C148","v":"Sandy clay"},36,25,30]
[null,{"$f":"Translate!C149","v":"Silt loam"},31,11,20]
[null,{"$f":"Translate!C150","v":"Silt"},30,6,20]
[null,{"$f":"Translate!C151","v":"Clay loam"},36,22,20]
[null,{"$f":"Translate!C152","v":"Silty clay loam"},38,22,20]
[null,{"$f":"Translate!C153","v":"Silty clay"},41,27,10]
[null,{"$f":"Translate!C154","v":"Clay"},42,30,10]
[]
[]
[null,"Initial water content"]
[null,0]
[null,0.25]
[null,0.5]
[null,0.75]
[null,1]

{"sheet":"Data Validation Sheet","index":11,"n_rows":211,"n_cols":13,"rows_kept":211,"cut":false,"hidden":true,"merged":[[0,8,2,8],[0,0,1,0],[10,0,11,0]]}
["Area Conversion",{"$f":"Translate!$C$163","v":"ha"},1,null,null,null,null,null,"Crop Data Validation",null,"Calendar",{"$f":"COUNTIF($M$2:$M$211,\"?*\")","v":210}]
[null,{"$f":"Translate!$C$164","v":"acre"},2.47105,null,null,null,null,null,null,{"$f":"IF(ISNUMBER(SEARCH('3 Irrigation Schedule'!$B$19,K2)),MAX($J$1:J1)+1,0)","v":1},{"$f":"'Crop Information'!B7","v":"none"},{"$f":"OFFSET($M$2,,,COUNTIF($M$2:$M$211,\"?*\"))","v":"none"},{"$f":"IFERROR(VLOOKUP(ROWS($M$2:M2),$J$2:$K$763,2,FALSE),\"\")","v":"none"}]
[null,{"$f":"Translate!$C$165","v":"Sq. km"},0.01,null,null,null,null,null,null,{"$f":"IF(ISNUMBER(SEARCH('3 Irrigation Schedule'!$B$19,K3)),MAX($J$1:J2)+1,0)","v":2},{"$f":"'Crop Information'!B8","v":"Alfalfa (1st cutting cycle - Jan/Apr - USA)"},null,{"$f":"IFERROR(VLOOKUP(ROWS($M$2:M3),$J$2:$K$763,2,FALSE),\"\")","v":"Alfalfa (1st cutting cycle - Jan/Apr - USA)"}]
[null,{"$f":"Translate!$C$166","v":"Sq. m"},10000,null,null,null,null,null,null,{"$f":"IF(ISNUMBER(SEARCH('3 Irrigation Schedule'!$B$19,K4)),MAX($J$1:J3)+1,0)","v":3},{"$f":"'Crop Information'!B9","v":"Alfalfa (other cutting cycle - Mar/Jun - USA)"},null,{"$f":"IFERROR(VLOOKUP(ROWS($M$2:M4),$J$2:$K$763,2,FALSE),\"\")","v":"Alfalfa (other cutting cycle - Mar/Jun - USA)"}]
[null,{"$f":"Translate!$C$167","v":"Sq. yard"},11959.9,null,null,null,null,null,null,{"$f":"IF(ISNUMBER(SEARCH('3 Irrigation Schedule'!$B$19,K5)),MAX($J$1:J4)+1,0)","v":4},{"$f":"'Crop Information'!B10","v":"Alfalfa (seeds - Mar/Jun - USA)"},null,{"$f":"IFERROR(VLOOKUP(ROWS($M$2:M5),$J$2:$K$763,2,FALSE),\"\")","v":"Alfalfa (seeds - Mar/Jun - USA)"}]
[null,{"$f":"Translate!$C$168","v":"Sq. ft"},107639,null,null,null,null,null,null,{"$f":"IF(ISNUMBER(SEARCH('3 Irrigation Schedule'!$B$19,K6)),MAX($J$1:J5)+1,0)","v":5},{"$f":"'Crop Information'!B11","v":"Almond (no ground cover - Apr - USA)"},null,{"$f":"IFERROR(VLOOKUP(ROWS($M$2:M6),$J$2:$K$763,2,FALSE),\"\")","v":"Almond (no ground cover - Apr - USA)"}]
[null,null,null,null,null,null,null,null,null,{"$f":"IF(ISNUMBER(SEARCH('3 Irrigation Schedule'!$B$19,K7)),MAX($J$1:J6)+1,0)","v":6},{"$f":"'Crop Information'!B12","v":"Artichoke (1st year - Apr - California) "},null,{"$f":"IFERROR(VLOOKUP(ROWS($M$2:M7),$J$2:$K$763,2,FALSE),\"\")","v":"Artichoke (1st year - Apr - California) "}]
[null,null,null,null,null,null,null,null,null,{"$f":"IF(ISNUMBER(SEARCH('3 Irrigation Schedule'!$B$19,K8)),MAX($J$1:J7)+1,0)","v":7},{"$f":"'Crop Information'!B13","v":"Artichoke (2nd year - May - cut in May) "},null,{"$f":"IFERROR(VLOOKUP(ROWS($M$2:M8),$J$2:$K$763,2,FALSE),\"\")","v":"Artichoke (2nd year - May - cut in May) "}]
[null,null,null,null,null,null,null,null,null,{"$f":"IF(ISNUMBER(SEARCH('3 Irrigation Schedule'!$B$19,K9)),MAX($J$1:J8)+1,0)","v":8},{"$f":"'Crop Information'!B14","v":"Asparagus (Feb - warm winter)"},null,{"$f":"IFERROR(VLOOKUP(ROWS($M$2:M9),$J$2:$K$763,2,FALSE),\"\")","v":"Asparagus (Feb - warm winter)"}]
[null,null,null,null,null,null,null,null,null,{"$f":"IF(ISNUMBER(SEARCH('3 Irrigation Schedule'!$B$19,K10)),MAX($J$1:J9)+1,0)","v":9},{"$f":"'Crop Information'!B15","v":"Asparagus (Feb - Mediterranean)"},null,{"$f":"IFERROR(VLOOKUP(ROWS($M$2:M10),$J$2:$K$763,2,FALSE),\"\")","v":"Asparagus (Feb - Mediterranean)"}]
["Validation",{"$f":"'3 Irrigation Schedule'!$B$17","v":"Crop to be irrigated "},{"$f":"'3 Irrigation Schedule'!$E$17","v":"Area"},{"$f":"'3 Irrigation Schedule'!$G$17","v":"Planting Date"},{"$f":"'3 Irrigation Schedule'!$I$17","v":"Irrigation method"},{"$f":"'3 Irrigation Schedule'!$B$25","v":"Soil: "},{"$f":"'3 Irrigation Schedule'!$N$17","v":"Maximum possible irrigation application"},"Available Crop-Soil",null,{"$f":"IF(ISNUMBER(SEARCH('3 Irrigation Schedule'!$B$19,K11)),MAX($J$1:J10)+1,0)","v":10},{"$f":"'Crop Information'!B16","v":"Avocado (Jan - Florida, USA)"},null,{"$f":"IFERROR(VLOOKUP(ROWS($M$2:M11),$J$2:$K$763,2,FALSE),\"\")","v":"Avocado (Jan - Florida, USA)"}]
[null,{"$f":"AND('3 Irrigation Schedule'!$B$19<>\"none\",'3 Irrigation Schedule'!$B$19<>\"\")","v":false},{"$f":"AND('3 Irrigation Schedule'!$E$19<>0,'3 Irrigation Schedule'!$E$19<>\"\")","v":true},{"$f":"IFERROR(AND('3 Irrigation Schedule'!$G$19<>0,'3 Irrigation Schedule'!$G$19<>\"\"),FALSE)","v":true},{"$f":"'3 Irrigation Schedule'!$I$19<>\"\"","v":false},{"$f":"'3 Irrigation Schedule'!$C$25<>\"\"","v":false},{"$f":"'3 Irrigation Schedule'!$P$19<>\"\"","v":true},{"$f":"AND(B12,C12,D12,E12,F12,G12)","v":false},null,{"$f":"IF(ISNUMBER(SEARCH('3 Irrigation Schedule'!$B$19,K12)),MAX($J$1:J11)+1,0)","v":11},{"$f":"'Crop Information'!B17","v":"Banana (1st year - Mar - Mediterranean)"},null,{"$f":"IFERROR(VLOOKUP(ROWS($M$2:M12),$J$2:$K$763,2,FALSE),\"\")","v":"Banana (1st year - Mar - Mediterranean)"}]
[null,null,null,null,null,null,null,null,null,{"$f":"IF(ISNUMBER(SEARCH('3 Irrigation Schedule'!$B$19,K13)),MAX($J$1:J12)+1,0)","v":12},{"$f":"'Crop Information'!B18","v":"Banana (1st year - Mar - subtropical/humid/light to moderate wind)"},null,{"$f":"IFERROR(VLOOKUP(ROWS($M$2:M13),$J$2:$K$763,2,FALSE),\"\")","v":"Banana (1st year - Mar - subtropical/humid/light to moderate wind)"}]
[null,null,null,null,null,null,null,null,null,{"$f":"IF(ISNUMBER(SEARCH('3 Irrigation Schedule'!$B$19,K14)),MAX($J$1:J13)+1,0)","v":13},{"$f":"'Crop Information'!B19","v":"Banana (1st year - Mar - subtropical/tropical)"},null,{"$f":"IFERROR(VLOOKUP(ROWS($M$2:M14),$J$2:$K$763,2,FALSE),\"\")","v":"Banana (1st year - Mar - subtropical/tropical)"}]
[null,null,null,null,null,null,null,null,null,{"$f":"IF(ISNUMBER(SEARCH('3 Irrigation Schedule'!$B$19,K15)),MAX($J$1:J14)+1,0)","v":14},{"$f":"'Crop Information'!B20","v":"Banana (2nd year - Mar - Mediterranean)"},null,{"$f":"IFERROR(VLOOKUP(ROWS($M$2:M15),$J$2:$K$763,2,FALSE),\"\")","v":"Banana (2nd year - Mar - Mediterranean)"}]
[null,null,null,null,null,null,null,null,null,{"$f":"IF(ISNUMBER(SEARCH('3 Irrigation Schedule'!$B$19,K16)),MAX($J$1:J15)+1,0)","v":15},{"$f":"'Crop Information'!B21","v":"Banana (2nd year - Feb - subtropical/tropical)"},null,{"$f":"IFERROR(VLOOKUP(ROWS($M$2:M16),$J$2:$K$763,2,FALSE),\"\")","v":"Banana (2nd year - Feb - subtropical/tropical)"}]
[null,null,null,null,null,null,null,null,null,{"$f":"IF(ISNUMBER(SEARCH('3 Irrigation Schedule'!$B$19,K17)),MAX($J$1:J16)+1,0)","v":16},{"$f":"'Crop Information'!B22","v":"Barley/Oats/Wheat (Nov - central India)"},null,{"$f":"IFERROR(VLOOKUP(ROWS($M$2:M17),$J$2:$K$763,2,FALSE),\"\")","v":"Barley/Oats/Wheat (Nov - central India)"}]
[null,null,null,null,null,null,null,null,null,{"$f":"IF(ISNUMBER(SEARCH('3 Irrigation Schedule'!$B$19,K18)),MAX($J$1:J17)+1,0)","v":17},{"$f":"'Crop Information'!B23","v":"Barley/Oats/Wheat (Mar/Apr - 35/45 °L))"},null,{"$f":"IFERROR(VLOOKUP(ROWS($M$2:M18),$J$2:$K$763,2,FALSE),\"\")","v":"Barley/Oats/Wheat (Mar/Apr - 35/45 °L))"}]
[null,null,null,null,null,null,null,null,null,{"$f":"IF(ISNUMBER(SEARCH('3 Irrigation Schedule'!$B$19,K19)),MAX($J$1:J18)+1,0)","v":18},{"$f":"'Crop Information'!B24","v":"Barley/Oats/Wheat (Jul - East Africa)"},null,{"$f":"IFERROR(VLOOKUP(ROWS($M$2:M19),$J$2:$K$763,2,FALSE),\"\")","v":"Barley/Oats/Wheat (Jul - East Africa)"}]
[null,null,null,null,null,null,null,null,null,{"$f":"IF(ISNUMBER(SEARCH('3 Irrigation Schedule'!$B$19,K20)),MAX($J$1:J19)+1,0)","v":19},{"$f":"'Crop Information'!B25","v":"Barley/Oats/Wheat (Nov)"},null,{"$f":"IFERROR(VLOOKUP(ROWS($M$2:M20),$J$2:$K$763,2,FALSE),\"\")","v":"Barley/Oats/Wheat (Nov)"}]
[null,null,null,null,null,null,null,null,null,{"$f":"IF(ISNUMBER(SEARCH('3 Irrigation Schedule'!$B$19,K21)),MAX($J$1:J20)+1,0)","v":20},{"$f":"'Crop Information'!B26","v":"Barley/Oats/Wheat (Dec - California desert)"},null,{"$f":"IFERROR(VLOOKUP(ROWS($M$2:M21),$J$2:$K$763,2,FALSE),\"\")","v":"Barley/Oats/Wheat (Dec - California desert)"}]
[null,null,null,null,null,null,null,null,null,{"$f":"IF(ISNUMBER(SEARCH('3 Irrigation Schedule'!$B$19,K22)),MAX($J$1:J21)+1,0)","v":21},{"$f":"'Crop Information'!B27","v":"Beans (dry - May/Jun - central climates)"},null,{"$f":"IFERROR(VLOOKUP(ROWS($M$2:M22),$J$2:$K$763,2,FALSE),\"\")","v":"Beans (dry - May/Jun - central climates)"}]
[null,null,null,null,null,null,null,null,null,{"$f":"IF(ISNUMBER(SEARCH('3 Irrigation Schedule'!$B$19,K23)),MAX($J$1:J22)+1,0)","v":22},{"$f":"'Crop Information'!B28","v":"Beans (dry - Jun - Pakistan/California)"},null,{"$f":"IFERROR(VLOOKUP(ROWS($M$2:M23),$J$2:$K$763,2,FALSE),\"\")","v":"Beans (dry - Jun - Pakistan/California)"}]
[null,null,null,null,null,null,null,null,null,{"$f":"IF(ISNUMBER(SEARCH('3 Irrigation Schedule'!$B$19,K24)),MAX($J$1:J23)+1,0)","v":23},{"$f":"'Crop Information'!B29","v":"Beans (dry - Jun - Idaho)"},null,{"$f":"IFERROR(VLOOKUP(ROWS($M$2:M24),$J$2:$K$763,2,FALSE),\"\")","v":"Beans (dry - Jun - Idaho)"}]
[null,null,null,null,null,null,null,null,null,{"$f":"IF(ISNUMBER(SEARCH('3 Irrigation Schedule'!$B$19,K25)),MAX($J$1:J24)+1,0)","v":24},{"$f":"'Crop Information'!B30","v":"Beans (green - Feb/Mar - California/Mediterranean)"},null,{"$f":"IFERROR(VLOOKUP(ROWS($M$2:M25),$J$2:$K$763,2,FALSE),\"\")","v":"Beans (green - Feb/Mar - California/Mediterranean)"}]
[null,null,null,null,null,null,null,null,null,{"$f":"IF(ISNUMBER(SEARCH('3 Irrigation Schedule'!$B$19,K26)),MAX($J$1:J25)+1,0)","v":25},{"$f":"'Crop Information'!B31","v":"Beans (green - Aug/Sep - California/Egypt/Lebanon)"},null,{"$f":"IFERROR(VLOOKUP(ROWS($M$2:M26),$J$2:$K$763,2,FALSE),\"\")","v":"Beans (green - Aug/Sep - California/Egypt/Lebanon)"}]
[null,null,null,null,null,null,null,null,null,{"$f":"IF(ISNUMBER(SEARCH('3 Irrigation Schedule'!$B$19,K27)),MAX($J$1:J26)+1,0)","v":26},{"$f":"'Crop Information'!B32","v":"Beets (table - Apr/May - Mediterranean)"},null,{"$f":"IFERROR(VLOOKUP(ROWS($M$2:M27),$J$2:$K$763,2,FALSE),\"\")","v":"Beets (table - Apr/May - Mediterranean)"}]
[null,null,null,null,null,null,null,null,null,{"$f":"IF(ISNUMBER(SEARCH('3 Irrigation Schedule'!$B$19,K28)),MAX($J$1:J27)+1,0)","v":27},{"$f":"'Crop Information'!B33","v":"Beets (table - Feb/Mar - Mediterranean/Arid)"},null,{"$f":"IFERROR(VLOOKUP(ROWS($M$2:M28),$J$2:$K$763,2,FALSE),\"\")","v":"Beets (table - Feb/Mar - Mediterranean/Arid)"}]
[null,null,null,null,null,null,null,null,null,{"$f":"IF(ISNUMBER(SEARCH('3 Irrigation Schedule'!$B$19,K29)),MAX($J$1:J28)+1,0)","v":28},{"$f":"'Crop Information'!B34","v":"Broccoli  (Sept - California desert)"},null,{"$f":"IFERROR(VLOOKUP(ROWS($M$2:M29),$J$2:$K$763,2,FALSE),\"\")","v":"Broccoli  (Sept - California desert)"}]
[null,null,null,null,null,null,null,null,null,{"$f":"IF(ISNUMBER(SEARCH('3 Irrigation Schedule'!$B$19,K30)),MAX($J$1:J29)+1,0)","v":29},{"$f":"'Crop Information'!B35","v":"Cabbage (Sept - California desert)"},null,{"$f":"IFERROR(VLOOKUP(ROWS($M$2:M30),$J$2:$K$763,2,FALSE),\"\")","v":"Cabbage (Sept - California desert)"}]
[null,null,null,null,null,null,null,null,null,{"$f":"IF(ISNUMBER(SEARCH('3 Irrigation Schedule'!$B$19,K31)),MAX($J$1:J30)+1,0)","v":30},{"$f":"'Crop Information'!B36","v":"Cantaloupe (Jan - California )"},null,{"$f":"IFERROR(VLOOKUP(ROWS($M$2:M31),$J$2:$K$763,2,FALSE),\"\")","v":"Cantaloupe (Jan - California )"}]
[null,null,null,null,null,null,null,null,null,{"$f":"IF(ISNUMBER(SEARCH('3 Irrigation Schedule'!$B$19,K32)),MAX($J$1:J31)+1,0)","v":31},{"$f":"'Crop Information'!B37","v":"Cantaloupe (Aug - California )"},null,{"$f":"IFERROR(VLOOKUP(ROWS($M$2:M32),$J$2:$K$763,2,FALSE),\"\")","v":"Cantaloupe (Aug - California )"}]
[null,null,null,null,null,null,null,null,null,{"$f":"IF(ISNUMBER(SEARCH('3 Irrigation Schedule'!$B$19,K33)),MAX($J$1:J32)+1,0)","v":32},{"$f":"'Crop Information'!B38","v":"Carrots (Oct/Jan - Arid climate )"},null,{"$f":"IFERROR(VLOOKUP(ROWS($M$2:M33),$J$2:$K$763,2,FALSE),\"\")","v":"Carrots (Oct/Jan - Arid climate )"}]
[null,null,null,null,null,null,null,null,null,{"$f":"IF(ISNUMBER(SEARCH('3 Irrigation Schedule'!$B$19,K34)),MAX($J$1:J33)+1,0)","v":33},{"$f":"'Crop Information'!B39","v":"Carrots (Feb/Mar - Mediterranean )"},null,{"$f":"IFERROR(VLOOKUP(ROWS($M$2:M34),$J$2:$K$763,2,FALSE),\"\")","v":"Carrots (Feb/Mar - Mediterranean )"}]
[null,null,null,null,null,null,null,null,null,{"$f":"IF(ISNUMBER(SEARCH('3 Irrigation Schedule'!$B$19,K35)),MAX($J$1:J34)+1,0)","v":34},{"$f":"'Crop Information'!B40","v":"Carrots (Oct -  California desert)"},null,{"$f":"IFERROR(VLOOKUP(ROWS($M$2:M35),$J$2:$K$763,2,FALSE),\"\")","v":"Carrots (Oct -  California desert)"}]
[null,null,null,null,null,null,null,null,null,{"$f":"IF(ISNUMBER(SEARCH('3 Irrigation Schedule'!$B$19,K36)),MAX($J$1:J35)+1,0)","v":35},{"$f":"'Crop Information'!B41","v":"Cassava ( 1st year - rainy season - Tropical regions)"},null,{"$f":"IFERROR(VLOOKUP(ROWS($M$2:M36),$J$2:$K$763,2,FALSE),\"\")","v":"Cassava ( 1st year - rainy season - Tropical regions)"}]
[null,null,null,null,null,null,null,null,null,{"$f":"IF(ISNUMBER(SEARCH('3 Irrigation Schedule'!$B$19,K37)),MAX($J$1:J36)+1,0)","v":36},{"$f":"'Crop Information'!B42","v":"Cassava ( 2nd year - season - Tropical regions)"},null,{"$f":"IFERROR(VLOOKUP(ROWS($M$2:M37),$J$2:$K$763,2,FALSE),\"\")","v":"Cassava ( 2nd year - season - Tropical regions)"}]
[null,null,null,null,null,null,null,null,null,{"$f":"IF(ISNUMBER(SEARCH('3 Irrigation Schedule'!$B$19,K38)),MAX($J$1:J37)+1,0)","v":37},{"$f":"'Crop Information'!B43","v":"Castor beans (Mar - semiarid climates )"},null,{"$f":"IFERROR(VLOOKUP(ROWS($M$2:M38),$J$2:$K$763,2,FALSE),\"\")","v":"Castor beans (Mar - semiarid climates )"}]
[null,null,null,null,null,null,null,null,null,{"$f":"IF(ISNUMBER(SEARCH('3 Irrigation Schedule'!$B$19,K39)),MAX($J$1:J38)+1,0)","v":38},{"$f":"'Crop Information'!B44","v":"Castor beans (Nov - Indonesia )"},null,{"$f":"IFERROR(VLOOKUP(ROWS($M$2:M39),$J$2:$K$763,2,FALSE),\"\")","v":"Castor beans (Nov - Indonesia )"}]
[null,null,null,null,null,null,null,null,null,{"$f":"IF(ISNUMBER(SEARCH('3 Irrigation Schedule'!$B$19,K40)),MAX($J$1:J39)+1,0)","v":39},{"$f":"'Crop Information'!B45","v":"Cauliflower (Sept - California desert)"},null,{"$f":"IFERROR(VLOOKUP(ROWS($M$2:M40),$J$2:$K$763,2,FALSE),\"\")","v":"Cauliflower (Sept - California desert)"}]
[null,null,null,null,null,null,null,null,null,{"$f":"IF(ISNUMBER(SEARCH('3 Irrigation Schedule'!$B$19,K41)),MAX($J$1:J40)+1,0)","v":40},{"$f":"'Crop Information'!B46","v":"Celery (Oct- semiarid)"},null,{"$f":"IFERROR(VLOOKUP(ROWS($M$2:M41),$J$2:$K$763,2,FALSE),\"\")","v":"Celery (Oct- semiarid)"}]
[null,null,null,null,null,null,null,null,null,{"$f":"IF(ISNUMBER(SEARCH('3 Irrigation Schedule'!$B$19,K42)),MAX($J$1:J41)+1,0)","v":41},{"$f":"'Crop Information'!B47","v":"Celery (Apr - Mediterranean)"},null,{"$f":"IFERROR(VLOOKUP(ROWS($M$2:M42),$J$2:$K$763,2,FALSE),\"\")","v":"Celery (Apr - Mediterranean)"}]
[null,null,null,null,null,null,null,null,null,{"$f":"IF(ISNUMBER(SEARCH('3 Irrigation Schedule'!$B$19,K43)),MAX($J$1:J42)+1,0)","v":42},{"$f":"'Crop Information'!B48","v":"Celery (Jan - semiarid)"},null,{"$f":"IFERROR(VLOOKUP(ROWS($M$2:M43),$J$2:$K$763,2,FALSE),\"\")","v":"Celery (Jan - semiarid)"}]
[null,null,null,null,null,null,null,null,null,{"$f":"IF(ISNUMBER(SEARCH('3 Irrigation Schedule'!$B$19,K44)),MAX($J$1:J43)+1,0)","v":43},{"$f":"'Crop Information'!B49","v":"Chilli pepper (Brazil/Tropical)"},null,{"$f":"IFERROR(VLOOKUP(ROWS($M$2:M44),$J$2:$K$763,2,FALSE),\"\")","v":"Chilli pepper (Brazil/Tropical)"}]
[null,null,null,null,null,null,null,null,null,{"$f":"IF(ISNUMBER(SEARCH('3 Irrigation Schedule'!$B$19,K45)),MAX($J$1:J44)+1,0)","v":44},{"$f":"'Crop Information'!B50","v":"Citrus (no ground cover/70% canopy - Jan - Mediterranean)"},null,{"$f":"IFERROR(VLOOKUP(ROWS($M$2:M45),$J$2:$K$763,2,FALSE),\"\")","v":"Citrus (no ground cover/70% canopy - Jan - Mediterranean)"}]
[null,null,null,null,null,null,null,null,null,{"$f":"IF(ISNUMBER(SEARCH('3 Irrigation Schedule'!$B$19,K46)),MAX($J$1:J45)+1,0)","v":45},{"$f":"'Crop Information'!B51","v":"Citrus (no ground cover/50% canopy - Jan - Mediterranean)"},null,{"$f":"IFERROR(VLOOKUP(ROWS($M$2:M46),$J$2:$K$763,2,FALSE),\"\")","v":"Citrus (no ground cover/50% canopy - Jan - Mediterranean)"}]
[null,null,null,null,null,null,null,null,null,{"$f":"IF(ISNUMBER(SEARCH('3 Irrigation Schedule'!$B$19,K47)),MAX($J$1:J46)+1,0)","v":46},{"$f":"'Crop Information'!B52","v":"Citrus (no ground cover/20% canopy - Jan - Mediterranean)"},null,{"$f":"IFERROR(VLOOKUP(ROWS($M$2:M47),$J$2:$K$763,2,FALSE),\"\")","v":"Citrus (no ground cover/20% canopy - Jan - Mediterranean)"}]
[null,null,null,null,null,null,null,null,null,{"$f":"IF(ISNUMBER(SEARCH('3 Irrigation Schedule'!$B$19,K48)),MAX($J$1:J47)+1,0)","v":47},{"$f":"'Crop Information'!B53","v":"Citrus (with active ground cover or weeds/70% canopy - Jan - Mediterranean)"},null,{"$f":"IFERROR(VLOOKUP(ROWS($M$2:M48),$J$2:$K$763,2,FALSE),\"\")","v":"Citrus (with active ground cover or weeds/70% canopy - Jan - Mediterranean)"}]
[null,null,null,null,null,null,null,null,null,{"$f":"IF(ISNUMBER(SEARCH('3 Irrigation Schedule'!$B$19,K49)),MAX($J$1:J48)+1,0)","v":48},{"$f":"'Crop Information'!B54","v":"Citrus (with active ground cover or weeds/50% canopy - Jan - Mediterranean)"},null,{"$f":"IFERROR(VLOOKUP(ROWS($M$2:M49),$J$2:$K$763,2,FALSE),\"\")","v":"Citrus (with active ground cover or weeds/50% canopy - Jan - Mediterranean)"}]
[null,null,null,null,null,null,null,null,null,{"$f":"IF(ISNUMBER(SEARCH('3 Irrigation Schedule'!$B$19,K50)),MAX($J$1:J49)+1,0)","v":49},{"$f":"'Crop Information'!B55","v":"Citrus (with active ground cover or weeds/20% canopy - Jan - Mediterranean)"},null,{"$f":"IFERROR(VLOOKUP(ROWS($M$2:M50),$J$2:$K$763,2,FALSE),\"\")","v":"Citrus (with active ground cover or weeds/20% canopy - Jan - Mediterranean)"}]
[null,null,null,null,null,null,null,null,null,{"$f":"IF(ISNUMBER(SEARCH('3 Irrigation Schedule'!$B$19,K51)),MAX($J$1:J50)+1,0)","v":50},{"$f":"'Crop Information'!B56","v":"Cotton (Mar/May - Egypt/Pakistan/California)"},null,{"$f":"IFERROR(VLOOKUP(ROWS($M$2:M51),$J$2:$K$763,2,FALSE),\"\")","v":"Cotton (Mar/May - Egypt/Pakistan/California)"}]
[null,null,null,null,null,null,null,null,null,{"$f":"IF(ISNUMBER(SEARCH('3 Irrigation Schedule'!$B$19,K52)),MAX($J$1:J51)+1,0)","v":51},{"$f":"'Crop Information'!B57","v":"Cotton (Mar - California desert)"},null,{"$f":"IFERROR(VLOOKUP(ROWS($M$2:M52),$J$2:$K$763,2,FALSE),\"\")","v":"Cotton (Mar - California desert)"}]
[null,null,null,null,null,null,null,null,null,{"$f":"IF(ISNUMBER(SEARCH('3 Irrigation Schedule'!$B$19,K53)),MAX($J$1:J52)+1,0)","v":52},{"$f":"'Crop Information'!B58","v":"Cotton (Sept - Yemen )"},null,{"$f":"IFERROR(VLOOKUP(ROWS($M$2:M53),$J$2:$K$763,2,FALSE),\"\")","v":"Cotton (Sept - Yemen )"}]
[null,null,null,null,null,null,null,null,null,{"$f":"IF(ISNUMBER(SEARCH('3 Irrigation Schedule'!$B$19,K54)),MAX($J$1:J53)+1,0)","v":53},{"$f":"'Crop Information'!B59","v":"Cotton (Apr - Texas )"},null,{"$f":"IFERROR(VLOOKUP(ROWS($M$2:M54),$J$2:$K$763,2,FALSE),\"\")","v":"Cotton (Apr - Texas )"}]
[null,null,null,null,null,null,null,null,null,{"$f":"IF(ISNUMBER(SEARCH('3 Irrigation Schedule'!$B$19,K55)),MAX($J$1:J54)+1,0)","v":54},{"$f":"'Crop Information'!B60","v":"Cucumber (Jun/Aug - arid region )"},null,{"$f":"IFERROR(VLOOKUP(ROWS($M$2:M55),$J$2:$K$763,2,FALSE),\"\")","v":"Cucumber (Jun/Aug - arid region )"}]
[null,null,null,null,null,null,null,null,null,{"$f":"IF(ISNUMBER(SEARCH('3 Irrigation Schedule'!$B$19,K56)),MAX($J$1:J55)+1,0)","v":55},{"$f":"'Crop Information'!B61","v":"Cucumber (Nov/Feb - arid region )"},null,{"$f":"IFERROR(VLOOKUP(ROWS($M$2:M56),$J$2:$K$763,2,FALSE),\"\")","v":"Cucumber (Nov/Feb - arid region )"}]
[null,null,null,null,null,null,null,null,null,{"$f":"IF(ISNUMBER(SEARCH('3 Irrigation Schedule'!$B$19,K57)),MAX($J$1:J56)+1,0)","v":56},{"$f":"'Crop Information'!B62","v":"Deciduous Orchard (no ground cover/killing frost - Mar - high latitudes)"},null,{"$f":"IFERROR(VLOOKUP(ROWS($M$2:M57),$J$2:$K$763,2,FALSE),\"\")","v":"Deciduous Orchard (no ground cover/killing frost - Mar - high latitudes)"}]
[null,null,null,null,null,null,null,null,null,{"$f":"IF(ISNUMBER(SEARCH('3 Irrigation Schedule'!$B$19,K58)),MAX($J$1:J57)+1,0)","v":57},{"$f":"'Crop Information'!B63","v":"Deciduous Orchard (no ground cover/no frosts - Mar - high latitudes)"},null,{"$f":"IFERROR(VLOOKUP(ROWS($M$2:M58),$J$2:$K$763,2,FALSE),\"\")","v":"Deciduous Orchard (no ground cover/no frosts - Mar - high latitudes)"}]
[null,null,null,null,null,null,null,null,null,{"$f":"IF(ISNUMBER(SEARCH('3 Irrigation Schedule'!$B$19,K59)),MAX($J$1:J58)+1,0)","v":58},{"$f":"'Crop Information'!B64","v":"Deciduous Orchard (active ground cover/killing frost - Mar - high latitudes)"},null,{"$f":"IFERROR(VLOOKUP(ROWS($M$2:M59),$J$2:$K$763,2,FALSE),\"\")","v":"Deciduous Orchard (active ground cover/killing frost - Mar - high latitudes)"}]
[null,null,null,null,null,null,null,null,null,{"$f":"IF(ISNUMBER(SEARCH('3 Irrigation Schedule'!$B$19,K60)),MAX($J$1:J59)+1,0)","v":59},{"$f":"'Crop Information'!B65","v":"Deciduous Orchard (active ground cover/no frosts - Mar - high latitudes)"},null,{"$f":"IFERROR(VLOOKUP(ROWS($M$2:M60),$J$2:$K$763,2,FALSE),\"\")","v":"Deciduous Orchard (active ground cover/no frosts - Mar - high latitudes)"}]
[null,null,null,null,null,null,null,null,null,{"$f":"IF(ISNUMBER(SEARCH('3 Irrigation Schedule'!$B$19,K61)),MAX($J$1:J60)+1,0)","v":60},{"$f":"'Crop Information'!B66","v":"Deciduous Orchard (no ground cover/killing frost - Mar - low latitudes)"},null,{"$f":"IFERROR(VLOOKUP(ROWS($M$2:M61),$J$2:$K$763,2,FALSE),\"\")","v":"Deciduous Orchard (no ground cover/killing frost - Mar - low latitudes)"}]
[null,null,null,null,null,null,null,null,null,{"$f":"IF(ISNUMBER(SEARCH('3 Irrigation Schedule'!$B$19,K62)),MAX($J$1:J61)+1,0)","v":61},{"$f":"'Crop Information'!B67","v":"Deciduous Orchard (no ground cover/no frosts - Mar - low latitudes)"},null,{"$f":"IFERROR(VLOOKUP(ROWS($M$2:M62),$J$2:$K$763,2,FALSE),\"\")","v":"Deciduous Orchard (no ground cover/no frosts - Mar - low latitudes)"}]
[null,null,null,null,null,null,null,null,null,{"$f":"IF(ISNUMBER(SEARCH('3 Irrigation Schedule'!$B$19,K63)),MAX($J$1:J62)+1,0)","v":62},{"$f":"'Crop Information'!B68","v":"Deciduous Orchard (active ground cover/killing frost - Mar - low latitudes)"},null,{"$f":"IFERROR(VLOOKUP(ROWS($M$2:M63),$J$2:$K$763,2,FALSE),\"\")","v":"Deciduous Orchard (active ground cover/killing frost - Mar - low latitudes)"}]
[null,null,null,null,null,null,null,null,null,{"$f":"IF(ISNUMBER(SEARCH('3 Irrigation Schedule'!$B$19,K64)),MAX($J$1:J63)+1,0)","v":63},{"$f":"'Crop Information'!B69","v":"Deciduous Orchard (active ground cover/no frosts - Mar - low latitudes)"},null,{"$f":"IFERROR(VLOOKUP(ROWS($M$2:M64),$J$2:$K$763,2,FALSE),\"\")","v":"Deciduous Orchard (active ground cover/no frosts - Mar - low latitudes)"}]
[null,null,null,null,null,null,null,null,null,{"$f":"IF(ISNUMBER(SEARCH('3 Irrigation Schedule'!$B$19,K65)),MAX($J$1:J64)+1,0)","v":64},{"$f":"'Crop Information'!B70","v":"Deciduous Orchard (no ground cover/killing frost - Mar - California)"},null,{"$f":"IFERROR(VLOOKUP(ROWS($M$2:M65),$J$2:$K$763,2,FALSE),\"\")","v":"Deciduous Orchard (no ground cover/killing frost - Mar - California)"}]
[null,null,null,null,null,null,null,null,null,{"$f":"IF(ISNUMBER(SEARCH('3 Irrigation Schedule'!$B$19,K66)),MAX($J$1:J65)+1,0)","v":65},{"$f":"'Crop Information'!B71","v":"Deciduous Orchard (no ground cover/no frosts - Mar - California)"},null,{"$f":"IFERROR(VLOOKUP(ROWS($M$2:M66),$J$2:$K$763,2,FALSE),\"\")","v":"Deciduous Orchard (no ground cover/no frosts - Mar - California)"}]
[null,null,null,null,null,null,null,null,null,{"$f":"IF(ISNUMBER(SEARCH('3 Irrigation Schedule'!$B$19,K67)),MAX($J$1:J66)+1,0)","v":66},{"$f":"'Crop Information'!B72","v":"Deciduous Orchard (active ground cover/killing frost - California)"},null,{"$f":"IFERROR(VLOOKUP(ROWS($M$2:M67),$J$2:$K$763,2,FALSE),\"\")","v":"Deciduous Orchard (active ground cover/killing frost - California)"}]
[null,null,null,null,null,null,null,null,null,{"$f":"IF(ISNUMBER(SEARCH('3 Irrigation Schedule'!$B$19,K68)),MAX($J$1:J67)+1,0)","v":67},{"$f":"'Crop Information'!B73","v":"Deciduous Orchard (active ground cover/no frosts - Mar - California)"},null,{"$f":"IFERROR(VLOOKUP(ROWS($M$2:M68),$J$2:$K$763,2,FALSE),\"\")","v":"Deciduous Orchard (active ground cover/no frosts - Mar - California)"}]
[null,null,null,null,null,null,null,null,null,{"$f":"IF(ISNUMBER(SEARCH('3 Irrigation Schedule'!$B$19,K69)),MAX($J$1:J68)+1,0)","v":68},{"$f":"'Crop Information'!B74","v":"Eggplant (Oct - arid region)"},null,{"$f":"IFERROR(VLOOKUP(ROWS($M$2:M69),$J$2:$K$763,2,FALSE),\"\")","v":"Eggplant (Oct - arid region)"}]
[null,null,null,null,null,null,null,null,null,{"$f":"IF(ISNUMBER(SEARCH('3 Irrigation Schedule'!$B$19,K70)),MAX($J$1:J69)+1,0)","v":69},{"$f":"'Crop Information'!B75","v":"Eggplant (May/Jun - Mediterranean)"},null,{"$f":"IFERROR(VLOOKUP(ROWS($M$2:M70),$J$2:$K$763,2,FALSE),\"\")","v":"Eggplant (May/Jun - Mediterranean)"}]
[null,null,null,null,null,null,null,null,null,{"$f":"IF(ISNUMBER(SEARCH('3 Irrigation Schedule'!$B$19,K71)),MAX($J$1:J70)+1,0)","v":70},{"$f":"'Crop Information'!B76","v":"Faba bean, broad bean (May - Europe)"},null,{"$f":"IFERROR(VLOOKUP(ROWS($M$2:M71),$J$2:$K$763,2,FALSE),\"\")","v":"Faba bean, broad bean (May - Europe)"}]
[null,null,null,null,null,null,null,null,null,{"$f":"IF(ISNUMBER(SEARCH('3 Irrigation Schedule'!$B$19,K72)),MAX($J$1:J71)+1,0)","v":71},{"$f":"'Crop Information'!B77","v":"Faba bean, broad bean (Mar/Apr - Mediterranean)"},null,{"$f":"IFERROR(VLOOKUP(ROWS($M$2:M72),$J$2:$K$763,2,FALSE),\"\")","v":"Faba bean, broad bean (Mar/Apr - Mediterranean)"}]
[null,null,null,null,null,null,null,null,null,{"$f":"IF(ISNUMBER(SEARCH('3 Irrigation Schedule'!$B$19,K73)),MAX($J$1:J72)+1,0)","v":72},{"$f":"'Crop Information'!B78","v":"Faba bean, broad bean (dry - Nov - Europe)"},null,{"$f":"IFERROR(VLOOKUP(ROWS($M$2:M73),$J$2:$K$763,2,FALSE),\"\")","v":"Faba bean, broad bean (dry - Nov - Europe)"}]
[null,null,null,null,null,null,null,null,null,{"$f":"IF(ISNUMBER(SEARCH('3 Irrigation Schedule'!$B$19,K74)),MAX($J$1:J73)+1,0)","v":73},{"$f":"'Crop Information'!B79","v":"Faba bean, broad bean (green - Nov - Europe)"},null,{"$f":"IFERROR(VLOOKUP(ROWS($M$2:M74),$J$2:$K$763,2,FALSE),\"\")","v":"Faba bean, broad bean (green - Nov - Europe)"}]
[null,null,null,null,null,null,null,null,null,{"$f":"IF(ISNUMBER(SEARCH('3 Irrigation Schedule'!$B$19,K75)),MAX($J$1:J74)+1,0)","v":74},{"$f":"'Crop Information'!B80","v":"Flax (Apr - Europe)"},null,{"$f":"IFERROR(VLOOKUP(ROWS($M$2:M75),$J$2:$K$763,2,FALSE),\"\")","v":"Flax (Apr - Europe)"}]
[null,null,null,null,null,null,null,null,null,{"$f":"IF(ISNUMBER(SEARCH('3 Irrigation Schedule'!$B$19,K76)),MAX($J$1:J75)+1,0)","v":75},{"$f":"'Crop Information'!B81","v":"Flax (Oct - Arizona)"},null,{"$f":"IFERROR(VLOOKUP(ROWS($M$2:M76),$J$2:$K$763,2,FALSE),\"\")","v":"Flax (Oct - Arizona)"}]
[null,null,null,null,null,null,null,null,null,{"$f":"IF(ISNUMBER(SEARCH('3 Irrigation Schedule'!$B$19,K77)),MAX($J$1:J76)+1,0)","v":76},{"$f":"'Crop Information'!B82","v":"Grapes (Apr - low latitudes)"},null,{"$f":"IFERROR(VLOOKUP(ROWS($M$2:M77),$J$2:$K$763,2,FALSE),\"\")","v":"Grapes (Apr - low latitudes)"}]
[null,null,null,null,null,null,null,null,null,{"$f":"IF(ISNUMBER(SEARCH('3 Irrigation Schedule'!$B$19,K78)),MAX($J$1:J77)+1,0)","v":77},{"$f":"'Crop Information'!B83","v":"Grapes (Mar - California)"},null,{"$f":"IFERROR(VLOOKUP(ROWS($M$2:M78),$J$2:$K$763,2,FALSE),\"\")","v":"Grapes (Mar - California)"}]
[null,null,null,null,null,null,null,null,null,{"$f":"IF(ISNUMBER(SEARCH('3 Irrigation Schedule'!$B$19,K79)),MAX($J$1:J78)+1,0)","v":78},{"$f":"'Crop Information'!B84","v":"Grapes (May - high latitudes )"},null,{"$f":"IFERROR(VLOOKUP(ROWS($M$2:M79),$J$2:$K$763,2,FALSE),\"\")","v":"Grapes (May - high latitudes )"}]
[null,null,null,null,null,null,null,null,null,{"$f":"IF(ISNUMBER(SEARCH('3 Irrigation Schedule'!$B$19,K80)),MAX($J$1:J79)+1,0)","v":79},{"$f":"'Crop Information'!B85","v":"Grapes (wine - Apr - mid latitudes)"},null,{"$f":"IFERROR(VLOOKUP(ROWS($M$2:M80),$J$2:$K$763,2,FALSE),\"\")","v":"Grapes (wine - Apr - mid latitudes)"}]
[null,null,null,null,null,null,null,null,null,{"$f":"IF(ISNUMBER(SEARCH('3 Irrigation Schedule'!$B$19,K81)),MAX($J$1:J80)+1,0)","v":80},{"$f":"'Crop Information'!B86","v":"Green gram, cowpeas (harvest fresh - Mar -Mediterranean)"},null,{"$f":"IFERROR(VLOOKUP(ROWS($M$2:M81),$J$2:$K$763,2,FALSE),\"\")","v":"Green gram, cowpeas (harvest fresh - Mar -Mediterranean)"}]
[null,null,null,null,null,null,null,null,null,{"$f":"IF(ISNUMBER(SEARCH('3 Irrigation Schedule'!$B$19,K82)),MAX($J$1:J81)+1,0)","v":81},{"$f":"'Crop Information'!B87","v":"Green gram, cowpeas (harvest dry - Mar -Mediterranean)"},null,{"$f":"IFERROR(VLOOKUP(ROWS($M$2:M82),$J$2:$K$763,2,FALSE),\"\")","v":"Green gram, cowpeas (harvest dry - Mar -Mediterranean)"}]
[null,null,null,null,null,null,null,null,null,{"$f":"IF(ISNUMBER(SEARCH('3 Irrigation Schedule'!$B$19,K83)),MAX($J$1:J82)+1,0)","v":82},{"$f":"'Crop Information'!B88","v":"Groundnut (Dry - West Africa )"},null,{"$f":"IFERROR(VLOOKUP(ROWS($M$2:M83),$J$2:$K$763,2,FALSE),\"\")","v":"Groundnut (Dry - West Africa )"}]
[null,null,null,null,null,null,null,null,null,{"$f":"IF(ISNUMBER(SEARCH('3 Irrigation Schedule'!$B$19,K84)),MAX($J$1:J83)+1,0)","v":83},{"$f":"'Crop Information'!B89","v":"Groundnut (season - high latitudes)"},null,{"$f":"IFERROR(VLOOKUP(ROWS($M$2:M84),$J$2:$K$763,2,FALSE),\"\")","v":"Groundnut (season - high latitudes)"}]
[null,null,null,null,null,null,null,null,null,{"$f":"IF(ISNUMBER(SEARCH('3 Irrigation Schedule'!$B$19,K85)),MAX($J$1:J84)+1,0)","v":84},{"$f":"'Crop Information'!B90","v":"Groundnut (May/Jun - Mediterranean)"},null,{"$f":"IFERROR(VLOOKUP(ROWS($M$2:M85),$J$2:$K$763,2,FALSE),\"\")","v":"Groundnut (May/Jun - Mediterranean)"}]
[null,null,null,null,null,null,null,null,null,{"$f":"IF(ISNUMBER(SEARCH('3 Irrigation Schedule'!$B$19,K86)),MAX($J$1:J85)+1,0)","v":85},{"$f":"'Crop Information'!B91","v":"Hops (Apr - Idaho)"},null,{"$f":"IFERROR(VLOOKUP(ROWS($M$2:M86),$J$2:$K$763,2,FALSE),\"\")","v":"Hops (Apr - Idaho)"}]
[null,null,null,null,null,null,null,null,null,{"$f":"IF(ISNUMBER(SEARCH('3 Irrigation Schedule'!$B$19,K87)),MAX($J$1:J86)+1,0)","v":86},{"$f":"'Crop Information'!B92","v":"Kale, Rape "},null,{"$f":"IFERROR(VLOOKUP(ROWS($M$2:M87),$J$2:$K$763,2,FALSE),\"\")","v":"Kale, Rape "}]
[null,null,null,null,null,null,null,null,null,{"$f":"IF(ISNUMBER(SEARCH('3 Irrigation Schedule'!$B$19,K88)),MAX($J$1:J87)+1,0)","v":87},{"$f":"'Crop Information'!B93","v":"Lentil (Apr - Europe)"},null,{"$f":"IFERROR(VLOOKUP(ROWS($M$2:M88),$J$2:$K$763,2,FALSE),\"\")","v":"Lentil (Apr - Europe)"}]
[null,null,null,null,null,null,null,null,null,{"$f":"IF(ISNUMBER(SEARCH('3 Irrigation Schedule'!$B$19,K89)),MAX($J$1:J88)+1,0)","v":88},{"$f":"'Crop Information'!B94","v":"Lentil (Oct/Nov -arid region)"},null,{"$f":"IFERROR(VLOOKUP(ROWS($M$2:M89),$J$2:$K$763,2,FALSE),\"\")","v":"Lentil (Oct/Nov -arid region)"}]
[null,null,null,null,null,null,null,null,null,{"$f":"IF(ISNUMBER(SEARCH('3 Irrigation Schedule'!$B$19,K90)),MAX($J$1:J89)+1,0)","v":89},{"$f":"'Crop Information'!B95","v":"Lettuce (Apr - Mediterranean)"},null,{"$f":"IFERROR(VLOOKUP(ROWS($M$2:M90),$J$2:$K$763,2,FALSE),\"\")","v":"Lettuce (Apr - Mediterranean)"}]
[null,null,null,null,null,null,null,null,null,{"$f":"IF(ISNUMBER(SEARCH('3 Irrigation Schedule'!$B$19,K91)),MAX($J$1:J90)+1,0)","v":90},{"$f":"'Crop Information'!B96","v":"Lettuce (Nov/Jan - Mediterranean)"},null,{"$f":"IFERROR(VLOOKUP(ROWS($M$2:M91),$J$2:$K$763,2,FALSE),\"\")","v":"Lettuce (Nov/Jan - Mediterranean)"}]
[null,null,null,null,null,null,null,null,null,{"$f":"IF(ISNUMBER(SEARCH('3 Irrigation Schedule'!$B$19,K92)),MAX($J$1:J91)+1,0)","v":91},{"$f":"'Crop Information'!B97","v":"Lettuce (Oct/Nov - arid region)"},null,{"$f":"IFERROR(VLOOKUP(ROWS($M$2:M92),$J$2:$K$763,2,FALSE),\"\")","v":"Lettuce (Oct/Nov - arid region)"}]
[null,null,null,null,null,null,null,null,null,{"$f":"IF(ISNUMBER(SEARCH('3 Irrigation Schedule'!$B$19,K93)),MAX($J$1:J92)+1,0)","v":92},{"$f":"'Crop Information'!B98","v":"Lettuce (Feb - Mediterranean)"},null,{"$f":"IFERROR(VLOOKUP(ROWS($M$2:M93),$J$2:$K$763,2,FALSE),\"\")","v":"Lettuce (Feb - Mediterranean)"}]
[null,null,null,null,null,null,null,null,null,{"$f":"IF(ISNUMBER(SEARCH('3 Irrigation Schedule'!$B$19,K94)),MAX($J$1:J93)+1,0)","v":93},{"$f":"'Crop Information'!B99","v":"Maize (grain - Apr - East Africa (alt.))"},null,{"$f":"IFERROR(VLOOKUP(ROWS($M$2:M94),$J$2:$K$763,2,FALSE),\"\")","v":"Maize (grain - Apr - East Africa (alt.))"}]
[null,null,null,null,null,null,null,null,null,{"$f":"IF(ISNUMBER(SEARCH('3 Irrigation Schedule'!$B$19,K95)),MAX($J$1:J94)+1,0)","v":94},{"$f":"'Crop Information'!B100","v":"Maize (grain - Dec/Jan - arid climate)"},null,{"$f":"IFERROR(VLOOKUP(ROWS($M$2:M95),$J$2:$K$763,2,FALSE),\"\")","v":"Maize (grain - Dec/Jan - arid climate)"}]
[null,null,null,null,null,null,null,null,null,{"$f":"IF(ISNUMBER(SEARCH('3 Irrigation Schedule'!$B$19,K96)),MAX($J$1:J95)+1,0)","v":95},{"$f":"'Crop Information'!B101","v":"Maize (grain - Jun - Nigeria (humid))"},null,{"$f":"IFERROR(VLOOKUP(ROWS($M$2:M96),$J$2:$K$763,2,FALSE),\"\")","v":"Maize (grain - Jun - Nigeria (humid))"}]
[null,null,null,null,null,null,null,null,null,{"$f":"IF(ISNUMBER(SEARCH('3 Irrigation Schedule'!$B$19,K97)),MAX($J$1:J96)+1,0)","v":96},{"$f":"'Crop Information'!B102","v":"Maize (grain - Oct - India (dry, cool))"},null,{"$f":"IFERROR(VLOOKUP(ROWS($M$2:M97),$J$2:$K$763,2,FALSE),\"\")","v":"Maize (grain - Oct - India (dry, cool))"}]
[null,null,null,null,null,null,null,null,null,{"$f":"IF(ISNUMBER(SEARCH('3 Irrigation Schedule'!$B$19,K98)),MAX($J$1:J97)+1,0)","v":97},{"$f":"'Crop Information'!B103","v":"Maize (grain - Apr - Spain (spring, summer)/California)"},null,{"$f":"IFERROR(VLOOKUP(ROWS($M$2:M98),$J$2:$K$763,2,FALSE),\"\")","v":"Maize (grain - Apr - Spain (spring, summer)/California)"}]
[null,null,null,null,null,null,null,null,null,{"$f":"IF(ISNUMBER(SEARCH('3 Irrigation Schedule'!$B$19,K99)),MAX($J$1:J98)+1,0)","v":98},{"$f":"'Crop Information'!B104","v":"Maize (grain - Apr - Idaho)"},null,{"$f":"IFERROR(VLOOKUP(ROWS($M$2:M99),$J$2:$K$763,2,FALSE),\"\")","v":"Maize (grain - Apr - Idaho)"}]
[null,null,null,null,null,null,null,null,null,{"$f":"IF(ISNUMBER(SEARCH('3 Irrigation Schedule'!$B$19,K100)),MAX($J$1:J99)+1,0)","v":99},{"$f":"'Crop Information'!B105","v":"Maize (sweet - Mar - Philippines)"},null,{"$f":"IFERROR(VLOOKUP(ROWS($M$2:M100),$J$2:$K$763,2,FALSE),\"\")","v":"Maize (sweet - Mar - Philippines)"}]
[null,null,null,null,null,null,null,null,null,{"$f":"IF(ISNUMBER(SEARCH('3 Irrigation Schedule'!$B$19,K101)),MAX($J$1:J100)+1,0)","v":100},{"$f":"'Crop Information'!B106","v":"Maize (sweet - May/Jun - Mediterranean)"},null,{"$f":"IFERROR(VLOOKUP(ROWS($M$2:M101),$J$2:$K$763,2,FALSE),\"\")","v":"Maize (sweet - May/Jun - Mediterranean)"}]
[null,null,null,null,null,null,null,null,null,{"$f":"IF(ISNUMBER(SEARCH('3 Irrigation Schedule'!$B$19,K102)),MAX($J$1:J101)+1,0)","v":101},{"$f":"'Crop Information'!B107","v":"Maize (sweet - Oct/Dec - arid climate)"},null,{"$f":"IFERROR(VLOOKUP(ROWS($M$2:M102),$J$2:$K$763,2,FALSE),\"\")","v":"Maize (sweet - Oct/Dec - arid climate)"}]
[null,null,null,null,null,null,null,null,null,{"$f":"IF(ISNUMBER(SEARCH('3 Irrigation Schedule'!$B$19,K103)),MAX($J$1:J102)+1,0)","v":102},{"$f":"'Crop Information'!B108","v":"Maize (sweet - Apr - Idaho)"},null,{"$f":"IFERROR(VLOOKUP(ROWS($M$2:M103),$J$2:$K$763,2,FALSE),\"\")","v":"Maize (sweet - Apr - Idaho)"}]
[null,null,null,null,null,null,null,null,null,{"$f":"IF(ISNUMBER(SEARCH('3 Irrigation Schedule'!$B$19,K104)),MAX($J$1:J103)+1,0)","v":103},{"$f":"'Crop Information'!B109","v":"Maize (sweet - Jan - California desert)"},null,{"$f":"IFERROR(VLOOKUP(ROWS($M$2:M104),$J$2:$K$763,2,FALSE),\"\")","v":"Maize (sweet - Jan - California desert)"}]
[null,null,null,null,null,null,null,null,null,{"$f":"IF(ISNUMBER(SEARCH('3 Irrigation Schedule'!$B$19,K105)),MAX($J$1:J104)+1,0)","v":104},{"$f":"'Crop Information'!B110","v":"Mango (Jun)"},null,{"$f":"IFERROR(VLOOKUP(ROWS($M$2:M105),$J$2:$K$763,2,FALSE),\"\")","v":"Mango (Jun)"}]
[null,null,null,null,null,null,null,null,null,{"$f":"IF(ISNUMBER(SEARCH('3 Irrigation Schedule'!$B$19,K106)),MAX($J$1:J105)+1,0)","v":105},{"$f":"'Crop Information'!B111","v":"Millet (Jun - Pakistan)"},null,{"$f":"IFERROR(VLOOKUP(ROWS($M$2:M106),$J$2:$K$763,2,FALSE),\"\")","v":"Millet (Jun - Pakistan)"}]
[null,null,null,null,null,null,null,null,null,{"$f":"IF(ISNUMBER(SEARCH('3 Irrigation Schedule'!$B$19,K107)),MAX($J$1:J106)+1,0)","v":106},{"$f":"'Crop Information'!B112","v":"Millet (Apr - Central USA)"},null,{"$f":"IFERROR(VLOOKUP(ROWS($M$2:M107),$J$2:$K$763,2,FALSE),\"\")","v":"Millet (Apr - Central USA)"}]
[null,null,null,null,null,null,null,null,null,{"$f":"IF(ISNUMBER(SEARCH('3 Irrigation Schedule'!$B$19,K108)),MAX($J$1:J107)+1,0)","v":107},{"$f":"'Crop Information'!B113","v":"Okra (sub humid)"},null,{"$f":"IFERROR(VLOOKUP(ROWS($M$2:M108),$J$2:$K$763,2,FALSE),\"\")","v":"Okra (sub humid)"}]
[null,null,null,null,null,null,null,null,null,{"$f":"IF(ISNUMBER(SEARCH('3 Irrigation Schedule'!$B$19,K109)),MAX($J$1:J108)+1,0)","v":108},{"$f":"'Crop Information'!B114","v":"Olives (Mar - Mediterranean)"},null,{"$f":"IFERROR(VLOOKUP(ROWS($M$2:M109),$J$2:$K$763,2,FALSE),\"\")","v":"Olives (Mar - Mediterranean)"}]
[null,null,null,null,null,null,null,null,null,{"$f":"IF(ISNUMBER(SEARCH('3 Irrigation Schedule'!$B$19,K110)),MAX($J$1:J109)+1,0)","v":109},{"$f":"'Crop Information'!B115","v":"Onion (dry - Apr - Mediterranean)"},null,{"$f":"IFERROR(VLOOKUP(ROWS($M$2:M110),$J$2:$K$763,2,FALSE),\"\")","v":"Onion (dry - Apr - Mediterranean)"}]
[null,null,null,null,null,null,null,null,null,{"$f":"IF(ISNUMBER(SEARCH('3 Irrigation Schedule'!$B$19,K111)),MAX($J$1:J110)+1,0)","v":110},{"$f":"'Crop Information'!B116","v":"Onion (dry - Oct/Jan - arid region/California)"},null,{"$f":"IFERROR(VLOOKUP(ROWS($M$2:M111),$J$2:$K$763,2,FALSE),\"\")","v":"Onion (dry - Oct/Jan - arid region/California)"}]
[null,null,null,null,null,null,null,null,null,{"$f":"IF(ISNUMBER(SEARCH('3 Irrigation Schedule'!$B$19,K112)),MAX($J$1:J111)+1,0)","v":111},{"$f":"'Crop Information'!B117","v":"Onion (green - Apr/May - Mediterranean)"},null,{"$f":"IFERROR(VLOOKUP(ROWS($M$2:M112),$J$2:$K$763,2,FALSE),\"\")","v":"Onion (green - Apr/May - Mediterranean)"}]
[null,null,null,null,null,null,null,null,null,{"$f":"IF(ISNUMBER(SEARCH('3 Irrigation Schedule'!$B$19,K113)),MAX($J$1:J112)+1,0)","v":112},{"$f":"'Crop Information'!B118","v":"Onion (green - Oct - arid region)"},null,{"$f":"IFERROR(VLOOKUP(ROWS($M$2:M113),$J$2:$K$763,2,FALSE),\"\")","v":"Onion (green - Oct - arid region)"}]
[null,null,null,null,null,null,null,null,null,{"$f":"IF(ISNUMBER(SEARCH('3 Irrigation Schedule'!$B$19,K114)),MAX($J$1:J113)+1,0)","v":113},{"$f":"'Crop Information'!B119","v":"Onion (green - Mar - California)"},null,{"$f":"IFERROR(VLOOKUP(ROWS($M$2:M114),$J$2:$K$763,2,FALSE),\"\")","v":"Onion (green - Mar - California)"}]
[null,null,null,null,null,null,null,null,null,{"$f":"IF(ISNUMBER(SEARCH('3 Irrigation Schedule'!$B$19,K115)),MAX($J$1:J114)+1,0)","v":114},{"$f":"'Crop Information'!B120","v":"Onion (seed - Sept - California desert)"},null,{"$f":"IFERROR(VLOOKUP(ROWS($M$2:M115),$J$2:$K$763,2,FALSE),\"\")","v":"Onion (seed - Sept - California desert)"}]
[null,null,null,null,null,null,null,null,null,{"$f":"IF(ISNUMBER(SEARCH('3 Irrigation Schedule'!$B$19,K116)),MAX($J$1:J115)+1,0)","v":115},{"$f":"'Crop Information'!B121","v":"Peas (fresh - May - Europe)"},null,{"$f":"IFERROR(VLOOKUP(ROWS($M$2:M116),$J$2:$K$763,2,FALSE),\"\")","v":"Peas (fresh - May - Europe)"}]
[null,null,null,null,null,null,null,null,null,{"$f":"IF(ISNUMBER(SEARCH('3 Irrigation Schedule'!$B$19,K117)),MAX($J$1:J116)+1,0)","v":116},{"$f":"'Crop Information'!B122","v":"Peas (fresh - Mar/Apr - Mediterranean)"},null,{"$f":"IFERROR(VLOOKUP(ROWS($M$2:M117),$J$2:$K$763,2,FALSE),\"\")","v":"Peas (fresh - Mar/Apr - Mediterranean)"}]
[null,null,null,null,null,null,null,null,null,{"$f":"IF(ISNUMBER(SEARCH('3 Irrigation Schedule'!$B$19,K118)),MAX($J$1:J117)+1,0)","v":117},{"$f":"'Crop Information'!B123","v":"Peas (fresh - Apr - Idaho)"},null,{"$f":"IFERROR(VLOOKUP(ROWS($M$2:M118),$J$2:$K$763,2,FALSE),\"\")","v":"Peas (fresh - Apr - Idaho)"}]
[null,null,null,null,null,null,null,null,null,{"$f":"IF(ISNUMBER(SEARCH('3 Irrigation Schedule'!$B$19,K119)),MAX($J$1:J118)+1,0)","v":118},{"$f":"'Crop Information'!B124","v":"Peas (dry - May - Europe)"},null,{"$f":"IFERROR(VLOOKUP(ROWS($M$2:M119),$J$2:$K$763,2,FALSE),\"\")","v":"Peas (dry - May - Europe)"}]
[null,null,null,null,null,null,null,null,null,{"$f":"IF(ISNUMBER(SEARCH('3 Irrigation Schedule'!$B$19,K120)),MAX($J$1:J119)+1,0)","v":119},{"$f":"'Crop Information'!B125","v":"Peas (dry - Mar/Apr - Mediterranean)"},null,{"$f":"IFERROR(VLOOKUP(ROWS($M$2:M120),$J$2:$K$763,2,FALSE),\"\")","v":"Peas (dry - Mar/Apr - Mediterranean)"}]
[null,null,null,null,null,null,null,null,null,{"$f":"IF(ISNUMBER(SEARCH('3 Irrigation Schedule'!$B$19,K121)),MAX($J$1:J120)+1,0)","v":120},{"$f":"'Crop Information'!B126","v":"Peas (dry - Apr - Idaho)"},null,{"$f":"IFERROR(VLOOKUP(ROWS($M$2:M121),$J$2:$K$763,2,FALSE),\"\")","v":"Peas (dry - Apr - Idaho)"}]
[null,null,null,null,null,null,null,null,null,{"$f":"IF(ISNUMBER(SEARCH('3 Irrigation Schedule'!$B$19,K122)),MAX($J$1:J121)+1,0)","v":121},{"$f":"'Crop Information'!B127","v":"Pigeon peas"},null,{"$f":"IFERROR(VLOOKUP(ROWS($M$2:M122),$J$2:$K$763,2,FALSE),\"\")","v":"Pigeon peas"}]
[null,null,null,null,null,null,null,null,null,{"$f":"IF(ISNUMBER(SEARCH('3 Irrigation Schedule'!$B$19,K123)),MAX($J$1:J122)+1,0)","v":122},{"$f":"'Crop Information'!B128","v":"Pineapple (bare soil - Hawaii)"},null,{"$f":"IFERROR(VLOOKUP(ROWS($M$2:M123),$J$2:$K$763,2,FALSE),\"\")","v":"Pineapple (bare soil - Hawaii)"}]
[null,null,null,null,null,null,null,null,null,{"$f":"IF(ISNUMBER(SEARCH('3 Irrigation Schedule'!$B$19,K124)),MAX($J$1:J123)+1,0)","v":123},{"$f":"'Crop Information'!B129","v":"Pineapple (with grass cover - Hawaii)"},null,{"$f":"IFERROR(VLOOKUP(ROWS($M$2:M124),$J$2:$K$763,2,FALSE),\"\")","v":"Pineapple (with grass cover - Hawaii)"}]
[null,null,null,null,null,null,null,null,null,{"$f":"IF(ISNUMBER(SEARCH('3 Irrigation Schedule'!$B$19,K125)),MAX($J$1:J124)+1,0)","v":124},{"$f":"'Crop Information'!B130","v":"Pistachios (no ground cover - Feb - Mediterranean)"},null,{"$f":"IFERROR(VLOOKUP(ROWS($M$2:M125),$J$2:$K$763,2,FALSE),\"\")","v":"Pistachios (no ground cover - Feb - Mediterranean)"}]
[null,null,null,null,null,null,null,null,null,{"$f":"IF(ISNUMBER(SEARCH('3 Irrigation Schedule'!$B$19,K126)),MAX($J$1:J125)+1,0)","v":125},{"$f":"'Crop Information'!B131","v":"Potato (Jan/Nov - semiarid climate)"},null,{"$f":"IFERROR(VLOOKUP(ROWS($M$2:M126),$J$2:$K$763,2,FALSE),\"\")","v":"Potato (Jan/Nov - semiarid climate)"}]
[null,null,null,null,null,null,null,null,null,{"$f":"IF(ISNUMBER(SEARCH('3 Irrigation Schedule'!$B$19,K127)),MAX($J$1:J126)+1,0)","v":126},{"$f":"'Crop Information'!B132","v":"Potato (May - Continental Climate )"},null,{"$f":"IFERROR(VLOOKUP(ROWS($M$2:M127),$J$2:$K$763,2,FALSE),\"\")","v":"Potato (May - Continental Climate )"}]
[null,null,null,null,null,null,null,null,null,{"$f":"IF(ISNUMBER(SEARCH('3 Irrigation Schedule'!$B$19,K128)),MAX($J$1:J127)+1,0)","v":127},{"$f":"'Crop Information'!B133","v":"Potato (Apr - Europe)"},null,{"$f":"IFERROR(VLOOKUP(ROWS($M$2:M128),$J$2:$K$763,2,FALSE),\"\")","v":"Potato (Apr - Europe)"}]
[null,null,null,null,null,null,null,null,null,{"$f":"IF(ISNUMBER(SEARCH('3 Irrigation Schedule'!$B$19,K129)),MAX($J$1:J128)+1,0)","v":128},{"$f":"'Crop Information'!B134","v":"Potato (Apr/May - Idaho, USA )"},null,{"$f":"IFERROR(VLOOKUP(ROWS($M$2:M129),$J$2:$K$763,2,FALSE),\"\")","v":"Potato (Apr/May - Idaho, USA )"}]
[null,null,null,null,null,null,null,null,null,{"$f":"IF(ISNUMBER(SEARCH('3 Irrigation Schedule'!$B$19,K130)),MAX($J$1:J129)+1,0)","v":129},{"$f":"'Crop Information'!B135","v":"Potato (Dec - California desert)"},null,{"$f":"IFERROR(VLOOKUP(ROWS($M$2:M130),$J$2:$K$763,2,FALSE),\"\")","v":"Potato (Dec - California desert)"}]
[null,null,null,null,null,null,null,null,null,{"$f":"IF(ISNUMBER(SEARCH('3 Irrigation Schedule'!$B$19,K131)),MAX($J$1:J130)+1,0)","v":130},{"$f":"'Crop Information'!B136","v":"Pumpkin, Winter squash (Mar/Aug - Mediterranean)"},null,{"$f":"IFERROR(VLOOKUP(ROWS($M$2:M131),$J$2:$K$763,2,FALSE),\"\")","v":"Pumpkin, Winter squash (Mar/Aug - Mediterranean)"}]
[null,null,null,null,null,null,null,null,null,{"$f":"IF(ISNUMBER(SEARCH('3 Irrigation Schedule'!$B$19,K132)),MAX($J$1:J131)+1,0)","v":131},{"$f":"'Crop Information'!B137","v":"Pumpkin, Winter squash (Jun - Europe)"},null,{"$f":"IFERROR(VLOOKUP(ROWS($M$2:M132),$J$2:$K$763,2,FALSE),\"\")","v":"Pumpkin, Winter squash (Jun - Europe)"}]
[null,null,null,null,null,null,null,null,null,{"$f":"IF(ISNUMBER(SEARCH('3 Irrigation Schedule'!$B$19,K133)),MAX($J$1:J132)+1,0)","v":132},{"$f":"'Crop Information'!B138","v":"Radish (Mar/Apr - Mediterranean/Europe)"},null,{"$f":"IFERROR(VLOOKUP(ROWS($M$2:M133),$J$2:$K$763,2,FALSE),\"\")","v":"Radish (Mar/Apr - Mediterranean/Europe)"}]
[null,null,null,null,null,null,null,null,null,{"$f":"IF(ISNUMBER(SEARCH('3 Irrigation Schedule'!$B$19,K134)),MAX($J$1:J133)+1,0)","v":133},{"$f":"'Crop Information'!B139","v":"Radish (Winter - arid region)"},null,{"$f":"IFERROR(VLOOKUP(ROWS($M$2:M134),$J$2:$K$763,2,FALSE),\"\")","v":"Radish (Winter - arid region)"}]
[null,null,null,null,null,null,null,null,null,{"$f":"IF(ISNUMBER(SEARCH('3 Irrigation Schedule'!$B$19,K135)),MAX($J$1:J134)+1,0)","v":134},{"$f":"'Crop Information'!B140","v":"Rice (Dec/May - Tropics/Mediterranean)"},null,{"$f":"IFERROR(VLOOKUP(ROWS($M$2:M135),$J$2:$K$763,2,FALSE),\"\")","v":"Rice (Dec/May - Tropics/Mediterranean)"}]
[null,null,null,null,null,null,null,null,null,{"$f":"IF(ISNUMBER(SEARCH('3 Irrigation Schedule'!$B$19,K136)),MAX($J$1:J135)+1,0)","v":135},{"$f":"'Crop Information'!B141","v":"Safflower (Apr - California)"},null,{"$f":"IFERROR(VLOOKUP(ROWS($M$2:M136),$J$2:$K$763,2,FALSE),\"\")","v":"Safflower (Apr - California)"}]
[null,null,null,null,null,null,null,null,null,{"$f":"IF(ISNUMBER(SEARCH('3 Irrigation Schedule'!$B$19,K137)),MAX($J$1:J136)+1,0)","v":136},{"$f":"'Crop Information'!B142","v":"Safflower (Mar - high latitudes)"},null,{"$f":"IFERROR(VLOOKUP(ROWS($M$2:M137),$J$2:$K$763,2,FALSE),\"\")","v":"Safflower (Mar - high latitudes)"}]
[null,null,null,null,null,null,null,null,null,{"$f":"IF(ISNUMBER(SEARCH('3 Irrigation Schedule'!$B$19,K138)),MAX($J$1:J137)+1,0)","v":137},{"$f":"'Crop Information'!B143","v":"Safflower (Oct/Nov - arid region)"},null,{"$f":"IFERROR(VLOOKUP(ROWS($M$2:M138),$J$2:$K$763,2,FALSE),\"\")","v":"Safflower (Oct/Nov - arid region)"}]
[null,null,null,null,null,null,null,null,null,{"$f":"IF(ISNUMBER(SEARCH('3 Irrigation Schedule'!$B$19,K139)),MAX($J$1:J138)+1,0)","v":138},{"$f":"'Crop Information'!B144","v":"Sesame (Jun - China)"},null,{"$f":"IFERROR(VLOOKUP(ROWS($M$2:M139),$J$2:$K$763,2,FALSE),\"\")","v":"Sesame (Jun - China)"}]
[null,null,null,null,null,null,null,null,null,{"$f":"IF(ISNUMBER(SEARCH('3 Irrigation Schedule'!$B$19,K140)),MAX($J$1:J139)+1,0)","v":139},{"$f":"'Crop Information'!B145","v":"Sorghum (grain - May/Jun - USA/Pakistan/Mediterranean)"},null,{"$f":"IFERROR(VLOOKUP(ROWS($M$2:M140),$J$2:$K$763,2,FALSE),\"\")","v":"Sorghum (grain - May/Jun - USA/Pakistan/Mediterranean)"}]
[null,null,null,null,null,null,null,null,null,{"$f":"IF(ISNUMBER(SEARCH('3 Irrigation Schedule'!$B$19,K141)),MAX($J$1:J140)+1,0)","v":140},{"$f":"'Crop Information'!B146","v":"Sorghum (grain - Mar/Apr - arid region)"},null,{"$f":"IFERROR(VLOOKUP(ROWS($M$2:M141),$J$2:$K$763,2,FALSE),\"\")","v":"Sorghum (grain - Mar/Apr - arid region)"}]
[null,null,null,null,null,null,null,null,null,{"$f":"IF(ISNUMBER(SEARCH('3 Irrigation Schedule'!$B$19,K142)),MAX($J$1:J141)+1,0)","v":141},{"$f":"'Crop Information'!B147","v":"Sorghum (sweet - May/Jun - USA/Pakistan/Mediterranean)"},null,{"$f":"IFERROR(VLOOKUP(ROWS($M$2:M142),$J$2:$K$763,2,FALSE),\"\")","v":"Sorghum (sweet - May/Jun - USA/Pakistan/Mediterranean)"}]
[null,null,null,null,null,null,null,null,null,{"$f":"IF(ISNUMBER(SEARCH('3 Irrigation Schedule'!$B$19,K143)),MAX($J$1:J142)+1,0)","v":142},{"$f":"'Crop Information'!B148","v":"Sorghum (sweet - Mar/Apr - arid region)"},null,{"$f":"IFERROR(VLOOKUP(ROWS($M$2:M143),$J$2:$K$763,2,FALSE),\"\")","v":"Sorghum (sweet - Mar/Apr - arid region)"}]
[null,null,null,null,null,null,null,null,null,{"$f":"IF(ISNUMBER(SEARCH('3 Irrigation Schedule'!$B$19,K144)),MAX($J$1:J143)+1,0)","v":143},{"$f":"'Crop Information'!B149","v":"Soybeans (Dec - Tropics)"},null,{"$f":"IFERROR(VLOOKUP(ROWS($M$2:M144),$J$2:$K$763,2,FALSE),\"\")","v":"Soybeans (Dec - Tropics)"}]
[null,null,null,null,null,null,null,null,null,{"$f":"IF(ISNUMBER(SEARCH('3 Irrigation Schedule'!$B$19,K145)),MAX($J$1:J144)+1,0)","v":144},{"$f":"'Crop Information'!B150","v":"Soybeans (May - Central USA)"},null,{"$f":"IFERROR(VLOOKUP(ROWS($M$2:M145),$J$2:$K$763,2,FALSE),\"\")","v":"Soybeans (May - Central USA)"}]
[null,null,null,null,null,null,null,null,null,{"$f":"IF(ISNUMBER(SEARCH('3 Irrigation Schedule'!$B$19,K146)),MAX($J$1:J145)+1,0)","v":145},{"$f":"'Crop Information'!B151","v":"Soybeans (Jun - Japan )"},null,{"$f":"IFERROR(VLOOKUP(ROWS($M$2:M146),$J$2:$K$763,2,FALSE),\"\")","v":"Soybeans (Jun - Japan )"}]
[null,null,null,null,null,null,null,null,null,{"$f":"IF(ISNUMBER(SEARCH('3 Irrigation Schedule'!$B$19,K147)),MAX($J$1:J146)+1,0)","v":146},{"$f":"'Crop Information'!B152","v":"Spinach (Apr/Sep/Oct - Mediterranean)"},null,{"$f":"IFERROR(VLOOKUP(ROWS($M$2:M147),$J$2:$K$763,2,FALSE),\"\")","v":"Spinach (Apr/Sep/Oct - Mediterranean)"}]
[null,null,null,null,null,null,null,null,null,{"$f":"IF(ISNUMBER(SEARCH('3 Irrigation Schedule'!$B$19,K148)),MAX($J$1:J147)+1,0)","v":147},{"$f":"'Crop Information'!B153","v":"Spinach (Nov - arid region)"},null,{"$f":"IFERROR(VLOOKUP(ROWS($M$2:M148),$J$2:$K$763,2,FALSE),\"\")","v":"Spinach (Nov - arid region)"}]
[null,null,null,null,null,null,null,null,null,{"$f":"IF(ISNUMBER(SEARCH('3 Irrigation Schedule'!$B$19,K149)),MAX($J$1:J148)+1,0)","v":148},{"$f":"'Crop Information'!B154","v":"Squash, Zucchini (Apr/Dec - Mediterranean/arid region)"},null,{"$f":"IFERROR(VLOOKUP(ROWS($M$2:M149),$J$2:$K$763,2,FALSE),\"\")","v":"Squash, Zucchini (Apr/Dec - Mediterranean/arid region)"}]
[null,null,null,null,null,null,null,null,null,{"$f":"IF(ISNUMBER(SEARCH('3 Irrigation Schedule'!$B$19,K150)),MAX($J$1:J149)+1,0)","v":149},{"$f":"'Crop Information'!B155","v":"Squash, Zucchini (May/Jun - Mediterranean/Europe)"},null,{"$f":"IFERROR(VLOOKUP(ROWS($M$2:M150),$J$2:$K$763,2,FALSE),\"\")","v":"Squash, Zucchini (May/Jun - Mediterranean/Europe)"}]
[null,null,null,null,null,null,null,null,null,{"$f":"IF(ISNUMBER(SEARCH('3 Irrigation Schedule'!$B$19,K151)),MAX($J$1:J150)+1,0)","v":150},{"$f":"'Crop Information'!B156","v":"Sudan (1st cutting cycle - Apr - California desert)"},null,{"$f":"IFERROR(VLOOKUP(ROWS($M$2:M151),$J$2:$K$763,2,FALSE),\"\")","v":"Sudan (1st cutting cycle - Apr - California desert)"}]
[null,null,null,null,null,null,null,null,null,{"$f":"IF(ISNUMBER(SEARCH('3 Irrigation Schedule'!$B$19,K152)),MAX($J$1:J151)+1,0)","v":151},{"$f":"'Crop Information'!B157","v":"Sudan (other cutting cycles - Jun -California desert)"},null,{"$f":"IFERROR(VLOOKUP(ROWS($M$2:M152),$J$2:$K$763,2,FALSE),\"\")","v":"Sudan (other cutting cycles - Jun -California desert)"}]
[null,null,null,null,null,null,null,null,null,{"$f":"IF(ISNUMBER(SEARCH('3 Irrigation Schedule'!$B$19,K153)),MAX($J$1:J152)+1,0)","v":152},{"$f":"'Crop Information'!B158","v":"Sugarbeet (Mar - California)"},null,{"$f":"IFERROR(VLOOKUP(ROWS($M$2:M153),$J$2:$K$763,2,FALSE),\"\")","v":"Sugarbeet (Mar - California)"}]
[null,null,null,null,null,null,null,null,null,{"$f":"IF(ISNUMBER(SEARCH('3 Irrigation Schedule'!$B$19,K154)),MAX($J$1:J153)+1,0)","v":153},{"$f":"'Crop Information'!B159","v":"Sugarbeet (Jun - California)"},null,{"$f":"IFERROR(VLOOKUP(ROWS($M$2:M154),$J$2:$K$763,2,FALSE),\"\")","v":"Sugarbeet (Jun - California)"}]
[null,null,null,null,null,null,null,null,null,{"$f":"IF(ISNUMBER(SEARCH('3 Irrigation Schedule'!$B$19,K155)),MAX($J$1:J154)+1,0)","v":154},{"$f":"'Crop Information'!B160","v":"Sugarbeet (Sep - California desert)"},null,{"$f":"IFERROR(VLOOKUP(ROWS($M$2:M155),$J$2:$K$763,2,FALSE),\"\")","v":"Sugarbeet (Sep - California desert)"}]
[null,null,null,null,null,null,null,null,null,{"$f":"IF(ISNUMBER(SEARCH('3 Irrigation Schedule'!$B$19,K156)),MAX($J$1:J155)+1,0)","v":155},{"$f":"'Crop Information'!B161","v":"Sugarbeet (Apr - Idaho)"},null,{"$f":"IFERROR(VLOOKUP(ROWS($M$2:M156),$J$2:$K$763,2,FALSE),\"\")","v":"Sugarbeet (Apr - Idaho)"}]
[null,null,null,null,null,null,null,null,null,{"$f":"IF(ISNUMBER(SEARCH('3 Irrigation Schedule'!$B$19,K157)),MAX($J$1:J156)+1,0)","v":156},{"$f":"'Crop Information'!B162","v":"Sugarbeet (May - Mediterranean)"},null,{"$f":"IFERROR(VLOOKUP(ROWS($M$2:M157),$J$2:$K$763,2,FALSE),\"\")","v":"Sugarbeet (May - Mediterranean)"}]
[null,null,null,null,null,null,null,null,null,{"$f":"IF(ISNUMBER(SEARCH('3 Irrigation Schedule'!$B$19,K158)),MAX($J$1:J157)+1,0)","v":157},{"$f":"'Crop Information'!B163","v":"Sugarbeet (Nov - Mediterranean)"},null,{"$f":"IFERROR(VLOOKUP(ROWS($M$2:M158),$J$2:$K$763,2,FALSE),\"\")","v":"Sugarbeet (Nov - Mediterranean)"}]
[null,null,null,null,null,null,null,null,null,{"$f":"IF(ISNUMBER(SEARCH('3 Irrigation Schedule'!$B$19,K159)),MAX($J$1:J158)+1,0)","v":158},{"$f":"'Crop Information'!B164","v":"Sugarbeet (Nov - arid regions)"},null,{"$f":"IFERROR(VLOOKUP(ROWS($M$2:M159),$J$2:$K$763,2,FALSE),\"\")","v":"Sugarbeet (Nov - arid regions)"}]
[null,null,null,null,null,null,null,null,null,{"$f":"IF(ISNUMBER(SEARCH('3 Irrigation Schedule'!$B$19,K160)),MAX($J$1:J159)+1,0)","v":159},{"$f":"'Crop Information'!B165","v":"Sugarcane (ratoon - low latitudes)"},null,{"$f":"IFERROR(VLOOKUP(ROWS($M$2:M160),$J$2:$K$763,2,FALSE),\"\")","v":"Sugarcane (ratoon - low latitudes)"}]
[null,null,null,null,null,null,null,null,null,{"$f":"IF(ISNUMBER(SEARCH('3 Irrigation Schedule'!$B$19,K161)),MAX($J$1:J160)+1,0)","v":160},{"$f":"'Crop Information'!B166","v":"Sugarcane (ratoon - Tropics)"},null,{"$f":"IFERROR(VLOOKUP(ROWS($M$2:M161),$J$2:$K$763,2,FALSE),\"\")","v":"Sugarcane (ratoon - Tropics)"}]
[null,null,null,null,null,null,null,null,null,{"$f":"IF(ISNUMBER(SEARCH('3 Irrigation Schedule'!$B$19,K162)),MAX($J$1:J161)+1,0)","v":161},{"$f":"'Crop Information'!B167","v":"Sugarcane (ratoon - Hawaii)"},null,{"$f":"IFERROR(VLOOKUP(ROWS($M$2:M162),$J$2:$K$763,2,FALSE),\"\")","v":"Sugarcane (ratoon - Hawaii)"}]
[null,null,null,null,null,null,null,null,null,{"$f":"IF(ISNUMBER(SEARCH('3 Irrigation Schedule'!$B$19,K163)),MAX($J$1:J162)+1,0)","v":162},{"$f":"'Crop Information'!B168","v":"Sugarcane (virgin - low latitudes)"},null,{"$f":"IFERROR(VLOOKUP(ROWS($M$2:M163),$J$2:$K$763,2,FALSE),\"\")","v":"Sugarcane (virgin - low latitudes)"}]
[null,null,null,null,null,null,null,null,null,{"$f":"IF(ISNUMBER(SEARCH('3 Irrigation Schedule'!$B$19,K164)),MAX($J$1:J163)+1,0)","v":163},{"$f":"'Crop Information'!B169","v":"Sugarcane (virgin - Tropics)"},null,{"$f":"IFERROR(VLOOKUP(ROWS($M$2:M164),$J$2:$K$763,2,FALSE),\"\")","v":"Sugarcane (virgin - Tropics)"}]
[null,null,null,null,null,null,null,null,null,{"$f":"IF(ISNUMBER(SEARCH('3 Irrigation Schedule'!$B$19,K165)),MAX($J$1:J164)+1,0)","v":164},{"$f":"'Crop Information'!B170","v":"Sugarcane (virgin - Hawaii)"},null,{"$f":"IFERROR(VLOOKUP(ROWS($M$2:M165),$J$2:$K$763,2,FALSE),\"\")","v":"Sugarcane (virgin - Hawaii)"}]
[null,null,null,null,null,null,null,null,null,{"$f":"IF(ISNUMBER(SEARCH('3 Irrigation Schedule'!$B$19,K166)),MAX($J$1:J165)+1,0)","v":165},{"$f":"'Crop Information'!B171","v":"Sunflower (Apr/May - Mediterranean/California)"},null,{"$f":"IFERROR(VLOOKUP(ROWS($M$2:M166),$J$2:$K$763,2,FALSE),\"\")","v":"Sunflower (Apr/May - Mediterranean/California)"}]
[null,null,null,null,null,null,null,null,null,{"$f":"IF(ISNUMBER(SEARCH('3 Irrigation Schedule'!$B$19,K167)),MAX($J$1:J166)+1,0)","v":166},{"$f":"'Crop Information'!B172","v":"Sweet melons (May - Mediterranean)"},null,{"$f":"IFERROR(VLOOKUP(ROWS($M$2:M167),$J$2:$K$763,2,FALSE),\"\")","v":"Sweet melons (May - Mediterranean)"}]
[null,null,null,null,null,null,null,null,null,{"$f":"IF(ISNUMBER(SEARCH('3 Irrigation Schedule'!$B$19,K168)),MAX($J$1:J167)+1,0)","v":167},{"$f":"'Crop Information'!B173","v":"Sweet melons (Mar - California)"},null,{"$f":"IFERROR(VLOOKUP(ROWS($M$2:M168),$J$2:$K$763,2,FALSE),\"\")","v":"Sweet melons (Mar - California)"}]
[null,null,null,null,null,null,null,null,null,{"$f":"IF(ISNUMBER(SEARCH('3 Irrigation Schedule'!$B$19,K169)),MAX($J$1:J168)+1,0)","v":168},{"$f":"'Crop Information'!B174","v":"Sweet melons (Aug - California desert)"},null,{"$f":"IFERROR(VLOOKUP(ROWS($M$2:M169),$J$2:$K$763,2,FALSE),\"\")","v":"Sweet melons (Aug - California desert)"}]
[null,null,null,null,null,null,null,null,null,{"$f":"IF(ISNUMBER(SEARCH('3 Irrigation Schedule'!$B$19,K170)),MAX($J$1:J169)+1,0)","v":169},{"$f":"'Crop Information'!B175","v":"Sweet melons (Dec/Jan - arid region)"},null,{"$f":"IFERROR(VLOOKUP(ROWS($M$2:M170),$J$2:$K$763,2,FALSE),\"\")","v":"Sweet melons (Dec/Jan - arid region)"}]
[null,null,null,null,null,null,null,null,null,{"$f":"IF(ISNUMBER(SEARCH('3 Irrigation Schedule'!$B$19,K171)),MAX($J$1:J170)+1,0)","v":170},{"$f":"'Crop Information'!B176","v":"Sweet peppers (Apr/Jun - Europe/Mediterranean)"},null,{"$f":"IFERROR(VLOOKUP(ROWS($M$2:M171),$J$2:$K$763,2,FALSE),\"\")","v":"Sweet peppers (Apr/Jun - Europe/Mediterranean)"}]
[null,null,null,null,null,null,null,null,null,{"$f":"IF(ISNUMBER(SEARCH('3 Irrigation Schedule'!$B$19,K172)),MAX($J$1:J171)+1,0)","v":171},{"$f":"'Crop Information'!B177","v":"Sweet peppers (Oct - arid region)"},null,{"$f":"IFERROR(VLOOKUP(ROWS($M$2:M172),$J$2:$K$763,2,FALSE),\"\")","v":"Sweet peppers (Oct - arid region)"}]
[null,null,null,null,null,null,null,null,null,{"$f":"IF(ISNUMBER(SEARCH('3 Irrigation Schedule'!$B$19,K173)),MAX($J$1:J172)+1,0)","v":172},{"$f":"'Crop Information'!B178","v":"Sweet potato (Apr - Mediterranean)"},null,{"$f":"IFERROR(VLOOKUP(ROWS($M$2:M173),$J$2:$K$763,2,FALSE),\"\")","v":"Sweet potato (Apr - Mediterranean)"}]
[null,null,null,null,null,null,null,null,null,{"$f":"IF(ISNUMBER(SEARCH('3 Irrigation Schedule'!$B$19,K174)),MAX($J$1:J173)+1,0)","v":173},{"$f":"'Crop Information'!B179","v":"Sweet potato (rainy season - Tropical regions)"},null,{"$f":"IFERROR(VLOOKUP(ROWS($M$2:M174),$J$2:$K$763,2,FALSE),\"\")","v":"Sweet potato (rainy season - Tropical regions)"}]
[null,null,null,null,null,null,null,null,null,{"$f":"IF(ISNUMBER(SEARCH('3 Irrigation Schedule'!$B$19,K175)),MAX($J$1:J174)+1,0)","v":174},{"$f":"'Crop Information'!B180","v":"Tomato (Jan - arid region)"},null,{"$f":"IFERROR(VLOOKUP(ROWS($M$2:M175),$J$2:$K$763,2,FALSE),\"\")","v":"Tomato (Jan - arid region)"}]
[null,null,null,null,null,null,null,null,null,{"$f":"IF(ISNUMBER(SEARCH('3 Irrigation Schedule'!$B$19,K176)),MAX($J$1:J175)+1,0)","v":175},{"$f":"'Crop Information'!B181","v":"Tomato (Apr/May - California)"},null,{"$f":"IFERROR(VLOOKUP(ROWS($M$2:M176),$J$2:$K$763,2,FALSE),\"\")","v":"Tomato (Apr/May - California)"}]
[null,null,null,null,null,null,null,null,null,{"$f":"IF(ISNUMBER(SEARCH('3 Irrigation Schedule'!$B$19,K177)),MAX($J$1:J176)+1,0)","v":176},{"$f":"'Crop Information'!B182","v":"Tomato (Jan - California desert)"},null,{"$f":"IFERROR(VLOOKUP(ROWS($M$2:M177),$J$2:$K$763,2,FALSE),\"\")","v":"Tomato (Jan - California desert)"}]
[null,null,null,null,null,null,null,null,null,{"$f":"IF(ISNUMBER(SEARCH('3 Irrigation Schedule'!$B$19,K178)),MAX($J$1:J177)+1,0)","v":177},{"$f":"'Crop Information'!B183","v":"Tomato (Oct/Nov - arid region)"},null,{"$f":"IFERROR(VLOOKUP(ROWS($M$2:M178),$J$2:$K$763,2,FALSE),\"\")","v":"Tomato (Oct/Nov - arid region)"}]
[null,null,null,null,null,null,null,null,null,{"$f":"IF(ISNUMBER(SEARCH('3 Irrigation Schedule'!$B$19,K179)),MAX($J$1:J178)+1,0)","v":178},{"$f":"'Crop Information'!B184","v":"Tomato (Apr/May - Mediterranean)"},null,{"$f":"IFERROR(VLOOKUP(ROWS($M$2:M179),$J$2:$K$763,2,FALSE),\"\")","v":"Tomato (Apr/May - Mediterranean)"}]
[null,null,null,null,null,null,null,null,null,{"$f":"IF(ISNUMBER(SEARCH('3 Irrigation Schedule'!$B$19,K180)),MAX($J$1:J179)+1,0)","v":179},{"$f":"'Crop Information'!B185","v":"Walnuts (Apr - Utah)"},null,{"$f":"IFERROR(VLOOKUP(ROWS($M$2:M180),$J$2:$K$763,2,FALSE),\"\")","v":"Walnuts (Apr - Utah)"}]
[null,null,null,null,null,null,null,null,null,{"$f":"IF(ISNUMBER(SEARCH('3 Irrigation Schedule'!$B$19,K181)),MAX($J$1:J180)+1,0)","v":180},{"$f":"'Crop Information'!B186","v":"Water melons (Apr - Italy)"},null,{"$f":"IFERROR(VLOOKUP(ROWS($M$2:M181),$J$2:$K$763,2,FALSE),\"\")","v":"Water melons (Apr - Italy)"}]
[null,null,null,null,null,null,null,null,null,{"$f":"IF(ISNUMBER(SEARCH('3 Irrigation Schedule'!$B$19,K182)),MAX($J$1:J181)+1,0)","v":181},{"$f":"'Crop Information'!B187","v":"Water melons (Mat/Aug - Near East (desert))"},null,{"$f":"IFERROR(VLOOKUP(ROWS($M$2:M182),$J$2:$K$763,2,FALSE),\"\")","v":"Water melons (Mat/Aug - Near East (desert))"}]
[null,null,null,null,null,null,null,null,null,{"$f":"IF(ISNUMBER(SEARCH('3 Irrigation Schedule'!$B$19,K183)),MAX($J$1:J182)+1,0)","v":182},{"$f":"'Crop Information'!B188","v":"Winter Wheat (Dec - California)"},null,{"$f":"IFERROR(VLOOKUP(ROWS($M$2:M183),$J$2:$K$763,2,FALSE),\"\")","v":"Winter Wheat (Dec - California)"}]
[null,null,null,null,null,null,null,null,null,{"$f":"IF(ISNUMBER(SEARCH('3 Irrigation Schedule'!$B$19,K184)),MAX($J$1:J183)+1,0)","v":183},{"$f":"'Crop Information'!B189","v":"Winter Wheat (Nov - Mediterranean)"},null,{"$f":"IFERROR(VLOOKUP(ROWS($M$2:M184),$J$2:$K$763,2,FALSE),\"\")","v":"Winter Wheat (Nov - Mediterranean)"}]
[null,null,null,null,null,null,null,null,null,{"$f":"IF(ISNUMBER(SEARCH('3 Irrigation Schedule'!$B$19,K185)),MAX($J$1:J184)+1,0)","v":184},{"$f":"'Crop Information'!B190","v":"Winter Wheat (Oct - Idaho)"},null,{"$f":"IFERROR(VLOOKUP(ROWS($M$2:M185),$J$2:$K$763,2,FALSE),\"\")","v":"Winter Wheat (Oct - Idaho)"}]
[null,null,null,null,null,null,null,null,null,{"$f":"IF(ISNUMBER(SEARCH('3 Irrigation Schedule'!$B$19,K186)),MAX($J$1:J185)+1,0)","v":185},{"$f":"'Crop Information'!B191","v":"New crop"},null,{"$f":"IFERROR(VLOOKUP(ROWS($M$2:M186),$J$2:$K$763,2,FALSE),\"\")","v":"New crop"}]
[null,null,null,null,null,null,null,null,null,{"$f":"IF(ISNUMBER(SEARCH('3 Irrigation Schedule'!$B$19,K187)),MAX($J$1:J186)+1,0)","v":186},{"$f":"'Crop Information'!B192","v":"New crop"},null,{"$f":"IFERROR(VLOOKUP(ROWS($M$2:M187),$J$2:$K$763,2,FALSE),\"\")","v":"New crop"}]
[null,null,null,null,null,null,null,null,null,{"$f":"IF(ISNUMBER(SEARCH('3 Irrigation Schedule'!$B$19,K188)),MAX($J$1:J187)+1,0)","v":187},{"$f":"'Crop Information'!B193","v":"New crop"},null,{"$f":"IFERROR(VLOOKUP(ROWS($M$2:M188),$J$2:$K$763,2,FALSE),\"\")","v":"New crop"}]
[null,null,null,null,null,null,null,null,null,{"$f":"IF(ISNUMBER(SEARCH('3 Irrigation Schedule'!$B$19,K189)),MAX($J$1:J188)+1,0)","v":188},{"$f":"'Crop Information'!B194","v":"New crop"},null,{"$f":"IFERROR(VLOOKUP(ROWS($M$2:M189),$J$2:$K$763,2,FALSE),\"\")","v":"New crop"}]
[null,null,null,null,null,null,null,null,null,{"$f":"IF(ISNUMBER(SEARCH('3 Irrigation Schedule'!$B$19,K190)),MAX($J$1:J189)+1,0)","v":189},{"$f":"'Crop Information'!B195","v":"New crop"},null,{"$f":"IFERROR(VLOOKUP(ROWS($M$2:M190),$J$2:$K$763,2,FALSE),\"\")","v":"New crop"}]
[null,null,null,null,null,null,null,null,null,{"$f":"IF(ISNUMBER(SEARCH('3 Irrigation Schedule'!$B$19,K191)),MAX($J$1:J190)+1,0)","v":190},{"$f":"'Crop Information'!B196","v":"New crop"},null,{"$f":"IFERROR(VLOOKUP(ROWS($M$2:M191),$J$2:$K$763,2,FALSE),\"\")","v":"New crop"}]
[null,null,null,null,null,null,null,null,null,{"$f":"IF(ISNUMBER(SEARCH('3 Irrigation Schedule'!$B$19,K192)),MAX($J$1:J191)+1,0)","v":191},{"$f":"'Crop Information'!B197","v":"New crop"},null,{"$f":"IFERROR(VLOOKUP(ROWS($M$2:M192),$J$2:$K$763,2,FALSE),\"\")","v":"New crop"}]
[null,null,null,null,null,null,null,null,null,{"$f":"IF(ISNUMBER(SEARCH('3 Irrigation Schedule'!$B$19,K193)),MAX($J$1:J192)+1,0)","v":192},{"$f":"'Crop Information'!B198","v":"New crop"},null,{"$f":"IFERROR(VLOOKUP(ROWS($M$2:M193),$J$2:$K$763,2,FALSE),\"\")","v":"New crop"}]
[null,null,null,null,null,null,null,null,null,{"$f":"IF(ISNUMBER(SEARCH('3 Irrigation Schedule'!$B$19,K194)),MAX($J$1:J193)+1,0)","v":193},{"$f":"'Crop Information'!B199","v":"New crop"},null,{"$f":"IFERROR(VLOOKUP(ROWS($M$2:M194),$J$2:$K$763,2,FALSE),\"\")","v":"New crop"}]
[null,null,null,null,null,null,null,null,null,{"$f":"IF(ISNUMBER(SEARCH('3 Irrigation Schedule'!$B$19,K195)),MAX($J$1:J194)+1,0)","v":194},{"$f":"'Crop Information'!B200","v":"New crop"},null,{"$f":"IFERROR(VLOOKUP(ROWS($M$2:M195),$J$2:$K$763,2,FALSE),\"\")","v":"New crop"}]
[null,null,null,null,null,null,null,null,null,{"$f":"IF(ISNUMBER(SEARCH('3 Irrigation Schedule'!$B$19,K196)),MAX($J$1:J195)+1,0)","v":195},{"$f":"'Crop Information'!B201","v":"New crop"},null,{"$f":"IFERROR(VLOOKUP(ROWS($M$2:M196),$J$2:$K$763,2,FALSE),\"\")","v":"New crop"}]
[null,null,null,null,null,null,null,null,null,{"$f":"IF(ISNUMBER(SEARCH('3 Irrigation Schedule'!$B$19,K197)),MAX($J$1:J196)+1,0)","v":196},{"$f":"'Crop Information'!B202","v":"New crop"},null,{"$f":"IFERROR(VLOOKUP(ROWS($M$2:M197),$J$2:$K$763,2,FALSE),\"\")","v":"New crop"}]
[null,null,null,null,null,null,null,null,null,{"$f":"IF(ISNUMBER(SEARCH('3 Irrigation Schedule'!$B$19,K198)),MAX($J$1:J197)+1,0)","v":197},{"$f":"'Crop Information'!B203","v":"New crop"},null,{"$f":"IFERROR(VLOOKUP(ROWS($M$2:M198),$J$2:$K$763,2,FALSE),\"\")","v":"New crop"}]
[null,null,null,null,null,null,null,null,null,{"$f":"IF(ISNUMBER(SEARCH('3 Irrigation Schedule'!$B$19,K199)),MAX($J$1:J198)+1,0)","v":198},{"$f":"'Crop Information'!B204","v":"New crop"},null,{"$f":"IFERROR(VLOOKUP(ROWS($M$2:M199),$J$2:$K$763,2,FALSE),\"\")","v":"New crop"}]
[null,null,null,null,null,null,null,null,null,{"$f":"IF(ISNUMBER(SEARCH('3 Irrigation Schedule'!$B$19,K200)),MAX($J$1:J199)+1,0)","v":199},{"$f":"'Crop Information'!B205","v":"New crop"},null,{"$f":"IFERROR(VLOOKUP(ROWS($M$2:M200),$J$2:$K$763,2,FALSE),\"\")","v":"New crop"}]
[null,null,null,null,null,null,null,null,null,{"$f":"IF(ISNUMBER(SEARCH('3 Irrigation Schedule'!$B$19,K201)),MAX($J$1:J200)+1,0)","v":200},{"$f":"'Crop Information'!B206","v":"New crop"},null,{"$f":"IFERROR(VLOOKUP(ROWS($M$2:M201),$J$2:$K$763,2,FALSE),\"\")","v":"New crop"}]
[null,null,null,null,null,null,null,null,null,{"$f":"IF(ISNUMBER(SEARCH('3 Irrigation Schedule'!$B$19,K202)),MAX($J$1:J201)+1,0)","v":201},{"$f":"'Crop Information'!B207","v":"New crop"},null,{"$f":"IFERROR(VLOOKUP(ROWS($M$2:M202),$J$2:$K$763,2,FALSE),\"\")","v":"New crop"}]
[null,null,null,null,null,null,null,null,null,{"$f":"IF(ISNUMBER(SEARCH('3 Irrigation Schedule'!$B$19,K203)),MAX($J$1:J202)+1,0)","v":202},{"$f":"'Crop Information'!B208","v":"New crop"},null,{"$f":"IFERROR(VLOOKUP(ROWS($M$2:M203),$J$2:$K$763,2,FALSE),\"\")","v":"New crop"}]
[null,null,null,null,null,null,null,null,null,{"$f":"IF(ISNUMBER(SEARCH('3 Irrigation Schedule'!$B$19,K204)),MAX($J$1:J203)+1,0)","v":203},{"$f":"'Crop Information'!B209","v":"New crop"},null,{"$f":"IFERROR(VLOOKUP(ROWS($M$2:M204),$J$2:$K$763,2,FALSE),\"\")","v":"New crop"}]
[null,null,null,null,null,null,null,null,null,{"$f":"IF(ISNUMBER(SEARCH('3 Irrigation Schedule'!$B$19,K205)),MAX($J$1:J204)+1,0)","v":204},{"$f":"'Crop Information'!B210","v":"New crop"},null,{"$f":"IFERROR(VLOOKUP(ROWS($M$2:M205),$J$2:$K$763,2,FALSE),\"\")","v":"New crop"}]
[null,null,null,null,null,null,null,null,null,{"$f":"IF(ISNUMBER(SEARCH('3 Irrigation Schedule'!$B$19,K206)),MAX($J$1:J205)+1,0)","v":205},{"$f":"'Crop Information'!B211","v":"New crop"},null,{"$f":"IFERROR(VLOOKUP(ROWS($M$2:M206),$J$2:$K$763,2,FALSE),\"\")","v":"New crop"}]
[null,null,null,null,null,null,null,null,null,{"$f":"IF(ISNUMBER(SEARCH('3 Irrigation Schedule'!$B$19,K207)),MAX($J$1:J206)+1,0)","v":206},{"$f":"'Crop Information'!B212","v":"New crop"},null,{"$f":"IFERROR(VLOOKUP(ROWS($M$2:M207),$J$2:$K$763,2,FALSE),\"\")","v":"New crop"}]
[null,null,null,null,null,null,null,null,null,{"$f":"IF(ISNUMBER(SEARCH('3 Irrigation Schedule'!$B$19,K208)),MAX($J$1:J207)+1,0)","v":207},{"$f":"'Crop Information'!B213","v":"New crop"},null,{"$f":"IFERROR(VLOOKUP(ROWS($M$2:M208),$J$2:$K$763,2,FALSE),\"\")","v":"New crop"}]
[null,null,null,null,null,null,null,null,null,{"$f":"IF(ISNUMBER(SEARCH('3 Irrigation Schedule'!$B$19,K209)),MAX($J$1:J208)+1,0)","v":208},{"$f":"'Crop Information'!B214","v":"New crop"},null,{"$f":"IFERROR(VLOOKUP(ROWS($M$2:M209),$J$2:$K$763,2,FALSE),\"\")","v":"New crop"}]
[null,null,null,null,null,null,null,null,null,{"$f":"IF(ISNUMBER(SEARCH('3 Irrigation Schedule'!$B$19,K210)),MAX($J$1:J209)+1,0)","v":209},{"$f":"'Crop Information'!B215","v":"New crop"},null,{"$f":"IFERROR(VLOOKUP(ROWS($M$2:M210),$J$2:$K$763,2,FALSE),\"\")","v":"New crop"}]
[null,null,null,null,null,null,null,null,null,{"$f":"IF(ISNUMBER(SEARCH('3 Irrigation Schedule'!$B$19,K211)),MAX($J$1:J210)+1,0)","v":210},{"$f":"'Crop Information'!B216","v":"New crop"},null,{"$f":"IFERROR(VLOOKUP(ROWS($M$2:M211),$J$2:$K$763,2,FALSE),\"\")","v":"New crop"}]