{"text_format":"1","workbook":"xlsx","n_sheets":11,"sheets":["READ ME","1 Geographic Data","2 Crop Water Requirement","3 Livestock Water Requirement","4 Summary","5 How this tool works","Crop Information","Translate","Crop Calculation Sheet","General Calculation","Data Validation Sheet"],"not_rendered":{"charts":3,"images":14,"macros":1,"external_links":0,"defined_names":171,"comments":2,"pivot_tables":0},"unopened":[],"bounds":{"document_bytes":16777216,"sheet_cells":100000,"rows_first":2000,"rows_last":500,"rows_between":2000,"halvings":0,"cell_chars":16384,"cell_head_chars":4096},"cells_cut":0,"cells_raw":0,"read":"whole","date_system":"1900"}

{"sheet":"READ ME","index":0,"n_rows":103,"n_cols":7,"rows_kept":103,"cut":false,"hidden":false,"merged":[[80,3,92,9],[63,3,63,4],[63,5,63,7],[62,5,62,7],[60,3,62,4],[65,3,78,9],[27,3,27,9],[28,3,28,9],[55,3,55,4],[36,3,38,5],[36,6,38,9],[39,3,41,5],[39,6,41,9],[42,6,43,9],[42,3,43,5],[32,3,32,9],[55,5,55,9],[102,3,102,5],[54,3,54,9],[94,3,100,9],[44,3,45,5],[44,6,45,9],[46,3,47,5],[46,6,47,9],[56,5,57,9],[56,3,57,4],[53,3,53,9],[52,3,52,9],[59,3,59,4],[58,5,58,7],[58,3,58,4],[60,5,61,9],[49,3,51,9],[59,5,59,9],[11,3,11,9],[29,3,29,9],[30,3,30,9],[9,3,9,5],[9,6,9,8],[16,3,16,9],[18,3,18,9],[34,6,35,9],[31,3,31,9],[19,3,21,9],[22,3,22,9],[23,3,23,9],[26,3,26,9],[25,3,25,9],[34,3,35,5]]}
[]
[]
[]
[]
[]
[]
[]
[]
[]
[null,null,null,{"$f":"Translate!$C$24","v":"Select language"},null,null,"English"]
[]
[null,null,null,{"$f":"Translate!$C$25","v":"Read Me Sheet"}]
[]
[]
[]
[]
[null,null,null,{"$f":"Translate!C26","v":"SAFEGUARD WATER – Water Requirement Tool"}]
[]
[null,null,null,{"$f":"Translate!$C$27","v":"Introduction"}]
[null,null,null,{"$f":"Translate!$C$28","v":"This tool serves to calculate the water requirement for crops and livestock according to the geographic position, climatic data, and rainfall patterns at the Solar-Powered Irrigation System (SPIS) location. Complimentary tools are available under:"}]
[]
[]
[null,null,null,"http://www.fao.org/nr/water/aquastat/climateinfotool/index.stm"]
[null,null,null,"http://www.fao.org/land-water/databases-and-software/cropwat/en"]
[]
[null,null,null,{"$f":"Translate!$C$29","v":"Tips & Tricks"}]
[null,null,null,{"$f":"Translate!$C30","v":"● Make sure that macro is always enabled for the proper functioning of this tool  "}]
[null,null,null,{"$f":"Translate!$C31","v":"● Only enter values into white cells"}]
[null,null,null,{"$f":"Translate!$C32","v":"● This tool comprises drop down lists and macros to simplify data entry and results review."}]
[null,null,null,{"$f":"Translate!$C33","v":"● For the multilanguage option to work properly, do NOT delete sheets"}]
[null,null,null,{"$f":"Translate!$C34","v":"● Make sure that this file is always saved as \".xlsm\"    \n"}]
[null,null,null,{"$f":"Translate!$C$35","v":"Overview"}]
[null,null,null,{"$f":"Translate!$C$36","v":"This tool comprises the following sheet:"}]
[]
[null,null,null,{"$f":"Translate!$C$9","v":"1 Geographic Data"},null,null,{"$f":"Translate!$C$37","v":"for adding basic site information and entering climatic data"}]
[]
[null,null,null,{"$f":"Translate!$C$10","v":"2 Crop Water Requirement"},null,null,{"$f":"Translate!$C$38","v":"for selecting crops and planting periods; for automatic calculation of crop water requirements and irrigation water need"}]
[]
[]
[null,null,null,{"$f":"Translate!$C$11","v":"3 Livestock Water Requirement"},null,null,{"$f":"Translate!$C$39","v":"for adding the type and number of livestock; for automatic calculation of the water requirement for all livestock"}]
[]
[]
[null,null,null,{"$f":"Translate!$C$12","v":"4 Summary"},null,null,{"$f":"Translate!$C$40","v":"for the summary of crop and livestock water need"}]
[]
[null,null,null,{"$f":"Translate!$C$13","v":"5 How this tool works"},null,null,{"$f":"Translate!$C$41","v":"for understanding the way this tool works and on which data it is based on"}]
[]
[null,null,null,{"$f":"Translate!$C$14","v":"Crop Information"},null,null,{"$f":"Translate!$C$42","v":"for adjusting and adding the necessary crops information"}]
[]
[]
[null,null,null,{"$f":"Translate!$C$43","v":"This tool is based on the FAO Irrigation and Drainage Paper No. 56: Crop Evapotranspiration (guidelines for computing crop water requirements), available at:"}]
[]
[]
[null,null,null,"http://www.fao.org/3/x0490e/x0490e00.htm"]
[]
[null,null,null,{"$f":"Translate!$C$44","v":"About"}]
[null,null,null,{"$f":"Translate!$C$45","v":"Published by: "},null,{"$f":"Translate!$C$51","v":"GIZ & FAO"}]
[null,null,null,{"$f":"Translate!$C$46","v":"Responsible:"},null,{"$f":"Translate!$C$52","v":"GIZ project \"Water and Energy for Food (WE4F)\""}]
[]
[null,null,null,{"$f":"Translate!$C$47","v":"Contact:"},null,"we4f@giz.de"]
[null,null,null,{"$f":"Translate!$C$48","v":"Download link:"},null,"https://energypedia.info/wiki/Toolbox_on_SPIS"]
[null,null,null,{"$f":"Translate!$C$49","v":"About:"},null,{"$f":"Translate!$C$53","v":"Water and Energy for Food Grand Challenge at:  "}]
[]
[null,null,null,null,null,"https://we4f.org/"]
[null,null,null,{"$f":"Translate!$C$50","v":"Version:"},null,{"$f":"Translate!$C$54","v":"3.0 (June 2021)"}]
[]
[null,null,null,{"$f":"Translate!$C$55","v":"The Toolbox on Solar Powered Irrigation Systems (SPIS) is a legacy project of the global initiative Powering Agriculture: An Energy Grand Challenge for Development (PAEGC). In 2012, the United States Agency for International Development (USAID), the Swedish International Development Cooperation Agency (Sida), the German Federal Ministry for Economic Cooperation and Development (BMZ), Duke Energy, and the Overseas Private Investment Corporation (OPIC) combined resources to support new and sustainable approaches to accelerate the development and deployment of clean energy solutions for increasing agriculture productivity.\n\nThe Toolbox on SPIS has now been embraced for further development by PAEGC's successor program Water and Energy for Food (WE4F). WE4F is a joint international initiative of the European Union (EU), German Federal Ministry for Economic Cooperation and Development (BMZ), the Ministry of Foreign Affairs of the Kingdom of the Netherlands, Sweden through the Swedish International Development Cooperation Agency (Sida), and the U.S. Agency for International Development (USAID). WE4F aims to increase food production along the value chain through a more sustainable and efficient usage of water and/or energy."}]
[]
[]
[]
[]
[]
[]
[]
[]
[]
[]
[]
[]
[]
[]
[null,null,null,{"$f":"Translate!$C$56","v":"The designations employed and the presentation of material in this information product do not imply the expression of any opinion whatsoever on the part of Deutsche Gesellschaft für Internationale Zusammenarbeit (GIZ) GmbH, Food and Agriculture Organization of the United Nations (FAO) or any of the PAEGC Founding Partners concerning the legal or development status of any country, territory, city or area or of its authorities, or concerning the delimitation of its frontiers or boundaries. The mention of specific companies or products of manufacturers, whether or not these have been patented, does not imply that these have been endorsed or recommended by GIZ, FAO, or any of the PAEGC Founding Partners in preference to others of a similar nature that are not mentioned. The views expressed in this information product are those of the author and do not necessarily reflect the views or policies of GIZ, FAO, or any of the PAEGC Founding Partners."}]
[]
[]
[]
[]
[]
[]
[]
[]
[]
[]
[]
[]
[]
[null,null,null,{"$f":"Translate!$C$57","v":"GIZ, FAO and the PAEGC Founding Partners encourage the use, reproduction and dissemination of material in this information product. Except where otherwise indicated, material may be copied, downloaded and printed for private study, research and teaching purposes, or for use in non-commercial products or services, provided that appropriate acknowledgement of GIZ and FAO as the source and copyright holder is given."}]
[]
[]
[]
[]
[]
[]
[]
[null,null,null,{"$f":"Translate!$C$58","v":"© GIZ and FAO, 2021"}]

{"sheet":"1 Geographic Data","index":1,"n_rows":56,"n_cols":14,"rows_kept":56,"cut":false,"hidden":false,"merged":[[15,0,15,1],[30,0,30,7],[55,0,55,2],[37,4,37,5],[55,3,55,5],[16,2,16,8],[17,2,17,8],[18,2,18,9],[19,2,19,7],[9,2,9,9],[10,2,10,4],[11,2,11,4],[12,2,12,4],[36,4,36,5],[35,5,35,7],[36,9,36,13],[31,9,31,11],[31,6,31,8],[7,2,7,4],[7,7,7,9],[0,0,0,14],[1,0,1,14],[3,0,4,14],[6,2,6,4],[6,7,6,9]]}
[{"$f":"Translate!$C$72","v":"SAFEGUARD WATER – Water Requirement Tool"}]
[{"$f":"Translate!$C$73","v":"Enter basic rainfall and climatic data for you location."}]
[]
[{"$f":"Translate!$C$74","v":"1 GENERAL GEOGRAPHIC INFORMATION"}]
[]
[]
[{"$f":"Translate!$C$75","v":"Country"},null,"Kenya",null,null,null,{"$f":"Translate!$C$77","v":"Region"},"Taita Taveta"]
[{"$f":"Translate!$C$76","v":"Farm code"},null,"Mary Wanjiku's Farm",null,null,null,{"$f":"Translate!$C$78","v":"Date"}]
[]
[{"$f":"Translate!$C$79","v":"Name of the farm"}]
[{"$f":"Translate!$C$80","v":"Village"}]
[{"$f":"Translate!$C$81","v":"Division"}]
[{"$f":"Translate!$C$82","v":"District"}]
[]
[]
[{"$f":"Translate!$C$83","v":"Select available climatic data:"}]
[{"$f":"Translate!$C$84","v":"Option 1:  "},null,{"$f":"Translate!$C$85","v":"Only mean temperature"}]
[{"$f":"Translate!$C$86","v":"Option 2:  "},null,{"$f":"Translate!$C$87","v":"Maximum and minimum temperature"}]
[{"$f":"Translate!$C$88","v":"Option 3:  "},null,{"$f":"Translate!$C$89","v":"Maximum and minimum temperature; humidity; wind speed; and sun hours "}]
[{"$f":"Translate!$C$90","v":"Option 4:  "},null,{"$f":"Translate!$C$91","v":"Reference evapotranspiration"}]
[]
[null,null,{"$f":"TRANSPOSE(Translate!$C$60:$C$71)","v":"January"},"February","March","April","May","June","July","August","September","October","November","December"]
[{"$f":"Translate!$C$92","v":"Mean daily temperature [°C]"},null,25.5,25,24.6,23.8,23.9,23.5,23,23,23.6,23.9,23.6,24]
[{"$f":"Translate!$C$93","v":"Maximum daily temperature [°C]"}]
[{"$f":"Translate!$C$94","v":"Minimum daily temperature [°C]"}]
[{"$f":"Translate!$C$95","v":"Relative humidity [%]"}]
[{"$f":"Translate!$C$96","v":"Wind speed [m/s]"}]
[{"$f":"Translate!$C$97","v":"Sunshine [hours]"}]
[{"$f":"Translate!$C$98","v":"Reference evapotranspiration [mm/day]"}]
[{"$f":"Translate!$C$99","v":"Rainfall [mm/month]"},null,45,33,69.3,142.80000000000001,109.8,38.1,27,21.6,18.3,48.3,97.2,86.1]
[{"$f":"Translate!$C$100","v":"Use the following links to obtain indicative monthly rainfall and climatic data for the site:"}]
[null,null,null,null,null,null,"http://www.worldclimate.com",null,null,"http://www.weatherbase.com"]
[]
[{"$f":"Translate!$C$101","v":"Select geographic location:"}]
[null,null,{"$f":"Translate!$C$112","v":"Altitude:"},null,{"$f":"Translate!$C$113","v":" meter"}]
[null,null,null,null,null,{"$f":"Translate!$C$105","v":"Hemisphere:"}]
[null,null,{"$f":"Translate!$C$102","v":"Latitude:"},3.33,{"$f":"Translate!$C$104","v":" decimal degree"},null,"North",null,null,{"$f":"Translate!$C$110","v":"Notes:"}]
[null,null,{"$f":"Translate!$C$103","v":"Longitude:"},38.549999999999997,{"$f":"Translate!$C$104","v":" decimal degree"},null,"East"]
[]
[]
[]
[]
[]
[]
[]
[]
[]
[]
[]
[]
[]
[]
[]
[]
[]
[{"$f":"Translate!$C$111","v":"Use the link to identify the exact coordinates of the site:"},null,null,"https://www.google.com/maps"]

{"sheet":"2 Crop Water Requirement","index":2,"n_rows":33,"n_cols":18,"rows_kept":33,"cut":false,"hidden":false,"merged":[[19,6,19,7],[17,1,17,2],[14,1,14,2],[5,15,5,18],[5,8,5,11],[7,3,7,5],[5,12,5,14],[0,0,0,17],[3,0,4,17],[1,0,1,17],[13,1,13,2],[12,1,12,2],[11,1,11,2],[12,16,12,17],[29,9,29,12],[11,16,11,17],[31,3,31,5],[31,6,31,7],[21,15,21,16],[23,15,23,16],[25,15,25,16],[21,9,21,12],[23,9,23,12],[19,9,19,11],[19,15,19,16],[29,15,29,16],[27,15,27,16],[27,9,27,12],[25,9,25,12],[19,13,19,14],[31,8,31,10],[32,3,32,5],[32,6,32,7],[32,8,32,10],[31,12,31,16],[32,12,32,16]]}
[{"$f":"Translate!$C$115","v":"SAFEGUARD WATER – Water Requirement Tool"}]
[{"$f":"Translate!$C$116","v":"Select crop intended for planting at your location, for automatic indication of water requirements"}]
[]
[{"$f":"Translate!$C$117","v":"2 CROP WATER REQUIREMENT"}]
[]
[null,null,null,null,null,null,null,null,null,null,null,null,{"$f":"Translate!$C$118","v":"Farm code/name:"},null,null,{"$f":"'1 Geographic Data'!$C$8","v":"Mary Wanjiku's Farm"}]
[]
[null,{"$f":"Translate!$C$120","v":"Area measurement unit: "},"acre",{"$f":"Translate!$C$119","v":"Conversion factor to 1 ha:"},null,null,{"$f":"INDEX('Data Validation Sheet'!C1:$C$6,MATCH('2 Crop Water Requirement'!$C$8,'Data Validation Sheet'!$B$1:$B$6,0))","v":2.47105}]
[]
[]
[null,null,null,{"$f":"'General Calculation'!D123","v":"May"},{"$f":"'General Calculation'!E123","v":"June"},{"$f":"'General Calculation'!F123","v":"July"},{"$f":"'General Calculation'!G123","v":"August"},{"$f":"'General Calculation'!H123","v":"September"},{"$f":"'General Calculation'!I123","v":"October"},{"$f":"'General Calculation'!J123","v":"November"},{"$f":"'General Calculation'!K123","v":"December"},{"$f":"'General Calculation'!L123","v":"January"},{"$f":"'General Calculation'!M123","v":"February"},{"$f":"'General Calculation'!N123","v":"March"},{"$f":"'General Calculation'!O123","v":"April"}]
[null,{"$f":"'1 Geographic Data'!A23","v":"Mean daily temperature [°C]"},null,{"$f":"'General Calculation'!D126","v":23.9},{"$f":"'General Calculation'!E126","v":23.5},{"$f":"'General Calculation'!F126","v":23},{"$f":"'General Calculation'!G126","v":23},{"$f":"'General Calculation'!H126","v":23.6},{"$f":"'General Calculation'!I126","v":23.9},{"$f":"'General Calculation'!J126","v":23.6},{"$f":"'General Calculation'!K126","v":24},{"$f":"'General Calculation'!L126","v":25.5},{"$f":"'General Calculation'!M126","v":25},{"$f":"'General Calculation'!N126","v":24.6},{"$f":"'General Calculation'!O126","v":23.8},{"$f":"Translate!$C$129","v":"°C"},{"$f":"Translate!$C$132","v":"Above average temperature"}]
[null,{"$f":"'1 Geographic Data'!A30","v":"Rainfall [mm/month]"},null,{"$f":"'General Calculation'!D127","v":109.8},{"$f":"'General Calculation'!E127","v":38.1},{"$f":"'General Calculation'!F127","v":27},{"$f":"'General Calculation'!G127","v":21.6},{"$f":"'General Calculation'!H127","v":18.3},{"$f":"'General Calculation'!I127","v":48.3},{"$f":"'General Calculation'!J127","v":97.2},{"$f":"'General Calculation'!K127","v":86.1},{"$f":"'General Calculation'!L127","v":45},{"$f":"'General Calculation'!M127","v":33},{"$f":"'General Calculation'!N127","v":69.3},{"$f":"'General Calculation'!O127","v":142.80000000000001},{"$f":"Translate!$C$130","v":"mm/month"},{"$f":"Translate!$C$133","v":"Above average rainfall"}]
[null,{"$f":"Translate!$C$127","v":"First year: Irrigation water need [m³/day]"},null,{"$f":"'General Calculation'!D186","v":20.184507347775426},{"$f":"'General Calculation'!E186","v":53.409944190766097},{"$f":"'General Calculation'!F186","v":58.421751118090867},{"$f":"'General Calculation'!G186","v":52.421732551839177},{"$f":"'General Calculation'!H186","v":0},{"$f":"'General Calculation'!I186","v":0},{"$f":"'General Calculation'!J186","v":0},{"$f":"'General Calculation'!K186","v":0},{"$f":"'General Calculation'!L186","v":0},{"$f":"'General Calculation'!M186","v":0},{"$f":"'General Calculation'!N186","v":0},{"$f":"'General Calculation'!O186","v":0},{"$f":"Translate!$C$131","v":"m³/day"}]
[null,{"$f":"Translate!$C$128","v":"Second year: Irrigation water need [m³/day]"},null,{"$f":"'General Calculation'!P186","v":0},{"$f":"'General Calculation'!Q186","v":0},{"$f":"'General Calculation'!R186","v":40.14151545143659},{"$f":"'General Calculation'!S186","v":56.568805839724384},{"$f":"'General Calculation'!T186","v":61.179137673518646},{"$f":"'General Calculation'!U186","v":29.10602161923968},{"$f":"'General Calculation'!V186","v":0},{"$f":"'General Calculation'!W186","v":0},{"$f":"'General Calculation'!X186","v":0},{"$f":"'General Calculation'!Y186","v":0},{"$f":"'General Calculation'!Z186","v":0},{"$f":"'General Calculation'!AA186","v":0},{"$f":"Translate!$C$131","v":"m³/day"}]
[]
[]
[null,{"$f":"Translate!$C$134","v":"Total farm area:"},null,5,{"$f":"$C$8","v":"acre"}]
[]
[null,{"$f":"Translate!$C$135","v":"Crop to be irrigated "},null,{"$f":"Translate!$C$136","v":"Area"},null,{"$f":"Translate!$C$137","v":"Season"},{"$f":"Translate!$C$138","v":"Planting Date"},null,null,{"$f":"Translate!$C$139","v":"Irrigation method"},null,null,null,{"$f":"Translate!$C$140","v":"Irrigation Efficiency"},null,{"$f":"Translate!$C$141","v":"Cropping density"}]
[null,"¸",null,{"$f":"$C$8","v":"acre"},null,null,null,{"$f":"TODAY()","v":"2021-10-29"}]
[null,"Carrots (Oct/Jan - Arid climate )",null,2.5,{"$f":"IF(AND(F22='Data Validation Sheet'!$C$19,'Data Validation Sheet'!$E$19>'Data Validation Sheet'!$B$12),0,IF(AND(F22='Data Validation Sheet'!$C$20,'Data Validation Sheet'!$E$20>'Data Validation Sheet'!$B$12),0,1))","v":1},"Season 1",null,"2021-05-01",null,"Microirrigation: Drip irrigation",null,null,null,{"$f":"IFERROR(IF(J22=0,\"\",'General Calculation'!$AD$166),\"\")","v":0.9},null,"Normal spacing"]
[]
[null,"Carrots (Oct/Jan - Arid climate )",null,2.5,{"$f":"IF(AND(F24='Data Validation Sheet'!$C$19,'Data Validation Sheet'!$E$19>'Data Validation Sheet'!$B$12),0,IF(AND(F24='Data Validation Sheet'!$C$20,'Data Validation Sheet'!$E$20>'Data Validation Sheet'!$B$12),0,1))","v":1},"Season 2",null,"2022-07-01",null,"Microirrigation: Drip irrigation",null,null,null,{"$f":"IFERROR(IF(J24=0,\"\",'General Calculation'!$AD$167),\"\")","v":0.9},null,"Normal spacing"]
[]
[null,"none",null,null,{"$f":"IF(AND(F26='Data Validation Sheet'!$C$19,'Data Validation Sheet'!$E$19>'Data Validation Sheet'!$B$12),0,IF(AND(F26='Data Validation Sheet'!$C$20,'Data Validation Sheet'!$E$20>'Data Validation Sheet'!$B$12),0,1))","v":1},"Season 1",null,null,null,null,null,null,null,{"$f":"IFERROR(IF(J26=0,\"\",'General Calculation'!$AD$168),\"\")","v":""},null,"Normal spacing"]
[]
[null,"none",null,null,{"$f":"IF(AND(F28='Data Validation Sheet'!$C$19,'Data Validation Sheet'!$E$19>'Data Validation Sheet'!$B$12),0,IF(AND(F28='Data Validation Sheet'!$C$20,'Data Validation Sheet'!$E$20>'Data Validation Sheet'!$B$12),0,1))","v":1},"Season 1",null,null,null,null,null,null,null,{"$f":"IFERROR(IF(J28=0,\"\",'General Calculation'!$AD$169),\"\")","v":""},null,"Normal spacing"]
[]
[null,"none",null,null,{"$f":"IF(AND(F30='Data Validation Sheet'!$C$19,'Data Validation Sheet'!$E$19>'Data Validation Sheet'!$B$12),0,IF(AND(F30='Data Validation Sheet'!$C$20,'Data Validation Sheet'!$E$20>'Data Validation Sheet'!$B$12),0,1))","v":1},"Season 1",null,null,null,null,null,null,null,{"$f":"IFERROR(IF(J30=0,\"\",'General Calculation'!$AD$170),\"\")","v":""},null,"Normal spacing"]
[]
[null,{"$f":"Translate!$C$162","v":"Maximum daily irrigation water need - year 1:"},{"$f":"'General Calculation'!$D$191","v":58.421751118090867},{"$f":" Translate!$C$164&\" \"&'General Calculation'!$E$191&\" \"&'General Calculation'!$F$191","v":"m³ in the month of  July 2021"},null,null,{"$f":"Translate!$C$165&\" \" &'1 Geographic Data'!$C$7","v":"in Kenya"},null,{"$f":"Translate!$C$166","v":"Pump utilization rate:"},null,null,{"$f":"'General Calculation'!$D$193","v":0.26308399936474824},{"$f":"Translate!$C$168","v":"Yearly water need in m³ - year 2:"},null,null,null,null,{"$f":"'General Calculation'!$D$190","v":4458.4661985795519}]
[null,{"$f":"Translate!$C$163","v":"Maximum daily irrigation water need - year 2:"},{"$f":"'General Calculation'!$H$191","v":61.179137673518646},{"$f":" Translate!$C$164&\" \"&'General Calculation'!$I$191&\" \"&'General Calculation'!$J$191","v":"m³ in the month of  September 2022"},null,null,{"$f":"Translate!$C$165&\" \" &'1 Geographic Data'!$C$7","v":"in Kenya"},null,{"$f":"Translate!$C$166","v":"Pump utilization rate:"},null,null,{"$f":"'General Calculation'!$H$193","v":0.25471030334694766},{"$f":"Translate!$C$167","v":"Yearly water need in m³ - year 1:"},null,null,null,null,{"$f":"'General Calculation'!$H$190","v":5066.242263185467}]

{"sheet":"3 Livestock Water Requirement","index":3,"n_rows":39,"n_cols":22,"rows_kept":39,"cut":false,"hidden":false,"merged":[[38,17,38,19],[38,8,38,10],[10,1,10,3],[11,1,11,3],[21,1,21,2],[24,1,24,2],[27,1,27,2],[30,1,30,2],[33,1,33,2],[14,1,14,3],[38,1,38,6],[15,1,15,3],[8,19,10,21],[38,11,38,14],[3,1,4,22],[0,1,0,22],[1,1,1,22],[5,20,5,22],[5,18,5,19]]}
[null,{"$f":"Translate!$C$176","v":"SAFEGUARD WATER – Water Requirement Tool"}]
[null,{"$f":"Translate!$C$177","v":"Enter the number of livestock head per month at your location, for automatic indication of water requirements."}]
[]
[null,{"$f":"Translate!$C$178","v":"3 LIVESTOCK WATER REQUIREMENT"}]
[]
[null,null,null,null,null,null,null,null,null,null,null,null,null,null,null,null,null,null,{"$f":"Translate!$C$179","v":"Farm code/name:"},null,{"$f":"'1 Geographic Data'!C8","v":"Mary Wanjiku's Farm"}]
[]
[]
[null,null,null,null,null,null,null,null,null,null,null,null,null,null,null,null,null,null,null,"https://www.agric.wa.gov.au/small-landholders-western-australia/calculating-livestock-water-requirements-small-landholders?page=0%2C1"]
[null,null,null,null,{"$f":"'General Calculation'!D123","v":"May"},{"$f":"'General Calculation'!E123","v":"June"},{"$f":"'General Calculation'!F123","v":"July"},{"$f":"'General Calculation'!G123","v":"August"},{"$f":"'General Calculation'!H123","v":"September"},{"$f":"'General Calculation'!I123","v":"October"},{"$f":"'General Calculation'!J123","v":"November"},{"$f":"'General Calculation'!K123","v":"December"},{"$f":"'General Calculation'!L123","v":"January"},{"$f":"'General Calculation'!M123","v":"February"},{"$f":"'General Calculation'!N123","v":"March"},{"$f":"'General Calculation'!O123","v":"April"}]
[null,{"$f":"'1 Geographic Data'!A23","v":"Mean daily temperature [°C]"},null,null,{"$f":"'General Calculation'!D126","v":23.9},{"$f":"'General Calculation'!E126","v":23.5},{"$f":"'General Calculation'!F126","v":23},{"$f":"'General Calculation'!G126","v":23},{"$f":"'General Calculation'!H126","v":23.6},{"$f":"'General Calculation'!I126","v":23.9},{"$f":"'General Calculation'!J126","v":23.6},{"$f":"'General Calculation'!K126","v":24},{"$f":"'General Calculation'!L126","v":25.5},{"$f":"'General Calculation'!M126","v":25},{"$f":"'General Calculation'!N126","v":24.6},{"$f":"'General Calculation'!O126","v":23.8}]
[null,{"$f":"'1 Geographic Data'!A30","v":"Rainfall [mm/month]"},null,null,{"$f":"'General Calculation'!D127","v":109.8},{"$f":"'General Calculation'!E127","v":38.1},{"$f":"'General Calculation'!F127","v":27},{"$f":"'General Calculation'!G127","v":21.6},{"$f":"'General Calculation'!H127","v":18.3},{"$f":"'General Calculation'!I127","v":48.3},{"$f":"'General Calculation'!J127","v":97.2},{"$f":"'General Calculation'!K127","v":86.1},{"$f":"'General Calculation'!L127","v":45},{"$f":"'General Calculation'!M127","v":33},{"$f":"'General Calculation'!N127","v":69.3},{"$f":"'General Calculation'!O127","v":142.80000000000001}]
[null,null,null,null,null,null,null,null,null,null,null,null,null,null,null,null,null,null,null,{"$f":"Translate!$C$183","v":"Enter new livestock data here:"},{"$f":"Translate!$C$184","v":"Long term average demand (L/day)"},{"$f":"Translate!$C$185","v":"Maximum summer demand (L/day)"}]
[null,null,null,null,null,null,null,null,null,null,null,null,null,null,null,null,null,null,null,{"$f":"Translate!C186","v":"Alpaca (lactating)"},10,25]
[null,{"$f":"Translate!$C$180","v":"Total water need per day [l/day]"},null,null,{"$f":"SUM(E23,E26,E29,E32,E35)","v":0},{"$f":"SUM(F23,F26,F29,F32,F35)","v":0},0,0,0,0,0,0,0,0,0,0,null,null,null,{"$f":"Translate!$C$187","v":"Alpaca (dry, adult)"},4,10]
[null,{"$f":"Translate!$C$181","v":"Total water need per day [m³/day]"},null,null,{"$f":"E15/1000","v":0},{"$f":"F15/1000","v":0},{"$f":"G15/1000","v":0},0,0,0,0,0,0,0,0,0,null,null,null,{"$f":"Translate!$C$188","v":"Alpaca (<12 months)"},3,6]
[null,null,null,null,null,null,null,null,null,null,null,null,null,null,null,null,null,null,null,{"$f":"Translate!$C$189","v":"Camel (average size)"},30,40]
[null,null,null,null,null,null,null,null,null,null,null,null,null,null,null,null,null,null,null,{"$f":"Translate!$C$190","v":"Cattle (lactating)"},80,160]
[null,null,null,null,null,null,null,null,null,null,null,null,null,null,null,null,null,null,null,{"$f":"Translate!$C$191","v":"Cattle (adult, dry)"},50,100]
[null,{"$f":"Translate!$C$182","v":"Livestock type:"},null,null,{"$f":"E10","v":"May"},{"$f":"F10","v":"June"},"July","August","September","October","November","December","January","February","March","April",null,null,null,{"$f":"Translate!$C$192","v":"Cattle (weaner)"},25,50]
[null,null,null,null,null,null,null,null,null,null,null,null,null,null,null,null,null,null,null,{"$f":"Translate!$C$193","v":"Chicken (1-4 weeks)"},0.13,0.41499999999999998]
[null,null,null,"#",3,3,3,3,3,3,3,3,3,3,3,3,null,null,null,{"$f":"Translate!$C$194","v":"Chicken (5-8 weeks)"},0.40699999999999997,0.77]
[null,null,null,{"$f":"Translate!$C$209","v":"l / day"},{"$f":"IFERROR(IF(AVERAGE($E$11:$P$11)>E$11,VLOOKUP($B$22,$T$14:$V$36,2,FALSE),VLOOKUP($B$22,$T$14:$V$36,3,FALSE))*E22,\"\")","v":""},{"$f":"IFERROR(IF(AVERAGE($E$11:$P$11)>F$11,VLOOKUP($B$22,$T$14:$V$36,2,FALSE),VLOOKUP($B$22,$T$14:$V$36,3,FALSE))*F22,\"\")","v":""},"","","","","","","","","","",null,null,null,{"$f":"Translate!$C$195","v":"Goats (lactating)"},20,40]
[null,null,null,null,null,null,null,null,null,null,null,null,null,null,null,null,null,null,null,{"$f":"Translate!$C$196","v":"Goats (adult, dry)"},10,20]
[null,null,null,"#",null,null,null,null,null,null,null,null,null,null,null,null,null,null,null,{"$f":"Translate!$C$197","v":"Goats (weaner)"},5,10]
[null,null,null,{"$f":"Translate!$C$209","v":"l / day"},{"$f":"IFERROR(IF(AVERAGE($E$11:$P$11)>E$11,VLOOKUP($B$25,$T$14:$V$36,2,FALSE),VLOOKUP($B$25,$T$14:$V$36,3,FALSE))*E25,\"\")","v":""},{"$f":"IFERROR(IF(AVERAGE($E$11:$P$11)>F$11,VLOOKUP($B$25,$T$14:$V$36,2,FALSE),VLOOKUP($B$25,$T$14:$V$36,3,FALSE))*F25,\"\")","v":""},"","","","","","","","","","",null,null,null,{"$f":"Translate!$C$198","v":"Horses (lactating)"},90,140]
[null,null,null,null,null,null,null,null,null,null,null,null,null,null,null,null,null,null,null,{"$f":"Translate!$C$199","v":"Horses (adult, dry)"},45,70]
[null,null,null,"#",null,null,null,null,null,null,null,null,null,null,null,null,null,null,null,{"$f":"Translate!$C$200","v":"Horses (<12 months)"},20,40]
[null,null,null,{"$f":"Translate!$C$209","v":"l / day"},{"$f":"IFERROR(IF(AVERAGE($E$11:$P$11)>E$11,VLOOKUP($B$28,$T$14:$V$36,2,FALSE),VLOOKUP($B$28,$T$14:$V$36,3,FALSE))*E28,\"\")","v":""},{"$f":"IFERROR(IF(AVERAGE($E$11:$P$11)>F$11,VLOOKUP($B$28,$T$14:$V$36,2,FALSE),VLOOKUP($B$28,$T$14:$V$36,3,FALSE))*F28,\"\")","v":""},"","","","","","","","","","",null,null,null,{"$f":"Translate!$C$201","v":"Pig (lactating)"},24,45]
[null,null,null,null,null,null,null,null,null,null,null,null,null,null,null,null,null,null,null,{"$f":"Translate!$C$202","v":"Pig (adult, dry)"},12,15]
[null,null,null,"#",null,null,null,null,null,null,null,null,null,null,null,null,null,null,null,{"$f":"Translate!$C$203","v":"Pig (Weaner)"},3,3]
[null,null,null,{"$f":"Translate!$C$209","v":"l / day"},{"$f":"IFERROR(IF(AVERAGE($E$11:$P$11)>E$11,VLOOKUP($B$31,$T$14:$V$36,2,FALSE),VLOOKUP($B$31,$T$14:$V$36,3,FALSE))*E31,\"\")","v":""},{"$f":"IFERROR(IF(AVERAGE($E$11:$P$11)>F$11,VLOOKUP($B$31,$T$14:$V$36,2,FALSE),VLOOKUP($B$31,$T$14:$V$36,3,FALSE))*F31,\"\")","v":""},"","","","","","","","","","",null,null,null,{"$f":"Translate!$C$204","v":"Sheep (lactating)"},7,14]
[null,null,null,null,null,null,null,null,null,null,null,null,null,null,null,null,null,null,null,{"$f":"Translate!$C$205","v":"Sheep (adult, dry)"},5,10]
[null,null,null,"#",null,null,null,null,null,null,null,null,null,null,null,null,null,null,null,{"$f":"Translate!$C$206","v":"Sheep (weaners)"},3,5]
[null,null,null,{"$f":"Translate!$C$209","v":"l / day"},{"$f":"IFERROR(IF(AVERAGE($E$11:$P$11)>E$11,VLOOKUP($B$34,$T$14:$V$36,2,FALSE),VLOOKUP($B$34,$T$14:$V$36,3,FALSE))*E34,\"\")","v":""},{"$f":"IFERROR(IF(AVERAGE($E$11:$P$11)>F$11,VLOOKUP($B$34,$T$14:$V$36,2,FALSE),VLOOKUP($B$34,$T$14:$V$36,3,FALSE))*F34,\"\")","v":""},"","","","","","","","","","",null,null,null,{"$f":"Translate!$C$207","v":"Other"}]
[null,null,null,null,null,null,null,null,null,null,null,null,null,null,null,null,null,null,null,{"$f":"Translate!$C$208","v":"Other"}]
[]
[]
[null,{"$f":"Translate!$C$213","v":"Maximum daily water need:"},null,null,null,null,null,{"$f":"MAX($E$16:$P$16)","v":0},{"$f":" Translate!$C$214&\" \"& 'General Calculation'!$E$221 & \".\"","v":{"$error":"#VALUE!"}},null,null,{"$f":"Translate!$C$215","v":"Pump utilization rate:"},null,null,null,{"$f":"'General Calculation'!$D$223","v":{"$error":"#VALUE!"}},null,{"$f":"Translate!$C$216","v":"Yearly water need in m³:"},null,null,{"$f":"'General Calculation'!D220","v":{"$error":"#VALUE!"}}]

{"sheet":"4 Summary","index":4,"n_rows":46,"n_cols":31,"rows_kept":46,"cut":false,"hidden":false,"merged":[[0,0,0,31],[1,0,1,31],[10,4,10,5],[11,2,11,3],[9,0,9,3],[5,26,5,30],[37,7,37,30],[45,10,45,12],[45,14,45,17],[5,23,5,25],[3,0,4,31],[45,1,45,5],[22,0,22,3],[35,0,35,3],[45,7,45,9],[10,7,10,30],[13,2,13,3],[14,2,14,3],[15,2,15,3],[16,2,16,3],[30,2,30,3],[17,2,17,3],[26,2,26,3],[27,2,27,3],[28,2,28,3],[29,2,29,3],[23,7,23,30]]}
[{"$f":"Translate!$C$218","v":"SAFEGUARD WATER – Water Requirement Tool"}]
[{"$f":"Translate!$C$219","v":"Summary Sheet of Crop Water Requirements and Livestock Water Requirements"}]
[]
[{"$f":"Translate!$C$220","v":"4 Summary for Total Annual Water Requirements"}]
[]
[null,null,null,null,null,null,null,null,null,null,null,null,null,null,null,null,null,null,null,null,null,null,null,{"$f":"Translate!$C$221","v":"Farm code/name:"},null,null,{"$f":"'1 Geographic Data'!C8","v":"Mary Wanjiku's Farm"}]
[]
[]
[]
[{"$f":"Translate!$C$222","v":"Crop Water Requirements"}]
[null,null,null,null,{"$f":"'2 Crop Water Requirement'!$D$20","v":"Area"},null,null,{"$f":"Translate!$C$223","v":"Crop Water need [m³/day]"}]
[null,null,{"$f":"Translate!$C$224","v":"Crops"},null,{"$f":"Translate!$C$225","v":"Season 1"},{"$f":"Translate!$C$226","v":"Season 2"},null,{"$f":"'General Calculation'!D230","v":"May"},{"$f":"'General Calculation'!E230","v":"June"},{"$f":"'General Calculation'!F230","v":"July"},{"$f":"'General Calculation'!G230","v":"August"},{"$f":"'General Calculation'!H230","v":"September"},{"$f":"'General Calculation'!I230","v":"October"},{"$f":"'General Calculation'!J230","v":"November"},{"$f":"'General Calculation'!K230","v":"December"},{"$f":"'General Calculation'!L230","v":"January"},{"$f":"'General Calculation'!M230","v":"February"},{"$f":"'General Calculation'!N230","v":"March"},{"$f":"'General Calculation'!O230","v":"April"},{"$f":"'General Calculation'!P230","v":"May"},{"$f":"'General Calculation'!Q230","v":"June"},{"$f":"'General Calculation'!R230","v":"July"},{"$f":"'General Calculation'!S230","v":"August"},{"$f":"'General Calculation'!T230","v":"September"},{"$f":"'General Calculation'!U230","v":"October"},{"$f":"'General Calculation'!V230","v":"November"},{"$f":"'General Calculation'!W230","v":"December"},{"$f":"'General Calculation'!X230","v":"January"},{"$f":"'General Calculation'!Y230","v":"February"},{"$f":"'General Calculation'!Z230","v":"March"},{"$f":"'General Calculation'!AA230","v":"April"}]
[]
[null,null,{"$f":"IF('General Calculation'!C181=\"\",\" - \",'General Calculation'!C181)","v":"Carrots "},null,{"$f":"IF(OR('2 Crop Water Requirement'!$F$22='Data Validation Sheet'!$C$20,'2 Crop Water Requirement'!$D$22=\"\"),\"\",'2 Crop Water Requirement'!$D$22)","v":2.5},{"$f":"IF(OR('2 Crop Water Requirement'!$F$22='Data Validation Sheet'!$C$19,'2 Crop Water Requirement'!$D$22=\"\"),\"\",'2 Crop Water Requirement'!$D$22)","v":""},null,{"$f":"IF('General Calculation'!D181=0,\" - \",'General Calculation'!D181)","v":20.184507347775426},{"$f":"IF('General Calculation'!E181=0,\" - \",'General Calculation'!E181)","v":53.409944190766097},{"$f":"IF('General Calculation'!F181=0,\" - \",'General Calculation'!F181)","v":58.421751118090867},{"$f":"IF('General Calculation'!G181=0,\" - \",'General Calculation'!G181)","v":52.421732551839177},{"$f":"IF('General Calculation'!H181=0,\" - \",'General Calculation'!H181)","v":" - "},{"$f":"IF('General Calculation'!I181=0,\" - \",'General Calculation'!I181)","v":" - "},{"$f":"IF('General Calculation'!J181=0,\" - \",'General Calculation'!J181)","v":" - "},{"$f":"IF('General Calculation'!K181=0,\" - \",'General Calculation'!K181)","v":" - "},{"$f":"IF('General Calculation'!L181=0,\" - \",'General Calculation'!L181)","v":" - "},{"$f":"IF('General Calculation'!M181=0,\" - \",'General Calculation'!M181)","v":" - "},{"$f":"IF('General Calculation'!N181=0,\" - \",'General Calculation'!N181)","v":" - "},{"$f":"IF('General Calculation'!O181=0,\" - \",'General Calculation'!O181)","v":" - "},{"$f":"IF('General Calculation'!P181=0,\" - \",'General Calculation'!P181)","v":" - "},{"$f":"IF('General Calculation'!Q181=0,\" - \",'General Calculation'!Q181)","v":" - "},{"$f":"IF('General Calculation'!R181=0,\" - \",'General Calculation'!R181)","v":" - "},{"$f":"IF('General Calculation'!S181=0,\" - \",'General Calculation'!S181)","v":" - "},{"$f":"IF('General Calculation'!T181=0,\" - \",'General Calculation'!T181)","v":" - "},{"$f":"IF('General Calculation'!U181=0,\" - \",'General Calculation'!U181)","v":" - "},{"$f":"IF('General Calculation'!V181=0,\" - \",'General Calculation'!V181)","v":" - "},{"$f":"IF('General Calculation'!W181=0,\" - \",'General Calculation'!W181)","v":" - "},{"$f":"IF('General Calculation'!X181=0,\" - \",'General Calculation'!X181)","v":" - "},{"$f":"IF('General Calculation'!Y181=0,\" - \",'General Calculation'!Y181)","v":" - "},{"$f":"IF('General Calculation'!Z181=0,\" - \",'General Calculation'!Z181)","v":" - "},{"$f":"IF('General Calculation'!AA181=0,\" - \",'General Calculation'!AA181)","v":" - "}]
[null,null,{"$f":"IF('General Calculation'!C182=\"\",\" - \",'General Calculation'!C182)","v":"Carrots "},null,{"$f":"IF(OR('2 Crop Water Requirement'!$F$24='Data Validation Sheet'!$C$20,'2 Crop Water Requirement'!$D$24=\"\"),\"\",'2 Crop Water Requirement'!$D$24)","v":""},{"$f":"IF(OR('2 Crop Water Requirement'!$F$24='Data Validation Sheet'!$C$19,'2 Crop Water Requirement'!$D$24=\"\"),\"\",'2 Crop Water Requirement'!$D$24)","v":2.5},null,{"$f":"IF('General Calculation'!D182=0,\" - \",'General Calculation'!D182)","v":" - "},{"$f":"IF('General Calculation'!E182=0,\" - \",'General Calculation'!E182)","v":" - "},{"$f":"IF('General Calculation'!F182=0,\" - \",'General Calculation'!F182)","v":" - "},{"$f":"IF('General Calculation'!G182=0,\" - \",'General Calculation'!G182)","v":" - "},{"$f":"IF('General Calculation'!H182=0,\" - \",'General Calculation'!H182)","v":" - "},{"$f":"IF('General Calculation'!I182=0,\" - \",'General Calculation'!I182)","v":" - "},{"$f":"IF('General Calculation'!J182=0,\" - \",'General Calculation'!J182)","v":" - "},{"$f":"IF('General Calculation'!K182=0,\" - \",'General Calculation'!K182)","v":" - "},{"$f":"IF('General Calculation'!L182=0,\" - \",'General Calculation'!L182)","v":" - "},{"$f":"IF('General Calculation'!M182=0,\" - \",'General Calculation'!M182)","v":" - "},{"$f":"IF('General Calculation'!N182=0,\" - \",'General Calculation'!N182)","v":" - "},{"$f":"IF('General Calculation'!O182=0,\" - \",'General Calculation'!O182)","v":" - "},{"$f":"IF('General Calculation'!P182=0,\" - \",'General Calculation'!P182)","v":" - "},{"$f":"IF('General Calculation'!Q182=0,\" - \",'General Calculation'!Q182)","v":" - "},{"$f":"IF('General Calculation'!R182=0,\" - \",'General Calculation'!R182)","v":40.14151545143659},{"$f":"IF('General Calculation'!S182=0,\" - \",'General Calculation'!S182)","v":56.568805839724384},{"$f":"IF('General Calculation'!T182=0,\" - \",'General Calculation'!T182)","v":61.179137673518646},{"$f":"IF('General Calculation'!U182=0,\" - \",'General Calculation'!U182)","v":29.10602161923968},{"$f":"IF('General Calculation'!V182=0,\" - \",'General Calculation'!V182)","v":" - "},{"$f":"IF('General Calculation'!W182=0,\" - \",'General Calculation'!W182)","v":" - "},{"$f":"IF('General Calculation'!X182=0,\" - \",'General Calculation'!X182)","v":" - "},{"$f":"IF('General Calculation'!Y182=0,\" - \",'General Calculation'!Y182)","v":" - "},{"$f":"IF('General Calculation'!Z182=0,\" - \",'General Calculation'!Z182)","v":" - "},{"$f":"IF('General Calculation'!AA182=0,\" - \",'General Calculation'!AA182)","v":" - "}]
[null,null,{"$f":"IF('General Calculation'!C183=\"\",\" - \",'General Calculation'!C183)","v":" - "},null,{"$f":"IF(OR('2 Crop Water Requirement'!$F$26='Data Validation Sheet'!$C$20,'2 Crop Water Requirement'!$D$26=\"\"),\"\",'2 Crop Water Requirement'!$D$26)","v":""},{"$f":"IF(OR('2 Crop Water Requirement'!$F$26='Data Validation Sheet'!$C$19,'2 Crop Water Requirement'!$D$26=\"\"),\"\",'2 Crop Water Requirement'!$D$26)","v":""},null,{"$f":"IF('General Calculation'!D183=0,\" - \",'General Calculation'!D183)","v":" - "},{"$f":"IF('General Calculation'!E183=0,\" - \",'General Calculation'!E183)","v":" - "},{"$f":"IF('General Calculation'!F183=0,\" - \",'General Calculation'!F183)","v":" - "},{"$f":"IF('General Calculation'!G183=0,\" - \",'General Calculation'!G183)","v":" - "},{"$f":"IF('General Calculation'!H183=0,\" - \",'General Calculation'!H183)","v":" - "},{"$f":"IF('General Calculation'!I183=0,\" - \",'General Calculation'!I183)","v":" - "},{"$f":"IF('General Calculation'!J183=0,\" - \",'General Calculation'!J183)","v":" - "},{"$f":"IF('General Calculation'!K183=0,\" - \",'General Calculation'!K183)","v":" - "},{"$f":"IF('General Calculation'!L183=0,\" - \",'General Calculation'!L183)","v":" - "},{"$f":"IF('General Calculation'!M183=0,\" - \",'General Calculation'!M183)","v":" - "},{"$f":"IF('General Calculation'!N183=0,\" - \",'General Calculation'!N183)","v":" - "},{"$f":"IF('General Calculation'!O183=0,\" - \",'General Calculation'!O183)","v":" - "},{"$f":"IF('General Calculation'!P183=0,\" - \",'General Calculation'!P183)","v":" - "},{"$f":"IF('General Calculation'!Q183=0,\" - \",'General Calculation'!Q183)","v":" - "},{"$f":"IF('General Calculation'!R183=0,\" - \",'General Calculation'!R183)","v":" - "},{"$f":"IF('General Calculation'!S183=0,\" - \",'General Calculation'!S183)","v":" - "},{"$f":"IF('General Calculation'!T183=0,\" - \",'General Calculation'!T183)","v":" - "},{"$f":"IF('General Calculation'!U183=0,\" - \",'General Calculation'!U183)","v":" - "},{"$f":"IF('General Calculation'!V183=0,\" - \",'General Calculation'!V183)","v":" - "},{"$f":"IF('General Calculation'!W183=0,\" - \",'General Calculation'!W183)","v":" - "},{"$f":"IF('General Calculation'!X183=0,\" - \",'General Calculation'!X183)","v":" - "},{"$f":"IF('General Calculation'!Y183=0,\" - \",'General Calculation'!Y183)","v":" - "},{"$f":"IF('General Calculation'!Z183=0,\" - \",'General Calculation'!Z183)","v":" - "},{"$f":"IF('General Calculation'!AA183=0,\" - \",'General Calculation'!AA183)","v":" - "}]
[null,null,{"$f":"IF('General Calculation'!C184=\"\",\" - \",'General Calculation'!C184)","v":" - "},null,{"$f":"IF(OR('2 Crop Water Requirement'!$F$28='Data Validation Sheet'!$C$20,'2 Crop Water Requirement'!$D$28=\"\"),\"\",'2 Crop Water Requirement'!$D$28)","v":""},{"$f":"IF(OR('2 Crop Water Requirement'!$F$28='Data Validation Sheet'!$C$19,'2 Crop Water Requirement'!$D$28=\"\"),\"\",'2 Crop Water Requirement'!$D$28)","v":""},null,{"$f":"IF('General Calculation'!D184=0,\" - \",'General Calculation'!D184)","v":" - "},{"$f":"IF('General Calculation'!E184=0,\" - \",'General Calculation'!E184)","v":" - "},{"$f":"IF('General Calculation'!F184=0,\" - \",'General Calculation'!F184)","v":" - "},{"$f":"IF('General Calculation'!G184=0,\" - \",'General Calculation'!G184)","v":" - "},{"$f":"IF('General Calculation'!H184=0,\" - \",'General Calculation'!H184)","v":" - "},{"$f":"IF('General Calculation'!I184=0,\" - \",'General Calculation'!I184)","v":" - "},{"$f":"IF('General Calculation'!J184=0,\" - \",'General Calculation'!J184)","v":" - "},{"$f":"IF('General Calculation'!K184=0,\" - \",'General Calculation'!K184)","v":" - "},{"$f":"IF('General Calculation'!L184=0,\" - \",'General Calculation'!L184)","v":" - "},{"$f":"IF('General Calculation'!M184=0,\" - \",'General Calculation'!M184)","v":" - "},{"$f":"IF('General Calculation'!N184=0,\" - \",'General Calculation'!N184)","v":" - "},{"$f":"IF('General Calculation'!O184=0,\" - \",'General Calculation'!O184)","v":" - "},{"$f":"IF('General Calculation'!P184=0,\" - \",'General Calculation'!P184)","v":" - "},{"$f":"IF('General Calculation'!Q184=0,\" - \",'General Calculation'!Q184)","v":" - "},{"$f":"IF('General Calculation'!R184=0,\" - \",'General Calculation'!R184)","v":" - "},{"$f":"IF('General Calculation'!S184=0,\" - \",'General Calculation'!S184)","v":" - "},{"$f":"IF('General Calculation'!T184=0,\" - \",'General Calculation'!T184)","v":" - "},{"$f":"IF('General Calculation'!U184=0,\" - \",'General Calculation'!U184)","v":" - "},{"$f":"IF('General Calculation'!V184=0,\" - \",'General Calculation'!V184)","v":" - "},{"$f":"IF('General Calculation'!W184=0,\" - \",'General Calculation'!W184)","v":" - "},{"$f":"IF('General Calculation'!X184=0,\" - \",'General Calculation'!X184)","v":" - "},{"$f":"IF('General Calculation'!Y184=0,\" - \",'General Calculation'!Y184)","v":" - "},{"$f":"IF('General Calculation'!Z184=0,\" - \",'General Calculation'!Z184)","v":" - "},{"$f":"IF('General Calculation'!AA184=0,\" - \",'General Calculation'!AA184)","v":" - "}]
[null,null,{"$f":"IF('General Calculation'!C185=\"\",\" - \",'General Calculation'!C185)","v":" - "},null,{"$f":"IF(OR('2 Crop Water Requirement'!$F$30='Data Validation Sheet'!$C$20,'2 Crop Water Requirement'!$D$30=\"\"),\"\",'2 Crop Water Requirement'!$D$30)","v":""},{"$f":"IF(OR('2 Crop Water Requirement'!$F$30='Data Validation Sheet'!$C$19,'2 Crop Water Requirement'!$D$30=\"\"),\"\",'2 Crop Water Requirement'!$D$30)","v":""},null,{"$f":"IF('General Calculation'!D185=0,\" - \",'General Calculation'!D185)","v":" - "},{"$f":"IF('General Calculation'!E185=0,\" - \",'General Calculation'!E185)","v":" - "},{"$f":"IF('General Calculation'!F185=0,\" - \",'General Calculation'!F185)","v":" - "},{"$f":"IF('General Calculation'!G185=0,\" - \",'General Calculation'!G185)","v":" - "},{"$f":"IF('General Calculation'!H185=0,\" - \",'General Calculation'!H185)","v":" - "},{"$f":"IF('General Calculation'!I185=0,\" - \",'General Calculation'!I185)","v":" - "},{"$f":"IF('General Calculation'!J185=0,\" - \",'General Calculation'!J185)","v":" - "},{"$f":"IF('General Calculation'!K185=0,\" - \",'General Calculation'!K185)","v":" - "},{"$f":"IF('General Calculation'!L185=0,\" - \",'General Calculation'!L185)","v":" - "},{"$f":"IF('General Calculation'!M185=0,\" - \",'General Calculation'!M185)","v":" - "},{"$f":"IF('General Calculation'!N185=0,\" - \",'General Calculation'!N185)","v":" - "},{"$f":"IF('General Calculation'!O185=0,\" - \",'General Calculation'!O185)","v":" - "},{"$f":"IF('General Calculation'!P185=0,\" - \",'General Calculation'!P185)","v":" - "},{"$f":"IF('General Calculation'!Q185=0,\" - \",'General Calculation'!Q185)","v":" - "},{"$f":"IF('General Calculation'!R185=0,\" - \",'General Calculation'!R185)","v":" - "},{"$f":"IF('General Calculation'!S185=0,\" - \",'General Calculation'!S185)","v":" - "},{"$f":"IF('General Calculation'!T185=0,\" - \",'General Calculation'!T185)","v":" - "},{"$f":"IF('General Calculation'!U185=0,\" - \",'General Calculation'!U185)","v":" - "},{"$f":"IF('General Calculation'!V185=0,\" - \",'General Calculation'!V185)","v":" - "},{"$f":"IF('General Calculation'!W185=0,\" - \",'General Calculation'!W185)","v":" - "},{"$f":"IF('General Calculation'!X185=0,\" - \",'General Calculation'!X185)","v":" - "},{"$f":"IF('General Calculation'!Y185=0,\" - \",'General Calculation'!Y185)","v":" - "},{"$f":"IF('General Calculation'!Z185=0,\" - \",'General Calculation'!Z185)","v":" - "},{"$f":"IF('General Calculation'!AA185=0,\" - \",'General Calculation'!AA185)","v":" - "}]
[null,null,{"$f":"Translate!$C$227","v":"Total"},null,{"$f":"SUM(E14:E18)","v":2.5},{"$f":"SUM(F14:F18)","v":2.5},null,{"$f":"SUM(H14:H18)","v":20.184507347775426},{"$f":"SUM(I14:I18)","v":53.409944190766097},58.421751118090867,52.421732551839177,0,0,0,0,0,0,0,0,{"$f":"SUM(T14:T18)","v":0},0,40.14151545143659,{"$f":"SUM(W14:W18)","v":56.568805839724384},61.179137673518646,29.10602161923968,0,0,0,{"$f":"SUM(AC14:AC18)","v":0},0,0]
[]
[]
[]
[{"$f":"Translate!$C$228","v":"Livestock Water Requirements"}]
[null,null,null,null,null,null,null,{"$f":"Translate!$C$229","v":"Livestock Water need [m³/day]"}]
[null,null,{"$f":"Translate!$C$230","v":"Livestock"},null,{"$f":"Translate!$C$231","v":"Heads"},null,null,{"$f":"H12","v":"May"},"June","July","August","September","October","November","December","January","February","March","April",{"$f":"T12","v":"May"},"June","July","August","September","October","November","December","January","February","March","April"]
[]
[null,null,{"$f":"IF('General Calculation'!C201=0,\" - \",'General Calculation'!C209)","v":" - "},null,{"$f":"IFERROR(SUM('3 Livestock Water Requirement'!E22:P22)/COUNTA('3 Livestock Water Requirement'!E22:P22),\"\")","v":3},null,null,{"$f":"IF('General Calculation'!D209=0,\" - \",'General Calculation'!D209)","v":" - "},{"$f":"IF('General Calculation'!E209=0,\" - \",'General Calculation'!E209)","v":{"$error":"#VALUE!"}},{"$f":"IF('General Calculation'!F209=0,\" - \",'General Calculation'!F209)","v":{"$error":"#VALUE!"}},{"$f":"IF('General Calculation'!G209=0,\" - \",'General Calculation'!G209)","v":{"$error":"#VALUE!"}},{"$f":"IF('General Calculation'!H209=0,\" - \",'General Calculation'!H209)","v":{"$error":"#VALUE!"}},{"$f":"IF('General Calculation'!I209=0,\" - \",'General Calculation'!I209)","v":{"$error":"#VALUE!"}},{"$f":"IF('General Calculation'!J209=0,\" - \",'General Calculation'!J209)","v":{"$error":"#VALUE!"}},{"$f":"IF('General Calculation'!K209=0,\" - \",'General Calculation'!K209)","v":{"$error":"#VALUE!"}},{"$f":"IF('General Calculation'!L209=0,\" - \",'General Calculation'!L209)","v":{"$error":"#VALUE!"}},{"$f":"IF('General Calculation'!M209=0,\" - \",'General Calculation'!M209)","v":{"$error":"#VALUE!"}},{"$f":"IF('General Calculation'!N209=0,\" - \",'General Calculation'!N209)","v":{"$error":"#VALUE!"}},{"$f":"IF('General Calculation'!O209=0,\" - \",'General Calculation'!O209)","v":{"$error":"#VALUE!"}},{"$f":"IF('General Calculation'!P209=0,\" - \",'General Calculation'!P209)","v":" - "},{"$f":"IF('General Calculation'!Q209=0,\" - \",'General Calculation'!Q209)","v":{"$error":"#VALUE!"}},{"$f":"IF('General Calculation'!R209=0,\" - \",'General Calculation'!R209)","v":{"$error":"#VALUE!"}},{"$f":"IF('General Calculation'!S209=0,\" - \",'General Calculation'!S209)","v":{"$error":"#VALUE!"}},{"$f":"IF('General Calculation'!T209=0,\" - \",'General Calculation'!T209)","v":{"$error":"#VALUE!"}},{"$f":"IF('General Calculation'!U209=0,\" - \",'General Calculation'!U209)","v":{"$error":"#VALUE!"}},{"$f":"IF('General Calculation'!V209=0,\" - \",'General Calculation'!V209)","v":{"$error":"#VALUE!"}},{"$f":"IF('General Calculation'!W209=0,\" - \",'General Calculation'!W209)","v":{"$error":"#VALUE!"}},{"$f":"IF('General Calculation'!X209=0,\" - \",'General Calculation'!X209)","v":{"$error":"#VALUE!"}},{"$f":"IF('General Calculation'!Y209=0,\" - \",'General Calculation'!Y209)","v":{"$error":"#VALUE!"}},{"$f":"IF('General Calculation'!Z209=0,\" - \",'General Calculation'!Z209)","v":{"$error":"#VALUE!"}},{"$f":"IF('General Calculation'!AA209=0,\" - \",'General Calculation'!AA209)","v":{"$error":"#VALUE!"}}]
[null,null,{"$f":"IF('General Calculation'!C202=0,\" - \",'General Calculation'!C210)","v":" - "},null,{"$f":"IFERROR(SUM('3 Livestock Water Requirement'!E25:P25)/COUNTA('3 Livestock Water Requirement'!E25:P25),\"\")","v":""},null,null,{"$f":"IF('General Calculation'!D210=0,\" - \",'General Calculation'!D210)","v":" - "},{"$f":"IF('General Calculation'!E210=0,\" - \",'General Calculation'!E210)","v":" - "},{"$f":"IF('General Calculation'!F210=0,\" - \",'General Calculation'!F210)","v":" - "},{"$f":"IF('General Calculation'!G210=0,\" - \",'General Calculation'!G210)","v":" - "},{"$f":"IF('General Calculation'!H210=0,\" - \",'General Calculation'!H210)","v":" - "},{"$f":"IF('General Calculation'!I210=0,\" - \",'General Calculation'!I210)","v":" - "},{"$f":"IF('General Calculation'!J210=0,\" - \",'General Calculation'!J210)","v":" - "},{"$f":"IF('General Calculation'!K210=0,\" - \",'General Calculation'!K210)","v":" - "},{"$f":"IF('General Calculation'!L210=0,\" - \",'General Calculation'!L210)","v":" - "},{"$f":"IF('General Calculation'!M210=0,\" - \",'General Calculation'!M210)","v":" - "},{"$f":"IF('General Calculation'!N210=0,\" - \",'General Calculation'!N210)","v":" - "},{"$f":"IF('General Calculation'!O210=0,\" - \",'General Calculation'!O210)","v":" - "},{"$f":"IF('General Calculation'!P210=0,\" - \",'General Calculation'!P210)","v":" - "},{"$f":"IF('General Calculation'!Q210=0,\" - \",'General Calculation'!Q210)","v":" - "},{"$f":"IF('General Calculation'!R210=0,\" - \",'General Calculation'!R210)","v":" - "},{"$f":"IF('General Calculation'!S210=0,\" - \",'General Calculation'!S210)","v":" - "},{"$f":"IF('General Calculation'!T210=0,\" - \",'General Calculation'!T210)","v":" - "},{"$f":"IF('General Calculation'!U210=0,\" - \",'General Calculation'!U210)","v":" - "},{"$f":"IF('General Calculation'!V210=0,\" - \",'General Calculation'!V210)","v":" - "},{"$f":"IF('General Calculation'!W210=0,\" - \",'General Calculation'!W210)","v":" - "},{"$f":"IF('General Calculation'!X210=0,\" - \",'General Calculation'!X210)","v":" - "},{"$f":"IF('General Calculation'!Y210=0,\" - \",'General Calculation'!Y210)","v":" - "},{"$f":"IF('General Calculation'!Z210=0,\" - \",'General Calculation'!Z210)","v":" - "},{"$f":"IF('General Calculation'!AA210=0,\" - \",'General Calculation'!AA210)","v":" - "}]
[null,null,{"$f":"IF('General Calculation'!C203=0,\" - \",'General Calculation'!C211)","v":" - "},null,{"$f":"IFERROR(SUM('3 Livestock Water Requirement'!E28:P28)/COUNTA('3 Livestock Water Requirement'!E28:P28),\"\")","v":""},null,null,{"$f":"IF('General Calculation'!D211=0,\" - \",'General Calculation'!D211)","v":" - "},{"$f":"IF('General Calculation'!E211=0,\" - \",'General Calculation'!E211)","v":" - "},{"$f":"IF('General Calculation'!F211=0,\" - \",'General Calculation'!F211)","v":" - "},{"$f":"IF('General Calculation'!G211=0,\" - \",'General Calculation'!G211)","v":" - "},{"$f":"IF('General Calculation'!H211=0,\" - \",'General Calculation'!H211)","v":" - "},{"$f":"IF('General Calculation'!I211=0,\" - \",'General Calculation'!I211)","v":" - "},{"$f":"IF('General Calculation'!J211=0,\" - \",'General Calculation'!J211)","v":" - "},{"$f":"IF('General Calculation'!K211=0,\" - \",'General Calculation'!K211)","v":" - "},{"$f":"IF('General Calculation'!L211=0,\" - \",'General Calculation'!L211)","v":" - "},{"$f":"IF('General Calculation'!M211=0,\" - \",'General Calculation'!M211)","v":" - "},{"$f":"IF('General Calculation'!N211=0,\" - \",'General Calculation'!N211)","v":" - "},{"$f":"IF('General Calculation'!O211=0,\" - \",'General Calculation'!O211)","v":" - "},{"$f":"IF('General Calculation'!P211=0,\" - \",'General Calculation'!P211)","v":" - "},{"$f":"IF('General Calculation'!Q211=0,\" - \",'General Calculation'!Q211)","v":" - "},{"$f":"IF('General Calculation'!R211=0,\" - \",'General Calculation'!R211)","v":" - "},{"$f":"IF('General Calculation'!S211=0,\" - \",'General Calculation'!S211)","v":" - "},{"$f":"IF('General Calculation'!T211=0,\" - \",'General Calculation'!T211)","v":" - "},{"$f":"IF('General Calculation'!U211=0,\" - \",'General Calculation'!U211)","v":" - "},{"$f":"IF('General Calculation'!V211=0,\" - \",'General Calculation'!V211)","v":" - "},{"$f":"IF('General Calculation'!W211=0,\" - \",'General Calculation'!W211)","v":" - "},{"$f":"IF('General Calculation'!X211=0,\" - \",'General Calculation'!X211)","v":" - "},{"$f":"IF('General Calculation'!Y211=0,\" - \",'General Calculation'!Y211)","v":" - "},{"$f":"IF('General Calculation'!Z211=0,\" - \",'General Calculation'!Z211)","v":" - "},{"$f":"IF('General Calculation'!AA211=0,\" - \",'General Calculation'!AA211)","v":" - "}]
[null,null,{"$f":"IF('General Calculation'!C204=0,\" - \",'General Calculation'!C212)","v":" - "},null,{"$f":"IFERROR(SUM('3 Livestock Water Requirement'!E31:P31)/COUNTA('3 Livestock Water Requirement'!E31:P31),\"\")","v":""},null,null,{"$f":"IF('General Calculation'!D212=0,\" - \",'General Calculation'!D212)","v":" - "},{"$f":"IF('General Calculation'!E212=0,\" - \",'General Calculation'!E212)","v":" - "},{"$f":"IF('General Calculation'!F212=0,\" - \",'General Calculation'!F212)","v":" - "},{"$f":"IF('General Calculation'!G212=0,\" - \",'General Calculation'!G212)","v":" - "},{"$f":"IF('General Calculation'!H212=0,\" - \",'General Calculation'!H212)","v":" - "},{"$f":"IF('General Calculation'!I212=0,\" - \",'General Calculation'!I212)","v":" - "},{"$f":"IF('General Calculation'!J212=0,\" - \",'General Calculation'!J212)","v":" - "},{"$f":"IF('General Calculation'!K212=0,\" - \",'General Calculation'!K212)","v":" - "},{"$f":"IF('General Calculation'!L212=0,\" - \",'General Calculation'!L212)","v":" - "},{"$f":"IF('General Calculation'!M212=0,\" - \",'General Calculation'!M212)","v":" - "},{"$f":"IF('General Calculation'!N212=0,\" - \",'General Calculation'!N212)","v":" - "},{"$f":"IF('General Calculation'!O212=0,\" - \",'General Calculation'!O212)","v":" - "},{"$f":"IF('General Calculation'!P212=0,\" - \",'General Calculation'!P212)","v":" - "},{"$f":"IF('General Calculation'!Q212=0,\" - \",'General Calculation'!Q212)","v":" - "},{"$f":"IF('General Calculation'!R212=0,\" - \",'General Calculation'!R212)","v":" - "},{"$f":"IF('General Calculation'!S212=0,\" - \",'General Calculation'!S212)","v":" - "},{"$f":"IF('General Calculation'!T212=0,\" - \",'General Calculation'!T212)","v":" - "},{"$f":"IF('General Calculation'!U212=0,\" - \",'General Calculation'!U212)","v":" - "},{"$f":"IF('General Calculation'!V212=0,\" - \",'General Calculation'!V212)","v":" - "},{"$f":"IF('General Calculation'!W212=0,\" - \",'General Calculation'!W212)","v":" - "},{"$f":"IF('General Calculation'!X212=0,\" - \",'General Calculation'!X212)","v":" - "},{"$f":"IF('General Calculation'!Y212=0,\" - \",'General Calculation'!Y212)","v":" - "},{"$f":"IF('General Calculation'!Z212=0,\" - \",'General Calculation'!Z212)","v":" - "},{"$f":"IF('General Calculation'!AA212=0,\" - \",'General Calculation'!AA212)","v":" - "}]
[null,null,{"$f":"IF('General Calculation'!C205=0,\" - \",'General Calculation'!C213)","v":" - "},null,{"$f":"IFERROR(SUM('3 Livestock Water Requirement'!E34:P34)/COUNTA('3 Livestock Water Requirement'!E34:P34),\"\")","v":""},null,null,{"$f":"IF('General Calculation'!D213=0,\" - \",'General Calculation'!D213)","v":" - "},{"$f":"IF('General Calculation'!E213=0,\" - \",'General Calculation'!E213)","v":" - "},{"$f":"IF('General Calculation'!F213=0,\" - \",'General Calculation'!F213)","v":" - "},{"$f":"IF('General Calculation'!G213=0,\" - \",'General Calculation'!G213)","v":" - "},{"$f":"IF('General Calculation'!H213=0,\" - \",'General Calculation'!H213)","v":" - "},{"$f":"IF('General Calculation'!I213=0,\" - \",'General Calculation'!I213)","v":" - "},{"$f":"IF('General Calculation'!J213=0,\" - \",'General Calculation'!J213)","v":" - "},{"$f":"IF('General Calculation'!K213=0,\" - \",'General Calculation'!K213)","v":" - "},{"$f":"IF('General Calculation'!L213=0,\" - \",'General Calculation'!L213)","v":" - "},{"$f":"IF('General Calculation'!M213=0,\" - \",'General Calculation'!M213)","v":" - "},{"$f":"IF('General Calculation'!N213=0,\" - \",'General Calculation'!N213)","v":" - "},{"$f":"IF('General Calculation'!O213=0,\" - \",'General Calculation'!O213)","v":" - "},{"$f":"IF('General Calculation'!P213=0,\" - \",'General Calculation'!P213)","v":" - "},{"$f":"IF('General Calculation'!Q213=0,\" - \",'General Calculation'!Q213)","v":" - "},{"$f":"IF('General Calculation'!R213=0,\" - \",'General Calculation'!R213)","v":" - "},{"$f":"IF('General Calculation'!S213=0,\" - \",'General Calculation'!S213)","v":" - "},{"$f":"IF('General Calculation'!T213=0,\" - \",'General Calculation'!T213)","v":" - "},{"$f":"IF('General Calculation'!U213=0,\" - \",'General Calculation'!U213)","v":" - "},{"$f":"IF('General Calculation'!V213=0,\" - \",'General Calculation'!V213)","v":" - "},{"$f":"IF('General Calculation'!W213=0,\" - \",'General Calculation'!W213)","v":" - "},{"$f":"IF('General Calculation'!X213=0,\" - \",'General Calculation'!X213)","v":" - "},{"$f":"IF('General Calculation'!Y213=0,\" - \",'General Calculation'!Y213)","v":" - "},{"$f":"IF('General Calculation'!Z213=0,\" - \",'General Calculation'!Z213)","v":" - "},{"$f":"IF('General Calculation'!AA213=0,\" - \",'General Calculation'!AA213)","v":" - "}]
[null,null,{"$f":"C19","v":"Total"},null,{"$f":"SUM(E27:E31)","v":3},null,null,{"$f":"SUM(H27:H31)","v":0},{"$error":"#VALUE!"},{"$error":"#VALUE!"},{"$error":"#VALUE!"},{"$error":"#VALUE!"},{"$error":"#VALUE!"},{"$error":"#VALUE!"},{"$error":"#VALUE!"},{"$error":"#VALUE!"},{"$error":"#VALUE!"},{"$error":"#VALUE!"},{"$error":"#VALUE!"},{"$f":"SUM(T27:T31)","v":0},{"$error":"#VALUE!"},{"$error":"#VALUE!"},{"$error":"#VALUE!"},{"$error":"#VALUE!"},{"$error":"#VALUE!"},{"$error":"#VALUE!"},{"$error":"#VALUE!"},{"$error":"#VALUE!"},{"$error":"#VALUE!"},{"$error":"#VALUE!"},{"$error":"#VALUE!"}]
[]
[]
[]
[{"$f":"Translate!$C$232","v":"Total Water Requirements"}]
[]
[null,null,null,null,null,null,null,{"$f":"Translate!$C$233","v":"Total Water need [m³/day]"}]
[null,null,null,null,null,null,null,{"$f":"H25","v":"May"},"June","July","August","September","October","November","December","January","February","March","April",{"$f":"T25","v":"May"},"June","July","August","September","October","November","December","January","February","March","April"]
[]
[null,null,{"$f":"C12","v":"Crops"},null,{"$f":"E19+F19&\" \"&'2 Crop Water Requirement'!C8","v":"5 acre"},null,null,{"$f":"H19","v":20.184507347775426},53.409944190766097,58.421751118090867,52.421732551839177,0,0,0,0,0,0,0,0,{"$f":"T19","v":0},0,40.14151545143659,{"$f":"W19","v":56.568805839724384},61.179137673518646,29.10602161923968,0,0,0,0,0,0]
[null,null,{"$f":"C25","v":"Livestock"},null,{"$f":"E25&\": \"&E32","v":"Heads: 3"},null,null,{"$f":"H32","v":0},{"$error":"#VALUE!"},{"$error":"#VALUE!"},{"$error":"#VALUE!"},{"$error":"#VALUE!"},{"$error":"#VALUE!"},{"$error":"#VALUE!"},{"$error":"#VALUE!"},{"$error":"#VALUE!"},{"$error":"#VALUE!"},{"$error":"#VALUE!"},{"$error":"#VALUE!"},{"$f":"T32","v":0},{"$error":"#VALUE!"},{"$error":"#VALUE!"},{"$error":"#VALUE!"},{"$error":"#VALUE!"},{"$error":"#VALUE!"},{"$error":"#VALUE!"},{"$error":"#VALUE!"},{"$error":"#VALUE!"},{"$error":"#VALUE!"},{"$error":"#VALUE!"},{"$error":"#VALUE!"}]
[null,null,{"$f":"C19","v":"Total"},null,null,null,null,{"$f":"SUM(H41:H42)","v":20.184507347775426},{"$error":"#VALUE!"},{"$error":"#VALUE!"},{"$error":"#VALUE!"},{"$error":"#VALUE!"},{"$error":"#VALUE!"},{"$error":"#VALUE!"},{"$error":"#VALUE!"},{"$error":"#VALUE!"},{"$error":"#VALUE!"},{"$error":"#VALUE!"},{"$error":"#VALUE!"},{"$f":"SUM(T41:T42)","v":0},{"$error":"#VALUE!"},{"$error":"#VALUE!"},{"$error":"#VALUE!"},{"$error":"#VALUE!"},{"$error":"#VALUE!"},{"$error":"#VALUE!"},{"$error":"#VALUE!"},{"$error":"#VALUE!"},{"$error":"#VALUE!"},{"$error":"#VALUE!"},{"$error":"#VALUE!"}]
[]
[]
[null,{"$f":"Translate!$C$235","v":"Maximum daily water need:"},null,null,null,null,{"$f":"'General Calculation'!$D$237","v":{"$error":"#VALUE!"}},{"$f":" Translate!$C$236&\" \"& 'General Calculation'!E237 & \".\"","v":{"$error":"#VALUE!"}},null,null,{"$f":"Translate!$C$237","v":"Pump utilization rate:"},null,null,{"$f":"'General Calculation'!$D$239","v":{"$error":"#VALUE!"}},{"$f":"Translate!$C$238","v":"Yearly water need in m³:"},null,null,null,{"$f":"'General Calculation'!D236","v":{"$error":"#VALUE!"}}]

{"sheet":"5 How this tool works","index":5,"n_rows":202,"n_cols":39,"rows_kept":202,"cut":false,"hidden":false,"merged":[[180,2,180,12],[188,3,188,42],[196,2,196,13],[200,4,200,17],[201,4,201,15],[198,2,199,41],[175,21,175,22],[174,21,174,22],[168,2,168,9],[170,3,170,41],[171,3,171,42],[172,3,172,45],[174,23,174,47],[175,23,175,47],[161,4,161,14],[162,4,162,14],[163,4,163,15],[174,19,174,20],[100,4,100,15],[145,2,145,11],[147,3,147,36],[158,3,158,45],[160,3,160,24],[125,1,133,19],[140,22,143,50],[138,37,138,51],[138,22,138,36],[93,2,93,8],[95,3,96,26],[102,3,102,27],[97,4,97,15],[98,4,98,15],[99,4,99,15],[30,6,30,10],[18,2,18,25],[13,7,13,15],[14,7,14,15],[1,38,1,51],[1,1,1,37],[25,6,25,15],[26,6,26,10],[26,11,26,15],[25,2,26,5],[7,7,7,15],[8,7,8,15],[9,7,9,15],[10,7,10,15],[11,7,11,15],[12,7,12,15],[27,11,27,15],[28,11,28,15],[29,11,29,15],[30,11,30,15],[5,2,5,5],[20,3,20,7],[21,3,21,7],[22,3,22,7],[23,3,23,7],[27,2,27,5],[28,2,28,5],[29,2,29,5],[30,2,30,5],[27,6,27,10],[28,6,28,10],[29,6,29,10],[53,5,53,39],[50,3,50,40],[65,2,65,9],[67,3,67,12],[35,2,35,12],[37,3,37,49],[52,5,52,39],[51,5,51,39],[48,19,48,31],[46,3,47,51],[68,4,68,11],[69,4,69,11],[70,4,70,11],[74,3,75,22],[91,26,91,37],[78,3,83,24],[90,26,90,50],[91,38,91,51]]}
[]
[null,{"$f":"Translate!$C$240","v":"This tool is based on the FAO Irrigation and Drainage Paper No. 56: Crop Evapotranspiration (guidelines for computing crop water requirements), available at:"},null,null,null,null,null,null,null,null,null,null,null,null,null,null,null,null,null,null,null,null,null,null,null,null,null,null,null,null,null,null,null,null,null,null,null,null,"http://www.fao.org/docrep/X0490E/X0490E00.htm"]
[]
[]
[]
[null,null,{"$f":"Translate!$C$241","v":"Overview"}]
[]
[null,null,null,null,null,1,null,{"$f":"Translate!$C$242","v":"The major climatic factors"}]
[null,null,null,null,null,2,null,{"$f":"Translate!$C$243","v":"Reference Evapotranspiration"}]
[null,null,null,null,null,"3.1",null,{"$f":"Translate!$C$244","v":"Crop Factor Kc"}]
[null,null,null,null,null,"3.2",null,{"$f":"Translate!$C$245","v":"Growing Period"}]
[null,null,null,null,null,4,null,{"$f":"Translate!$C$246","v":"Crop Evapotranspiration"}]
[null,null,null,null,null,5,null,{"$f":"Translate!$C$247","v":"Effective Rainfall"}]
[null,null,null,null,null,6,null,{"$f":"Translate!$C$248","v":"Irrigation Water Need"}]
[null,null,null,null,null,7,null,{"$f":"Translate!$C$249","v":"Unit conversion"}]
[]
[]
[]
[1,null,{"$f":"Translate!$C$250","v":"The major climatic factors which influence the crop water needs are:"}]
[]
[null,null,null,{"$f":"Translate!$C$251","v":"Sunshine"}]
[null,null,null,{"$f":"Translate!$C$252","v":"Temperature"}]
[null,null,null,{"$f":"Translate!$C$253","v":"Humidity"}]
[null,null,null,{"$f":"Translate!$C$254","v":"Windspeed"}]
[]
[null,null,{"$f":"Translate!$C$255","v":"Climatic Factor"},null,null,null,{"$f":"Translate!$C$256","v":"Crop Water need"}]
[null,null,null,null,null,null,{"$f":"Translate!$C$257","v":"High"},null,null,null,null,{"$f":"Translate!$C$262","v":"Low"}]
[null,null,{"$f":"Translate!$C$252","v":"Temperature"},null,null,null,{"$f":"Translate!$C$258","v":"hot"},null,null,null,null,{"$f":"Translate!$C$263","v":"cool"}]
[null,null,{"$f":"Translate!$C$253","v":"Humidity"},null,null,null,{"$f":"Translate!$C$259","v":"low (dry)"},null,null,null,null,{"$f":"Translate!$C$264","v":"high (humid)"}]
[null,null,{"$f":"Translate!$C$254","v":"Windspeed"},null,null,null,{"$f":"Translate!$C$260","v":"windy"},null,null,null,null,{"$f":"Translate!$C$265","v":"little wind"}]
[null,null,{"$f":"Translate!$C$251","v":"Sunshine"},null,null,null,{"$f":"Translate!$C$261","v":"sunny"},null,null,null,null,{"$f":"Translate!$C$266","v":"cloudy"}]
[]
[]
[]
[]
[2,null,{"$f":"Translate!$C$267","v":"Reference evapotranspiration (ETo)"}]
[]
[null,null,null,{"$f":"Translate!$C$268","v":"ETo is the rate of evapotranspiration from a large area, covered by green grass, 8 to 15 cm tall, which grows actively, completely shades the ground and which is not short of water."}]
[]
[]
[]
[]
[]
[]
[]
[]
[null,null,null,{"$f":"Translate!$C$269","v":"FAO Penman-Monteith method is recommended by FAO as the sole standard method for the computation of ETo. It is a method with the strong likelihood of correctly predicting ETo in a wide range of locations and climates and has provision for application in data-short situations"}]
[]
[null,null,null,null,null,null,null,null,null,null,null,null,null,null,null,null,null,null,null,"  http://www.fao.org/docrep/X0490E/X0490E00.htm "]
[]
[null,null,null,{"$f":"Translate!$C$270","v":"Depending on the available data, this tool provides three methods for the calculate ETo:"}]
[null,null,null,null,1,{"$f":"Translate!$C$271","v":"FAO Penman-Monteith method: requires maximum and minimum temperatures, humidity, wind speed and sun hours data"}]
[null,null,null,null,2,{"$f":"Translate!$C$272","v":"Hargreaves method: requires maximum and minimum temperatures "}]
[null,null,null,null,3,{"$f":"Translate!$C$273","v":"Blaney-Criddle method: requires only average temperatures"}]
[]
[]
[]
[]
[]
[]
[]
[]
[]
[]
[]
["3.1",null,{"$f":"Translate!$C$274","v":"Crop factor Kc"}]
[]
[null,null,null,{"$f":"Translate!$C$275","v":"The crop factor mainly depends on:"}]
[null,null,null,null,{"$f":"Translate!$C$276","v":"type of crop"}]
[null,null,null,null,{"$f":"Translate!$C$277","v":"growth stage of the crop"}]
[null,null,null,null,{"$f":"Translate!$C$278","v":"climate"}]
[]
[]
[]
[null,null,null,{"$f":"Translate!C279","v":"Plant-specific Crop coefficients for the different growth stages can be obtained from Table 1. "}]
[]
[]
[]
[null,null,null,{"$f":"Translate!$C$280","v":"New crops and adjustment to the crop coefficient (Kc) and growing period for crops can be done in the sheet \"Crop Information\""}]
[]
[]
[]
[]
[]
[]
[]
[]
[]
[]
[]
[null,null,null,null,null,null,null,null,null,null,null,null,null,null,null,null,null,null,null,null,null,null,null,null,null,null,{"$f":"Translate!C281","v":"Table 1 - Crop factors of different crops and growing stages"}]
[null,null,null,null,null,null,null,null,null,null,null,null,null,null,null,null,null,null,null,null,null,null,null,null,null,null,{"$f":"Translate!$C$282","v":"more information is available at:"},null,null,null,null,null,null,null,null,null,null,null,"http://www.fao.org/docrep/X0490E/X0490E00.htm"]
[]
["3.2",null,{"$f":"Translate!$C$283","v":"Growing Period"}]
[]
[null,null,null,{"$f":"Translate!$C$284","v":"The plant's growth is divided into different growing stages, in which the plant's environmental conditions change:"}]
[]
[null,null,null,null,{"$f":"Translate!$C$285","v":"Initial stage"}]
[null,null,null,null,{"$f":"Translate!$C$286","v":"Crop development stage"}]
[null,null,null,null,{"$f":"Translate!$C$287","v":"Mid-season stage"}]
[null,null,null,null,{"$f":"Translate!$C$288","v":"late season stage"}]
[]
[null,null,null,{"$f":"Translate!$C$289","v":"The duration of each growing stage for different crops can be obtained from Table 2."}]
[]
[]
[]
[]
[]
[]
[]
[]
[]
[]
[]
[]
[]
[]
[]
[]
[]
[]
[]
[]
[]
[]
[null,{"$f":"Translate!$C$280","v":"New crops and adjustment to the crop coefficient (Kc) and growing period for crops can be done in the sheet \"Crop Information\""}]
[]
[]
[]
[]
[]
[]
[]
[]
[]
[]
[]
[]
[null,null,null,null,null,null,null,null,null,null,null,null,null,null,null,null,null,null,null,null,null,null,{"$f":"Translate!$C$290","v":"Table 2 - Days of the different growing stages."},null,null,null,null,null,null,null,null,null,null,null,null,null,null,"  http://www.fao.org/docrep/X0490E/X0490E00.htm "]
[]
[null,null,null,null,null,null,null,null,null,null,null,null,null,null,null,null,null,null,null,null,null,null,{"$f":"Translate!$C$291","v":"The values in Table 2 are useful as a general guide and for comparison purposes. The listed lengths of growth stages are average lengths for the regions and periods specified and are intended to serve only as examples. Local observations of the specific crop growth stage should be used, wherever possible."}]
[]
[]
[]
[]
[4,null,{"$f":"Translate!$C$292","v":"Crop Evapotranspiration ETc"}]
[]
[null,null,null,{"$f":"Translate!$C$293","v":"Multiplying the reference evapotranspiration ETo with the crop factor Kc gives the crop evapotranspiration ETc"}]
[]
[]
[]
[]
[]
[]
[]
[]
[]
[]
[null,null,null,{"$f":"Translate!$C$294","v":"Both ETc and ETo are expressed in the same unit: usually in mm/day (as an average for a period of one month) or in mm/month."}]
[]
[null,null,null,{"$f":"Translate!$C$295","v":"The crop water need ETc can be supplied in various ways:"}]
[null,null,null,null,{"$f":"Translate!$C$296","v":"rainfall"}]
[null,null,null,null,{"$f":"Translate!$C$297","v":"irrigation"}]
[null,null,null,null,{"$f":"Translate!$C$298","v":"combination of irrigation and rainfall"}]
[]
[]
[]
[]
[5,null,{"$f":"Translate!$C$299","v":"Effective rainfall"}]
[]
[null,null,null,{"$f":"Translate!$C$300","v":"Effective rainfall is the total rainfall minus runoff, minus evaporation and minus deep percolation."}]
[null,null,null,{"$f":"Translate!$C$301","v":"Only the water retained in the root zone can be used by the plants and represents what is called the effective part of the rainwater. "}]
[null,null,null,{"$f":"Translate!$C$302","v":"The term effective rainfall is used to define this fraction of the total amount of rainwater useful for meeting the water need of the crops."}]
[]
[null,null,null,null,null,null,null,null,null,null,null,null,null,null,null,null,null,null,null,{"$f":"Translate!$C$303","v":"with :"},null,"P=",null,{"$f":"Translate!$C$304","v":"rainfall or precipitation (mm/month)"}]
[null,null,null,null,null,null,null,null,null,null,null,null,null,null,null,null,null,null,null,null,null,"Pe=",null,{"$f":"Translate!$C$305","v":"effective rainfall or effective precipitation (mm/month)"}]
[]
[]
[]
[]
[6,null,{"$f":"Translate!$C$306","v":"Irrigation water need"}]
[]
[]
[]
[]
[]
[]
[]
[null,null,null,{"$f":"Translate!$C$307","v":"The crop evapotranspiration ETc minus the effective rainfall equals the amount of irrigation water needed"}]
[]
[]
[]
[]
[]
[]
[]
[7,null,{"$f":"Translate!$C$308","v":"Unit conversion"}]
[]
[null,null,{"$f":"Translate!$C$309","v":"Calculating the irrigation water need as described above leads to the unit mm/month. Multiplying this number by the factor 10 and dividing through the days of the month transforms this unit to m³/ha/day"}]
[]
[null,null,null,null,{"$f":"Translate!C310","v":"1 mm = 1 l/m² = 10 m³/ha"}]
[null,null,null,null,{"$f":"Translate!$C$311","v":"1 mm = 0,001 m³/m² = 10 m³/ha"}]

{"sheet":"Crop Information","index":6,"n_rows":216,"n_cols":11,"rows_kept":216,"cut":false,"hidden":false,"merged":[[4,3,4,7],[4,8,4,10],[1,10,1,16],[2,10,2,16],[1,1,1,9],[2,1,2,9]]}
[]
[null,{"$f":"Translate!$C$313","v":"This data is based on the FAO Irrigation and Drainage Paper No. 56: Crop Evapotranspiration (guidelines for computing crop water requirements), available at:"},null,null,null,null,null,null,null,null,"http://www.fao.org/3/x0490e/x0490e00.htm"]
[null,{"$f":"Translate!$C$314","v":"Information on row and plant spacing, planting depth and date of seeds can be found at: "},null,null,null,null,null,null,null,null,"https://www.edenseeds.com.au/flux-content/eden/pdf/EdenSeeds-PlantingGuide.pdf"]
[]
[null,null,null,{"$f":"Translate!$C$317","v":"Crop Growing Period"},null,null,null,null,{"$f":"Translate!$C$318","v":"Crop factor of the development stages"}]
[null,{"$f":"Translate!$C$315","v":"Crop"},"#",{"$f":"Translate!$C$319","v":"Initial stage"},{"$f":"Translate!$C$320","v":"Crop development stage"},{"$f":"Translate!$C$321","v":"Mid-season stage"},{"$f":"Translate!$C$322","v":"late season stage"},{"$f":"Translate!$C$323","v":"Total"},{"$f":"Translate!$C$319","v":"Initial stage"},{"$f":"Translate!$C$321","v":"Mid-season stage"},{"$f":"Translate!$C$322","v":"late season stage"}]
[null,{"$f":"Translate!$C$316","v":"none"},1]
[null,{"$f":"Translate!C324","v":"Alfalfa (1st cutting cycle - Jan/Apr - USA)"},2,10,25,23,10,{"$f":"SUM(D8:G8)","v":68},0.4,1.1000000000000001,1]
[null,{"$f":"Translate!C325","v":"Alfalfa (other cutting cycle - Mar/Jun - USA)"},3,5,15,10,8,{"$f":"SUM(D9:G9)","v":38},0.4,1.1000000000000001,1]
[null,{"$f":"Translate!C326","v":"Alfalfa (seeds - Mar/Jun - USA)"},4,5,15,10,8,38,0.4,0.5,0.5]
[null,{"$f":"Translate!C327","v":"Almond (no ground cover - Apr - USA)"},5,20,10,130,30,190,0.4,0.9,0.65]
[null,{"$f":"Translate!C328","v":"Artichoke (1st year - Apr - California) "},6,40,40,250,30,360,0.5,1,0.95]
[null,{"$f":"Translate!C329","v":"Artichoke (2nd year - May - cut in May) "},7,20,25,250,30,325,0.5,1,0.95]
[null,{"$f":"Translate!C330","v":"Asparagus (Feb - warm winter)"},8,50,30,100,50,230,0.5,0.95,0.3]
[null,{"$f":"Translate!C331","v":"Asparagus (Feb - Mediterranean)"},9,90,30,200,45,365,0.5,0.95,0.3]
[null,{"$f":"Translate!C332","v":"Avocado (Jan - Florida, USA)"},10,60,60,120,120,360,0.7,0.98,0.7]
[null,{"$f":"Translate!C333","v":"Banana (1st year - Mar - Mediterranean)"},11,120,90,120,60,390,0.5,1.1000000000000001,1]
[null,{"$f":"Translate!C334","v":"Banana (1st year - Mar - subtropical/humid/light to moderate wind)"},12,120,90,120,60,390,0.60000000000000009,1,0.8]
[null,{"$f":"Translate!C335","v":"Banana (1st year - Mar - subtropical/tropical)"},13,90,165,45,30,330,0.5,1.1000000000000001,1]
[null,{"$f":"Translate!C336","v":"Banana (2nd year - Mar - Mediterranean)"},14,120,60,180,5,365,1,1.2,1.1000000000000001]
[null,{"$f":"Translate!C337","v":"Banana (2nd year - Feb - subtropical/tropical)"},15,60,60,75,45,240,1,1.2,1.1000000000000001]
[null,{"$f":"Translate!C338","v":"Barley/Oats/Wheat (Nov - central India)"},16,15,25,50,30,120,0.3,1.1499999999999999,0.25]
[null,{"$f":"Translate!C339","v":"Barley/Oats/Wheat (Mar/Apr - 35/45 °L))"},17,20,25,60,30,135,0.3,1.1499999999999999,0.25]
[null,{"$f":"Translate!C340","v":"Barley/Oats/Wheat (Jul - East Africa)"},18,15,30,65,40,150,0.3,1.1499999999999999,0.25]
[null,{"$f":"Translate!C341","v":"Barley/Oats/Wheat (Nov)"},19,40,60,60,40,200,0.4,1.1499999999999999,0.3]
[null,{"$f":"Translate!C342","v":"Barley/Oats/Wheat (Dec - California desert)"},20,20,50,60,30,160,0.7,1.1499999999999999,0.3]
[null,{"$f":"Translate!C343","v":"Beans (dry - May/Jun - central climates)"},21,20,30,40,20,110,0.4,1.1499999999999999,0.35]
[null,{"$f":"Translate!C344","v":"Beans (dry - Jun - Pakistan/California)"},22,15,25,35,20,95,0.4,1.1499999999999999,0.35]
[null,{"$f":"Translate!C345","v":"Beans (dry - Jun - Idaho)"},23,25,25,30,20,100,0.4,1.1499999999999999,0.35]
[null,{"$f":"Translate!C346","v":"Beans (green - Feb/Mar - California/Mediterranean)"},24,20,30,30,10,90,0.5,1.05,0.9]
[null,{"$f":"Translate!C347","v":"Beans (green - Aug/Sep - California/Egypt/Lebanon)"},25,15,25,25,10,75,0.5,1.05,0.9]
[null,{"$f":"Translate!C348","v":"Beets (table - Apr/May - Mediterranean)"},26,15,25,20,10,70,0.5,1.05,0.95]
[null,{"$f":"Translate!C349","v":"Beets (table - Feb/Mar - Mediterranean/Arid)"},27,25,30,25,10,90,0.5,1.05,0.95]
[null,{"$f":"Translate!C350","v":"Broccoli  (Sept - California desert)"},28,35,45,40,15,135,0.7,1.05,0.95]
[null,{"$f":"Translate!C351","v":"Cabbage (Sept - California desert)"},29,40,60,50,15,165,0.7,1.05,0.95]
[null,{"$f":"Translate!C352","v":"Cantaloupe (Jan - California )"},30,30,45,35,10,120,0.5,0.85,0.6]
[null,{"$f":"Translate!C353","v":"Cantaloupe (Aug - California )"},31,10,60,25,25,120,0.5,0.85,0.6]
[null,{"$f":"Translate!C354","v":"Carrots (Oct/Jan - Arid climate )"},32,20,30,30,20,100,0.7,1.05,0.95]
[null,{"$f":"Translate!C355","v":"Carrots (Feb/Mar - Mediterranean )"},33,30,40,60,20,150,0.7,1.05,0.95]
[null,{"$f":"Translate!C356","v":"Carrots (Oct -  California desert)"},34,30,50,90,30,200,0.7,1.05,0.95]
[null,{"$f":"Translate!C357","v":"Cassava ( 1st year - rainy season - Tropical regions)"},35,20,40,90,60,210,0.3,0.8,0.3]
[null,{"$f":"Translate!C358","v":"Cassava ( 2nd year - season - Tropical regions)"},36,150,40,110,60,360,0.3,1.1000000000000001,0.5]
[null,{"$f":"Translate!C359","v":"Castor beans (Mar - semiarid climates )"},37,25,40,65,50,180,0.35,1.1499999999999999,0.55000000000000004]
[null,{"$f":"Translate!C360","v":"Castor beans (Nov - Indonesia )"},38,20,40,50,25,135,0.35,1.1499999999999999,0.55000000000000004]
[null,{"$f":"Translate!C361","v":"Cauliflower (Sept - California desert)"},39,35,50,40,15,140,0.7,1.05,0.95]
[null,{"$f":"Translate!C362","v":"Celery (Oct- semiarid)"},40,25,40,95,20,180,0.7,1.05,1]
[null,{"$f":"Translate!C363","v":"Celery (Apr - Mediterranean)"},41,25,40,45,15,125,0.7,1.05,1]
[null,{"$f":"Translate!C364","v":"Celery (Jan - semiarid)"},42,30,55,105,20,210,0.7,1.05,1]
[null,{"$f":"Translate!C365","v":"Chilli pepper (Brazil/Tropical)"},43,30,15,20,10,75,0.63,1.4,0.86]
[null,{"$f":"Translate!C366","v":"Citrus (no ground cover/70% canopy - Jan - Mediterranean)"},44,60,90,120,95,365,0.7,0.65,0.7]
[null,{"$f":"Translate!C367","v":"Citrus (no ground cover/50% canopy - Jan - Mediterranean)"},45,60,90,120,95,365,0.65,0.6,0.65]
[null,{"$f":"Translate!C368","v":"Citrus (no ground cover/20% canopy - Jan - Mediterranean)"},46,60,90,120,95,365,0.5,0.45,0.55000000000000004]
[null,{"$f":"Translate!C369","v":"Citrus (with active ground cover or weeds/70% canopy - Jan - Mediterranean)"},47,60,90,120,95,365,0.75,0.7,0.75]
[null,{"$f":"Translate!C370","v":"Citrus (with active ground cover or weeds/50% canopy - Jan - Mediterranean)"},48,60,90,120,95,365,0.8,0.8,0.8]
[null,{"$f":"Translate!C371","v":"Citrus (with active ground cover or weeds/20% canopy - Jan - Mediterranean)"},49,60,90,120,95,365,0.85,0.85,0.85]
[null,{"$f":"Translate!C372","v":"Cotton (Mar/May - Egypt/Pakistan/California)"},50,30,50,60,55,195,0.35,1.2,0.6]
[null,{"$f":"Translate!C373","v":"Cotton (Mar - California desert)"},51,45,90,45,45,225,0.35,1.2,0.6]
[null,{"$f":"Translate!C374","v":"Cotton (Sept - Yemen )"},52,30,50,60,55,195,0.35,1.2,0.6]
[null,{"$f":"Translate!C375","v":"Cotton (Apr - Texas )"},53,30,50,55,45,180,0.35,1.2,0.6]
[null,{"$f":"Translate!C376","v":"Cucumber (Jun/Aug - arid region )"},54,20,30,40,15,105,0.6,1,0.75]
[null,{"$f":"Translate!C377","v":"Cucumber (Nov/Feb - arid region )"},55,25,35,50,20,130,0.6,1,0.75]
[null,{"$f":"Translate!C378","v":"Deciduous Orchard (no ground cover/killing frost - Mar - high latitudes)"},56,20,70,90,30,210,0.45,0.93,0.68]
[null,{"$f":"Translate!C379","v":"Deciduous Orchard (no ground cover/no frosts - Mar - high latitudes)"},57,20,70,90,30,210,0.57999999999999996,0.93,0.7]
[null,{"$f":"Translate!C380","v":"Deciduous Orchard (active ground cover/killing frost - Mar - high latitudes)"},58,20,70,90,30,210,0.5,1.18,0.93]
[null,{"$f":"Translate!C381","v":"Deciduous Orchard (active ground cover/no frosts - Mar - high latitudes)"},59,20,70,90,30,210,0.8,1.18,0.85]
[null,{"$f":"Translate!C382","v":"Deciduous Orchard (no ground cover/killing frost - Mar - low latitudes)"},60,20,70,120,60,270,0.45,0.93,0.68]
[null,{"$f":"Translate!C383","v":"Deciduous Orchard (no ground cover/no frosts - Mar - low latitudes)"},61,20,70,120,60,270,0.57999999999999996,0.93,0.7]
[null,{"$f":"Translate!C384","v":"Deciduous Orchard (active ground cover/killing frost - Mar - low latitudes)"},62,20,70,120,60,270,0.5,1.18,0.93]
[null,{"$f":"Translate!C385","v":"Deciduous Orchard (active ground cover/no frosts - Mar - low latitudes)"},63,20,70,120,60,270,0.8,1.18,0.85]
[null,{"$f":"Translate!C386","v":"Deciduous Orchard (no ground cover/killing frost - Mar - California)"},64,30,50,130,30,240,0.45,0.93,0.68]
[null,{"$f":"Translate!C387","v":"Deciduous Orchard (no ground cover/no frosts - Mar - California)"},65,30,50,130,30,240,0.57999999999999996,0.93,0.7]
[null,{"$f":"Translate!C388","v":"Deciduous Orchard (active ground cover/killing frost - California)"},66,30,50,130,30,240,0.5,1.18,0.93]
[null,{"$f":"Translate!C389","v":"Deciduous Orchard (active ground cover/no frosts - Mar - California)"},67,30,50,130,30,{"$f":"SUM(D73:G73)","v":240},0.8,1.18,0.85]
[null,{"$f":"Translate!C390","v":"Eggplant (Oct - arid region)"},68,30,40,40,20,130,0.6,1.05,0.9]
[null,{"$f":"Translate!C391","v":"Eggplant (May/Jun - Mediterranean)"},69,30,45,40,25,140,0.6,1.05,0.9]
[null,{"$f":"Translate!C392","v":"Faba bean, broad bean (May - Europe)"},70,15,25,35,15,90,0.5,1.1499999999999999,1.1000000000000001]
[null,{"$f":"Translate!C393","v":"Faba bean, broad bean (Mar/Apr - Mediterranean)"},71,20,30,35,15,100,0.5,1.1499999999999999,1.1000000000000001]
[null,{"$f":"Translate!C394","v":"Faba bean, broad bean (dry - Nov - Europe)"},72,90,45,40,60,235,0.5,1.1499999999999999,1.1000000000000001]
[null,{"$f":"Translate!C395","v":"Faba bean, broad bean (green - Nov - Europe)"},73,90,45,40,0,175,0.5,1.1499999999999999,0.3]
[null,{"$f":"Translate!C396","v":"Flax (Apr - Europe)"},74,25,35,50,40,150,0.35,1.1000000000000001,0.25]
[null,{"$f":"Translate!C397","v":"Flax (Oct - Arizona)"},75,30,40,100,50,220,0.35,1.1000000000000001,0.25]
[null,{"$f":"Translate!C398","v":"Grapes (Apr - low latitudes)"},76,20,40,120,60,240,0.3,0.85,0.45]
[null,{"$f":"Translate!C399","v":"Grapes (Mar - California)"},77,20,50,75,60,205,0.3,0.85,0.45]
[null,{"$f":"Translate!C400","v":"Grapes (May - high latitudes )"},78,20,50,90,20,180,0.3,0.85,0.45]
[null,{"$f":"Translate!C401","v":"Grapes (wine - Apr - mid latitudes)"},79,30,60,40,80,210,0.3,0.7,0.45]
[null,{"$f":"Translate!C402","v":"Green gram, cowpeas (harvest fresh - Mar -Mediterranean)"},80,20,30,30,20,100,0.4,1.05,0.6]
[null,{"$f":"Translate!C403","v":"Green gram, cowpeas (harvest dry - Mar -Mediterranean)"},81,20,30,30,20,100,0.4,1.05,0.35]
[null,{"$f":"Translate!C404","v":"Groundnut (Dry - West Africa )"},82,25,35,45,25,130,0.4,1.1499999999999999,0.6]
[null,{"$f":"Translate!C405","v":"Groundnut (season - high latitudes)"},83,35,35,35,35,140,0.4,1.1499999999999999,0.6]
[null,{"$f":"Translate!C406","v":"Groundnut (May/Jun - Mediterranean)"},84,35,45,35,25,140,0.4,1.1499999999999999,0.6]
[null,{"$f":"Translate!C407","v":"Hops (Apr - Idaho)"},85,25,40,80,10,155,0.3,1.05,0.85]
[null,{"$f":"Translate!C408","v":"Kale, Rape "},86,20,20,30,50,120,0.7,1,0.95]
[null,{"$f":"Translate!C409","v":"Lentil (Apr - Europe)"},87,20,30,60,40,150,0.4,1.1000000000000001,0.3]
[null,{"$f":"Translate!C410","v":"Lentil (Oct/Nov -arid region)"},88,25,35,70,40,170,0.4,1.1000000000000001,0.3]
[null,{"$f":"Translate!C411","v":"Lettuce (Apr - Mediterranean)"},89,20,30,15,10,75,0.7,1,0.95]
[null,{"$f":"Translate!C412","v":"Lettuce (Nov/Jan - Mediterranean)"},90,30,40,25,10,105,0.7,1,0.95]
[null,{"$f":"Translate!C413","v":"Lettuce (Oct/Nov - arid region)"},91,25,35,30,10,100,0.7,1,0.95]
[null,{"$f":"Translate!C414","v":"Lettuce (Feb - Mediterranean)"},92,35,50,45,10,140,0.7,1,0.95]
[null,{"$f":"Translate!C415","v":"Maize (grain - Apr - East Africa (alt.))"},93,30,50,60,40,180,0.3,1.2,0.5]
[null,{"$f":"Translate!C416","v":"Maize (grain - Dec/Jan - arid climate)"},94,25,40,45,30,140,0.3,1.2,0.5]
[null,{"$f":"Translate!C417","v":"Maize (grain - Jun - Nigeria (humid))"},95,20,35,40,30,125,0.3,1.2,0.5]
[null,{"$f":"Translate!C418","v":"Maize (grain - Oct - India (dry, cool))"},96,20,35,40,30,125,0.3,1.2,0.5]
[null,{"$f":"Translate!C419","v":"Maize (grain - Apr - Spain (spring, summer)/California)"},97,30,40,50,30,150,0.3,1.2,0.5]
[null,{"$f":"Translate!C420","v":"Maize (grain - Apr - Idaho)"},98,30,40,50,50,170,0.3,1.2,0.5]
[null,{"$f":"Translate!C421","v":"Maize (sweet - Mar - Philippines)"},99,20,20,30,10,80,0.3,1.1499999999999999,1.05]
[null,{"$f":"Translate!C422","v":"Maize (sweet - May/Jun - Mediterranean)"},100,20,25,25,10,80,0.3,1.1499999999999999,1.05]
[null,{"$f":"Translate!C423","v":"Maize (sweet - Oct/Dec - arid climate)"},101,20,30,40,10,100,0.3,1.1499999999999999,1.05]
[null,{"$f":"Translate!C424","v":"Maize (sweet - Apr - Idaho)"},102,30,30,30,103,193,0.3,1.1499999999999999,1.05]
[null,{"$f":"Translate!C425","v":"Maize (sweet - Jan - California desert)"},103,20,40,70,10,140,0.3,1.1499999999999999,1.05]
[null,{"$f":"Translate!C426","v":"Mango (Jun)"},104,90,90,90,95,365,0.9,1.1000000000000001,0.9]
[null,{"$f":"Translate!C427","v":"Millet (Jun - Pakistan)"},105,15,25,40,25,105,0.3,1,0.3]
[null,{"$f":"Translate!C428","v":"Millet (Apr - Central USA)"},106,20,30,55,35,140,0.3,1,0.3]
[null,{"$f":"Translate!C429","v":"Okra (sub humid)"},107,20,20,40,20,100,0.5,0.95,0.55000000000000004]
[null,{"$f":"Translate!C430","v":"Olives (Mar - Mediterranean)"},108,30,90,60,90,270,0.65,0.7,0.7]
[null,{"$f":"Translate!C431","v":"Onion (dry - Apr - Mediterranean)"},109,15,25,70,40,150,0.7,1.05,0.75]
[null,{"$f":"Translate!C432","v":"Onion (dry - Oct/Jan - arid region/California)"},110,20,35,110,45,210,0.7,1.05,0.75]
[null,{"$f":"Translate!C433","v":"Onion (green - Apr/May - Mediterranean)"},111,25,30,10,5,70,0.7,1,1]
[null,{"$f":"Translate!C434","v":"Onion (green - Oct - arid region)"},112,20,45,20,10,95,0.7,1,1]
[null,{"$f":"Translate!C435","v":"Onion (green - Mar - California)"},113,30,55,55,40,180,0.7,1,1]
[null,{"$f":"Translate!C436","v":"Onion (seed - Sept - California desert)"},114,20,45,165,45,275,0.7,1.05,0.8]
[null,{"$f":"Translate!C437","v":"Peas (fresh - May - Europe)"},115,15,25,35,15,90,0.5,1.1519999999999999,1.1000000000000001]
[null,{"$f":"Translate!C438","v":"Peas (fresh - Mar/Apr - Mediterranean)"},116,20,30,35,15,100,0.5,1.1519999999999999,1.1000000000000001]
[null,{"$f":"Translate!C439","v":"Peas (fresh - Apr - Idaho)"},117,35,25,30,20,110,0.5,1.1519999999999999,1.1000000000000001]
[null,{"$f":"Translate!C440","v":"Peas (dry - May - Europe)"},118,15,25,35,15,90,0.4,1.1499999999999999,0.3]
[null,{"$f":"Translate!C441","v":"Peas (dry - Mar/Apr - Mediterranean)"},119,20,30,35,15,100,0.4,1.1499999999999999,0.3]
[null,{"$f":"Translate!C442","v":"Peas (dry - Apr - Idaho)"},120,35,25,30,20,110,0.4,1.1499999999999999,0.3]
[null,{"$f":"Translate!C443","v":"Pigeon peas"},121,20,30,30,20,100,0.4,1.05,0.35]
[null,{"$f":"Translate!C444","v":"Pineapple (bare soil - Hawaii)"},122,60,120,600,10,790,0.5,0.3,0.3]
[null,{"$f":"Translate!C445","v":"Pineapple (with grass cover - Hawaii)"},123,60,120,600,10,790,0.5,0.5,0.5]
[null,{"$f":"Translate!C446","v":"Pistachios (no ground cover - Feb - Mediterranean)"},124,20,60,30,40,150,0.4,1.1000000000000001,0.45]
[null,{"$f":"Translate!C447","v":"Potato (Jan/Nov - semiarid climate)"},125,25,30,47,30,132,0.5,1.1499999999999999,0.75]
[null,{"$f":"Translate!C448","v":"Potato (May - Continental Climate )"},126,25,30,45,30,130,0.5,1.1499999999999999,0.75]
[null,{"$f":"Translate!C449","v":"Potato (Apr - Europe)"},127,30,35,50,30,145,0.5,1.1499999999999999,0.75]
[null,{"$f":"Translate!C450","v":"Potato (Apr/May - Idaho, USA )"},128,45,30,70,20,165,0.5,1.1499999999999999,0.75]
[null,{"$f":"Translate!C451","v":"Potato (Dec - California desert)"},129,30,35,50,25,140,0.5,1.1499999999999999,0.75]
[null,{"$f":"Translate!C452","v":"Pumpkin, Winter squash (Mar/Aug - Mediterranean)"},130,20,30,30,20,100,0.5,1,0.8]
[null,{"$f":"Translate!C453","v":"Pumpkin, Winter squash (Jun - Europe)"},131,25,35,35,25,{"$f":"SUM(D137:G137)","v":120},0.5,1,0.8]
[null,{"$f":"Translate!C454","v":"Radish (Mar/Apr - Mediterranean/Europe)"},132,5,10,15,5,35,0.7,0.9,0.85]
[null,{"$f":"Translate!C455","v":"Radish (Winter - arid region)"},133,10,10,15,5,40,0.7,0.9,0.85]
[null,{"$f":"Translate!C456","v":"Rice (Dec/May - Tropics/Mediterranean)"},134,30,30,60,30,150,1.05,1.2,0.75]
[null,{"$f":"Translate!C457","v":"Safflower (Apr - California)"},135,20,35,45,25,125,0.35,1.1000000000000001,0.25]
[null,{"$f":"Translate!C458","v":"Safflower (Mar - high latitudes)"},136,25,35,55,30,145,0.35,1.1000000000000001,0.25]
[null,{"$f":"Translate!C459","v":"Safflower (Oct/Nov - arid region)"},137,35,55,60,40,190,0.35,1.1000000000000001,0.25]
[null,{"$f":"Translate!C460","v":"Sesame (Jun - China)"},138,20,30,40,20,110,0.35,1.1000000000000001,0.25]
[null,{"$f":"Translate!C461","v":"Sorghum (grain - May/Jun - USA/Pakistan/Mediterranean)"},139,20,35,40,30,125,0.3,1.05,0.55000000000000004]
[null,{"$f":"Translate!C462","v":"Sorghum (grain - Mar/Apr - arid region)"},140,20,35,45,30,130,0.3,1.05,0.55000000000000004]
[null,{"$f":"Translate!C463","v":"Sorghum (sweet - May/Jun - USA/Pakistan/Mediterranean)"},141,20,35,40,30,125,0.3,1.2,1.05]
[null,{"$f":"Translate!C464","v":"Sorghum (sweet - Mar/Apr - arid region)"},142,20,35,45,30,130,0.3,1.2,1.05]
[null,{"$f":"Translate!C465","v":"Soybeans (Dec - Tropics)"},143,15,15,40,15,85,0.4,1.1499999999999999,0.5]
[null,{"$f":"Translate!C466","v":"Soybeans (May - Central USA)"},144,20,32,60,25,137,0.4,1.1499999999999999,0.5]
[null,{"$f":"Translate!C467","v":"Soybeans (Jun - Japan )"},145,20,25,75,30,150,0.4,1.1499999999999999,0.5]
[null,{"$f":"Translate!C468","v":"Spinach (Apr/Sep/Oct - Mediterranean)"},146,20,20,20,5,65,0.7,1,0.95]
[null,{"$f":"Translate!C469","v":"Spinach (Nov - arid region)"},147,20,30,40,10,100,0.7,1,0.95]
[null,{"$f":"Translate!C470","v":"Squash, Zucchini (Apr/Dec - Mediterranean/arid region)"},148,25,35,25,15,100,0.5,0.95,0.75]
[null,{"$f":"Translate!C471","v":"Squash, Zucchini (May/Jun - Mediterranean/Europe)"},149,20,30,25,15,90,0.5,0.95,0.75]
[null,{"$f":"Translate!C472","v":"Sudan (1st cutting cycle - Apr - California desert)"},150,25,25,15,10,75,0.5,1,0.95]
[null,{"$f":"Translate!C473","v":"Sudan (other cutting cycles - Jun -California desert)"},151,3,15,12,7,37,0.5,1,0.95]
[null,{"$f":"Translate!C474","v":"Sugarbeet (Mar - California)"},152,30,45,90,15,180,0.35,1.2,0.7]
[null,{"$f":"Translate!C475","v":"Sugarbeet (Jun - California)"},153,25,30,90,10,155,0.35,1.2,0.7]
[null,{"$f":"Translate!C476","v":"Sugarbeet (Sep - California desert)"},154,25,65,100,65,255,0.35,1.2,0.7]
[null,{"$f":"Translate!C477","v":"Sugarbeet (Apr - Idaho)"},155,50,40,50,40,180,0.35,1.2,0.7]
[null,{"$f":"Translate!C478","v":"Sugarbeet (May - Mediterranean)"},156,25,35,50,50,160,0.35,1.2,0.7]
[null,{"$f":"Translate!C479","v":"Sugarbeet (Nov - Mediterranean)"},157,45,75,80,30,230,0.35,1.2,0.7]
[null,{"$f":"Translate!C480","v":"Sugarbeet (Nov - arid regions)"},158,35,60,70,40,205,0.35,1.2,0.7]
[null,{"$f":"Translate!C481","v":"Sugarcane (ratoon - low latitudes)"},159,25,70,135,50,280,0.4,1.25,0.75]
[null,{"$f":"Translate!C482","v":"Sugarcane (ratoon - Tropics)"},160,30,50,180,60,320,0.4,1.25,0.75]
[null,{"$f":"Translate!C483","v":"Sugarcane (ratoon - Hawaii)"},161,35,105,210,70,420,0.4,1.25,0.75]
[null,{"$f":"Translate!C484","v":"Sugarcane (virgin - low latitudes)"},162,35,60,190,120,405,0.4,1.25,0.75]
[null,{"$f":"Translate!C485","v":"Sugarcane (virgin - Tropics)"},163,50,70,220,140,480,0.4,1.25,0.75]
[null,{"$f":"Translate!C486","v":"Sugarcane (virgin - Hawaii)"},164,75,105,330,210,720,0.4,1.25,0.75]
[null,{"$f":"Translate!C487","v":"Sunflower (Apr/May - Mediterranean/California)"},165,25,35,45,25,130,0.35,1.1000000000000001,0.35]
[null,{"$f":"Translate!C488","v":"Sweet melons (May - Mediterranean)"},166,25,35,40,20,120,0.5,1.05,0.75]
[null,{"$f":"Translate!C489","v":"Sweet melons (Mar - California)"},167,30,30,50,30,140,0.5,1.05,0.75]
[null,{"$f":"Translate!C490","v":"Sweet melons (Aug - California desert)"},168,15,40,65,15,135,0.5,1.05,0.75]
[null,{"$f":"Translate!C491","v":"Sweet melons (Dec/Jan - arid region)"},169,30,45,65,20,160,0.5,1.05,0.75]
[null,{"$f":"Translate!C492","v":"Sweet peppers (Apr/Jun - Europe/Mediterranean)"},170,28,35,40,20,123,0.6,1.05,0.9]
[null,{"$f":"Translate!C493","v":"Sweet peppers (Oct - arid region)"},171,30,40,110,30,210,0.6,1.05,0.9]
[null,{"$f":"Translate!C494","v":"Sweet potato (Apr - Mediterranean)"},172,20,30,60,40,150,0.5,1.1499999999999999,0.65]
[null,{"$f":"Translate!C495","v":"Sweet potato (rainy season - Tropical regions)"},173,15,30,50,30,125,0.5,1.1499999999999999,0.65]
[null,{"$f":"Translate!C496","v":"Tomato (Jan - arid region)"},174,30,40,40,25,135,0.6,1.1499999999999999,0.8]
[null,{"$f":"Translate!C497","v":"Tomato (Apr/May - California)"},175,35,40,50,30,155,0.6,1.1499999999999999,0.8]
[null,{"$f":"Translate!C498","v":"Tomato (Jan - California desert)"},176,25,40,60,30,155,0.6,1.1499999999999999,0.8]
[null,{"$f":"Translate!C499","v":"Tomato (Oct/Nov - arid region)"},177,35,45,70,30,180,0.6,1.1499999999999999,0.8]
[null,{"$f":"Translate!C500","v":"Tomato (Apr/May - Mediterranean)"},178,30,40,45,30,145,0.6,1.1499999999999999,0.8]
[null,{"$f":"Translate!C501","v":"Walnuts (Apr - Utah)"},179,20,10,130,30,190,0.5,1.1000000000000001,0.65]
[null,{"$f":"Translate!C502","v":"Water melons (Apr - Italy)"},180,20,30,30,30,110,0.4,1,0.75]
[null,{"$f":"Translate!C503","v":"Water melons (Mat/Aug - Near East (desert))"},181,10,20,20,30,80,0.4,1,0.75]
[null,{"$f":"Translate!C504","v":"Winter Wheat (Dec - California)"},182,202,602,70,30,904,0.4,1.1499999999999999,0.35]
[null,{"$f":"Translate!C505","v":"Winter Wheat (Nov - Mediterranean)"},183,30,140,40,30,240,0.4,1.1499999999999999,0.35]
[null,{"$f":"Translate!C506","v":"Winter Wheat (Oct - Idaho)"},184,160,75,75,25,335,0.7,1.1499999999999999,0.35]
[null,{"$f":"Translate!$C$507","v":"New crop"},185,{"$f":"Translate!$C$508","v":"Insert value"},{"$f":"Translate!$C$508","v":"Insert value"},{"$f":"Translate!$C$508","v":"Insert value"},{"$f":"Translate!$C$508","v":"Insert value"},0,{"$f":"Translate!$C$508","v":"Insert value"},{"$f":"Translate!$C$508","v":"Insert value"},{"$f":"Translate!$C$508","v":"Insert value"}]
[null,{"$f":"Translate!$C$507","v":"New crop"},186,{"$f":"Translate!$C$508","v":"Insert value"},{"$f":"Translate!$C$508","v":"Insert value"},{"$f":"Translate!$C$508","v":"Insert value"},{"$f":"Translate!$C$508","v":"Insert value"},0,{"$f":"Translate!$C$508","v":"Insert value"},{"$f":"Translate!$C$508","v":"Insert value"},{"$f":"Translate!$C$508","v":"Insert value"}]
[null,{"$f":"Translate!$C$507","v":"New crop"},187,{"$f":"Translate!$C$508","v":"Insert value"},{"$f":"Translate!$C$508","v":"Insert value"},{"$f":"Translate!$C$508","v":"Insert value"},{"$f":"Translate!$C$508","v":"Insert value"},0,{"$f":"Translate!$C$508","v":"Insert value"},{"$f":"Translate!$C$508","v":"Insert value"},{"$f":"Translate!$C$508","v":"Insert value"}]
[null,{"$f":"Translate!$C$507","v":"New crop"},188,{"$f":"Translate!$C$508","v":"Insert value"},{"$f":"Translate!$C$508","v":"Insert value"},{"$f":"Translate!$C$508","v":"Insert value"},{"$f":"Translate!$C$508","v":"Insert value"},0,{"$f":"Translate!$C$508","v":"Insert value"},{"$f":"Translate!$C$508","v":"Insert value"},{"$f":"Translate!$C$508","v":"Insert value"}]
[null,{"$f":"Translate!$C$507","v":"New crop"},189,{"$f":"Translate!$C$508","v":"Insert value"},{"$f":"Translate!$C$508","v":"Insert value"},{"$f":"Translate!$C$508","v":"Insert value"},{"$f":"Translate!$C$508","v":"Insert value"},0,{"$f":"Translate!$C$508","v":"Insert value"},{"$f":"Translate!$C$508","v":"Insert value"},{"$f":"Translate!$C$508","v":"Insert value"}]
[null,{"$f":"Translate!$C$507","v":"New crop"},190,{"$f":"Translate!$C$508","v":"Insert value"},{"$f":"Translate!$C$508","v":"Insert value"},{"$f":"Translate!$C$508","v":"Insert value"},{"$f":"Translate!$C$508","v":"Insert value"},0,{"$f":"Translate!$C$508","v":"Insert value"},{"$f":"Translate!$C$508","v":"Insert value"},{"$f":"Translate!$C$508","v":"Insert value"}]
[null,{"$f":"Translate!$C$507","v":"New crop"},191,{"$f":"Translate!$C$508","v":"Insert value"},{"$f":"Translate!$C$508","v":"Insert value"},{"$f":"Translate!$C$508","v":"Insert value"},{"$f":"Translate!$C$508","v":"Insert value"},0,{"$f":"Translate!$C$508","v":"Insert value"},{"$f":"Translate!$C$508","v":"Insert value"},{"$f":"Translate!$C$508","v":"Insert value"}]
[null,{"$f":"Translate!$C$507","v":"New crop"},192,{"$f":"Translate!$C$508","v":"Insert value"},{"$f":"Translate!$C$508","v":"Insert value"},{"$f":"Translate!$C$508","v":"Insert value"},{"$f":"Translate!$C$508","v":"Insert value"},0,{"$f":"Translate!$C$508","v":"Insert value"},{"$f":"Translate!$C$508","v":"Insert value"},{"$f":"Translate!$C$508","v":"Insert value"}]
[null,{"$f":"Translate!$C$507","v":"New crop"},193,{"$f":"Translate!$C$508","v":"Insert value"},{"$f":"Translate!$C$508","v":"Insert value"},{"$f":"Translate!$C$508","v":"Insert value"},{"$f":"Translate!$C$508","v":"Insert value"},0,{"$f":"Translate!$C$508","v":"Insert value"},{"$f":"Translate!$C$508","v":"Insert value"},{"$f":"Translate!$C$508","v":"Insert value"}]
[null,{"$f":"Translate!$C$507","v":"New crop"},194,{"$f":"Translate!$C$508","v":"Insert value"},{"$f":"Translate!$C$508","v":"Insert value"},{"$f":"Translate!$C$508","v":"Insert value"},{"$f":"Translate!$C$508","v":"Insert value"},0,{"$f":"Translate!$C$508","v":"Insert value"},{"$f":"Translate!$C$508","v":"Insert value"},{"$f":"Translate!$C$508","v":"Insert value"}]
[null,{"$f":"Translate!$C$507","v":"New crop"},195,{"$f":"Translate!$C$508","v":"Insert value"},{"$f":"Translate!$C$508","v":"Insert value"},{"$f":"Translate!$C$508","v":"Insert value"},{"$f":"Translate!$C$508","v":"Insert value"},{"$f":"SUM(D201:G201)","v":0},{"$f":"Translate!$C$508","v":"Insert value"},{"$f":"Translate!$C$508","v":"Insert value"},{"$f":"Translate!$C$508","v":"Insert value"}]
[null,{"$f":"Translate!$C$507","v":"New crop"},196,{"$f":"Translate!$C$508","v":"Insert value"},{"$f":"Translate!$C$508","v":"Insert value"},{"$f":"Translate!$C$508","v":"Insert value"},{"$f":"Translate!$C$508","v":"Insert value"},0,{"$f":"Translate!$C$508","v":"Insert value"},{"$f":"Translate!$C$508","v":"Insert value"},{"$f":"Translate!$C$508","v":"Insert value"}]
[null,{"$f":"Translate!$C$507","v":"New crop"},197,{"$f":"Translate!$C$508","v":"Insert value"},{"$f":"Translate!$C$508","v":"Insert value"},{"$f":"Translate!$C$508","v":"Insert value"},{"$f":"Translate!$C$508","v":"Insert value"},0,{"$f":"Translate!$C$508","v":"Insert value"},{"$f":"Translate!$C$508","v":"Insert value"},{"$f":"Translate!$C$508","v":"Insert value"}]
[null,{"$f":"Translate!$C$507","v":"New crop"},198,{"$f":"Translate!$C$508","v":"Insert value"},{"$f":"Translate!$C$508","v":"Insert value"},{"$f":"Translate!$C$508","v":"Insert value"},{"$f":"Translate!$C$508","v":"Insert value"},0,{"$f":"Translate!$C$508","v":"Insert value"},{"$f":"Translate!$C$508","v":"Insert value"},{"$f":"Translate!$C$508","v":"Insert value"}]
[null,{"$f":"Translate!$C$507","v":"New crop"},199,{"$f":"Translate!$C$508","v":"Insert value"},{"$f":"Translate!$C$508","v":"Insert value"},{"$f":"Translate!$C$508","v":"Insert value"},{"$f":"Translate!$C$508","v":"Insert value"},0,{"$f":"Translate!$C$508","v":"Insert value"},{"$f":"Translate!$C$508","v":"Insert value"},{"$f":"Translate!$C$508","v":"Insert value"}]
[null,{"$f":"Translate!$C$507","v":"New crop"},200,{"$f":"Translate!$C$508","v":"Insert value"},{"$f":"Translate!$C$508","v":"Insert value"},{"$f":"Translate!$C$508","v":"Insert value"},{"$f":"Translate!$C$508","v":"Insert value"},0,{"$f":"Translate!$C$508","v":"Insert value"},{"$f":"Translate!$C$508","v":"Insert value"},{"$f":"Translate!$C$508","v":"Insert value"}]
[null,{"$f":"Translate!$C$507","v":"New crop"},201,{"$f":"Translate!$C$508","v":"Insert value"},{"$f":"Translate!$C$508","v":"Insert value"},{"$f":"Translate!$C$508","v":"Insert value"},{"$f":"Translate!$C$508","v":"Insert value"},0,{"$f":"Translate!$C$508","v":"Insert value"},{"$f":"Translate!$C$508","v":"Insert value"},{"$f":"Translate!$C$508","v":"Insert value"}]
[null,{"$f":"Translate!$C$507","v":"New crop"},202,{"$f":"Translate!$C$508","v":"Insert value"},{"$f":"Translate!$C$508","v":"Insert value"},{"$f":"Translate!$C$508","v":"Insert value"},{"$f":"Translate!$C$508","v":"Insert value"},0,{"$f":"Translate!$C$508","v":"Insert value"},{"$f":"Translate!$C$508","v":"Insert value"},{"$f":"Translate!$C$508","v":"Insert value"}]
[null,{"$f":"Translate!$C$507","v":"New crop"},203,{"$f":"Translate!$C$508","v":"Insert value"},{"$f":"Translate!$C$508","v":"Insert value"},{"$f":"Translate!$C$508","v":"Insert value"},{"$f":"Translate!$C$508","v":"Insert value"},0,{"$f":"Translate!$C$508","v":"Insert value"},{"$f":"Translate!$C$508","v":"Insert value"},{"$f":"Translate!$C$508","v":"Insert value"}]
[null,{"$f":"Translate!$C$507","v":"New crop"},204,{"$f":"Translate!$C$508","v":"Insert value"},{"$f":"Translate!$C$508","v":"Insert value"},{"$f":"Translate!$C$508","v":"Insert value"},{"$f":"Translate!$C$508","v":"Insert value"},0,{"$f":"Translate!$C$508","v":"Insert value"},{"$f":"Translate!$C$508","v":"Insert value"},{"$f":"Translate!$C$508","v":"Insert value"}]
[null,{"$f":"Translate!$C$507","v":"New crop"},205,{"$f":"Translate!$C$508","v":"Insert value"},{"$f":"Translate!$C$508","v":"Insert value"},{"$f":"Translate!$C$508","v":"Insert value"},{"$f":"Translate!$C$508","v":"Insert value"},0,{"$f":"Translate!$C$508","v":"Insert value"},{"$f":"Translate!$C$508","v":"Insert value"},{"$f":"Translate!$C$508","v":"Insert value"}]
[null,{"$f":"Translate!$C$507","v":"New crop"},206,{"$f":"Translate!$C$508","v":"Insert value"},{"$f":"Translate!$C$508","v":"Insert value"},{"$f":"Translate!$C$508","v":"Insert value"},{"$f":"Translate!$C$508","v":"Insert value"},0,{"$f":"Translate!$C$508","v":"Insert value"},{"$f":"Translate!$C$508","v":"Insert value"},{"$f":"Translate!$C$508","v":"Insert value"}]
[null,{"$f":"Translate!$C$507","v":"New crop"},207,{"$f":"Translate!$C$508","v":"Insert value"},{"$f":"Translate!$C$508","v":"Insert value"},{"$f":"Translate!$C$508","v":"Insert value"},{"$f":"Translate!$C$508","v":"Insert value"},0,{"$f":"Translate!$C$508","v":"Insert value"},{"$f":"Translate!$C$508","v":"Insert value"},{"$f":"Translate!$C$508","v":"Insert value"}]
[null,{"$f":"Translate!$C$507","v":"New crop"},208,{"$f":"Translate!$C$508","v":"Insert value"},{"$f":"Translate!$C$508","v":"Insert value"},{"$f":"Translate!$C$508","v":"Insert value"},{"$f":"Translate!$C$508","v":"Insert value"},0,{"$f":"Translate!$C$508","v":"Insert value"},{"$f":"Translate!$C$508","v":"Insert value"},{"$f":"Translate!$C$508","v":"Insert value"}]
[null,{"$f":"Translate!$C$507","v":"New crop"},209,{"$f":"Translate!$C$508","v":"Insert value"},{"$f":"Translate!$C$508","v":"Insert value"},{"$f":"Translate!$C$508","v":"Insert value"},{"$f":"Translate!$C$508","v":"Insert value"},0,{"$f":"Translate!$C$508","v":"Insert value"},{"$f":"Translate!$C$508","v":"Insert value"},{"$f":"Translate!$C$508","v":"Insert value"}]
[null,{"$f":"Translate!$C$507","v":"New crop"},210,{"$f":"Translate!$C$508","v":"Insert value"},{"$f":"Translate!$C$508","v":"Insert value"},{"$f":"Translate!$C$508","v":"Insert value"},{"$f":"Translate!$C$508","v":"Insert value"},{"$f":"SUM(D216:G216)","v":0},{"$f":"Translate!$C$508","v":"Insert value"},{"$f":"Translate!$C$508","v":"Insert value"},{"$f":"Translate!$C$508","v":"Insert value"}]

{"sheet":"Translate","index":7,"n_rows":603,"n_cols":9,"rows_kept":603,"cut":false,"hidden":false,"merged":[[1,1,2,2],[7,1,14,1],[4,1,4,8]]}
[]
[null,{"$f":"$C$17","v":"Do not modify this sheet"}]
[]
[]
[null,{"$f":"$C$18","v":"Reference Row"}]
[null,{"$f":"$C$19","v":"Selected Language:"},{"$f":"'READ ME'!$G$10","v":"English"},"English","Français","Español","العربية"]
[null,{"$f":"$C$21","v":"Language code:"},{"$f":"$C$22","v":"Must specify language code (as indicated in the existing languages) to format dates "},"[$-409]","[$-40C]","[$-C0A]","[$-401]"]
[null,{"$f":"$C$20","v":"Sheet name"},{"$f":"HLOOKUP($C$6,$D$6:$I$603,ROW()-ROW($B$5),FALSE)","v":"READ ME"},"READ ME","LISER MOI","LÉEME","اقرأ هذه الصفحة"]
[null,null,{"$f":"HLOOKUP($C$6,$D$6:$I$603,ROW()-ROW($B$5),FALSE)","v":"1 Geographic Data"},"1 Geographic Data","1 Données géographiques","1 Datos geográficos","1 البيانات الجغرافية"]
[null,null,"2 Crop Water Requirement","2 Crop Water Requirement","2 Besoins en eau des cultures","2 Necesidades de agua cultivos","2 الاحتياجات المائية للمحاصيل"]
[null,null,"3 Livestock Water Requirement","3 Livestock Water Requirement","3 Besoins en eau des animaux","3 Necesidades de agua ganado","3 متطلبات المياه للماشية"]
[null,null,"4 Summary","4 Summary","4 Bilan","4 Resumen","4 ملخص"]
[null,null,"5 How this tool works","5 How this tool works","5 Comment ça fonctionne","5 Funcionamiento","5 كيف تعمل هذه الأداة"]
[null,null,"Crop Information","Crop Information","Information sur les cultures","Información sobre cultivos","معلومات المحاصيل"]
[null,null,"Translate","Translate","Traduire","Traducción","ترجمة"]
[]
[null,{"$f":"$C$15","v":"Translate"},"Do not modify this sheet","Do not modify this sheet","Ne modifiez pas cette feuille","No modifique esta hoja","لا تعدل هذه الصفحة"]
[null,null,"Reference Row","Reference Row","Ligne de référence","Fila de referencia","صف مرجعي"]
[null,null,"Selected Language:","Selected Language:","Langue sélectionnée:","Idioma seleccionado:","اللغة المختارة:"]
[null,null,"Sheet name","Sheet name","Nom de la feuille","Nombre de la hoja","اسم الصفحة"]
[null,null,"Language code:","Language code:","Code langue :","Código de lenguaje:","رمز اللغة:"]
[null,null,"Must specify language code (as indicated in the existing languages) to format dates ","Must specify language code (as indicated in the existing languages) to format dates ","Doit spécifier le code de langue (comme indiqué dans les langues existantes) pour formater les dates","Debe especificar el código de idioma (como se indica en los idiomas existentes) para formatear las fechas","يجب تحديد رمز اللغة (كما هو موضح في اللغات الموجودة) لضبط التواريخ"]
[]
[null,{"$f":"$C$8","v":"READ ME"},"Select language","Select language","Sélectionner la langue","Seleccione el idioma","اختار اللغة"]
[null,null,"Read Me Sheet","Read Me Sheet","Feuille Lisez-moi","Léeme","اقرأ هذه الصفحة"]
[null,null,"SAFEGUARD WATER – Water Requirement Tool","SAFEGUARD WATER – Water Requirement Tool","PRÉSERVER L’EAU – Outil d'évaluation des besoins en eau","SALVAGUARDA EL AGUA – Herramienta de cálculo de necesidades de agua","حماية المياه: أداة احتياجات المياه  "]
[null,null,"Introduction","Introduction","Introduction","Introducción","مقدمة"]
[null,null,"This tool serves to calculate the water requirement for crops and livestock according to the geographic position, climatic data, and rainfall patterns at the Solar-Powered Irrigation System (SPIS) location. Complimentary tools are available under:","This tool serves to calculate the water requirement for crops and livestock according to the geographic position, climatic data, and rainfall patterns at the Solar-Powered Irrigation System (SPIS) location. Complimentary tools are available under:","Cet outil sert à calculer les besoins en eau des cultures et des animaux d’élevage en fonction de l’emplacement géographique, des données climatiques, et des régimes de précipitation à l’endroit où le \"Système d'Irrigation à Energie Solaire\" (SIES) est installé. Des outils complémentaires sont disponibles à l’adresse suivante:","Esta herramienta sirve para calcular las necesidades de agua para los cultivos y el ganado de acuerdo con la situación geográfica y los patrones de lluvia para un SPIS. Hay disponibles herramientas complementarias en:","تعمل هذه الأداة على حساب الاحتياجات المائية للمحاصيل والماشية وفقًا للموقع الجغرافي, والبيانات المناخية وأنماط سقوط الأمطار في موقع \"نظام الري الذي يعمل بالطاقة الشمسية\" (SPIS). أدوات إضافية مجانية متوفرة تحت:"]
[null,null,"Tips & Tricks","Tips & Tricks","Conseils et Astuces","Consejos y trucos","نصائح وحيل"]
[null,null,"● Make sure that macro is always enabled for the proper functioning of this tool  ","● Make sure that macro is always enabled for the proper functioning of this tool  ","● Assurez-vous que les macros sont toujours activées pour le bon fonctionnement de cet outil ","● Asegúrese de que la macro esté siempre habilitada para el correcto funcionamiento de esta herramienta.","● تأكد من تمكين الماكرو دائمًا من أجل حسن سير هذه الأداة"]
[null,null,"● Only enter values into white cells","● Only enter values into white cells","● Saisissez des valeurs uniquement dans les cellules blanches","● Solo ingrese valores en las celdas blancas.","● أدخل القيم فقط في الخلايا البيضاء"]
[null,null,"● This tool comprises drop down lists and macros to simplify data entry and results review.","● This tool comprises drop down lists and macros to simplify data entry and results review.","● Cet outil contient des listes déroulantes et des macros pour simplifier la saisie des données et la présentation des résultats","● Esta herramienta incluye listas desplegables y macros para simplificar la entrada de datos y la revisión de resultados.","● تتضمن هذه الأداة قوائم منسدلة ووحدات ماكرو لتبسيط إدخال البيانات ومراجعة النتائج."]
[null,null,"● For the multilanguage option to work properly, do NOT delete sheets","● For the multilanguage option to work properly, do NOT delete sheets","● Pour que l'option multilingue fonctionne correctement, ne supprimez PAS les feuilles","● Para que la opción de varios idiomas funcione correctamente, NO elimine las hojas.","● لكي يعمل خيار اللغات المتعددة بشكل صحيح ، لا تحذف الصفحات"]
[null,null,"● Make sure that this file is always saved as \".xlsm\"    \n","● Make sure that this file is always saved as \".xlsm\"    \n","● Assurez-vous que ce fichier est toujours enregistré sous \".xlsm\"    \n","● Asegúrese de que este archivo siempre se guarde como \".xlsm\"","● تأكد من حفظ هذا الملف دائمًا باسم \".xlsm\""]
[null,null,"Overview","Overview","Aperçu","Sinopsis","نظرة عامة"]
[null,null,"This tool comprises the following sheet:","This tool comprises the following sheet:","Cet outil est composé des feuilles suivantes:","Esta herramienta incluye las siguientes hojas:","تتكون هذه الأداة من الصفحات التالية:"]
[null,null,"for adding basic site information and entering climatic data","for adding basic site information and entering climatic data","pour ajouter des informations de base sur le site et entrer les données climatique","Información básica del lugar y datos de precipitación y temperatura","لإضافة معلومات الموقع الأساسية وإدخال البيانات المناخية"]
[null,null,"for selecting crops and planting periods; for automatic calculation of crop water requirements and irrigation water need","for selecting crops and planting periods; for automatic calculation of crop water requirements and irrigation water need","pour le choix des cultures et les périodes de plantation ; pour le calcul automatique des besoins en eau des cultures et d'irrigation","Selección de cultivo y período de plantación; y cálculo automático de las necesidades de agua de un cultivo individual","لاختيار المحاصيل وفترات الزراعة ؛ للحساب التلقائي للاحتياجات المائية للمحاصيل ومياه الري"]
[null,null,"for adding the type and number of livestock; for automatic calculation of the water requirement for all livestock","for adding the type and number of livestock; for automatic calculation of the water requirement for all livestock","pour l'addition du type et du nombre d'animaux d'élevage ; pour le calcul automatique des besoins en eau de tous les animaux d'élevage","Tipo y n.° de cabezas de ganado; cálculo automático de las necesidades de agua para todo el ganado","لإضافة نوع وعدد الماشية ؛ للحساب التلقائي للاحتياجات المائية لجميع الماشية"]
[null,null,"for the summary of crop and livestock water need","for the summary of crop and livestock water need","pour le résumé des besoins en eau des cultures et du bétail","Resumen de las necesidades de agua de cultivo y ganado","لتلخيص احتياجات المياه للمحاصيل والماشية"]
[null,null,"for understanding the way this tool works and on which data it is based on","for understanding the way this tool works and on which data it is based on","pour comprendre le fonctionnement de cet outil et sur quelles données il est basé","Explicación del funcionamiento de esta herramienta y en qué datos se basa","لفهم طريقة عمل هذه الأداة والبيانات التي تستند إليها"]
[null,null,"for adjusting and adding the necessary crops information","for adjusting and adding the necessary crops information","pour ajuster et ajouter les informations nécessaires sur les cultures","Con posibilidad de adaptar y añadir cultivos y sus respectivas necesidades de agua","لضبط وإضافة معلومات المحاصيل اللازمة"]
[null,null,"This tool is based on the FAO Irrigation and Drainage Paper No. 56: Crop Evapotranspiration (guidelines for computing crop water requirements), available at:","This tool is based on the FAO Irrigation and Drainage Paper No. 56: Crop Evapotranspiration (guidelines for computing crop water requirements), available at:","Cet outil est basé sur le document n° 56 de la FAO sur l'irrigation et le drainage: Evapotranspiration des cultures (directives pour le calcul des besoins en eau des cultures), disponible sur: ","Esta herramienta se basa en el documento de riego y drenaje de la FAO n° 56: Evapotranspiración de cultivos (directrices para calcular los necesidades de agua de los cultivos), disponible en:","تعتمد هذه الأداة على ورقة الري والصرف رقم 56 الصادرة عن منظمة الأغذية والزراعة: البخر- نتح  المحاصيل (مبادئ توجيهية لحساب الإحتياجات المائية للمحاصيل) ، وهي متاحة على الموقع:"]
[null,null,"About","About","En savoir plus","Acerca de","حول"]
[null,null,"Published by: ","Published by: ","Publié par: ","Publicado por: ","نشرت من قبل:"]
[null,null,"Responsible:","Responsible:","Responsables:","Responsable:","مسؤول:"]
[null,null,"Contact:","Contact:","Contact:","Contacto: ","اتصال:"]
[null,null,"Download link:","Download link:","Lien de téléchargement:","Enlace descarga: ","رابط التحميل:"]
[null,null,"About:","About:","À propos de: ","Acerca de:","حول:"]
[null,null,"Version:","Version:","Version:","Versión:","إصدار:"]
[null,null,"GIZ & FAO","GIZ & FAO","GIZ et FAO","GIZ & FAO","الوكالة الألمانية للتعاون الدولي (GIZ) ومنظمة الأغذية والزراعة (FAO)"]
[null,null,"GIZ project \"Water and Energy for Food (WE4F)\"","GIZ project \"Water and Energy for Food (WE4F)\"","Projet de la GIZ « Les innovations dans l’agriculture et la production alimentaire protègent le climat (PEEPA/WE4F) » (Water and Energy for Food)","GIZ project \"Water and Energy for Food (WE4F)\"","مشروع الوكالة الألمانية للتعاون الدولي \"المياه والطاقة من أجل الغذاء Water and Energy for Food (WE4F)\""]
[null,null,"Water and Energy for Food Grand Challenge at:  ","Water and Energy for Food Grand Challenge at:  ","Eau et Energie pour l'Alimentation (PEEPA). Disponible à l’adresse :  ","Water and Energy for Food Grand Challenge at:  ","التحدي الكبير للمياه والطاقة من أجل الغذاء في:"]
[null,null,"3.0 (June 2021)","3.0 (June 2021)","3.0 (Juin 2021)","3.0 (Junio 2021)","3.0 (يونيو 2021)"]
[null,null,"The Toolbox on Solar Powered Irrigation Systems (SPIS) is a legacy project of the global initiative Powering Agriculture: An Energy Grand Challenge for Development (PAEGC). In 2012, the United States Agency for International Development (USAID), the Swedish International Development Cooperation Agency (Sida), the German Federal Ministry for Economic Cooperation and Development (BMZ), Duke Energy, and the Overseas Private Investment Corporation (OPIC) combined resources to support new and sustainable approaches to accelerate the development and deployment of clean energy solutions for increasing agriculture productivity.\n\nThe Toolbox on SPIS has now been embraced for further development by PAEGC's successor program Water and Energy for Food (WE4F). WE4F is a joint international initiative of the European Union (EU), German Federal Ministry for Economic Cooperation and Development (BMZ), the Ministry of Foreign Affairs of the Kingdom of the Netherlands, Sweden through the Swedish International Development Cooperation Agency (Sida), and the U.S. Agency for International Development (USAID). WE4F aims to increase food production along the value chain through a more sustainable and efficient usage of water and/or energy.","The Toolbox on Solar Powered Irrigation Systems (SPIS) is a legacy project of the global initiative Powering Agriculture: An Energy Grand Challenge for Development (PAEGC). In 2012, the United States Agency for International Development (USAID), the Swedish International Development Cooperation Agency (Sida), the German Federal Ministry for Economic Cooperation and Development (BMZ), Duke Energy, and the Overseas Private Investment Corporation (OPIC) combined resources to support new and sustainable approaches to accelerate the development and deployment of clean energy solutions for increasing agriculture productivity.\n\nThe Toolbox on SPIS has now been embraced for further development by PAEGC's successor program Water and Energy for Food (WE4F). WE4F is a joint international initiative of the European Union (EU), German Federal Ministry for Economic Cooperation and Development (BMZ), the Ministry of Foreign Affairs of the Kingdom of the Netherlands, Sweden through the Swedish International Development Cooperation Agency (Sida), and the U.S. Agency for International Development (USAID). WE4F aims to increase food production along the value chain through a more sustainable and efficient usage of water and/or energy.","La boîte à outils pour les systèmes d’irrigation à énergie solaire (Solar Powered Irrigation Systems, SPIS) est un projet hérité de l'initiative mondiale « Propulser l’agriculture : un grand défi énergétique pour le développement » (Powering Agriculture: An Energy Grand Challenge for Development – PAEGC). En 2012, l’Agence des États-Unis pour le développement international (USAID), l’Agence suédoise de coopération internationale au développement (Sida), le ministère fédéral allemand de la Coopération économique et du Développement (BMZ), Duke Energy et l’Overseas Private Investment Cooperation (OPIC) ont mis leurs ressources en commun pour soutenir des approches nouvelles et durables afin d'accélérer le développement et le déploiement des solutions énergétiques propres pour accroître la productivité agricole.\n\nLa boîte à outils sur les SPIS a maintenant été adoptée pour un développement ultérieur par le programme successeur du PAEGC, Eau et Energie pour l'Alimentation (PEEPA) - Water and Energy for Food (WE4F). WE4F/PEEPA est une initiative commune de l'Union européenne, du Ministère fédéral allemand de la coopération économique et du développement (BMZ), du Ministère des affaires étrangères du royaume des Pays-Bas, de l’Agence suédoise de développement (Sida) et de l’Agence de développement des États-Unis (USAID). WE4F/PEEPA vise à accroître la production alimentaire tout au long de la chaîne de valeur grâce à une utilisation plus durable et plus efficace de l'eau et/ou de l'énergie.","La publicación de la Caja de herramientas de sistemas de riego solar ha sido posible gracias al apoyo brindado por la iniciativa mundial Powering Agriculture: An Energy Grand Challenge for Development (PAEGC) (Energización Rural: Un gran desafío energético para el desarrollo). En 2012, la Agencia de los Estados Unidos para el Desarrollo Internacional (USAID), la Agencia Sueca de Cooperación Internacional para el Desarrollo (Sida), el Ministerio Federal de Cooperación Económica y Desarrollo (BMZ) de Alemania, la empresa de energía Duke Energy Corporation y la Corporación de Inversiones Privadas en el Extranjero (OPIC) juntaron recursos para crear la iniciativa PAEGC. El objetivo de PAEGC es fomentar nuevos enfoques sostenibles con el fin de acelerar el desarrollo y asegurar el establecimiento de energías limpias que incrementen la productividad y/o el valor de la agricultura en países en desarrollo y regiones emergentes sin acceso a fuentes de energía confiables, asequibles y limpias.","يعتبر صندوق الأدوات الخاص بأنظمة الري التي تعمل بالطاقة الشمسية (SPIS) مشروعًا هاما للمبادرة العالمية \"دعم الزراعة: تحدي الطاقة الكبير من أجل التنمية\" Powering Agriculture: An Energy Grand Challenge for Development (PAEGC). في عام 2012 ، قامت الوكالة الأمريكية للتنمية الدولية (USAID) ، والوكالة السويدية للتعاون الإنمائي الدولي (ٍSida) ، والوزارة الفيدرالية الألمانية للتعاون الاقتصادي والتنمية (BMZ) ، وشركة Duke Energy ، ومؤسسة الاستثمار الخاص لما وراء البحار (OPIC) بجهود مشتركة لدعم الأساليب الجديدة والمستدامة لتسريع تطوير ونشر حلول الطاقة النظيفة لزيادة الإنتاجية الزراعية.\n\nتم اعتماد صندوق SPIS الآن لمزيد من التطوير من قبل البرنامج اللاحق لـ PAEGC \"الماء والطاقة من اجل الغذاء\" Water and Energy for Food (WE4F). الاخير هو مبادرة دولية مشتركة من الاتحاد الأوروبي (EU) ، والوزارة الاتحادية الألمانية للتعاون الاقتصادي والتنمية (BMZ) ، ووزارة الشؤون الخارجية لمملكة هولندا ، والسويد من خلال الوكالة السويدية للتعاون الإنمائي الدولي (Sida) ، والوكالة الأمريكية للتنمية الدولية (USAID). تهدف WE4F إلى زيادة إنتاج الغذاء على امتداد سلاسل القيمة الغذائية من خلال استخدام المياه و / أو الطاقة بطريقة أكثر استدامة وكفاءة."]
[null,null,"The designations employed and the presentation of material in this information product do not imply the expression of any opinion whatsoever on the part of Deutsche Gesellschaft für Internationale Zusammenarbeit (GIZ) GmbH, Food and Agriculture Organization of the United Nations (FAO) or any of the PAEGC Founding Partners concerning the legal or development status of any country, territory, city or area or of its authorities, or concerning the delimitation of its frontiers or boundaries. The mention of specific companies or products of manufacturers, whether or not these have been patented, does not imply that these have been endorsed or recommended by GIZ, FAO, or any of the PAEGC Founding Partners in preference to others of a similar nature that are not mentioned. The views expressed in this information product are those of the author and do not necessarily reflect the views or policies of GIZ, FAO, or any of the PAEGC Founding Partners.","The designations employed and the presentation of material in this information product do not imply the expression of any opinion whatsoever on the part of Deutsche Gesellschaft für Internationale Zusammenarbeit (GIZ) GmbH, Food and Agriculture Organization of the United Nations (FAO) or any of the PAEGC Founding Partners concerning the legal or development status of any country, territory, city or area or of its authorities, or concerning the delimitation of its frontiers or boundaries. The mention of specific companies or products of manufacturers, whether or not these have been patented, does not imply that these have been endorsed or recommended by GIZ, FAO, or any of the PAEGC Founding Partners in preference to others of a similar nature that are not mentioned. The views expressed in this information product are those of the author and do not necessarily reflect the views or policies of GIZ, FAO, or any of the PAEGC Founding Partners.","Les appellations employées dans ce produit d’information et la présentation des documents qui y figurent n’impliquent de la part de la Deutsche Gesellschaft für Internationale Zusammenarbeit (GIZ) GmbH, de l’Organisation des Nations unies pour l’alimentation et l’agriculture (FAO) ou de l’un des partenaires fondateurs de l’initiative PAEGC aucune prise de position quant au statut juridique ou au stade de développement des pays, territoires, villes ou zones ou de leurs autorités, ni quant au tracé de leurs frontières ou limites. La mention de sociétés déterminées ou de produits de fabricants, qu’ils soient ou non brevetés, n’entraîne de la part de la GIZ, de la FAO ou de l’un des partenaires fondateurs du PAEGC aucune approbation ou recommandation desdits produits de préférence à d’autres de nature analogue qui ne sont pas cités. Les opinions exprimées dans ce produit d’information sont celles des auteurs et ne reflètent pas nécessairement celles de la GIZ, de la FAO, ou de l’un des partenaires fondateurs du PAEGC.","Las denominaciones empleadas y la presentación del material en este producto informativo no implican juicio alguno por parte de la Deutsche Gesellschaft für Internationale Zusammenarbeit (GIZ) GmbH, la Organización de las Naciones Unidas para la Alimentación y la Agricultura (FAO), o los socios fundadores de la iniciativa PAEGC, sobre la condición jurídica o el grado de desarrollo de ninguno de los países, territorios, ciudades o zonas citados o de sus autoridades, ni respecto de la delimitación de sus fronteras o límites. La mención de empresas o productos de fabricantes en particular, estén o no patentados, no implica que la GIZ, la FAO o alguno de los socios fundadores de la iniciativa PAEGC los aprueben o recomienden, dándoles preferencia sobre otros de naturaleza similar que no se mencionan. Las opiniones expresadas en este producto informativo son las de su(s) autor(es) o autora(s), y no reflejan necesariamente los puntos de vista o las políticas de la GIZ, la FAO o ninguno de los socios fundadores de la iniciativa PAEGC.\n","التسميات المستخدمة وطريقة عرض المواد في هذا المنتج المعلوماتي لا تعبر عن أي رأي من جانب Deutsche Gesellschaft für Internationale Zusammenarbeit (GIZ) GmbH أو منظمة الأغذية والزراعة للأمم المتحدة (FAO) أو أي من الشركاء المؤسسين لـ PAEGC فيما يتعلق بالوضع القانوني أو التنموي لأي بلد أو إقليم أو مدينة أو منطقة أو لسلطاتها ، أو فيما يتعلق بترسيم حدودها أو نطاقاتها. إن ذكر شركات أو منتجات معينة من الشركات المصنعة ، سواء تم تسجيل براءات اختراع لها أم لا ، لا يعني أن هذه الشركات أو المنتجات قد تم اعتمادها أو التوصية بها من قبل GIZ أو منظمة الأغذية والزراعة أو أي من الشركاء المؤسسين لـ PAEGC او تفضيلها على الشركات أو المنتجات الاخرى غير مذكورة من نفس الطبيعة. الآراء الواردة في هذا المنتج المعلوماتي هي آراء المؤلف ولا تعكس بالضرورة آراء أو سياسات الوكالة الألمانية للتعاون الدولي أو منظمة الأغذية والزراعة أو أي من الشركاء المؤسسين  لـ PAEGC."]
[null,null,"GIZ, FAO and the PAEGC Founding Partners encourage the use, reproduction and dissemination of material in this information product. Except where otherwise indicated, material may be copied, downloaded and printed for private study, research and teaching purposes, or for use in non-commercial products or services, provided that appropriate acknowledgement of GIZ and FAO as the source and copyright holder is given.","GIZ, FAO and the PAEGC Founding Partners encourage the use, reproduction and dissemination of material in this information product. Except where otherwise indicated, material may be copied, downloaded and printed for private study, research and teaching purposes, or for use in non-commercial products or services, provided that appropriate acknowledgement of GIZ and FAO as the source and copyright holder is given.","La GIZ, la FAO et les partenaires fondateurs du PAEGC encouragent l’utilisation, la reproduction et la diffusion des informations contenues dans ce document. Sauf indication contraire, ces dernières peuvent être copiées, téléchargées et imprimées à des fins privées d’étude, de recherche et d’enseignement, ou pour être utilisées dans des produits ou services non commerciaux, à condition que la GIZ et la FAO soient clairement indiquées en tant que sources des informations et détentrices du droit d’auteur.","La GIZ, la FAO y los socios fundadores de la iniciativa PAEGC fomentan la utilización, la reproducción y la difusión del material presentado en este producto informativo. A menos que se indique lo contrario, el material puede ser copiado, descargado e impreso con fines de estudio privado, enseñanza e investigación científica, o para su utilización en productos o servicios no comerciales, siempre que se otorgue a la GIZ y la FAO el debido reconocimiento como fuentes y como titulares de los derechos de autor.","تشجع الوكالة الألمانية للتعاون الدولي ومنظمة الأغذية والزراعة والشركاء المؤسسين لـ PAEGC على استخدام واستنساخ ونشر المواد في هذا المنتج المعلوماتي. يمكن نسخ المواد وتنزيلها وطباعتها للدراسة الخاصة ، ولأغراض البحث والتعليم ، أو لاستخدامها في المنتجات أو الخدمات غير التجارية ، ما لم يُذكر خلاف ذلك ، شريطة تقديم إقرار مناسب من الوكالة الألمانية للتعاون الدولي ومنظمة الأغذية والزراعة كمصدر وصاحب حقوق التأليف والنشر."]
[null,null,{"$f":"HLOOKUP($C$6,$D$6:$I$603,ROW()-ROW($B$5),FALSE)","v":"© GIZ and FAO, 2021"},"© GIZ and FAO, 2021","© GIZ et FAO, 2021","© GIZ & FAO, 2021","© GIZ و FAO, 2021"]
[null,null,0]
[null,{"$f":"$C$9","v":"1 Geographic Data"},"January","January","Janvier","Enero","يناير"]
[null,null,"February","February","Février","Febrero","فبراير"]
[null,null,"March","March","Mars","Marzo","مارس"]
[null,null,"April","April","Avril","Abril","أبريل"]
[null,null,"May","May","Mai","Mayo","مايو"]
[null,null,"June","June","Juin","Junio","يونيو"]
[null,null,"July","July","Juillet","Julio","يوليو"]
[null,null,"August","August","Août","Agosto","أغسطس"]
[null,null,"September","September","Septembre","Septiembre","سبتمبر"]
[null,null,"October","October","Octobre","Octubre","أكتوبر"]
[null,null,"November","November","Novembre","Noviembre","نوفمبر"]
[null,null,"December","December","Décembre","Diciembre","ديسمبر"]
[null,null,"SAFEGUARD WATER – Water Requirement Tool","SAFEGUARD WATER – Water Requirement Tool","PROTÉGER L’EAU – Outil d'évaluation des besoins en eau","SALVAGUARDA EL AGUA – Herramienta de cálculo de las necesidades de agua","حماية المياه: أداة احتياجات المياه  "]
[null,null,"Enter basic rainfall and climatic data for you location.","Enter basic rainfall and climatic data for you location.","Saisissez les données pluviométriques et climatiques de base de votre site.","Introduzca los datos climáticos de su ubicación.","أدخل البيانات الأساسية للأمطار والمناخ للموقع الخاص بك."]
[null,null,"1 GENERAL GEOGRAPHIC INFORMATION","1 GENERAL GEOGRAPHIC INFORMATION","1 INFORMATIONS GÉOGRAPHIQUES D’ORDRE GÉNÉRAL","1 INFORMACIÓN GEOGRÁFICA GENERAL","1 معلومات جغرافية عامة"]
[null,null,{"$f":"HLOOKUP($C$6,$D$6:$I$603,ROW()-ROW($B$5),FALSE)","v":"Country"},"Country","Pays","País","الدولة"]
[null,null,"Farm code","Farm code","Code de l’exploitation","Código de la granja","رمز المزرعة "]
[null,null,"Region","Region","Région","Región","المنطقة"]
[null,null,"Date","Date","Date","Fecha","التاريخ"]
[null,null,"Name of the farm","Name of the farm","Nom de l’exploitation","Nombre de la granja","اسم المزرعة"]
[null,null,"Village","Village","Village","Localidad","القرية"]
[null,null,"Division","Division","Division","División","القسم"]
[null,null,"District","District","District","Distrito","الحي"]
[null,null,"Select available climatic data:","Select available climatic data:","Sélectionnez les données climatiques disponibles :","Seleccione los datos climáticos disponibles:","حدد البيانات المناخية المتاحة:"]
[null,null,"Option 1:  ","Option 1:  ","Option 1:","Opción 1:","الخيار 1:"]
[null,null,"Only mean temperature","Only mean temperature","Seulement température moyenne","Solo temperatura media","فقط متوسط درجات الحرارة"]
[null,null,"Option 2:  ","Option 2:  ","Option 2:","Opcion 2:","الخيار 2:"]
[null,null,"Maximum and minimum temperature","Maximum and minimum temperature","Température maximale et minimale","Temperatura máxima y mínima","درجة الحرارة العظمى والصغرى"]
[null,null,"Option 3:  ","Option 3:  ","Option 3:","Opcion 3:","الخيار 3:"]
[null,null,"Maximum and minimum temperature; humidity; wind speed; and sun hours ","Maximum and minimum temperature; humidity; wind speed; and sun hours ","Température maximale et minimale ; humidité; vitesse du vent; et heures d'ensoleillement","Temperatura máxima y mínima; humedad; velocidad del viento; y horas de insolación","درجتي الحرارة العظمى والصغرى؛ الرطوبة؛ سرعة الرياح؛ وساعات سطوع الشمس"]
[null,null,"Option 4:  ","Option 4:  ","Option 4:","Opcion 4:","الخيار 4:"]
[null,null,"Reference evapotranspiration","Reference evapotranspiration","Évapotranspiration de référence","Evapotranspiración de referencia","البخر- نتح المرجعي"]
[null,null,"Mean daily temperature [°C]","Mean daily temperature [°C]","Température quotidienne moyenne [°C]","Temperatura media diaria [°C]","المتوسط اليومي لدرجة الحرارة [درجة مئوية]"]
[null,null,"Maximum daily temperature [°C]","Maximum daily temperature [°C]","Température maximale quotidienne [°C]","Temperatura máxima diaria [°C]","درجة الحرارة العظمى اليومية [درجة مئوية]"]
[null,null,"Minimum daily temperature [°C]","Minimum daily temperature [°C]","Température minimale quotidienne [°C]","Temperatura mínima diaria [°C]","درجة الحرارة الصغرى اليومية [درجة مئوية]"]
[null,null,"Relative humidity [%]","Relative humidity [%]","Humidité relative [%]","Humedad relativa [%]","الرطوبة النسبية [٪]"]
[null,null,"Wind speed [m/s]","Wind speed [m/s]","Vitesse du vent [m/s]","Velocidad del viento [m / s]","سرعة الرياح [م / ث]"]
[null,null,"Sunshine [hours]","Sunshine [hours]","Heures d'ensoleillement [heures]","Horas de insolación [horas]","سطوع الشمس [عدد الساعات]"]
[null,null,"Reference evapotranspiration [mm/day]","Reference evapotranspiration [mm/day]","Evapotranspiration de référence [mm/jour]","Evapotranspiración de referencia [mm/día]","البخر- نتح المرجعي [ملم / اليوم]"]
[null,null,"Rainfall [mm/month]","Rainfall [mm/month]","Pluviométrie [mm/mois]","Lluvias [mm/mes]","الأمطار [ملم / الشهر]"]
[null,null,"Use the following links to obtain indicative monthly rainfall and climatic data for the site:","Use the following links to obtain indicative monthly rainfall and climatic data for the site:","Utilisez les liens suivants pour obtenir les données des précipitations mensuelles et les données climatiques indicatives du site :","Usar los siguientes enlaces para obtener datos indicativos de precipitaciones mensuales y datos climáticos del lugar:","استخدم الروابط التالية للحصول على بيانات إرشادية شهرية عن الأمطار و المناخ للموقع:"]
[null,null,"Select geographic location:","Select geographic location:","Sélectionnez l'emplacement géographique:","Seleccionar ubicación geográfica:","حدد الموقع الجغرافي:"]
[null,null,"Latitude:","Latitude:","Latitude:","Latitud:","خط العرض:"]
[null,null,"Longitude:","Longitude:","Longitude:","Longitud:","خط الطول:"]
[null,null," decimal degree"," decimal degree","  degré décimal","  grado decimal","درجة عشرية"]
[null,null,"Hemisphere:","Hemisphere:","Hémisphère:","Hemisferio:","نصف الكرة الأرضية:"]
[null,null,"North","North","Nord","Norte","الشمالي","North","North"]
[null,null,"South","South","Sud","Sur","الجنوبي","South","South"]
[null,null,"East","East","Est","Este","الشرقي","East","East"]
[null,null,"West","West","Ouest","Oeste","الغربي","West","West"]
[null,null,"Notes:","Notes:","Remarques:","Notas:","ملاحظات:"]
[null,null,"Use the link to identify the exact coordinates of the site:","Use the link to identify the exact coordinates of the site:","Utilisez le lien pour identifier les coordonnées exactes du site :","Usar el enlace para la identificación exacta de coordenadas: ","استخدم الرابط لتحديد الإحداثيات الدقيقة للموقع:"]
[null,null,"Altitude:","Altitude:","Altitude:","Altitud:","ارتفاع:"]
[null,null," meter"," meter"," mètre"," metro","متر"]
[]
[null,{"$f":"$C$10","v":"2 Crop Water Requirement"},"SAFEGUARD WATER – Water Requirement Tool","SAFEGUARD WATER – Water Requirement Tool","PROTÉGER L’EAU – Outil d'évaluation des besoins en eau","SALVAGUARDA EL AGUA – Herramienta de cálculo de las necesidades de agua","حماية المياه: أداة احتياجات المياه  "]
[null,null,"Select crop intended for planting at your location, for automatic indication of water requirements","Select crop intended for planting at your location, for automatic indication of water requirements","Sélectionnez la culture qui va être plantée sur votre site afin d’obtenir une indication automatique des besoins en eau","Seleccione el cultivo que desee plantar para el cálculo automático de necesidades de agua","حدد المحاصيل المخصصة للزراعة في موقعك ، للإشارة التلقائية لمتطلبات المياه"]
[null,null,"2 CROP WATER REQUIREMENT","2 CROP WATER REQUIREMENT","2 BESOINS EN EAU DES CULTURES","2 NECESIDADES DE AGUA DE LOS CULTIVOS","2 الاحتياجات المائية للمحاصيل"]
[null,null,"Farm code/name:","Farm code/name:","Code/Nom de l’exploitation:","Código/nombre de la granja:","رمز / اسم المزرعة:"]
[null,null,"Conversion factor to 1 ha:","Conversion factor to 1 ha:","Facteur de conversion pour 1 ha :","Factor de conversión a 1 ha:","عامل التحويل إلى 1 هكتار:"]
[null,null,"Area measurement unit: ","Area measurement unit: ","Unité de mesure de surface :","Unidad de medida del área: ","وحدة قياس المساحة:"]
[null,null,"ha","ha","ha","ha","هكتار"]
[null,null,"acre","acre","acre","acre","أكر"]
[null,null,"Sq. km","Sq. km","km carré","km cuad.","كيلومتر مربع"]
[null,null,"Sq. m","Sq. m","m carré","m cuad.","متر مربع"]
[null,null,"Sq. yard","Sq. yard","verge carrée","yarda cuad.","ياردة مربعة"]
[null,null,"Sq. ft","Sq. ft","pied carré","pie cuad.","قدم مربع"]
[null,null,"First year: Irrigation water need [m³/day]","First year: Irrigation water need [m³/day]","Première année : Besoin en eau d'irrigation [m³/jour]","Primer año: necesidad de agua de riego [m³/día]","السنة الأولى: الإحتياجات المائية للري [م3 / اليوم]"]
[null,null,"Second year: Irrigation water need [m³/day]","Second year: Irrigation water need [m³/day]","Deuxième année : Besoin en eau d'irrigation [m³/jour]","Segundo año: necesidad de agua de riego [m³/día]","السنة الثانية: الإحتياجات المائية للري [م3 / اليوم]"]
[null,null,"°C","°C","°C","°C","درجة مئوية"]
[null,null,"mm/month","mm/month","mm/mois","mm/mes","مم / الشهر"]
[null,null,"m³/day","m³/day","m³/jour","m³/día","م³ / اليوم"]
[null,null,"Above average temperature","Above average temperature","Température au dessus de la moyenne","Temperatura por encima del promedio","درجة الحرارة فوق المتوسط"]
[null,null,"Above average rainfall","Above average rainfall","Pluviométrie supérieure à la moyenne","Lluvia por encima del promedio","تساقط الأمطار فوق المتوسط "]
[null,null,"Total farm area:","Total farm area:","Superficie totale de la ferme:","Área total de la finca:","المساحة الكلية للمزرعة:"]
[null,null,"Crop to be irrigated ","Crop to be irrigated ","Culture à irriguer","Cultivo a regar","المحاصيل المراد ريها"]
[null,null,"Area","Area","Superficie","Área","المساحة"]
[null,null,"Season","Season","Saison","Temporada","موسم الري"]
[null,null,"Planting Date","Planting Date","Date de plantation","Fecha de siembra","تاريخ الزراعة"]
[null,null,{"$f":"HLOOKUP($C$6,$D$6:$I$603,ROW()-ROW($B$5),FALSE)","v":"Irrigation method"},"Irrigation method","Méthode d'irrigation","Método de riego","طريقة الري"]
[null,null,"Irrigation Efficiency","Irrigation Efficiency","Efficacité de l'irrigation","Eficiencia de riego","كفاءة الري"]
[null,null,"Cropping density","Cropping density","Densité de culture","Densidad de cultivo","كثافة المحاصيل"]
[null,null,"Season 1","Season 1","Saison 1","Temporada 1","موسم الري 1"]
[null,null,"Season 2","Season 2","Saison 2","Temporada 2","موسم الري 2"]
[null,null,"Surface: Graded furrow","Surface: Graded furrow","Surface: Irrigation à la raie (inclinée)","Superficie: Riego por surcos (inclinado)","الري السطحي: الري على الخطوط"]
[null,null,"Surface: with tailwater reuse","Surface: with tailwater reuse","Surface: avec réutilisation des eaux en aval","Superficie: con reutilización de agua de drenaje","الري السطحي: مع اعادة استخدام مياه الصرف الزراعي"]
[null,null,"Surface: Graded border/basins","Surface: Graded border/basins","Surface: Bassins/planches (inclinées)","Superficie: Riego por fajas/tablares (inclinado)","الري السطحي: الري بالاحواض و الري الشريطي"]
[null,null,"Sprinkler: Periodic move","Sprinkler: Periodic move","Aspersion: Déplacement périodique","Aspersión: Desplazamiento periódico","الري بالرش: النقالي"]
[null,null,"Sprinkler: Side roll","Sprinkler: Side roll","Aspersion: Rouleau latéral","Aspersión: Side Roll","الري بالرش: المتدحرج"]
[null,null,"Sprinkler: Moving big gun","Sprinkler: Moving big gun","Aspersion: Canon déplaçable","Aspersión: Cañón movible","الري بالرش: الري المدفعي"]
[null,null,"Center pivot: Impact heads with end gun","Center pivot: Impact heads with end gun","Pivot central: Asperseurs à batteur avec canon d'extrémité","Pivote central: Aspersores de impacto con cañón final","الري المحوري: رشاش ارتدادي مع رشاش مدفعي على الطرف"]
[null,null,"Center pivot: Spray heads without end gun","Center pivot: Spray heads without end gun","Pivot central: Arroseur sans canon d'extrémité","Pivote central: Rociador sin cañón final","الري المحوري: رشاش بدون رشاش مدفعي على الطرف"]
[null,null,"Center pivot: LEPA without end gun","Center pivot: LEPA without end gun","Pivot central : Système LEPA sans canon d'extrémité","Pivote central: LEPA sin cañón final","الري المحوري: تدفق المياه منخفضة الطاقة (LEPA) بدون رشاش مدفعي على الطرف"]
[null,null,"Lateral move: Spray heads with hose feed","Lateral move: Spray heads with hose feed","Mouvement latéral: Arroseur avec alimentation par tuyau","Movimiento lateral: Rociador con alimentación por manguera","الري الجانبي: بخاخ - مغدى من خرطوم"]
[null,null,"Lateral move: Spray heads with canal feed","Lateral move: Spray heads with canal feed","Mouvement latéral: Arroseur avec alimentation par canal","Movimiento lateral: Rociador con alimentación del canal","الري الجانبي: بخاخ - مغدى من قناة"]
[null,null,"Microirrigation: Drip irrigation","Microirrigation: Drip irrigation","Microirrigation: Goutte à goutte","microirrigación: Goteo","الري الدقيق: الري بالتنقيط السطحي"]
[null,null,"Microirrigation: Subsurface drip","Microirrigation: Subsurface drip","Microirrigation: Goutte à goutte enterrée","microirrigación: Sub-Irrigación","الري الدقيق: الري بالتنقيط تحت السطحي"]
[null,null,"Microirrigation: Microspray","Microirrigation: Microspray","Microirrigation: Micro-asperseur","microirrigación: Micro-aspersión","الري الدقيق: رشاشات متناهية الصغر"]
[null,null,"Garden hose","Garden hose","Tuyau d'arrosage","Manguera de riego","الري بالخرطوم"]
[null,null,"Normal spacing","Normal spacing","Espacement normal","Espaciado normal","تباعد طبيعي"]
[null,null,"Double spacing","Double spacing","Espacement double","Espaciado doble","تباعد مزدوج"]
[null,null,"Triple spacing","Triple spacing","Espacement triple","Espaciado Triple","تباعد ثلاثي"]
[null,null,"Maximum daily irrigation water need - year 1:","Maximum daily irrigation water need - year 1:","Besoin quotidien maximal en eau d'irrigation - année 1 :","Cantidad diaria máxima de agua necesaria para riego - año 1:","الحد الأقصى لمتطلبات مياه الري اليومية - السنة الأولى:"]
[null,null,"Maximum daily irrigation water need - year 2:","Maximum daily irrigation water need - year 2:","Besoin quotidien maximal en eau d'irrigation - année 2 :","Cantidad diaria máxima de agua necesaria para riego - año 2:","الحد الأقصى لمتطلبات مياه الري اليومية - السنة الثانية:"]
[null,null,"m³ in the month of ","m³ in the month of ","m³ au mois de","m³ en el mes de","م3 في شهر"]
[null,null,"in","in","au","en","في"]
[null,null,"Pump utilization rate:","Pump utilization rate:","Taux d'utilisation de la pompe :","Tasa utilización de la bomba:","معدل استخدام المضخة:"]
[null,null,"Yearly water need in m³ - year 1:","Yearly water need in m³ - year 1:","Besoin en eau annuel en m³ - année 1 :","Necesidad anual de agua en m³ - año 1:","الاحتياجات المائية السنوية بـ م3 - السنة الأولى:"]
[null,null,"Yearly water need in m³ - year 2:","Yearly water need in m³ - year 2:","Besoin en eau annuel en m³ - année 2 :","Necesidad anual de agua en m³ - año 2:","الاحتياجات المائية السنوية بـ م3 - السنة الثانية:"]
[null,null,"Crop Water Requirement - CWR - and Rainfall over 2 years","Crop Water Requirement - CWR - and Rainfall over 2 years","Besoins en eau des cultures - BEC - et la pluviométrie sur 2 ans ","Necesidades de Agua de los Cultivos - NAC - y lluvia durante 2 años","الاحتياجات المائية للمحاصيل - إ.م.م - والأمطار لمدة 2 سنة"]
[null,null,"Effective rainfall [mm/month]","Effective rainfall [mm/month]","Pluie efficace [mm/mois]","Lluvia efectiva [mm/mes]","الأمطار الفعلية [ملم / شهر]"]
[null,null,"CWR -","CWR -","BEC -","NAC -","إ.م.م -"]
[null,null,"[mm/month]","[mm/month]","[mm/mois]","[mm/mes]","[ملم / شهر]"]
[null,null,"Total irrigation water need [m3/day]","Total irrigation water need [m3/day]","Besoin total en eau d'irrigation [m3/jour]","Necesidad total de agua de riego [m3/día]","إجمالي احتياجات مياه الري [م3 / يوم]"]
[null,null,"Effective Rainfall & ETc [mm/month] ","Effective Rainfall & ETc [mm/month] ","Pluie efficace & ETc [mm/mois]","Lluvia efectiva & ETc [mm/mes]","الأمطار الفعلية و الاحتياجات المائية للمحاصيل [ملم / شهر]"]
[]
[null,{"$f":"$C$11","v":"3 Livestock Water Requirement"},"SAFEGUARD WATER – Water Requirement Tool","SAFEGUARD WATER – Water Requirement Tool","PROTÉGER L’EAU – Outil d'évaluation des besoins en eau","SALVAGUARDA EL AGUA – Herramienta de cálculo de las necesidades de agua","حماية المياه: أداة احتياجات المياه  "]
[null,null,"Enter the number of livestock head per month at your location, for automatic indication of water requirements.","Enter the number of livestock head per month at your location, for automatic indication of water requirements.","Saisissez le nombre d’animaux d’élevage par mois sur votre site pour obtenir une indication automatique des besoins en eau.","Introduzca el número de cabezas de ganado por mes para el cálculo automático de las necesidades de agua","أدخل عدد رؤوس الماشية المتوفرة شهريًا في موقعك ، للإشارة التلقائية لمتطلبات المياه."]
[null,null,"3 LIVESTOCK WATER REQUIREMENT","3 LIVESTOCK WATER REQUIREMENT","3 BESOINS EN EAU DES ANIMAUX D’ÉLEVAGE","3 NECESIDADES DE AGUA DEL GANADO","3 متطلبات المياه للماشية"]
[null,null,"Farm code/name:","Farm code/name:","Code/Nom de l’exploitation:","Código/nombre de la granja:","رمز / اسم المزرعة:"]
[null,null,"Total water need per day [l/day]","Total water need per day [l/day]","Besoin total en eau par jour [l/jour]","Necesidad agua total por día [l/día]","إجمالي الاحتياج اليومي من المياه [لتر / يوم]"]
[null,null,"Total water need per day [m³/day]","Total water need per day [m³/day]","Besoin total en eau par jour [m³/jour]","Necesidad agua total por día [m³/día]","إجمالي الاحتياج اليومي من المياه [م3 / يوم]"]
[null,null,"Livestock type:","Livestock type:","Type de bétail:","Tipo de ganado:","نوع الماشية:"]
[null,null,"Enter new livestock data here:","Enter new livestock data here:","Saisissez les données sur les nouveaux animaux d’élevage ici :","Introducir nuevos datos de ganado aquí:","أدخل بيانات عن الثروة الحيوانية الجديدة هنا:"]
[null,null,"Long term average demand (L/day)","Long term average demand (L/day)","Demande moyenne à long terme (L/jour)","Demanda promedio a largo plazo (l/día)","متوسط ​​الطلب طويل الأجل (لتر / يوم)"]
[null,null,"Maximum summer demand (L/day)","Maximum summer demand (L/day)","Demande estivale maximale (L/jour)","Demanda estival máxima (l/día)","أقصى طلب في الصيف (لتر / يوم)"]
[null,null,"Alpaca (lactating)","Alpaca (lactating)","Alpaga (en lactation)","Alpacas (lactantes)","الألبكة (مرضع)"]
[null,null,"Alpaca (dry, adult)","Alpaca (dry, adult)","Alpaga (tarie, adulte)","Alpacas (no lactantes, adultos)","الألبكة (غير مرضع ، بالغ)"]
[null,null,"Alpaca (<12 months)","Alpaca (<12 months)","Alpaga (<12 mois)","Alpacas (<12 meses)","الألبكة (أقل من 12 شهرًا)"]
[null,null,"Camel (average size)","Camel (average size)","Chameau (taille moyenne)","Camello (tamaño medio)","الجمل (متوسط الحجم)"]
[null,null,"Cattle (lactating)","Cattle (lactating)","Bovin (en lactation)","Bovinos (lactantes)","الابقار (مرضع)"]
[null,null,"Cattle (adult, dry)","Cattle (adult, dry)","Bovin (adulte, tari)","Bovino (adultos, no lactantes)","الابقار (غير مرضع ، بالغ)"]
[null,null,"Cattle (weaner)","Cattle (weaner)","Bovin (sevré)","Bovinos (destetados)","الابقار (مفطوم)"]
[null,null,"Chicken (1-4 weeks)","Chicken (1-4 weeks)","Poulet (1-4 semaines)","Pollo (1-4 semanas)","دجاج (1-4 أسابيع)"]
[null,null,"Chicken (5-8 weeks)","Chicken (5-8 weeks)","Poulet (5-8 semaines)","Pollo (5-8 semanas)","دجاج (5-8 أسابيع)"]
[null,null,"Goats (lactating)","Goats (lactating)","Caprin (en lactation)","Cabras (lactantes)","الماعز (مرضع)"]
[null,null,"Goats (adult, dry)","Goats (adult, dry)","Caprin (adultes, tari)","Cabras (adultas, no lactantes)","الماعز (بالغ ، غير مرضع)"]
[null,null,"Goats (weaner)","Goats (weaner)","Caprin (sevré)","Cabras (destetadas)","الماعز (مفطوم)"]
[null,null,"Horses (lactating)","Horses (lactating)","Équin (en lactation)","Caballos (lactantes)","الخيول (مرضع)"]
[null,null,"Horses (adult, dry)","Horses (adult, dry)","Équin (adulte, tari)","Caballos (adultos, no lactantes)","الخيول (غير مرضع ، بالغ)"]
[null,null,"Horses (<12 months)","Horses (<12 months)","Équin (<12 mois)","Caballos (<12 meses)","الخيول (أقل من 12 شهرًا)"]
[null,null,"Pig (lactating)","Pig (lactating)","Porc (en lactation)","Cerdos (lactantes)","خنزير (مرضع)"]
[null,null,"Pig (adult, dry)","Pig (adult, dry)","Porc (adulte, tari)","Cerdos (adultos, no lactantes)","خنزير (غير مرضع ، بالغ)"]
[null,null,{"$f":"HLOOKUP($C$6,$D$6:$I$603,ROW()-ROW($B$5),FALSE)","v":"Pig (Weaner)"},"Pig (Weaner)","Porc (Sevré)","Cerdos (destetados)","خنزير (مفطوم)"]
[null,null,"Sheep (lactating)","Sheep (lactating)","Ovin (en lactation)","Ovejas (lactantes)","الأغنام (مرضع)"]
[null,null,"Sheep (adult, dry)","Sheep (adult, dry)","Ovin (adulte, tari)","Ovejas (adultos, no lactantes)","الأغنام (غير مرضع ، بالغ)"]
[null,null,"Sheep (weaners)","Sheep (weaners)","Ovin (sevré)","Ovejas (destetadas)","الأغنام (مفطوم)"]
[null,null,"Other","Other","Autre","Otro","آخر"]
[null,null,"Other","Other","Autre","Otro","آخر"]
[null,null,"l / day","l / day","l / jour","l / día","لتر/ اليوم"]
[null,null,"Livestock Water Requirement and Temperature over 2 years","Livestock Water Requirement and Temperature over 2 years","Besoins en eau des des animaux d'élevage et la température sur 2 ans ","Necesidades de agua del ganado durante 2 años","متطلبات المياه للماشية ودرجة الحرارة على مدى سنتين"]
[null,null,"Mean daily temperature [°C]","Mean daily temperature [°C]","Température journalière moyenne [°C]","Temperatura media diaria [°C] ","متوسط ​​درجة الحرارة اليومية [درجة مئوية]"]
[null,null,"Livestock Water Need [m³/day]","Livestock Water Need [m³/day]","Besoin en eau des animaux d’élevage [m³/jour]","Necesidad de agua para el ganado [m³/día]","متطلبات المياه للماشية [متر مكعب / اليوم]"]
[null,null,"Maximum daily water need:","Maximum daily water need:","Besoin quotidien maximal en eau:","Necesidad máxima de agua diaria:","الحد الأقصى من متطلبات المياه اليومية:"]
[null,null,"m³ in the month of ","m³ in the month of ","m³ au mois de","m³ en el mes de","م3 في شهر"]
[null,null,"Pump utilization rate:","Pump utilization rate:","Taux d'utilisation de la pompe :","Tasa utilización de la bomba:","معدل استخدام المضخة:"]
[null,null,"Yearly water need in m³:","Yearly water need in m³:","Besoin en eau annuel en m³:","Necesidad anual de agua en m³:","متطلبات المياه السنوية بـ م3:"]
[]
[null,{"$f":"$C$12","v":"4 Summary"},"SAFEGUARD WATER – Water Requirement Tool","SAFEGUARD WATER – Water Requirement Tool","PROTÉGER L’EAU – Outil d'évaluation des besoins en eau","SALVAGUARDA EL AGUA – Herramienta de cálculo de las necesidades de agua","حماية المياه: أداة احتياجات المياه  "]
[null,null,"Summary Sheet of Crop Water Requirements and Livestock Water Requirements","Summary Sheet of Crop Water Requirements and Livestock Water Requirements","Bilan des besoins en eau des cultures et des besoins en eau des animaux d’élevage","Hoja resumen de las necesidades de agua de los cultivos y el ganado","ملخص عن الاحتياجات المائية للمحاصيل ومتطلبات المياه للماشية"]
[null,null,"4 Summary for Total Annual Water Requirements","4 Summary for Total Annual Water Requirements","4 Bilan des besoins en eau total par année","4 Resumen de las necesidades anuales de agua en total","4 ملخص لإجمالي الاحتياجات المائية السنوية"]
[null,null,"Farm code/name:","Farm code/name:","Code/Nom de l’exploitation:","Código/nombre de la granja:","رمز / اسم المزرعة:"]
[null,null,"Crop Water Requirements","Crop Water Requirements","Besoins en eau des cultures","Necesidades de agua de los cultivos","الاحتياجات المائية للمحاصيل"]
[null,null,"Crop Water need [m³/day]","Crop Water need [m³/day]","Besoins en eau des cultures [m³/jour]","Necesidad agua cultivos [m³/día]","الاحتياجات المائية للمحاصيل [متر مكعب / اليوم]"]
[null,null,"Crops","Crops","Cultures","Cultivos","المحاصيل"]
[null,null,"Season 1","Season 1","Saison 1","Temporada 1","الموسم 1"]
[null,null,"Season 2","Season 2","Saison 2","Temporada 2","الموسم 2"]
[null,null,"Total","Total","Total","Total","المجموع"]
[null,null,"Livestock Water Requirements","Livestock Water Requirements","Besoins en eau des animaux d'élevage","Necesidades de agua del ganado","متطلبات المياه للماشية"]
[null,null,"Livestock Water need [m³/day]","Livestock Water need [m³/day]","Besoins en eau des animaux d'élevage [m³/jour]","Necesidad agua ganado [m³/día]","متطلبات المياه للماشية  [متر مكعب / اليوم]"]
[null,null,"Livestock","Livestock","Animaux d’élevage","Ganado","الماشية"]
[null,null,"Heads","Heads","Nombre","Cabezas","العدد"]
[null,null,"Total Water Requirements","Total Water Requirements","Total des besoins en eau","Necesidades de agua en total","إجمالي الاحتياجات المائية"]
[null,null,"Total Water need [m³/day]","Total Water need [m³/day]","Total des besoins en eau [m³/jour]","Necesidades de agua total [m³/día]","إجمالي الاحتياجات المائية [متر مكعب / اليوم]"]
[null,null,"Total Water Requirements over 2 years","Total Water Requirements over 2 years","Total des besoins en eau sur 2 ans","Necesidades de agua en total durante 2 años","إجمالي الاحتياجات المائية على مدى سنتين"]
[null,null,"Maximum daily water need:","Maximum daily water need:","Besoin quotidien maximal en eau:","Necesidad máxima de agua diaria:","الحد الأقصى من متطلبات المياه اليومية:"]
[null,null,"m³ in the month of ","m³ in the month of ","m³ au mois de","m³ en el mes de","م3 في شهر"]
[null,null,"Pump utilization rate:","Pump utilization rate:","Taux d'utilisation de la pompe:","Tasa utilización de la bomba:","معدل استخدام المضخة:"]
[null,null,"Yearly water need in m³:","Yearly water need in m³:","Besoin en eau annuel en m³:","Necesidad anual de agua en m³:","متطلبات المياه السنوية بـ م3:"]
[]
[null,{"$f":"$C$13","v":"5 How this tool works"},"This tool is based on the FAO Irrigation and Drainage Paper No. 56: Crop Evapotranspiration (guidelines for computing crop water requirements), available at:","This tool is based on the FAO Irrigation and Drainage Paper No. 56: Crop Evapotranspiration (guidelines for computing crop water requirements), available at:","Cet outil est basé sur le document n° 56 de la FAO sur l'irrigation et le drainage: Evapotranspiration des cultures (directives pour le calcul des besoins en eau des cultures), disponible sur: ","Esta herramienta se basa en el documento de riego y drenaje de la FAO n° 56: Evapotranspiración de cultivos (directrices para calcular los necesidades de agua de los cultivos), disponible en:","تعتمد هذه الأداة على ورقة الري والصرف رقم 56 الصادرة عن منظمة الأغذية والزراعة: البخر- نتح المحاصيل (مبادئ توجيهية لحساب الإحتياجات المائية للمحاصيل) ، وهي متاحة على الموقع:"]
[null,null,"Overview","Overview","Aperçu","Sinopsis","نظرة عامة"]
[null,null,"The major climatic factors","The major climatic factors","Les principaux facteurs climatiques","Los principales factores climáticos","العوامل المناخية الرئيسية"]
[null,null,"Reference Evapotranspiration","Reference Evapotranspiration","Référence Evapotranspiration","Evapotranspiración de referencia","البخر- نتح المرجعي"]
[null,null,"Crop Factor Kc","Crop Factor Kc","Coefficient de culture Kc","Coeficiente del cultivo Kc","معامل المحصول Kc"]
[null,null,"Growing Period","Growing Period","Saison de croissance","Período de crecimiento","فترة النمو"]
[null,null,"Crop Evapotranspiration","Crop Evapotranspiration","Évapotranspiration des cultures","Evapotranspiración del cultivo","البخر- نتح المحصول"]
[null,null,"Effective Rainfall","Effective Rainfall","Pluie efficace","Lluvia efectiva","الأمطار الفعلية"]
[null,null,"Irrigation Water Need","Irrigation Water Need","Besoin en eau d'irrigation","Necesidad de agua de riego","الاحتياجات المائية للري"]
[null,null,"Unit conversion","Unit conversion","Conversion d'unité","Conversión de unidades","تحويل الوحدة"]
[null,null,"The major climatic factors which influence the crop water needs are:","The major climatic factors which influence the crop water needs are:","Les principaux facteurs climatiques qui influencent les besoins en eau des cultures sont :","Los principales factores climáticos que influyen en las necesidades de agua de los cultivos son:","العوامل المناخية الرئيسية التي تؤثر على الاحتياجات  المائية للمحاصيل هي:"]
[null,null,"Sunshine","Sunshine","Ensoleillement","Brillo Solar","سطوع الشمس"]
[null,null,"Temperature","Temperature","Température","Temperatura","درجة الحرارة"]
[null,null,"Humidity","Humidity","Humidité","Humedad","الرطوبة"]
[null,null,"Windspeed","Windspeed","Vitesse du vent","Velocidad del viento","سرعة الرياح"]
[null,null,"Climatic Factor","Climatic Factor","Facteur climatique","Factor climático","عامل المناخ"]
[null,null,"Crop Water need","Crop Water need","Besoins en eau des cultures","Necesidad de agua de cultivo","الاحتياجات  المائية للمحاصيل"]
[null,null,"High","High","Élevés","Elevado","مرتفعة"]
[null,null,"hot","hot","chaud","caliente","حار"]
[null,null,"low (dry)","low (dry)","faible (sec)","bajo (seco)","منخفضة (جاف)"]
[null,null,"windy","windy","venteux","ventoso","عاصفة"]
[null,null,"sunny","sunny","ensoleillé","soleado","مشمس"]
[null,null,"Low","Low","Faibles","Bajo","قليلة"]
[null,null,"cool","cool","frais","frio","بارد"]
[null,null,"high (humid)","high (humid)","élevé (humide)","alto (húmedo)","مرتفعة (رطب)"]
[null,null,"little wind","little wind","peu de vent","poco viento","خفيفة "]
[null,null,"cloudy","cloudy","nuageux","nublado","غائم"]
[null,null,{"$f":"HLOOKUP($C$6,$D$6:$I$603,ROW()-ROW($B$5),FALSE)","v":"Reference evapotranspiration (ETo)"},"Reference evapotranspiration (ETo)","Évapotranspiration de référence (ETo)","Evapotranspiración de referencia (ETo)","البخر- نتح المرجعي (ETo)"]
[null,null,"ETo is the rate of evapotranspiration from a large area, covered by green grass, 8 to 15 cm tall, which grows actively, completely shades the ground and which is not short of water.","ETo is the rate of evapotranspiration from a large area, covered by green grass, 8 to 15 cm tall, which grows actively, completely shades the ground and which is not short of water.","ETo est le taux d'évapotranspiration d'une grande surface, couverte d'herbe verte, de 8 à 15 cm de haut, en croissance active, ombrageant complètement le sol et ne manquant pas d'eau.","ETo es la tasa de evapotranspiración de un área grande, cubierta por pasto verde, de 8 a 15 cm de altura, que crece activamente, sombrea completamente el suelo y no le falta agua.","ETo هو معدل البخر- نتح من منطقة كبيرة مغطاة بالعشب الأخضر ، يبلغ ارتفاعه من 8 إلى 15 سم ، و ينمو بنشاط ، ويغطي الأرض تمامًا ولا ينقصه الماء."]
[null,null,"FAO Penman-Monteith method is recommended by FAO as the sole standard method for the computation of ETo. It is a method with the strong likelihood of correctly predicting ETo in a wide range of locations and climates and has provision for application in data-short situations","FAO Penman-Monteith method is recommended by FAO as the sole standard method for the computation of ETo. It is a method with the strong likelihood of correctly predicting ETo in a wide range of locations and climates and has provision for application in data-short situations","La méthode FAO Penman-Monteith est recommandée par la FAO comme seule méthode standard pour le calcul de l'ETo. C'est une méthode avec une forte probabilité de prédire correctement ETo dans un large éventail de lieux et de climats et a des dispositions pour l'application dans des situations de données limitées","La FAO recomienda el método Penman-Monteith como el único método estándar para el cálculo de ETo. Es un método con una gran probabilidad de predecir correctamente la ETo en una amplia gama de ubicaciones y climas y tiene capacidad para su aplicación en situaciones de escasez de datos.","توصي منظمة الأغذية والزراعة باستخدام طريقة FAO Penman-Monteith باعتبارها الطريقة المعيارية الوحيدة لحساب ETo. إنها طريقة ذات احتمالية قوية للتنبؤ بشكل صحيح بـ ETo في مجموعة واسعة من المواقع والمناخات ولديها أحكام للتطبيق في حالات نقص البيانات"]
[null,null,"Depending on the available data, this tool provides three methods for the calculate ETo:","Depending on the available data, this tool provides three methods for the calculate ETo:","En fonction des données disponibles, cet outil propose trois méthodes pour le calcul de l'ETo :","Dependiendo de los datos disponibles, esta herramienta proporciona tres métodos para el cálculo de ETo:","اعتمادًا على البيانات المتاحة ، توفر هذه الأداة ثلاث طرق لحساب ETo:"]
[null,null,"FAO Penman-Monteith method: requires maximum and minimum temperatures, humidity, wind speed and sun hours data","FAO Penman-Monteith method: requires maximum and minimum temperatures, humidity, wind speed and sun hours data","Méthode FAO Penman-Monteith : nécessite des données sur les températures maximales et minimales, l'humidité, la vitesse du vent et les heures d'ensoleillement","Método FAO Penman-Monteith: requiere datos de temperaturas máximas y mínimas, humedad, velocidad del viento y horas de sol","طريقة FAO Penman-Monteith: تتطلب بيانات الحد الأقصى والأدنى لدرجات الحرارة ، الرطوبة ، سرعة الرياح وساعات الشمس"]
[null,null,"Hargreaves method: requires maximum and minimum temperatures ","Hargreaves method: requires maximum and minimum temperatures ","Méthode Hargreaves : nécessite des températures maximales et minimales","Método de Hargreaves: requiere temperaturas máximas y mínimas","طريقة Hargreaves: تتطلب بيانات الحد الأقصى والأدنى لدرجات الحرارة"]
[null,null,"Blaney-Criddle method: requires only average temperatures","Blaney-Criddle method: requires only average temperatures","Méthode Blaney-Criddle : ne nécessite que des températures moyennes","Método Blaney-Criddle: requiere solo temperaturas promedio","طريقة Blaney-Criddle: تتطلب فقط متوسط ​​درجات الحرارة"]
[null,null,"Crop factor Kc","Crop factor Kc","Coefficient de culture Kc","Coeficiente de cultivo Kc","معامل المحاصيل Kc"]
[null,null,"The crop factor mainly depends on:","The crop factor mainly depends on:","Le coefficient de culture dépend principalement de :","El coeficiente de cultivo depende principalmente de:","يعتمد معامل المحصول بشكل أساسي على:"]
[null,null,"type of crop","type of crop","type de culture","tipo de cultivo","نوع المحصول"]
[null,null,"growth stage of the crop","growth stage of the crop","stade de croissance de la culture","etapa de crecimiento del cultivo","مرحلة نمو المحصول"]
[null,null,"climate","climate","climat","clima","المناخ"]
[null,null,"Plant-specific Crop coefficients for the different growth stages can be obtained from Table 1. ","Plant-specific Crop coefficients for the different growth stages can be obtained from Table 1. ","Les coefficients de culture spécifiques aux plantes pour les différents stades de croissance peuvent être obtenus à partir du Tableau 1.","Los coeficientes de cultivo específicos de la planta para las diferentes etapas de crecimiento se pueden obtener de la Tabla 1.","يمكن الحصول على معاملات المحاصيل الخاصة بالنبات لمراحل النمو المختلفة من الجدول 1."]
[null,null,"New crops and adjustment to the crop coefficient (Kc) and growing period for crops can be done in the sheet \"Crop Information\"","New crops and adjustment to the crop coefficient (Kc) and growing period for crops can be done in the sheet \"Crop Information\"","Les nouvelles cultures et l'ajustement du coefficient de culture (Kc) et de la période de croissance des cultures peuvent être effectués dans la feuille \"Informations sur les cultures\"","Los nuevos cultivos y el ajuste del coeficiente de cultivo (Kc) y el período de crecimiento de los cultivos se pueden realizar en la hoja \"Información sobre cultivos\"","يمكن إدخال محاصيل جديدة و تغيير معامل المحصول (Kc) وفترة النمو للمحاصيل في ورقة \"معلومات المحاصيل\""]
[null,null,"Table 1 - Crop factors of different crops and growing stages","Table 1 - Crop factors of different crops and growing stages","Tableau 1 - Coefficients de culture pour différentes cultures et stades de croissance","Tabla 1 - Coeficientes de cultivo para diferentes cultivos y etapas de crecimiento","الجدول 1 - معاملات المحاصيل لمختلف المحاصيل ومراحل النمو"]
[null,null,"more information is available at:","more information is available at:","plus d'informations sont disponibles sur :","más información está disponible en:","مزيد من المعلومات متوفرة على:"]
[null,null,"Growing Period","Growing Period","Période de croissance","Período de crecimiento","فترة النمو"]
[null,null,"The plant's growth is divided into different growing stages, in which the plant's environmental conditions change:","The plant's growth is divided into different growing stages, in which the plant's environmental conditions change:","La croissance de la plante est divisée en différentes étapes de croissance, au cours desquelles les conditions environnementales de la plante changent :","El crecimiento de la planta se divide en diferentes etapas de crecimiento, en las que cambian las condiciones ambientales de la planta:","ينقسم نمو النبات إلى مراحل نمو مختلفة ، تتغير فيها الظروف البيئية للنبات:"]
[null,null,"Initial stage","Initial stage","Stade initial","Etapa inicial","المرحلة االبتدائية"]
[null,null,"Crop development stage","Crop development stage","Stade de développement des cultures","Etapa de desarrollo del cultivo","مرحلة التطور او نمو المحصول"]
[null,null,"Mid-season stage","Mid-season stage","Stade de mi-saison","Etapa de mediados de temporada","المرحلة الوسطى"]
[null,null,"late season stage","late season stage","Stade de fin de saison","Etapa de final de temporada","المرحلة المتأخرة"]
[null,null,"The duration of each growing stage for different crops can be obtained from Table 2.","The duration of each growing stage for different crops can be obtained from Table 2.","La durée de chaque stade de croissance pour différentes cultures peut être obtenue à partir du Tableau 2.","La duración de cada etapa de crecimiento para diferentes cultivos se puede obtener de la Tabla 2.","يمكن الحصول على مدة كل مرحلة نمو للمحاصيل المختلفة من الجدول 2."]
[null,null,"Table 2 - Days of the different growing stages.","Table 2 - Days of the different growing stages.","Tableau 2 - Jours des différents stades de croissance.","Tabla 2 - Días de las diferentes etapas de crecimiento.","الجدول 2 - أيام مراحل النمو المختلفة."]
[null,null,"The values in Table 2 are useful as a general guide and for comparison purposes. The listed lengths of growth stages are average lengths for the regions and periods specified and are intended to serve only as examples. Local observations of the specific crop growth stage should be used, wherever possible.","The values in Table 2 are useful as a general guide and for comparison purposes. The listed lengths of growth stages are average lengths for the regions and periods specified and are intended to serve only as examples. Local observations of the specific crop growth stage should be used, wherever possible.","Les valeurs du tableau 2 sont utiles comme guide général et à des fins de comparaison. Les longueurs énumérées des stades de croissance sont des longueurs moyennes pour les régions et les périodes spécifiées et ne sont destinées qu'à titre d'exemple. Des observations locales du stade de croissance spécifique de la culture doivent être utilisées, dans la mesure du possible.","Los valores de la Tabla 2 son útiles como guía general y con fines comparativos. Las longitudes enumeradas de las etapas de crecimiento son longitudes promedio para las regiones y períodos especificados y están destinadas a servir solo como ejemplos. Siempre que sea posible, deben utilizarse observaciones locales de la etapa de crecimiento del cultivo específico.","القيم الواردة في الجدول 2 مفيدة كدليل عام ولأغراض المقارنة. الأطوال المدرجة لمراحل النمو هي متوسط الأطوال للمناطق والفترات المحددة ويقصد بها أن تكون بمثابة أمثلة فقط. يجب استخدام الملاحظات المحلية لمراحل نمو المحاصيل المحددة ، حيثما أمكن ذلك."]
[null,null,"Crop Evapotranspiration ETc","Crop Evapotranspiration ETc","Évapotranspiration des cultures ETc","Evapotranspiración de cultivos ETc","البخر- نتح للمحاصيل ETc"]
[null,null,"Multiplying the reference evapotranspiration ETo with the crop factor Kc gives the crop evapotranspiration ETc","Multiplying the reference evapotranspiration ETo with the crop factor Kc gives the crop evapotranspiration ETc","En multipliant l'évapotranspiration de référence ETo par le coefficient de culture Kc, on obtient l'évapotranspiration de la culture ETc","Al multiplicar la evapotranspiración de referencia ETo por el coeficiente del cultivo Kc se obtiene la evapotranspiración del cultivo ETc.","ضرب البخر- نتح المرجعي ETo مع معامل المحصول Kc يعطي البخر- نتح للمحصول ETc"]
[null,null,"Both ETc and ETo are expressed in the same unit: usually in mm/day (as an average for a period of one month) or in mm/month.","Both ETc and ETo are expressed in the same unit: usually in mm/day (as an average for a period of one month) or in mm/month.","ETc et ETo sont exprimés dans la même unité : généralement en mm/jour (en moyenne sur une période d'un mois) ou en mm/mois.","Tanto ETc como ETo se expresan en la misma unidad: generalmente en mm/día (como promedio durante un período de un mes) o en mm/mes.","يتم التعبير عن كل من ETc و ETo باستخدام نفس الوحدة: عادةً بالمليمتر / اليوم (كمتوسط لمدة شهر واحد) أو بالملليمتر / الشهر."]
[null,null,"The crop water need ETc can be supplied in various ways:","The crop water need ETc can be supplied in various ways:","Le besoin en eau des cultures ETc peut être fourni de différentes manières :","Necesidad de agua de cultivo ETc se puede suministrar de varias formas:","يمكن توفير الاحتياجات المائية للمحاصيل بطرق مختلفة:"]
[null,null,"rainfall","rainfall","pluie","lluvia","الأمطار"]
[null,null,"irrigation","irrigation","irrigation","irrigación","الري"]
[null,null,"combination of irrigation and rainfall","combination of irrigation and rainfall","combinaison d'irrigation et de pluie","combinación de riego y lluvia","مزيج من الري والأمطار"]
[null,null,"Effective rainfall","Effective rainfall","Pluie efficace","Lluvia efictiva","الأمطار الفعلية"]
[null,null,"Effective rainfall is the total rainfall minus runoff, minus evaporation and minus deep percolation.","Effective rainfall is the total rainfall minus runoff, minus evaporation and minus deep percolation.","La pluie efficace est la pluie totale moins le ruissellement, moins l'évaporation et moins la percolation profonde.","La lluvia efectiva es la lluvia total menos la escorrentía, menos evaporación y menos percolación profunda.","الأمطار الفعلية هي إجمالي كمية الأمطار مطروحًا منه الجريان السطحي ، مطروحًا منه التبخر، ومطروحًا منه التسرب العميق."]
[null,null,"Only the water retained in the root zone can be used by the plants and represents what is called the effective part of the rainwater. ","Only the water retained in the root zone can be used by the plants and represents what is called the effective part of the rainwater. ","Seule l'eau retenue dans la zone racinaire peut être utilisée par les plantes et représente ce qu'on appelle la partie efficace de l'eau de pluie.","Solo el agua retenida en la zona de las raíces puede ser utilizada por las plantas y representa lo que se llama la parte efectiva del agua de lluvia.","يمكن للنباتات استخدام فقط المياه المحتجزة في منطقة الجذور وتمثل ما يسمى بالجزء الفعال من مياه الأمطار."]
[null,null,"The term effective rainfall is used to define this fraction of the total amount of rainwater useful for meeting the water need of the crops.","The term effective rainfall is used to define this fraction of the total amount of rainwater useful for meeting the water need of the crops.","Le terme pluie efficace est utilisé pour définir cette fraction de la quantité totale d'eau de pluie utile pour répondre aux besoins en eau des cultures.","El término lluvia efectiva se utiliza para definir la fracción de la cantidad total de agua de lluvia útil para satisfacer las necesidades de agua de los cultivos.","يستخدم مصطلح الأمطار الفعلية لتحديد هذا الجزء من إجمالي كمية مياه الأمطار المفيدة لتلبية الاحتياجات المائية للمحاصيل."]
[null,null,"with :","with :","avec :","con :","مع :"]
[null,null,"rainfall or precipitation (mm/month)","rainfall or precipitation (mm/month)","pluie ou précipitations (mm/mois)","lluvia o precipitación (mm/mes)","كمية الأمطار (مم / شهر)"]
[null,null,"effective rainfall or effective precipitation (mm/month)","effective rainfall or effective precipitation (mm/month)","pluie efficace ou précipitation efficace (mm/mois)","lluvia efectiva o precipitación efectiva (mm/mes)","كمية الأمطار الفعلية (مم / شهر)"]
[null,null,"Irrigation water need","Irrigation water need","Besoin en eau d'irrigation","Necesidad de agua de riego","الاحتياجات مياه الري"]
[null,null,"The crop evapotranspiration ETc minus the effective rainfall equals the amount of irrigation water needed","The crop evapotranspiration ETc minus the effective rainfall equals the amount of irrigation water needed","L'évapotranspiration des cultures ETc moins les pluies efficaces est égale à la quantité d'eau d'irrigation nécessaire","La evapotranspiración del cultivo ETc menos la lluvia efectiva es igual a la cantidad de agua de riego necesaria","إن البخر - نتح للمحصول مطروحًا منه كمية الأمطار الفعلية يساوي كمية مياه الري اللازمة"]
[null,null,"Unit conversion","Unit conversion","Conversion d'unité","Conversión de unidades","تحويل الوحدة"]
[null,null,"Calculating the irrigation water need as described above leads to the unit mm/month. Multiplying this number by the factor 10 and dividing through the days of the month transforms this unit to m³/ha/day","Calculating the irrigation water need as described above leads to the unit mm/month. Multiplying this number by the factor 10 and dividing through the days of the month transforms this unit to m³/ha/day","Le calcul du besoin en eau d'irrigation comme décrit ci-dessus conduit à l'unité mm/mois. Multiplier ce nombre par le facteur 10 et diviser par les jours du mois transforme cette unité en m³/ha/jour","El cálculo de la necesidad de agua de riego como se describe arriba conduce a la unidad mm/mes. Al multiplicar este número por el factor 10 y dividir los días del mes, esta unidad se convierte en m³/ha/día","حساب احتياجات مياه الري كما هو موضح أعلاه يؤدي إلى وحدة ملم / شهر. بضرب هذا الرقم في المعامل 10 والقسمة على أيام الشهر يحول هذه الوحدة إلى متر مكعب / هكتار/ اليوم."]
[null,null,"1 mm = 1 l/m² = 10 m³/ha","1 mm = 1 l/m² = 10 m³/ha","1 mm = 1 l/m² = 10 m³/ha","1 mm = 1 l/m² = 10 m³/ha","1 مم = 1 لتر / متر مربع = 10 متر مكعب / هكتار"]
[null,null,"1 mm = 0,001 m³/m² = 10 m³/ha","1 mm = 0,001 m³/m² = 10 m³/ha","1 mm = 0,001 m³/m² = 10 m³/ha","1 mm = 0,001 m³/m² = 10 m³/ha","1 مم = 0.001 متر مكعب / متر مربع = 10 متر مكعب / هكتار"]
[]
[null,{"$f":"$C$14","v":"Crop Information"},"This data is based on the FAO Irrigation and Drainage Paper No. 56: Crop Evapotranspiration (guidelines for computing crop water requirements), available at:","This data is based on the FAO Irrigation and Drainage Paper No. 56: Crop Evapotranspiration (guidelines for computing crop water requirements), available at:","Ces données sont basées  sur le document n° 56 de la FAO sur l'irrigation et le drainage: Evapotranspiration des cultures (directives pour le calcul des besoins en eau des cultures), disponible sur: ","Estos datos se basan en el documento de riego y drenaje de la FAO n° 56: Evapotranspiración de cultivos (directrices para calcular los necesidades de agua de los cultivos), disponible en:","تستند هذه البيانات على ورقة الري والصرف رقم 56 الصادرة عن منظمة الأغذية والزراعة: البخر- نتح المحاصيل (مبادئ توجيهية لحساب الإحتياجات المائية للمحاصيل) ، وهي متاحة على الموقع:"]
[null,null,"Information on row and plant spacing, planting depth and date of seeds can be found at: ","Information on row and plant spacing, planting depth and date of seeds can be found at: ","Des informations sur l'espacement des rangs et des plants, la profondeur et la date de plantation des graines peuvent être trouvées sur :","Se puede encontrar información sobre el espaciamiento entre hileras y plántulas, la profundidad de la semilla y la fecha de siembra en:","يمكن العثور على معلومات عن تباعد الصفوف والنباتات ، وعمق وتاريخ زراعة البذور في:"]
[null,null,"Crop","Crop","Culture","Cultivo","المحصول"]
[null,null,"none","none","aucune","ninguna","لا شيء"]
[null,null,"Crop Growing Period","Crop Growing Period","Période de croissance des cultures","Período de crecimiento del cultivo","فترة زراعة المحاصيل"]
[null,null,"Crop factor of the development stages","Crop factor of the development stages","Coefficient de culture des stades de développement","Coeficiente de cultivo de las etapas de desarrollo","معامل المحصول لمراحل التطور"]
[null,null,"Initial stage","Initial stage","Stade initial","Etapa inicial","المرحلة االبتدائية"]
[null,null,"Crop development stage","Crop development stage","Stade de développement des cultures","Etapa de desarrollo del cultivo","مرحلة التطور او نمو المحصول"]
[null,null,"Mid-season stage","Mid-season stage","Stade de mi-saison","Etapa de mediados de temporada","المرحلة الوسطى"]
[null,null,"late season stage","late season stage","Stade de fin de saison","Etapa de final de temporada","المرحلة المتأخرة"]
[null,null,"Total","Total","Total","Total","المجموع"]
[null,null,"Alfalfa (1st cutting cycle - Jan/Apr - USA)","Alfalfa (1st cutting cycle - Jan/Apr - USA)","Luzerne (1er cycle de coupe - Jan/Avr - USA)","Alfalfa (1er ciclo de corte - Ene / Abr - EE. UU.)","البرسيم (دورة القطع الأولى - يناير / أبريل - الولايات المتحدة الأمريكية)"]
[null,null,"Alfalfa (other cutting cycle - Mar/Jun - USA)","Alfalfa (other cutting cycle - Mar/Jun - USA)","Luzerne (autre cycle de coupe - mars/juin - USA)","Alfalfa (otro ciclo de corte - Mar / Jun - EE. UU.)","البرسيم (دورة قطع أخرى - مارس / يونيو - الولايات المتحدة الأمريكية)"]
[null,null,"Alfalfa (seeds - Mar/Jun - USA)","Alfalfa (seeds - Mar/Jun - USA)","Luzerne (graines - mars/juin - USA)","Alfalfa (semillas - Mar / Jun - USA)","البرسيم (بذور - مارس / يونيو - الولايات المتحدة الأمريكية)"]
[null,null,"Almond (no ground cover - Apr - USA)","Almond (no ground cover - Apr - USA)","Amande (pas de couvre-sol - Avr - USA)","Almendra (sin cobertura del suelo - abril - EE. UU.)","اللوز (بدون غطاء أرضي - أبريل - الولايات المتحدة الأمريكية)"]
[null,null,"Artichoke (1st year - Apr - California) ","Artichoke (1st year - Apr - California) ","Artichaut (1ère année - Avr - Californie)","Alcachofa (1er año - abril - California)","الخرشوف (السنة الأولى - أبريل - كاليفورنيا)"]
[null,null,"Artichoke (2nd year - May - cut in May) ","Artichoke (2nd year - May - cut in May) ","Artichaut (2ème année - mai - coupé en mai)","Alcachofa (2do año - mayo - cortado en mayo)","الخرشوف (السنة الثانية - مايو - قطع مايو)"]
[null,null,"Asparagus (Feb - warm winter)","Asparagus (Feb - warm winter)","Asperges (février - hiver chaud)","Espárragos (febrero - invierno cálido)","الهليون (فبراير - شتاء دافئ)"]
[null,null,{"$f":"HLOOKUP($C$6,$D$6:$I$603,ROW()-ROW($B$5),FALSE)","v":"Asparagus (Feb - Mediterranean)"},"Asparagus (Feb - Mediterranean)","Asperges (Fév - Méditerranée)","Espárragos (febrero - Mediterráneo)","الهليون (فبراير - البحر الأبيض المتوسط)"]
[null,null,"Avocado (Jan - Florida, USA)","Avocado (Jan - Florida, USA)","Avocat (janvier - Floride, USA)","Aguacate (enero - Florida, EE. UU.)","الأفوكادو (يناير - فلوريدا ، الولايات المتحدة الأمريكية)"]
[null,null,"Banana (1st year - Mar - Mediterranean)","Banana (1st year - Mar - Mediterranean)","Banane (1ère année - Mars - Méditerranée)","Plátano (1er año - Mar - Mediterráneo)","الموز (السنة الأولى - مارس - البحر الأبيض المتوسط)"]
[null,null,"Banana (1st year - Mar - subtropical/humid/light to moderate wind)","Banana (1st year - Mar - subtropical/humid/light to moderate wind)","Banane (1ère année - mars - subtropical/humide/vent léger à modéré)","Plátano (1er año - Mar - subtropical / húmedo / viento ligero a moderado)","الموز (السنة الأولى - مارس - شبه استوائي / رطب /رياح خفيفة إلى معتدلة)"]
[null,null,"Banana (1st year - Mar - subtropical/tropical)","Banana (1st year - Mar - subtropical/tropical)","Banane (1ère année - mars - subtropical/tropical)","Plátano (1er año - Mar - subtropical / tropical)","الموز (السنة الأولى - مارس - شبه استوائي / استوائي)"]
[null,null,"Banana (2nd year - Mar - Mediterranean)","Banana (2nd year - Mar - Mediterranean)","Banane (2ème année - Mars - Méditerranée)","Plátano (2o año - Mar - Mediterráneo)","الموز (السنة الثانية - مارس - البحر الأبيض المتوسط)"]
[null,null,"Banana (2nd year - Feb - subtropical/tropical)","Banana (2nd year - Feb - subtropical/tropical)","Banane (2e année - février - subtropical/tropical)","Plátano (2do año - febrero - subtropical / tropical)","الموز (السنة الثانية - فبراير - شبه استوائي / استوائي)"]
[null,null,"Barley/Oats/Wheat (Nov - central India)","Barley/Oats/Wheat (Nov - central India)","Orge/Avoine/Blé (novembre - Inde centrale)","Cebada / avena / trigo (noviembre - centro de la India)","الشعير / الشوفان / القمح (نوفمبر - وسط الهند)"]
[null,null,"Barley/Oats/Wheat (Mar/Apr - 35/45 °L))","Barley/Oats/Wheat (Mar/Apr - 35/45 °L))","Orge/Avoine/Blé (Mar/Avr - 35/45 °L))","Cebada / Avena / Trigo (Mar / Abr - 35/45 ° L))","الشعير / الشوفان / القمح (مارس / أبريل - 35/45 درجة مئوية))"]
[null,null,"Barley/Oats/Wheat (Jul - East Africa)","Barley/Oats/Wheat (Jul - East Africa)","Orge/Avoine/Blé (Juil - Afrique de l'Est)","Cebada / Avena / Trigo (julio - África Oriental)","الشعير / الشوفان / القمح (يوليو - شرق إفريقيا)"]
[null,null,"Barley/Oats/Wheat (Nov)","Barley/Oats/Wheat (Nov)","Orge/Avoine/Blé (novembre)","Cebada / Avena / Trigo (noviembre)","الشعير / الشوفان / القمح (نوفمبر)"]
[null,null,"Barley/Oats/Wheat (Dec - California desert)","Barley/Oats/Wheat (Dec - California desert)","Orge/Avoine/Blé (Déc - Désert californien)","Cebada / avena / trigo (diciembre - desierto de California)","الشعير / الشوفان / القمح (ديسمبر - صحراء كاليفورنيا)"]
[null,null,"Beans (dry - May/Jun - central climates)","Beans (dry - May/Jun - central climates)","Haricots (secs - mai/juin - climats centraux)","Frijoles (secos - mayo / junio - climas centrales)","الفاصولياء (جاف - مايو / يونيو - المناخات المركزية)"]
[null,null,"Beans (dry - Jun - Pakistan/California)","Beans (dry - Jun - Pakistan/California)","Haricots (secs - juin - Pakistan/Californie)","Frijoles (secos - junio - Pakistán / California)","الفاصولياء (جاف - يونيو - باكستان / كاليفورنيا)"]
[null,null,"Beans (dry - Jun - Idaho)","Beans (dry - Jun - Idaho)","Haricots (secs - juin - Idaho)","Frijoles (secos - Jun - Idaho)","الفاصولياء (جاف - يونيو - ايداهو)"]
[null,null,"Beans (green - Feb/Mar - California/Mediterranean)","Beans (green - Feb/Mar - California/Mediterranean)","Haricots (verts - février/mars - Californie/méditerranée)","Frijoles (verdes - Feb / Mar - California / Mediterráneo)","الفاصولياء (أخضر - فبراير / مارس - كاليفورنيا / البحر الأبيض المتوسط)"]
[null,null,"Beans (green - Aug/Sep - California/Egypt/Lebanon)","Beans (green - Aug/Sep - California/Egypt/Lebanon)","Haricots (verts - août/septembre - Californie/Egypte/Liban)","Frijoles (verde - agosto / septiembre - California / Egipto / Líbano)","الفاصولياء (أخضر - أغسطس / سبتمبر - كاليفورنيا / مصر / لبنان)"]
[null,null,"Beets (table - Apr/May - Mediterranean)","Beets (table - Apr/May - Mediterranean)","Betteraves (table - Avr/Mai - Méditerranée)","Remolacha (mesa - Abr / Mayo - Mediterráneo)","الشمندر (مائدة - أبريل / مايو - البحر الأبيض المتوسط)"]
[null,null,"Beets (table - Feb/Mar - Mediterranean/Arid)","Beets (table - Feb/Mar - Mediterranean/Arid)","Betteraves (table - Fév/Mar - Méditerranée/Aride)","Remolacha (mesa - Feb / Mar - Mediterráneo / Áridos)","الشمندر (مائدة - فبراير / مارس - البحر الأبيض المتوسط / المناطق القاحلة)"]
[null,null,"Broccoli  (Sept - California desert)","Broccoli  (Sept - California desert)","Brocoli (septembre - désert californien)","Brócoli (septiembre - desierto de California)","البروكلي (سبتمبر - صحراء كاليفورنيا)"]
[null,null,"Cabbage (Sept - California desert)","Cabbage (Sept - California desert)","Chou (septembre - désert californien)","Repollo (septiembre - desierto de California)","الملفوف (سبتمبر - صحراء كاليفورنيا)"]
[null,null,"Cantaloupe (Jan - California )","Cantaloupe (Jan - California )","Cantaloup (Jan - Californie )","Melón (enero - California)","الشمام (يناير - كاليفورنيا)"]
[null,null,"Cantaloupe (Aug - California )","Cantaloupe (Aug - California )","Cantaloup (août - Californie)","Melón (agosto - California)","الشمام (أغسطس - كاليفورنيا)"]
[null,null,"Carrots (Oct/Jan - Arid climate )","Carrots (Oct/Jan - Arid climate )","Carottes (Oct/Jan - Climat aride )","Zanahorias (octubre / enero - clima árido)","الجزر (أكتوبر / يناير - مناخ جاف)"]
[null,null,"Carrots (Feb/Mar - Mediterranean )","Carrots (Feb/Mar - Mediterranean )","Carottes (Fév/Mar - Méditerranée )","Zanahorias (febrero / marzo - Mediterráneo)","الجزر (فبراير / مارس - البحر الأبيض المتوسط)"]
[null,null,"Carrots (Oct -  California desert)","Carrots (Oct -  California desert)","Carottes (Oct - Désert californien)","Zanahorias (octubre - desierto de California)","الجزر (أكتوبر - صحراء كاليفورنيا)"]
[null,null,"Cassava ( 1st year - rainy season - Tropical regions)","Cassava ( 1st year - rainy season - Tropical regions)","Manioc (1ère année - saison des pluies - régions tropicales)","Yuca (1er año - temporada de lluvias - regiones tropicales)","الكسافا (السنة الأولى - موسم الأمطار - المناطق الاستوائية)"]
[null,null,"Cassava ( 2nd year - season - Tropical regions)","Cassava ( 2nd year - season - Tropical regions)","Manioc (2ème année - saison - Régions tropicales)","Yuca (2do año - temporada - Regiones tropicales)","الكسافا (السنة الثانية - الموسم - المناطق الاستوائية)"]
[null,null,"Castor beans (Mar - semiarid climates )","Castor beans (Mar - semiarid climates )","Ricin (mars - climats semi-arides)","Habas de ricino (Mar - climas semiáridos)","حبوب الخروع (مارس - المناخات شبه الجافة)"]
[null,null,"Castor beans (Nov - Indonesia )","Castor beans (Nov - Indonesia )","Ricin (Nov - Indonésie )","Habas de ricino (noviembre - Indonesia)","حبوب الخروع (نوفمبر - إندونيسيا)"]
[null,null,"Cauliflower (Sept - California desert)","Cauliflower (Sept - California desert)","Chou-fleur (septembre - désert californien)","Coliflor (septiembre - desierto de California)","القرنبيط (سبتمبر - صحراء كاليفورنيا)"]
[null,null,"Celery (Oct- semiarid)","Celery (Oct- semiarid)","Céleri (oct-semi-aride)","Apio (Oct- semiárido)","الكرفس (أكتوبر- شبه جاف)"]
[null,null,"Celery (Apr - Mediterranean)","Celery (Apr - Mediterranean)","Céleri (Avr - Méditerranée)","Apio (abril - Mediterráneo)","الكرفس (أبريل - البحر الأبيض المتوسط)"]
[null,null,"Celery (Jan - semiarid)","Celery (Jan - semiarid)","Céleri (janvier - semi-aride)","Apio (enero - semiárido)","الكرفس (يناير - شبه جاف)"]
[null,null,"Chilli pepper (Brazil/Tropical)","Chilli pepper (Brazil/Tropical)","Piment (Brésil/Tropical)","Ají (Brasil / Tropical)","فلفل حار (برازيلي / استوائي)"]
[null,null,"Citrus (no ground cover/70% canopy - Jan - Mediterranean)","Citrus (no ground cover/70% canopy - Jan - Mediterranean)","Agrumes (pas de couverture végétale/70% de canopée - Jan - Méditerranée)","Cítricos (sin cobertura del suelo / 70% de dosel - Ene - Mediterráneo)","الحمضيات (بدون غطاء أرضي / 70٪ ظلة - يناير - البحر الأبيض المتوسط)"]
[null,null,"Citrus (no ground cover/50% canopy - Jan - Mediterranean)","Citrus (no ground cover/50% canopy - Jan - Mediterranean)","Agrumes (pas de couverture végétale/50% canopée - Jan - Méditerranée)","Cítricos (sin cobertura del suelo / 50% de dosel - Ene - Mediterráneo)","الحمضيات (بدون غطاء أرضي / 50٪ ظلة - يناير - البحر الأبيض المتوسط)"]
[null,null,"Citrus (no ground cover/20% canopy - Jan - Mediterranean)","Citrus (no ground cover/20% canopy - Jan - Mediterranean)","Agrumes (pas de couverture végétale/20% de canopée - Jan - Méditerranée)","Cítricos (sin cobertura del suelo / 20% de dosel - enero - Mediterráneo)","الحمضيات (بدون غطاء أرضي / 20٪ ظلة - يناير - البحر الأبيض المتوسط)"]
[null,null,"Citrus (with active ground cover or weeds/70% canopy - Jan - Mediterranean)","Citrus (with active ground cover or weeds/70% canopy - Jan - Mediterranean)","Agrumes (avec couverture végétale active ou adventices/70% canopée - Jan - Méditerranée)","Cítricos (con cobertura vegetal activa o malezas / 70% de dosel - Ene - Mediterráneo)","الحمضيات (مع غطاء أرضي نشط أو حشائش / 70٪ ظلة - يناير - البحر الأبيض المتوسط)"]
[null,null,"Citrus (with active ground cover or weeds/50% canopy - Jan - Mediterranean)","Citrus (with active ground cover or weeds/50% canopy - Jan - Mediterranean)","Agrumes (avec couverture végétale active ou adventices/50% canopée - Jan - Méditerranée)","Cítricos (con cobertura vegetal activa o malezas / 50% de dosel - Ene - Mediterráneo)","الحمضيات (مع غطاء أرضي نشط أو حشائش / 50٪ ظلة - يناير - البحر الأبيض المتوسط)"]
[null,null,"Citrus (with active ground cover or weeds/20% canopy - Jan - Mediterranean)","Citrus (with active ground cover or weeds/20% canopy - Jan - Mediterranean)","Agrumes (avec couverture végétale active ou adventices/20% canopée - Jan - Méditerranée)","Cítricos (con cobertura vegetal activa o malezas / 20% de dosel - Ene - Mediterráneo)","الحمضيات (مع غطاء أرضي نشط أو حشائش / 20٪ ظلة - يناير - البحر الأبيض المتوسط)"]
[null,null,"Cotton (Mar/May - Egypt/Pakistan/California)","Cotton (Mar/May - Egypt/Pakistan/California)","Coton (Mar/Mai - Egypte/Pakistan/Californie)","Algodón (marzo / mayo - Egipto / Pakistán / California)","القطن (مارس / مايو - مصر / باكستان / كاليفورنيا)"]
[null,null,"Cotton (Mar - California desert)","Cotton (Mar - California desert)","Coton (Mar - Désert californien)","Algodón (Mar - Desierto de California)","القطن (مارس - صحراء كاليفورنيا)"]
[null,null,"Cotton (Sept - Yemen )","Cotton (Sept - Yemen )","Coton (Sept - Yémen )","Algodón (septiembre - Yemen)","القطن (سبتمبر - اليمن)"]
[null,null,"Cotton (Apr - Texas )","Cotton (Apr - Texas )","Coton (Avr - Texas )","Algodón (abril - Texas)","قطن (أبريل - تكساس)"]
[null,null,"Cucumber (Jun/Aug - arid region )","Cucumber (Jun/Aug - arid region )","Concombre (juin/août - région aride)","Pepino (junio / agosto - región árida)","الخيار (يونيو / أغسطس - المنطقة القاحلة)"]
[null,null,"Cucumber (Nov/Feb - arid region )","Cucumber (Nov/Feb - arid region )","Concombre (Nov/Fév - région aride)","Pepino (noviembre / febrero - región árida)","الخيار (نوفمبر / فبراير - المنطقة الجافة)"]
[null,null,"Deciduous Orchard (no ground cover/killing frost - Mar - high latitudes)","Deciduous Orchard (no ground cover/killing frost - Mar - high latitudes)","Verger à feuilles caduques (pas de couverture végétale/gel meurtrier - mars - hautes latitudes)","Huerto de hojas caducas (sin cobertura de suelo / heladas letales - marzo - latitudes altas)","بستان الفاكهة المتساقطة الاوراق (لا غطاء أرضي / صقيع قاتل - مارس - خطوط العرض العليا)"]
[null,null,"Deciduous Orchard (no ground cover/no frosts - Mar - high latitudes)","Deciduous Orchard (no ground cover/no frosts - Mar - high latitudes)","Verger à feuilles caduques (pas de couverture végétale/pas de gelées - mars - hautes latitudes)","Huerto de hojas caducas (sin cobertura del suelo / sin heladas - Mar - latitudes altas)","بستان الفاكهة المتساقطة الاوراق (بدون غطاء أرضي / لا صقيع - مارس - خطوط العرض العليا)"]
[null,null,"Deciduous Orchard (active ground cover/killing frost - Mar - high latitudes)","Deciduous Orchard (active ground cover/killing frost - Mar - high latitudes)","Verger à feuilles caduques (couvre-sol actif/gel meurtrier - mars - hautes latitudes)","Huerto de hojas caducas (cobertura de suelo activa / matando heladas - marzo - latitudes altas)","بستان الفاكهة المتساقطة الاوراق (غطاء أرضي نشط /  صقيع  قاتل - مارس - خطوط العرض العليا)"]
[null,null,"Deciduous Orchard (active ground cover/no frosts - Mar - high latitudes)","Deciduous Orchard (active ground cover/no frosts - Mar - high latitudes)","Verger à feuilles caduques (couvre-sol actif/pas de gelées - mars - hautes latitudes)","Huerto de hojas caducas (cobertura del suelo activa / sin heladas - marzo - latitudes altas)","بستان الفاكهة المتساقطة الاوراق (غطاء أرضي نشط / لا صقيع - مارس - خطوط العرض العليا)"]
[null,null,"Deciduous Orchard (no ground cover/killing frost - Mar - low latitudes)","Deciduous Orchard (no ground cover/killing frost - Mar - low latitudes)","Verger à feuilles caduques (pas de couverture végétale/gel meurtrier - mars - basses latitudes)","Huerto de hojas caducas (sin cobertura del suelo / matando heladas - marzo - latitudes bajas)","بستان الفاكهة المتساقطة الاوراق (بدون غطاء أرضي / صقيع  قاتل - مارس - خطوط العرض المنخفضة)"]
[null,null,"Deciduous Orchard (no ground cover/no frosts - Mar - low latitudes)","Deciduous Orchard (no ground cover/no frosts - Mar - low latitudes)","Verger à feuilles caduques (pas de couverture végétale/pas de gelées - mars - basses latitudes)","Huerto de hojas caducas (sin cobertura del suelo / sin heladas - Mar - latitudes bajas)","بستان الفاكهة المتساقطة الاوراق (بدون غطاء أرضي / لا صقيع - مارس - خطوط العرض المنخفضة)"]
[null,null,"Deciduous Orchard (active ground cover/killing frost - Mar - low latitudes)","Deciduous Orchard (active ground cover/killing frost - Mar - low latitudes)","Verger à feuilles caduques (couvre-sol actif/gel meurtrier - mars - basses latitudes)","Huerto de hojas caducas (cobertura de suelo activa / matando heladas - marzo - latitudes bajas)","بستان نفضي (غطاء أرضي نشط / صقيع قاتل - مارس - خطوط العرض المنخفضة)"]
[null,null,"Deciduous Orchard (active ground cover/no frosts - Mar - low latitudes)","Deciduous Orchard (active ground cover/no frosts - Mar - low latitudes)","Verger à feuilles caduques (couvre-sol actif/pas de gelées - mars - basses latitudes)","Huerto de hojas caducas (cobertura del suelo activa / sin heladas - marzo - latitudes bajas)","بستان الفاكهة المتساقطة الاوراق (غطاء أرضي نشط / لا صقيع - مارس - خطوط عرض منخفضة)"]
[null,null,"Deciduous Orchard (no ground cover/killing frost - Mar - California)","Deciduous Orchard (no ground cover/killing frost - Mar - California)","Verger à feuilles caduques (pas de couverture végétale/gel meurtrier - mars - Californie)","Huerto de hojas caducas (sin cobertura del suelo / matando las heladas - Mar - California)","بستان الفاكهة المتساقطة الاوراق (لا غطاء أرضي / صقيع قاتل - مارس - كاليفورنيا)"]
[null,null,"Deciduous Orchard (no ground cover/no frosts - Mar - California)","Deciduous Orchard (no ground cover/no frosts - Mar - California)","Verger à feuilles caduques (pas de couverture végétale/pas de gelées - mars - Californie)","Huerto de hojas caducas (sin cobertura del suelo / sin heladas - Mar - California)","بستان الفاكهة المتساقطة الاوراق (بدون غطاء أرضي / لا صقيع - مارس - كاليفورنيا)"]
[null,null,"Deciduous Orchard (active ground cover/killing frost - California)","Deciduous Orchard (active ground cover/killing frost - California)","Verger à feuilles caduques (couvre-sol actif/gel meurtrier - Californie)","Huerto de hoja caduca (cobertura de suelo activa / matando heladas - California)","بستان الفاكهة المتساقطة الاوراق (غطاء أرضي نشط / صقيع قاتل - كاليفورنيا)"]
[null,null,"Deciduous Orchard (active ground cover/no frosts - Mar - California)","Deciduous Orchard (active ground cover/no frosts - Mar - California)","Verger à feuilles caduques (couvre-sol actif/pas de gelées - mars - Californie)","Huerto de hojas caducas (cobertura de suelo activa / sin heladas - Mar - California)","بستان الفاكهة المتساقطة الاوراق (غطاء أرضي نشط / لا صقيع - مارس - كاليفورنيا)"]
[null,null,"Eggplant (Oct - arid region)","Eggplant (Oct - arid region)","Aubergine (Oct - région aride)","Berenjena (octubre - región árida)","الباذنجان (أكتوبر - المنطقة القاحلة)"]
[null,null,"Eggplant (May/Jun - Mediterranean)","Eggplant (May/Jun - Mediterranean)","Aubergine (Mai/Juin - Méditerranée)","Berenjena (Mayo / Junio ​​- Mediterráneo)","الباذنجان (مايو / يونيو - البحر الأبيض المتوسط)"]
[null,null,"Faba bean, broad bean (May - Europe)","Faba bean, broad bean (May - Europe)","Fève (mai - Europe)","Haba (mayo - Europa)","الفول (مايو - أوروبا)"]
[null,null,"Faba bean, broad bean (Mar/Apr - Mediterranean)","Faba bean, broad bean (Mar/Apr - Mediterranean)","Fève (mars/avril - Méditerranée)","Haba (Mar / Abr - Mediterráneo)","الفول (مارس / أبريل - البحر الأبيض المتوسط)"]
[null,null,"Faba bean, broad bean (dry - Nov - Europe)","Faba bean, broad bean (dry - Nov - Europe)","Fève (sec - Nov - Europe)","Haba (seca - noviembre - Europa)","الفول (جاف - نوفمبر - أوروبا)"]
[null,null,{"$f":"HLOOKUP($C$6,$D$6:$I$603,ROW()-ROW($B$5),FALSE)","v":"Faba bean, broad bean (green - Nov - Europe)"},"Faba bean, broad bean (green - Nov - Europe)","Fève (verte - Nov - Europe)","Haba (verde - noviembre - Europa)","الفول (أخضر - نوفمبر - أوروبا)"]
[null,null,"Flax (Apr - Europe)","Flax (Apr - Europe)","Lin (Avr - Europe)","Lino (abril - Europa)","الكتان (أبريل - أوروبا)"]
[null,null,"Flax (Oct - Arizona)","Flax (Oct - Arizona)","Lin (Oct - Arizona)","Lino (octubre - Arizona)","الكتان (أكتوبر - أريزونا)"]
[null,null,"Grapes (Apr - low latitudes)","Grapes (Apr - low latitudes)","Raisins (avril - basses latitudes)","Uvas (abril - latitudes bajas)","العنب (أبريل - خطوط العرض المنخفضة)"]
[null,null,"Grapes (Mar - California)","Grapes (Mar - California)","Raisins (Mars - Californie)","Uvas (Mar - California)","العنب (مارس - كاليفورنيا)"]
[null,null,"Grapes (May - high latitudes )","Grapes (May - high latitudes )","Raisins (mai - hautes latitudes)","Uvas (mayo - latitudes altas)","العنب (مايو - خطوط العرض العليا)"]
[null,null,"Grapes (wine - Apr - mid latitudes)","Grapes (wine - Apr - mid latitudes)","Raisins (vin - avril - latitudes moyennes)","Uvas (vino - abril - latitudes medias)","العنب (النبيذ - أبريل - خطوط العرض الوسطى)"]
[null,null,"Green gram, cowpeas (harvest fresh - Mar -Mediterranean)","Green gram, cowpeas (harvest fresh - Mar -Mediterranean)","Ambérique verte, niébé (récolte fraîche - Mars -Méditerranée)","Frejolito chino, caupí (cosecha fresca - Mar-Mediterráneo)","بقلة الماش ، اللوبياء الظفرية (حصاد طازج - مارس - البحر الأبيض المتوسط)"]
[null,null,"Green gram, cowpeas (harvest dry - Mar -Mediterranean)","Green gram, cowpeas (harvest dry - Mar -Mediterranean)","Ambérique verte, niébé (récolte sèche - Mars -Méditerranée)","Frejolito chino, caupí (cosecha seca - Mar-Mediterráneo)","بقلة الماش ، اللوبياء الظفرية (الحصاد الجاف - مارس - البحر الأبيض المتوسط)"]
[null,null,"Groundnut (Dry - West Africa )","Groundnut (Dry - West Africa )","Arachide (Sec - Afrique de l'Ouest )","Cacahuete (seco - África occidental)","الفول السوداني (جاف - غرب إفريقيا)"]
[null,null,"Groundnut (season - high latitudes)","Groundnut (season - high latitudes)","Arachide (saison - hautes latitudes)","Cacahuete (temporada - latitudes altas)","الفول السوداني (الموسم - خطوط العرض العالية)"]
[null,null,"Groundnut (May/Jun - Mediterranean)","Groundnut (May/Jun - Mediterranean)","Arachide (Mai/Juin - Méditerranée)","Cacahuete (mayo / junio - Mediterráneo)","الفول السوداني (مايو / يونيو - البحر الأبيض المتوسط)"]
[null,null,"Hops (Apr - Idaho)","Hops (Apr - Idaho)","Houblon (avril - Idaho)","Lúpulo (abril - Idaho)","عشبة الدينار - هوب (أبريل - أيداهو)"]
[null,null,"Kale, Rape ","Kale, Rape ","Chou kale, Rapini","Col crespa, Grelo","الكرنب الأجعد ، الرابيني"]
[null,null,"Lentil (Apr - Europe)","Lentil (Apr - Europe)","Lentille (Avr - Europe)","Lenteja (abril - Europa)","العدس (أبريل - أوروبا)"]
[null,null,"Lentil (Oct/Nov -arid region)","Lentil (Oct/Nov -arid region)","Lentille (Oct/Nov -région aride)","Lenteja (Oct / Nov-región árida)","العدس (أكتوبر / تشرين الثاني - المنطقة الجافة)"]
[null,null,"Lettuce (Apr - Mediterranean)","Lettuce (Apr - Mediterranean)","Laitue (Avr - Méditerranée)","Lechuga (Abr - Mediterráneo)","الخس (أبريل - البحر الأبيض المتوسط)"]
[null,null,"Lettuce (Nov/Jan - Mediterranean)","Lettuce (Nov/Jan - Mediterranean)","Laitue (Nov/Jan - Méditerranée)","Lechuga (Nov / Ene - Mediterráneo)","الخس (نوفمبر / يناير - البحر الأبيض المتوسط)"]
[null,null,"Lettuce (Oct/Nov - arid region)","Lettuce (Oct/Nov - arid region)","Laitue (Oct/Nov - région aride)","Lechuga (octubre / noviembre - región árida)","الخس (أكتوبر / نوفمبر - المنطقة القاحلة)"]
[null,null,"Lettuce (Feb - Mediterranean)","Lettuce (Feb - Mediterranean)","Laitue (fév - Méditerranée)","Lechuga (Feb - Mediterráneo)","الخس (فبراير - البحر الأبيض المتوسط)"]
[null,null,"Maize (grain - Apr - East Africa (alt.))","Maize (grain - Apr - East Africa (alt.))","Maïs (grain - Avr - Afrique de l'Est (alt.))","Maíz (grano - abril - África oriental (alt.))","الذرة (حبة - أبريل - شرق إفريقيا (بديل))"]
[null,null,"Maize (grain - Dec/Jan - arid climate)","Maize (grain - Dec/Jan - arid climate)","Maïs (grain - déc./janv. - climat aride)","Maíz (grano - diciembre / enero - clima árido)","الذرة (حبوب - ديسمبر / يناير - المناخ الجاف)"]
[null,null,"Maize (grain - Jun - Nigeria (humid))","Maize (grain - Jun - Nigeria (humid))","Maïs (grain - juin - Nigeria (humide))","Maíz (grano - junio - Nigeria (húmedo))","الذرة (حبوب  - يونيو - نيجيريا (رطبة))"]
[null,null,"Maize (grain - Oct - India (dry, cool))","Maize (grain - Oct - India (dry, cool))","Maïs (grain - Oct - Inde (sec, frais))","Maíz (grano - octubre - India (seco, fresco))","الذرة (حبوب  - أكتوبر - الهند (جاف ، بارد))"]
[null,null,"Maize (grain - Apr - Spain (spring, summer)/California)","Maize (grain - Apr - Spain (spring, summer)/California)","Maïs (grain - Avr - Espagne (printemps, été)/Californie)","Maíz (grano - abril - España (primavera, verano) / California)","الذرة (حبوب - أبريل - أسبانيا (الربيع ، الصيف) / كاليفورنيا)"]
[null,null,"Maize (grain - Apr - Idaho)","Maize (grain - Apr - Idaho)","Maïs (grain - Avr - Idaho)","Maíz (grano - abril - Idaho)","الذرة (حبوب  - أبريل - أيداهو)"]
[null,null,"Maize (sweet - Mar - Philippines)","Maize (sweet - Mar - Philippines)","Maïs (doux - mars - Philippines)","Maíz (dulce - Mar - Filipinas)","الذرة (حلوة - مارس - الفلبين)"]
[null,null,"Maize (sweet - May/Jun - Mediterranean)","Maize (sweet - May/Jun - Mediterranean)","Maïs (doux - mai/juin - Méditerranéen)","Maíz (dulce - mayo / junio - mediterráneo)","الذرة (حلوة - مايو / يونيو - البحر الأبيض المتوسط)"]
[null,null,"Maize (sweet - Oct/Dec - arid climate)","Maize (sweet - Oct/Dec - arid climate)","Maïs (doux - oct/déc - climat aride)","Maíz (dulce - octubre / diciembre - clima árido)","الذرة (حلوة - أكتوبر / ديسمبر - مناخ جاف)"]
[null,null,"Maize (sweet - Apr - Idaho)","Maize (sweet - Apr - Idaho)","Maïs (sucré - Avr - Idaho)","Maíz (dulce - abril - Idaho)","ذرة (حلوة - أبريل - أيداهو)"]
[null,null,"Maize (sweet - Jan - California desert)","Maize (sweet - Jan - California desert)","Maïs (sucré - Jan - Désert Californien)","Maíz (dulce - enero - desierto de California)","الذرة (حلوة - يناير - صحراء كاليفورنيا)"]
[null,null,"Mango (Jun)","Mango (Jun)","Mangue (juin)","Mango (junio)","مانجو (يونيو)"]
[null,null,"Millet (Jun - Pakistan)","Millet (Jun - Pakistan)","Millet (Juin - Pakistan)","Mijo (junio - Pakistán)","الدخن (يونيو - باكستان)"]
[null,null,"Millet (Apr - Central USA)","Millet (Apr - Central USA)","Millet (avril - Centre des États-Unis)","Mijo (abril - Centro de EE. UU.)","الدخن (أبريل - وسط الولايات المتحدة الأمريكية)"]
[null,null,"Okra (sub humid)","Okra (sub humid)","Okra (sub humide)","Okra (subhúmedo)","بامية (شبه رطبة)"]
[null,null,"Olives (Mar - Mediterranean)","Olives (Mar - Mediterranean)","Olives (Mar - Méditerranée)","Aceitunas (Mar - Mediterráneo)","الزيتون (مارس - البحر الأبيض المتوسط)"]
[null,null,"Onion (dry - Apr - Mediterranean)","Onion (dry - Apr - Mediterranean)","Oignon (sec - Avr - Méditerranéen)","Cebolla (seca - Abril - Mediterráneo)","البصل (جاف - ابريل - متوسطي)"]
[null,null,"Onion (dry - Oct/Jan - arid region/California)","Onion (dry - Oct/Jan - arid region/California)","Oignon (sec - Oct/Jan - région aride/Californie)","Cebolla (seca - octubre / enero - región árida / California)","البصل (جاف - أكتوبر / يناير - المنطقة القاحلة / كاليفورنيا)"]
[null,null,"Onion (green - Apr/May - Mediterranean)","Onion (green - Apr/May - Mediterranean)","Oignon (vert - Avr/Mai - Méditerranéen)","Cebolla (verde - abril / mayo - mediterráneo)","البصل (أخضر - أبريل / مايو - البحر الأبيض المتوسط)"]
[null,null,"Onion (green - Oct - arid region)","Onion (green - Oct - arid region)","Oignon (vert - Oct - région aride)","Cebolla (verde - Oct - región árida)","البصل (أخضر - أكتوبر - منطقة قاحلة)"]
[null,null,"Onion (green - Mar - California)","Onion (green - Mar - California)","Oignon (vert - mars - Californie)","Cebolla (verde - Mar - California)","البصل (أخضر - مارس - كاليفورنيا)"]
[null,null,"Onion (seed - Sept - California desert)","Onion (seed - Sept - California desert)","Oignon (graine - Sept - Désert Californien)","Cebolla (semilla - septiembre - desierto de California)","البصل (بذور - سبتمبر - صحراء كاليفورنيا)"]
[null,null,"Peas (fresh - May - Europe)","Peas (fresh - May - Europe)","Pois (frais - Mai - Europe)","Guisantes (frescos - mayo - Europa)","البازلاء (طازجة - مايو - اوروبا)"]
[null,null,"Peas (fresh - Mar/Apr - Mediterranean)","Peas (fresh - Mar/Apr - Mediterranean)","Pois (frais - mars/avril - méditerranéen)","Guisantes (frescos - Mar / Abr - Mediterráneo)","البازلاء (طازجة - مارس / أبريل - البحر الأبيض المتوسط)"]
[null,null,"Peas (fresh - Apr - Idaho)","Peas (fresh - Apr - Idaho)","Pois (frais - Avr - Idaho)","Guisantes (frescos - abril - Idaho)","البازلاء (طازجة - أبريل - أيداهو)"]
[null,null,"Peas (dry - May - Europe)","Peas (dry - May - Europe)","Pois (sec - Mai - Europe)","Guisantes (secos - mayo - Europa)","البازيلاء (جافه - مايو - اوروبا)"]
[null,null,"Peas (dry - Mar/Apr - Mediterranean)","Peas (dry - Mar/Apr - Mediterranean)","Pois (sec - mars/avril - méditerranéen)","Guisantes (secos - Mar / Abr - Mediterráneo)","البازلاء (جافة - مارس / أبريل - البحر الأبيض المتوسط)"]
[null,null,"Peas (dry - Apr - Idaho)","Peas (dry - Apr - Idaho)","Pois (secs - Avr - Idaho)","Guisantes (secos - abril - Idaho)","البازلاء (جافة - أبريل - ايداهو)"]
[null,null,"Pigeon peas","Pigeon peas","Pois d'Angole","Guandú","البازلاء الهندية"]
[null,null,"Pineapple (bare soil - Hawaii)","Pineapple (bare soil - Hawaii)","Ananas (sol nu - Hawaï)","Piña (suelo desnudo - Hawaii)","الأناناس (تربة عارية - هاواي)"]
[null,null,"Pineapple (with grass cover - Hawaii)","Pineapple (with grass cover - Hawaii)","Ananas (avec couvert d'herbe - Hawaï)","Piña (con cubierta de hierba - Hawái)","الأناناس (غطاء عشبي - هاواي)"]
[null,null,"Pistachios (no ground cover - Feb - Mediterranean)","Pistachios (no ground cover - Feb - Mediterranean)","Pistaches (pas de couvre-sol - Février - Méditerranée)","Pistachos (sin cobertura del suelo - febrero - Mediterráneo)","الفستق (بدون غطاء أرضي - فبراير - متوسطي)"]
[null,null,"Potato (Jan/Nov - semiarid climate)","Potato (Jan/Nov - semiarid climate)","Pomme de terre (janv/nov - climat semi-aride)","Papa (Ene / Nov - clima semiárido)","البطاطس (يناير / نوفمبر - مناخ شبه جاف)"]
[null,null,"Potato (May - Continental Climate )","Potato (May - Continental Climate )","Pomme de terre (mai - climat continental)","Papa (mayo - clima continental)","البطاطس (مايو - المناخ القاري)"]
[null,null,"Potato (Apr - Europe)","Potato (Apr - Europe)","Pomme de terre (Avr - Europe)","Papa (abril - Europa)","البطاطس (أبريل - أوروبا)"]
[null,null,"Potato (Apr/May - Idaho, USA )","Potato (Apr/May - Idaho, USA )","Pomme de terre (Avr/Mai - Idaho, USA )","Papa (abril / mayo - Idaho, EE. UU.)","البطاطس (أبريل / مايو - أيداهو ، الولايات المتحدة الأمريكية)"]
[null,null,"Potato (Dec - California desert)","Potato (Dec - California desert)","Pomme de terre (Déc - Désert californien)","Papa (diciembre - desierto de California)","البطاطس (ديسمبر - صحراء كاليفورنيا)"]
[null,null,"Pumpkin, Winter squash (Mar/Aug - Mediterranean)","Pumpkin, Winter squash (Mar/Aug - Mediterranean)","Citrouille, Courge d'hiver (Mar/Août - Méditerranée)","Calabaza, Calabaza de invierno (Mar / Ago - Mediterráneo)","القرع والقرع الشتوي (مارس / أغسطس - البحر الأبيض المتوسط)"]
[null,null,"Pumpkin, Winter squash (Jun - Europe)","Pumpkin, Winter squash (Jun - Europe)","Citrouille, Courge d'hiver (Juin - Europe)","Calabaza, Calabaza de invierno (junio - Europa)","القرع والقرع الشتوي (يونيو - أوروبا)"]
[null,null,"Radish (Mar/Apr - Mediterranean/Europe)","Radish (Mar/Apr - Mediterranean/Europe)","Rábano (Mar/Avr - Méditerranée/Europe)","Rábano (Mar / Abr - Mediterráneo / Europa)","الفجل (مارس / أبريل - البحر الأبيض المتوسط / أوروبا)"]
[null,null,"Radish (Winter - arid region)","Radish (Winter - arid region)","Rábano (Hiver - région aride)","Rábano (invierno - región árida)","الفجل (الشتاء - المنطقة القاحلة)"]
[null,null,"Rice (Dec/May - Tropics/Mediterranean)","Rice (Dec/May - Tropics/Mediterranean)","Riz (Déc/Mai - Tropiques/Méditerranée)","Arroz (diciembre / mayo - Trópicos / Mediterráneo)","الأرز (ديسمبر / مايو - الاستوائية / البحر الأبيض المتوسط)"]
[null,null,"Safflower (Apr - California)","Safflower (Apr - California)","Carthame (Avr - Californie)","Cártamo (abril - California)","العُصْفُر (أبريل - كاليفورنيا)"]
[null,null,"Safflower (Mar - high latitudes)","Safflower (Mar - high latitudes)","Carthame (Mar - hautes latitudes)","Cártamo (marzo - latitudes altas)","العُصْفُر (مارس - خطوط العرض العليا)"]
[null,null,{"$f":"HLOOKUP($C$6,$D$6:$I$603,ROW()-ROW($B$5),FALSE)","v":"Safflower (Oct/Nov - arid region)"},"Safflower (Oct/Nov - arid region)","Carthame (oct/nov - région aride)","Cártamo (octubre / noviembre - región árida)","العُصْفُر (أكتوبر / نوفمبر - المنطقة القاحلة)"]
[null,null,"Sesame (Jun - China)","Sesame (Jun - China)","Sésame (Juin - Chine)","Sésamo (junio - China)","السمسم (يونيو - الصين)"]
[null,null,"Sorghum (grain - May/Jun - USA/Pakistan/Mediterranean)","Sorghum (grain - May/Jun - USA/Pakistan/Mediterranean)","Sorgho (céréale - Mai/Juin - USA/Pakistan/Méditerranée)","Sorgo (grano - mayo / junio - Estados Unidos / Pakistán / Mediterráneo)","السورغم (حبوب - مايو / يونيو - الولايات المتحدة الأمريكية / باكستان / البحر الأبيض المتوسط)"]
[null,null,"Sorghum (grain - Mar/Apr - arid region)","Sorghum (grain - Mar/Apr - arid region)","Sorgho (céréale - mars/avril - région aride)","Sorgo (grano - Mar / Abr - región árida)","السورغم (حبوب - مارس / أبريل - المنطقة القاحلة)"]
[null,null,"Sorghum (sweet - May/Jun - USA/Pakistan/Mediterranean)","Sorghum (sweet - May/Jun - USA/Pakistan/Mediterranean)","Sorgho (doux - mai/juin - USA/Pakistan/Méditerranée)","Sorgo (dulce - mayo / junio - Estados Unidos / Pakistán / Mediterráneo)","السورغم (حلو - مايو / يونيو - الولايات المتحدة الأمريكية / باكستان / البحر الأبيض المتوسط)"]
[null,null,"Sorghum (sweet - Mar/Apr - arid region)","Sorghum (sweet - Mar/Apr - arid region)","Sorgho (doux - mars/avril - région aride)","Sorgo (dulce - Mar / Abr - región árida)","السورغم (حلو - مارس / أبريل - المنطقة القاحلة)"]
[null,null,"Soybeans (Dec - Tropics)","Soybeans (Dec - Tropics)","Soja (Déc - Tropiques)","Soja (diciembre - trópicos)","فول الصويا (ديسمبر - المناطق المدارية)"]
[null,null,"Soybeans (May - Central USA)","Soybeans (May - Central USA)","Soja (Mai - Centre des États-Unis)","Soja (mayo - Centro de EE. UU.)","فول الصويا (مايو - وسط الولايات المتحدة الأمريكية)"]
[null,null,"Soybeans (Jun - Japan )","Soybeans (Jun - Japan )","Soja (Juin - Japon )","Soja (junio - Japón)","فول الصويا (يونيو - اليابان)"]
[null,null,"Spinach (Apr/Sep/Oct - Mediterranean)","Spinach (Apr/Sep/Oct - Mediterranean)","Épinards (Avr/Sep/Oct - Méditerranéen)","Espinaca (Abr / Sep / Oct - Mediterráneo)","السبانخ (أبريل / سبتمبر / أكتوبر - البحر الأبيض المتوسط)"]
[null,null,"Spinach (Nov - arid region)","Spinach (Nov - arid region)","Épinards (Nov - région aride)","Espinaca (noviembre - región árida)","السبانخ (نوفمبر - المنطقة القاحلة)"]
[null,null,"Squash, Zucchini (Apr/Dec - Mediterranean/arid region)","Squash, Zucchini (Apr/Dec - Mediterranean/arid region)","Cucurbita, Courgettes (Avr/Déc - Méditerranée/région aride)","Cucurbita, calabacín (abril / diciembre - región mediterránea / árida)","الاسكواش والكوسا (أبريل / ديسمبر - منطقة البحر الأبيض المتوسط ​​/ القاحلة)"]
[null,null,"Squash, Zucchini (May/Jun - Mediterranean/Europe)","Squash, Zucchini (May/Jun - Mediterranean/Europe)","Cucurbita, Courgettes (Mai/Juin - Méditerranée/Europe)","Cucurbita, calabacín (mayo / junio - Mediterráneo / Europa)","الاسكواش والكوسا (مايو / يونيو - البحر الأبيض المتوسط ​​/ أوروبا)"]
[null,null,"Sudan (1st cutting cycle - Apr - California desert)","Sudan (1st cutting cycle - Apr - California desert)","Herbe du Soudan (1er cycle de coupe - Avr - Désert californien)","Pasto del Sudán (1er ciclo de tala - abril - desierto de California)","عشب السودان (دورة القطع الأولى - أبريل - صحراء كاليفورنيا)"]
[null,null,"Sudan (other cutting cycles - Jun -California desert)","Sudan (other cutting cycles - Jun -California desert)","Herbe du Soudan (autres cycles de coupe - juin - désert californien)","Pasto del Sudán (otros ciclos de corta - junio-desierto de California)","عشب السودان (دورات قطع أخرى - يونيو - صحراء كاليفورنيا)"]
[null,null,"Sugarbeet (Mar - California)","Sugarbeet (Mar - California)","Betterave sucrière (Mars - Californie)","Remolacha azucarera (Mar - California)","الشمندر السكري (مارس - كاليفورنيا)"]
[null,null,"Sugarbeet (Jun - California)","Sugarbeet (Jun - California)","Betterave sucrière (juin - Californie)","Remolacha azucarera (junio - California)","الشمندر السكري (يونيو - كاليفورنيا)"]
[null,null,"Sugarbeet (Sep - California desert)","Sugarbeet (Sep - California desert)","Betterave sucrière (septembre - désert californien)","Remolacha azucarera (septiembre - desierto de California)","الشمندر السكري (سبتمبر - صحراء كاليفورنيا)"]
[null,null,"Sugarbeet (Apr - Idaho)","Sugarbeet (Apr - Idaho)","Betterave sucrière (avril - Idaho)","Remolacha azucarera (abril - Idaho)","الشمندر السكري (أبريل - أيداهو)"]
[null,null,"Sugarbeet (May - Mediterranean)","Sugarbeet (May - Mediterranean)","Betterave sucrière (Mai - Méditerranée)","Remolacha azucarera (mayo - Mediterráneo)","الشمندر السكري (مايو - البحر الأبيض المتوسط)"]
[null,null,"Sugarbeet (Nov - Mediterranean)","Sugarbeet (Nov - Mediterranean)","Betterave sucrière (Nov - Méditerranée)","Remolacha azucarera (Nov - Mediterráneo)","الشمندر السكري (نوفمبر - البحر الأبيض المتوسط)"]
[null,null,"Sugarbeet (Nov - arid regions)","Sugarbeet (Nov - arid regions)","Betterave sucrière (novembre - régions arides)","Remolacha azucarera (noviembre - regiones áridas)","الشمندر السكري (نوفمبر - المناطق القاحلة)"]
[null,null,"Sugarcane (ratoon - low latitudes)","Sugarcane (ratoon - low latitudes)","Canne à sucre (ratoon - basses latitudes)","Caña de azúcar (ratoon - latitudes bajas)","قصب السكر (راتون - خطوط العرض المنخفضة)"]
[null,null,"Sugarcane (ratoon - Tropics)","Sugarcane (ratoon - Tropics)","Canne à sucre (pouponnière - Tropiques)","Caña de azúcar (ratoon - trópicos)","قصب السكر (راتون - مداري)"]
[null,null,"Sugarcane (ratoon - Hawaii)","Sugarcane (ratoon - Hawaii)","Canne à sucre (rodée - Hawaï)","Caña de azúcar (ratoon - Hawaii)","قصب السكر (راتون - هاواي)"]
[null,null,"Sugarcane (virgin - low latitudes)","Sugarcane (virgin - low latitudes)","Canne à sucre (vierge - basses latitudes)","Caña de azúcar (virgen - latitudes bajas)","قصب السكر (عذراء - خطوط العرض المنخفضة)"]
[null,null,"Sugarcane (virgin - Tropics)","Sugarcane (virgin - Tropics)","Canne à sucre (vierge - Tropiques)","Caña de azúcar (virgen - Trópicos)","قصب السكر (عذراء - مدارية)"]
[null,null,"Sugarcane (virgin - Hawaii)","Sugarcane (virgin - Hawaii)","Canne à sucre (vierge - Hawaï)","Caña de azúcar (virgen - Hawaii)","قصب السكر (عذراء - هاواي)"]
[null,null,"Sunflower (Apr/May - Mediterranean/California)","Sunflower (Apr/May - Mediterranean/California)","Tournesol (Avr/Mai - Méditerranée/Californie)","Girasol (abril / mayo - Mediterráneo / California)","عباد الشمس (أبريل / مايو - البحر الأبيض المتوسط ​​/ كاليفورنيا)"]
[null,null,"Sweet melons (May - Mediterranean)","Sweet melons (May - Mediterranean)","Melons doux (mai - méditerranéen)","Melones dulces (mayo - Mediterráneo)","البطيخ الحلو (مايو - البحر الأبيض المتوسط)"]
[null,null,"Sweet melons (Mar - California)","Sweet melons (Mar - California)","Melons doux (Mars - Californie)","Melones dulces (Mar - California)","البطيخ الحلو (مارس - كاليفورنيا)"]
[null,null,"Sweet melons (Aug - California desert)","Sweet melons (Aug - California desert)","Melons doux (août - désert californien)","Melones dulces (agosto - desierto de California)","البطيخ الحلو (أغسطس - صحراء كاليفورنيا)"]
[null,null,"Sweet melons (Dec/Jan - arid region)","Sweet melons (Dec/Jan - arid region)","Melons doux (déc/jan - région aride)","Melones dulces (diciembre / enero - región árida)","البطيخ الحلو (ديسمبر / يناير - المنطقة القاحلة)"]
[null,null,"Sweet peppers (Apr/Jun - Europe/Mediterranean)","Sweet peppers (Apr/Jun - Europe/Mediterranean)","Poivrons doux (Avr/Juin - Europe/Méditerranée)","Pimientos dulces (Abr / Jun - Europa / Mediterráneo)","الفلفل الحلو (أبريل / يونيو - أوروبا / البحر الأبيض المتوسط)"]
[null,null,"Sweet peppers (Oct - arid region)","Sweet peppers (Oct - arid region)","Poivrons doux (oct - région aride)","Pimientos dulces (octubre - región árida)","الفلفل الحلو (أكتوبر - المنطقة القاحلة)"]
[null,null,"Sweet potato (Apr - Mediterranean)","Sweet potato (Apr - Mediterranean)","Patate douce (Avr - Méditerranée)","Batata (abril - Mediterráneo)","البطاطا الحلوة (أبريل - البحر الأبيض المتوسط)"]
[null,null,"Sweet potato (rainy season - Tropical regions)","Sweet potato (rainy season - Tropical regions)","Patate douce (saison des pluies - régions tropicales)","Batata (temporada de lluvias - Regiones tropicales)","البطاطا الحلوة (موسم الأمطار - المناطق الاستوائية)"]
[null,null,"Tomato (Jan - arid region)","Tomato (Jan - arid region)","Tomate (Jan - région aride)","Tomate (enero - región árida)","الطماطم (يناير - المنطقة القاحلة)"]
[null,null,"Tomato (Apr/May - California)","Tomato (Apr/May - California)","Tomate (Avr/Mai - Californie)","Tomate (abril / mayo - California)","الطماطم (أبريل / مايو - كاليفورنيا)"]
[null,null,"Tomato (Jan - California desert)","Tomato (Jan - California desert)","Tomate (janvier - désert californien)","Tomate (enero - desierto de California)","الطماطم (يناير - صحراء كاليفورنيا)"]
[null,null,"Tomato (Oct/Nov - arid region)","Tomato (Oct/Nov - arid region)","Tomate (Oct/Nov - région aride)","Tomate (octubre / noviembre - región árida)","الطماطم (أكتوبر / نوفمبر - المنطقة القاحلة)"]
[null,null,"Tomato (Apr/May - Mediterranean)","Tomato (Apr/May - Mediterranean)","Tomate (Avr/Mai - Méditerranée)","Tomate (Abr / Mayo - Mediterráneo)","الطماطم (أبريل / مايو - البحر الأبيض المتوسط)"]
[null,null,"Walnuts (Apr - Utah)","Walnuts (Apr - Utah)","Noix (avril - Utah)","Nueces (abril - Utah)","الجوز (أبريل - يوتا)"]
[null,null,"Water melons (Apr - Italy)","Water melons (Apr - Italy)","Pastèques (Avr - Italie)","Sandías (abril - Italia)","البطيخ الأحمر (أبريل - إيطاليا)"]
[null,null,"Water melons (Mat/Aug - Near East (desert))","Water melons (Mat/Aug - Near East (desert))","Pastèques (Mat/Aug - Proche-Orient (désert))","Sandías (Mat / Ago - Cercano Oriente (desierto))","البطيخ الأحمر (حصيرة / أغسطس - الشرق الأدنى (صحراء))"]
[null,null,"Winter Wheat (Dec - California)","Winter Wheat (Dec - California)","Blé d'hiver (décembre - Californie)","Trigo de invierno (diciembre - California)","القمح الشتوي (ديسمبر - كاليفورنيا)"]
[null,null,"Winter Wheat (Nov - Mediterranean)","Winter Wheat (Nov - Mediterranean)","Blé d'hiver (novembre - méditerranéen)","Trigo de invierno (noviembre - Mediterráneo)","القمح الشتوي (نوفمبر - البحر الأبيض المتوسط)"]
[null,null,"Winter Wheat (Oct - Idaho)","Winter Wheat (Oct - Idaho)","Blé d'hiver (octobre - Idaho)","Trigo de invierno (octubre - Idaho)","القمح الشتوي (أكتوبر - أيداهو)"]
[null,null,"New crop","New crop","Nouvelle récolte","Nueva planta","محصول جديد"]
[null,null,"Insert value","Insert value","Insérer la valeur","Insertar valor","أدخل القيمة"]
[]
[null,"COMMENTS (Note Boxes)"]
[null,{"$f":"$C$9","v":"1 Geographic Data"},"Select one of the following options according to the available data","Select one of the following options according to the available data","Sélectionnez l'une des options suivantes en fonction des données disponibles","Seleccione una de las siguientes opciones según los datos disponibles","حدد أحد الخيارات التالية وفقًا للبيانات المتاحة"]
[null,null,"Temperature is given in degrees Celsius (°C).\n\nData can be obtained from:\nhttp://www.weatherbase.com/","Temperature is given in degrees Celsius (°C).\n\nData can be obtained from:\nhttp://www.weatherbase.com/","La température est exprimée en degrés Celsius (°C).\n\nLes données peuvent être obtenues auprès de :\nhttp://www.weatherbase.com/","La temperatura se expresa en grados Celsius (° C).\n\nLos datos se pueden obtener de:\nhttp://www.weatherbase.com/","تعطى درجة الحرارة بالدرجات المئوية (درجة مئوية)\n\nيمكن الحصول على البيانات من:\nhttp://www.weatherbase.com/"]
[null,null,"Relative humidity expresses the degree of saturation of the air, as the ratio between the amount of water the ambient air actually holds and the maximum amount it could hold at the same temperature.\n\nData can be obtained from:\nhttp://www.weatherbase.com/","Relative humidity expresses the degree of saturation of the air, as the ratio between the amount of water the ambient air actually holds and the maximum amount it could hold at the same temperature.\n\nData can be obtained from:\nhttp://www.weatherbase.com/","L'humidité relative exprime le degré de saturation de l'air, comme le rapport entre la quantité d'eau que l'air ambiant contient réellement et la quantité maximale qu'il pourrait contenir à la même température.\n\nLes données peuvent être obtenues à partir de :\nhttp://www.weatherbase.com/","La humedad relativa expresa el grado de saturación del aire, como la relación entre la cantidad de agua que realmente contiene el aire ambiente y la cantidad máxima que podría contener a la misma temperatura.\n\nLos datos se pueden obtener en:\nhttp://www.weatherbase.com/","تعبر الرطوبة النسبية عن درجة تشبع الهواء ، ويتم التعبير عنها باستخدام النسبة المئوية وهي تشير إلى الحالة الحالية للرطوبة المطلقة بالنسبة إلى الرطوبة القصوى مع نفس درجة الحرارة\n\nيمكن الحصول على البيانات من:\nhttp://www.weatherbase.com/"]
[null,null,"Wind speed is given in meters/second (m/s).\nIn line with agrometeorological standards, wind speed data is obtained from instruments at a standard height of 2 meters.\n\nData can be obtained from:\nhttp://www.weatherbase.com/","Wind speed is given in meters/second (m/s).\nIn line with agrometeorological standards, wind speed data is obtained from instruments at a standard height of 2 meters.\n\nData can be obtained from:\nhttp://www.weatherbase.com/","La vitesse du vent est donnée en mètres/seconde (m/s).\nConformément aux normes agrométéorologiques, les données de vitesse du vent sont obtenues à partir d'instruments à une hauteur standard de 2 mètres.\n\nLes données peuvent être obtenues auprès de :\nhttp://www.weatherbase.com/","La velocidad del viento se expresa en metros / segundo (m / s).\nDe acuerdo con los estándares agrometeorológicos, los datos de velocidad del viento se obtienen de instrumentos a una altura estándar de 2 metros.\n\nLos datos se pueden obtener de:\nhttp://www.weatherbase.com/","يتم تحديد سرعة الرياح بالأمتار / الثانية (م / ث).\nتماشيا مع معايير الأرصاد الجوية الزراعية ، يتم الحصول على بيانات سرعة الرياح من الأجهزة على ارتفاع 2 متر.\n\nيمكن الحصول على البيانات من:\nhttp://www.weatherbase.com/"]
[null,null,"Sunshine is expressed as hours of sunshine (hours). Sunshine represents the duration of the daylight without clouds.\n\nData can be obtained from:\nhttp://www.weatherbase.com/","Sunshine is expressed as hours of sunshine (hours). Sunshine represents the duration of the daylight without clouds.\n\nData can be obtained from:\nhttp://www.weatherbase.com/","L'ensoleillement est exprimé en heures d'ensoleillement (heures). L'ensoleillement représente la durée de la lumière du jour sans nuages.\n\nLes données peuvent être obtenues à partir de :\nhttp://www.weatherbase.com/","Horas de insolación se expresa en horas de luz solar (horas). Horas de insolación representa la duración de la luz del día sin nubes.\n\nLos datos se pueden obtener en:\nhttp://www.weatherbase.com/","يتم التعبير عن سطوع الشمس في صورة ساعات من سطوع الشمس (ساعات). يمثل سطوع الشمس مدة ضوء النهار بدون غيوم.\n\nيمكن الحصول على البيانات من:\nhttp://www.weatherbase.com/"]
[null,null,"Reference evapotranspiration is expressed in millimeters per day (mm/day).\nIt is the evapotranspiration rate of a reference crop not short of water.\n\nFor detailed information, consult the FAO guidelines:\nhttp://www.fao.org/3/x0490e/x0490e00.htm","Reference evapotranspiration is expressed in millimeters per day (mm/day).\nIt is the evapotranspiration rate of a reference crop not short of water.\n\nFor detailed information, consult the FAO guidelines:\nhttp://www.fao.org/3/x0490e/x0490e00.htm","L'évapotranspiration de référence est exprimée en millimètres par jour (mm/jour).\nC'est le taux d'évapotranspiration d'une culture de référence qui ne manque pas d'eau.\n\nPour des informations détaillées, consultez les directives de la FAO :\nhttp://www.fao.org/3/x0490e/x0490e00.htm","La evapotranspiración de referencia se expresa en milímetros por día (mm / día).\nEs la tasa de evapotranspiración de un cultivo de referencia al que no le falta agua.\n\nPara obtener información detallada, consulte las directrices de la FAO:\nhttp://www.fao.org/3/x0490e/x0490e00.htm","يتم التعبير عن البخر- نتح المرجعي بالمليمترات في اليوم (مم / اليوم).\nهو معدل البخر- نتح لمحصول مرجعي لا ينقصه الماء.\n\nللحصول على معلومات مفصلة ، راجع المبادئ التوجيهية لمنظمة الأغذية والزراعة:\nhttp://www.fao.org/3/x0490e/x0490e00.htm"]
[null,null,"The monthly rainfall given in mm/month. \n1 mm = 1 l/m² = 10 m³/ha\n\nData can be obtained from:\nhttp://www.weatherbase.com/","The monthly rainfall given in mm/month. \n1 mm = 1 l/m² = 10 m³/ha\n\nData can be obtained from:\nhttp://www.weatherbase.com/","Les précipitations mensuelles sont données en mm/mois.\n1 mm = 1 l/m² = 10 m³/ha\n\nLes données peuvent être obtenues auprès de :\nhttp://www.weatherbase.com/","La precipitación mensual se expresa en mm / mes.\n1 mm = 1 l / m² = 10 m³ / ha\n\nLos datos se pueden obtener de:\nhttp://www.weatherbase.com/","معدل هطول الأمطار الشهري بالملليمتر / الشهر.\n1 مم = 1 لتر / م² = 10 م³ / هكتار\n\nيمكن الحصول على البيانات من:\nhttp://www.weatherbase.com/"]
[]
[null,{"$f":"$C$10","v":"2 Crop Water Requirement"},"To facilitate the selection of crops from the list of crops, start entering the crop's name, then select from the list of available crops.","To facilitate the selection of crops from the list of crops, start entering the crop's name, then select from the list of available crops.","Pour faciliter la sélection des cultures dans la liste des cultures, commencez par saisir le nom de la culture, puis sélectionnez dans la liste des cultures disponibles.","Para facilitar la selección de cultivos de la lista de cultivos, primero ingrese el nombre del cultivo y luego seleccione de la lista de cultivos disponibles.","لتسهيل اختيار المحاصيل من قائمة المحاصيل ، ابدأ في إدخال اسم المحصول ، ثم اختر من قائمة المحاصيل المتاحة"]
[null,null,"The sum of all irrigated areas (for crops irrigated during the same season) must not exceed the total farm area.","The sum of all irrigated areas (for crops irrigated during the same season) must not exceed the total farm area.","La somme de toutes les superficies irriguées (pour les cultures irriguées au cours de la même saison) ne doit pas dépasser la superficie totale de l'exploitation.","La suma de todas las áreas irrigadas (para cultivos regados durante la misma temporada) no debe exceder el área total de la finca.","يجب ألا يزيد مجموع المساحات المروية (للمحاصيل المروية خلال نفس الموسم) عن إجمالي مساحة المزرعة."]
[null,null,"Date format is dependent on the settings of your computer or your operating system.\nExample: Today's date","Date format is dependent on the settings of your computer or your operating system.\nExample: Today's date","Le format de la date dépend des paramètres de votre ordinateur ou de votre système d'exploitation.\nExemple : date d'aujourd'hui","El formato de la fecha depende de la configuración de su computadora o del sistema operativo.\nEjemplo: fecha de hoy","تعتمد صيغة التاريخ على إعدادات الكمبيوتر أو نظام التشغيل الخاص بك.\nمثال: تاريخ اليوم"]
[null,null,0]
[null,null,{"$f":"HLOOKUP($C$6,$D$6:$I$603,ROW()-ROW($B$5),FALSE)","v":0}]
[null,null,0]
[null,null,0]
[null,null,0]
[null,null,0]
[null,null,0]
[null,null,0]
[null,null,0]
[null,null,0]
[null,null,0]
[null,null,0]
[null,null,0]
[null,null,0]
[null,null,0]
[null,null,0]
[null,null,0]
[null,null,0]
[null,null,0]
[null,null,0]
[null,null,0]
[null,null,0]
[null,null,0]
[null,null,0]
[null,null,0]
[null,null,0]
[null,null,0]
[null,null,0]
[null,null,0]
[null,null,0]
[null,null,0]
[null,null,0]
[null,null,0]
[null,null,0]
[null,null,0]
[null,null,0]
[null,null,0]
[null,null,0]
[null,null,0]
[null,null,0]
[null,null,0]
[null,null,0]
[null,null,0]
[null,null,0]
[null,null,0]
[null,null,0]
[null,null,0]
[null,null,0]
[null,null,0]
[null,null,0]
[null,null,0]
[null,null,0]
[null,null,0]
[null,null,0]
[null,null,0]
[null,null,0]
[null,null,0]
[null,null,0]
[null,null,0]
[null,null,0]
[null,null,0]
[null,null,0]
[null,null,0]
[null,null,0]
[null,null,0]
[null,null,{"$f":"HLOOKUP($C$6,$D$6:$I$603,ROW()-ROW($B$5),FALSE)","v":0}]
[null,null,0]
[null,null,0]
[null,null,0]
[null,null,0]
[null,null,0]
[null,null,0]
[null,null,0]
[null,null,0]
[null,null,0]
[null,null,0]
[null,null,0]
[null,null,0]
[null,null,0]
[null,null,0]
[null,null,0]
[null,null,{"$f":"HLOOKUP($C$6,$D$6:$I$603,ROW()-ROW($B$5),FALSE)","v":0}]

{"sheet":"Crop Calculation Sheet","index":8,"n_rows":771,"n_cols":38,"rows_kept":771,"cut":false,"hidden":true,"merged":[[1,9,1,10],[6,1,6,2],[1,1,1,3],[2,1,2,3],[5,1,5,2]]}
[]
[null,"Do not modify",null,null,null,null,"Earliest planting date:",{"$f":"'Data Validation Sheet'!J18","v":"2021-05-01"},null,"Last simulated date:",null,{"$f":"DATE(YEAR($H$2)+2,MONTH($H$2),0)","v":"2023-04-30"}]
[null,"Date format"]
[null,"Year",null,"yyyy"]
[null,"Month",null,"mmmm",null,null,"Month after Planthing",1,2,3,4,5,6,7,8,9,10,11,12,13,14,15,16,17,18,19,20,21,22,23,24]
[null,"Selected language",null,{"$f":"'READ ME'!$G$10","v":"English"},null,null,"Year",{"$f":"TEXT(DATE(YEAR($H$2),MONTH($H$2),1),$D$7&$D$4)","v":"2021"},{"$f":"TEXT((DATE(YEAR($H$2),MONTH($H$2)+I5-1,1)),$D$7&$D$4)","v":"2021"},"2021","2021","2021","2021","2021","2021","2022","2022","2022","2022","2022","2022","2022","2022","2022","2022","2022","2022","2023","2023","2023","2023"]
[null,"Selected code",null,{"$f":"VLOOKUP($D$6,$B$9:$C$14,2,FALSE)","v":"[$-409]"},null,null,"Month of the year",{"$f":"TEXT(DATE(YEAR($H$2),MONTH($H$2),1),$D$7&$D$5)","v":"May"},{"$f":"TEXT(DATE(YEAR($H$2),MONTH($H$2)+I5-1,1),$D$7&$D$5)","v":"June"},"July","August","September","October","November","December","January","February","March","April","May","June","July","August","September","October","November","December","January","February","March","April"]
[null,"Language ","Code",null,null,null,"1st day of the month",{"$f":"(DATE(YEAR($H$2),MONTH($H$2)+H5-1,1))","v":"2021-05-01"},{"$f":"(DATE(YEAR($H$2),MONTH($H$2)+I5-1,1))","v":"2021-06-01"},{"$f":"(DATE(YEAR($H$2),MONTH($H$2)+J5-1,1))","v":"2021-07-01"},"2021-08-01","2021-09-01","2021-10-01","2021-11-01","2021-12-01","2022-01-01","2022-02-01","2022-03-01","2022-04-01","2022-05-01","2022-06-01","2022-07-01","2022-08-01","2022-09-01","2022-10-01","2022-11-01","2022-12-01","2023-01-01","2023-02-01","2023-03-01","2023-04-01"]
[null,{"$f":"Translate!D6","v":"English"},{"$f":"Translate!D7","v":"[$-409]"},null,null,null,"Days per month",{"$f":"DAY(DATE(YEAR(H8),MONTH(H8)+1,1)-1)","v":31},{"$f":"DAY(DATE(YEAR(I8),MONTH(I8)+1,1)-1)","v":30},{"$f":"DAY(DATE(YEAR(J8),MONTH(J8)+1,1)-1)","v":31},31,30,31,30,31,31,28,31,30,31,{"$f":"DAY(DATE(YEAR(U8),MONTH(U8)+1,1)-1)","v":30},31,31,30,31,30,31,31,28,31,30]
[null,{"$f":"Translate!E6","v":"Français"},{"$f":"Translate!E7","v":"[$-40C]"},null,null,null,{"$f":"'General Calculation'!$C$115","v":"Reference Evapotranspiration"},{"$f":"VLOOKUP($G$10,'General Calculation'!$C$115:$O$115,MATCH('Crop Calculation Sheet'!H7,'General Calculation'!$C$114:$O$114,0))","v":5.3183200000000008},{"$f":"VLOOKUP($G$10,'General Calculation'!$C$115:$O$115,MATCH('Crop Calculation Sheet'!I7,'General Calculation'!$C$114:$O$114,0))","v":5.2668000000000008},{"$f":"VLOOKUP($G$10,'General Calculation'!$C$115:$O$115,MATCH('Crop Calculation Sheet'!J7,'General Calculation'!$C$114:$O$114,0))","v":5.2023999999999999},{"$f":"VLOOKUP($G$10,'General Calculation'!$C$115:$O$115,MATCH('Crop Calculation Sheet'!K7,'General Calculation'!$C$114:$O$114,0))","v":5.2023999999999999},{"$f":"VLOOKUP($G$10,'General Calculation'!$C$115:$O$115,MATCH('Crop Calculation Sheet'!L7,'General Calculation'!$C$114:$O$114,0))","v":5.2796800000000008},{"$f":"VLOOKUP($G$10,'General Calculation'!$C$115:$O$115,MATCH('Crop Calculation Sheet'!M7,'General Calculation'!$C$114:$O$114,0))","v":5.1283799999999999},{"$f":"VLOOKUP($G$10,'General Calculation'!$C$115:$O$115,MATCH('Crop Calculation Sheet'!N7,'General Calculation'!$C$114:$O$114,0))","v":5.091120000000001},{"$f":"VLOOKUP($G$10,'General Calculation'!$C$115:$O$115,MATCH('Crop Calculation Sheet'!O7,'General Calculation'!$C$114:$O$114,0))","v":5.1408000000000005},{"$f":"VLOOKUP($G$10,'General Calculation'!$C$115:$O$115,MATCH('Crop Calculation Sheet'!P7,'General Calculation'!$C$114:$O$114,0))","v":5.3271000000000006},{"$f":"VLOOKUP($G$10,'General Calculation'!$C$115:$O$115,MATCH('Crop Calculation Sheet'!Q7,'General Calculation'!$C$114:$O$114,0))","v":5.2650000000000006},{"$f":"VLOOKUP($G$10,'General Calculation'!$C$115:$O$115,MATCH('Crop Calculation Sheet'!R7,'General Calculation'!$C$114:$O$114,0))","v":5.2153200000000011},{"$f":"VLOOKUP($G$10,'General Calculation'!$C$115:$O$115,MATCH('Crop Calculation Sheet'!S7,'General Calculation'!$C$114:$O$114,0))","v":5.3054400000000008},{"$f":"VLOOKUP($G$10,'General Calculation'!$C$115:$O$115,MATCH('Crop Calculation Sheet'!T7,'General Calculation'!$C$114:$O$114,0))","v":5.3183200000000008},{"$f":"VLOOKUP($G$10,'General Calculation'!$C$115:$O$115,MATCH('Crop Calculation Sheet'!U7,'General Calculation'!$C$114:$O$114,0))","v":5.2668000000000008},{"$f":"VLOOKUP($G$10,'General Calculation'!$C$115:$O$115,MATCH('Crop Calculation Sheet'!V7,'General Calculation'!$C$114:$O$114,0))","v":5.2023999999999999},{"$f":"VLOOKUP($G$10,'General Calculation'!$C$115:$O$115,MATCH('Crop Calculation Sheet'!W7,'General Calculation'!$C$114:$O$114,0))","v":5.2023999999999999},{"$f":"VLOOKUP($G$10,'General Calculation'!$C$115:$O$115,MATCH('Crop Calculation Sheet'!X7,'General Calculation'!$C$114:$O$114,0))","v":5.2796800000000008},{"$f":"VLOOKUP($G$10,'General Calculation'!$C$115:$O$115,MATCH('Crop Calculation Sheet'!Y7,'General Calculation'!$C$114:$O$114,0))","v":5.1283799999999999},{"$f":"VLOOKUP($G$10,'General Calculation'!$C$115:$O$115,MATCH('Crop Calculation Sheet'!Z7,'General Calculation'!$C$114:$O$114,0))","v":5.091120000000001},{"$f":"VLOOKUP($G$10,'General Calculation'!$C$115:$O$115,MATCH('Crop Calculation Sheet'!AA7,'General Calculation'!$C$114:$O$114,0))","v":5.1408000000000005},{"$f":"VLOOKUP($G$10,'General Calculation'!$C$115:$O$115,MATCH('Crop Calculation Sheet'!AB7,'General Calculation'!$C$114:$O$114,0))","v":5.3271000000000006},{"$f":"VLOOKUP($G$10,'General Calculation'!$C$115:$O$115,MATCH('Crop Calculation Sheet'!AC7,'General Calculation'!$C$114:$O$114,0))","v":5.2650000000000006},{"$f":"VLOOKUP($G$10,'General Calculation'!$C$115:$O$115,MATCH('Crop Calculation Sheet'!AD7,'General Calculation'!$C$114:$O$114,0))","v":5.2153200000000011},{"$f":"VLOOKUP($G$10,'General Calculation'!$C$115:$O$115,MATCH('Crop Calculation Sheet'!AE7,'General Calculation'!$C$114:$O$114,0))","v":5.3054400000000008}]
[null,{"$f":"Translate!F6","v":"Español"},{"$f":"Translate!F7","v":"[$-C0A]"}]
[null,{"$f":"Translate!G6","v":"العربية"},{"$f":"Translate!G7","v":"[$-401]"},null,"Crop 1",{"$f":"IFERROR(LEFT($F$31,FIND(\"(\",$F$31)-1),$F$31)","v":"Carrots "},"Crop Water Requirement",{"$f":"SUMIFS($J$41:$J$771,$B$41:$B$771,H$6,$C$41:$C$771,H$7)","v":119.50265040000004},155.39693399999999,167.30918399999999,40.266575999999993,0,0,0,0,0,0,0,0,0,0,0,0,0,0,0,0,0,0,0,0]
[null,{"$f":"Translate!H6","v":0},{"$f":"Translate!H7","v":0},null,null,null,"Number of day/month",{"$f":"COUNTIFS($J$41:$J$771,\">0\",$B$41:$B$771,H$6,$C$41:$C$771,H$7)","v":31},30,31,8,0,0,0,0,0,0,0,0,0,0,0,0,0,0,0,0,0,0,0,0]
[null,{"$f":"Translate!I6","v":0},{"$f":"Translate!I7","v":0}]
[null,null,null,null,"Crop 2",{"$f":"IFERROR(LEFT($M$31,FIND(\"(\",$M$31)-1),$M$31)","v":"Carrots "},"Crop Water Requirement",{"$f":"SUMIFS($Q$41:$Q$771,$B$41:$B$771,H$6,$C$41:$C$771,H$7)","v":0},0,0,0,0,0,0,0,{"$f":"SUMIFS($Q$41:$Q$771,$B$41:$B$771,P$6,$C$41:$C$771,P$7)","v":0},0,0,0,0,0,116.89792799999998,158.95933200000005,164.25084480000007,39.693661199999994,0,0,0,0,0,0]
[null,null,null,null,null,null,"Number of day/month",{"$f":"COUNTIFS($Q$41:$Q$771,\">0\",$B$41:$B$771,H$6,$C$41:$C$771,H$7)","v":0},0,0,0,0,0,0,0,0,0,0,0,0,0,31,31,30,8,0,0,0,0,0,0]
[]
[null,null,null,null,"Crop 3",{"$f":"IFERROR(LEFT($T$31,FIND(\"(\",$T$31)-1),$T$31)","v":""},"Crop Water Requirement",{"$f":"SUMIFS($X$41:$X$771,$B$41:$B$771,H$6,$C$41:$C$771,H$7)","v":0},{"$f":"SUMIFS($X$41:$X$771,$B$41:$B$771,I$6,$C$41:$C$771,I$7)","v":0},0,0,0,0,0,0,0,0,0,0,0,0,0,0,0,0,0,0,0,0,0,0]
[null,null,null,null,null,null,"Number of day/month",{"$f":"COUNTIFS($X$41:$X$771,\">0\",$B$41:$B$771,H$6,$C$41:$C$771,H$7)","v":0},{"$f":"COUNTIFS($X$41:$X$771,\">0\",$B$41:$B$771,I$6,$C$41:$C$771,I$7)","v":0},0,0,0,0,0,0,0,0,0,0,0,0,0,0,0,0,0,0,0,0,0,0]
[]
[null,null,null,null,"Crop 4",{"$f":"IFERROR(LEFT($AA$31,FIND(\"(\",$AA$31)-1),$AA$31)","v":""},"Crop Water Requirement",{"$f":"SUMIFS($AE$41:$AE$771,$B$41:$B$771,H$6,$C$41:$C$771,H$7)","v":0},0,0,0,0,0,0,0,0,0,0,0,0,0,0,0,0,0,0,0,0,0,0,0]
[null,null,null,null,null,null,"Number of day/month",{"$f":"COUNTIFS($AE$41:$AE$771,\">0\",$B$41:$B$771,H$6,$C$41:$C$771,H$7)","v":0},0,0,0,0,0,0,0,0,0,0,0,0,0,0,0,0,0,0,0,0,0,0,0]
[null,"Month","ETo"]
[null,{"$f":"TRANSPOSE('General Calculation'!$D$114:$O$114)","v":"January"},{"$f":"TRANSPOSE('General Calculation'!$D$115:$O$115)","v":5.3271000000000006},null,"Crop 5",{"$f":"IFERROR(LEFT($AH$31,FIND(\"(\",$AH$31)-1),$AH$31)","v":""},"Crop Water Requirement",{"$f":"SUMIFS($AL$41:$AL$771,$B$41:$B$771,H$6,$C$41:$C$771,H$7)","v":0},{"$f":"SUMIFS($AL$41:$AL$771,$B$41:$B$771,I$6,$C$41:$C$771,I$7)","v":0},0,0,0,0,0,0,0,0,0,0,0,0,0,0,0,0,0,0,0,0,0,0]
[null,"February",5.2650000000000006,null,null,null,"Number of day/month",{"$f":"COUNTIFS($AL$41:$AL$771,\">0\",$B$41:$B$771,H$6,$C$41:$C$771,H$7)","v":0},{"$f":"COUNTIFS($AL$41:$AL$771,\">0\",$B$41:$B$771,I$6,$C$41:$C$771,I$7)","v":0},0,0,0,0,0,0,0,0,0,0,0,0,0,0,0,0,0,0,0,0,0,0]
[null,"March",5.2153200000000011]
[null,"April",5.3054400000000008]
[null,"May",5.3183200000000008]
[null,"June",5.2668000000000008]
[null,"July",5.2023999999999999]
[null,"August",5.2023999999999999,null,"Crop 1",{"$f":"IF(OR('2 Crop Water Requirement'!$B$22=\"\",'2 Crop Water Requirement'!$B$22=\"none\"),\"\",'2 Crop Water Requirement'!$B$22)","v":"Carrots (Oct/Jan - Arid climate )"},null,null,null,{"$f":"IFERROR(VLOOKUP(F31,'Crop Information'!$B$7:$C$216,2,FALSE),\"\")","v":32},null,"Crop 2",{"$f":"IF(OR('2 Crop Water Requirement'!$B$24=\"\",'2 Crop Water Requirement'!$B$24=\"none\"),\"\",'2 Crop Water Requirement'!$B$24)","v":"Carrots (Oct/Jan - Arid climate )"},null,null,null,{"$f":"IFERROR(VLOOKUP(M31,'Crop Information'!$B$7:$C$216,2,FALSE),\"\")","v":32},null,"Crop 3",{"$f":"IF(OR('2 Crop Water Requirement'!$B$26=\"\",'2 Crop Water Requirement'!$B$26=\"none\"),\"\",'2 Crop Water Requirement'!$B$26)","v":""},null,null,null,{"$f":"IFERROR(VLOOKUP(T31,'Crop Information'!$B$7:$C$216,2,FALSE),\"\")","v":""},null,"Crop 4",{"$f":"IF(OR('2 Crop Water Requirement'!$B$28=\"\",'2 Crop Water Requirement'!$B$28=\"none\"),\"\",'2 Crop Water Requirement'!$B$28)","v":""},null,null,null,{"$f":"IFERROR(VLOOKUP(AA31,'Crop Information'!$B$7:$C$216,2,FALSE),\"\")","v":""},null,"Crop 5",{"$f":"IF(OR('2 Crop Water Requirement'!$B$30=\"\",'2 Crop Water Requirement'!$B$30=\"none\"),\"\",'2 Crop Water Requirement'!$B$30)","v":""},null,null,null,{"$f":"IFERROR(VLOOKUP(AH31,'Crop Information'!$B$7:$C$216,2,FALSE),\"\")","v":""}]
[null,"September",5.2796800000000008,null,null,null,"Date after Sowing"]
[null,"October",5.1283799999999999,null,"Crop 1","Days","DAS","From","To","Crop Factor",null,"Crop 2","Days","DAS","From","To","Crop Factor",null,"Crop 3","Days","DAS","From","To","Crop Factor",null,"Crop 4","Days","DAS","From","To","Crop Factor",null,"Crop 5","Days","DAS","From","To","Crop Factor"]
[null,"November",5.091120000000001,null,"Initial:",{"$f":"INDEX('Crop Information'!$D$7:$D$216,$J$31)","v":20},{"$f":"F34","v":20},{"$f":"'2 Crop Water Requirement'!$H$22","v":"2021-05-01"},{"$f":"H34+F34-1","v":"2021-05-20"},{"$f":"INDEX('Crop Information'!$I$7:$I$216,$J$31)","v":0.7},null,"Initial:",{"$f":"INDEX('Crop Information'!$D$7:$D$216,$Q$31)","v":20},{"$f":"M34","v":20},{"$f":"'2 Crop Water Requirement'!$H$24","v":"2022-07-01"},{"$f":"O34+M34-1","v":"2022-07-20"},{"$f":"INDEX('Crop Information'!$I$7:$I$216,$Q$31)","v":0.7},null,"Initial:",{"$f":"INDEX('Crop Information'!$D$7:$D$216,$X$31)","v":{"$error":"#VALUE!"}},{"$f":"T34","v":{"$error":"#VALUE!"}},{"$f":"'2 Crop Water Requirement'!$H$26","v":"00:00:00"},{"$f":"V34+T34-1","v":{"$error":"#VALUE!"}},{"$f":"INDEX('Crop Information'!$I$7:$I$216,$X$31)","v":{"$error":"#VALUE!"}},null,"Initial:",{"$f":"INDEX('Crop Information'!$D$7:$D$216,$AE$31)","v":{"$error":"#VALUE!"}},{"$f":"AA34","v":{"$error":"#VALUE!"}},{"$f":"'2 Crop Water Requirement'!$H$28","v":"00:00:00"},{"$f":"AC34+AA34-1","v":{"$error":"#VALUE!"}},{"$f":"INDEX('Crop Information'!$I$7:$I$216,$AE$31)","v":{"$error":"#VALUE!"}},null,"Initial:",{"$f":"INDEX('Crop Information'!$D$7:$D$216,$AL$31)","v":{"$error":"#VALUE!"}},{"$f":"AH34","v":{"$error":"#VALUE!"}},{"$f":"'2 Crop Water Requirement'!$H$30","v":"00:00:00"},{"$f":"AJ34+AH34-1","v":{"$error":"#VALUE!"}},{"$f":"INDEX('Crop Information'!$I$7:$I$216,$AL$31)","v":{"$error":"#VALUE!"}}]
[null,"December",5.1408000000000005,null,"Development:",{"$f":"INDEX('Crop Information'!$E$7:$E$216,$J$31,)","v":30},{"$f":"G34+F35","v":50},{"$f":"I34+1","v":"2021-05-21"},{"$f":"I34+F35","v":"2021-06-19"},{"$f":"\"-\"","v":"-"},null,"Development:",{"$f":"INDEX('Crop Information'!$E$7:$E$216,$Q$31,)","v":30},{"$f":"N34+M35","v":50},{"$f":"P34+1","v":"2022-07-21"},{"$f":"P34+M35","v":"2022-08-19"},{"$f":"\"-\"","v":"-"},null,"Development:",{"$f":"INDEX('Crop Information'!$E$7:$E$216,$X$31,)","v":{"$error":"#VALUE!"}},{"$f":"U34+T35","v":{"$error":"#VALUE!"}},{"$f":"W34+1","v":{"$error":"#VALUE!"}},{"$f":"W34+T35","v":{"$error":"#VALUE!"}},{"$f":"\"-\"","v":"-"},null,"Development:",{"$f":"INDEX('Crop Information'!$E$7:$E$216,$AE$31,)","v":{"$error":"#VALUE!"}},{"$f":"AB34+AA35","v":{"$error":"#VALUE!"}},{"$f":"AD34+1","v":{"$error":"#VALUE!"}},{"$f":"AD34+AA35","v":{"$error":"#VALUE!"}},{"$f":"\"-\"","v":"-"},null,"Development:",{"$f":"INDEX('Crop Information'!$E$7:$E$216,$AL$31,)","v":{"$error":"#VALUE!"}},{"$f":"AI34+AH35","v":{"$error":"#VALUE!"}},{"$f":"AK34+1","v":{"$error":"#VALUE!"}},{"$f":"AK34+AH35","v":{"$error":"#VALUE!"}},{"$f":"\"-\"","v":"-"}]
[null,null,null,null,"Mid season:",{"$f":"INDEX('Crop Information'!$F$7:$F$216,$J$31)","v":30},{"$f":"G35+F36","v":80},{"$f":"I35+1","v":"2021-06-20"},{"$f":"I35+F36","v":"2021-07-19"},{"$f":"INDEX('Crop Information'!$J$7:$J$216,$J$31)","v":1.05},null,"Mid season:",{"$f":"INDEX('Crop Information'!$F$7:$F$216,$Q$31)","v":30},{"$f":"N35+M36","v":80},{"$f":"P35+1","v":"2022-08-20"},{"$f":"P35+M36","v":"2022-09-18"},{"$f":"INDEX('Crop Information'!$J$7:$J$216,$Q$31)","v":1.05},null,"Mid season:",{"$f":"INDEX('Crop Information'!$F$7:$F$216,$X$31)","v":{"$error":"#VALUE!"}},{"$f":"U35+T36","v":{"$error":"#VALUE!"}},{"$f":"W35+1","v":{"$error":"#VALUE!"}},{"$f":"W35+T36","v":{"$error":"#VALUE!"}},{"$f":"INDEX('Crop Information'!$J$7:$J$216,$X$31)","v":{"$error":"#VALUE!"}},null,"Mid season:",{"$f":"INDEX('Crop Information'!$F$7:$F$216,$AE$31)","v":{"$error":"#VALUE!"}},{"$f":"AB35+AA36","v":{"$error":"#VALUE!"}},{"$f":"AD35+1","v":{"$error":"#VALUE!"}},{"$f":"AD35+AA36","v":{"$error":"#VALUE!"}},{"$f":"INDEX('Crop Information'!$J$7:$J$216,$AE$31)","v":{"$error":"#VALUE!"}},null,"Mid season:",{"$f":"INDEX('Crop Information'!$F$7:$F$216,$AL$31)","v":{"$error":"#VALUE!"}},{"$f":"AI35+AH36","v":{"$error":"#VALUE!"}},{"$f":"AK35+1","v":{"$error":"#VALUE!"}},{"$f":"AK35+AH36","v":{"$error":"#VALUE!"}},{"$f":"INDEX('Crop Information'!$J$7:$J$216,$AL$31)","v":{"$error":"#VALUE!"}}]
[null,null,null,null,"Late season:",{"$f":"INDEX('Crop Information'!$G$7:$G$216,$J$31)","v":20},{"$f":"G36+F37","v":100},{"$f":"I36+1","v":"2021-07-20"},{"$f":"F37+I36","v":"2021-08-08"},{"$f":"INDEX('Crop Information'!$K$7:$K$216,$J$31)","v":0.95},null,"Late season:",{"$f":"INDEX('Crop Information'!$G$7:$G$216,$Q$31)","v":20},{"$f":"N36+M37","v":100},{"$f":"P36+1","v":"2022-09-19"},{"$f":"M37+P36","v":"2022-10-08"},{"$f":"INDEX('Crop Information'!$K$7:$K$216,$Q$31)","v":0.95},null,"Late season:",{"$f":"INDEX('Crop Information'!$G$7:$G$216,$X$31)","v":{"$error":"#VALUE!"}},{"$f":"U36+T37","v":{"$error":"#VALUE!"}},{"$f":"W36+1","v":{"$error":"#VALUE!"}},{"$f":"T37+W36","v":{"$error":"#VALUE!"}},{"$f":"INDEX('Crop Information'!$K$7:$K$216,$X$31)","v":{"$error":"#VALUE!"}},null,"Late season:",{"$f":"INDEX('Crop Information'!$G$7:$G$216,$AE$31)","v":{"$error":"#VALUE!"}},{"$f":"AB36+AA37","v":{"$error":"#VALUE!"}},{"$f":"AD36+1","v":{"$error":"#VALUE!"}},{"$f":"AA37+AD36","v":{"$error":"#VALUE!"}},{"$f":"INDEX('Crop Information'!$K$7:$K$216,$AE$31)","v":{"$error":"#VALUE!"}},null,"Late season:",{"$f":"INDEX('Crop Information'!$G$7:$G$216,$AL$31)","v":{"$error":"#VALUE!"}},{"$f":"AI36+AH37","v":{"$error":"#VALUE!"}},{"$f":"AK36+1","v":{"$error":"#VALUE!"}},{"$f":"AH37+AK36","v":{"$error":"#VALUE!"}},{"$f":"INDEX('Crop Information'!$K$7:$K$216,$AL$31)","v":{"$error":"#VALUE!"}}]
[null,null,null,null,"Total growing days:",{"$f":"INDEX('Crop Information'!$H$7:$H$216,$J$31)","v":100},null,null,null,null,null,"Total growing days:",{"$f":"INDEX('Crop Information'!$H$7:$H$216,$Q$31)","v":100},null,null,null,null,null,"Total growing days:",{"$f":"INDEX('Crop Information'!$H$7:$H$216,$X$31)","v":{"$error":"#VALUE!"}},null,null,null,null,null,"Total growing days:",{"$f":"INDEX('Crop Information'!$H$7:$H$216,$AE$31)","v":{"$error":"#VALUE!"}},null,null,null,null,null,"Total growing days:",{"$f":"INDEX('Crop Information'!$H$7:$H$216,$AE$31)","v":{"$error":"#VALUE!"}}]
[]
[null,"Year","Month","Date",null,"DAS","Stage:","ETo ","Kc","ETc",null,null,"DAS","Stage:","ETo ","Kc","ETc",null,null,"DAS","Stage:","ETo ","Kc","ETc",null,null,"DAS","Stage:","ETo ","Kc","ETc",null,null,"DAS","Stage:","ETo ","Kc","ETc"]
[null,{"$f":"IFERROR(TEXT(DATE(YEAR($D41),MONTH($D41),1),$D$7&$D$4),\"\")","v":"2021"},{"$f":"IFERROR(TEXT(DATE(YEAR($D41),MONTH($D41),1),$D$7&$D$5),\"\")","v":"May"},{"$f":"DATE(YEAR($H$2),MONTH($H$2),1)","v":"2021-05-01"},null,{"$f":"IFERROR(IF(OR($D41-$H$34+1<=0,$D41>$I$37),\"\",$D41-$H$34+1),\"\")","v":1},{"$f":"IF(F41=\"\",\"\",IF(F41<=$G$34,\"Initial\",IF(AND(F41>$G$34,F41<=$G$35),\"Development\",IF(AND(F41>$G$35,F41<=$G$36),\"Mid Season\",\"Late Season\"))))","v":"Initial"},{"$f":"IFERROR(VLOOKUP($C41,$B$24:$C$35,2,FALSE),\"\")","v":5.3183200000000008},{"$f":"IF(F41=\"\",\"\",IF(F41<=$G$34,$J$34,IF(AND(F41>$G$34,F41<=$G$35),$J$34+((F41-$G$34)/$F$35)*($J$36-$J$34),IF(AND(F41>$G$35,F41<=$G$36),$J$36,$J$36+((F41-$G$36)/$F$37)*($J$37-$J$36)))))","v":0.7},{"$f":"IFERROR((H41*I41),0)","v":3.7228240000000001},null,null,{"$f":"IFERROR(IF(OR($D41-$O$34+1<=0,$D41>$P$37),\"\",$D41-$O$34+1),\"\")","v":""},{"$f":"IF(M41=\"\",\"\",IF(M41<=$N$34,\"Initial\",IF(AND(M41>$N$34,M41<=$N$35),\"Development\",IF(AND(M41>$N$35,M41<=$N$36),\"Mid Season\",\"Late Season\"))))","v":""},{"$f":"IFERROR(VLOOKUP($C41,$B$24:$C$35,2,FALSE),\"\")","v":5.3183200000000008},{"$f":"IF(M41=\"\",\"\",IF(M41<=$N$34,$Q$34,IF(AND(M41>$N$34,M41<=$N$35),$Q$34+((M41-$N$34)/$M$35)*($Q$36-$Q$34),IF(AND(M41>$N$35,M41<=$N$36),$Q$36,$Q$36+((M41-$N$36)/$M$37)*($Q$37-$Q$36)))))","v":""},{"$f":"IFERROR((O41*P41),0)","v":0},null,null,{"$f":"IFERROR(IF(OR($D41-$V$34+1<=0,$D41>$W$37),\"\",$D41-$V$34+1),\"\")","v":""},{"$f":"IF(T41=\"\",\"\",IF(T41<=$U$34,\"Initial\",IF(AND(T41>$U$34,T41<=$U$35),\"Development\",IF(AND(T41>$U$35,T41<=$U$36),\"Mid Season\",\"Late Season\"))))","v":""},{"$f":"IFERROR(VLOOKUP($C41,$B$24:$C$35,2,FALSE),\"\")","v":5.3183200000000008},{"$f":"IF(T41=\"\",\"\",IF(T41<=$U$34,$X$34,IF(AND(T41>$U$34,T41<=$U$35),$X$34+((T41-$U$34)/$T$35)*($X$36-$X$34),IF(AND(T41>$U$35,T41<=$U$36),$X$36,$X$36+((T41-$U$36)/$T$37)*($X$37-$X$36)))))","v":""},{"$f":"IFERROR((V41*W41),0)","v":0},null,null,{"$f":"IFERROR(IF(OR($D41-$AC$34+1<=0,$D41>$AD$37),\"\",$D41-$AC$34+1),\"\")","v":""},{"$f":"IF(AA41=\"\",\"\",IF(AA41<=$AB$34,\"Initial\",IF(AND(AA41>$AB$34,AA41<=$AB$35),\"Development\",IF(AND(AA41>$AB$35,AA41<=$AB$36),\"Mid Season\",\"Late Season\"))))","v":""},{"$f":"IFERROR(VLOOKUP($C41,$B$24:$C$35,2,FALSE),\"\")","v":5.3183200000000008},{"$f":"IF(AA41=\"\",\"\",IF(AA41<=$AB$34,$AE$34,IF(AND(AA41>$AB$34,AA41<=$AB$35),$AE$34+((AA41-$AB$34)/$AA$35)*($AE$36-$AE$34),IF(AND(AA41>$AB$35,AA41<=$AB$36),$AE$36,$AE$36+((AA41-$AB$36)/$AA$37)*($AE$37-$AE$36)))))","v":""},{"$f":"IFERROR((AC41*AD41),0)","v":0},null,null,{"$f":"IFERROR(IF(OR($D41-$AJ$34+1<=0,$D41>$AK$37),\"\",$D41-$AJ$34+1),\"\")","v":""},{"$f":"IF(AH41=\"\",\"\",IF(AH41<=$AI$34,\"Initial\",IF(AND(AH41>$AI$34,AH41<=$AI$35),\"Development\",IF(AND(AH41>$AI$35,AH41<=$AI$36),\"Mid Season\",\"Late Season\"))))","v":""},{"$f":"IFERROR(VLOOKUP($C41,$B$24:$C$35,2,FALSE),\"\")","v":5.3183200000000008},{"$f":"IF(AH41=\"\",\"\",IF(AH41<=$AI$34,$AL$34,IF(AND(AH41>$AI$34,AH41<=$AI$35),$AL$34+((AH41-$AI$34)/$AH$35)*($AL$36-$AL$34),IF(AND(AH41>$AI$35,AH41<=$AI$36),$AL$36,$AL$36+((AH41-$AI$36)/$AH$37)*($AL$37-$AL$36)))))","v":""},{"$f":"IFERROR((AJ41*AK41),0)","v":0}]
[null,"2021","May",{"$f":"IFERROR(IF(D41+1<=$L$2, D41+1,\"\"),\"\")","v":"2021-05-02"},null,2,"Initial",5.3183200000000008,0.7,{"$f":"IFERROR((H42*I42),0)","v":3.7228240000000001},null,null,"","",5.3183200000000008,"",{"$f":"IFERROR((O42*P42),0)","v":0},null,null,"","",5.3183200000000008,"",{"$f":"IFERROR((V42*W42),0)","v":0},null,null,"","",5.3183200000000008,"",{"$f":"IFERROR((AC42*AD42),0)","v":0},null,null,{"$f":"IFERROR(IF(OR($D42-$AJ$34+1<=0,$D42>$AK$37),\"\",$D42-$AJ$34+1),\"\")","v":""},{"$f":"IF(AH42=\"\",\"\",IF(AH42<=$AI$34,\"Initial\",IF(AND(AH42>$AI$34,AH42<=$AI$35),\"Development\",IF(AND(AH42>$AI$35,AH42<=$AI$36),\"Mid Season\",\"Late Season\"))))","v":""},5.3183200000000008,{"$f":"IF(AH42=\"\",\"\",IF(AH42<=$AB$34,$AE$34,IF(AND(AH42>$AB$34,AH42<=$AB$35),$AE$34+((AH42-$AB$34)/$AA$35)*($AE$36-$AE$34),IF(AND(AH42>$AB$35,AH42<=$AB$36),$AE$36,$AE$36+((AH42-$AB$36)/$AA$37)*($AE$37-$AE$36)))))","v":""},{"$f":"IFERROR((AJ42*AK42),0)","v":0}]
[null,"2021","May","2021-05-03",null,3,"Initial",5.3183200000000008,0.7,3.7228240000000001,null,null,"","",5.3183200000000008,"",0,null,null,"","",5.3183200000000008,"",0,null,null,"","",5.3183200000000008,"",0,null,null,"","",5.3183200000000008,"",0]
[null,"2021","May","2021-05-04",null,4,"Initial",5.3183200000000008,0.7,3.7228240000000001,null,null,"","",5.3183200000000008,"",0,null,null,"","",5.3183200000000008,"",0,null,null,"","",5.3183200000000008,"",0,null,null,"","",5.3183200000000008,"",0]
[null,"2021","May","2021-05-05",null,5,"Initial",5.3183200000000008,0.7,3.7228240000000001,null,null,"","",5.3183200000000008,"",0,null,null,"","",5.3183200000000008,"",0,null,null,"","",5.3183200000000008,"",0,null,null,"","",5.3183200000000008,"",0]
[null,"2021","May","2021-05-06",null,6,"Initial",5.3183200000000008,0.7,3.7228240000000001,null,null,"","",5.3183200000000008,"",0,null,null,"","",5.3183200000000008,"",0,null,null,"","",5.3183200000000008,"",0,null,null,"","",5.3183200000000008,"",0]
[null,"2021","May","2021-05-07",null,7,"Initial",5.3183200000000008,0.7,3.7228240000000001,null,null,"","",5.3183200000000008,"",0,null,null,"","",5.3183200000000008,"",0,null,null,"","",5.3183200000000008,"",0,null,null,"","",5.3183200000000008,"",0]
[null,"2021","May","2021-05-08",null,8,"Initial",5.3183200000000008,0.7,3.7228240000000001,null,null,"","",5.3183200000000008,"",0,null,null,"","",5.3183200000000008,"",0,null,null,"","",5.3183200000000008,"",0,null,null,"","",5.3183200000000008,"",0]
[null,"2021","May","2021-05-09",null,9,"Initial",5.3183200000000008,0.7,3.7228240000000001,null,null,"","",5.3183200000000008,"",0,null,null,"","",5.3183200000000008,"",0,null,null,"","",5.3183200000000008,"",0,null,null,"","",5.3183200000000008,"",0]
[null,"2021","May","2021-05-10",null,10,"Initial",5.3183200000000008,0.7,3.7228240000000001,null,null,"","",5.3183200000000008,"",0,null,null,"","",5.3183200000000008,"",0,null,null,"","",5.3183200000000008,"",0,null,null,"","",5.3183200000000008,"",0]
[null,"2021","May","2021-05-11",null,11,"Initial",5.3183200000000008,0.7,3.7228240000000001,null,null,"","",5.3183200000000008,"",0,null,null,"","",5.3183200000000008,"",0,null,null,"","",5.3183200000000008,"",0,null,null,"","",5.3183200000000008,"",0]
[null,"2021","May","2021-05-12",null,12,"Initial",5.3183200000000008,0.7,3.7228240000000001,null,null,"","",5.3183200000000008,"",0,null,null,"","",5.3183200000000008,"",0,null,null,"","",5.3183200000000008,"",0,null,null,"","",5.3183200000000008,"",0]
[null,"2021","May","2021-05-13",null,13,"Initial",5.3183200000000008,0.7,3.7228240000000001,null,null,"","",5.3183200000000008,"",0,null,null,"","",5.3183200000000008,"",0,null,null,"","",5.3183200000000008,"",0,null,null,"","",5.3183200000000008,"",0]
[null,"2021","May","2021-05-14",null,14,"Initial",5.3183200000000008,0.7,3.7228240000000001,null,null,"","",5.3183200000000008,"",0,null,null,"","",5.3183200000000008,"",0,null,null,"","",5.3183200000000008,"",0,null,null,"","",5.3183200000000008,"",0]
[null,"2021","May","2021-05-15",null,15,"Initial",5.3183200000000008,0.7,3.7228240000000001,null,null,"","",5.3183200000000008,"",0,null,null,"","",5.3183200000000008,"",0,null,null,"","",5.3183200000000008,"",0,null,null,"","",5.3183200000000008,"",0]
[null,"2021","May","2021-05-16",null,16,"Initial",5.3183200000000008,0.7,3.7228240000000001,null,null,"","",5.3183200000000008,"",0,null,null,"","",5.3183200000000008,"",0,null,null,"","",5.3183200000000008,"",0,null,null,"","",5.3183200000000008,"",0]
[null,"2021","May","2021-05-17",null,17,"Initial",5.3183200000000008,0.7,3.7228240000000001,null,null,"","",5.3183200000000008,"",0,null,null,"","",5.3183200000000008,"",0,null,null,"","",5.3183200000000008,"",0,null,null,"","",5.3183200000000008,"",0]
[null,"2021","May","2021-05-18",null,18,"Initial",5.3183200000000008,0.7,3.7228240000000001,null,null,"","",5.3183200000000008,"",0,null,null,"","",5.3183200000000008,"",0,null,null,"","",5.3183200000000008,"",0,null,null,"","",5.3183200000000008,"",0]
[null,"2021","May","2021-05-19",null,19,"Initial",5.3183200000000008,0.7,3.7228240000000001,null,null,"","",5.3183200000000008,"",0,null,null,"","",5.3183200000000008,"",0,null,null,"","",5.3183200000000008,"",0,null,null,"","",5.3183200000000008,"",0]
[null,"2021","May","2021-05-20",null,20,"Initial",5.3183200000000008,0.7,3.7228240000000001,null,null,"","",5.3183200000000008,"",0,null,null,"","",5.3183200000000008,"",0,null,null,"","",5.3183200000000008,"",0,null,null,"","",5.3183200000000008,"",0]
[null,"2021","May","2021-05-21",null,21,"Development",5.3183200000000008,0.71166666666666667,3.7848710666666672,null,null,"","",5.3183200000000008,"",0,null,null,"","",5.3183200000000008,"",0,null,null,"","",5.3183200000000008,"",0,null,null,"","",5.3183200000000008,"",0]
[null,"2021","May","2021-05-22",null,22,"Development",5.3183200000000008,0.72333333333333327,3.8469181333333338,null,null,"","",5.3183200000000008,"",0,null,null,"","",5.3183200000000008,"",0,null,null,"","",5.3183200000000008,"",0,null,null,"","",5.3183200000000008,"",0]
[null,"2021","May","2021-05-23",null,23,"Development",5.3183200000000008,0.73499999999999999,3.9089652000000004,null,null,"","",5.3183200000000008,"",0,null,null,"","",5.3183200000000008,"",0,null,null,"","",5.3183200000000008,"",0,null,null,"","",5.3183200000000008,"",0]
[null,"2021","May","2021-05-24",null,24,"Development",5.3183200000000008,0.74666666666666659,3.971012266666667,null,null,"","",5.3183200000000008,"",0,null,null,"","",5.3183200000000008,"",0,null,null,"","",5.3183200000000008,"",0,null,null,"","",5.3183200000000008,"",0]
[null,"2021","May","2021-05-25",null,25,"Development",5.3183200000000008,0.7583333333333333,4.033059333333334,null,null,"","",5.3183200000000008,"",0,null,null,"","",5.3183200000000008,"",0,null,null,"","",5.3183200000000008,"",0,null,null,"","",5.3183200000000008,"",0]
[null,"2021","May","2021-05-26",null,26,"Development",5.3183200000000008,0.77,4.0951064000000006,null,null,"","",5.3183200000000008,"",0,null,null,"","",5.3183200000000008,"",0,null,null,"","",5.3183200000000008,"",0,null,null,"","",5.3183200000000008,"",0]
[null,"2021","May","2021-05-27",null,27,"Development",5.3183200000000008,0.78166666666666662,4.1571534666666672,null,null,"","",5.3183200000000008,"",0,null,null,"","",5.3183200000000008,"",0,null,null,"","",5.3183200000000008,"",0,null,null,"","",5.3183200000000008,"",0]
[null,"2021","May","2021-05-28",null,28,"Development",5.3183200000000008,0.79333333333333333,4.2192005333333338,null,null,"","",5.3183200000000008,"",0,null,null,"","",5.3183200000000008,"",0,null,null,"","",5.3183200000000008,"",0,null,null,"","",5.3183200000000008,"",0]
[null,"2021","May","2021-05-29",null,29,"Development",5.3183200000000008,0.80499999999999994,4.2812476000000004,null,null,"","",5.3183200000000008,"",0,null,null,"","",5.3183200000000008,"",0,null,null,"","",5.3183200000000008,"",0,null,null,"","",5.3183200000000008,"",0]
[null,"2021","May","2021-05-30",null,30,"Development",5.3183200000000008,0.81666666666666665,4.343294666666667,null,null,"","",5.3183200000000008,"",0,null,null,"","",5.3183200000000008,"",0,null,null,"","",5.3183200000000008,"",0,null,null,"","",5.3183200000000008,"",0]
[null,"2021","May","2021-05-31",null,31,"Development",5.3183200000000008,0.82833333333333337,4.4053417333333345,null,null,"","",5.3183200000000008,"",0,null,null,"","",5.3183200000000008,"",0,null,null,"","",5.3183200000000008,"",0,null,null,"","",5.3183200000000008,"",0]
[null,"2021","June","2021-06-01",null,32,"Development",5.2668000000000008,0.84,4.4241120000000009,null,null,"","",5.2668000000000008,"",0,null,null,"","",5.2668000000000008,"",0,null,null,"","",5.2668000000000008,"",0,null,null,"","",5.2668000000000008,"",0]
[null,"2021","June","2021-06-02",null,33,"Development",5.2668000000000008,0.85166666666666668,4.485558000000001,null,null,"","",5.2668000000000008,"",0,null,null,"","",5.2668000000000008,"",0,null,null,"","",5.2668000000000008,"",0,null,null,"","",5.2668000000000008,"",0]
[null,"2021","June","2021-06-03",null,34,"Development",5.2668000000000008,0.86333333333333329,4.5470040000000003,null,null,"","",5.2668000000000008,"",0,null,null,"","",5.2668000000000008,"",0,null,null,"","",5.2668000000000008,"",0,null,null,"","",5.2668000000000008,"",0]
[null,"2021","June","2021-06-04",null,35,"Development",5.2668000000000008,0.875,4.6084500000000004,null,null,"","",5.2668000000000008,"",0,null,null,"","",5.2668000000000008,"",0,null,null,"","",5.2668000000000008,"",0,null,null,"","",5.2668000000000008,"",0]
[null,"2021","June","2021-06-05",null,36,"Development",5.2668000000000008,0.88666666666666671,4.6698960000000014,null,null,"","",5.2668000000000008,"",0,null,null,"","",5.2668000000000008,"",0,null,null,"","",5.2668000000000008,"",0,null,null,"","",5.2668000000000008,"",0]
[null,"2021","June","2021-06-06",null,37,"Development",5.2668000000000008,0.89833333333333332,4.7313420000000006,null,null,"","",5.2668000000000008,"",0,null,null,"","",5.2668000000000008,"",0,null,null,"","",5.2668000000000008,"",0,null,null,"","",5.2668000000000008,"",0]
[null,"2021","June","2021-06-07",null,38,"Development",5.2668000000000008,0.91,4.7927880000000007,null,null,"","",5.2668000000000008,"",0,null,null,"","",5.2668000000000008,"",0,null,null,"","",5.2668000000000008,"",0,null,null,"","",5.2668000000000008,"",0]
[null,"2021","June","2021-06-08",null,39,"Development",5.2668000000000008,0.92166666666666663,4.8542340000000008,null,null,"","",5.2668000000000008,"",0,null,null,"","",5.2668000000000008,"",0,null,null,"","",5.2668000000000008,"",0,null,null,"","",5.2668000000000008,"",0]
[null,"2021","June","2021-06-09",null,40,"Development",5.2668000000000008,0.93333333333333335,4.9156800000000009,null,null,"","",5.2668000000000008,"",0,null,null,"","",5.2668000000000008,"",0,null,null,"","",5.2668000000000008,"",0,null,null,"","",5.2668000000000008,"",0]
[null,"2021","June","2021-06-10",null,41,"Development",5.2668000000000008,0.94500000000000006,4.977126000000001,null,null,"","",5.2668000000000008,"",0,null,null,"","",5.2668000000000008,"",0,null,null,"","",5.2668000000000008,"",0,null,null,"","",5.2668000000000008,"",0]
[null,"2021","June","2021-06-11",null,42,"Development",5.2668000000000008,0.95666666666666667,5.0385720000000012,null,null,"","",5.2668000000000008,"",0,null,null,"","",5.2668000000000008,"",0,null,null,"","",5.2668000000000008,"",0,null,null,"","",5.2668000000000008,"",0]
[null,"2021","June","2021-06-12",null,43,"Development",5.2668000000000008,0.96833333333333338,5.1000180000000013,null,null,"","",5.2668000000000008,"",0,null,null,"","",5.2668000000000008,"",0,null,null,"","",5.2668000000000008,"",0,null,null,"","",5.2668000000000008,"",0]
[null,"2021","June","2021-06-13",null,44,"Development",5.2668000000000008,0.98,5.1614640000000005,null,null,"","",5.2668000000000008,"",0,null,null,"","",5.2668000000000008,"",0,null,null,"","",5.2668000000000008,"",0,null,null,"","",5.2668000000000008,"",0]
[null,"2021","June","2021-06-14",null,45,"Development",5.2668000000000008,0.9916666666666667,5.2229100000000006,null,null,"","",5.2668000000000008,"",0,null,null,"","",5.2668000000000008,"",0,null,null,"","",5.2668000000000008,"",0,null,null,"","",5.2668000000000008,"",0]
[null,"2021","June","2021-06-15",null,46,"Development",5.2668000000000008,1.0033333333333334,5.2843560000000016,null,null,"","",5.2668000000000008,"",0,null,null,"","",5.2668000000000008,"",0,null,null,"","",5.2668000000000008,"",0,null,null,"","",5.2668000000000008,"",0]
[null,"2021","June","2021-06-16",null,47,"Development",5.2668000000000008,1.0150000000000001,5.3458020000000017,null,null,"","",5.2668000000000008,"",0,null,null,"","",5.2668000000000008,"",0,null,null,"","",5.2668000000000008,"",0,null,null,"","",5.2668000000000008,"",0]
[null,"2021","June","2021-06-17",null,48,"Development",5.2668000000000008,1.0266666666666668,5.4072480000000018,null,null,"","",5.2668000000000008,"",0,null,null,"","",5.2668000000000008,"",0,null,null,"","",5.2668000000000008,"",0,null,null,"","",5.2668000000000008,"",0]
[null,"2021","June","2021-06-18",null,49,"Development",5.2668000000000008,1.0383333333333333,5.4686940000000011,null,null,"","",5.2668000000000008,"",0,null,null,"","",5.2668000000000008,"",0,null,null,"","",5.2668000000000008,"",0,null,null,"","",5.2668000000000008,"",0]
[null,"2021","June","2021-06-19",null,50,"Development",5.2668000000000008,1.05,5.5301400000000012,null,null,"","",5.2668000000000008,"",0,null,null,"","",5.2668000000000008,"",0,null,null,"","",5.2668000000000008,"",0,null,null,"","",5.2668000000000008,"",0]
[null,"2021","June","2021-06-20",null,51,"Mid Season",5.2668000000000008,1.05,5.5301400000000012,null,null,"","",5.2668000000000008,"",0,null,null,"","",5.2668000000000008,"",0,null,null,"","",5.2668000000000008,"",0,null,null,"","",5.2668000000000008,"",0]
[null,"2021","June","2021-06-21",null,52,"Mid Season",5.2668000000000008,1.05,5.5301400000000012,null,null,"","",5.2668000000000008,"",0,null,null,"","",5.2668000000000008,"",0,null,null,"","",5.2668000000000008,"",0,null,null,"","",5.2668000000000008,"",0]
[null,"2021","June","2021-06-22",null,53,"Mid Season",5.2668000000000008,1.05,5.5301400000000012,null,null,"","",5.2668000000000008,"",0,null,null,"","",5.2668000000000008,"",0,null,null,"","",5.2668000000000008,"",0,null,null,"","",5.2668000000000008,"",0]
[null,"2021","June","2021-06-23",null,54,"Mid Season",5.2668000000000008,1.05,5.5301400000000012,null,null,"","",5.2668000000000008,"",0,null,null,"","",5.2668000000000008,"",0,null,null,"","",5.2668000000000008,"",0,null,null,"","",5.2668000000000008,"",0]
[null,"2021","June","2021-06-24",null,55,"Mid Season",5.2668000000000008,1.05,5.5301400000000012,null,null,"","",5.2668000000000008,"",0,null,null,"","",5.2668000000000008,"",0,null,null,"","",5.2668000000000008,"",0,null,null,"","",5.2668000000000008,"",0]
[null,"2021","June","2021-06-25",null,56,"Mid Season",5.2668000000000008,1.05,5.5301400000000012,null,null,"","",5.2668000000000008,"",0,null,null,"","",5.2668000000000008,"",0,null,null,"","",5.2668000000000008,"",0,null,null,"","",5.2668000000000008,"",0]
[null,"2021","June","2021-06-26",null,57,"Mid Season",5.2668000000000008,1.05,5.5301400000000012,null,null,"","",5.2668000000000008,"",0,null,null,"","",5.2668000000000008,"",0,null,null,"","",5.2668000000000008,"",0,null,null,"","",5.2668000000000008,"",0]
[null,"2021","June","2021-06-27",null,58,"Mid Season",5.2668000000000008,1.05,5.5301400000000012,null,null,"","",5.2668000000000008,"",0,null,null,"","",5.2668000000000008,"",0,null,null,"","",5.2668000000000008,"",0,null,null,"","",5.2668000000000008,"",0]
[null,"2021","June","2021-06-28",null,59,"Mid Season",5.2668000000000008,1.05,5.5301400000000012,null,null,"","",5.2668000000000008,"",0,null,null,"","",5.2668000000000008,"",0,null,null,"","",5.2668000000000008,"",0,null,null,"","",5.2668000000000008,"",0]
[null,"2021","June","2021-06-29",null,60,"Mid Season",5.2668000000000008,1.05,5.5301400000000012,null,null,"","",5.2668000000000008,"",0,null,null,"","",5.2668000000000008,"",0,null,null,"","",5.2668000000000008,"",0,null,null,"","",5.2668000000000008,"",0]
[null,"2021","June","2021-06-30",null,61,"Mid Season",5.2668000000000008,1.05,5.5301400000000012,null,null,"","",5.2668000000000008,"",0,null,null,"","",5.2668000000000008,"",0,null,null,"","",5.2668000000000008,"",0,null,null,"","",5.2668000000000008,"",0]
[null,"2021","July","2021-07-01",null,62,"Mid Season",5.2023999999999999,1.05,5.4625200000000005,null,null,"","",5.2023999999999999,"",0,null,null,"","",5.2023999999999999,"",0,null,null,"","",5.2023999999999999,"",0,null,null,"","",5.2023999999999999,"",0]
[null,"2021","July","2021-07-02",null,63,"Mid Season",5.2023999999999999,1.05,5.4625200000000005,null,null,"","",5.2023999999999999,"",0,null,null,"","",5.2023999999999999,"",0,null,null,"","",5.2023999999999999,"",0,null,null,"","",5.2023999999999999,"",0]
[null,"2021","July","2021-07-03",null,64,"Mid Season",5.2023999999999999,1.05,5.4625200000000005,null,null,"","",5.2023999999999999,"",0,null,null,"","",5.2023999999999999,"",0,null,null,"","",5.2023999999999999,"",0,null,null,"","",5.2023999999999999,"",0]
[null,{"$f":"IFERROR(TEXT(DATE(YEAR($D105),MONTH($D105),1),$D$7&$D$4),\"\")","v":"2021"},{"$f":"IFERROR(TEXT(DATE(YEAR($D105),MONTH($D105),1),$D$7&$D$5),\"\")","v":"July"},"2021-07-04",null,{"$f":"IFERROR(IF(OR($D105-$H$34+1<=0,$D105>$I$37),\"\",$D105-$H$34+1),\"\")","v":65},{"$f":"IF(F105=\"\",\"\",IF(F105<=$G$34,\"Initial\",IF(AND(F105>$G$34,F105<=$G$35),\"Development\",IF(AND(F105>$G$35,F105<=$G$36),\"Mid Season\",\"Late Season\"))))","v":"Mid Season"},{"$f":"IFERROR(VLOOKUP($C105,$B$24:$C$35,2,FALSE),\"\")","v":5.2023999999999999},{"$f":"IF(F105=\"\",\"\",IF(F105<=$G$34,$J$34,IF(AND(F105>$G$34,F105<=$G$35),$J$34+((F105-$G$34)/$F$35)*($J$36-$J$34),IF(AND(F105>$G$35,F105<=$G$36),$J$36,$J$36+((F105-$G$36)/$F$37)*($J$37-$J$36)))))","v":1.05},5.4625200000000005,null,null,{"$f":"IFERROR(IF(OR($D105-$O$34+1<=0,$D105>$P$37),\"\",$D105-$O$34+1),\"\")","v":""},{"$f":"IF(M105=\"\",\"\",IF(M105<=$N$34,\"Initial\",IF(AND(M105>$N$34,M105<=$N$35),\"Development\",IF(AND(M105>$N$35,M105<=$N$36),\"Mid Season\",\"Late Season\"))))","v":""},{"$f":"IFERROR(VLOOKUP($C105,$B$24:$C$35,2,FALSE),\"\")","v":5.2023999999999999},{"$f":"IF(M105=\"\",\"\",IF(M105<=$N$34,$Q$34,IF(AND(M105>$N$34,M105<=$N$35),$Q$34+((M105-$N$34)/$M$35)*($Q$36-$Q$34),IF(AND(M105>$N$35,M105<=$N$36),$Q$36,$Q$36+((M105-$N$36)/$M$37)*($Q$37-$Q$36)))))","v":""},0,null,null,{"$f":"IFERROR(IF(OR($D105-$V$34+1<=0,$D105>$W$37),\"\",$D105-$V$34+1),\"\")","v":""},{"$f":"IF(T105=\"\",\"\",IF(T105<=$U$34,\"Initial\",IF(AND(T105>$U$34,T105<=$U$35),\"Development\",IF(AND(T105>$U$35,T105<=$U$36),\"Mid Season\",\"Late Season\"))))","v":""},{"$f":"IFERROR(VLOOKUP($C105,$B$24:$C$35,2,FALSE),\"\")","v":5.2023999999999999},{"$f":"IF(T105=\"\",\"\",IF(T105<=$U$34,$X$34,IF(AND(T105>$U$34,T105<=$U$35),$X$34+((T105-$U$34)/$T$35)*($X$36-$X$34),IF(AND(T105>$U$35,T105<=$U$36),$X$36,$X$36+((T105-$U$36)/$T$37)*($X$37-$X$36)))))","v":""},0,null,null,{"$f":"IFERROR(IF(OR($D105-$AC$34+1<=0,$D105>$AD$37),\"\",$D105-$AC$34+1),\"\")","v":""},{"$f":"IF(AA105=\"\",\"\",IF(AA105<=$AB$34,\"Initial\",IF(AND(AA105>$AB$34,AA105<=$AB$35),\"Development\",IF(AND(AA105>$AB$35,AA105<=$AB$36),\"Mid Season\",\"Late Season\"))))","v":""},{"$f":"IFERROR(VLOOKUP($C105,$B$24:$C$35,2,FALSE),\"\")","v":5.2023999999999999},{"$f":"IF(AA105=\"\",\"\",IF(AA105<=$AB$34,$AE$34,IF(AND(AA105>$AB$34,AA105<=$AB$35),$AE$34+((AA105-$AB$34)/$AA$35)*($AE$36-$AE$34),IF(AND(AA105>$AB$35,AA105<=$AB$36),$AE$36,$AE$36+((AA105-$AB$36)/$AA$37)*($AE$37-$AE$36)))))","v":""},0,null,null,"","",{"$f":"IFERROR(VLOOKUP($C105,$B$24:$C$35,2,FALSE),\"\")","v":5.2023999999999999},"",0]
[null,"2021","July",{"$f":"IFERROR(IF(D105+1<=$L$2, D105+1,\"\"),\"\")","v":"2021-07-05"},null,66,"Mid Season",5.2023999999999999,1.05,{"$f":"IFERROR((H106*I106),0)","v":5.4625200000000005},null,null,"","",5.2023999999999999,"",{"$f":"IFERROR((O106*P106),0)","v":0},null,null,"","",5.2023999999999999,"",{"$f":"IFERROR((V106*W106),0)","v":0},null,null,"","",5.2023999999999999,"",{"$f":"IFERROR((AC106*AD106),0)","v":0},null,null,{"$f":"IFERROR(IF(OR($D106-$AJ$34+1<=0,$D106>$AK$37),\"\",$D106-$AJ$34+1),\"\")","v":""},{"$f":"IF(AH106=\"\",\"\",IF(AH106<=$AI$34,\"Initial\",IF(AND(AH106>$AI$34,AH106<=$AI$35),\"Development\",IF(AND(AH106>$AI$35,AH106<=$AI$36),\"Mid Season\",\"Late Season\"))))","v":""},5.2023999999999999,{"$f":"IF(AH106=\"\",\"\",IF(AH106<=$AB$34,$AE$34,IF(AND(AH106>$AB$34,AH106<=$AB$35),$AE$34+((AH106-$AB$34)/$AA$35)*($AE$36-$AE$34),IF(AND(AH106>$AB$35,AH106<=$AB$36),$AE$36,$AE$36+((AH106-$AB$36)/$AA$37)*($AE$37-$AE$36)))))","v":""},{"$f":"IFERROR((AJ106*AK106),0)","v":0}]
[null,"2021","July","2021-07-06",null,67,"Mid Season",5.2023999999999999,1.05,5.4625200000000005,null,null,"","",5.2023999999999999,"",0,null,null,"","",5.2023999999999999,"",0,null,null,"","",5.2023999999999999,"",0,null,null,"","",5.2023999999999999,"",0]
[null,"2021","July","2021-07-07",null,68,"Mid Season",5.2023999999999999,1.05,5.4625200000000005,null,null,"","",5.2023999999999999,"",0,null,null,"","",5.2023999999999999,"",0,null,null,"","",5.2023999999999999,"",0,null,null,"","",5.2023999999999999,"",0]
[null,"2021","July","2021-07-08",null,69,"Mid Season",5.2023999999999999,1.05,5.4625200000000005,null,null,"","",5.2023999999999999,"",0,null,null,"","",5.2023999999999999,"",0,null,null,"","",5.2023999999999999,"",0,null,null,"","",5.2023999999999999,"",0]
[null,"2021","July","2021-07-09",null,70,"Mid Season",5.2023999999999999,1.05,5.4625200000000005,null,null,"","",5.2023999999999999,"",0,null,null,"","",5.2023999999999999,"",0,null,null,"","",5.2023999999999999,"",0,null,null,"","",5.2023999999999999,"",0]
[null,"2021","July","2021-07-10",null,71,"Mid Season",5.2023999999999999,1.05,5.4625200000000005,null,null,"","",5.2023999999999999,"",0,null,null,"","",5.2023999999999999,"",0,null,null,"","",5.2023999999999999,"",0,null,null,"","",5.2023999999999999,"",0]
[null,"2021","July","2021-07-11",null,72,"Mid Season",5.2023999999999999,1.05,5.4625200000000005,null,null,"","",5.2023999999999999,"",0,null,null,"","",5.2023999999999999,"",0,null,null,"","",5.2023999999999999,"",0,null,null,"","",5.2023999999999999,"",0]
[null,"2021","July","2021-07-12",null,73,"Mid Season",5.2023999999999999,1.05,5.4625200000000005,null,null,"","",5.2023999999999999,"",0,null,null,"","",5.2023999999999999,"",0,null,null,"","",5.2023999999999999,"",0,null,null,"","",5.2023999999999999,"",0]
[null,"2021","July","2021-07-13",null,74,"Mid Season",5.2023999999999999,1.05,5.4625200000000005,null,null,"","",5.2023999999999999,"",0,null,null,"","",5.2023999999999999,"",0,null,null,"","",5.2023999999999999,"",0,null,null,"","",5.2023999999999999,"",0]
[null,"2021","July","2021-07-14",null,75,"Mid Season",5.2023999999999999,1.05,5.4625200000000005,null,null,"","",5.2023999999999999,"",0,null,null,"","",5.2023999999999999,"",0,null,null,"","",5.2023999999999999,"",0,null,null,"","",5.2023999999999999,"",0]
[null,"2021","July","2021-07-15",null,76,"Mid Season",5.2023999999999999,1.05,5.4625200000000005,null,null,"","",5.2023999999999999,"",0,null,null,"","",5.2023999999999999,"",0,null,null,"","",5.2023999999999999,"",0,null,null,"","",5.2023999999999999,"",0]
[null,"2021","July","2021-07-16",null,77,"Mid Season",5.2023999999999999,1.05,5.4625200000000005,null,null,"","",5.2023999999999999,"",0,null,null,"","",5.2023999999999999,"",0,null,null,"","",5.2023999999999999,"",0,null,null,"","",5.2023999999999999,"",0]
[null,"2021","July","2021-07-17",null,78,"Mid Season",5.2023999999999999,1.05,5.4625200000000005,null,null,"","",5.2023999999999999,"",0,null,null,"","",5.2023999999999999,"",0,null,null,"","",5.2023999999999999,"",0,null,null,"","",5.2023999999999999,"",0]
[null,"2021","July","2021-07-18",null,79,"Mid Season",5.2023999999999999,1.05,5.4625200000000005,null,null,"","",5.2023999999999999,"",0,null,null,"","",5.2023999999999999,"",0,null,null,"","",5.2023999999999999,"",0,null,null,"","",5.2023999999999999,"",0]
[null,"2021","July","2021-07-19",null,80,"Mid Season",5.2023999999999999,1.05,5.4625200000000005,null,null,"","",5.2023999999999999,"",0,null,null,"","",5.2023999999999999,"",0,null,null,"","",5.2023999999999999,"",0,null,null,"","",5.2023999999999999,"",0]
[null,"2021","July","2021-07-20",null,81,"Late Season",5.2023999999999999,1.0449999999999999,5.4365079999999999,null,null,"","",5.2023999999999999,"",0,null,null,"","",5.2023999999999999,"",0,null,null,"","",5.2023999999999999,"",0,null,null,"","",5.2023999999999999,"",0]
[null,"2021","July","2021-07-21",null,82,"Late Season",5.2023999999999999,1.04,5.4104960000000002,null,null,"","",5.2023999999999999,"",0,null,null,"","",5.2023999999999999,"",0,null,null,"","",5.2023999999999999,"",0,null,null,"","",5.2023999999999999,"",0]
[null,"2021","July","2021-07-22",null,83,"Late Season",5.2023999999999999,1.0350000000000001,5.3844840000000005,null,null,"","",5.2023999999999999,"",0,null,null,"","",5.2023999999999999,"",0,null,null,"","",5.2023999999999999,"",0,null,null,"","",5.2023999999999999,"",0]
[null,"2021","July","2021-07-23",null,84,"Late Season",5.2023999999999999,1.03,5.3584719999999999,null,null,"","",5.2023999999999999,"",0,null,null,"","",5.2023999999999999,"",0,null,null,"","",5.2023999999999999,"",0,null,null,"","",5.2023999999999999,"",0]
[null,"2021","July","2021-07-24",null,85,"Late Season",5.2023999999999999,1.0249999999999999,5.3324599999999993,null,null,"","",5.2023999999999999,"",0,null,null,"","",5.2023999999999999,"",0,null,null,"","",5.2023999999999999,"",0,null,null,"","",5.2023999999999999,"",0]
[null,"2021","July","2021-07-25",null,86,"Late Season",5.2023999999999999,1.02,5.3064479999999996,null,null,"","",5.2023999999999999,"",0,null,null,"","",5.2023999999999999,"",0,null,null,"","",5.2023999999999999,"",0,null,null,"","",5.2023999999999999,"",0]
[null,"2021","July","2021-07-26",null,87,"Late Season",5.2023999999999999,1.0150000000000001,5.2804360000000008,null,null,"","",5.2023999999999999,"",0,null,null,"","",5.2023999999999999,"",0,null,null,"","",5.2023999999999999,"",0,null,null,"","",5.2023999999999999,"",0]
[null,"2021","July","2021-07-27",null,88,"Late Season",5.2023999999999999,1.01,5.2544240000000002,null,null,"","",5.2023999999999999,"",0,null,null,"","",5.2023999999999999,"",0,null,null,"","",5.2023999999999999,"",0,null,null,"","",5.2023999999999999,"",0]
[null,"2021","July","2021-07-28",null,89,"Late Season",5.2023999999999999,1.0049999999999999,5.2284119999999996,null,null,"","",5.2023999999999999,"",0,null,null,"","",5.2023999999999999,"",0,null,null,"","",5.2023999999999999,"",0,null,null,"","",5.2023999999999999,"",0]
[null,"2021","July","2021-07-29",null,90,"Late Season",5.2023999999999999,1,5.2023999999999999,null,null,"","",5.2023999999999999,"",0,null,null,"","",5.2023999999999999,"",0,null,null,"","",5.2023999999999999,"",0,null,null,"","",5.2023999999999999,"",0]
[null,"2021","July","2021-07-30",null,91,"Late Season",5.2023999999999999,0.995,5.1763880000000002,null,null,"","",5.2023999999999999,"",0,null,null,"","",5.2023999999999999,"",0,null,null,"","",5.2023999999999999,"",0,null,null,"","",5.2023999999999999,"",0]
[null,"2021","July","2021-07-31",null,92,"Late Season",5.2023999999999999,0.99,5.1503759999999996,null,null,"","",5.2023999999999999,"",0,null,null,"","",5.2023999999999999,"",0,null,null,"","",5.2023999999999999,"",0,null,null,"","",5.2023999999999999,"",0]
[null,"2021","August","2021-08-01",null,93,"Late Season",5.2023999999999999,0.98499999999999999,5.1243639999999999,null,null,"","",5.2023999999999999,"",0,null,null,"","",5.2023999999999999,"",0,null,null,"","",5.2023999999999999,"",0,null,null,"","",5.2023999999999999,"",0]
[null,"2021","August","2021-08-02",null,94,"Late Season",5.2023999999999999,0.98,5.0983520000000002,null,null,"","",5.2023999999999999,"",0,null,null,"","",5.2023999999999999,"",0,null,null,"","",5.2023999999999999,"",0,null,null,"","",5.2023999999999999,"",0]
[null,"2021","August","2021-08-03",null,95,"Late Season",5.2023999999999999,0.97499999999999998,5.0723399999999996,null,null,"","",5.2023999999999999,"",0,null,null,"","",5.2023999999999999,"",0,null,null,"","",5.2023999999999999,"",0,null,null,"","",5.2023999999999999,"",0]
[null,"2021","August","2021-08-04",null,96,"Late Season",5.2023999999999999,0.97,5.0463279999999999,null,null,"","",5.2023999999999999,"",0,null,null,"","",5.2023999999999999,"",0,null,null,"","",5.2023999999999999,"",0,null,null,"","",5.2023999999999999,"",0]
[null,"2021","August","2021-08-05",null,97,"Late Season",5.2023999999999999,0.96499999999999997,5.0203159999999993,null,null,"","",5.2023999999999999,"",0,null,null,"","",5.2023999999999999,"",0,null,null,"","",5.2023999999999999,"",0,null,null,"","",5.2023999999999999,"",0]
[null,"2021","August","2021-08-06",null,98,"Late Season",5.2023999999999999,0.96,4.9943039999999996,null,null,"","",5.2023999999999999,"",0,null,null,"","",5.2023999999999999,"",0,null,null,"","",5.2023999999999999,"",0,null,null,"","",5.2023999999999999,"",0]
[null,"2021","August","2021-08-07",null,99,"Late Season",5.2023999999999999,0.95499999999999996,4.9682919999999999,null,null,"","",5.2023999999999999,"",0,null,null,"","",5.2023999999999999,"",0,null,null,"","",5.2023999999999999,"",0,null,null,"","",5.2023999999999999,"",0]
[null,"2021","August","2021-08-08",null,100,"Late Season",5.2023999999999999,0.95,4.9422799999999993,null,null,"","",5.2023999999999999,"",0,null,null,"","",5.2023999999999999,"",0,null,null,"","",5.2023999999999999,"",0,null,null,"","",5.2023999999999999,"",0]
[null,"2021","August","2021-08-09",null,"","",5.2023999999999999,"",0,null,null,"","",5.2023999999999999,"",0,null,null,"","",5.2023999999999999,"",0,null,null,"","",5.2023999999999999,"",0,null,null,"","",5.2023999999999999,"",0]
[null,"2021","August","2021-08-10",null,"","",5.2023999999999999,"",0,null,null,"","",5.2023999999999999,"",0,null,null,"","",5.2023999999999999,"",0,null,null,"","",5.2023999999999999,"",0,null,null,"","",5.2023999999999999,"",0]
[null,"2021","August","2021-08-11",null,"","",5.2023999999999999,"",0,null,null,"","",5.2023999999999999,"",0,null,null,"","",5.2023999999999999,"",0,null,null,"","",5.2023999999999999,"",0,null,null,"","",5.2023999999999999,"",0]
[null,"2021","August","2021-08-12",null,"","",5.2023999999999999,"",0,null,null,"","",5.2023999999999999,"",0,null,null,"","",5.2023999999999999,"",0,null,null,"","",5.2023999999999999,"",0,null,null,"","",5.2023999999999999,"",0]
[null,"2021","August","2021-08-13",null,"","",5.2023999999999999,"",0,null,null,"","",5.2023999999999999,"",0,null,null,"","",5.2023999999999999,"",0,null,null,"","",5.2023999999999999,"",0,null,null,"","",5.2023999999999999,"",0]
[null,"2021","August","2021-08-14",null,"","",5.2023999999999999,"",0,null,null,"","",5.2023999999999999,"",0,null,null,"","",5.2023999999999999,"",0,null,null,"","",5.2023999999999999,"",0,null,null,"","",5.2023999999999999,"",0]
[null,"2021","August","2021-08-15",null,"","",5.2023999999999999,"",0,null,null,"","",5.2023999999999999,"",0,null,null,"","",5.2023999999999999,"",0,null,null,"","",5.2023999999999999,"",0,null,null,"","",5.2023999999999999,"",0]
[null,"2021","August","2021-08-16",null,"","",5.2023999999999999,"",0,null,null,"","",5.2023999999999999,"",0,null,null,"","",5.2023999999999999,"",0,null,null,"","",5.2023999999999999,"",0,null,null,"","",5.2023999999999999,"",0]
[null,"2021","August","2021-08-17",null,"","",5.2023999999999999,"",0,null,null,"","",5.2023999999999999,"",0,null,null,"","",5.2023999999999999,"",0,null,null,"","",5.2023999999999999,"",0,null,null,"","",5.2023999999999999,"",0]
[null,"2021","August","2021-08-18",null,"","",5.2023999999999999,"",0,null,null,"","",5.2023999999999999,"",0,null,null,"","",5.2023999999999999,"",0,null,null,"","",5.2023999999999999,"",0,null,null,"","",5.2023999999999999,"",0]
[null,"2021","August","2021-08-19",null,"","",5.2023999999999999,"",0,null,null,"","",5.2023999999999999,"",0,null,null,"","",5.2023999999999999,"",0,null,null,"","",5.2023999999999999,"",0,null,null,"","",5.2023999999999999,"",0]
[null,"2021","August","2021-08-20",null,"","",5.2023999999999999,"",0,null,null,"","",5.2023999999999999,"",0,null,null,"","",5.2023999999999999,"",0,null,null,"","",5.2023999999999999,"",0,null,null,"","",5.2023999999999999,"",0]
[null,"2021","August","2021-08-21",null,"","",5.2023999999999999,"",0,null,null,"","",5.2023999999999999,"",0,null,null,"","",5.2023999999999999,"",0,null,null,"","",5.2023999999999999,"",0,null,null,"","",5.2023999999999999,"",0]
[null,"2021","August","2021-08-22",null,"","",5.2023999999999999,"",0,null,null,"","",5.2023999999999999,"",0,null,null,"","",5.2023999999999999,"",0,null,null,"","",5.2023999999999999,"",0,null,null,"","",5.2023999999999999,"",0]
[null,"2021","August","2021-08-23",null,"","",5.2023999999999999,"",0,null,null,"","",5.2023999999999999,"",0,null,null,"","",5.2023999999999999,"",0,null,null,"","",5.2023999999999999,"",0,null,null,"","",5.2023999999999999,"",0]
[null,"2021","August","2021-08-24",null,"","",5.2023999999999999,"",0,null,null,"","",5.2023999999999999,"",0,null,null,"","",5.2023999999999999,"",0,null,null,"","",5.2023999999999999,"",0,null,null,"","",5.2023999999999999,"",0]
[null,"2021","August","2021-08-25",null,"","",5.2023999999999999,"",0,null,null,"","",5.2023999999999999,"",0,null,null,"","",5.2023999999999999,"",0,null,null,"","",5.2023999999999999,"",0,null,null,"","",5.2023999999999999,"",0]
[null,"2021","August","2021-08-26",null,"","",5.2023999999999999,"",0,null,null,"","",5.2023999999999999,"",0,null,null,"","",5.2023999999999999,"",0,null,null,"","",5.2023999999999999,"",0,null,null,"","",5.2023999999999999,"",0]
[null,"2021","August","2021-08-27",null,"","",5.2023999999999999,"",0,null,null,"","",5.2023999999999999,"",0,null,null,"","",5.2023999999999999,"",0,null,null,"","",5.2023999999999999,"",0,null,null,"","",5.2023999999999999,"",0]
[null,"2021","August","2021-08-28",null,"","",5.2023999999999999,"",0,null,null,"","",5.2023999999999999,"",0,null,null,"","",5.2023999999999999,"",0,null,null,"","",5.2023999999999999,"",0,null,null,"","",5.2023999999999999,"",0]
[null,"2021","August","2021-08-29",null,"","",5.2023999999999999,"",0,null,null,"","",5.2023999999999999,"",0,null,null,"","",5.2023999999999999,"",0,null,null,"","",5.2023999999999999,"",0,null,null,"","",5.2023999999999999,"",0]
[null,"2021","August","2021-08-30",null,"","",5.2023999999999999,"",0,null,null,"","",5.2023999999999999,"",0,null,null,"","",5.2023999999999999,"",0,null,null,"","",5.2023999999999999,"",0,null,null,"","",5.2023999999999999,"",0]
[null,"2021","August","2021-08-31",null,"","",5.2023999999999999,"",0,null,null,"","",5.2023999999999999,"",0,null,null,"","",5.2023999999999999,"",0,null,null,"","",5.2023999999999999,"",0,null,null,"","",5.2023999999999999,"",0]
[null,"2021","September","2021-09-01",null,"","",5.2796800000000008,"",0,null,null,"","",5.2796800000000008,"",0,null,null,"","",5.2796800000000008,"",0,null,null,"","",5.2796800000000008,"",0,null,null,"","",5.2796800000000008,"",0]
[null,"2021","September","2021-09-02",null,"","",5.2796800000000008,"",0,null,null,"","",5.2796800000000008,"",0,null,null,"","",5.2796800000000008,"",0,null,null,"","",5.2796800000000008,"",0,null,null,"","",5.2796800000000008,"",0]
[null,"2021","September","2021-09-03",null,"","",5.2796800000000008,"",0,null,null,"","",5.2796800000000008,"",0,null,null,"","",5.2796800000000008,"",0,null,null,"","",5.2796800000000008,"",0,null,null,"","",5.2796800000000008,"",0]
[null,"2021","September","2021-09-04",null,"","",5.2796800000000008,"",0,null,null,"","",5.2796800000000008,"",0,null,null,"","",5.2796800000000008,"",0,null,null,"","",5.2796800000000008,"",0,null,null,"","",5.2796800000000008,"",0]
[null,"2021","September","2021-09-05",null,"","",5.2796800000000008,"",0,null,null,"","",5.2796800000000008,"",0,null,null,"","",5.2796800000000008,"",0,null,null,"","",5.2796800000000008,"",0,null,null,"","",5.2796800000000008,"",0]
[null,{"$f":"IFERROR(TEXT(DATE(YEAR($D169),MONTH($D169),1),$D$7&$D$4),\"\")","v":"2021"},{"$f":"IFERROR(TEXT(DATE(YEAR($D169),MONTH($D169),1),$D$7&$D$5),\"\")","v":"September"},"2021-09-06",null,{"$f":"IFERROR(IF(OR($D169-$H$34+1<=0,$D169>$I$37),\"\",$D169-$H$34+1),\"\")","v":""},{"$f":"IF(F169=\"\",\"\",IF(F169<=$G$34,\"Initial\",IF(AND(F169>$G$34,F169<=$G$35),\"Development\",IF(AND(F169>$G$35,F169<=$G$36),\"Mid Season\",\"Late Season\"))))","v":""},{"$f":"IFERROR(VLOOKUP($C169,$B$24:$C$35,2,FALSE),\"\")","v":5.2796800000000008},{"$f":"IF(F169=\"\",\"\",IF(F169<=$G$34,$J$34,IF(AND(F169>$G$34,F169<=$G$35),$J$34+((F169-$G$34)/$F$35)*($J$36-$J$34),IF(AND(F169>$G$35,F169<=$G$36),$J$36,$J$36+((F169-$G$36)/$F$37)*($J$37-$J$36)))))","v":""},0,null,null,{"$f":"IFERROR(IF(OR($D169-$O$34+1<=0,$D169>$P$37),\"\",$D169-$O$34+1),\"\")","v":""},{"$f":"IF(M169=\"\",\"\",IF(M169<=$N$34,\"Initial\",IF(AND(M169>$N$34,M169<=$N$35),\"Development\",IF(AND(M169>$N$35,M169<=$N$36),\"Mid Season\",\"Late Season\"))))","v":""},{"$f":"IFERROR(VLOOKUP($C169,$B$24:$C$35,2,FALSE),\"\")","v":5.2796800000000008},{"$f":"IF(M169=\"\",\"\",IF(M169<=$N$34,$Q$34,IF(AND(M169>$N$34,M169<=$N$35),$Q$34+((M169-$N$34)/$M$35)*($Q$36-$Q$34),IF(AND(M169>$N$35,M169<=$N$36),$Q$36,$Q$36+((M169-$N$36)/$M$37)*($Q$37-$Q$36)))))","v":""},0,null,null,{"$f":"IFERROR(IF(OR($D169-$V$34+1<=0,$D169>$W$37),\"\",$D169-$V$34+1),\"\")","v":""},{"$f":"IF(T169=\"\",\"\",IF(T169<=$U$34,\"Initial\",IF(AND(T169>$U$34,T169<=$U$35),\"Development\",IF(AND(T169>$U$35,T169<=$U$36),\"Mid Season\",\"Late Season\"))))","v":""},{"$f":"IFERROR(VLOOKUP($C169,$B$24:$C$35,2,FALSE),\"\")","v":5.2796800000000008},{"$f":"IF(T169=\"\",\"\",IF(T169<=$U$34,$X$34,IF(AND(T169>$U$34,T169<=$U$35),$X$34+((T169-$U$34)/$T$35)*($X$36-$X$34),IF(AND(T169>$U$35,T169<=$U$36),$X$36,$X$36+((T169-$U$36)/$T$37)*($X$37-$X$36)))))","v":""},0,null,null,{"$f":"IFERROR(IF(OR($D169-$AC$34+1<=0,$D169>$AD$37),\"\",$D169-$AC$34+1),\"\")","v":""},{"$f":"IF(AA169=\"\",\"\",IF(AA169<=$AB$34,\"Initial\",IF(AND(AA169>$AB$34,AA169<=$AB$35),\"Development\",IF(AND(AA169>$AB$35,AA169<=$AB$36),\"Mid Season\",\"Late Season\"))))","v":""},{"$f":"IFERROR(VLOOKUP($C169,$B$24:$C$35,2,FALSE),\"\")","v":5.2796800000000008},{"$f":"IF(AA169=\"\",\"\",IF(AA169<=$AB$34,$AE$34,IF(AND(AA169>$AB$34,AA169<=$AB$35),$AE$34+((AA169-$AB$34)/$AA$35)*($AE$36-$AE$34),IF(AND(AA169>$AB$35,AA169<=$AB$36),$AE$36,$AE$36+((AA169-$AB$36)/$AA$37)*($AE$37-$AE$36)))))","v":""},0,null,null,"","",{"$f":"IFERROR(VLOOKUP($C169,$B$24:$C$35,2,FALSE),\"\")","v":5.2796800000000008},"",0]
[null,"2021","September",{"$f":"IFERROR(IF(D169+1<=$L$2, D169+1,\"\"),\"\")","v":"2021-09-07"},null,"","",5.2796800000000008,"",{"$f":"IFERROR((H170*I170),0)","v":0},null,null,"","",5.2796800000000008,"",{"$f":"IFERROR((O170*P170),0)","v":0},null,null,"","",5.2796800000000008,"",{"$f":"IFERROR((V170*W170),0)","v":0},null,null,"","",5.2796800000000008,"",{"$f":"IFERROR((AC170*AD170),0)","v":0},null,null,{"$f":"IFERROR(IF(OR($D170-$AJ$34+1<=0,$D170>$AK$37),\"\",$D170-$AJ$34+1),\"\")","v":""},{"$f":"IF(AH170=\"\",\"\",IF(AH170<=$AI$34,\"Initial\",IF(AND(AH170>$AI$34,AH170<=$AI$35),\"Development\",IF(AND(AH170>$AI$35,AH170<=$AI$36),\"Mid Season\",\"Late Season\"))))","v":""},5.2796800000000008,{"$f":"IF(AH170=\"\",\"\",IF(AH170<=$AB$34,$AE$34,IF(AND(AH170>$AB$34,AH170<=$AB$35),$AE$34+((AH170-$AB$34)/$AA$35)*($AE$36-$AE$34),IF(AND(AH170>$AB$35,AH170<=$AB$36),$AE$36,$AE$36+((AH170-$AB$36)/$AA$37)*($AE$37-$AE$36)))))","v":""},{"$f":"IFERROR((AJ170*AK170),0)","v":0}]
[null,"2021","September","2021-09-08",null,"","",5.2796800000000008,"",0,null,null,"","",5.2796800000000008,"",0,null,null,"","",5.2796800000000008,"",0,null,null,"","",5.2796800000000008,"",0,null,null,"","",5.2796800000000008,"",0]
[null,"2021","September","2021-09-09",null,"","",5.2796800000000008,"",0,null,null,"","",5.2796800000000008,"",0,null,null,"","",5.2796800000000008,"",0,null,null,"","",5.2796800000000008,"",0,null,null,"","",5.2796800000000008,"",0]
[null,"2021","September","2021-09-10",null,"","",5.2796800000000008,"",0,null,null,"","",5.2796800000000008,"",0,null,null,"","",5.2796800000000008,"",0,null,null,"","",5.2796800000000008,"",0,null,null,"","",5.2796800000000008,"",0]
[null,"2021","September","2021-09-11",null,"","",5.2796800000000008,"",0,null,null,"","",5.2796800000000008,"",0,null,null,"","",5.2796800000000008,"",0,null,null,"","",5.2796800000000008,"",0,null,null,"","",5.2796800000000008,"",0]
[null,"2021","September","2021-09-12",null,"","",5.2796800000000008,"",0,null,null,"","",5.2796800000000008,"",0,null,null,"","",5.2796800000000008,"",0,null,null,"","",5.2796800000000008,"",0,null,null,"","",5.2796800000000008,"",0]
[null,"2021","September","2021-09-13",null,"","",5.2796800000000008,"",0,null,null,"","",5.2796800000000008,"",0,null,null,"","",5.2796800000000008,"",0,null,null,"","",5.2796800000000008,"",0,null,null,"","",5.2796800000000008,"",0]
[null,"2021","September","2021-09-14",null,"","",5.2796800000000008,"",0,null,null,"","",5.2796800000000008,"",0,null,null,"","",5.2796800000000008,"",0,null,null,"","",5.2796800000000008,"",0,null,null,"","",5.2796800000000008,"",0]
[null,"2021","September","2021-09-15",null,"","",5.2796800000000008,"",0,null,null,"","",5.2796800000000008,"",0,null,null,"","",5.2796800000000008,"",0,null,null,"","",5.2796800000000008,"",0,null,null,"","",5.2796800000000008,"",0]
[null,"2021","September","2021-09-16",null,"","",5.2796800000000008,"",0,null,null,"","",5.2796800000000008,"",0,null,null,"","",5.2796800000000008,"",0,null,null,"","",5.2796800000000008,"",0,null,null,"","",5.2796800000000008,"",0]
[null,"2021","September","2021-09-17",null,"","",5.2796800000000008,"",0,null,null,"","",5.2796800000000008,"",0,null,null,"","",5.2796800000000008,"",0,null,null,"","",5.2796800000000008,"",0,null,null,"","",5.2796800000000008,"",0]
[null,"2021","September","2021-09-18",null,"","",5.2796800000000008,"",0,null,null,"","",5.2796800000000008,"",0,null,null,"","",5.2796800000000008,"",0,null,null,"","",5.2796800000000008,"",0,null,null,"","",5.2796800000000008,"",0]
[null,"2021","September","2021-09-19",null,"","",5.2796800000000008,"",0,null,null,"","",5.2796800000000008,"",0,null,null,"","",5.2796800000000008,"",0,null,null,"","",5.2796800000000008,"",0,null,null,"","",5.2796800000000008,"",0]
[null,"2021","September","2021-09-20",null,"","",5.2796800000000008,"",0,null,null,"","",5.2796800000000008,"",0,null,null,"","",5.2796800000000008,"",0,null,null,"","",5.2796800000000008,"",0,null,null,"","",5.2796800000000008,"",0]
[null,"2021","September","2021-09-21",null,"","",5.2796800000000008,"",0,null,null,"","",5.2796800000000008,"",0,null,null,"","",5.2796800000000008,"",0,null,null,"","",5.2796800000000008,"",0,null,null,"","",5.2796800000000008,"",0]
[null,"2021","September","2021-09-22",null,"","",5.2796800000000008,"",0,null,null,"","",5.2796800000000008,"",0,null,null,"","",5.2796800000000008,"",0,null,null,"","",5.2796800000000008,"",0,null,null,"","",5.2796800000000008,"",0]
[null,"2021","September","2021-09-23",null,"","",5.2796800000000008,"",0,null,null,"","",5.2796800000000008,"",0,null,null,"","",5.2796800000000008,"",0,null,null,"","",5.2796800000000008,"",0,null,null,"","",5.2796800000000008,"",0]
[null,"2021","September","2021-09-24",null,"","",5.2796800000000008,"",0,null,null,"","",5.2796800000000008,"",0,null,null,"","",5.2796800000000008,"",0,null,null,"","",5.2796800000000008,"",0,null,null,"","",5.2796800000000008,"",0]
[null,"2021","September","2021-09-25",null,"","",5.2796800000000008,"",0,null,null,"","",5.2796800000000008,"",0,null,null,"","",5.2796800000000008,"",0,null,null,"","",5.2796800000000008,"",0,null,null,"","",5.2796800000000008,"",0]
[null,"2021","September","2021-09-26",null,"","",5.2796800000000008,"",0,null,null,"","",5.2796800000000008,"",0,null,null,"","",5.2796800000000008,"",0,null,null,"","",5.2796800000000008,"",0,null,null,"","",5.2796800000000008,"",0]
[null,"2021","September","2021-09-27",null,"","",5.2796800000000008,"",0,null,null,"","",5.2796800000000008,"",0,null,null,"","",5.2796800000000008,"",0,null,null,"","",5.2796800000000008,"",0,null,null,"","",5.2796800000000008,"",0]
[null,"2021","September","2021-09-28",null,"","",5.2796800000000008,"",0,null,null,"","",5.2796800000000008,"",0,null,null,"","",5.2796800000000008,"",0,null,null,"","",5.2796800000000008,"",0,null,null,"","",5.2796800000000008,"",0]
[null,"2021","September","2021-09-29",null,"","",5.2796800000000008,"",0,null,null,"","",5.2796800000000008,"",0,null,null,"","",5.2796800000000008,"",0,null,null,"","",5.2796800000000008,"",0,null,null,"","",5.2796800000000008,"",0]
[null,"2021","September","2021-09-30",null,"","",5.2796800000000008,"",0,null,null,"","",5.2796800000000008,"",0,null,null,"","",5.2796800000000008,"",0,null,null,"","",5.2796800000000008,"",0,null,null,"","",5.2796800000000008,"",0]
[null,"2021","October","2021-10-01",null,"","",5.1283799999999999,"",0,null,null,"","",5.1283799999999999,"",0,null,null,"","",5.1283799999999999,"",0,null,null,"","",5.1283799999999999,"",0,null,null,"","",5.1283799999999999,"",0]
[null,"2021","October","2021-10-02",null,"","",5.1283799999999999,"",0,null,null,"","",5.1283799999999999,"",0,null,null,"","",5.1283799999999999,"",0,null,null,"","",5.1283799999999999,"",0,null,null,"","",5.1283799999999999,"",0]
[null,"2021","October","2021-10-03",null,"","",5.1283799999999999,"",0,null,null,"","",5.1283799999999999,"",0,null,null,"","",5.1283799999999999,"",0,null,null,"","",5.1283799999999999,"",0,null,null,"","",5.1283799999999999,"",0]
[null,"2021","October","2021-10-04",null,"","",5.1283799999999999,"",0,null,null,"","",5.1283799999999999,"",0,null,null,"","",5.1283799999999999,"",0,null,null,"","",5.1283799999999999,"",0,null,null,"","",5.1283799999999999,"",0]
[null,"2021","October","2021-10-05",null,"","",5.1283799999999999,"",0,null,null,"","",5.1283799999999999,"",0,null,null,"","",5.1283799999999999,"",0,null,null,"","",5.1283799999999999,"",0,null,null,"","",5.1283799999999999,"",0]
[null,"2021","October","2021-10-06",null,"","",5.1283799999999999,"",0,null,null,"","",5.1283799999999999,"",0,null,null,"","",5.1283799999999999,"",0,null,null,"","",5.1283799999999999,"",0,null,null,"","",5.1283799999999999,"",0]
[null,"2021","October","2021-10-07",null,"","",5.1283799999999999,"",0,null,null,"","",5.1283799999999999,"",0,null,null,"","",5.1283799999999999,"",0,null,null,"","",5.1283799999999999,"",0,null,null,"","",5.1283799999999999,"",0]
[null,"2021","October","2021-10-08",null,"","",5.1283799999999999,"",0,null,null,"","",5.1283799999999999,"",0,null,null,"","",5.1283799999999999,"",0,null,null,"","",5.1283799999999999,"",0,null,null,"","",5.1283799999999999,"",0]
[null,"2021","October","2021-10-09",null,"","",5.1283799999999999,"",0,null,null,"","",5.1283799999999999,"",0,null,null,"","",5.1283799999999999,"",0,null,null,"","",5.1283799999999999,"",0,null,null,"","",5.1283799999999999,"",0]
[null,"2021","October","2021-10-10",null,"","",5.1283799999999999,"",0,null,null,"","",5.1283799999999999,"",0,null,null,"","",5.1283799999999999,"",0,null,null,"","",5.1283799999999999,"",0,null,null,"","",5.1283799999999999,"",0]
[null,"2021","October","2021-10-11",null,"","",5.1283799999999999,"",0,null,null,"","",5.1283799999999999,"",0,null,null,"","",5.1283799999999999,"",0,null,null,"","",5.1283799999999999,"",0,null,null,"","",5.1283799999999999,"",0]
[null,"2021","October","2021-10-12",null,"","",5.1283799999999999,"",0,null,null,"","",5.1283799999999999,"",0,null,null,"","",5.1283799999999999,"",0,null,null,"","",5.1283799999999999,"",0,null,null,"","",5.1283799999999999,"",0]
[null,"2021","October","2021-10-13",null,"","",5.1283799999999999,"",0,null,null,"","",5.1283799999999999,"",0,null,null,"","",5.1283799999999999,"",0,null,null,"","",5.1283799999999999,"",0,null,null,"","",5.1283799999999999,"",0]
[null,"2021","October","2021-10-14",null,"","",5.1283799999999999,"",0,null,null,"","",5.1283799999999999,"",0,null,null,"","",5.1283799999999999,"",0,null,null,"","",5.1283799999999999,"",0,null,null,"","",5.1283799999999999,"",0]
[null,"2021","October","2021-10-15",null,"","",5.1283799999999999,"",0,null,null,"","",5.1283799999999999,"",0,null,null,"","",5.1283799999999999,"",0,null,null,"","",5.1283799999999999,"",0,null,null,"","",5.1283799999999999,"",0]
[null,"2021","October","2021-10-16",null,"","",5.1283799999999999,"",0,null,null,"","",5.1283799999999999,"",0,null,null,"","",5.1283799999999999,"",0,null,null,"","",5.1283799999999999,"",0,null,null,"","",5.1283799999999999,"",0]
[null,"2021","October","2021-10-17",null,"","",5.1283799999999999,"",0,null,null,"","",5.1283799999999999,"",0,null,null,"","",5.1283799999999999,"",0,null,null,"","",5.1283799999999999,"",0,null,null,"","",5.1283799999999999,"",0]
[null,"2021","October","2021-10-18",null,"","",5.1283799999999999,"",0,null,null,"","",5.1283799999999999,"",0,null,null,"","",5.1283799999999999,"",0,null,null,"","",5.1283799999999999,"",0,null,null,"","",5.1283799999999999,"",0]
[null,"2021","October","2021-10-19",null,"","",5.1283799999999999,"",0,null,null,"","",5.1283799999999999,"",0,null,null,"","",5.1283799999999999,"",0,null,null,"","",5.1283799999999999,"",0,null,null,"","",5.1283799999999999,"",0]
[null,"2021","October","2021-10-20",null,"","",5.1283799999999999,"",0,null,null,"","",5.1283799999999999,"",0,null,null,"","",5.1283799999999999,"",0,null,null,"","",5.1283799999999999,"",0,null,null,"","",5.1283799999999999,"",0]
[null,"2021","October","2021-10-21",null,"","",5.1283799999999999,"",0,null,null,"","",5.1283799999999999,"",0,null,null,"","",5.1283799999999999,"",0,null,null,"","",5.1283799999999999,"",0,null,null,"","",5.1283799999999999,"",0]
[null,"2021","October","2021-10-22",null,"","",5.1283799999999999,"",0,null,null,"","",5.1283799999999999,"",0,null,null,"","",5.1283799999999999,"",0,null,null,"","",5.1283799999999999,"",0,null,null,"","",5.1283799999999999,"",0]
[null,"2021","October","2021-10-23",null,"","",5.1283799999999999,"",0,null,null,"","",5.1283799999999999,"",0,null,null,"","",5.1283799999999999,"",0,null,null,"","",5.1283799999999999,"",0,null,null,"","",5.1283799999999999,"",0]
[null,"2021","October","2021-10-24",null,"","",5.1283799999999999,"",0,null,null,"","",5.1283799999999999,"",0,null,null,"","",5.1283799999999999,"",0,null,null,"","",5.1283799999999999,"",0,null,null,"","",5.1283799999999999,"",0]
[null,"2021","October","2021-10-25",null,"","",5.1283799999999999,"",0,null,null,"","",5.1283799999999999,"",0,null,null,"","",5.1283799999999999,"",0,null,null,"","",5.1283799999999999,"",0,null,null,"","",5.1283799999999999,"",0]
[null,"2021","October","2021-10-26",null,"","",5.1283799999999999,"",0,null,null,"","",5.1283799999999999,"",0,null,null,"","",5.1283799999999999,"",0,null,null,"","",5.1283799999999999,"",0,null,null,"","",5.1283799999999999,"",0]
[null,"2021","October","2021-10-27",null,"","",5.1283799999999999,"",0,null,null,"","",5.1283799999999999,"",0,null,null,"","",5.1283799999999999,"",0,null,null,"","",5.1283799999999999,"",0,null,null,"","",5.1283799999999999,"",0]
[null,"2021","October","2021-10-28",null,"","",5.1283799999999999,"",0,null,null,"","",5.1283799999999999,"",0,null,null,"","",5.1283799999999999,"",0,null,null,"","",5.1283799999999999,"",0,null,null,"","",5.1283799999999999,"",0]
[null,"2021","October","2021-10-29",null,"","",5.1283799999999999,"",0,null,null,"","",5.1283799999999999,"",0,null,null,"","",5.1283799999999999,"",0,null,null,"","",5.1283799999999999,"",0,null,null,"","",5.1283799999999999,"",0]
[null,"2021","October","2021-10-30",null,"","",5.1283799999999999,"",0,null,null,"","",5.1283799999999999,"",0,null,null,"","",5.1283799999999999,"",0,null,null,"","",5.1283799999999999,"",0,null,null,"","",5.1283799999999999,"",0]
[null,"2021","October","2021-10-31",null,"","",5.1283799999999999,"",0,null,null,"","",5.1283799999999999,"",0,null,null,"","",5.1283799999999999,"",0,null,null,"","",5.1283799999999999,"",0,null,null,"","",5.1283799999999999,"",0]
[null,"2021","November","2021-11-01",null,"","",5.091120000000001,"",0,null,null,"","",5.091120000000001,"",0,null,null,"","",5.091120000000001,"",0,null,null,"","",5.091120000000001,"",0,null,null,"","",5.091120000000001,"",0]
[null,"2021","November","2021-11-02",null,"","",5.091120000000001,"",0,null,null,"","",5.091120000000001,"",0,null,null,"","",5.091120000000001,"",0,null,null,"","",5.091120000000001,"",0,null,null,"","",5.091120000000001,"",0]
[null,"2021","November","2021-11-03",null,"","",5.091120000000001,"",0,null,null,"","",5.091120000000001,"",0,null,null,"","",5.091120000000001,"",0,null,null,"","",5.091120000000001,"",0,null,null,"","",5.091120000000001,"",0]
[null,"2021","November","2021-11-04",null,"","",5.091120000000001,"",0,null,null,"","",5.091120000000001,"",0,null,null,"","",5.091120000000001,"",0,null,null,"","",5.091120000000001,"",0,null,null,"","",5.091120000000001,"",0]
[null,"2021","November","2021-11-05",null,"","",5.091120000000001,"",0,null,null,"","",5.091120000000001,"",0,null,null,"","",5.091120000000001,"",0,null,null,"","",5.091120000000001,"",0,null,null,"","",5.091120000000001,"",0]
[null,"2021","November","2021-11-06",null,"","",5.091120000000001,"",0,null,null,"","",5.091120000000001,"",0,null,null,"","",5.091120000000001,"",0,null,null,"","",5.091120000000001,"",0,null,null,"","",5.091120000000001,"",0]
[null,"2021","November","2021-11-07",null,"","",5.091120000000001,"",0,null,null,"","",5.091120000000001,"",0,null,null,"","",5.091120000000001,"",0,null,null,"","",5.091120000000001,"",0,null,null,"","",5.091120000000001,"",0]
[null,"2021","November","2021-11-08",null,"","",5.091120000000001,"",0,null,null,"","",5.091120000000001,"",0,null,null,"","",5.091120000000001,"",0,null,null,"","",5.091120000000001,"",0,null,null,"","",5.091120000000001,"",0]
[null,{"$f":"IFERROR(TEXT(DATE(YEAR($D233),MONTH($D233),1),$D$7&$D$4),\"\")","v":"2021"},{"$f":"IFERROR(TEXT(DATE(YEAR($D233),MONTH($D233),1),$D$7&$D$5),\"\")","v":"November"},"2021-11-09",null,{"$f":"IFERROR(IF(OR($D233-$H$34+1<=0,$D233>$I$37),\"\",$D233-$H$34+1),\"\")","v":""},{"$f":"IF(F233=\"\",\"\",IF(F233<=$G$34,\"Initial\",IF(AND(F233>$G$34,F233<=$G$35),\"Development\",IF(AND(F233>$G$35,F233<=$G$36),\"Mid Season\",\"Late Season\"))))","v":""},{"$f":"IFERROR(VLOOKUP($C233,$B$24:$C$35,2,FALSE),\"\")","v":5.091120000000001},{"$f":"IF(F233=\"\",\"\",IF(F233<=$G$34,$J$34,IF(AND(F233>$G$34,F233<=$G$35),$J$34+((F233-$G$34)/$F$35)*($J$36-$J$34),IF(AND(F233>$G$35,F233<=$G$36),$J$36,$J$36+((F233-$G$36)/$F$37)*($J$37-$J$36)))))","v":""},0,null,null,{"$f":"IFERROR(IF(OR($D233-$O$34+1<=0,$D233>$P$37),\"\",$D233-$O$34+1),\"\")","v":""},{"$f":"IF(M233=\"\",\"\",IF(M233<=$N$34,\"Initial\",IF(AND(M233>$N$34,M233<=$N$35),\"Development\",IF(AND(M233>$N$35,M233<=$N$36),\"Mid Season\",\"Late Season\"))))","v":""},{"$f":"IFERROR(VLOOKUP($C233,$B$24:$C$35,2,FALSE),\"\")","v":5.091120000000001},{"$f":"IF(M233=\"\",\"\",IF(M233<=$N$34,$Q$34,IF(AND(M233>$N$34,M233<=$N$35),$Q$34+((M233-$N$34)/$M$35)*($Q$36-$Q$34),IF(AND(M233>$N$35,M233<=$N$36),$Q$36,$Q$36+((M233-$N$36)/$M$37)*($Q$37-$Q$36)))))","v":""},0,null,null,{"$f":"IFERROR(IF(OR($D233-$V$34+1<=0,$D233>$W$37),\"\",$D233-$V$34+1),\"\")","v":""},{"$f":"IF(T233=\"\",\"\",IF(T233<=$U$34,\"Initial\",IF(AND(T233>$U$34,T233<=$U$35),\"Development\",IF(AND(T233>$U$35,T233<=$U$36),\"Mid Season\",\"Late Season\"))))","v":""},{"$f":"IFERROR(VLOOKUP($C233,$B$24:$C$35,2,FALSE),\"\")","v":5.091120000000001},{"$f":"IF(T233=\"\",\"\",IF(T233<=$U$34,$X$34,IF(AND(T233>$U$34,T233<=$U$35),$X$34+((T233-$U$34)/$T$35)*($X$36-$X$34),IF(AND(T233>$U$35,T233<=$U$36),$X$36,$X$36+((T233-$U$36)/$T$37)*($X$37-$X$36)))))","v":""},0,null,null,{"$f":"IFERROR(IF(OR($D233-$AC$34+1<=0,$D233>$AD$37),\"\",$D233-$AC$34+1),\"\")","v":""},{"$f":"IF(AA233=\"\",\"\",IF(AA233<=$AB$34,\"Initial\",IF(AND(AA233>$AB$34,AA233<=$AB$35),\"Development\",IF(AND(AA233>$AB$35,AA233<=$AB$36),\"Mid Season\",\"Late Season\"))))","v":""},{"$f":"IFERROR(VLOOKUP($C233,$B$24:$C$35,2,FALSE),\"\")","v":5.091120000000001},{"$f":"IF(AA233=\"\",\"\",IF(AA233<=$AB$34,$AE$34,IF(AND(AA233>$AB$34,AA233<=$AB$35),$AE$34+((AA233-$AB$34)/$AA$35)*($AE$36-$AE$34),IF(AND(AA233>$AB$35,AA233<=$AB$36),$AE$36,$AE$36+((AA233-$AB$36)/$AA$37)*($AE$37-$AE$36)))))","v":""},0,null,null,"","",{"$f":"IFERROR(VLOOKUP($C233,$B$24:$C$35,2,FALSE),\"\")","v":5.091120000000001},"",0]
[null,"2021","November",{"$f":"IFERROR(IF(D233+1<=$L$2, D233+1,\"\"),\"\")","v":"2021-11-10"},null,"","",5.091120000000001,"",{"$f":"IFERROR((H234*I234),0)","v":0},null,null,"","",5.091120000000001,"",{"$f":"IFERROR((O234*P234),0)","v":0},null,null,"","",5.091120000000001,"",{"$f":"IFERROR((V234*W234),0)","v":0},null,null,"","",5.091120000000001,"",{"$f":"IFERROR((AC234*AD234),0)","v":0},null,null,{"$f":"IFERROR(IF(OR($D234-$AJ$34+1<=0,$D234>$AK$37),\"\",$D234-$AJ$34+1),\"\")","v":""},{"$f":"IF(AH234=\"\",\"\",IF(AH234<=$AI$34,\"Initial\",IF(AND(AH234>$AI$34,AH234<=$AI$35),\"Development\",IF(AND(AH234>$AI$35,AH234<=$AI$36),\"Mid Season\",\"Late Season\"))))","v":""},5.091120000000001,{"$f":"IF(AH234=\"\",\"\",IF(AH234<=$AB$34,$AE$34,IF(AND(AH234>$AB$34,AH234<=$AB$35),$AE$34+((AH234-$AB$34)/$AA$35)*($AE$36-$AE$34),IF(AND(AH234>$AB$35,AH234<=$AB$36),$AE$36,$AE$36+((AH234-$AB$36)/$AA$37)*($AE$37-$AE$36)))))","v":""},{"$f":"IFERROR((AJ234*AK234),0)","v":0}]
[null,"2021","November","2021-11-11",null,"","",5.091120000000001,"",0,null,null,"","",5.091120000000001,"",0,null,null,"","",5.091120000000001,"",0,null,null,"","",5.091120000000001,"",0,null,null,"","",5.091120000000001,"",0]
[null,"2021","November","2021-11-12",null,"","",5.091120000000001,"",0,null,null,"","",5.091120000000001,"",0,null,null,"","",5.091120000000001,"",0,null,null,"","",5.091120000000001,"",0,null,null,"","",5.091120000000001,"",0]
[null,"2021","November","2021-11-13",null,"","",5.091120000000001,"",0,null,null,"","",5.091120000000001,"",0,null,null,"","",5.091120000000001,"",0,null,null,"","",5.091120000000001,"",0,null,null,"","",5.091120000000001,"",0]
[null,"2021","November","2021-11-14",null,"","",5.091120000000001,"",0,null,null,"","",5.091120000000001,"",0,null,null,"","",5.091120000000001,"",0,null,null,"","",5.091120000000001,"",0,null,null,"","",5.091120000000001,"",0]
[null,"2021","November","2021-11-15",null,"","",5.091120000000001,"",0,null,null,"","",5.091120000000001,"",0,null,null,"","",5.091120000000001,"",0,null,null,"","",5.091120000000001,"",0,null,null,"","",5.091120000000001,"",0]
[null,"2021","November","2021-11-16",null,"","",5.091120000000001,"",0,null,null,"","",5.091120000000001,"",0,null,null,"","",5.091120000000001,"",0,null,null,"","",5.091120000000001,"",0,null,null,"","",5.091120000000001,"",0]
[null,"2021","November","2021-11-17",null,"","",5.091120000000001,"",0,null,null,"","",5.091120000000001,"",0,null,null,"","",5.091120000000001,"",0,null,null,"","",5.091120000000001,"",0,null,null,"","",5.091120000000001,"",0]
[null,"2021","November","2021-11-18",null,"","",5.091120000000001,"",0,null,null,"","",5.091120000000001,"",0,null,null,"","",5.091120000000001,"",0,null,null,"","",5.091120000000001,"",0,null,null,"","",5.091120000000001,"",0]
[null,"2021","November","2021-11-19",null,"","",5.091120000000001,"",0,null,null,"","",5.091120000000001,"",0,null,null,"","",5.091120000000001,"",0,null,null,"","",5.091120000000001,"",0,null,null,"","",5.091120000000001,"",0]
[null,"2021","November","2021-11-20",null,"","",5.091120000000001,"",0,null,null,"","",5.091120000000001,"",0,null,null,"","",5.091120000000001,"",0,null,null,"","",5.091120000000001,"",0,null,null,"","",5.091120000000001,"",0]
[null,"2021","November","2021-11-21",null,"","",5.091120000000001,"",0,null,null,"","",5.091120000000001,"",0,null,null,"","",5.091120000000001,"",0,null,null,"","",5.091120000000001,"",0,null,null,"","",5.091120000000001,"",0]
[null,"2021","November","2021-11-22",null,"","",5.091120000000001,"",0,null,null,"","",5.091120000000001,"",0,null,null,"","",5.091120000000001,"",0,null,null,"","",5.091120000000001,"",0,null,null,"","",5.091120000000001,"",0]
[null,"2021","November","2021-11-23",null,"","",5.091120000000001,"",0,null,null,"","",5.091120000000001,"",0,null,null,"","",5.091120000000001,"",0,null,null,"","",5.091120000000001,"",0,null,null,"","",5.091120000000001,"",0]
[null,"2021","November","2021-11-24",null,"","",5.091120000000001,"",0,null,null,"","",5.091120000000001,"",0,null,null,"","",5.091120000000001,"",0,null,null,"","",5.091120000000001,"",0,null,null,"","",5.091120000000001,"",0]
[null,"2021","November","2021-11-25",null,"","",5.091120000000001,"",0,null,null,"","",5.091120000000001,"",0,null,null,"","",5.091120000000001,"",0,null,null,"","",5.091120000000001,"",0,null,null,"","",5.091120000000001,"",0]
[null,"2021","November","2021-11-26",null,"","",5.091120000000001,"",0,null,null,"","",5.091120000000001,"",0,null,null,"","",5.091120000000001,"",0,null,null,"","",5.091120000000001,"",0,null,null,"","",5.091120000000001,"",0]
[null,"2021","November","2021-11-27",null,"","",5.091120000000001,"",0,null,null,"","",5.091120000000001,"",0,null,null,"","",5.091120000000001,"",0,null,null,"","",5.091120000000001,"",0,null,null,"","",5.091120000000001,"",0]
[null,"2021","November","2021-11-28",null,"","",5.091120000000001,"",0,null,null,"","",5.091120000000001,"",0,null,null,"","",5.091120000000001,"",0,null,null,"","",5.091120000000001,"",0,null,null,"","",5.091120000000001,"",0]
[null,"2021","November","2021-11-29",null,"","",5.091120000000001,"",0,null,null,"","",5.091120000000001,"",0,null,null,"","",5.091120000000001,"",0,null,null,"","",5.091120000000001,"",0,null,null,"","",5.091120000000001,"",0]
[null,"2021","November","2021-11-30",null,"","",5.091120000000001,"",0,null,null,"","",5.091120000000001,"",0,null,null,"","",5.091120000000001,"",0,null,null,"","",5.091120000000001,"",0,null,null,"","",5.091120000000001,"",0]
[null,"2021","December","2021-12-01",null,"","",5.1408000000000005,"",0,null,null,"","",5.1408000000000005,"",0,null,null,"","",5.1408000000000005,"",0,null,null,"","",5.1408000000000005,"",0,null,null,"","",5.1408000000000005,"",0]
[null,"2021","December","2021-12-02",null,"","",5.1408000000000005,"",0,null,null,"","",5.1408000000000005,"",0,null,null,"","",5.1408000000000005,"",0,null,null,"","",5.1408000000000005,"",0,null,null,"","",5.1408000000000005,"",0]
[null,"2021","December","2021-12-03",null,"","",5.1408000000000005,"",0,null,null,"","",5.1408000000000005,"",0,null,null,"","",5.1408000000000005,"",0,null,null,"","",5.1408000000000005,"",0,null,null,"","",5.1408000000000005,"",0]
[null,"2021","December","2021-12-04",null,"","",5.1408000000000005,"",0,null,null,"","",5.1408000000000005,"",0,null,null,"","",5.1408000000000005,"",0,null,null,"","",5.1408000000000005,"",0,null,null,"","",5.1408000000000005,"",0]
[null,"2021","December","2021-12-05",null,"","",5.1408000000000005,"",0,null,null,"","",5.1408000000000005,"",0,null,null,"","",5.1408000000000005,"",0,null,null,"","",5.1408000000000005,"",0,null,null,"","",5.1408000000000005,"",0]
[null,"2021","December","2021-12-06",null,"","",5.1408000000000005,"",0,null,null,"","",5.1408000000000005,"",0,null,null,"","",5.1408000000000005,"",0,null,null,"","",5.1408000000000005,"",0,null,null,"","",5.1408000000000005,"",0]
[null,"2021","December","2021-12-07",null,"","",5.1408000000000005,"",0,null,null,"","",5.1408000000000005,"",0,null,null,"","",5.1408000000000005,"",0,null,null,"","",5.1408000000000005,"",0,null,null,"","",5.1408000000000005,"",0]
[null,"2021","December","2021-12-08",null,"","",5.1408000000000005,"",0,null,null,"","",5.1408000000000005,"",0,null,null,"","",5.1408000000000005,"",0,null,null,"","",5.1408000000000005,"",0,null,null,"","",5.1408000000000005,"",0]
[null,"2021","December","2021-12-09",null,"","",5.1408000000000005,"",0,null,null,"","",5.1408000000000005,"",0,null,null,"","",5.1408000000000005,"",0,null,null,"","",5.1408000000000005,"",0,null,null,"","",5.1408000000000005,"",0]
[null,"2021","December","2021-12-10",null,"","",5.1408000000000005,"",0,null,null,"","",5.1408000000000005,"",0,null,null,"","",5.1408000000000005,"",0,null,null,"","",5.1408000000000005,"",0,null,null,"","",5.1408000000000005,"",0]
[null,"2021","December","2021-12-11",null,"","",5.1408000000000005,"",0,null,null,"","",5.1408000000000005,"",0,null,null,"","",5.1408000000000005,"",0,null,null,"","",5.1408000000000005,"",0,null,null,"","",5.1408000000000005,"",0]
[null,"2021","December","2021-12-12",null,"","",5.1408000000000005,"",0,null,null,"","",5.1408000000000005,"",0,null,null,"","",5.1408000000000005,"",0,null,null,"","",5.1408000000000005,"",0,null,null,"","",5.1408000000000005,"",0]
[null,"2021","December","2021-12-13",null,"","",5.1408000000000005,"",0,null,null,"","",5.1408000000000005,"",0,null,null,"","",5.1408000000000005,"",0,null,null,"","",5.1408000000000005,"",0,null,null,"","",5.1408000000000005,"",0]
[null,"2021","December","2021-12-14",null,"","",5.1408000000000005,"",0,null,null,"","",5.1408000000000005,"",0,null,null,"","",5.1408000000000005,"",0,null,null,"","",5.1408000000000005,"",0,null,null,"","",5.1408000000000005,"",0]
[null,"2021","December","2021-12-15",null,"","",5.1408000000000005,"",0,null,null,"","",5.1408000000000005,"",0,null,null,"","",5.1408000000000005,"",0,null,null,"","",5.1408000000000005,"",0,null,null,"","",5.1408000000000005,"",0]
[null,"2021","December","2021-12-16",null,"","",5.1408000000000005,"",0,null,null,"","",5.1408000000000005,"",0,null,null,"","",5.1408000000000005,"",0,null,null,"","",5.1408000000000005,"",0,null,null,"","",5.1408000000000005,"",0]
[null,"2021","December","2021-12-17",null,"","",5.1408000000000005,"",0,null,null,"","",5.1408000000000005,"",0,null,null,"","",5.1408000000000005,"",0,null,null,"","",5.1408000000000005,"",0,null,null,"","",5.1408000000000005,"",0]
[null,"2021","December","2021-12-18",null,"","",5.1408000000000005,"",0,null,null,"","",5.1408000000000005,"",0,null,null,"","",5.1408000000000005,"",0,null,null,"","",5.1408000000000005,"",0,null,null,"","",5.1408000000000005,"",0]
[null,"2021","December","2021-12-19",null,"","",5.1408000000000005,"",0,null,null,"","",5.1408000000000005,"",0,null,null,"","",5.1408000000000005,"",0,null,null,"","",5.1408000000000005,"",0,null,null,"","",5.1408000000000005,"",0]
[null,"2021","December","2021-12-20",null,"","",5.1408000000000005,"",0,null,null,"","",5.1408000000000005,"",0,null,null,"","",5.1408000000000005,"",0,null,null,"","",5.1408000000000005,"",0,null,null,"","",5.1408000000000005,"",0]
[null,"2021","December","2021-12-21",null,"","",5.1408000000000005,"",0,null,null,"","",5.1408000000000005,"",0,null,null,"","",5.1408000000000005,"",0,null,null,"","",5.1408000000000005,"",0,null,null,"","",5.1408000000000005,"",0]
[null,"2021","December","2021-12-22",null,"","",5.1408000000000005,"",0,null,null,"","",5.1408000000000005,"",0,null,null,"","",5.1408000000000005,"",0,null,null,"","",5.1408000000000005,"",0,null,null,"","",5.1408000000000005,"",0]
[null,"2021","December","2021-12-23",null,"","",5.1408000000000005,"",0,null,null,"","",5.1408000000000005,"",0,null,null,"","",5.1408000000000005,"",0,null,null,"","",5.1408000000000005,"",0,null,null,"","",5.1408000000000005,"",0]
[null,"2021","December","2021-12-24",null,"","",5.1408000000000005,"",0,null,null,"","",5.1408000000000005,"",0,null,null,"","",5.1408000000000005,"",0,null,null,"","",5.1408000000000005,"",0,null,null,"","",5.1408000000000005,"",0]
[null,"2021","December","2021-12-25",null,"","",5.1408000000000005,"",0,null,null,"","",5.1408000000000005,"",0,null,null,"","",5.1408000000000005,"",0,null,null,"","",5.1408000000000005,"",0,null,null,"","",5.1408000000000005,"",0]
[null,"2021","December","2021-12-26",null,"","",5.1408000000000005,"",0,null,null,"","",5.1408000000000005,"",0,null,null,"","",5.1408000000000005,"",0,null,null,"","",5.1408000000000005,"",0,null,null,"","",5.1408000000000005,"",0]
[null,"2021","December","2021-12-27",null,"","",5.1408000000000005,"",0,null,null,"","",5.1408000000000005,"",0,null,null,"","",5.1408000000000005,"",0,null,null,"","",5.1408000000000005,"",0,null,null,"","",5.1408000000000005,"",0]
[null,"2021","December","2021-12-28",null,"","",5.1408000000000005,"",0,null,null,"","",5.1408000000000005,"",0,null,null,"","",5.1408000000000005,"",0,null,null,"","",5.1408000000000005,"",0,null,null,"","",5.1408000000000005,"",0]
[null,"2021","December","2021-12-29",null,"","",5.1408000000000005,"",0,null,null,"","",5.1408000000000005,"",0,null,null,"","",5.1408000000000005,"",0,null,null,"","",5.1408000000000005,"",0,null,null,"","",5.1408000000000005,"",0]
[null,"2021","December","2021-12-30",null,"","",5.1408000000000005,"",0,null,null,"","",5.1408000000000005,"",0,null,null,"","",5.1408000000000005,"",0,null,null,"","",5.1408000000000005,"",0,null,null,"","",5.1408000000000005,"",0]
[null,"2021","December","2021-12-31",null,"","",5.1408000000000005,"",0,null,null,"","",5.1408000000000005,"",0,null,null,"","",5.1408000000000005,"",0,null,null,"","",5.1408000000000005,"",0,null,null,"","",5.1408000000000005,"",0]
[null,"2022","January","2022-01-01",null,"","",5.3271000000000006,"",0,null,null,"","",5.3271000000000006,"",0,null,null,"","",5.3271000000000006,"",0,null,null,"","",5.3271000000000006,"",0,null,null,"","",5.3271000000000006,"",0]
[null,"2022","January","2022-01-02",null,"","",5.3271000000000006,"",0,null,null,"","",5.3271000000000006,"",0,null,null,"","",5.3271000000000006,"",0,null,null,"","",5.3271000000000006,"",0,null,null,"","",5.3271000000000006,"",0]
[null,"2022","January","2022-01-03",null,"","",5.3271000000000006,"",0,null,null,"","",5.3271000000000006,"",0,null,null,"","",5.3271000000000006,"",0,null,null,"","",5.3271000000000006,"",0,null,null,"","",5.3271000000000006,"",0]
[null,"2022","January","2022-01-04",null,"","",5.3271000000000006,"",0,null,null,"","",5.3271000000000006,"",0,null,null,"","",5.3271000000000006,"",0,null,null,"","",5.3271000000000006,"",0,null,null,"","",5.3271000000000006,"",0]
[null,"2022","January","2022-01-05",null,"","",5.3271000000000006,"",0,null,null,"","",5.3271000000000006,"",0,null,null,"","",5.3271000000000006,"",0,null,null,"","",5.3271000000000006,"",0,null,null,"","",5.3271000000000006,"",0]
[null,"2022","January","2022-01-06",null,"","",5.3271000000000006,"",0,null,null,"","",5.3271000000000006,"",0,null,null,"","",5.3271000000000006,"",0,null,null,"","",5.3271000000000006,"",0,null,null,"","",5.3271000000000006,"",0]
[null,"2022","January","2022-01-07",null,"","",5.3271000000000006,"",0,null,null,"","",5.3271000000000006,"",0,null,null,"","",5.3271000000000006,"",0,null,null,"","",5.3271000000000006,"",0,null,null,"","",5.3271000000000006,"",0]
[null,"2022","January","2022-01-08",null,"","",5.3271000000000006,"",0,null,null,"","",5.3271000000000006,"",0,null,null,"","",5.3271000000000006,"",0,null,null,"","",5.3271000000000006,"",0,null,null,"","",5.3271000000000006,"",0]
[null,"2022","January","2022-01-09",null,"","",5.3271000000000006,"",0,null,null,"","",5.3271000000000006,"",0,null,null,"","",5.3271000000000006,"",0,null,null,"","",5.3271000000000006,"",0,null,null,"","",5.3271000000000006,"",0]
[null,"2022","January","2022-01-10",null,"","",5.3271000000000006,"",0,null,null,"","",5.3271000000000006,"",0,null,null,"","",5.3271000000000006,"",0,null,null,"","",5.3271000000000006,"",0,null,null,"","",5.3271000000000006,"",0]
[null,"2022","January","2022-01-11",null,"","",5.3271000000000006,"",0,null,null,"","",5.3271000000000006,"",0,null,null,"","",5.3271000000000006,"",0,null,null,"","",5.3271000000000006,"",0,null,null,"","",5.3271000000000006,"",0]
[null,{"$f":"IFERROR(TEXT(DATE(YEAR($D297),MONTH($D297),1),$D$7&$D$4),\"\")","v":"2022"},{"$f":"IFERROR(TEXT(DATE(YEAR($D297),MONTH($D297),1),$D$7&$D$5),\"\")","v":"January"},"2022-01-12",null,{"$f":"IFERROR(IF(OR($D297-$H$34+1<=0,$D297>$I$37),\"\",$D297-$H$34+1),\"\")","v":""},{"$f":"IF(F297=\"\",\"\",IF(F297<=$G$34,\"Initial\",IF(AND(F297>$G$34,F297<=$G$35),\"Development\",IF(AND(F297>$G$35,F297<=$G$36),\"Mid Season\",\"Late Season\"))))","v":""},{"$f":"IFERROR(VLOOKUP($C297,$B$24:$C$35,2,FALSE),\"\")","v":5.3271000000000006},{"$f":"IF(F297=\"\",\"\",IF(F297<=$G$34,$J$34,IF(AND(F297>$G$34,F297<=$G$35),$J$34+((F297-$G$34)/$F$35)*($J$36-$J$34),IF(AND(F297>$G$35,F297<=$G$36),$J$36,$J$36+((F297-$G$36)/$F$37)*($J$37-$J$36)))))","v":""},0,null,null,{"$f":"IFERROR(IF(OR($D297-$O$34+1<=0,$D297>$P$37),\"\",$D297-$O$34+1),\"\")","v":""},{"$f":"IF(M297=\"\",\"\",IF(M297<=$N$34,\"Initial\",IF(AND(M297>$N$34,M297<=$N$35),\"Development\",IF(AND(M297>$N$35,M297<=$N$36),\"Mid Season\",\"Late Season\"))))","v":""},{"$f":"IFERROR(VLOOKUP($C297,$B$24:$C$35,2,FALSE),\"\")","v":5.3271000000000006},{"$f":"IF(M297=\"\",\"\",IF(M297<=$N$34,$Q$34,IF(AND(M297>$N$34,M297<=$N$35),$Q$34+((M297-$N$34)/$M$35)*($Q$36-$Q$34),IF(AND(M297>$N$35,M297<=$N$36),$Q$36,$Q$36+((M297-$N$36)/$M$37)*($Q$37-$Q$36)))))","v":""},0,null,null,{"$f":"IFERROR(IF(OR($D297-$V$34+1<=0,$D297>$W$37),\"\",$D297-$V$34+1),\"\")","v":""},{"$f":"IF(T297=\"\",\"\",IF(T297<=$U$34,\"Initial\",IF(AND(T297>$U$34,T297<=$U$35),\"Development\",IF(AND(T297>$U$35,T297<=$U$36),\"Mid Season\",\"Late Season\"))))","v":""},{"$f":"IFERROR(VLOOKUP($C297,$B$24:$C$35,2,FALSE),\"\")","v":5.3271000000000006},{"$f":"IF(T297=\"\",\"\",IF(T297<=$U$34,$X$34,IF(AND(T297>$U$34,T297<=$U$35),$X$34+((T297-$U$34)/$T$35)*($X$36-$X$34),IF(AND(T297>$U$35,T297<=$U$36),$X$36,$X$36+((T297-$U$36)/$T$37)*($X$37-$X$36)))))","v":""},0,null,null,{"$f":"IFERROR(IF(OR($D297-$AC$34+1<=0,$D297>$AD$37),\"\",$D297-$AC$34+1),\"\")","v":""},{"$f":"IF(AA297=\"\",\"\",IF(AA297<=$AB$34,\"Initial\",IF(AND(AA297>$AB$34,AA297<=$AB$35),\"Development\",IF(AND(AA297>$AB$35,AA297<=$AB$36),\"Mid Season\",\"Late Season\"))))","v":""},{"$f":"IFERROR(VLOOKUP($C297,$B$24:$C$35,2,FALSE),\"\")","v":5.3271000000000006},{"$f":"IF(AA297=\"\",\"\",IF(AA297<=$AB$34,$AE$34,IF(AND(AA297>$AB$34,AA297<=$AB$35),$AE$34+((AA297-$AB$34)/$AA$35)*($AE$36-$AE$34),IF(AND(AA297>$AB$35,AA297<=$AB$36),$AE$36,$AE$36+((AA297-$AB$36)/$AA$37)*($AE$37-$AE$36)))))","v":""},0,null,null,"","",{"$f":"IFERROR(VLOOKUP($C297,$B$24:$C$35,2,FALSE),\"\")","v":5.3271000000000006},"",0]
[null,"2022","January",{"$f":"IFERROR(IF(D297+1<=$L$2, D297+1,\"\"),\"\")","v":"2022-01-13"},null,"","",5.3271000000000006,"",{"$f":"IFERROR((H298*I298),0)","v":0},null,null,"","",5.3271000000000006,"",{"$f":"IFERROR((O298*P298),0)","v":0},null,null,"","",5.3271000000000006,"",{"$f":"IFERROR((V298*W298),0)","v":0},null,null,"","",5.3271000000000006,"",{"$f":"IFERROR((AC298*AD298),0)","v":0},null,null,{"$f":"IFERROR(IF(OR($D298-$AJ$34+1<=0,$D298>$AK$37),\"\",$D298-$AJ$34+1),\"\")","v":""},{"$f":"IF(AH298=\"\",\"\",IF(AH298<=$AI$34,\"Initial\",IF(AND(AH298>$AI$34,AH298<=$AI$35),\"Development\",IF(AND(AH298>$AI$35,AH298<=$AI$36),\"Mid Season\",\"Late Season\"))))","v":""},5.3271000000000006,{"$f":"IF(AH298=\"\",\"\",IF(AH298<=$AB$34,$AE$34,IF(AND(AH298>$AB$34,AH298<=$AB$35),$AE$34+((AH298-$AB$34)/$AA$35)*($AE$36-$AE$34),IF(AND(AH298>$AB$35,AH298<=$AB$36),$AE$36,$AE$36+((AH298-$AB$36)/$AA$37)*($AE$37-$AE$36)))))","v":""},{"$f":"IFERROR((AJ298*AK298),0)","v":0}]
[null,"2022","January","2022-01-14",null,"","",5.3271000000000006,"",0,null,null,"","",5.3271000000000006,"",0,null,null,"","",5.3271000000000006,"",0,null,null,"","",5.3271000000000006,"",0,null,null,"","",5.3271000000000006,"",0]
[null,"2022","January","2022-01-15",null,"","",5.3271000000000006,"",0,null,null,"","",5.3271000000000006,"",0,null,null,"","",5.3271000000000006,"",0,null,null,"","",5.3271000000000006,"",0,null,null,"","",5.3271000000000006,"",0]
[null,"2022","January","2022-01-16",null,"","",5.3271000000000006,"",0,null,null,"","",5.3271000000000006,"",0,null,null,"","",5.3271000000000006,"",0,null,null,"","",5.3271000000000006,"",0,null,null,"","",5.3271000000000006,"",0]
[null,"2022","January","2022-01-17",null,"","",5.3271000000000006,"",0,null,null,"","",5.3271000000000006,"",0,null,null,"","",5.3271000000000006,"",0,null,null,"","",5.3271000000000006,"",0,null,null,"","",5.3271000000000006,"",0]
[null,"2022","January","2022-01-18",null,"","",5.3271000000000006,"",0,null,null,"","",5.3271000000000006,"",0,null,null,"","",5.3271000000000006,"",0,null,null,"","",5.3271000000000006,"",0,null,null,"","",5.3271000000000006,"",0]
[null,"2022","January","2022-01-19",null,"","",5.3271000000000006,"",0,null,null,"","",5.3271000000000006,"",0,null,null,"","",5.3271000000000006,"",0,null,null,"","",5.3271000000000006,"",0,null,null,"","",5.3271000000000006,"",0]
[null,"2022","January","2022-01-20",null,"","",5.3271000000000006,"",0,null,null,"","",5.3271000000000006,"",0,null,null,"","",5.3271000000000006,"",0,null,null,"","",5.3271000000000006,"",0,null,null,"","",5.3271000000000006,"",0]
[null,"2022","January","2022-01-21",null,"","",5.3271000000000006,"",0,null,null,"","",5.3271000000000006,"",0,null,null,"","",5.3271000000000006,"",0,null,null,"","",5.3271000000000006,"",0,null,null,"","",5.3271000000000006,"",0]
[null,"2022","January","2022-01-22",null,"","",5.3271000000000006,"",0,null,null,"","",5.3271000000000006,"",0,null,null,"","",5.3271000000000006,"",0,null,null,"","",5.3271000000000006,"",0,null,null,"","",5.3271000000000006,"",0]
[null,"2022","January","2022-01-23",null,"","",5.3271000000000006,"",0,null,null,"","",5.3271000000000006,"",0,null,null,"","",5.3271000000000006,"",0,null,null,"","",5.3271000000000006,"",0,null,null,"","",5.3271000000000006,"",0]
[null,"2022","January","2022-01-24",null,"","",5.3271000000000006,"",0,null,null,"","",5.3271000000000006,"",0,null,null,"","",5.3271000000000006,"",0,null,null,"","",5.3271000000000006,"",0,null,null,"","",5.3271000000000006,"",0]
[null,"2022","January","2022-01-25",null,"","",5.3271000000000006,"",0,null,null,"","",5.3271000000000006,"",0,null,null,"","",5.3271000000000006,"",0,null,null,"","",5.3271000000000006,"",0,null,null,"","",5.3271000000000006,"",0]
[null,"2022","January","2022-01-26",null,"","",5.3271000000000006,"",0,null,null,"","",5.3271000000000006,"",0,null,null,"","",5.3271000000000006,"",0,null,null,"","",5.3271000000000006,"",0,null,null,"","",5.3271000000000006,"",0]
[null,"2022","January","2022-01-27",null,"","",5.3271000000000006,"",0,null,null,"","",5.3271000000000006,"",0,null,null,"","",5.3271000000000006,"",0,null,null,"","",5.3271000000000006,"",0,null,null,"","",5.3271000000000006,"",0]
[null,"2022","January","2022-01-28",null,"","",5.3271000000000006,"",0,null,null,"","",5.3271000000000006,"",0,null,null,"","",5.3271000000000006,"",0,null,null,"","",5.3271000000000006,"",0,null,null,"","",5.3271000000000006,"",0]
[null,"2022","January","2022-01-29",null,"","",5.3271000000000006,"",0,null,null,"","",5.3271000000000006,"",0,null,null,"","",5.3271000000000006,"",0,null,null,"","",5.3271000000000006,"",0,null,null,"","",5.3271000000000006,"",0]
[null,"2022","January","2022-01-30",null,"","",5.3271000000000006,"",0,null,null,"","",5.3271000000000006,"",0,null,null,"","",5.3271000000000006,"",0,null,null,"","",5.3271000000000006,"",0,null,null,"","",5.3271000000000006,"",0]
[null,"2022","January","2022-01-31",null,"","",5.3271000000000006,"",0,null,null,"","",5.3271000000000006,"",0,null,null,"","",5.3271000000000006,"",0,null,null,"","",5.3271000000000006,"",0,null,null,"","",5.3271000000000006,"",0]
[null,"2022","February","2022-02-01",null,"","",5.2650000000000006,"",0,null,null,"","",5.2650000000000006,"",0,null,null,"","",5.2650000000000006,"",0,null,null,"","",5.2650000000000006,"",0,null,null,"","",5.2650000000000006,"",0]
[null,"2022","February","2022-02-02",null,"","",5.2650000000000006,"",0,null,null,"","",5.2650000000000006,"",0,null,null,"","",5.2650000000000006,"",0,null,null,"","",5.2650000000000006,"",0,null,null,"","",5.2650000000000006,"",0]
[null,"2022","February","2022-02-03",null,"","",5.2650000000000006,"",0,null,null,"","",5.2650000000000006,"",0,null,null,"","",5.2650000000000006,"",0,null,null,"","",5.2650000000000006,"",0,null,null,"","",5.2650000000000006,"",0]
[null,"2022","February","2022-02-04",null,"","",5.2650000000000006,"",0,null,null,"","",5.2650000000000006,"",0,null,null,"","",5.2650000000000006,"",0,null,null,"","",5.2650000000000006,"",0,null,null,"","",5.2650000000000006,"",0]
[null,"2022","February","2022-02-05",null,"","",5.2650000000000006,"",0,null,null,"","",5.2650000000000006,"",0,null,null,"","",5.2650000000000006,"",0,null,null,"","",5.2650000000000006,"",0,null,null,"","",5.2650000000000006,"",0]
[null,"2022","February","2022-02-06",null,"","",5.2650000000000006,"",0,null,null,"","",5.2650000000000006,"",0,null,null,"","",5.2650000000000006,"",0,null,null,"","",5.2650000000000006,"",0,null,null,"","",5.2650000000000006,"",0]
[null,"2022","February","2022-02-07",null,"","",5.2650000000000006,"",0,null,null,"","",5.2650000000000006,"",0,null,null,"","",5.2650000000000006,"",0,null,null,"","",5.2650000000000006,"",0,null,null,"","",5.2650000000000006,"",0]
[null,"2022","February","2022-02-08",null,"","",5.2650000000000006,"",0,null,null,"","",5.2650000000000006,"",0,null,null,"","",5.2650000000000006,"",0,null,null,"","",5.2650000000000006,"",0,null,null,"","",5.2650000000000006,"",0]
[null,"2022","February","2022-02-09",null,"","",5.2650000000000006,"",0,null,null,"","",5.2650000000000006,"",0,null,null,"","",5.2650000000000006,"",0,null,null,"","",5.2650000000000006,"",0,null,null,"","",5.2650000000000006,"",0]
[null,"2022","February","2022-02-10",null,"","",5.2650000000000006,"",0,null,null,"","",5.2650000000000006,"",0,null,null,"","",5.2650000000000006,"",0,null,null,"","",5.2650000000000006,"",0,null,null,"","",5.2650000000000006,"",0]
[null,"2022","February","2022-02-11",null,"","",5.2650000000000006,"",0,null,null,"","",5.2650000000000006,"",0,null,null,"","",5.2650000000000006,"",0,null,null,"","",5.2650000000000006,"",0,null,null,"","",5.2650000000000006,"",0]
[null,"2022","February","2022-02-12",null,"","",5.2650000000000006,"",0,null,null,"","",5.2650000000000006,"",0,null,null,"","",5.2650000000000006,"",0,null,null,"","",5.2650000000000006,"",0,null,null,"","",5.2650000000000006,"",0]
[null,"2022","February","2022-02-13",null,"","",5.2650000000000006,"",0,null,null,"","",5.2650000000000006,"",0,null,null,"","",5.2650000000000006,"",0,null,null,"","",5.2650000000000006,"",0,null,null,"","",5.2650000000000006,"",0]
[null,"2022","February","2022-02-14",null,"","",5.2650000000000006,"",0,null,null,"","",5.2650000000000006,"",0,null,null,"","",5.2650000000000006,"",0,null,null,"","",5.2650000000000006,"",0,null,null,"","",5.2650000000000006,"",0]
[null,"2022","February","2022-02-15",null,"","",5.2650000000000006,"",0,null,null,"","",5.2650000000000006,"",0,null,null,"","",5.2650000000000006,"",0,null,null,"","",5.2650000000000006,"",0,null,null,"","",5.2650000000000006,"",0]
[null,"2022","February","2022-02-16",null,"","",5.2650000000000006,"",0,null,null,"","",5.2650000000000006,"",0,null,null,"","",5.2650000000000006,"",0,null,null,"","",5.2650000000000006,"",0,null,null,"","",5.2650000000000006,"",0]
[null,"2022","February","2022-02-17",null,"","",5.2650000000000006,"",0,null,null,"","",5.2650000000000006,"",0,null,null,"","",5.2650000000000006,"",0,null,null,"","",5.2650000000000006,"",0,null,null,"","",5.2650000000000006,"",0]
[null,"2022","February","2022-02-18",null,"","",5.2650000000000006,"",0,null,null,"","",5.2650000000000006,"",0,null,null,"","",5.2650000000000006,"",0,null,null,"","",5.2650000000000006,"",0,null,null,"","",5.2650000000000006,"",0]
[null,"2022","February","2022-02-19",null,"","",5.2650000000000006,"",0,null,null,"","",5.2650000000000006,"",0,null,null,"","",5.2650000000000006,"",0,null,null,"","",5.2650000000000006,"",0,null,null,"","",5.2650000000000006,"",0]
[null,"2022","February","2022-02-20",null,"","",5.2650000000000006,"",0,null,null,"","",5.2650000000000006,"",0,null,null,"","",5.2650000000000006,"",0,null,null,"","",5.2650000000000006,"",0,null,null,"","",5.2650000000000006,"",0]
[null,"2022","February","2022-02-21",null,"","",5.2650000000000006,"",0,null,null,"","",5.2650000000000006,"",0,null,null,"","",5.2650000000000006,"",0,null,null,"","",5.2650000000000006,"",0,null,null,"","",5.2650000000000006,"",0]
[null,"2022","February","2022-02-22",null,"","",5.2650000000000006,"",0,null,null,"","",5.2650000000000006,"",0,null,null,"","",5.2650000000000006,"",0,null,null,"","",5.2650000000000006,"",0,null,null,"","",5.2650000000000006,"",0]
[null,"2022","February","2022-02-23",null,"","",5.2650000000000006,"",0,null,null,"","",5.2650000000000006,"",0,null,null,"","",5.2650000000000006,"",0,null,null,"","",5.2650000000000006,"",0,null,null,"","",5.2650000000000006,"",0]
[null,"2022","February","2022-02-24",null,"","",5.2650000000000006,"",0,null,null,"","",5.2650000000000006,"",0,null,null,"","",5.2650000000000006,"",0,null,null,"","",5.2650000000000006,"",0,null,null,"","",5.2650000000000006,"",0]
[null,"2022","February","2022-02-25",null,"","",5.2650000000000006,"",0,null,null,"","",5.2650000000000006,"",0,null,null,"","",5.2650000000000006,"",0,null,null,"","",5.2650000000000006,"",0,null,null,"","",5.2650000000000006,"",0]
[null,"2022","February","2022-02-26",null,"","",5.2650000000000006,"",0,null,null,"","",5.2650000000000006,"",0,null,null,"","",5.2650000000000006,"",0,null,null,"","",5.2650000000000006,"",0,null,null,"","",5.2650000000000006,"",0]
[null,"2022","February","2022-02-27",null,"","",5.2650000000000006,"",0,null,null,"","",5.2650000000000006,"",0,null,null,"","",5.2650000000000006,"",0,null,null,"","",5.2650000000000006,"",0,null,null,"","",5.2650000000000006,"",0]
[null,"2022","February","2022-02-28",null,"","",5.2650000000000006,"",0,null,null,"","",5.2650000000000006,"",0,null,null,"","",5.2650000000000006,"",0,null,null,"","",5.2650000000000006,"",0,null,null,"","",5.2650000000000006,"",0]
[null,"2022","March","2022-03-01",null,"","",5.2153200000000011,"",0,null,null,"","",5.2153200000000011,"",0,null,null,"","",5.2153200000000011,"",0,null,null,"","",5.2153200000000011,"",0,null,null,"","",5.2153200000000011,"",0]
[null,"2022","March","2022-03-02",null,"","",5.2153200000000011,"",0,null,null,"","",5.2153200000000011,"",0,null,null,"","",5.2153200000000011,"",0,null,null,"","",5.2153200000000011,"",0,null,null,"","",5.2153200000000011,"",0]
[null,"2022","March","2022-03-03",null,"","",5.2153200000000011,"",0,null,null,"","",5.2153200000000011,"",0,null,null,"","",5.2153200000000011,"",0,null,null,"","",5.2153200000000011,"",0,null,null,"","",5.2153200000000011,"",0]
[null,"2022","March","2022-03-04",null,"","",5.2153200000000011,"",0,null,null,"","",5.2153200000000011,"",0,null,null,"","",5.2153200000000011,"",0,null,null,"","",5.2153200000000011,"",0,null,null,"","",5.2153200000000011,"",0]
[null,"2022","March","2022-03-05",null,"","",5.2153200000000011,"",0,null,null,"","",5.2153200000000011,"",0,null,null,"","",5.2153200000000011,"",0,null,null,"","",5.2153200000000011,"",0,null,null,"","",5.2153200000000011,"",0]
[null,"2022","March","2022-03-06",null,"","",5.2153200000000011,"",0,null,null,"","",5.2153200000000011,"",0,null,null,"","",5.2153200000000011,"",0,null,null,"","",5.2153200000000011,"",0,null,null,"","",5.2153200000000011,"",0]
[null,"2022","March","2022-03-07",null,"","",5.2153200000000011,"",0,null,null,"","",5.2153200000000011,"",0,null,null,"","",5.2153200000000011,"",0,null,null,"","",5.2153200000000011,"",0,null,null,"","",5.2153200000000011,"",0]
[null,"2022","March","2022-03-08",null,"","",5.2153200000000011,"",0,null,null,"","",5.2153200000000011,"",0,null,null,"","",5.2153200000000011,"",0,null,null,"","",5.2153200000000011,"",0,null,null,"","",5.2153200000000011,"",0]
[null,"2022","March","2022-03-09",null,"","",5.2153200000000011,"",0,null,null,"","",5.2153200000000011,"",0,null,null,"","",5.2153200000000011,"",0,null,null,"","",5.2153200000000011,"",0,null,null,"","",5.2153200000000011,"",0]
[null,"2022","March","2022-03-10",null,"","",5.2153200000000011,"",0,null,null,"","",5.2153200000000011,"",0,null,null,"","",5.2153200000000011,"",0,null,null,"","",5.2153200000000011,"",0,null,null,"","",5.2153200000000011,"",0]
[null,"2022","March","2022-03-11",null,"","",5.2153200000000011,"",0,null,null,"","",5.2153200000000011,"",0,null,null,"","",5.2153200000000011,"",0,null,null,"","",5.2153200000000011,"",0,null,null,"","",5.2153200000000011,"",0]
[null,"2022","March","2022-03-12",null,"","",5.2153200000000011,"",0,null,null,"","",5.2153200000000011,"",0,null,null,"","",5.2153200000000011,"",0,null,null,"","",5.2153200000000011,"",0,null,null,"","",5.2153200000000011,"",0]
[null,"2022","March","2022-03-13",null,"","",5.2153200000000011,"",0,null,null,"","",5.2153200000000011,"",0,null,null,"","",5.2153200000000011,"",0,null,null,"","",5.2153200000000011,"",0,null,null,"","",5.2153200000000011,"",0]
[null,"2022","March","2022-03-14",null,"","",5.2153200000000011,"",0,null,null,"","",5.2153200000000011,"",0,null,null,"","",5.2153200000000011,"",0,null,null,"","",5.2153200000000011,"",0,null,null,"","",5.2153200000000011,"",0]
[null,"2022","March","2022-03-15",null,"","",5.2153200000000011,"",0,null,null,"","",5.2153200000000011,"",0,null,null,"","",5.2153200000000011,"",0,null,null,"","",5.2153200000000011,"",0,null,null,"","",5.2153200000000011,"",0]
[null,"2022","March","2022-03-16",null,"","",5.2153200000000011,"",0,null,null,"","",5.2153200000000011,"",0,null,null,"","",5.2153200000000011,"",0,null,null,"","",5.2153200000000011,"",0,null,null,"","",5.2153200000000011,"",0]
[null,{"$f":"IFERROR(TEXT(DATE(YEAR($D361),MONTH($D361),1),$D$7&$D$4),\"\")","v":"2022"},{"$f":"IFERROR(TEXT(DATE(YEAR($D361),MONTH($D361),1),$D$7&$D$5),\"\")","v":"March"},"2022-03-17",null,{"$f":"IFERROR(IF(OR($D361-$H$34+1<=0,$D361>$I$37),\"\",$D361-$H$34+1),\"\")","v":""},{"$f":"IF(F361=\"\",\"\",IF(F361<=$G$34,\"Initial\",IF(AND(F361>$G$34,F361<=$G$35),\"Development\",IF(AND(F361>$G$35,F361<=$G$36),\"Mid Season\",\"Late Season\"))))","v":""},{"$f":"IFERROR(VLOOKUP($C361,$B$24:$C$35,2,FALSE),\"\")","v":5.2153200000000011},{"$f":"IF(F361=\"\",\"\",IF(F361<=$G$34,$J$34,IF(AND(F361>$G$34,F361<=$G$35),$J$34+((F361-$G$34)/$F$35)*($J$36-$J$34),IF(AND(F361>$G$35,F361<=$G$36),$J$36,$J$36+((F361-$G$36)/$F$37)*($J$37-$J$36)))))","v":""},0,null,null,{"$f":"IFERROR(IF(OR($D361-$O$34+1<=0,$D361>$P$37),\"\",$D361-$O$34+1),\"\")","v":""},{"$f":"IF(M361=\"\",\"\",IF(M361<=$N$34,\"Initial\",IF(AND(M361>$N$34,M361<=$N$35),\"Development\",IF(AND(M361>$N$35,M361<=$N$36),\"Mid Season\",\"Late Season\"))))","v":""},{"$f":"IFERROR(VLOOKUP($C361,$B$24:$C$35,2,FALSE),\"\")","v":5.2153200000000011},{"$f":"IF(M361=\"\",\"\",IF(M361<=$N$34,$Q$34,IF(AND(M361>$N$34,M361<=$N$35),$Q$34+((M361-$N$34)/$M$35)*($Q$36-$Q$34),IF(AND(M361>$N$35,M361<=$N$36),$Q$36,$Q$36+((M361-$N$36)/$M$37)*($Q$37-$Q$36)))))","v":""},0,null,null,{"$f":"IFERROR(IF(OR($D361-$V$34+1<=0,$D361>$W$37),\"\",$D361-$V$34+1),\"\")","v":""},{"$f":"IF(T361=\"\",\"\",IF(T361<=$U$34,\"Initial\",IF(AND(T361>$U$34,T361<=$U$35),\"Development\",IF(AND(T361>$U$35,T361<=$U$36),\"Mid Season\",\"Late Season\"))))","v":""},{"$f":"IFERROR(VLOOKUP($C361,$B$24:$C$35,2,FALSE),\"\")","v":5.2153200000000011},{"$f":"IF(T361=\"\",\"\",IF(T361<=$U$34,$X$34,IF(AND(T361>$U$34,T361<=$U$35),$X$34+((T361-$U$34)/$T$35)*($X$36-$X$34),IF(AND(T361>$U$35,T361<=$U$36),$X$36,$X$36+((T361-$U$36)/$T$37)*($X$37-$X$36)))))","v":""},0,null,null,{"$f":"IFERROR(IF(OR($D361-$AC$34+1<=0,$D361>$AD$37),\"\",$D361-$AC$34+1),\"\")","v":""},{"$f":"IF(AA361=\"\",\"\",IF(AA361<=$AB$34,\"Initial\",IF(AND(AA361>$AB$34,AA361<=$AB$35),\"Development\",IF(AND(AA361>$AB$35,AA361<=$AB$36),\"Mid Season\",\"Late Season\"))))","v":""},{"$f":"IFERROR(VLOOKUP($C361,$B$24:$C$35,2,FALSE),\"\")","v":5.2153200000000011},{"$f":"IF(AA361=\"\",\"\",IF(AA361<=$AB$34,$AE$34,IF(AND(AA361>$AB$34,AA361<=$AB$35),$AE$34+((AA361-$AB$34)/$AA$35)*($AE$36-$AE$34),IF(AND(AA361>$AB$35,AA361<=$AB$36),$AE$36,$AE$36+((AA361-$AB$36)/$AA$37)*($AE$37-$AE$36)))))","v":""},0,null,null,"","",{"$f":"IFERROR(VLOOKUP($C361,$B$24:$C$35,2,FALSE),\"\")","v":5.2153200000000011},"",0]
[null,"2022","March",{"$f":"IFERROR(IF(D361+1<=$L$2, D361+1,\"\"),\"\")","v":"2022-03-18"},null,"","",5.2153200000000011,"",{"$f":"IFERROR((H362*I362),0)","v":0},null,null,"","",5.2153200000000011,"",{"$f":"IFERROR((O362*P362),0)","v":0},null,null,"","",5.2153200000000011,"",{"$f":"IFERROR((V362*W362),0)","v":0},null,null,"","",5.2153200000000011,"",{"$f":"IFERROR((AC362*AD362),0)","v":0},null,null,{"$f":"IFERROR(IF(OR($D362-$AJ$34+1<=0,$D362>$AK$37),\"\",$D362-$AJ$34+1),\"\")","v":""},{"$f":"IF(AH362=\"\",\"\",IF(AH362<=$AI$34,\"Initial\",IF(AND(AH362>$AI$34,AH362<=$AI$35),\"Development\",IF(AND(AH362>$AI$35,AH362<=$AI$36),\"Mid Season\",\"Late Season\"))))","v":""},5.2153200000000011,{"$f":"IF(AH362=\"\",\"\",IF(AH362<=$AB$34,$AE$34,IF(AND(AH362>$AB$34,AH362<=$AB$35),$AE$34+((AH362-$AB$34)/$AA$35)*($AE$36-$AE$34),IF(AND(AH362>$AB$35,AH362<=$AB$36),$AE$36,$AE$36+((AH362-$AB$36)/$AA$37)*($AE$37-$AE$36)))))","v":""},{"$f":"IFERROR((AJ362*AK362),0)","v":0}]
[null,"2022","March","2022-03-19",null,"","",5.2153200000000011,"",0,null,null,"","",5.2153200000000011,"",0,null,null,"","",5.2153200000000011,"",0,null,null,"","",5.2153200000000011,"",0,null,null,"","",5.2153200000000011,"",0]
[null,"2022","March","2022-03-20",null,"","",5.2153200000000011,"",0,null,null,"","",5.2153200000000011,"",0,null,null,"","",5.2153200000000011,"",0,null,null,"","",5.2153200000000011,"",0,null,null,"","",5.2153200000000011,"",0]
[null,"2022","March","2022-03-21",null,"","",5.2153200000000011,"",0,null,null,"","",5.2153200000000011,"",0,null,null,"","",5.2153200000000011,"",0,null,null,"","",5.2153200000000011,"",0,null,null,"","",5.2153200000000011,"",0]
[null,"2022","March","2022-03-22",null,"","",5.2153200000000011,"",0,null,null,"","",5.2153200000000011,"",0,null,null,"","",5.2153200000000011,"",0,null,null,"","",5.2153200000000011,"",0,null,null,"","",5.2153200000000011,"",0]
[null,"2022","March","2022-03-23",null,"","",5.2153200000000011,"",0,null,null,"","",5.2153200000000011,"",0,null,null,"","",5.2153200000000011,"",0,null,null,"","",5.2153200000000011,"",0,null,null,"","",5.2153200000000011,"",0]
[null,"2022","March","2022-03-24",null,"","",5.2153200000000011,"",0,null,null,"","",5.2153200000000011,"",0,null,null,"","",5.2153200000000011,"",0,null,null,"","",5.2153200000000011,"",0,null,null,"","",5.2153200000000011,"",0]
[null,"2022","March","2022-03-25",null,"","",5.2153200000000011,"",0,null,null,"","",5.2153200000000011,"",0,null,null,"","",5.2153200000000011,"",0,null,null,"","",5.2153200000000011,"",0,null,null,"","",5.2153200000000011,"",0]
[null,"2022","March","2022-03-26",null,"","",5.2153200000000011,"",0,null,null,"","",5.2153200000000011,"",0,null,null,"","",5.2153200000000011,"",0,null,null,"","",5.2153200000000011,"",0,null,null,"","",5.2153200000000011,"",0]
[null,"2022","March","2022-03-27",null,"","",5.2153200000000011,"",0,null,null,"","",5.2153200000000011,"",0,null,null,"","",5.2153200000000011,"",0,null,null,"","",5.2153200000000011,"",0,null,null,"","",5.2153200000000011,"",0]
[null,"2022","March","2022-03-28",null,"","",5.2153200000000011,"",0,null,null,"","",5.2153200000000011,"",0,null,null,"","",5.2153200000000011,"",0,null,null,"","",5.2153200000000011,"",0,null,null,"","",5.2153200000000011,"",0]
[null,"2022","March","2022-03-29",null,"","",5.2153200000000011,"",0,null,null,"","",5.2153200000000011,"",0,null,null,"","",5.2153200000000011,"",0,null,null,"","",5.2153200000000011,"",0,null,null,"","",5.2153200000000011,"",0]
[null,"2022","March","2022-03-30",null,"","",5.2153200000000011,"",0,null,null,"","",5.2153200000000011,"",0,null,null,"","",5.2153200000000011,"",0,null,null,"","",5.2153200000000011,"",0,null,null,"","",5.2153200000000011,"",0]
[null,"2022","March","2022-03-31",null,"","",5.2153200000000011,"",0,null,null,"","",5.2153200000000011,"",0,null,null,"","",5.2153200000000011,"",0,null,null,"","",5.2153200000000011,"",0,null,null,"","",5.2153200000000011,"",0]
[null,"2022","April","2022-04-01",null,"","",5.3054400000000008,"",0,null,null,"","",5.3054400000000008,"",0,null,null,"","",5.3054400000000008,"",0,null,null,"","",5.3054400000000008,"",0,null,null,"","",5.3054400000000008,"",0]
[null,"2022","April","2022-04-02",null,"","",5.3054400000000008,"",0,null,null,"","",5.3054400000000008,"",0,null,null,"","",5.3054400000000008,"",0,null,null,"","",5.3054400000000008,"",0,null,null,"","",5.3054400000000008,"",0]
[null,"2022","April","2022-04-03",null,"","",5.3054400000000008,"",0,null,null,"","",5.3054400000000008,"",0,null,null,"","",5.3054400000000008,"",0,null,null,"","",5.3054400000000008,"",0,null,null,"","",5.3054400000000008,"",0]
[null,"2022","April","2022-04-04",null,"","",5.3054400000000008,"",0,null,null,"","",5.3054400000000008,"",0,null,null,"","",5.3054400000000008,"",0,null,null,"","",5.3054400000000008,"",0,null,null,"","",5.3054400000000008,"",0]
[null,"2022","April","2022-04-05",null,"","",5.3054400000000008,"",0,null,null,"","",5.3054400000000008,"",0,null,null,"","",5.3054400000000008,"",0,null,null,"","",5.3054400000000008,"",0,null,null,"","",5.3054400000000008,"",0]
[null,"2022","April","2022-04-06",null,"","",5.3054400000000008,"",0,null,null,"","",5.3054400000000008,"",0,null,null,"","",5.3054400000000008,"",0,null,null,"","",5.3054400000000008,"",0,null,null,"","",5.3054400000000008,"",0]
[null,"2022","April","2022-04-07",null,"","",5.3054400000000008,"",0,null,null,"","",5.3054400000000008,"",0,null,null,"","",5.3054400000000008,"",0,null,null,"","",5.3054400000000008,"",0,null,null,"","",5.3054400000000008,"",0]
[null,"2022","April","2022-04-08",null,"","",5.3054400000000008,"",0,null,null,"","",5.3054400000000008,"",0,null,null,"","",5.3054400000000008,"",0,null,null,"","",5.3054400000000008,"",0,null,null,"","",5.3054400000000008,"",0]
[null,"2022","April","2022-04-09",null,"","",5.3054400000000008,"",0,null,null,"","",5.3054400000000008,"",0,null,null,"","",5.3054400000000008,"",0,null,null,"","",5.3054400000000008,"",0,null,null,"","",5.3054400000000008,"",0]
[null,"2022","April","2022-04-10",null,"","",5.3054400000000008,"",0,null,null,"","",5.3054400000000008,"",0,null,null,"","",5.3054400000000008,"",0,null,null,"","",5.3054400000000008,"",0,null,null,"","",5.3054400000000008,"",0]
[null,"2022","April","2022-04-11",null,"","",5.3054400000000008,"",0,null,null,"","",5.3054400000000008,"",0,null,null,"","",5.3054400000000008,"",0,null,null,"","",5.3054400000000008,"",0,null,null,"","",5.3054400000000008,"",0]
[null,"2022","April","2022-04-12",null,"","",5.3054400000000008,"",0,null,null,"","",5.3054400000000008,"",0,null,null,"","",5.3054400000000008,"",0,null,null,"","",5.3054400000000008,"",0,null,null,"","",5.3054400000000008,"",0]
[null,"2022","April","2022-04-13",null,"","",5.3054400000000008,"",0,null,null,"","",5.3054400000000008,"",0,null,null,"","",5.3054400000000008,"",0,null,null,"","",5.3054400000000008,"",0,null,null,"","",5.3054400000000008,"",0]
[null,"2022","April","2022-04-14",null,"","",5.3054400000000008,"",0,null,null,"","",5.3054400000000008,"",0,null,null,"","",5.3054400000000008,"",0,null,null,"","",5.3054400000000008,"",0,null,null,"","",5.3054400000000008,"",0]
[null,"2022","April","2022-04-15",null,"","",5.3054400000000008,"",0,null,null,"","",5.3054400000000008,"",0,null,null,"","",5.3054400000000008,"",0,null,null,"","",5.3054400000000008,"",0,null,null,"","",5.3054400000000008,"",0]
[null,"2022","April","2022-04-16",null,"","",5.3054400000000008,"",0,null,null,"","",5.3054400000000008,"",0,null,null,"","",5.3054400000000008,"",0,null,null,"","",5.3054400000000008,"",0,null,null,"","",5.3054400000000008,"",0]
[null,"2022","April","2022-04-17",null,"","",5.3054400000000008,"",0,null,null,"","",5.3054400000000008,"",0,null,null,"","",5.3054400000000008,"",0,null,null,"","",5.3054400000000008,"",0,null,null,"","",5.3054400000000008,"",0]
[null,"2022","April","2022-04-18",null,"","",5.3054400000000008,"",0,null,null,"","",5.3054400000000008,"",0,null,null,"","",5.3054400000000008,"",0,null,null,"","",5.3054400000000008,"",0,null,null,"","",5.3054400000000008,"",0]
[null,"2022","April","2022-04-19",null,"","",5.3054400000000008,"",0,null,null,"","",5.3054400000000008,"",0,null,null,"","",5.3054400000000008,"",0,null,null,"","",5.3054400000000008,"",0,null,null,"","",5.3054400000000008,"",0]
[null,"2022","April","2022-04-20",null,"","",5.3054400000000008,"",0,null,null,"","",5.3054400000000008,"",0,null,null,"","",5.3054400000000008,"",0,null,null,"","",5.3054400000000008,"",0,null,null,"","",5.3054400000000008,"",0]
[null,"2022","April","2022-04-21",null,"","",5.3054400000000008,"",0,null,null,"","",5.3054400000000008,"",0,null,null,"","",5.3054400000000008,"",0,null,null,"","",5.3054400000000008,"",0,null,null,"","",5.3054400000000008,"",0]
[null,"2022","April","2022-04-22",null,"","",5.3054400000000008,"",0,null,null,"","",5.3054400000000008,"",0,null,null,"","",5.3054400000000008,"",0,null,null,"","",5.3054400000000008,"",0,null,null,"","",5.3054400000000008,"",0]
[null,"2022","April","2022-04-23",null,"","",5.3054400000000008,"",0,null,null,"","",5.3054400000000008,"",0,null,null,"","",5.3054400000000008,"",0,null,null,"","",5.3054400000000008,"",0,null,null,"","",5.3054400000000008,"",0]
[null,"2022","April","2022-04-24",null,"","",5.3054400000000008,"",0,null,null,"","",5.3054400000000008,"",0,null,null,"","",5.3054400000000008,"",0,null,null,"","",5.3054400000000008,"",0,null,null,"","",5.3054400000000008,"",0]
[null,"2022","April","2022-04-25",null,"","",5.3054400000000008,"",0,null,null,"","",5.3054400000000008,"",0,null,null,"","",5.3054400000000008,"",0,null,null,"","",5.3054400000000008,"",0,null,null,"","",5.3054400000000008,"",0]
[null,"2022","April","2022-04-26",null,"","",5.3054400000000008,"",0,null,null,"","",5.3054400000000008,"",0,null,null,"","",5.3054400000000008,"",0,null,null,"","",5.3054400000000008,"",0,null,null,"","",5.3054400000000008,"",0]
[null,"2022","April","2022-04-27",null,"","",5.3054400000000008,"",0,null,null,"","",5.3054400000000008,"",0,null,null,"","",5.3054400000000008,"",0,null,null,"","",5.3054400000000008,"",0,null,null,"","",5.3054400000000008,"",0]
[null,"2022","April","2022-04-28",null,"","",5.3054400000000008,"",0,null,null,"","",5.3054400000000008,"",0,null,null,"","",5.3054400000000008,"",0,null,null,"","",5.3054400000000008,"",0,null,null,"","",5.3054400000000008,"",0]
[null,"2022","April","2022-04-29",null,"","",5.3054400000000008,"",0,null,null,"","",5.3054400000000008,"",0,null,null,"","",5.3054400000000008,"",0,null,null,"","",5.3054400000000008,"",0,null,null,"","",5.3054400000000008,"",0]
[null,"2022","April","2022-04-30",null,"","",5.3054400000000008,"",0,null,null,"","",5.3054400000000008,"",0,null,null,"","",5.3054400000000008,"",0,null,null,"","",5.3054400000000008,"",0,null,null,"","",5.3054400000000008,"",0]
[null,"2022","May","2022-05-01",null,"","",5.3183200000000008,"",0,null,null,"","",5.3183200000000008,"",0,null,null,"","",5.3183200000000008,"",0,null,null,"","",5.3183200000000008,"",0,null,null,"","",5.3183200000000008,"",0]
[null,"2022","May","2022-05-02",null,"","",5.3183200000000008,"",0,null,null,"","",5.3183200000000008,"",0,null,null,"","",5.3183200000000008,"",0,null,null,"","",5.3183200000000008,"",0,null,null,"","",5.3183200000000008,"",0]
[null,"2022","May","2022-05-03",null,"","",5.3183200000000008,"",0,null,null,"","",5.3183200000000008,"",0,null,null,"","",5.3183200000000008,"",0,null,null,"","",5.3183200000000008,"",0,null,null,"","",5.3183200000000008,"",0]
[null,"2022","May","2022-05-04",null,"","",5.3183200000000008,"",0,null,null,"","",5.3183200000000008,"",0,null,null,"","",5.3183200000000008,"",0,null,null,"","",5.3183200000000008,"",0,null,null,"","",5.3183200000000008,"",0]
[null,"2022","May","2022-05-05",null,"","",5.3183200000000008,"",0,null,null,"","",5.3183200000000008,"",0,null,null,"","",5.3183200000000008,"",0,null,null,"","",5.3183200000000008,"",0,null,null,"","",5.3183200000000008,"",0]
[null,"2022","May","2022-05-06",null,"","",5.3183200000000008,"",0,null,null,"","",5.3183200000000008,"",0,null,null,"","",5.3183200000000008,"",0,null,null,"","",5.3183200000000008,"",0,null,null,"","",5.3183200000000008,"",0]
[null,"2022","May","2022-05-07",null,"","",5.3183200000000008,"",0,null,null,"","",5.3183200000000008,"",0,null,null,"","",5.3183200000000008,"",0,null,null,"","",5.3183200000000008,"",0,null,null,"","",5.3183200000000008,"",0]
[null,"2022","May","2022-05-08",null,"","",5.3183200000000008,"",0,null,null,"","",5.3183200000000008,"",0,null,null,"","",5.3183200000000008,"",0,null,null,"","",5.3183200000000008,"",0,null,null,"","",5.3183200000000008,"",0]
[null,"2022","May","2022-05-09",null,"","",5.3183200000000008,"",0,null,null,"","",5.3183200000000008,"",0,null,null,"","",5.3183200000000008,"",0,null,null,"","",5.3183200000000008,"",0,null,null,"","",5.3183200000000008,"",0]
[null,"2022","May","2022-05-10",null,"","",5.3183200000000008,"",0,null,null,"","",5.3183200000000008,"",0,null,null,"","",5.3183200000000008,"",0,null,null,"","",5.3183200000000008,"",0,null,null,"","",5.3183200000000008,"",0]
[null,"2022","May","2022-05-11",null,"","",5.3183200000000008,"",0,null,null,"","",5.3183200000000008,"",0,null,null,"","",5.3183200000000008,"",0,null,null,"","",5.3183200000000008,"",0,null,null,"","",5.3183200000000008,"",0]
[null,"2022","May","2022-05-12",null,"","",5.3183200000000008,"",0,null,null,"","",5.3183200000000008,"",0,null,null,"","",5.3183200000000008,"",0,null,null,"","",5.3183200000000008,"",0,null,null,"","",5.3183200000000008,"",0]
[null,"2022","May","2022-05-13",null,"","",5.3183200000000008,"",0,null,null,"","",5.3183200000000008,"",0,null,null,"","",5.3183200000000008,"",0,null,null,"","",5.3183200000000008,"",0,null,null,"","",5.3183200000000008,"",0]
[null,"2022","May","2022-05-14",null,"","",5.3183200000000008,"",0,null,null,"","",5.3183200000000008,"",0,null,null,"","",5.3183200000000008,"",0,null,null,"","",5.3183200000000008,"",0,null,null,"","",5.3183200000000008,"",0]
[null,"2022","May","2022-05-15",null,"","",5.3183200000000008,"",0,null,null,"","",5.3183200000000008,"",0,null,null,"","",5.3183200000000008,"",0,null,null,"","",5.3183200000000008,"",0,null,null,"","",5.3183200000000008,"",0]
[null,"2022","May","2022-05-16",null,"","",5.3183200000000008,"",0,null,null,"","",5.3183200000000008,"",0,null,null,"","",5.3183200000000008,"",0,null,null,"","",5.3183200000000008,"",0,null,null,"","",5.3183200000000008,"",0]
[null,"2022","May","2022-05-17",null,"","",5.3183200000000008,"",0,null,null,"","",5.3183200000000008,"",0,null,null,"","",5.3183200000000008,"",0,null,null,"","",5.3183200000000008,"",0,null,null,"","",5.3183200000000008,"",0]
[null,"2022","May","2022-05-18",null,"","",5.3183200000000008,"",0,null,null,"","",5.3183200000000008,"",0,null,null,"","",5.3183200000000008,"",0,null,null,"","",5.3183200000000008,"",0,null,null,"","",5.3183200000000008,"",0]
[null,"2022","May","2022-05-19",null,"","",5.3183200000000008,"",0,null,null,"","",5.3183200000000008,"",0,null,null,"","",5.3183200000000008,"",0,null,null,"","",5.3183200000000008,"",0,null,null,"","",5.3183200000000008,"",0]
[null,{"$f":"IFERROR(TEXT(DATE(YEAR($D425),MONTH($D425),1),$D$7&$D$4),\"\")","v":"2022"},{"$f":"IFERROR(TEXT(DATE(YEAR($D425),MONTH($D425),1),$D$7&$D$5),\"\")","v":"May"},"2022-05-20",null,{"$f":"IFERROR(IF(OR($D425-$H$34+1<=0,$D425>$I$37),\"\",$D425-$H$34+1),\"\")","v":""},{"$f":"IF(F425=\"\",\"\",IF(F425<=$G$34,\"Initial\",IF(AND(F425>$G$34,F425<=$G$35),\"Development\",IF(AND(F425>$G$35,F425<=$G$36),\"Mid Season\",\"Late Season\"))))","v":""},{"$f":"IFERROR(VLOOKUP($C425,$B$24:$C$35,2,FALSE),\"\")","v":5.3183200000000008},{"$f":"IF(F425=\"\",\"\",IF(F425<=$G$34,$J$34,IF(AND(F425>$G$34,F425<=$G$35),$J$34+((F425-$G$34)/$F$35)*($J$36-$J$34),IF(AND(F425>$G$35,F425<=$G$36),$J$36,$J$36+((F425-$G$36)/$F$37)*($J$37-$J$36)))))","v":""},0,null,null,{"$f":"IFERROR(IF(OR($D425-$O$34+1<=0,$D425>$P$37),\"\",$D425-$O$34+1),\"\")","v":""},{"$f":"IF(M425=\"\",\"\",IF(M425<=$N$34,\"Initial\",IF(AND(M425>$N$34,M425<=$N$35),\"Development\",IF(AND(M425>$N$35,M425<=$N$36),\"Mid Season\",\"Late Season\"))))","v":""},{"$f":"IFERROR(VLOOKUP($C425,$B$24:$C$35,2,FALSE),\"\")","v":5.3183200000000008},{"$f":"IF(M425=\"\",\"\",IF(M425<=$N$34,$Q$34,IF(AND(M425>$N$34,M425<=$N$35),$Q$34+((M425-$N$34)/$M$35)*($Q$36-$Q$34),IF(AND(M425>$N$35,M425<=$N$36),$Q$36,$Q$36+((M425-$N$36)/$M$37)*($Q$37-$Q$36)))))","v":""},0,null,null,{"$f":"IFERROR(IF(OR($D425-$V$34+1<=0,$D425>$W$37),\"\",$D425-$V$34+1),\"\")","v":""},{"$f":"IF(T425=\"\",\"\",IF(T425<=$U$34,\"Initial\",IF(AND(T425>$U$34,T425<=$U$35),\"Development\",IF(AND(T425>$U$35,T425<=$U$36),\"Mid Season\",\"Late Season\"))))","v":""},{"$f":"IFERROR(VLOOKUP($C425,$B$24:$C$35,2,FALSE),\"\")","v":5.3183200000000008},{"$f":"IF(T425=\"\",\"\",IF(T425<=$U$34,$X$34,IF(AND(T425>$U$34,T425<=$U$35),$X$34+((T425-$U$34)/$T$35)*($X$36-$X$34),IF(AND(T425>$U$35,T425<=$U$36),$X$36,$X$36+((T425-$U$36)/$T$37)*($X$37-$X$36)))))","v":""},0,null,null,{"$f":"IFERROR(IF(OR($D425-$AC$34+1<=0,$D425>$AD$37),\"\",$D425-$AC$34+1),\"\")","v":""},{"$f":"IF(AA425=\"\",\"\",IF(AA425<=$AB$34,\"Initial\",IF(AND(AA425>$AB$34,AA425<=$AB$35),\"Development\",IF(AND(AA425>$AB$35,AA425<=$AB$36),\"Mid Season\",\"Late Season\"))))","v":""},{"$f":"IFERROR(VLOOKUP($C425,$B$24:$C$35,2,FALSE),\"\")","v":5.3183200000000008},{"$f":"IF(AA425=\"\",\"\",IF(AA425<=$AB$34,$AE$34,IF(AND(AA425>$AB$34,AA425<=$AB$35),$AE$34+((AA425-$AB$34)/$AA$35)*($AE$36-$AE$34),IF(AND(AA425>$AB$35,AA425<=$AB$36),$AE$36,$AE$36+((AA425-$AB$36)/$AA$37)*($AE$37-$AE$36)))))","v":""},0,null,null,"","",{"$f":"IFERROR(VLOOKUP($C425,$B$24:$C$35,2,FALSE),\"\")","v":5.3183200000000008},"",0]
[null,"2022","May",{"$f":"IFERROR(IF(D425+1<=$L$2, D425+1,\"\"),\"\")","v":"2022-05-21"},null,"","",5.3183200000000008,"",{"$f":"IFERROR((H426*I426),0)","v":0},null,null,"","",5.3183200000000008,"",{"$f":"IFERROR((O426*P426),0)","v":0},null,null,"","",5.3183200000000008,"",{"$f":"IFERROR((V426*W426),0)","v":0},null,null,"","",5.3183200000000008,"",{"$f":"IFERROR((AC426*AD426),0)","v":0},null,null,{"$f":"IFERROR(IF(OR($D426-$AJ$34+1<=0,$D426>$AK$37),\"\",$D426-$AJ$34+1),\"\")","v":""},{"$f":"IF(AH426=\"\",\"\",IF(AH426<=$AI$34,\"Initial\",IF(AND(AH426>$AI$34,AH426<=$AI$35),\"Development\",IF(AND(AH426>$AI$35,AH426<=$AI$36),\"Mid Season\",\"Late Season\"))))","v":""},5.3183200000000008,{"$f":"IF(AH426=\"\",\"\",IF(AH426<=$AB$34,$AE$34,IF(AND(AH426>$AB$34,AH426<=$AB$35),$AE$34+((AH426-$AB$34)/$AA$35)*($AE$36-$AE$34),IF(AND(AH426>$AB$35,AH426<=$AB$36),$AE$36,$AE$36+((AH426-$AB$36)/$AA$37)*($AE$37-$AE$36)))))","v":""},{"$f":"IFERROR((AJ426*AK426),0)","v":0}]
[null,"2022","May","2022-05-22",null,"","",5.3183200000000008,"",0,null,null,"","",5.3183200000000008,"",0,null,null,"","",5.3183200000000008,"",0,null,null,"","",5.3183200000000008,"",0,null,null,"","",5.3183200000000008,"",0]
[null,"2022","May","2022-05-23",null,"","",5.3183200000000008,"",0,null,null,"","",5.3183200000000008,"",0,null,null,"","",5.3183200000000008,"",0,null,null,"","",5.3183200000000008,"",0,null,null,"","",5.3183200000000008,"",0]
[null,"2022","May","2022-05-24",null,"","",5.3183200000000008,"",0,null,null,"","",5.3183200000000008,"",0,null,null,"","",5.3183200000000008,"",0,null,null,"","",5.3183200000000008,"",0,null,null,"","",5.3183200000000008,"",0]
[null,"2022","May","2022-05-25",null,"","",5.3183200000000008,"",0,null,null,"","",5.3183200000000008,"",0,null,null,"","",5.3183200000000008,"",0,null,null,"","",5.3183200000000008,"",0,null,null,"","",5.3183200000000008,"",0]
[null,"2022","May","2022-05-26",null,"","",5.3183200000000008,"",0,null,null,"","",5.3183200000000008,"",0,null,null,"","",5.3183200000000008,"",0,null,null,"","",5.3183200000000008,"",0,null,null,"","",5.3183200000000008,"",0]
[null,"2022","May","2022-05-27",null,"","",5.3183200000000008,"",0,null,null,"","",5.3183200000000008,"",0,null,null,"","",5.3183200000000008,"",0,null,null,"","",5.3183200000000008,"",0,null,null,"","",5.3183200000000008,"",0]
[null,"2022","May","2022-05-28",null,"","",5.3183200000000008,"",0,null,null,"","",5.3183200000000008,"",0,null,null,"","",5.3183200000000008,"",0,null,null,"","",5.3183200000000008,"",0,null,null,"","",5.3183200000000008,"",0]
[null,"2022","May","2022-05-29",null,"","",5.3183200000000008,"",0,null,null,"","",5.3183200000000008,"",0,null,null,"","",5.3183200000000008,"",0,null,null,"","",5.3183200000000008,"",0,null,null,"","",5.3183200000000008,"",0]
[null,"2022","May","2022-05-30",null,"","",5.3183200000000008,"",0,null,null,"","",5.3183200000000008,"",0,null,null,"","",5.3183200000000008,"",0,null,null,"","",5.3183200000000008,"",0,null,null,"","",5.3183200000000008,"",0]
[null,"2022","May","2022-05-31",null,"","",5.3183200000000008,"",0,null,null,"","",5.3183200000000008,"",0,null,null,"","",5.3183200000000008,"",0,null,null,"","",5.3183200000000008,"",0,null,null,"","",5.3183200000000008,"",0]
[null,"2022","June","2022-06-01",null,"","",5.2668000000000008,"",0,null,null,"","",5.2668000000000008,"",0,null,null,"","",5.2668000000000008,"",0,null,null,"","",5.2668000000000008,"",0,null,null,"","",5.2668000000000008,"",0]
[null,"2022","June","2022-06-02",null,"","",5.2668000000000008,"",0,null,null,"","",5.2668000000000008,"",0,null,null,"","",5.2668000000000008,"",0,null,null,"","",5.2668000000000008,"",0,null,null,"","",5.2668000000000008,"",0]
[null,"2022","June","2022-06-03",null,"","",5.2668000000000008,"",0,null,null,"","",5.2668000000000008,"",0,null,null,"","",5.2668000000000008,"",0,null,null,"","",5.2668000000000008,"",0,null,null,"","",5.2668000000000008,"",0]
[null,"2022","June","2022-06-04",null,"","",5.2668000000000008,"",0,null,null,"","",5.2668000000000008,"",0,null,null,"","",5.2668000000000008,"",0,null,null,"","",5.2668000000000008,"",0,null,null,"","",5.2668000000000008,"",0]
[null,"2022","June","2022-06-05",null,"","",5.2668000000000008,"",0,null,null,"","",5.2668000000000008,"",0,null,null,"","",5.2668000000000008,"",0,null,null,"","",5.2668000000000008,"",0,null,null,"","",5.2668000000000008,"",0]
[null,"2022","June","2022-06-06",null,"","",5.2668000000000008,"",0,null,null,"","",5.2668000000000008,"",0,null,null,"","",5.2668000000000008,"",0,null,null,"","",5.2668000000000008,"",0,null,null,"","",5.2668000000000008,"",0]
[null,"2022","June","2022-06-07",null,"","",5.2668000000000008,"",0,null,null,"","",5.2668000000000008,"",0,null,null,"","",5.2668000000000008,"",0,null,null,"","",5.2668000000000008,"",0,null,null,"","",5.2668000000000008,"",0]
[null,"2022","June","2022-06-08",null,"","",5.2668000000000008,"",0,null,null,"","",5.2668000000000008,"",0,null,null,"","",5.2668000000000008,"",0,null,null,"","",5.2668000000000008,"",0,null,null,"","",5.2668000000000008,"",0]
[null,"2022","June","2022-06-09",null,"","",5.2668000000000008,"",0,null,null,"","",5.2668000000000008,"",0,null,null,"","",5.2668000000000008,"",0,null,null,"","",5.2668000000000008,"",0,null,null,"","",5.2668000000000008,"",0]
[null,"2022","June","2022-06-10",null,"","",5.2668000000000008,"",0,null,null,"","",5.2668000000000008,"",0,null,null,"","",5.2668000000000008,"",0,null,null,"","",5.2668000000000008,"",0,null,null,"","",5.2668000000000008,"",0]
[null,"2022","June","2022-06-11",null,"","",5.2668000000000008,"",0,null,null,"","",5.2668000000000008,"",0,null,null,"","",5.2668000000000008,"",0,null,null,"","",5.2668000000000008,"",0,null,null,"","",5.2668000000000008,"",0]
[null,"2022","June","2022-06-12",null,"","",5.2668000000000008,"",0,null,null,"","",5.2668000000000008,"",0,null,null,"","",5.2668000000000008,"",0,null,null,"","",5.2668000000000008,"",0,null,null,"","",5.2668000000000008,"",0]
[null,"2022","June","2022-06-13",null,"","",5.2668000000000008,"",0,null,null,"","",5.2668000000000008,"",0,null,null,"","",5.2668000000000008,"",0,null,null,"","",5.2668000000000008,"",0,null,null,"","",5.2668000000000008,"",0]
[null,"2022","June","2022-06-14",null,"","",5.2668000000000008,"",0,null,null,"","",5.2668000000000008,"",0,null,null,"","",5.2668000000000008,"",0,null,null,"","",5.2668000000000008,"",0,null,null,"","",5.2668000000000008,"",0]
[null,"2022","June","2022-06-15",null,"","",5.2668000000000008,"",0,null,null,"","",5.2668000000000008,"",0,null,null,"","",5.2668000000000008,"",0,null,null,"","",5.2668000000000008,"",0,null,null,"","",5.2668000000000008,"",0]
[null,"2022","June","2022-06-16",null,"","",5.2668000000000008,"",0,null,null,"","",5.2668000000000008,"",0,null,null,"","",5.2668000000000008,"",0,null,null,"","",5.2668000000000008,"",0,null,null,"","",5.2668000000000008,"",0]
[null,"2022","June","2022-06-17",null,"","",5.2668000000000008,"",0,null,null,"","",5.2668000000000008,"",0,null,null,"","",5.2668000000000008,"",0,null,null,"","",5.2668000000000008,"",0,null,null,"","",5.2668000000000008,"",0]
[null,"2022","June","2022-06-18",null,"","",5.2668000000000008,"",0,null,null,"","",5.2668000000000008,"",0,null,null,"","",5.2668000000000008,"",0,null,null,"","",5.2668000000000008,"",0,null,null,"","",5.2668000000000008,"",0]
[null,"2022","June","2022-06-19",null,"","",5.2668000000000008,"",0,null,null,"","",5.2668000000000008,"",0,null,null,"","",5.2668000000000008,"",0,null,null,"","",5.2668000000000008,"",0,null,null,"","",5.2668000000000008,"",0]
[null,"2022","June","2022-06-20",null,"","",5.2668000000000008,"",0,null,null,"","",5.2668000000000008,"",0,null,null,"","",5.2668000000000008,"",0,null,null,"","",5.2668000000000008,"",0,null,null,"","",5.2668000000000008,"",0]
[null,"2022","June","2022-06-21",null,"","",5.2668000000000008,"",0,null,null,"","",5.2668000000000008,"",0,null,null,"","",5.2668000000000008,"",0,null,null,"","",5.2668000000000008,"",0,null,null,"","",5.2668000000000008,"",0]
[null,"2022","June","2022-06-22",null,"","",5.2668000000000008,"",0,null,null,"","",5.2668000000000008,"",0,null,null,"","",5.2668000000000008,"",0,null,null,"","",5.2668000000000008,"",0,null,null,"","",5.2668000000000008,"",0]
[null,"2022","June","2022-06-23",null,"","",5.2668000000000008,"",0,null,null,"","",5.2668000000000008,"",0,null,null,"","",5.2668000000000008,"",0,null,null,"","",5.2668000000000008,"",0,null,null,"","",5.2668000000000008,"",0]
[null,"2022","June","2022-06-24",null,"","",5.2668000000000008,"",0,null,null,"","",5.2668000000000008,"",0,null,null,"","",5.2668000000000008,"",0,null,null,"","",5.2668000000000008,"",0,null,null,"","",5.2668000000000008,"",0]
[null,"2022","June","2022-06-25",null,"","",5.2668000000000008,"",0,null,null,"","",5.2668000000000008,"",0,null,null,"","",5.2668000000000008,"",0,null,null,"","",5.2668000000000008,"",0,null,null,"","",5.2668000000000008,"",0]
[null,"2022","June","2022-06-26",null,"","",5.2668000000000008,"",0,null,null,"","",5.2668000000000008,"",0,null,null,"","",5.2668000000000008,"",0,null,null,"","",5.2668000000000008,"",0,null,null,"","",5.2668000000000008,"",0]
[null,"2022","June","2022-06-27",null,"","",5.2668000000000008,"",0,null,null,"","",5.2668000000000008,"",0,null,null,"","",5.2668000000000008,"",0,null,null,"","",5.2668000000000008,"",0,null,null,"","",5.2668000000000008,"",0]
[null,"2022","June","2022-06-28",null,"","",5.2668000000000008,"",0,null,null,"","",5.2668000000000008,"",0,null,null,"","",5.2668000000000008,"",0,null,null,"","",5.2668000000000008,"",0,null,null,"","",5.2668000000000008,"",0]
[null,"2022","June","2022-06-29",null,"","",5.2668000000000008,"",0,null,null,"","",5.2668000000000008,"",0,null,null,"","",5.2668000000000008,"",0,null,null,"","",5.2668000000000008,"",0,null,null,"","",5.2668000000000008,"",0]
[null,"2022","June","2022-06-30",null,"","",5.2668000000000008,"",0,null,null,"","",5.2668000000000008,"",0,null,null,"","",5.2668000000000008,"",0,null,null,"","",5.2668000000000008,"",0,null,null,"","",5.2668000000000008,"",0]
[null,"2022","July","2022-07-01",null,"","",5.2023999999999999,"",0,null,null,1,"Initial",5.2023999999999999,0.7,3.6416799999999996,null,null,"","",5.2023999999999999,"",0,null,null,"","",5.2023999999999999,"",0,null,null,"","",5.2023999999999999,"",0]
[null,"2022","July","2022-07-02",null,"","",5.2023999999999999,"",0,null,null,2,"Initial",5.2023999999999999,0.7,3.6416799999999996,null,null,"","",5.2023999999999999,"",0,null,null,"","",5.2023999999999999,"",0,null,null,"","",5.2023999999999999,"",0]
[null,"2022","July","2022-07-03",null,"","",5.2023999999999999,"",0,null,null,3,"Initial",5.2023999999999999,0.7,3.6416799999999996,null,null,"","",5.2023999999999999,"",0,null,null,"","",5.2023999999999999,"",0,null,null,"","",5.2023999999999999,"",0]
[null,"2022","July","2022-07-04",null,"","",5.2023999999999999,"",0,null,null,4,"Initial",5.2023999999999999,0.7,3.6416799999999996,null,null,"","",5.2023999999999999,"",0,null,null,"","",5.2023999999999999,"",0,null,null,"","",5.2023999999999999,"",0]
[null,"2022","July","2022-07-05",null,"","",5.2023999999999999,"",0,null,null,5,"Initial",5.2023999999999999,0.7,3.6416799999999996,null,null,"","",5.2023999999999999,"",0,null,null,"","",5.2023999999999999,"",0,null,null,"","",5.2023999999999999,"",0]
[null,"2022","July","2022-07-06",null,"","",5.2023999999999999,"",0,null,null,6,"Initial",5.2023999999999999,0.7,3.6416799999999996,null,null,"","",5.2023999999999999,"",0,null,null,"","",5.2023999999999999,"",0,null,null,"","",5.2023999999999999,"",0]
[null,"2022","July","2022-07-07",null,"","",5.2023999999999999,"",0,null,null,7,"Initial",5.2023999999999999,0.7,3.6416799999999996,null,null,"","",5.2023999999999999,"",0,null,null,"","",5.2023999999999999,"",0,null,null,"","",5.2023999999999999,"",0]
[null,"2022","July","2022-07-08",null,"","",5.2023999999999999,"",0,null,null,8,"Initial",5.2023999999999999,0.7,3.6416799999999996,null,null,"","",5.2023999999999999,"",0,null,null,"","",5.2023999999999999,"",0,null,null,"","",5.2023999999999999,"",0]
[null,"2022","July","2022-07-09",null,"","",5.2023999999999999,"",0,null,null,9,"Initial",5.2023999999999999,0.7,3.6416799999999996,null,null,"","",5.2023999999999999,"",0,null,null,"","",5.2023999999999999,"",0,null,null,"","",5.2023999999999999,"",0]
[null,"2022","July","2022-07-10",null,"","",5.2023999999999999,"",0,null,null,10,"Initial",5.2023999999999999,0.7,3.6416799999999996,null,null,"","",5.2023999999999999,"",0,null,null,"","",5.2023999999999999,"",0,null,null,"","",5.2023999999999999,"",0]
[null,"2022","July","2022-07-11",null,"","",5.2023999999999999,"",0,null,null,11,"Initial",5.2023999999999999,0.7,3.6416799999999996,null,null,"","",5.2023999999999999,"",0,null,null,"","",5.2023999999999999,"",0,null,null,"","",5.2023999999999999,"",0]
[null,"2022","July","2022-07-12",null,"","",5.2023999999999999,"",0,null,null,12,"Initial",5.2023999999999999,0.7,3.6416799999999996,null,null,"","",5.2023999999999999,"",0,null,null,"","",5.2023999999999999,"",0,null,null,"","",5.2023999999999999,"",0]
[null,"2022","July","2022-07-13",null,"","",5.2023999999999999,"",0,null,null,13,"Initial",5.2023999999999999,0.7,3.6416799999999996,null,null,"","",5.2023999999999999,"",0,null,null,"","",5.2023999999999999,"",0,null,null,"","",5.2023999999999999,"",0]
[null,"2022","July","2022-07-14",null,"","",5.2023999999999999,"",0,null,null,14,"Initial",5.2023999999999999,0.7,3.6416799999999996,null,null,"","",5.2023999999999999,"",0,null,null,"","",5.2023999999999999,"",0,null,null,"","",5.2023999999999999,"",0]
[null,"2022","July","2022-07-15",null,"","",5.2023999999999999,"",0,null,null,15,"Initial",5.2023999999999999,0.7,3.6416799999999996,null,null,"","",5.2023999999999999,"",0,null,null,"","",5.2023999999999999,"",0,null,null,"","",5.2023999999999999,"",0]
[null,"2022","July","2022-07-16",null,"","",5.2023999999999999,"",0,null,null,16,"Initial",5.2023999999999999,0.7,3.6416799999999996,null,null,"","",5.2023999999999999,"",0,null,null,"","",5.2023999999999999,"",0,null,null,"","",5.2023999999999999,"",0]
[null,"2022","July","2022-07-17",null,"","",5.2023999999999999,"",0,null,null,17,"Initial",5.2023999999999999,0.7,3.6416799999999996,null,null,"","",5.2023999999999999,"",0,null,null,"","",5.2023999999999999,"",0,null,null,"","",5.2023999999999999,"",0]
[null,"2022","July","2022-07-18",null,"","",5.2023999999999999,"",0,null,null,18,"Initial",5.2023999999999999,0.7,3.6416799999999996,null,null,"","",5.2023999999999999,"",0,null,null,"","",5.2023999999999999,"",0,null,null,"","",5.2023999999999999,"",0]
[null,"2022","July","2022-07-19",null,"","",5.2023999999999999,"",0,null,null,19,"Initial",5.2023999999999999,0.7,3.6416799999999996,null,null,"","",5.2023999999999999,"",0,null,null,"","",5.2023999999999999,"",0,null,null,"","",5.2023999999999999,"",0]
[null,"2022","July","2022-07-20",null,"","",5.2023999999999999,"",0,null,null,20,"Initial",5.2023999999999999,0.7,3.6416799999999996,null,null,"","",5.2023999999999999,"",0,null,null,"","",5.2023999999999999,"",0,null,null,"","",5.2023999999999999,"",0]
[null,"2022","July","2022-07-21",null,"","",5.2023999999999999,"",0,null,null,21,"Development",5.2023999999999999,0.71166666666666667,3.7023746666666666,null,null,"","",5.2023999999999999,"",0,null,null,"","",5.2023999999999999,"",0,null,null,"","",5.2023999999999999,"",0]
[null,"2022","July","2022-07-22",null,"","",5.2023999999999999,"",0,null,null,22,"Development",5.2023999999999999,0.72333333333333327,3.7630693333333332,null,null,"","",5.2023999999999999,"",0,null,null,"","",5.2023999999999999,"",0,null,null,"","",5.2023999999999999,"",0]
[null,{"$f":"IFERROR(TEXT(DATE(YEAR($D489),MONTH($D489),1),$D$7&$D$4),\"\")","v":"2022"},{"$f":"IFERROR(TEXT(DATE(YEAR($D489),MONTH($D489),1),$D$7&$D$5),\"\")","v":"July"},"2022-07-23",null,{"$f":"IFERROR(IF(OR($D489-$H$34+1<=0,$D489>$I$37),\"\",$D489-$H$34+1),\"\")","v":""},{"$f":"IF(F489=\"\",\"\",IF(F489<=$G$34,\"Initial\",IF(AND(F489>$G$34,F489<=$G$35),\"Development\",IF(AND(F489>$G$35,F489<=$G$36),\"Mid Season\",\"Late Season\"))))","v":""},{"$f":"IFERROR(VLOOKUP($C489,$B$24:$C$35,2,FALSE),\"\")","v":5.2023999999999999},{"$f":"IF(F489=\"\",\"\",IF(F489<=$G$34,$J$34,IF(AND(F489>$G$34,F489<=$G$35),$J$34+((F489-$G$34)/$F$35)*($J$36-$J$34),IF(AND(F489>$G$35,F489<=$G$36),$J$36,$J$36+((F489-$G$36)/$F$37)*($J$37-$J$36)))))","v":""},0,null,null,{"$f":"IFERROR(IF(OR($D489-$O$34+1<=0,$D489>$P$37),\"\",$D489-$O$34+1),\"\")","v":23},{"$f":"IF(M489=\"\",\"\",IF(M489<=$N$34,\"Initial\",IF(AND(M489>$N$34,M489<=$N$35),\"Development\",IF(AND(M489>$N$35,M489<=$N$36),\"Mid Season\",\"Late Season\"))))","v":"Development"},{"$f":"IFERROR(VLOOKUP($C489,$B$24:$C$35,2,FALSE),\"\")","v":5.2023999999999999},{"$f":"IF(M489=\"\",\"\",IF(M489<=$N$34,$Q$34,IF(AND(M489>$N$34,M489<=$N$35),$Q$34+((M489-$N$34)/$M$35)*($Q$36-$Q$34),IF(AND(M489>$N$35,M489<=$N$36),$Q$36,$Q$36+((M489-$N$36)/$M$37)*($Q$37-$Q$36)))))","v":0.73499999999999999},3.8237639999999997,null,null,{"$f":"IFERROR(IF(OR($D489-$V$34+1<=0,$D489>$W$37),\"\",$D489-$V$34+1),\"\")","v":""},{"$f":"IF(T489=\"\",\"\",IF(T489<=$U$34,\"Initial\",IF(AND(T489>$U$34,T489<=$U$35),\"Development\",IF(AND(T489>$U$35,T489<=$U$36),\"Mid Season\",\"Late Season\"))))","v":""},{"$f":"IFERROR(VLOOKUP($C489,$B$24:$C$35,2,FALSE),\"\")","v":5.2023999999999999},{"$f":"IF(T489=\"\",\"\",IF(T489<=$U$34,$X$34,IF(AND(T489>$U$34,T489<=$U$35),$X$34+((T489-$U$34)/$T$35)*($X$36-$X$34),IF(AND(T489>$U$35,T489<=$U$36),$X$36,$X$36+((T489-$U$36)/$T$37)*($X$37-$X$36)))))","v":""},0,null,null,{"$f":"IFERROR(IF(OR($D489-$AC$34+1<=0,$D489>$AD$37),\"\",$D489-$AC$34+1),\"\")","v":""},{"$f":"IF(AA489=\"\",\"\",IF(AA489<=$AB$34,\"Initial\",IF(AND(AA489>$AB$34,AA489<=$AB$35),\"Development\",IF(AND(AA489>$AB$35,AA489<=$AB$36),\"Mid Season\",\"Late Season\"))))","v":""},{"$f":"IFERROR(VLOOKUP($C489,$B$24:$C$35,2,FALSE),\"\")","v":5.2023999999999999},{"$f":"IF(AA489=\"\",\"\",IF(AA489<=$AB$34,$AE$34,IF(AND(AA489>$AB$34,AA489<=$AB$35),$AE$34+((AA489-$AB$34)/$AA$35)*($AE$36-$AE$34),IF(AND(AA489>$AB$35,AA489<=$AB$36),$AE$36,$AE$36+((AA489-$AB$36)/$AA$37)*($AE$37-$AE$36)))))","v":""},0,null,null,"","",{"$f":"IFERROR(VLOOKUP($C489,$B$24:$C$35,2,FALSE),\"\")","v":5.2023999999999999},"",0]
[null,"2022","July",{"$f":"IFERROR(IF(D489+1<=$L$2, D489+1,\"\"),\"\")","v":"2022-07-24"},null,"","",5.2023999999999999,"",{"$f":"IFERROR((H490*I490),0)","v":0},null,null,24,"Development",5.2023999999999999,0.74666666666666659,{"$f":"IFERROR((O490*P490),0)","v":3.8844586666666663},null,null,"","",5.2023999999999999,"",{"$f":"IFERROR((V490*W490),0)","v":0},null,null,"","",5.2023999999999999,"",{"$f":"IFERROR((AC490*AD490),0)","v":0},null,null,{"$f":"IFERROR(IF(OR($D490-$AJ$34+1<=0,$D490>$AK$37),\"\",$D490-$AJ$34+1),\"\")","v":""},{"$f":"IF(AH490=\"\",\"\",IF(AH490<=$AI$34,\"Initial\",IF(AND(AH490>$AI$34,AH490<=$AI$35),\"Development\",IF(AND(AH490>$AI$35,AH490<=$AI$36),\"Mid Season\",\"Late Season\"))))","v":""},5.2023999999999999,{"$f":"IF(AH490=\"\",\"\",IF(AH490<=$AB$34,$AE$34,IF(AND(AH490>$AB$34,AH490<=$AB$35),$AE$34+((AH490-$AB$34)/$AA$35)*($AE$36-$AE$34),IF(AND(AH490>$AB$35,AH490<=$AB$36),$AE$36,$AE$36+((AH490-$AB$36)/$AA$37)*($AE$37-$AE$36)))))","v":""},{"$f":"IFERROR((AJ490*AK490),0)","v":0}]
[null,"2022","July","2022-07-25",null,"","",5.2023999999999999,"",0,null,null,25,"Development",5.2023999999999999,0.7583333333333333,3.9451533333333333,null,null,"","",5.2023999999999999,"",0,null,null,"","",5.2023999999999999,"",0,null,null,"","",5.2023999999999999,"",0]
[null,"2022","July","2022-07-26",null,"","",5.2023999999999999,"",0,null,null,26,"Development",5.2023999999999999,0.77,4.0058480000000003,null,null,"","",5.2023999999999999,"",0,null,null,"","",5.2023999999999999,"",0,null,null,"","",5.2023999999999999,"",0]
[null,"2022","July","2022-07-27",null,"","",5.2023999999999999,"",0,null,null,27,"Development",5.2023999999999999,0.78166666666666662,4.066542666666666,null,null,"","",5.2023999999999999,"",0,null,null,"","",5.2023999999999999,"",0,null,null,"","",5.2023999999999999,"",0]
[null,"2022","July","2022-07-28",null,"","",5.2023999999999999,"",0,null,null,28,"Development",5.2023999999999999,0.79333333333333333,4.1272373333333334,null,null,"","",5.2023999999999999,"",0,null,null,"","",5.2023999999999999,"",0,null,null,"","",5.2023999999999999,"",0]
[null,"2022","July","2022-07-29",null,"","",5.2023999999999999,"",0,null,null,29,"Development",5.2023999999999999,0.80499999999999994,4.187932,null,null,"","",5.2023999999999999,"",0,null,null,"","",5.2023999999999999,"",0,null,null,"","",5.2023999999999999,"",0]
[null,"2022","July","2022-07-30",null,"","",5.2023999999999999,"",0,null,null,30,"Development",5.2023999999999999,0.81666666666666665,4.2486266666666666,null,null,"","",5.2023999999999999,"",0,null,null,"","",5.2023999999999999,"",0,null,null,"","",5.2023999999999999,"",0]
[null,"2022","July","2022-07-31",null,"","",5.2023999999999999,"",0,null,null,31,"Development",5.2023999999999999,0.82833333333333337,4.3093213333333331,null,null,"","",5.2023999999999999,"",0,null,null,"","",5.2023999999999999,"",0,null,null,"","",5.2023999999999999,"",0]
[null,"2022","August","2022-08-01",null,"","",5.2023999999999999,"",0,null,null,32,"Development",5.2023999999999999,0.84,4.3700159999999997,null,null,"","",5.2023999999999999,"",0,null,null,"","",5.2023999999999999,"",0,null,null,"","",5.2023999999999999,"",0]
[null,"2022","August","2022-08-02",null,"","",5.2023999999999999,"",0,null,null,33,"Development",5.2023999999999999,0.85166666666666668,4.4307106666666662,null,null,"","",5.2023999999999999,"",0,null,null,"","",5.2023999999999999,"",0,null,null,"","",5.2023999999999999,"",0]
[null,"2022","August","2022-08-03",null,"","",5.2023999999999999,"",0,null,null,34,"Development",5.2023999999999999,0.86333333333333329,4.4914053333333328,null,null,"","",5.2023999999999999,"",0,null,null,"","",5.2023999999999999,"",0,null,null,"","",5.2023999999999999,"",0]
[null,"2022","August","2022-08-04",null,"","",5.2023999999999999,"",0,null,null,35,"Development",5.2023999999999999,0.875,4.5521000000000003,null,null,"","",5.2023999999999999,"",0,null,null,"","",5.2023999999999999,"",0,null,null,"","",5.2023999999999999,"",0]
[null,"2022","August","2022-08-05",null,"","",5.2023999999999999,"",0,null,null,36,"Development",5.2023999999999999,0.88666666666666671,4.6127946666666668,null,null,"","",5.2023999999999999,"",0,null,null,"","",5.2023999999999999,"",0,null,null,"","",5.2023999999999999,"",0]
[null,"2022","August","2022-08-06",null,"","",5.2023999999999999,"",0,null,null,37,"Development",5.2023999999999999,0.89833333333333332,4.6734893333333334,null,null,"","",5.2023999999999999,"",0,null,null,"","",5.2023999999999999,"",0,null,null,"","",5.2023999999999999,"",0]
[null,"2022","August","2022-08-07",null,"","",5.2023999999999999,"",0,null,null,38,"Development",5.2023999999999999,0.91,4.7341839999999999,null,null,"","",5.2023999999999999,"",0,null,null,"","",5.2023999999999999,"",0,null,null,"","",5.2023999999999999,"",0]
[null,"2022","August","2022-08-08",null,"","",5.2023999999999999,"",0,null,null,39,"Development",5.2023999999999999,0.92166666666666663,4.7948786666666665,null,null,"","",5.2023999999999999,"",0,null,null,"","",5.2023999999999999,"",0,null,null,"","",5.2023999999999999,"",0]
[null,"2022","August","2022-08-09",null,"","",5.2023999999999999,"",0,null,null,40,"Development",5.2023999999999999,0.93333333333333335,4.8555733333333331,null,null,"","",5.2023999999999999,"",0,null,null,"","",5.2023999999999999,"",0,null,null,"","",5.2023999999999999,"",0]
[null,"2022","August","2022-08-10",null,"","",5.2023999999999999,"",0,null,null,41,"Development",5.2023999999999999,0.94500000000000006,4.9162680000000005,null,null,"","",5.2023999999999999,"",0,null,null,"","",5.2023999999999999,"",0,null,null,"","",5.2023999999999999,"",0]
[null,"2022","August","2022-08-11",null,"","",5.2023999999999999,"",0,null,null,42,"Development",5.2023999999999999,0.95666666666666667,4.9769626666666662,null,null,"","",5.2023999999999999,"",0,null,null,"","",5.2023999999999999,"",0,null,null,"","",5.2023999999999999,"",0]
[null,"2022","August","2022-08-12",null,"","",5.2023999999999999,"",0,null,null,43,"Development",5.2023999999999999,0.96833333333333338,5.0376573333333337,null,null,"","",5.2023999999999999,"",0,null,null,"","",5.2023999999999999,"",0,null,null,"","",5.2023999999999999,"",0]
[null,"2022","August","2022-08-13",null,"","",5.2023999999999999,"",0,null,null,44,"Development",5.2023999999999999,0.98,5.0983520000000002,null,null,"","",5.2023999999999999,"",0,null,null,"","",5.2023999999999999,"",0,null,null,"","",5.2023999999999999,"",0]
[null,"2022","August","2022-08-14",null,"","",5.2023999999999999,"",0,null,null,45,"Development",5.2023999999999999,0.9916666666666667,5.1590466666666668,null,null,"","",5.2023999999999999,"",0,null,null,"","",5.2023999999999999,"",0,null,null,"","",5.2023999999999999,"",0]
[null,"2022","August","2022-08-15",null,"","",5.2023999999999999,"",0,null,null,46,"Development",5.2023999999999999,1.0033333333333334,5.2197413333333333,null,null,"","",5.2023999999999999,"",0,null,null,"","",5.2023999999999999,"",0,null,null,"","",5.2023999999999999,"",0]
[null,"2022","August","2022-08-16",null,"","",5.2023999999999999,"",0,null,null,47,"Development",5.2023999999999999,1.0150000000000001,5.2804360000000008,null,null,"","",5.2023999999999999,"",0,null,null,"","",5.2023999999999999,"",0,null,null,"","",5.2023999999999999,"",0]
[null,"2022","August","2022-08-17",null,"","",5.2023999999999999,"",0,null,null,48,"Development",5.2023999999999999,1.0266666666666668,5.3411306666666674,null,null,"","",5.2023999999999999,"",0,null,null,"","",5.2023999999999999,"",0,null,null,"","",5.2023999999999999,"",0]
[null,"2022","August","2022-08-18",null,"","",5.2023999999999999,"",0,null,null,49,"Development",5.2023999999999999,1.0383333333333333,5.401825333333333,null,null,"","",5.2023999999999999,"",0,null,null,"","",5.2023999999999999,"",0,null,null,"","",5.2023999999999999,"",0]
[null,"2022","August","2022-08-19",null,"","",5.2023999999999999,"",0,null,null,50,"Development",5.2023999999999999,1.05,5.4625200000000005,null,null,"","",5.2023999999999999,"",0,null,null,"","",5.2023999999999999,"",0,null,null,"","",5.2023999999999999,"",0]
[null,"2022","August","2022-08-20",null,"","",5.2023999999999999,"",0,null,null,51,"Mid Season",5.2023999999999999,1.05,5.4625200000000005,null,null,"","",5.2023999999999999,"",0,null,null,"","",5.2023999999999999,"",0,null,null,"","",5.2023999999999999,"",0]
[null,"2022","August","2022-08-21",null,"","",5.2023999999999999,"",0,null,null,52,"Mid Season",5.2023999999999999,1.05,5.4625200000000005,null,null,"","",5.2023999999999999,"",0,null,null,"","",5.2023999999999999,"",0,null,null,"","",5.2023999999999999,"",0]
[null,"2022","August","2022-08-22",null,"","",5.2023999999999999,"",0,null,null,53,"Mid Season",5.2023999999999999,1.05,5.4625200000000005,null,null,"","",5.2023999999999999,"",0,null,null,"","",5.2023999999999999,"",0,null,null,"","",5.2023999999999999,"",0]
[null,"2022","August","2022-08-23",null,"","",5.2023999999999999,"",0,null,null,54,"Mid Season",5.2023999999999999,1.05,5.4625200000000005,null,null,"","",5.2023999999999999,"",0,null,null,"","",5.2023999999999999,"",0,null,null,"","",5.2023999999999999,"",0]
[null,"2022","August","2022-08-24",null,"","",5.2023999999999999,"",0,null,null,55,"Mid Season",5.2023999999999999,1.05,5.4625200000000005,null,null,"","",5.2023999999999999,"",0,null,null,"","",5.2023999999999999,"",0,null,null,"","",5.2023999999999999,"",0]
[null,"2022","August","2022-08-25",null,"","",5.2023999999999999,"",0,null,null,56,"Mid Season",5.2023999999999999,1.05,5.4625200000000005,null,null,"","",5.2023999999999999,"",0,null,null,"","",5.2023999999999999,"",0,null,null,"","",5.2023999999999999,"",0]
[null,"2022","August","2022-08-26",null,"","",5.2023999999999999,"",0,null,null,57,"Mid Season",5.2023999999999999,1.05,5.4625200000000005,null,null,"","",5.2023999999999999,"",0,null,null,"","",5.2023999999999999,"",0,null,null,"","",5.2023999999999999,"",0]
[null,"2022","August","2022-08-27",null,"","",5.2023999999999999,"",0,null,null,58,"Mid Season",5.2023999999999999,1.05,5.4625200000000005,null,null,"","",5.2023999999999999,"",0,null,null,"","",5.2023999999999999,"",0,null,null,"","",5.2023999999999999,"",0]
[null,"2022","August","2022-08-28",null,"","",5.2023999999999999,"",0,null,null,59,"Mid Season",5.2023999999999999,1.05,5.4625200000000005,null,null,"","",5.2023999999999999,"",0,null,null,"","",5.2023999999999999,"",0,null,null,"","",5.2023999999999999,"",0]
[null,"2022","August","2022-08-29",null,"","",5.2023999999999999,"",0,null,null,60,"Mid Season",5.2023999999999999,1.05,5.4625200000000005,null,null,"","",5.2023999999999999,"",0,null,null,"","",5.2023999999999999,"",0,null,null,"","",5.2023999999999999,"",0]
[null,"2022","August","2022-08-30",null,"","",5.2023999999999999,"",0,null,null,61,"Mid Season",5.2023999999999999,1.05,5.4625200000000005,null,null,"","",5.2023999999999999,"",0,null,null,"","",5.2023999999999999,"",0,null,null,"","",5.2023999999999999,"",0]
[null,"2022","August","2022-08-31",null,"","",5.2023999999999999,"",0,null,null,62,"Mid Season",5.2023999999999999,1.05,5.4625200000000005,null,null,"","",5.2023999999999999,"",0,null,null,"","",5.2023999999999999,"",0,null,null,"","",5.2023999999999999,"",0]
[null,"2022","September","2022-09-01",null,"","",5.2796800000000008,"",0,null,null,63,"Mid Season",5.2796800000000008,1.05,5.5436640000000015,null,null,"","",5.2796800000000008,"",0,null,null,"","",5.2796800000000008,"",0,null,null,"","",5.2796800000000008,"",0]
[null,"2022","September","2022-09-02",null,"","",5.2796800000000008,"",0,null,null,64,"Mid Season",5.2796800000000008,1.05,5.5436640000000015,null,null,"","",5.2796800000000008,"",0,null,null,"","",5.2796800000000008,"",0,null,null,"","",5.2796800000000008,"",0]
[null,"2022","September","2022-09-03",null,"","",5.2796800000000008,"",0,null,null,65,"Mid Season",5.2796800000000008,1.05,5.5436640000000015,null,null,"","",5.2796800000000008,"",0,null,null,"","",5.2796800000000008,"",0,null,null,"","",5.2796800000000008,"",0]
[null,"2022","September","2022-09-04",null,"","",5.2796800000000008,"",0,null,null,66,"Mid Season",5.2796800000000008,1.05,5.5436640000000015,null,null,"","",5.2796800000000008,"",0,null,null,"","",5.2796800000000008,"",0,null,null,"","",5.2796800000000008,"",0]
[null,"2022","September","2022-09-05",null,"","",5.2796800000000008,"",0,null,null,67,"Mid Season",5.2796800000000008,1.05,5.5436640000000015,null,null,"","",5.2796800000000008,"",0,null,null,"","",5.2796800000000008,"",0,null,null,"","",5.2796800000000008,"",0]
[null,"2022","September","2022-09-06",null,"","",5.2796800000000008,"",0,null,null,68,"Mid Season",5.2796800000000008,1.05,5.5436640000000015,null,null,"","",5.2796800000000008,"",0,null,null,"","",5.2796800000000008,"",0,null,null,"","",5.2796800000000008,"",0]
[null,"2022","September","2022-09-07",null,"","",5.2796800000000008,"",0,null,null,69,"Mid Season",5.2796800000000008,1.05,5.5436640000000015,null,null,"","",5.2796800000000008,"",0,null,null,"","",5.2796800000000008,"",0,null,null,"","",5.2796800000000008,"",0]
[null,"2022","September","2022-09-08",null,"","",5.2796800000000008,"",0,null,null,70,"Mid Season",5.2796800000000008,1.05,5.5436640000000015,null,null,"","",5.2796800000000008,"",0,null,null,"","",5.2796800000000008,"",0,null,null,"","",5.2796800000000008,"",0]
[null,"2022","September","2022-09-09",null,"","",5.2796800000000008,"",0,null,null,71,"Mid Season",5.2796800000000008,1.05,5.5436640000000015,null,null,"","",5.2796800000000008,"",0,null,null,"","",5.2796800000000008,"",0,null,null,"","",5.2796800000000008,"",0]
[null,"2022","September","2022-09-10",null,"","",5.2796800000000008,"",0,null,null,72,"Mid Season",5.2796800000000008,1.05,5.5436640000000015,null,null,"","",5.2796800000000008,"",0,null,null,"","",5.2796800000000008,"",0,null,null,"","",5.2796800000000008,"",0]
[null,"2022","September","2022-09-11",null,"","",5.2796800000000008,"",0,null,null,73,"Mid Season",5.2796800000000008,1.05,5.5436640000000015,null,null,"","",5.2796800000000008,"",0,null,null,"","",5.2796800000000008,"",0,null,null,"","",5.2796800000000008,"",0]
[null,"2022","September","2022-09-12",null,"","",5.2796800000000008,"",0,null,null,74,"Mid Season",5.2796800000000008,1.05,5.5436640000000015,null,null,"","",5.2796800000000008,"",0,null,null,"","",5.2796800000000008,"",0,null,null,"","",5.2796800000000008,"",0]
[null,"2022","September","2022-09-13",null,"","",5.2796800000000008,"",0,null,null,75,"Mid Season",5.2796800000000008,1.05,5.5436640000000015,null,null,"","",5.2796800000000008,"",0,null,null,"","",5.2796800000000008,"",0,null,null,"","",5.2796800000000008,"",0]
[null,"2022","September","2022-09-14",null,"","",5.2796800000000008,"",0,null,null,76,"Mid Season",5.2796800000000008,1.05,5.5436640000000015,null,null,"","",5.2796800000000008,"",0,null,null,"","",5.2796800000000008,"",0,null,null,"","",5.2796800000000008,"",0]
[null,"2022","September","2022-09-15",null,"","",5.2796800000000008,"",0,null,null,77,"Mid Season",5.2796800000000008,1.05,5.5436640000000015,null,null,"","",5.2796800000000008,"",0,null,null,"","",5.2796800000000008,"",0,null,null,"","",5.2796800000000008,"",0]
[null,"2022","September","2022-09-16",null,"","",5.2796800000000008,"",0,null,null,78,"Mid Season",5.2796800000000008,1.05,5.5436640000000015,null,null,"","",5.2796800000000008,"",0,null,null,"","",5.2796800000000008,"",0,null,null,"","",5.2796800000000008,"",0]
[null,"2022","September","2022-09-17",null,"","",5.2796800000000008,"",0,null,null,79,"Mid Season",5.2796800000000008,1.05,5.5436640000000015,null,null,"","",5.2796800000000008,"",0,null,null,"","",5.2796800000000008,"",0,null,null,"","",5.2796800000000008,"",0]
[null,"2022","September","2022-09-18",null,"","",5.2796800000000008,"",0,null,null,80,"Mid Season",5.2796800000000008,1.05,5.5436640000000015,null,null,"","",5.2796800000000008,"",0,null,null,"","",5.2796800000000008,"",0,null,null,"","",5.2796800000000008,"",0]
[null,"2022","September","2022-09-19",null,"","",5.2796800000000008,"",0,null,null,81,"Late Season",5.2796800000000008,1.0449999999999999,5.5172656000000009,null,null,"","",5.2796800000000008,"",0,null,null,"","",5.2796800000000008,"",0,null,null,"","",5.2796800000000008,"",0]
[null,"2022","September","2022-09-20",null,"","",5.2796800000000008,"",0,null,null,82,"Late Season",5.2796800000000008,1.04,5.4908672000000012,null,null,"","",5.2796800000000008,"",0,null,null,"","",5.2796800000000008,"",0,null,null,"","",5.2796800000000008,"",0]
[null,"2022","September","2022-09-21",null,"","",5.2796800000000008,"",0,null,null,83,"Late Season",5.2796800000000008,1.0350000000000001,5.4644688000000015,null,null,"","",5.2796800000000008,"",0,null,null,"","",5.2796800000000008,"",0,null,null,"","",5.2796800000000008,"",0]
[null,"2022","September","2022-09-22",null,"","",5.2796800000000008,"",0,null,null,84,"Late Season",5.2796800000000008,1.03,5.4380704000000009,null,null,"","",5.2796800000000008,"",0,null,null,"","",5.2796800000000008,"",0,null,null,"","",5.2796800000000008,"",0]
[null,"2022","September","2022-09-23",null,"","",5.2796800000000008,"",0,null,null,85,"Late Season",5.2796800000000008,1.0249999999999999,5.4116720000000003,null,null,"","",5.2796800000000008,"",0,null,null,"","",5.2796800000000008,"",0,null,null,"","",5.2796800000000008,"",0]
[null,"2022","September","2022-09-24",null,"","",5.2796800000000008,"",0,null,null,86,"Late Season",5.2796800000000008,1.02,5.3852736000000005,null,null,"","",5.2796800000000008,"",0,null,null,"","",5.2796800000000008,"",0,null,null,"","",5.2796800000000008,"",0]
[null,{"$f":"IFERROR(TEXT(DATE(YEAR($D553),MONTH($D553),1),$D$7&$D$4),\"\")","v":"2022"},{"$f":"IFERROR(TEXT(DATE(YEAR($D553),MONTH($D553),1),$D$7&$D$5),\"\")","v":"September"},"2022-09-25",null,{"$f":"IFERROR(IF(OR($D553-$H$34+1<=0,$D553>$I$37),\"\",$D553-$H$34+1),\"\")","v":""},{"$f":"IF(F553=\"\",\"\",IF(F553<=$G$34,\"Initial\",IF(AND(F553>$G$34,F553<=$G$35),\"Development\",IF(AND(F553>$G$35,F553<=$G$36),\"Mid Season\",\"Late Season\"))))","v":""},{"$f":"IFERROR(VLOOKUP($C553,$B$24:$C$35,2,FALSE),\"\")","v":5.2796800000000008},{"$f":"IF(F553=\"\",\"\",IF(F553<=$G$34,$J$34,IF(AND(F553>$G$34,F553<=$G$35),$J$34+((F553-$G$34)/$F$35)*($J$36-$J$34),IF(AND(F553>$G$35,F553<=$G$36),$J$36,$J$36+((F553-$G$36)/$F$37)*($J$37-$J$36)))))","v":""},0,null,null,{"$f":"IFERROR(IF(OR($D553-$O$34+1<=0,$D553>$P$37),\"\",$D553-$O$34+1),\"\")","v":87},{"$f":"IF(M553=\"\",\"\",IF(M553<=$N$34,\"Initial\",IF(AND(M553>$N$34,M553<=$N$35),\"Development\",IF(AND(M553>$N$35,M553<=$N$36),\"Mid Season\",\"Late Season\"))))","v":"Late Season"},{"$f":"IFERROR(VLOOKUP($C553,$B$24:$C$35,2,FALSE),\"\")","v":5.2796800000000008},{"$f":"IF(M553=\"\",\"\",IF(M553<=$N$34,$Q$34,IF(AND(M553>$N$34,M553<=$N$35),$Q$34+((M553-$N$34)/$M$35)*($Q$36-$Q$34),IF(AND(M553>$N$35,M553<=$N$36),$Q$36,$Q$36+((M553-$N$36)/$M$37)*($Q$37-$Q$36)))))","v":1.0150000000000001},5.3588752000000017,null,null,{"$f":"IFERROR(IF(OR($D553-$V$34+1<=0,$D553>$W$37),\"\",$D553-$V$34+1),\"\")","v":""},{"$f":"IF(T553=\"\",\"\",IF(T553<=$U$34,\"Initial\",IF(AND(T553>$U$34,T553<=$U$35),\"Development\",IF(AND(T553>$U$35,T553<=$U$36),\"Mid Season\",\"Late Season\"))))","v":""},{"$f":"IFERROR(VLOOKUP($C553,$B$24:$C$35,2,FALSE),\"\")","v":5.2796800000000008},{"$f":"IF(T553=\"\",\"\",IF(T553<=$U$34,$X$34,IF(AND(T553>$U$34,T553<=$U$35),$X$34+((T553-$U$34)/$T$35)*($X$36-$X$34),IF(AND(T553>$U$35,T553<=$U$36),$X$36,$X$36+((T553-$U$36)/$T$37)*($X$37-$X$36)))))","v":""},0,null,null,{"$f":"IFERROR(IF(OR($D553-$AC$34+1<=0,$D553>$AD$37),\"\",$D553-$AC$34+1),\"\")","v":""},{"$f":"IF(AA553=\"\",\"\",IF(AA553<=$AB$34,\"Initial\",IF(AND(AA553>$AB$34,AA553<=$AB$35),\"Development\",IF(AND(AA553>$AB$35,AA553<=$AB$36),\"Mid Season\",\"Late Season\"))))","v":""},{"$f":"IFERROR(VLOOKUP($C553,$B$24:$C$35,2,FALSE),\"\")","v":5.2796800000000008},{"$f":"IF(AA553=\"\",\"\",IF(AA553<=$AB$34,$AE$34,IF(AND(AA553>$AB$34,AA553<=$AB$35),$AE$34+((AA553-$AB$34)/$AA$35)*($AE$36-$AE$34),IF(AND(AA553>$AB$35,AA553<=$AB$36),$AE$36,$AE$36+((AA553-$AB$36)/$AA$37)*($AE$37-$AE$36)))))","v":""},0,null,null,"","",{"$f":"IFERROR(VLOOKUP($C553,$B$24:$C$35,2,FALSE),\"\")","v":5.2796800000000008},"",0]
[null,"2022","September",{"$f":"IFERROR(IF(D553+1<=$L$2, D553+1,\"\"),\"\")","v":"2022-09-26"},null,"","",5.2796800000000008,"",{"$f":"IFERROR((H554*I554),0)","v":0},null,null,88,"Late Season",5.2796800000000008,1.01,{"$f":"IFERROR((O554*P554),0)","v":5.3324768000000011},null,null,"","",5.2796800000000008,"",{"$f":"IFERROR((V554*W554),0)","v":0},null,null,"","",5.2796800000000008,"",{"$f":"IFERROR((AC554*AD554),0)","v":0},null,null,{"$f":"IFERROR(IF(OR($D554-$AJ$34+1<=0,$D554>$AK$37),\"\",$D554-$AJ$34+1),\"\")","v":""},{"$f":"IF(AH554=\"\",\"\",IF(AH554<=$AI$34,\"Initial\",IF(AND(AH554>$AI$34,AH554<=$AI$35),\"Development\",IF(AND(AH554>$AI$35,AH554<=$AI$36),\"Mid Season\",\"Late Season\"))))","v":""},5.2796800000000008,{"$f":"IF(AH554=\"\",\"\",IF(AH554<=$AB$34,$AE$34,IF(AND(AH554>$AB$34,AH554<=$AB$35),$AE$34+((AH554-$AB$34)/$AA$35)*($AE$36-$AE$34),IF(AND(AH554>$AB$35,AH554<=$AB$36),$AE$36,$AE$36+((AH554-$AB$36)/$AA$37)*($AE$37-$AE$36)))))","v":""},{"$f":"IFERROR((AJ554*AK554),0)","v":0}]
[null,"2022","September","2022-09-27",null,"","",5.2796800000000008,"",0,null,null,89,"Late Season",5.2796800000000008,1.0049999999999999,5.3060784000000005,null,null,"","",5.2796800000000008,"",0,null,null,"","",5.2796800000000008,"",0,null,null,"","",5.2796800000000008,"",0]
[null,"2022","September","2022-09-28",null,"","",5.2796800000000008,"",0,null,null,90,"Late Season",5.2796800000000008,1,5.2796800000000008,null,null,"","",5.2796800000000008,"",0,null,null,"","",5.2796800000000008,"",0,null,null,"","",5.2796800000000008,"",0]
[null,"2022","September","2022-09-29",null,"","",5.2796800000000008,"",0,null,null,91,"Late Season",5.2796800000000008,0.995,5.2532816000000011,null,null,"","",5.2796800000000008,"",0,null,null,"","",5.2796800000000008,"",0,null,null,"","",5.2796800000000008,"",0]
[null,"2022","September","2022-09-30",null,"","",5.2796800000000008,"",0,null,null,92,"Late Season",5.2796800000000008,0.99,5.2268832000000005,null,null,"","",5.2796800000000008,"",0,null,null,"","",5.2796800000000008,"",0,null,null,"","",5.2796800000000008,"",0]
[null,"2022","October","2022-10-01",null,"","",5.1283799999999999,"",0,null,null,93,"Late Season",5.1283799999999999,0.98499999999999999,5.0514542999999996,null,null,"","",5.1283799999999999,"",0,null,null,"","",5.1283799999999999,"",0,null,null,"","",5.1283799999999999,"",0]
[null,"2022","October","2022-10-02",null,"","",5.1283799999999999,"",0,null,null,94,"Late Season",5.1283799999999999,0.98,5.0258123999999995,null,null,"","",5.1283799999999999,"",0,null,null,"","",5.1283799999999999,"",0,null,null,"","",5.1283799999999999,"",0]
[null,"2022","October","2022-10-03",null,"","",5.1283799999999999,"",0,null,null,95,"Late Season",5.1283799999999999,0.97499999999999998,5.0001704999999994,null,null,"","",5.1283799999999999,"",0,null,null,"","",5.1283799999999999,"",0,null,null,"","",5.1283799999999999,"",0]
[null,"2022","October","2022-10-04",null,"","",5.1283799999999999,"",0,null,null,96,"Late Season",5.1283799999999999,0.97,4.9745286000000002,null,null,"","",5.1283799999999999,"",0,null,null,"","",5.1283799999999999,"",0,null,null,"","",5.1283799999999999,"",0]
[null,"2022","October","2022-10-05",null,"","",5.1283799999999999,"",0,null,null,97,"Late Season",5.1283799999999999,0.96499999999999997,4.9488867000000001,null,null,"","",5.1283799999999999,"",0,null,null,"","",5.1283799999999999,"",0,null,null,"","",5.1283799999999999,"",0]
[null,"2022","October","2022-10-06",null,"","",5.1283799999999999,"",0,null,null,98,"Late Season",5.1283799999999999,0.96,4.9232448,null,null,"","",5.1283799999999999,"",0,null,null,"","",5.1283799999999999,"",0,null,null,"","",5.1283799999999999,"",0]
[null,"2022","October","2022-10-07",null,"","",5.1283799999999999,"",0,null,null,99,"Late Season",5.1283799999999999,0.95499999999999996,4.8976028999999999,null,null,"","",5.1283799999999999,"",0,null,null,"","",5.1283799999999999,"",0,null,null,"","",5.1283799999999999,"",0]
[null,"2022","October","2022-10-08",null,"","",5.1283799999999999,"",0,null,null,100,"Late Season",5.1283799999999999,0.95,4.8719609999999998,null,null,"","",5.1283799999999999,"",0,null,null,"","",5.1283799999999999,"",0,null,null,"","",5.1283799999999999,"",0]
[null,"2022","October","2022-10-09",null,"","",5.1283799999999999,"",0,null,null,"","",5.1283799999999999,"",0,null,null,"","",5.1283799999999999,"",0,null,null,"","",5.1283799999999999,"",0,null,null,"","",5.1283799999999999,"",0]
[null,"2022","October","2022-10-10",null,"","",5.1283799999999999,"",0,null,null,"","",5.1283799999999999,"",0,null,null,"","",5.1283799999999999,"",0,null,null,"","",5.1283799999999999,"",0,null,null,"","",5.1283799999999999,"",0]
[null,"2022","October","2022-10-11",null,"","",5.1283799999999999,"",0,null,null,"","",5.1283799999999999,"",0,null,null,"","",5.1283799999999999,"",0,null,null,"","",5.1283799999999999,"",0,null,null,"","",5.1283799999999999,"",0]
[null,"2022","October","2022-10-12",null,"","",5.1283799999999999,"",0,null,null,"","",5.1283799999999999,"",0,null,null,"","",5.1283799999999999,"",0,null,null,"","",5.1283799999999999,"",0,null,null,"","",5.1283799999999999,"",0]
[null,"2022","October","2022-10-13",null,"","",5.1283799999999999,"",0,null,null,"","",5.1283799999999999,"",0,null,null,"","",5.1283799999999999,"",0,null,null,"","",5.1283799999999999,"",0,null,null,"","",5.1283799999999999,"",0]
[null,"2022","October","2022-10-14",null,"","",5.1283799999999999,"",0,null,null,"","",5.1283799999999999,"",0,null,null,"","",5.1283799999999999,"",0,null,null,"","",5.1283799999999999,"",0,null,null,"","",5.1283799999999999,"",0]
[null,"2022","October","2022-10-15",null,"","",5.1283799999999999,"",0,null,null,"","",5.1283799999999999,"",0,null,null,"","",5.1283799999999999,"",0,null,null,"","",5.1283799999999999,"",0,null,null,"","",5.1283799999999999,"",0]
[null,"2022","October","2022-10-16",null,"","",5.1283799999999999,"",0,null,null,"","",5.1283799999999999,"",0,null,null,"","",5.1283799999999999,"",0,null,null,"","",5.1283799999999999,"",0,null,null,"","",5.1283799999999999,"",0]
[null,"2022","October","2022-10-17",null,"","",5.1283799999999999,"",0,null,null,"","",5.1283799999999999,"",0,null,null,"","",5.1283799999999999,"",0,null,null,"","",5.1283799999999999,"",0,null,null,"","",5.1283799999999999,"",0]
[null,"2022","October","2022-10-18",null,"","",5.1283799999999999,"",0,null,null,"","",5.1283799999999999,"",0,null,null,"","",5.1283799999999999,"",0,null,null,"","",5.1283799999999999,"",0,null,null,"","",5.1283799999999999,"",0]
[null,"2022","October","2022-10-19",null,"","",5.1283799999999999,"",0,null,null,"","",5.1283799999999999,"",0,null,null,"","",5.1283799999999999,"",0,null,null,"","",5.1283799999999999,"",0,null,null,"","",5.1283799999999999,"",0]
[null,"2022","October","2022-10-20",null,"","",5.1283799999999999,"",0,null,null,"","",5.1283799999999999,"",0,null,null,"","",5.1283799999999999,"",0,null,null,"","",5.1283799999999999,"",0,null,null,"","",5.1283799999999999,"",0]
[null,"2022","October","2022-10-21",null,"","",5.1283799999999999,"",0,null,null,"","",5.1283799999999999,"",0,null,null,"","",5.1283799999999999,"",0,null,null,"","",5.1283799999999999,"",0,null,null,"","",5.1283799999999999,"",0]
[null,"2022","October","2022-10-22",null,"","",5.1283799999999999,"",0,null,null,"","",5.1283799999999999,"",0,null,null,"","",5.1283799999999999,"",0,null,null,"","",5.1283799999999999,"",0,null,null,"","",5.1283799999999999,"",0]
[null,"2022","October","2022-10-23",null,"","",5.1283799999999999,"",0,null,null,"","",5.1283799999999999,"",0,null,null,"","",5.1283799999999999,"",0,null,null,"","",5.1283799999999999,"",0,null,null,"","",5.1283799999999999,"",0]
[null,"2022","October","2022-10-24",null,"","",5.1283799999999999,"",0,null,null,"","",5.1283799999999999,"",0,null,null,"","",5.1283799999999999,"",0,null,null,"","",5.1283799999999999,"",0,null,null,"","",5.1283799999999999,"",0]
[null,"2022","October","2022-10-25",null,"","",5.1283799999999999,"",0,null,null,"","",5.1283799999999999,"",0,null,null,"","",5.1283799999999999,"",0,null,null,"","",5.1283799999999999,"",0,null,null,"","",5.1283799999999999,"",0]
[null,"2022","October","2022-10-26",null,"","",5.1283799999999999,"",0,null,null,"","",5.1283799999999999,"",0,null,null,"","",5.1283799999999999,"",0,null,null,"","",5.1283799999999999,"",0,null,null,"","",5.1283799999999999,"",0]
[null,"2022","October","2022-10-27",null,"","",5.1283799999999999,"",0,null,null,"","",5.1283799999999999,"",0,null,null,"","",5.1283799999999999,"",0,null,null,"","",5.1283799999999999,"",0,null,null,"","",5.1283799999999999,"",0]
[null,"2022","October","2022-10-28",null,"","",5.1283799999999999,"",0,null,null,"","",5.1283799999999999,"",0,null,null,"","",5.1283799999999999,"",0,null,null,"","",5.1283799999999999,"",0,null,null,"","",5.1283799999999999,"",0]
[null,"2022","October","2022-10-29",null,"","",5.1283799999999999,"",0,null,null,"","",5.1283799999999999,"",0,null,null,"","",5.1283799999999999,"",0,null,null,"","",5.1283799999999999,"",0,null,null,"","",5.1283799999999999,"",0]
[null,"2022","October","2022-10-30",null,"","",5.1283799999999999,"",0,null,null,"","",5.1283799999999999,"",0,null,null,"","",5.1283799999999999,"",0,null,null,"","",5.1283799999999999,"",0,null,null,"","",5.1283799999999999,"",0]
[null,"2022","October","2022-10-31",null,"","",5.1283799999999999,"",0,null,null,"","",5.1283799999999999,"",0,null,null,"","",5.1283799999999999,"",0,null,null,"","",5.1283799999999999,"",0,null,null,"","",5.1283799999999999,"",0]
[null,"2022","November","2022-11-01",null,"","",5.091120000000001,"",0,null,null,"","",5.091120000000001,"",0,null,null,"","",5.091120000000001,"",0,null,null,"","",5.091120000000001,"",0,null,null,"","",5.091120000000001,"",0]
[null,"2022","November","2022-11-02",null,"","",5.091120000000001,"",0,null,null,"","",5.091120000000001,"",0,null,null,"","",5.091120000000001,"",0,null,null,"","",5.091120000000001,"",0,null,null,"","",5.091120000000001,"",0]
[null,"2022","November","2022-11-03",null,"","",5.091120000000001,"",0,null,null,"","",5.091120000000001,"",0,null,null,"","",5.091120000000001,"",0,null,null,"","",5.091120000000001,"",0,null,null,"","",5.091120000000001,"",0]
[null,"2022","November","2022-11-04",null,"","",5.091120000000001,"",0,null,null,"","",5.091120000000001,"",0,null,null,"","",5.091120000000001,"",0,null,null,"","",5.091120000000001,"",0,null,null,"","",5.091120000000001,"",0]
[null,"2022","November","2022-11-05",null,"","",5.091120000000001,"",0,null,null,"","",5.091120000000001,"",0,null,null,"","",5.091120000000001,"",0,null,null,"","",5.091120000000001,"",0,null,null,"","",5.091120000000001,"",0]
[null,"2022","November","2022-11-06",null,"","",5.091120000000001,"",0,null,null,"","",5.091120000000001,"",0,null,null,"","",5.091120000000001,"",0,null,null,"","",5.091120000000001,"",0,null,null,"","",5.091120000000001,"",0]
[null,"2022","November","2022-11-07",null,"","",5.091120000000001,"",0,null,null,"","",5.091120000000001,"",0,null,null,"","",5.091120000000001,"",0,null,null,"","",5.091120000000001,"",0,null,null,"","",5.091120000000001,"",0]
[null,"2022","November","2022-11-08",null,"","",5.091120000000001,"",0,null,null,"","",5.091120000000001,"",0,null,null,"","",5.091120000000001,"",0,null,null,"","",5.091120000000001,"",0,null,null,"","",5.091120000000001,"",0]
[null,"2022","November","2022-11-09",null,"","",5.091120000000001,"",0,null,null,"","",5.091120000000001,"",0,null,null,"","",5.091120000000001,"",0,null,null,"","",5.091120000000001,"",0,null,null,"","",5.091120000000001,"",0]
[null,"2022","November","2022-11-10",null,"","",5.091120000000001,"",0,null,null,"","",5.091120000000001,"",0,null,null,"","",5.091120000000001,"",0,null,null,"","",5.091120000000001,"",0,null,null,"","",5.091120000000001,"",0]
[null,"2022","November","2022-11-11",null,"","",5.091120000000001,"",0,null,null,"","",5.091120000000001,"",0,null,null,"","",5.091120000000001,"",0,null,null,"","",5.091120000000001,"",0,null,null,"","",5.091120000000001,"",0]
[null,"2022","November","2022-11-12",null,"","",5.091120000000001,"",0,null,null,"","",5.091120000000001,"",0,null,null,"","",5.091120000000001,"",0,null,null,"","",5.091120000000001,"",0,null,null,"","",5.091120000000001,"",0]
[null,"2022","November","2022-11-13",null,"","",5.091120000000001,"",0,null,null,"","",5.091120000000001,"",0,null,null,"","",5.091120000000001,"",0,null,null,"","",5.091120000000001,"",0,null,null,"","",5.091120000000001,"",0]
[null,"2022","November","2022-11-14",null,"","",5.091120000000001,"",0,null,null,"","",5.091120000000001,"",0,null,null,"","",5.091120000000001,"",0,null,null,"","",5.091120000000001,"",0,null,null,"","",5.091120000000001,"",0]
[null,"2022","November","2022-11-15",null,"","",5.091120000000001,"",0,null,null,"","",5.091120000000001,"",0,null,null,"","",5.091120000000001,"",0,null,null,"","",5.091120000000001,"",0,null,null,"","",5.091120000000001,"",0]
[null,"2022","November","2022-11-16",null,"","",5.091120000000001,"",0,null,null,"","",5.091120000000001,"",0,null,null,"","",5.091120000000001,"",0,null,null,"","",5.091120000000001,"",0,null,null,"","",5.091120000000001,"",0]
[null,"2022","November","2022-11-17",null,"","",5.091120000000001,"",0,null,null,"","",5.091120000000001,"",0,null,null,"","",5.091120000000001,"",0,null,null,"","",5.091120000000001,"",0,null,null,"","",5.091120000000001,"",0]
[null,"2022","November","2022-11-18",null,"","",5.091120000000001,"",0,null,null,"","",5.091120000000001,"",0,null,null,"","",5.091120000000001,"",0,null,null,"","",5.091120000000001,"",0,null,null,"","",5.091120000000001,"",0]
[null,"2022","November","2022-11-19",null,"","",5.091120000000001,"",0,null,null,"","",5.091120000000001,"",0,null,null,"","",5.091120000000001,"",0,null,null,"","",5.091120000000001,"",0,null,null,"","",5.091120000000001,"",0]
[null,"2022","November","2022-11-20",null,"","",5.091120000000001,"",0,null,null,"","",5.091120000000001,"",0,null,null,"","",5.091120000000001,"",0,null,null,"","",5.091120000000001,"",0,null,null,"","",5.091120000000001,"",0]
[null,"2022","November","2022-11-21",null,"","",5.091120000000001,"",0,null,null,"","",5.091120000000001,"",0,null,null,"","",5.091120000000001,"",0,null,null,"","",5.091120000000001,"",0,null,null,"","",5.091120000000001,"",0]
[null,"2022","November","2022-11-22",null,"","",5.091120000000001,"",0,null,null,"","",5.091120000000001,"",0,null,null,"","",5.091120000000001,"",0,null,null,"","",5.091120000000001,"",0,null,null,"","",5.091120000000001,"",0]
[null,"2022","November","2022-11-23",null,"","",5.091120000000001,"",0,null,null,"","",5.091120000000001,"",0,null,null,"","",5.091120000000001,"",0,null,null,"","",5.091120000000001,"",0,null,null,"","",5.091120000000001,"",0]
[null,"2022","November","2022-11-24",null,"","",5.091120000000001,"",0,null,null,"","",5.091120000000001,"",0,null,null,"","",5.091120000000001,"",0,null,null,"","",5.091120000000001,"",0,null,null,"","",5.091120000000001,"",0]
[null,"2022","November","2022-11-25",null,"","",5.091120000000001,"",0,null,null,"","",5.091120000000001,"",0,null,null,"","",5.091120000000001,"",0,null,null,"","",5.091120000000001,"",0,null,null,"","",5.091120000000001,"",0]
[null,"2022","November","2022-11-26",null,"","",5.091120000000001,"",0,null,null,"","",5.091120000000001,"",0,null,null,"","",5.091120000000001,"",0,null,null,"","",5.091120000000001,"",0,null,null,"","",5.091120000000001,"",0]
[null,"2022","November","2022-11-27",null,"","",5.091120000000001,"",0,null,null,"","",5.091120000000001,"",0,null,null,"","",5.091120000000001,"",0,null,null,"","",5.091120000000001,"",0,null,null,"","",5.091120000000001,"",0]
[null,{"$f":"IFERROR(TEXT(DATE(YEAR($D617),MONTH($D617),1),$D$7&$D$4),\"\")","v":"2022"},{"$f":"IFERROR(TEXT(DATE(YEAR($D617),MONTH($D617),1),$D$7&$D$5),\"\")","v":"November"},"2022-11-28",null,{"$f":"IFERROR(IF(OR($D617-$H$34+1<=0,$D617>$I$37),\"\",$D617-$H$34+1),\"\")","v":""},{"$f":"IF(F617=\"\",\"\",IF(F617<=$G$34,\"Initial\",IF(AND(F617>$G$34,F617<=$G$35),\"Development\",IF(AND(F617>$G$35,F617<=$G$36),\"Mid Season\",\"Late Season\"))))","v":""},{"$f":"IFERROR(VLOOKUP($C617,$B$24:$C$35,2,FALSE),\"\")","v":5.091120000000001},{"$f":"IF(F617=\"\",\"\",IF(F617<=$G$34,$J$34,IF(AND(F617>$G$34,F617<=$G$35),$J$34+((F617-$G$34)/$F$35)*($J$36-$J$34),IF(AND(F617>$G$35,F617<=$G$36),$J$36,$J$36+((F617-$G$36)/$F$37)*($J$37-$J$36)))))","v":""},0,null,null,{"$f":"IFERROR(IF(OR($D617-$O$34+1<=0,$D617>$P$37),\"\",$D617-$O$34+1),\"\")","v":""},{"$f":"IF(M617=\"\",\"\",IF(M617<=$N$34,\"Initial\",IF(AND(M617>$N$34,M617<=$N$35),\"Development\",IF(AND(M617>$N$35,M617<=$N$36),\"Mid Season\",\"Late Season\"))))","v":""},{"$f":"IFERROR(VLOOKUP($C617,$B$24:$C$35,2,FALSE),\"\")","v":5.091120000000001},{"$f":"IF(M617=\"\",\"\",IF(M617<=$N$34,$Q$34,IF(AND(M617>$N$34,M617<=$N$35),$Q$34+((M617-$N$34)/$M$35)*($Q$36-$Q$34),IF(AND(M617>$N$35,M617<=$N$36),$Q$36,$Q$36+((M617-$N$36)/$M$37)*($Q$37-$Q$36)))))","v":""},0,null,null,{"$f":"IFERROR(IF(OR($D617-$V$34+1<=0,$D617>$W$37),\"\",$D617-$V$34+1),\"\")","v":""},{"$f":"IF(T617=\"\",\"\",IF(T617<=$U$34,\"Initial\",IF(AND(T617>$U$34,T617<=$U$35),\"Development\",IF(AND(T617>$U$35,T617<=$U$36),\"Mid Season\",\"Late Season\"))))","v":""},{"$f":"IFERROR(VLOOKUP($C617,$B$24:$C$35,2,FALSE),\"\")","v":5.091120000000001},{"$f":"IF(T617=\"\",\"\",IF(T617<=$U$34,$X$34,IF(AND(T617>$U$34,T617<=$U$35),$X$34+((T617-$U$34)/$T$35)*($X$36-$X$34),IF(AND(T617>$U$35,T617<=$U$36),$X$36,$X$36+((T617-$U$36)/$T$37)*($X$37-$X$36)))))","v":""},0,null,null,{"$f":"IFERROR(IF(OR($D617-$AC$34+1<=0,$D617>$AD$37),\"\",$D617-$AC$34+1),\"\")","v":""},{"$f":"IF(AA617=\"\",\"\",IF(AA617<=$AB$34,\"Initial\",IF(AND(AA617>$AB$34,AA617<=$AB$35),\"Development\",IF(AND(AA617>$AB$35,AA617<=$AB$36),\"Mid Season\",\"Late Season\"))))","v":""},{"$f":"IFERROR(VLOOKUP($C617,$B$24:$C$35,2,FALSE),\"\")","v":5.091120000000001},{"$f":"IF(AA617=\"\",\"\",IF(AA617<=$AB$34,$AE$34,IF(AND(AA617>$AB$34,AA617<=$AB$35),$AE$34+((AA617-$AB$34)/$AA$35)*($AE$36-$AE$34),IF(AND(AA617>$AB$35,AA617<=$AB$36),$AE$36,$AE$36+((AA617-$AB$36)/$AA$37)*($AE$37-$AE$36)))))","v":""},0,null,null,"","",{"$f":"IFERROR(VLOOKUP($C617,$B$24:$C$35,2,FALSE),\"\")","v":5.091120000000001},"",0]
[null,"2022","November",{"$f":"IFERROR(IF(D617+1<=$L$2, D617+1,\"\"),\"\")","v":"2022-11-29"},null,"","",5.091120000000001,"",{"$f":"IFERROR((H618*I618),0)","v":0},null,null,"","",5.091120000000001,"",{"$f":"IFERROR((O618*P618),0)","v":0},null,null,"","",5.091120000000001,"",{"$f":"IFERROR((V618*W618),0)","v":0},null,null,"","",5.091120000000001,"",{"$f":"IFERROR((AC618*AD618),0)","v":0},null,null,{"$f":"IFERROR(IF(OR($D618-$AJ$34+1<=0,$D618>$AK$37),\"\",$D618-$AJ$34+1),\"\")","v":""},{"$f":"IF(AH618=\"\",\"\",IF(AH618<=$AI$34,\"Initial\",IF(AND(AH618>$AI$34,AH618<=$AI$35),\"Development\",IF(AND(AH618>$AI$35,AH618<=$AI$36),\"Mid Season\",\"Late Season\"))))","v":""},5.091120000000001,{"$f":"IF(AH618=\"\",\"\",IF(AH618<=$AB$34,$AE$34,IF(AND(AH618>$AB$34,AH618<=$AB$35),$AE$34+((AH618-$AB$34)/$AA$35)*($AE$36-$AE$34),IF(AND(AH618>$AB$35,AH618<=$AB$36),$AE$36,$AE$36+((AH618-$AB$36)/$AA$37)*($AE$37-$AE$36)))))","v":""},{"$f":"IFERROR((AJ618*AK618),0)","v":0}]
[null,"2022","November","2022-11-30",null,"","",5.091120000000001,"",0,null,null,"","",5.091120000000001,"",0,null,null,"","",5.091120000000001,"",0,null,null,"","",5.091120000000001,"",0,null,null,"","",5.091120000000001,"",0]
[null,"2022","December","2022-12-01",null,"","",5.1408000000000005,"",0,null,null,"","",5.1408000000000005,"",0,null,null,"","",5.1408000000000005,"",0,null,null,"","",5.1408000000000005,"",0,null,null,"","",5.1408000000000005,"",0]
[null,"2022","December","2022-12-02",null,"","",5.1408000000000005,"",0,null,null,"","",5.1408000000000005,"",0,null,null,"","",5.1408000000000005,"",0,null,null,"","",5.1408000000000005,"",0,null,null,"","",5.1408000000000005,"",0]
[null,"2022","December","2022-12-03",null,"","",5.1408000000000005,"",0,null,null,"","",5.1408000000000005,"",0,null,null,"","",5.1408000000000005,"",0,null,null,"","",5.1408000000000005,"",0,null,null,"","",5.1408000000000005,"",0]
[null,"2022","December","2022-12-04",null,"","",5.1408000000000005,"",0,null,null,"","",5.1408000000000005,"",0,null,null,"","",5.1408000000000005,"",0,null,null,"","",5.1408000000000005,"",0,null,null,"","",5.1408000000000005,"",0]
[null,"2022","December","2022-12-05",null,"","",5.1408000000000005,"",0,null,null,"","",5.1408000000000005,"",0,null,null,"","",5.1408000000000005,"",0,null,null,"","",5.1408000000000005,"",0,null,null,"","",5.1408000000000005,"",0]
[null,"2022","December","2022-12-06",null,"","",5.1408000000000005,"",0,null,null,"","",5.1408000000000005,"",0,null,null,"","",5.1408000000000005,"",0,null,null,"","",5.1408000000000005,"",0,null,null,"","",5.1408000000000005,"",0]
[null,"2022","December","2022-12-07",null,"","",5.1408000000000005,"",0,null,null,"","",5.1408000000000005,"",0,null,null,"","",5.1408000000000005,"",0,null,null,"","",5.1408000000000005,"",0,null,null,"","",5.1408000000000005,"",0]
[null,"2022","December","2022-12-08",null,"","",5.1408000000000005,"",0,null,null,"","",5.1408000000000005,"",0,null,null,"","",5.1408000000000005,"",0,null,null,"","",5.1408000000000005,"",0,null,null,"","",5.1408000000000005,"",0]
[null,"2022","December","2022-12-09",null,"","",5.1408000000000005,"",0,null,null,"","",5.1408000000000005,"",0,null,null,"","",5.1408000000000005,"",0,null,null,"","",5.1408000000000005,"",0,null,null,"","",5.1408000000000005,"",0]
[null,"2022","December","2022-12-10",null,"","",5.1408000000000005,"",0,null,null,"","",5.1408000000000005,"",0,null,null,"","",5.1408000000000005,"",0,null,null,"","",5.1408000000000005,"",0,null,null,"","",5.1408000000000005,"",0]
[null,"2022","December","2022-12-11",null,"","",5.1408000000000005,"",0,null,null,"","",5.1408000000000005,"",0,null,null,"","",5.1408000000000005,"",0,null,null,"","",5.1408000000000005,"",0,null,null,"","",5.1408000000000005,"",0]
[null,"2022","December","2022-12-12",null,"","",5.1408000000000005,"",0,null,null,"","",5.1408000000000005,"",0,null,null,"","",5.1408000000000005,"",0,null,null,"","",5.1408000000000005,"",0,null,null,"","",5.1408000000000005,"",0]
[null,"2022","December","2022-12-13",null,"","",5.1408000000000005,"",0,null,null,"","",5.1408000000000005,"",0,null,null,"","",5.1408000000000005,"",0,null,null,"","",5.1408000000000005,"",0,null,null,"","",5.1408000000000005,"",0]
[null,"2022","December","2022-12-14",null,"","",5.1408000000000005,"",0,null,null,"","",5.1408000000000005,"",0,null,null,"","",5.1408000000000005,"",0,null,null,"","",5.1408000000000005,"",0,null,null,"","",5.1408000000000005,"",0]
[null,"2022","December","2022-12-15",null,"","",5.1408000000000005,"",0,null,null,"","",5.1408000000000005,"",0,null,null,"","",5.1408000000000005,"",0,null,null,"","",5.1408000000000005,"",0,null,null,"","",5.1408000000000005,"",0]
[null,"2022","December","2022-12-16",null,"","",5.1408000000000005,"",0,null,null,"","",5.1408000000000005,"",0,null,null,"","",5.1408000000000005,"",0,null,null,"","",5.1408000000000005,"",0,null,null,"","",5.1408000000000005,"",0]
[null,"2022","December","2022-12-17",null,"","",5.1408000000000005,"",0,null,null,"","",5.1408000000000005,"",0,null,null,"","",5.1408000000000005,"",0,null,null,"","",5.1408000000000005,"",0,null,null,"","",5.1408000000000005,"",0]
[null,"2022","December","2022-12-18",null,"","",5.1408000000000005,"",0,null,null,"","",5.1408000000000005,"",0,null,null,"","",5.1408000000000005,"",0,null,null,"","",5.1408000000000005,"",0,null,null,"","",5.1408000000000005,"",0]
[null,"2022","December","2022-12-19",null,"","",5.1408000000000005,"",0,null,null,"","",5.1408000000000005,"",0,null,null,"","",5.1408000000000005,"",0,null,null,"","",5.1408000000000005,"",0,null,null,"","",5.1408000000000005,"",0]
[null,"2022","December","2022-12-20",null,"","",5.1408000000000005,"",0,null,null,"","",5.1408000000000005,"",0,null,null,"","",5.1408000000000005,"",0,null,null,"","",5.1408000000000005,"",0,null,null,"","",5.1408000000000005,"",0]
[null,"2022","December","2022-12-21",null,"","",5.1408000000000005,"",0,null,null,"","",5.1408000000000005,"",0,null,null,"","",5.1408000000000005,"",0,null,null,"","",5.1408000000000005,"",0,null,null,"","",5.1408000000000005,"",0]
[null,"2022","December","2022-12-22",null,"","",5.1408000000000005,"",0,null,null,"","",5.1408000000000005,"",0,null,null,"","",5.1408000000000005,"",0,null,null,"","",5.1408000000000005,"",0,null,null,"","",5.1408000000000005,"",0]
[null,"2022","December","2022-12-23",null,"","",5.1408000000000005,"",0,null,null,"","",5.1408000000000005,"",0,null,null,"","",5.1408000000000005,"",0,null,null,"","",5.1408000000000005,"",0,null,null,"","",5.1408000000000005,"",0]
[null,"2022","December","2022-12-24",null,"","",5.1408000000000005,"",0,null,null,"","",5.1408000000000005,"",0,null,null,"","",5.1408000000000005,"",0,null,null,"","",5.1408000000000005,"",0,null,null,"","",5.1408000000000005,"",0]
[null,"2022","December","2022-12-25",null,"","",5.1408000000000005,"",0,null,null,"","",5.1408000000000005,"",0,null,null,"","",5.1408000000000005,"",0,null,null,"","",5.1408000000000005,"",0,null,null,"","",5.1408000000000005,"",0]
[null,"2022","December","2022-12-26",null,"","",5.1408000000000005,"",0,null,null,"","",5.1408000000000005,"",0,null,null,"","",5.1408000000000005,"",0,null,null,"","",5.1408000000000005,"",0,null,null,"","",5.1408000000000005,"",0]
[null,"2022","December","2022-12-27",null,"","",5.1408000000000005,"",0,null,null,"","",5.1408000000000005,"",0,null,null,"","",5.1408000000000005,"",0,null,null,"","",5.1408000000000005,"",0,null,null,"","",5.1408000000000005,"",0]
[null,"2022","December","2022-12-28",null,"","",5.1408000000000005,"",0,null,null,"","",5.1408000000000005,"",0,null,null,"","",5.1408000000000005,"",0,null,null,"","",5.1408000000000005,"",0,null,null,"","",5.1408000000000005,"",0]
[null,"2022","December","2022-12-29",null,"","",5.1408000000000005,"",0,null,null,"","",5.1408000000000005,"",0,null,null,"","",5.1408000000000005,"",0,null,null,"","",5.1408000000000005,"",0,null,null,"","",5.1408000000000005,"",0]
[null,"2022","December","2022-12-30",null,"","",5.1408000000000005,"",0,null,null,"","",5.1408000000000005,"",0,null,null,"","",5.1408000000000005,"",0,null,null,"","",5.1408000000000005,"",0,null,null,"","",5.1408000000000005,"",0]
[null,"2022","December","2022-12-31",null,"","",5.1408000000000005,"",0,null,null,"","",5.1408000000000005,"",0,null,null,"","",5.1408000000000005,"",0,null,null,"","",5.1408000000000005,"",0,null,null,"","",5.1408000000000005,"",0]
[null,"2023","January","2023-01-01",null,"","",5.3271000000000006,"",0,null,null,"","",5.3271000000000006,"",0,null,null,"","",5.3271000000000006,"",0,null,null,"","",5.3271000000000006,"",0,null,null,"","",5.3271000000000006,"",0]
[null,"2023","January","2023-01-02",null,"","",5.3271000000000006,"",0,null,null,"","",5.3271000000000006,"",0,null,null,"","",5.3271000000000006,"",0,null,null,"","",5.3271000000000006,"",0,null,null,"","",5.3271000000000006,"",0]
[null,"2023","January","2023-01-03",null,"","",5.3271000000000006,"",0,null,null,"","",5.3271000000000006,"",0,null,null,"","",5.3271000000000006,"",0,null,null,"","",5.3271000000000006,"",0,null,null,"","",5.3271000000000006,"",0]
[null,"2023","January","2023-01-04",null,"","",5.3271000000000006,"",0,null,null,"","",5.3271000000000006,"",0,null,null,"","",5.3271000000000006,"",0,null,null,"","",5.3271000000000006,"",0,null,null,"","",5.3271000000000006,"",0]
[null,"2023","January","2023-01-05",null,"","",5.3271000000000006,"",0,null,null,"","",5.3271000000000006,"",0,null,null,"","",5.3271000000000006,"",0,null,null,"","",5.3271000000000006,"",0,null,null,"","",5.3271000000000006,"",0]
[null,"2023","January","2023-01-06",null,"","",5.3271000000000006,"",0,null,null,"","",5.3271000000000006,"",0,null,null,"","",5.3271000000000006,"",0,null,null,"","",5.3271000000000006,"",0,null,null,"","",5.3271000000000006,"",0]
[null,"2023","January","2023-01-07",null,"","",5.3271000000000006,"",0,null,null,"","",5.3271000000000006,"",0,null,null,"","",5.3271000000000006,"",0,null,null,"","",5.3271000000000006,"",0,null,null,"","",5.3271000000000006,"",0]
[null,"2023","January","2023-01-08",null,"","",5.3271000000000006,"",0,null,null,"","",5.3271000000000006,"",0,null,null,"","",5.3271000000000006,"",0,null,null,"","",5.3271000000000006,"",0,null,null,"","",5.3271000000000006,"",0]
[null,"2023","January","2023-01-09",null,"","",5.3271000000000006,"",0,null,null,"","",5.3271000000000006,"",0,null,null,"","",5.3271000000000006,"",0,null,null,"","",5.3271000000000006,"",0,null,null,"","",5.3271000000000006,"",0]
[null,"2023","January","2023-01-10",null,"","",5.3271000000000006,"",0,null,null,"","",5.3271000000000006,"",0,null,null,"","",5.3271000000000006,"",0,null,null,"","",5.3271000000000006,"",0,null,null,"","",5.3271000000000006,"",0]
[null,"2023","January","2023-01-11",null,"","",5.3271000000000006,"",0,null,null,"","",5.3271000000000006,"",0,null,null,"","",5.3271000000000006,"",0,null,null,"","",5.3271000000000006,"",0,null,null,"","",5.3271000000000006,"",0]
[null,"2023","January","2023-01-12",null,"","",5.3271000000000006,"",0,null,null,"","",5.3271000000000006,"",0,null,null,"","",5.3271000000000006,"",0,null,null,"","",5.3271000000000006,"",0,null,null,"","",5.3271000000000006,"",0]
[null,"2023","January","2023-01-13",null,"","",5.3271000000000006,"",0,null,null,"","",5.3271000000000006,"",0,null,null,"","",5.3271000000000006,"",0,null,null,"","",5.3271000000000006,"",0,null,null,"","",5.3271000000000006,"",0]
[null,"2023","January","2023-01-14",null,"","",5.3271000000000006,"",0,null,null,"","",5.3271000000000006,"",0,null,null,"","",5.3271000000000006,"",0,null,null,"","",5.3271000000000006,"",0,null,null,"","",5.3271000000000006,"",0]
[null,"2023","January","2023-01-15",null,"","",5.3271000000000006,"",0,null,null,"","",5.3271000000000006,"",0,null,null,"","",5.3271000000000006,"",0,null,null,"","",5.3271000000000006,"",0,null,null,"","",5.3271000000000006,"",0]
[null,"2023","January","2023-01-16",null,"","",5.3271000000000006,"",0,null,null,"","",5.3271000000000006,"",0,null,null,"","",5.3271000000000006,"",0,null,null,"","",5.3271000000000006,"",0,null,null,"","",5.3271000000000006,"",0]
[null,"2023","January","2023-01-17",null,"","",5.3271000000000006,"",0,null,null,"","",5.3271000000000006,"",0,null,null,"","",5.3271000000000006,"",0,null,null,"","",5.3271000000000006,"",0,null,null,"","",5.3271000000000006,"",0]
[null,"2023","January","2023-01-18",null,"","",5.3271000000000006,"",0,null,null,"","",5.3271000000000006,"",0,null,null,"","",5.3271000000000006,"",0,null,null,"","",5.3271000000000006,"",0,null,null,"","",5.3271000000000006,"",0]
[null,"2023","January","2023-01-19",null,"","",5.3271000000000006,"",0,null,null,"","",5.3271000000000006,"",0,null,null,"","",5.3271000000000006,"",0,null,null,"","",5.3271000000000006,"",0,null,null,"","",5.3271000000000006,"",0]
[null,"2023","January","2023-01-20",null,"","",5.3271000000000006,"",0,null,null,"","",5.3271000000000006,"",0,null,null,"","",5.3271000000000006,"",0,null,null,"","",5.3271000000000006,"",0,null,null,"","",5.3271000000000006,"",0]
[null,"2023","January","2023-01-21",null,"","",5.3271000000000006,"",0,null,null,"","",5.3271000000000006,"",0,null,null,"","",5.3271000000000006,"",0,null,null,"","",5.3271000000000006,"",0,null,null,"","",5.3271000000000006,"",0]
[null,"2023","January","2023-01-22",null,"","",5.3271000000000006,"",0,null,null,"","",5.3271000000000006,"",0,null,null,"","",5.3271000000000006,"",0,null,null,"","",5.3271000000000006,"",0,null,null,"","",5.3271000000000006,"",0]
[null,"2023","January","2023-01-23",null,"","",5.3271000000000006,"",0,null,null,"","",5.3271000000000006,"",0,null,null,"","",5.3271000000000006,"",0,null,null,"","",5.3271000000000006,"",0,null,null,"","",5.3271000000000006,"",0]
[null,"2023","January","2023-01-24",null,"","",5.3271000000000006,"",0,null,null,"","",5.3271000000000006,"",0,null,null,"","",5.3271000000000006,"",0,null,null,"","",5.3271000000000006,"",0,null,null,"","",5.3271000000000006,"",0]
[null,"2023","January","2023-01-25",null,"","",5.3271000000000006,"",0,null,null,"","",5.3271000000000006,"",0,null,null,"","",5.3271000000000006,"",0,null,null,"","",5.3271000000000006,"",0,null,null,"","",5.3271000000000006,"",0]
[null,"2023","January","2023-01-26",null,"","",5.3271000000000006,"",0,null,null,"","",5.3271000000000006,"",0,null,null,"","",5.3271000000000006,"",0,null,null,"","",5.3271000000000006,"",0,null,null,"","",5.3271000000000006,"",0]
[null,"2023","January","2023-01-27",null,"","",5.3271000000000006,"",0,null,null,"","",5.3271000000000006,"",0,null,null,"","",5.3271000000000006,"",0,null,null,"","",5.3271000000000006,"",0,null,null,"","",5.3271000000000006,"",0]
[null,"2023","January","2023-01-28",null,"","",5.3271000000000006,"",0,null,null,"","",5.3271000000000006,"",0,null,null,"","",5.3271000000000006,"",0,null,null,"","",5.3271000000000006,"",0,null,null,"","",5.3271000000000006,"",0]
[null,"2023","January","2023-01-29",null,"","",5.3271000000000006,"",0,null,null,"","",5.3271000000000006,"",0,null,null,"","",5.3271000000000006,"",0,null,null,"","",5.3271000000000006,"",0,null,null,"","",5.3271000000000006,"",0]
[null,"2023","January","2023-01-30",null,"","",5.3271000000000006,"",0,null,null,"","",5.3271000000000006,"",0,null,null,"","",5.3271000000000006,"",0,null,null,"","",5.3271000000000006,"",0,null,null,"","",5.3271000000000006,"",0]
[null,{"$f":"IFERROR(TEXT(DATE(YEAR($D681),MONTH($D681),1),$D$7&$D$4),\"\")","v":"2023"},{"$f":"IFERROR(TEXT(DATE(YEAR($D681),MONTH($D681),1),$D$7&$D$5),\"\")","v":"January"},"2023-01-31",null,{"$f":"IFERROR(IF(OR($D681-$H$34+1<=0,$D681>$I$37),\"\",$D681-$H$34+1),\"\")","v":""},{"$f":"IF(F681=\"\",\"\",IF(F681<=$G$34,\"Initial\",IF(AND(F681>$G$34,F681<=$G$35),\"Development\",IF(AND(F681>$G$35,F681<=$G$36),\"Mid Season\",\"Late Season\"))))","v":""},{"$f":"IFERROR(VLOOKUP($C681,$B$24:$C$35,2,FALSE),\"\")","v":5.3271000000000006},{"$f":"IF(F681=\"\",\"\",IF(F681<=$G$34,$J$34,IF(AND(F681>$G$34,F681<=$G$35),$J$34+((F681-$G$34)/$F$35)*($J$36-$J$34),IF(AND(F681>$G$35,F681<=$G$36),$J$36,$J$36+((F681-$G$36)/$F$37)*($J$37-$J$36)))))","v":""},0,null,null,{"$f":"IFERROR(IF(OR($D681-$O$34+1<=0,$D681>$P$37),\"\",$D681-$O$34+1),\"\")","v":""},{"$f":"IF(M681=\"\",\"\",IF(M681<=$N$34,\"Initial\",IF(AND(M681>$N$34,M681<=$N$35),\"Development\",IF(AND(M681>$N$35,M681<=$N$36),\"Mid Season\",\"Late Season\"))))","v":""},{"$f":"IFERROR(VLOOKUP($C681,$B$24:$C$35,2,FALSE),\"\")","v":5.3271000000000006},{"$f":"IF(M681=\"\",\"\",IF(M681<=$N$34,$Q$34,IF(AND(M681>$N$34,M681<=$N$35),$Q$34+((M681-$N$34)/$M$35)*($Q$36-$Q$34),IF(AND(M681>$N$35,M681<=$N$36),$Q$36,$Q$36+((M681-$N$36)/$M$37)*($Q$37-$Q$36)))))","v":""},0,null,null,{"$f":"IFERROR(IF(OR($D681-$V$34+1<=0,$D681>$W$37),\"\",$D681-$V$34+1),\"\")","v":""},{"$f":"IF(T681=\"\",\"\",IF(T681<=$U$34,\"Initial\",IF(AND(T681>$U$34,T681<=$U$35),\"Development\",IF(AND(T681>$U$35,T681<=$U$36),\"Mid Season\",\"Late Season\"))))","v":""},{"$f":"IFERROR(VLOOKUP($C681,$B$24:$C$35,2,FALSE),\"\")","v":5.3271000000000006},{"$f":"IF(T681=\"\",\"\",IF(T681<=$U$34,$X$34,IF(AND(T681>$U$34,T681<=$U$35),$X$34+((T681-$U$34)/$T$35)*($X$36-$X$34),IF(AND(T681>$U$35,T681<=$U$36),$X$36,$X$36+((T681-$U$36)/$T$37)*($X$37-$X$36)))))","v":""},0,null,null,{"$f":"IFERROR(IF(OR($D681-$AC$34+1<=0,$D681>$AD$37),\"\",$D681-$AC$34+1),\"\")","v":""},{"$f":"IF(AA681=\"\",\"\",IF(AA681<=$AB$34,\"Initial\",IF(AND(AA681>$AB$34,AA681<=$AB$35),\"Development\",IF(AND(AA681>$AB$35,AA681<=$AB$36),\"Mid Season\",\"Late Season\"))))","v":""},{"$f":"IFERROR(VLOOKUP($C681,$B$24:$C$35,2,FALSE),\"\")","v":5.3271000000000006},{"$f":"IF(AA681=\"\",\"\",IF(AA681<=$AB$34,$AE$34,IF(AND(AA681>$AB$34,AA681<=$AB$35),$AE$34+((AA681-$AB$34)/$AA$35)*($AE$36-$AE$34),IF(AND(AA681>$AB$35,AA681<=$AB$36),$AE$36,$AE$36+((AA681-$AB$36)/$AA$37)*($AE$37-$AE$36)))))","v":""},0,null,null,"","",{"$f":"IFERROR(VLOOKUP($C681,$B$24:$C$35,2,FALSE),\"\")","v":5.3271000000000006},"",0]
[null,"2023","February",{"$f":"IFERROR(IF(D681+1<=$L$2, D681+1,\"\"),\"\")","v":"2023-02-01"},null,"","",5.2650000000000006,"",{"$f":"IFERROR((H682*I682),0)","v":0},null,null,"","",5.2650000000000006,"",{"$f":"IFERROR((O682*P682),0)","v":0},null,null,"","",5.2650000000000006,"",{"$f":"IFERROR((V682*W682),0)","v":0},null,null,"","",5.2650000000000006,"",{"$f":"IFERROR((AC682*AD682),0)","v":0},null,null,{"$f":"IFERROR(IF(OR($D682-$AJ$34+1<=0,$D682>$AK$37),\"\",$D682-$AJ$34+1),\"\")","v":""},{"$f":"IF(AH682=\"\",\"\",IF(AH682<=$AI$34,\"Initial\",IF(AND(AH682>$AI$34,AH682<=$AI$35),\"Development\",IF(AND(AH682>$AI$35,AH682<=$AI$36),\"Mid Season\",\"Late Season\"))))","v":""},5.2650000000000006,{"$f":"IF(AH682=\"\",\"\",IF(AH682<=$AB$34,$AE$34,IF(AND(AH682>$AB$34,AH682<=$AB$35),$AE$34+((AH682-$AB$34)/$AA$35)*($AE$36-$AE$34),IF(AND(AH682>$AB$35,AH682<=$AB$36),$AE$36,$AE$36+((AH682-$AB$36)/$AA$37)*($AE$37-$AE$36)))))","v":""},{"$f":"IFERROR((AJ682*AK682),0)","v":0}]
[null,"2023","February","2023-02-02",null,"","",5.2650000000000006,"",0,null,null,"","",5.2650000000000006,"",0,null,null,"","",5.2650000000000006,"",0,null,null,"","",5.2650000000000006,"",0,null,null,"","",5.2650000000000006,"",0]
[null,"2023","February","2023-02-03",null,"","",5.2650000000000006,"",0,null,null,"","",5.2650000000000006,"",0,null,null,"","",5.2650000000000006,"",0,null,null,"","",5.2650000000000006,"",0,null,null,"","",5.2650000000000006,"",0]
[null,"2023","February","2023-02-04",null,"","",5.2650000000000006,"",0,null,null,"","",5.2650000000000006,"",0,null,null,"","",5.2650000000000006,"",0,null,null,"","",5.2650000000000006,"",0,null,null,"","",5.2650000000000006,"",0]
[null,"2023","February","2023-02-05",null,"","",5.2650000000000006,"",0,null,null,"","",5.2650000000000006,"",0,null,null,"","",5.2650000000000006,"",0,null,null,"","",5.2650000000000006,"",0,null,null,"","",5.2650000000000006,"",0]
[null,"2023","February","2023-02-06",null,"","",5.2650000000000006,"",0,null,null,"","",5.2650000000000006,"",0,null,null,"","",5.2650000000000006,"",0,null,null,"","",5.2650000000000006,"",0,null,null,"","",5.2650000000000006,"",0]
[null,"2023","February","2023-02-07",null,"","",5.2650000000000006,"",0,null,null,"","",5.2650000000000006,"",0,null,null,"","",5.2650000000000006,"",0,null,null,"","",5.2650000000000006,"",0,null,null,"","",5.2650000000000006,"",0]
[null,"2023","February","2023-02-08",null,"","",5.2650000000000006,"",0,null,null,"","",5.2650000000000006,"",0,null,null,"","",5.2650000000000006,"",0,null,null,"","",5.2650000000000006,"",0,null,null,"","",5.2650000000000006,"",0]
[null,"2023","February","2023-02-09",null,"","",5.2650000000000006,"",0,null,null,"","",5.2650000000000006,"",0,null,null,"","",5.2650000000000006,"",0,null,null,"","",5.2650000000000006,"",0,null,null,"","",5.2650000000000006,"",0]
[null,"2023","February","2023-02-10",null,"","",5.2650000000000006,"",0,null,null,"","",5.2650000000000006,"",0,null,null,"","",5.2650000000000006,"",0,null,null,"","",5.2650000000000006,"",0,null,null,"","",5.2650000000000006,"",0]
[null,"2023","February","2023-02-11",null,"","",5.2650000000000006,"",0,null,null,"","",5.2650000000000006,"",0,null,null,"","",5.2650000000000006,"",0,null,null,"","",5.2650000000000006,"",0,null,null,"","",5.2650000000000006,"",0]
[null,"2023","February","2023-02-12",null,"","",5.2650000000000006,"",0,null,null,"","",5.2650000000000006,"",0,null,null,"","",5.2650000000000006,"",0,null,null,"","",5.2650000000000006,"",0,null,null,"","",5.2650000000000006,"",0]
[null,"2023","February","2023-02-13",null,"","",5.2650000000000006,"",0,null,null,"","",5.2650000000000006,"",0,null,null,"","",5.2650000000000006,"",0,null,null,"","",5.2650000000000006,"",0,null,null,"","",5.2650000000000006,"",0]
[null,"2023","February","2023-02-14",null,"","",5.2650000000000006,"",0,null,null,"","",5.2650000000000006,"",0,null,null,"","",5.2650000000000006,"",0,null,null,"","",5.2650000000000006,"",0,null,null,"","",5.2650000000000006,"",0]
[null,"2023","February","2023-02-15",null,"","",5.2650000000000006,"",0,null,null,"","",5.2650000000000006,"",0,null,null,"","",5.2650000000000006,"",0,null,null,"","",5.2650000000000006,"",0,null,null,"","",5.2650000000000006,"",0]
[null,"2023","February","2023-02-16",null,"","",5.2650000000000006,"",0,null,null,"","",5.2650000000000006,"",0,null,null,"","",5.2650000000000006,"",0,null,null,"","",5.2650000000000006,"",0,null,null,"","",5.2650000000000006,"",0]
[null,"2023","February","2023-02-17",null,"","",5.2650000000000006,"",0,null,null,"","",5.2650000000000006,"",0,null,null,"","",5.2650000000000006,"",0,null,null,"","",5.2650000000000006,"",0,null,null,"","",5.2650000000000006,"",0]
[null,"2023","February","2023-02-18",null,"","",5.2650000000000006,"",0,null,null,"","",5.2650000000000006,"",0,null,null,"","",5.2650000000000006,"",0,null,null,"","",5.2650000000000006,"",0,null,null,"","",5.2650000000000006,"",0]
[null,"2023","February","2023-02-19",null,"","",5.2650000000000006,"",0,null,null,"","",5.2650000000000006,"",0,null,null,"","",5.2650000000000006,"",0,null,null,"","",5.2650000000000006,"",0,null,null,"","",5.2650000000000006,"",0]
[null,"2023","February","2023-02-20",null,"","",5.2650000000000006,"",0,null,null,"","",5.2650000000000006,"",0,null,null,"","",5.2650000000000006,"",0,null,null,"","",5.2650000000000006,"",0,null,null,"","",5.2650000000000006,"",0]
[null,"2023","February","2023-02-21",null,"","",5.2650000000000006,"",0,null,null,"","",5.2650000000000006,"",0,null,null,"","",5.2650000000000006,"",0,null,null,"","",5.2650000000000006,"",0,null,null,"","",5.2650000000000006,"",0]
[null,"2023","February","2023-02-22",null,"","",5.2650000000000006,"",0,null,null,"","",5.2650000000000006,"",0,null,null,"","",5.2650000000000006,"",0,null,null,"","",5.2650000000000006,"",0,null,null,"","",5.2650000000000006,"",0]
[null,"2023","February","2023-02-23",null,"","",5.2650000000000006,"",0,null,null,"","",5.2650000000000006,"",0,null,null,"","",5.2650000000000006,"",0,null,null,"","",5.2650000000000006,"",0,null,null,"","",5.2650000000000006,"",0]
[null,"2023","February","2023-02-24",null,"","",5.2650000000000006,"",0,null,null,"","",5.2650000000000006,"",0,null,null,"","",5.2650000000000006,"",0,null,null,"","",5.2650000000000006,"",0,null,null,"","",5.2650000000000006,"",0]
[null,"2023","February","2023-02-25",null,"","",5.2650000000000006,"",0,null,null,"","",5.2650000000000006,"",0,null,null,"","",5.2650000000000006,"",0,null,null,"","",5.2650000000000006,"",0,null,null,"","",5.2650000000000006,"",0]
[null,"2023","February","2023-02-26",null,"","",5.2650000000000006,"",0,null,null,"","",5.2650000000000006,"",0,null,null,"","",5.2650000000000006,"",0,null,null,"","",5.2650000000000006,"",0,null,null,"","",5.2650000000000006,"",0]
[null,"2023","February","2023-02-27",null,"","",5.2650000000000006,"",0,null,null,"","",5.2650000000000006,"",0,null,null,"","",5.2650000000000006,"",0,null,null,"","",5.2650000000000006,"",0,null,null,"","",5.2650000000000006,"",0]
[null,"2023","February","2023-02-28",null,"","",5.2650000000000006,"",0,null,null,"","",5.2650000000000006,"",0,null,null,"","",5.2650000000000006,"",0,null,null,"","",5.2650000000000006,"",0,null,null,"","",5.2650000000000006,"",0]
[null,"2023","March","2023-03-01",null,"","",5.2153200000000011,"",0,null,null,"","",5.2153200000000011,"",0,null,null,"","",5.2153200000000011,"",0,null,null,"","",5.2153200000000011,"",0,null,null,"","",5.2153200000000011,"",0]
[null,"2023","March","2023-03-02",null,"","",5.2153200000000011,"",0,null,null,"","",5.2153200000000011,"",0,null,null,"","",5.2153200000000011,"",0,null,null,"","",5.2153200000000011,"",0,null,null,"","",5.2153200000000011,"",0]
[null,"2023","March","2023-03-03",null,"","",5.2153200000000011,"",0,null,null,"","",5.2153200000000011,"",0,null,null,"","",5.2153200000000011,"",0,null,null,"","",5.2153200000000011,"",0,null,null,"","",5.2153200000000011,"",0]
[null,"2023","March","2023-03-04",null,"","",5.2153200000000011,"",0,null,null,"","",5.2153200000000011,"",0,null,null,"","",5.2153200000000011,"",0,null,null,"","",5.2153200000000011,"",0,null,null,"","",5.2153200000000011,"",0]
[null,"2023","March","2023-03-05",null,"","",5.2153200000000011,"",0,null,null,"","",5.2153200000000011,"",0,null,null,"","",5.2153200000000011,"",0,null,null,"","",5.2153200000000011,"",0,null,null,"","",5.2153200000000011,"",0]
[null,"2023","March","2023-03-06",null,"","",5.2153200000000011,"",0,null,null,"","",5.2153200000000011,"",0,null,null,"","",5.2153200000000011,"",0,null,null,"","",5.2153200000000011,"",0,null,null,"","",5.2153200000000011,"",0]
[null,"2023","March","2023-03-07",null,"","",5.2153200000000011,"",0,null,null,"","",5.2153200000000011,"",0,null,null,"","",5.2153200000000011,"",0,null,null,"","",5.2153200000000011,"",0,null,null,"","",5.2153200000000011,"",0]
[null,"2023","March","2023-03-08",null,"","",5.2153200000000011,"",0,null,null,"","",5.2153200000000011,"",0,null,null,"","",5.2153200000000011,"",0,null,null,"","",5.2153200000000011,"",0,null,null,"","",5.2153200000000011,"",0]
[null,"2023","March","2023-03-09",null,"","",5.2153200000000011,"",0,null,null,"","",5.2153200000000011,"",0,null,null,"","",5.2153200000000011,"",0,null,null,"","",5.2153200000000011,"",0,null,null,"","",5.2153200000000011,"",0]
[null,"2023","March","2023-03-10",null,"","",5.2153200000000011,"",0,null,null,"","",5.2153200000000011,"",0,null,null,"","",5.2153200000000011,"",0,null,null,"","",5.2153200000000011,"",0,null,null,"","",5.2153200000000011,"",0]
[null,"2023","March","2023-03-11",null,"","",5.2153200000000011,"",0,null,null,"","",5.2153200000000011,"",0,null,null,"","",5.2153200000000011,"",0,null,null,"","",5.2153200000000011,"",0,null,null,"","",5.2153200000000011,"",0]
[null,"2023","March","2023-03-12",null,"","",5.2153200000000011,"",0,null,null,"","",5.2153200000000011,"",0,null,null,"","",5.2153200000000011,"",0,null,null,"","",5.2153200000000011,"",0,null,null,"","",5.2153200000000011,"",0]
[null,"2023","March","2023-03-13",null,"","",5.2153200000000011,"",0,null,null,"","",5.2153200000000011,"",0,null,null,"","",5.2153200000000011,"",0,null,null,"","",5.2153200000000011,"",0,null,null,"","",5.2153200000000011,"",0]
[null,"2023","March","2023-03-14",null,"","",5.2153200000000011,"",0,null,null,"","",5.2153200000000011,"",0,null,null,"","",5.2153200000000011,"",0,null,null,"","",5.2153200000000011,"",0,null,null,"","",5.2153200000000011,"",0]
[null,"2023","March","2023-03-15",null,"","",5.2153200000000011,"",0,null,null,"","",5.2153200000000011,"",0,null,null,"","",5.2153200000000011,"",0,null,null,"","",5.2153200000000011,"",0,null,null,"","",5.2153200000000011,"",0]
[null,"2023","March","2023-03-16",null,"","",5.2153200000000011,"",0,null,null,"","",5.2153200000000011,"",0,null,null,"","",5.2153200000000011,"",0,null,null,"","",5.2153200000000011,"",0,null,null,"","",5.2153200000000011,"",0]
[null,"2023","March","2023-03-17",null,"","",5.2153200000000011,"",0,null,null,"","",5.2153200000000011,"",0,null,null,"","",5.2153200000000011,"",0,null,null,"","",5.2153200000000011,"",0,null,null,"","",5.2153200000000011,"",0]
[null,"2023","March","2023-03-18",null,"","",5.2153200000000011,"",0,null,null,"","",5.2153200000000011,"",0,null,null,"","",5.2153200000000011,"",0,null,null,"","",5.2153200000000011,"",0,null,null,"","",5.2153200000000011,"",0]
[null,"2023","March","2023-03-19",null,"","",5.2153200000000011,"",0,null,null,"","",5.2153200000000011,"",0,null,null,"","",5.2153200000000011,"",0,null,null,"","",5.2153200000000011,"",0,null,null,"","",5.2153200000000011,"",0]
[null,"2023","March","2023-03-20",null,"","",5.2153200000000011,"",0,null,null,"","",5.2153200000000011,"",0,null,null,"","",5.2153200000000011,"",0,null,null,"","",5.2153200000000011,"",0,null,null,"","",5.2153200000000011,"",0]
[null,"2023","March","2023-03-21",null,"","",5.2153200000000011,"",0,null,null,"","",5.2153200000000011,"",0,null,null,"","",5.2153200000000011,"",0,null,null,"","",5.2153200000000011,"",0,null,null,"","",5.2153200000000011,"",0]
[null,"2023","March","2023-03-22",null,"","",5.2153200000000011,"",0,null,null,"","",5.2153200000000011,"",0,null,null,"","",5.2153200000000011,"",0,null,null,"","",5.2153200000000011,"",0,null,null,"","",5.2153200000000011,"",0]
[null,"2023","March","2023-03-23",null,"","",5.2153200000000011,"",0,null,null,"","",5.2153200000000011,"",0,null,null,"","",5.2153200000000011,"",0,null,null,"","",5.2153200000000011,"",0,null,null,"","",5.2153200000000011,"",0]
[null,"2023","March","2023-03-24",null,"","",5.2153200000000011,"",0,null,null,"","",5.2153200000000011,"",0,null,null,"","",5.2153200000000011,"",0,null,null,"","",5.2153200000000011,"",0,null,null,"","",5.2153200000000011,"",0]
[null,"2023","March","2023-03-25",null,"","",5.2153200000000011,"",0,null,null,"","",5.2153200000000011,"",0,null,null,"","",5.2153200000000011,"",0,null,null,"","",5.2153200000000011,"",0,null,null,"","",5.2153200000000011,"",0]
[null,"2023","March","2023-03-26",null,"","",5.2153200000000011,"",0,null,null,"","",5.2153200000000011,"",0,null,null,"","",5.2153200000000011,"",0,null,null,"","",5.2153200000000011,"",0,null,null,"","",5.2153200000000011,"",0]
[null,"2023","March","2023-03-27",null,"","",5.2153200000000011,"",0,null,null,"","",5.2153200000000011,"",0,null,null,"","",5.2153200000000011,"",0,null,null,"","",5.2153200000000011,"",0,null,null,"","",5.2153200000000011,"",0]
[null,"2023","March","2023-03-28",null,"","",5.2153200000000011,"",0,null,null,"","",5.2153200000000011,"",0,null,null,"","",5.2153200000000011,"",0,null,null,"","",5.2153200000000011,"",0,null,null,"","",5.2153200000000011,"",0]
[null,"2023","March","2023-03-29",null,"","",5.2153200000000011,"",0,null,null,"","",5.2153200000000011,"",0,null,null,"","",5.2153200000000011,"",0,null,null,"","",5.2153200000000011,"",0,null,null,"","",5.2153200000000011,"",0]
[null,"2023","March","2023-03-30",null,"","",5.2153200000000011,"",0,null,null,"","",5.2153200000000011,"",0,null,null,"","",5.2153200000000011,"",0,null,null,"","",5.2153200000000011,"",0,null,null,"","",5.2153200000000011,"",0]
[null,"2023","March","2023-03-31",null,"","",5.2153200000000011,"",0,null,null,"","",5.2153200000000011,"",0,null,null,"","",5.2153200000000011,"",0,null,null,"","",5.2153200000000011,"",0,null,null,"","",5.2153200000000011,"",0]
[null,"2023","April","2023-04-01",null,"","",5.3054400000000008,"",0,null,null,"","",5.3054400000000008,"",0,null,null,"","",5.3054400000000008,"",0,null,null,"","",5.3054400000000008,"",0,null,null,"","",5.3054400000000008,"",0]
[null,"2023","April","2023-04-02",null,"","",5.3054400000000008,"",0,null,null,"","",5.3054400000000008,"",0,null,null,"","",5.3054400000000008,"",0,null,null,"","",5.3054400000000008,"",0,null,null,"","",5.3054400000000008,"",0]
[null,"2023","April","2023-04-03",null,"","",5.3054400000000008,"",0,null,null,"","",5.3054400000000008,"",0,null,null,"","",5.3054400000000008,"",0,null,null,"","",5.3054400000000008,"",0,null,null,"","",5.3054400000000008,"",0]
[null,"2023","April","2023-04-04",null,"","",5.3054400000000008,"",0,null,null,"","",5.3054400000000008,"",0,null,null,"","",5.3054400000000008,"",0,null,null,"","",5.3054400000000008,"",0,null,null,"","",5.3054400000000008,"",0]
[null,{"$f":"IFERROR(TEXT(DATE(YEAR($D745),MONTH($D745),1),$D$7&$D$4),\"\")","v":"2023"},{"$f":"IFERROR(TEXT(DATE(YEAR($D745),MONTH($D745),1),$D$7&$D$5),\"\")","v":"April"},"2023-04-05",null,{"$f":"IFERROR(IF(OR($D745-$H$34+1<=0,$D745>$I$37),\"\",$D745-$H$34+1),\"\")","v":""},{"$f":"IF(F745=\"\",\"\",IF(F745<=$G$34,\"Initial\",IF(AND(F745>$G$34,F745<=$G$35),\"Development\",IF(AND(F745>$G$35,F745<=$G$36),\"Mid Season\",\"Late Season\"))))","v":""},{"$f":"IFERROR(VLOOKUP($C745,$B$24:$C$35,2,FALSE),\"\")","v":5.3054400000000008},{"$f":"IF(F745=\"\",\"\",IF(F745<=$G$34,$J$34,IF(AND(F745>$G$34,F745<=$G$35),$J$34+((F745-$G$34)/$F$35)*($J$36-$J$34),IF(AND(F745>$G$35,F745<=$G$36),$J$36,$J$36+((F745-$G$36)/$F$37)*($J$37-$J$36)))))","v":""},0,null,null,{"$f":"IFERROR(IF(OR($D745-$O$34+1<=0,$D745>$P$37),\"\",$D745-$O$34+1),\"\")","v":""},{"$f":"IF(M745=\"\",\"\",IF(M745<=$N$34,\"Initial\",IF(AND(M745>$N$34,M745<=$N$35),\"Development\",IF(AND(M745>$N$35,M745<=$N$36),\"Mid Season\",\"Late Season\"))))","v":""},{"$f":"IFERROR(VLOOKUP($C745,$B$24:$C$35,2,FALSE),\"\")","v":5.3054400000000008},{"$f":"IF(M745=\"\",\"\",IF(M745<=$N$34,$Q$34,IF(AND(M745>$N$34,M745<=$N$35),$Q$34+((M745-$N$34)/$M$35)*($Q$36-$Q$34),IF(AND(M745>$N$35,M745<=$N$36),$Q$36,$Q$36+((M745-$N$36)/$M$37)*($Q$37-$Q$36)))))","v":""},0,null,null,{"$f":"IFERROR(IF(OR($D745-$V$34+1<=0,$D745>$W$37),\"\",$D745-$V$34+1),\"\")","v":""},{"$f":"IF(T745=\"\",\"\",IF(T745<=$U$34,\"Initial\",IF(AND(T745>$U$34,T745<=$U$35),\"Development\",IF(AND(T745>$U$35,T745<=$U$36),\"Mid Season\",\"Late Season\"))))","v":""},{"$f":"IFERROR(VLOOKUP($C745,$B$24:$C$35,2,FALSE),\"\")","v":5.3054400000000008},{"$f":"IF(T745=\"\",\"\",IF(T745<=$U$34,$X$34,IF(AND(T745>$U$34,T745<=$U$35),$X$34+((T745-$U$34)/$T$35)*($X$36-$X$34),IF(AND(T745>$U$35,T745<=$U$36),$X$36,$X$36+((T745-$U$36)/$T$37)*($X$37-$X$36)))))","v":""},0,null,null,{"$f":"IFERROR(IF(OR($D745-$AC$34+1<=0,$D745>$AD$37),\"\",$D745-$AC$34+1),\"\")","v":""},{"$f":"IF(AA745=\"\",\"\",IF(AA745<=$AB$34,\"Initial\",IF(AND(AA745>$AB$34,AA745<=$AB$35),\"Development\",IF(AND(AA745>$AB$35,AA745<=$AB$36),\"Mid Season\",\"Late Season\"))))","v":""},{"$f":"IFERROR(VLOOKUP($C745,$B$24:$C$35,2,FALSE),\"\")","v":5.3054400000000008},{"$f":"IF(AA745=\"\",\"\",IF(AA745<=$AB$34,$AE$34,IF(AND(AA745>$AB$34,AA745<=$AB$35),$AE$34+((AA745-$AB$34)/$AA$35)*($AE$36-$AE$34),IF(AND(AA745>$AB$35,AA745<=$AB$36),$AE$36,$AE$36+((AA745-$AB$36)/$AA$37)*($AE$37-$AE$36)))))","v":""},0,null,null,"","",{"$f":"IFERROR(VLOOKUP($C745,$B$24:$C$35,2,FALSE),\"\")","v":5.3054400000000008},"",0]
[null,"2023","April",{"$f":"IFERROR(IF(D745+1<=$L$2, D745+1,\"\"),\"\")","v":"2023-04-06"},null,"","",5.3054400000000008,"",{"$f":"IFERROR((H746*I746),0)","v":0},null,null,"","",5.3054400000000008,"",{"$f":"IFERROR((O746*P746),0)","v":0},null,null,"","",5.3054400000000008,"",{"$f":"IFERROR((V746*W746),0)","v":0},null,null,"","",5.3054400000000008,"",{"$f":"IFERROR((AC746*AD746),0)","v":0},null,null,{"$f":"IFERROR(IF(OR($D746-$AJ$34+1<=0,$D746>$AK$37),\"\",$D746-$AJ$34+1),\"\")","v":""},{"$f":"IF(AH746=\"\",\"\",IF(AH746<=$AI$34,\"Initial\",IF(AND(AH746>$AI$34,AH746<=$AI$35),\"Development\",IF(AND(AH746>$AI$35,AH746<=$AI$36),\"Mid Season\",\"Late Season\"))))","v":""},5.3054400000000008,{"$f":"IF(AH746=\"\",\"\",IF(AH746<=$AB$34,$AE$34,IF(AND(AH746>$AB$34,AH746<=$AB$35),$AE$34+((AH746-$AB$34)/$AA$35)*($AE$36-$AE$34),IF(AND(AH746>$AB$35,AH746<=$AB$36),$AE$36,$AE$36+((AH746-$AB$36)/$AA$37)*($AE$37-$AE$36)))))","v":""},{"$f":"IFERROR((AJ746*AK746),0)","v":0}]
[null,"2023","April","2023-04-07",null,"","",5.3054400000000008,"",0,null,null,"","",5.3054400000000008,"",0,null,null,"","",5.3054400000000008,"",0,null,null,"","",5.3054400000000008,"",0,null,null,"","",5.3054400000000008,"",0]
[null,"2023","April","2023-04-08",null,"","",5.3054400000000008,"",0,null,null,"","",5.3054400000000008,"",0,null,null,"","",5.3054400000000008,"",0,null,null,"","",5.3054400000000008,"",0,null,null,"","",5.3054400000000008,"",0]
[null,"2023","April","2023-04-09",null,"","",5.3054400000000008,"",0,null,null,"","",5.3054400000000008,"",0,null,null,"","",5.3054400000000008,"",0,null,null,"","",5.3054400000000008,"",0,null,null,"","",5.3054400000000008,"",0]
[null,"2023","April","2023-04-10",null,"","",5.3054400000000008,"",0,null,null,"","",5.3054400000000008,"",0,null,null,"","",5.3054400000000008,"",0,null,null,"","",5.3054400000000008,"",0,null,null,"","",5.3054400000000008,"",0]
[null,"2023","April","2023-04-11",null,"","",5.3054400000000008,"",0,null,null,"","",5.3054400000000008,"",0,null,null,"","",5.3054400000000008,"",0,null,null,"","",5.3054400000000008,"",0,null,null,"","",5.3054400000000008,"",0]
[null,"2023","April","2023-04-12",null,"","",5.3054400000000008,"",0,null,null,"","",5.3054400000000008,"",0,null,null,"","",5.3054400000000008,"",0,null,null,"","",5.3054400000000008,"",0,null,null,"","",5.3054400000000008,"",0]
[null,"2023","April","2023-04-13",null,"","",5.3054400000000008,"",0,null,null,"","",5.3054400000000008,"",0,null,null,"","",5.3054400000000008,"",0,null,null,"","",5.3054400000000008,"",0,null,null,"","",5.3054400000000008,"",0]
[null,"2023","April","2023-04-14",null,"","",5.3054400000000008,"",0,null,null,"","",5.3054400000000008,"",0,null,null,"","",5.3054400000000008,"",0,null,null,"","",5.3054400000000008,"",0,null,null,"","",5.3054400000000008,"",0]
[null,"2023","April","2023-04-15",null,"","",5.3054400000000008,"",0,null,null,"","",5.3054400000000008,"",0,null,null,"","",5.3054400000000008,"",0,null,null,"","",5.3054400000000008,"",0,null,null,"","",5.3054400000000008,"",0]
[null,"2023","April","2023-04-16",null,"","",5.3054400000000008,"",0,null,null,"","",5.3054400000000008,"",0,null,null,"","",5.3054400000000008,"",0,null,null,"","",5.3054400000000008,"",0,null,null,"","",5.3054400000000008,"",0]
[null,"2023","April","2023-04-17",null,"","",5.3054400000000008,"",0,null,null,"","",5.3054400000000008,"",0,null,null,"","",5.3054400000000008,"",0,null,null,"","",5.3054400000000008,"",0,null,null,"","",5.3054400000000008,"",0]
[null,"2023","April","2023-04-18",null,"","",5.3054400000000008,"",0,null,null,"","",5.3054400000000008,"",0,null,null,"","",5.3054400000000008,"",0,null,null,"","",5.3054400000000008,"",0,null,null,"","",5.3054400000000008,"",0]
[null,"2023","April","2023-04-19",null,"","",5.3054400000000008,"",0,null,null,"","",5.3054400000000008,"",0,null,null,"","",5.3054400000000008,"",0,null,null,"","",5.3054400000000008,"",0,null,null,"","",5.3054400000000008,"",0]
[null,"2023","April","2023-04-20",null,"","",5.3054400000000008,"",0,null,null,"","",5.3054400000000008,"",0,null,null,"","",5.3054400000000008,"",0,null,null,"","",5.3054400000000008,"",0,null,null,"","",5.3054400000000008,"",0]
[null,"2023","April","2023-04-21",null,"","",5.3054400000000008,"",0,null,null,"","",5.3054400000000008,"",0,null,null,"","",5.3054400000000008,"",0,null,null,"","",5.3054400000000008,"",0,null,null,"","",5.3054400000000008,"",0]
[null,"2023","April","2023-04-22",null,"","",5.3054400000000008,"",0,null,null,"","",5.3054400000000008,"",0,null,null,"","",5.3054400000000008,"",0,null,null,"","",5.3054400000000008,"",0,null,null,"","",5.3054400000000008,"",0]
[null,"2023","April","2023-04-23",null,"","",5.3054400000000008,"",0,null,null,"","",5.3054400000000008,"",0,null,null,"","",5.3054400000000008,"",0,null,null,"","",5.3054400000000008,"",0,null,null,"","",5.3054400000000008,"",0]
[null,"2023","April","2023-04-24",null,"","",5.3054400000000008,"",0,null,null,"","",5.3054400000000008,"",0,null,null,"","",5.3054400000000008,"",0,null,null,"","",5.3054400000000008,"",0,null,null,"","",5.3054400000000008,"",0]
[null,"2023","April","2023-04-25",null,"","",5.3054400000000008,"",0,null,null,"","",5.3054400000000008,"",0,null,null,"","",5.3054400000000008,"",0,null,null,"","",5.3054400000000008,"",0,null,null,"","",5.3054400000000008,"",0]
[null,"2023","April","2023-04-26",null,"","",5.3054400000000008,"",0,null,null,"","",5.3054400000000008,"",0,null,null,"","",5.3054400000000008,"",0,null,null,"","",5.3054400000000008,"",0,null,null,"","",5.3054400000000008,"",0]
[null,"2023","April","2023-04-27",null,"","",5.3054400000000008,"",0,null,null,"","",5.3054400000000008,"",0,null,null,"","",5.3054400000000008,"",0,null,null,"","",5.3054400000000008,"",0,null,null,"","",5.3054400000000008,"",0]
[null,"2023","April","2023-04-28",null,"","",5.3054400000000008,"",0,null,null,"","",5.3054400000000008,"",0,null,null,"","",5.3054400000000008,"",0,null,null,"","",5.3054400000000008,"",0,null,null,"","",5.3054400000000008,"",0]
[null,"2023","April","2023-04-29",null,"","",5.3054400000000008,"",0,null,null,"","",5.3054400000000008,"",0,null,null,"","",5.3054400000000008,"",0,null,null,"","",5.3054400000000008,"",0,null,null,"","",5.3054400000000008,"",0]
[null,"2023","April","2023-04-30",null,"","",5.3054400000000008,"",0,null,null,"","",5.3054400000000008,"",0,null,null,"","",5.3054400000000008,"",0,null,null,"","",5.3054400000000008,"",0,null,null,"","",5.3054400000000008,"",0]
[null,"","","",null,null,"","","",0,null,null,null,"","","",0,null,null,null,"","","",0,null,null,null,"","","",0,null,null,null,"","","",0]

{"sheet":"General Calculation","index":9,"n_rows":239,"n_cols":32,"rows_kept":239,"cut":false,"hidden":true,"merged":[[131,28,131,29],[132,28,132,29],[133,28,133,29],[134,28,134,29],[135,28,135,29],[130,1,130,2],[157,1,157,2],[164,1,164,2],[171,1,171,2],[18,2,18,6],[119,0,119,2],[226,0,226,2],[179,1,179,2],[196,0,196,2],[207,1,207,2],[198,1,198,2],[1,4,1,6],[2,4,2,6],[3,4,3,6],[4,4,4,6],[10,6,10,11]]}
[null,"Available climatic Data","Option","Status"]
[null,null,"Option 1",true,"Blaney-Criddle method"]
[null,null,"Option 2",false,"Hargreaves method"]
[null,null,"Option 3",false,"FAO Penman-Monteith method"]
[null,null,"Option 4",false,"Reference evapotranspiration"]
[]
[null,"Hemisphere",{"$f":"Translate!$C$106","v":"North"},{"$f":"Translate!$C$108","v":"East"}]
[null,null,{"$f":"Translate!$C$107","v":"South"},{"$f":"Translate!$C$109","v":"West"}]
[]
[null,"Option 1","Blaney-Criddle method"]
[null,null,"latitude",{"$f":"IF($D$2=TRUE,MROUND('1 Geographic Data'!$D$37,5),\"\")","v":5},"degree",null,"Translate Hemisphere to be used in formula"]
[null,null,"Hemisphere",{"$f":"IF($D$2=TRUE,'1 Geographic Data'!$G$37,\"\")","v":"North"},{"$f":"IF(OR(D12=$G$12,D12=$H$12,D12=$I$12,D12=$J$12,D12=$K$12,D12=$L$12),$G$12,\"South\")","v":"North"},null,{"$f":"Translate!D106","v":"North"},{"$f":"Translate!E106","v":"Nord"},{"$f":"Translate!F106","v":"Norte"},{"$f":"Translate!G106","v":"الشمالي"},{"$f":"Translate!H106","v":"North"},{"$f":"Translate!I106","v":"North"}]
[]
[null,null,null,{"$f":"'1 Geographic Data'!C22","v":"January"},{"$f":"'1 Geographic Data'!D22","v":"February"},{"$f":"'1 Geographic Data'!E22","v":"March"},{"$f":"'1 Geographic Data'!F22","v":"April"},{"$f":"'1 Geographic Data'!G22","v":"May"},{"$f":"'1 Geographic Data'!H22","v":"June"},{"$f":"'1 Geographic Data'!I22","v":"July"},{"$f":"'1 Geographic Data'!J22","v":"August"},{"$f":"'1 Geographic Data'!K22","v":"September"},{"$f":"'1 Geographic Data'!L22","v":"October"},{"$f":"'1 Geographic Data'!M22","v":"November"},{"$f":"'1 Geographic Data'!N22","v":"December"}]
[null,null,{"$f":"IF($D$2= TRUE,'1 Geographic Data'!A23,'1 Geographic Data'!A23)","v":"Mean daily temperature [°C]"},{"$f":"IF($D$2= TRUE,'1 Geographic Data'!C23,\"\")","v":25.5},{"$f":"IF($D$2= TRUE,'1 Geographic Data'!D23,\"\")","v":25},{"$f":"IF($D$2= TRUE,'1 Geographic Data'!E23,\"\")","v":24.6},{"$f":"IF($D$2= TRUE,'1 Geographic Data'!F23,\"\")","v":23.8},{"$f":"IF($D$2= TRUE,'1 Geographic Data'!G23,\"\")","v":23.9},{"$f":"IF($D$2= TRUE,'1 Geographic Data'!H23,\"\")","v":23.5},{"$f":"IF($D$2= TRUE,'1 Geographic Data'!I23,\"\")","v":23},{"$f":"IF($D$2= TRUE,'1 Geographic Data'!J23,\"\")","v":23},{"$f":"IF($D$2= TRUE,'1 Geographic Data'!K23,\"\")","v":23.6},{"$f":"IF($D$2= TRUE,'1 Geographic Data'!L23,\"\")","v":23.9},{"$f":"IF($D$2= TRUE,'1 Geographic Data'!M23,\"\")","v":23.6},{"$f":"IF($D$2= TRUE,'1 Geographic Data'!N23,\"\")","v":24}]
[null,null,"Daytime hours:",{"$f":"IF($D$2= TRUE, IF($E$12=\"North\",INDEX(F21:F33,VLOOKUP($D$11,$D$21:$E$33,2,FALSE)),INDEX(F35:F47,VLOOKUP($D$11,$D$21:$E$33,2,FALSE))),\"\")","v":0.27},{"$f":"IF($D$2= TRUE, IF($E$12=\"North\",INDEX(G21:G33,VLOOKUP($D$11,$D$21:$E$33,2,FALSE)),INDEX(G35:G47,VLOOKUP($D$11,$D$21:$E$33,2,FALSE))),\"\")","v":0.27},0.27,0.28000000000000003,0.28000000000000003,0.28000000000000003,0.28000000000000003,0.28000000000000003,0.28000000000000003,0.27,0.27,0.27]
[null,null,"Reference Evapotranspiration ",{"$f":"IF($D$2= TRUE, D16*(0.46*D15+8),\"\")","v":5.3271000000000006},{"$f":"IF($D$2= TRUE, E16*(0.46*E15+8),\"\")","v":5.2650000000000006},5.2153200000000011,5.3054400000000008,5.3183200000000008,5.2668000000000008,5.2023999999999999,5.2023999999999999,5.2796800000000008,5.1283799999999999,5.091120000000001,5.1408000000000005]
[]
[null,null,"Mean daily percentage (p) of annual daytime hours for different latitudes"]
[null,null,"North","Latitude","#",{"$f":"D14","v":"January"},{"$f":"E14","v":"February"},"March","April","May","June","July","August","September","October","November","December"]
[null,null,null,60,1,0.15,0.2,0.26,0.32,0.38,0.41,0.4,0.34,0.28000000000000003,0.22,0.17,0.13]
[null,null,null,55,2,0.17,0.21,0.26,0.32,0.36,0.39,0.38,0.33,0.28000000000000003,0.23,0.18,0.16]
[null,null,null,50,3,0.19,0.23,0.27,0.31,0.34,0.36,0.35,0.32,0.28000000000000003,0.24,0.2,0.18]
[null,null,null,45,4,0.2,0.23,0.27,0.3,0.34,0.35,0.34,0.32,0.28000000000000003,0.24,0.21,0.2]
[null,null,null,40,5,0.22,0.24,0.27,0.3,0.32,0.34,0.33,0.31,0.28000000000000003,0.25,0.22,0.21]
[null,null,null,35,6,0.23,0.25,0.27,0.28999999999999998,0.31,0.32,0.32,0.3,0.28000000000000003,0.25,0.23,0.22]
[null,null,null,30,7,0.24,0.25,0.27,0.28999999999999998,0.31,0.32,0.31,0.3,0.28000000000000003,0.26,0.24,0.23]
[null,null,null,25,8,0.24,0.26,0.27,0.28999999999999998,0.3,0.31,0.31,0.28999999999999998,0.28000000000000003,0.26,0.25,0.24]
[null,null,null,20,9,0.25,0.26,0.27,0.28000000000000003,0.28999999999999998,0.3,0.3,0.28999999999999998,0.28000000000000003,0.26,0.25,0.25]
[null,null,null,15,10,0.26,0.26,0.27,0.28000000000000003,0.28999999999999998,0.28999999999999998,0.28999999999999998,0.28000000000000003,0.28000000000000003,0.27,0.26,0.25]
[null,null,null,10,11,0.26,0.27,0.27,0.28000000000000003,0.28000000000000003,0.28999999999999998,0.28999999999999998,0.28000000000000003,0.28000000000000003,0.27,0.26,0.26]
[null,null,null,5,12,0.27,0.27,0.27,0.28000000000000003,0.28000000000000003,0.28000000000000003,0.28000000000000003,0.28000000000000003,0.28000000000000003,0.27,0.27,0.27]
[null,null,null,0,13,0.27,0.27,0.27,0.27,0.27,0.27,0.27,0.27,0.27,0.27,0.27,0.27]
[null,null,"South","Latitude","#",{"$f":"D14","v":"January"},{"$f":"E14","v":"February"},"March","April","May","June","July","August","September","October","November","December"]
[null,null,null,60,1,0.4,0.34,0.28000000000000003,0.22,0.17,0.13,0.15,0.2,0.26,0.32,0.38,0.41]
[null,null,null,55,2,0.38,0.33,0.28000000000000003,0.23,0.18,0.16,0.17,0.21,0.26,0.32,0.36,0.39]
[null,null,null,50,3,0.35,0.32,0.28000000000000003,0.24,0.2,0.18,0.19,0.23,0.27,0.31,0.34,0.36]
[null,null,null,45,4,0.34,0.32,0.28000000000000003,0.24,0.21,0.2,0.2,0.23,0.27,0.3,0.34,0.35]
[null,null,null,40,5,0.33,0.31,0.28000000000000003,0.25,0.22,0.21,0.22,0.24,0.27,0.3,0.32,0.34]
[null,null,null,35,6,0.32,0.3,0.28000000000000003,0.25,0.23,0.22,0.23,0.25,0.27,0.28999999999999998,0.31,0.32]
[null,null,null,30,7,0.31,0.3,0.28000000000000003,0.26,0.24,0.23,0.24,0.25,0.27,0.28999999999999998,0.31,0.32]
[null,null,null,25,8,0.31,0.28999999999999998,0.28000000000000003,0.26,0.25,0.24,0.24,0.26,0.27,0.28999999999999998,0.3,0.31]
[null,null,null,20,9,0.3,0.28999999999999998,0.28000000000000003,0.26,0.25,0.25,0.25,0.26,0.27,0.28000000000000003,0.28999999999999998,0.3]
[null,null,null,15,10,0.28999999999999998,0.28000000000000003,0.28000000000000003,0.27,0.26,0.25,0.26,0.26,0.27,0.28000000000000003,0.28999999999999998,0.28999999999999998]
[null,null,null,10,11,0.28999999999999998,0.28000000000000003,0.28000000000000003,0.27,0.26,0.26,0.26,0.27,0.27,0.28000000000000003,0.28000000000000003,0.28999999999999998]
[null,null,null,5,12,0.28000000000000003,0.28000000000000003,0.28000000000000003,0.27,0.27,0.27,0.27,0.27,0.27,0.28000000000000003,0.28000000000000003,0.28000000000000003]
[null,null,null,0,13,0.27,0.27,0.27,0.27,0.27,0.27,0.27,0.27,0.27,0.27,0.27,0.27]
[]
[null,"Option 2","Hargreaves method"]
[null,null,"latitude",{"$f":"IF($D$3=TRUE,'1 Geographic Data'!$D$37,\"\")","v":""},"degree",{"$f":"IF($D$3=TRUE,'1 Geographic Data'!$G$37,\"\")","v":""},{"$f":"IF(OR(F50=$G$12,F50=$H$12,F50=$I$12,F50=$J$12,F50=$K$12,F50=$L$12),$G$12,\"South\")","v":"South"},{"$f":"\"==>\"","v":"==>"},{"$f":"IF($D$3= TRUE, IF(G50=\"North\",PI()*$D$50/180, PI()*-$D$50/180),\"\")","v":""},"Radians"]
[null,null,"Longitude",{"$f":"IF($D$3=TRUE,'1 Geographic Data'!$D$38,\"\")","v":""},"degree",{"$f":"IF($D$3=TRUE,'1 Geographic Data'!$G$38,\"\")","v":""}]
[]
[null,null,null,{"$f":"D14","v":"January"},"February","March","April","May","June","July","August","September","October","November","December"]
[null,null,{"$f":"IF($D$4= TRUE,'1 Geographic Data'!A24,'1 Geographic Data'!A24)","v":"Maximum daily temperature [°C]"},{"$f":"IF($D$3= TRUE,'1 Geographic Data'!C24, \"\")","v":""},{"$f":"IF($D$3= TRUE,'1 Geographic Data'!D24, \"\")","v":""},{"$f":"IF($D$3= TRUE,'1 Geographic Data'!E24, \"\")","v":""},{"$f":"IF($D$3= TRUE,'1 Geographic Data'!F24, \"\")","v":""},{"$f":"IF($D$3= TRUE,'1 Geographic Data'!G24, \"\")","v":""},{"$f":"IF($D$3= TRUE,'1 Geographic Data'!H24, \"\")","v":""},{"$f":"IF($D$3= TRUE,'1 Geographic Data'!I24, \"\")","v":""},{"$f":"IF($D$3= TRUE,'1 Geographic Data'!J24, \"\")","v":""},{"$f":"IF($D$3= TRUE,'1 Geographic Data'!K24, \"\")","v":""},{"$f":"IF($D$3= TRUE,'1 Geographic Data'!L24, \"\")","v":""},{"$f":"IF($D$3= TRUE,'1 Geographic Data'!M24, \"\")","v":""},{"$f":"IF($D$3= TRUE,'1 Geographic Data'!N24, \"\")","v":""}]
[null,null,{"$f":"IF($D$3= TRUE,'1 Geographic Data'!A25,'1 Geographic Data'!A25)","v":"Minimum daily temperature [°C]"},{"$f":"IF($D$3= TRUE,'1 Geographic Data'!C25, \"\")","v":""},{"$f":"IF($D$3= TRUE,'1 Geographic Data'!D25, \"\")","v":""},{"$f":"IF($D$3= TRUE,'1 Geographic Data'!E25, \"\")","v":""},{"$f":"IF($D$3= TRUE,'1 Geographic Data'!F25, \"\")","v":""},{"$f":"IF($D$3= TRUE,'1 Geographic Data'!G25, \"\")","v":""},{"$f":"IF($D$3= TRUE,'1 Geographic Data'!H25, \"\")","v":""},{"$f":"IF($D$3= TRUE,'1 Geographic Data'!I25, \"\")","v":""},{"$f":"IF($D$3= TRUE,'1 Geographic Data'!J25, \"\")","v":""},{"$f":"IF($D$3= TRUE,'1 Geographic Data'!K25, \"\")","v":""},{"$f":"IF($D$3= TRUE,'1 Geographic Data'!L25, \"\")","v":""},{"$f":"IF($D$3= TRUE,'1 Geographic Data'!M25, \"\")","v":""},{"$f":"IF($D$3= TRUE,'1 Geographic Data'!N25, \"\")","v":""}]
[null,null,"Reference Evapotranspiration ",{"$f":"D65","v":""},{"$f":"E65","v":""},"","","","","","","","","",""]
[]
[null,null,"Mean Temp. [°C] ",{"$f":"IF($D$3= TRUE,(D54+D55)/2,\"\")","v":""},{"$f":"IF($D$3= TRUE,(E54+E55)/2,\"\")","v":""},"","","","","","","","","",""]
[null,null,"Month",1,2,3,4,5,6,7,8,9,10,11,12]
[null,null,"J",{"$f":"IF($D$3= TRUE,TRUNC((30.4*D59)-15),\"\")","v":""},{"$f":"IF($D$3= TRUE,TRUNC((30.4*E59)-15),\"\")","v":""},"","","","","","","","","",""]
[null,null,"dr",{"$f":"IF($D$3= TRUE,1+(0.033*COS(2*PI()*D60/365)),\"\")","v":""},{"$f":"IF($D$3= TRUE,1+(0.033*COS(2*PI()*E60/365)),\"\")","v":""},"","","","","","","","","",""]
[null,null,"Solar Decl. δ [Rad]",{"$f":"IF($D$3= TRUE,0.4093*SIN((2*PI()*D60/365)-1.39),\"\")","v":""},{"$f":"IF($D$3= TRUE,0.4093*SIN((2*PI()*E60/365)-1.39),\"\")","v":""},"","","","","","","","","",""]
[null,null,"Sunset Angle [Rad]",{"$f":"IF($D$3= TRUE,ACOS(-TAN($I$50)*TAN(D62)),\"\")","v":""},"","","","","","","","","","",""]
[null,null,"Ra [MJ m-2 day-1]",{"$f":"IF($D$3= TRUE,(24*60*0.082*D61/PI())*((D63*SIN($I$50)*SIN(D62))+(COS($I$50)*COS(D62)*SIN(D63))),\"\")","v":""},"","","","","","","","","","",""]
[null,null,"ETo [mm day-1]",{"$f":"IF($D$3= TRUE,0.408*0.0023*(D58+17.8)*(D54-D55)^0.5*D64,\"\")","v":""},{"$f":"IF($D$3= TRUE,0.408*0.0023*(E58+17.8)*(E54-E55)^0.5*E64,\"\")","v":""},"","","","","","","","","",""]
[]
[]
[null,"Option 3","FAO Penman-Monteith method"]
[null,null,"latitude",{"$f":"IF($D$4=TRUE,'1 Geographic Data'!$D$37,\"\")","v":""},"degree",{"$f":"IF($D$4=TRUE,'1 Geographic Data'!$G$37,\"\")","v":""},{"$f":"IF(OR(F69=$G$12,F69=$H$12,F69=$I$12,F69=$J$12,F69=$K$12,F69=$L$12),$G$12,\"South\")","v":"South"},{"$f":"\"==>\"","v":"==>"},{"$f":"IF($D$4= TRUE,IF(G69=\"North\",PI()*$D$69/180, PI()*-$D$69/180),\"\")","v":""},"Radians"]
[null,null,"Longitude",{"$f":"IF($D$4=TRUE,'1 Geographic Data'!$D$38,\"\")","v":""},"degree",{"$f":"IF($D$4=TRUE,'1 Geographic Data'!$G$38,\"\")","v":""}]
[null,null,"Altitude",{"$f":"IF($D$4=TRUE,'1 Geographic Data'!$D$35,\"\")","v":""},"meter"]
[]
[null,null,"Angstrom values","as",0.25,null,"albedo α",0.23]
[null,null,null,"bs",0.5]
[]
[null,null,null,{"$f":"D14","v":"January"},"February","March","April","May","June","July","August","September","October","November","December"]
[null,null,{"$f":"IF($D$4= TRUE,'1 Geographic Data'!A24,'1 Geographic Data'!A24)","v":"Maximum daily temperature [°C]"},{"$f":"IF($D$4= TRUE,'1 Geographic Data'!C24,\"\")","v":""},{"$f":"IF($D$4= TRUE,'1 Geographic Data'!D24,\"\")","v":""},{"$f":"IF($D$4= TRUE,'1 Geographic Data'!E24,\"\")","v":""},{"$f":"IF($D$4= TRUE,'1 Geographic Data'!F24,\"\")","v":""},{"$f":"IF($D$4= TRUE,'1 Geographic Data'!G24,\"\")","v":""},{"$f":"IF($D$4= TRUE,'1 Geographic Data'!H24,\"\")","v":""},{"$f":"IF($D$4= TRUE,'1 Geographic Data'!I24,\"\")","v":""},{"$f":"IF($D$4= TRUE,'1 Geographic Data'!J24,\"\")","v":""},{"$f":"IF($D$4= TRUE,'1 Geographic Data'!K24,\"\")","v":""},{"$f":"IF($D$4= TRUE,'1 Geographic Data'!L24,\"\")","v":""},{"$f":"IF($D$4= TRUE,'1 Geographic Data'!M24,\"\")","v":""},{"$f":"IF($D$4= TRUE,'1 Geographic Data'!N24,\"\")","v":""}]
[null,null,{"$f":"IF($D$4= TRUE,'1 Geographic Data'!A25,'1 Geographic Data'!A25)","v":"Minimum daily temperature [°C]"},{"$f":"IF($D$4= TRUE,'1 Geographic Data'!C25,\"\")","v":""},{"$f":"IF($D$4= TRUE,'1 Geographic Data'!D25,\"\")","v":""},{"$f":"IF($D$4= TRUE,'1 Geographic Data'!E25,\"\")","v":""},{"$f":"IF($D$4= TRUE,'1 Geographic Data'!F25,\"\")","v":""},{"$f":"IF($D$4= TRUE,'1 Geographic Data'!G25,\"\")","v":""},{"$f":"IF($D$4= TRUE,'1 Geographic Data'!H25,\"\")","v":""},{"$f":"IF($D$4= TRUE,'1 Geographic Data'!I25,\"\")","v":""},{"$f":"IF($D$4= TRUE,'1 Geographic Data'!J25,\"\")","v":""},{"$f":"IF($D$4= TRUE,'1 Geographic Data'!K25,\"\")","v":""},{"$f":"IF($D$4= TRUE,'1 Geographic Data'!L25,\"\")","v":""},{"$f":"IF($D$4= TRUE,'1 Geographic Data'!M25,\"\")","v":""},{"$f":"IF($D$4= TRUE,'1 Geographic Data'!N25,\"\")","v":""}]
[null,null,{"$f":"IF($D$4= TRUE,'1 Geographic Data'!A26,'1 Geographic Data'!A26)","v":"Relative humidity [%]"},{"$f":"IF($D$4= TRUE,'1 Geographic Data'!C26,\"\")","v":""},{"$f":"IF($D$4= TRUE,'1 Geographic Data'!D26,\"\")","v":""},{"$f":"IF($D$4= TRUE,'1 Geographic Data'!E26,\"\")","v":""},{"$f":"IF($D$4= TRUE,'1 Geographic Data'!F26,\"\")","v":""},{"$f":"IF($D$4= TRUE,'1 Geographic Data'!G26,\"\")","v":""},{"$f":"IF($D$4= TRUE,'1 Geographic Data'!H26,\"\")","v":""},{"$f":"IF($D$4= TRUE,'1 Geographic Data'!I26,\"\")","v":""},{"$f":"IF($D$4= TRUE,'1 Geographic Data'!J26,\"\")","v":""},{"$f":"IF($D$4= TRUE,'1 Geographic Data'!K26,\"\")","v":""},{"$f":"IF($D$4= TRUE,'1 Geographic Data'!L26,\"\")","v":""},{"$f":"IF($D$4= TRUE,'1 Geographic Data'!M26,\"\")","v":""},{"$f":"IF($D$4= TRUE,'1 Geographic Data'!N26,\"\")","v":""}]
[null,null,{"$f":"IF($D$4= TRUE,'1 Geographic Data'!A27,'1 Geographic Data'!A27)","v":"Wind speed [m/s]"},{"$f":"IF($D$4= TRUE,'1 Geographic Data'!C27,\"\")","v":""},{"$f":"IF($D$4= TRUE,'1 Geographic Data'!D27,\"\")","v":""},{"$f":"IF($D$4= TRUE,'1 Geographic Data'!E27,\"\")","v":""},{"$f":"IF($D$4= TRUE,'1 Geographic Data'!F27,\"\")","v":""},{"$f":"IF($D$4= TRUE,'1 Geographic Data'!G27,\"\")","v":""},{"$f":"IF($D$4= TRUE,'1 Geographic Data'!H27,\"\")","v":""},{"$f":"IF($D$4= TRUE,'1 Geographic Data'!I27,\"\")","v":""},{"$f":"IF($D$4= TRUE,'1 Geographic Data'!J27,\"\")","v":""},{"$f":"IF($D$4= TRUE,'1 Geographic Data'!K27,\"\")","v":""},{"$f":"IF($D$4= TRUE,'1 Geographic Data'!L27,\"\")","v":""},{"$f":"IF($D$4= TRUE,'1 Geographic Data'!M27,\"\")","v":""},{"$f":"IF($D$4= TRUE,'1 Geographic Data'!N27,\"\")","v":""}]
[null,null,{"$f":"IF($D$4= TRUE,'1 Geographic Data'!A28,'1 Geographic Data'!A28)","v":"Sunshine [hours]"},{"$f":"IF($D$4= TRUE,'1 Geographic Data'!C28,\"\")","v":""},{"$f":"IF($D$4= TRUE,'1 Geographic Data'!D28,\"\")","v":""},{"$f":"IF($D$4= TRUE,'1 Geographic Data'!E28,\"\")","v":""},{"$f":"IF($D$4= TRUE,'1 Geographic Data'!F28,\"\")","v":""},{"$f":"IF($D$4= TRUE,'1 Geographic Data'!G28,\"\")","v":""},{"$f":"IF($D$4= TRUE,'1 Geographic Data'!H28,\"\")","v":""},{"$f":"IF($D$4= TRUE,'1 Geographic Data'!I28,\"\")","v":""},{"$f":"IF($D$4= TRUE,'1 Geographic Data'!J28,\"\")","v":""},{"$f":"IF($D$4= TRUE,'1 Geographic Data'!K28,\"\")","v":""},{"$f":"IF($D$4= TRUE,'1 Geographic Data'!L28,\"\")","v":""},{"$f":"IF($D$4= TRUE,'1 Geographic Data'!M28,\"\")","v":""},{"$f":"IF($D$4= TRUE,'1 Geographic Data'!N28,\"\")","v":""}]
[null,null,"Reference Evapotranspiration ",{"$f":"D106","v":""},{"$f":"E106","v":""},"","","","","","","","","",""]
[]
[null,null,"Mean Temp. [°C] ",{"$f":"IF($D$4= TRUE,(D77+D78)/2,\"\")","v":""},{"$f":"IF($D$4= TRUE,(E77+E78)/2,\"\")","v":""},"","","","","","","","","",""]
[null,null,"Delta [kPa °C-1]",{"$f":"IF($D$4= TRUE,4098*(0.6108*EXP((17.27*D84)/(D84+237.3)))/(D84+237.3)^2,\"\")","v":""},"","","","","","","","","","",""]
[null,null,"e° (Tmax) [KPa]",{"$f":"IF($D$4= TRUE,0.6108*EXP((17.27*D77)/(D77+237.3)),\"\")","v":""},"","","","","","","","","","",""]
[null,null,"e° (Tmin) [KPa]",{"$f":"IF($D$4= TRUE,0.6108*EXP((17.27*D78)/(D78+237.3)),\"\")","v":""},"","","","","","","","","","",""]
[null,null,"es  [KPa]",{"$f":"IF($D$4= TRUE,(D86+D87)/2,\"\")","v":""},{"$f":"IF($D$4= TRUE,(E86+E87)/2,\"\")","v":""},"","","","","","","","","",""]
[null,null,"ea  [KPa]",{"$f":"IF($D$4= TRUE,D79*D88/100,\"\")","v":""},"","","","","","","","","","",""]
[null,null,"(es - ea)  [KPa]",{"$f":"IF($D$4= TRUE,D88-D89,\"\")","v":""},{"$f":"IF($D$4= TRUE,E88-E89,\"\")","v":""},"","","","","","","","","",""]
[null,null,"Atm. P  [KPa]",{"$f":"IF($D$4= TRUE,101.3*((293-0.0065*$D$71)/293)^5.26,\"\")","v":""},"","","","","","","","","","",""]
[null,null,"Gamma, γ [kPa °C-1]",{"$f":"IF($D$4= TRUE,0.000665*D91,\"\")","v":""},{"$f":"IF($D$4= TRUE,0.000665*E91,\"\")","v":""},"","","","","","","","","",""]
[null,null,"Month",1,2,3,4,5,6,7,8,9,10,11,12]
[null,null,"J",{"$f":"IF($D$4= TRUE,TRUNC((30.4*D93)-15),\"\")","v":""},{"$f":"IF($D$4= TRUE,TRUNC((30.4*E93)-15),\"\")","v":""},"","","","","","","","","",""]
[null,null,"dr",{"$f":"IF($D$4= TRUE,1+(0.033*COS(2*PI()*D94/365)),\"\")","v":""},{"$f":"IF($D$4= TRUE,1+(0.033*COS(2*PI()*E94/365)),\"\")","v":""},"","","","","","","","","",""]
[null,null,"Solar Decl. δ [Rad]",{"$f":"IF($D$4= TRUE,0.4093*SIN((2*PI()*D94/365)-1.39),\"\")","v":""},{"$f":"IF($D$4= TRUE,0.4093*SIN((2*PI()*E94/365)-1.39),\"\")","v":""},"","","","","","","","","",""]
[null,null,"Sunset Angle [Rad]",{"$f":"IF($D$4= TRUE,ACOS(-TAN($I$69)*TAN(D96)),\"\")","v":""},"","","","","","","","","","",""]
[null,null,"Ra [MJ m-2 day-1]",{"$f":"IF($D$4= TRUE,(24*60*0.082*D95/PI())*((D97*SIN($I$69)*SIN(D96))+(COS($I$69)*COS(D96)*SIN(D97))),\"\")","v":""},"","","","","","","","","","",""]
[null,null,"Daylight hours N",{"$f":"IF($D$4= TRUE,24*D97/PI(),\"\")","v":""},{"$f":"IF($D$4= TRUE,24*E97/PI(),\"\")","v":""},"","","","","","","","","",""]
[null,null,"Rs [MJ m-2 day-1]",{"$f":"IF($D$4= TRUE,($E$73+($E$74*D81/D99))*D98,\"\")","v":""},"","","","","","","","","","",""]
[null,null,"Rso [MJ m-2 day-1]",{"$f":"IF($D$4= TRUE,($E$73+$E$74)*D98,\"\")","v":""},"","","","","","","","","","",""]
[null,null,"Rns [MJ m-2 day-1]",{"$f":"IF($D$4= TRUE,(1-$H$73)*D100,\"\")","v":""},"","","","","","","","","","",""]
[null,null,"Rnl [MJ m-2 day-1]",{"$f":"IF($D$4= TRUE,4.903*10^-9*(((D77+273.16)^4+(D78+273.16)^4)/2)*(0.34-(0.14*SQRT(D89)))*((1.35*D100/D101)-0.35),\"\")","v":""},"","","","","","","","","","",""]
[null,null,"Rn [MJ m-2 day-1]",{"$f":"IF($D$4= TRUE,D102-D103,\"\")","v":""},{"$f":"IF($D$4= TRUE,E102-E103,\"\")","v":""},"","","","","","","","","",""]
[null,null,"Gmonth [MJ m-2 day-1]",{"$f":"IF($D$4= TRUE,0.14*(D84-O84),\"\")","v":""},{"$f":"IF($D$4= TRUE,0.14*(E84-D84),\"\")","v":""},"","","","","","","","","",""]
[null,null,"ETo [mm day-1]",{"$f":"IF($D$4= TRUE,((0.408*D85*(D104-D105))+(D92*900*D80*D90/(D84+273)))/(D85+(D92*(1+(0.34*D80)))),\"\")","v":""},"","","","","","","","","","",""]
[]
[null,"Option 4","Reference evapotranspiration"]
[null,null,null,{"$f":"D14","v":"January"},"February","March","April","May","June","July","August","September","October","November","December"]
[null,null,{"$f":"IF($D$5= TRUE,'1 Geographic Data'!A23,'1 Geographic Data'!A23)","v":"Mean daily temperature [°C]"},{"$f":"IF($D$5= TRUE,'1 Geographic Data'!C23,'1 Geographic Data'!C23)","v":25.5},{"$f":"IF($D$5= TRUE,'1 Geographic Data'!D23,'1 Geographic Data'!D23)","v":25},{"$f":"IF($D$5= TRUE,'1 Geographic Data'!E23,'1 Geographic Data'!E23)","v":24.6},{"$f":"IF($D$5= TRUE,'1 Geographic Data'!F23,'1 Geographic Data'!F23)","v":23.8},{"$f":"IF($D$5= TRUE,'1 Geographic Data'!G23,'1 Geographic Data'!G23)","v":23.9},{"$f":"IF($D$5= TRUE,'1 Geographic Data'!H23,'1 Geographic Data'!H23)","v":23.5},{"$f":"IF($D$5= TRUE,'1 Geographic Data'!I23,'1 Geographic Data'!I23)","v":23},{"$f":"IF($D$5= TRUE,'1 Geographic Data'!J23,'1 Geographic Data'!J23)","v":23},{"$f":"IF($D$5= TRUE,'1 Geographic Data'!K23,'1 Geographic Data'!K23)","v":23.6},{"$f":"IF($D$5= TRUE,'1 Geographic Data'!L23,'1 Geographic Data'!L23)","v":23.9},{"$f":"IF($D$5= TRUE,'1 Geographic Data'!M23,'1 Geographic Data'!M23)","v":23.6},{"$f":"IF($D$5= TRUE,'1 Geographic Data'!N23,'1 Geographic Data'!N23)","v":24}]
[null,null,{"$f":"IF($D$5= TRUE,'1 Geographic Data'!A29,'1 Geographic Data'!A29)","v":"Reference evapotranspiration [mm/day]"},{"$f":"IF($D$5= TRUE,'1 Geographic Data'!C29,\"\")","v":""},{"$f":"IF($D$5= TRUE,'1 Geographic Data'!D29,\"\")","v":""},{"$f":"IF($D$5= TRUE,'1 Geographic Data'!E29,\"\")","v":""},{"$f":"IF($D$5= TRUE,'1 Geographic Data'!F29,\"\")","v":""},{"$f":"IF($D$5= TRUE,'1 Geographic Data'!G29,\"\")","v":""},{"$f":"IF($D$5= TRUE,'1 Geographic Data'!H29,\"\")","v":""},{"$f":"IF($D$5= TRUE,'1 Geographic Data'!I29,\"\")","v":""},{"$f":"IF($D$5= TRUE,'1 Geographic Data'!J29,\"\")","v":""},{"$f":"IF($D$5= TRUE,'1 Geographic Data'!K29,\"\")","v":""},{"$f":"IF($D$5= TRUE,'1 Geographic Data'!L29,\"\")","v":""},{"$f":"IF($D$5= TRUE,'1 Geographic Data'!M29,\"\")","v":""},{"$f":"IF($D$5= TRUE,'1 Geographic Data'!N29,\"\")","v":""}]
[]
[]
[null,null,null,{"$f":"D14","v":"January"},"February","March","April","May","June","July","August","September","October","November","December"]
[null,"Final Values","Reference Evapotranspiration",{"$f":"IF($D$2= TRUE, D17, IF($D$3= TRUE, D65,IF($D$4= TRUE, D82,D111)))","v":5.3271000000000006},5.2650000000000006,5.2153200000000011,5.3054400000000008,5.3183200000000008,5.2668000000000008,5.2023999999999999,5.2023999999999999,5.2796800000000008,5.1283799999999999,5.091120000000001,5.1408000000000005]
[null,null,{"$f":"'1 Geographic Data'!$A$23","v":"Mean daily temperature [°C]"},{"$f":"IF($D$2= TRUE, D15, IF($D$3= TRUE, D58,IF($D$4= TRUE, D84,D110)))","v":25.5},25,24.6,23.8,23.9,23.5,23,23,23.6,23.9,23.6,24]
[null,null,{"$f":"'1 Geographic Data'!A30","v":"Rainfall [mm/month]"},{"$f":"'1 Geographic Data'!C30","v":45},{"$f":"'1 Geographic Data'!D30","v":33},{"$f":"'1 Geographic Data'!E30","v":69.3},{"$f":"'1 Geographic Data'!F30","v":142.80000000000001},{"$f":"'1 Geographic Data'!G30","v":109.8},{"$f":"'1 Geographic Data'!H30","v":38.1},{"$f":"'1 Geographic Data'!I30","v":27},{"$f":"'1 Geographic Data'!J30","v":21.6},{"$f":"'1 Geographic Data'!K30","v":18.3},{"$f":"'1 Geographic Data'!L30","v":48.3},{"$f":"'1 Geographic Data'!M30","v":97.2},{"$f":"'1 Geographic Data'!N30","v":86.1}]
[]
[]
["Calculation of crop water requiremnet and irrigation requirement"]
[]
[null,null,"Year",{"$f":"'Crop Calculation Sheet'!H6","v":"2021"},{"$f":"'Crop Calculation Sheet'!I6","v":"2021"},{"$f":"'Crop Calculation Sheet'!J6","v":"2021"},{"$f":"'Crop Calculation Sheet'!K6","v":"2021"},{"$f":"'Crop Calculation Sheet'!L6","v":"2021"},{"$f":"'Crop Calculation Sheet'!M6","v":"2021"},{"$f":"'Crop Calculation Sheet'!N6","v":"2021"},{"$f":"'Crop Calculation Sheet'!O6","v":"2021"},{"$f":"'Crop Calculation Sheet'!P6","v":"2022"},{"$f":"'Crop Calculation Sheet'!Q6","v":"2022"},{"$f":"'Crop Calculation Sheet'!R6","v":"2022"},{"$f":"'Crop Calculation Sheet'!S6","v":"2022"},{"$f":"'Crop Calculation Sheet'!T6","v":"2022"},{"$f":"'Crop Calculation Sheet'!U6","v":"2022"},{"$f":"'Crop Calculation Sheet'!V6","v":"2022"},{"$f":"'Crop Calculation Sheet'!W6","v":"2022"},{"$f":"'Crop Calculation Sheet'!X6","v":"2022"},{"$f":"'Crop Calculation Sheet'!Y6","v":"2022"},{"$f":"'Crop Calculation Sheet'!Z6","v":"2022"},{"$f":"'Crop Calculation Sheet'!AA6","v":"2022"},{"$f":"'Crop Calculation Sheet'!AB6","v":"2023"},{"$f":"'Crop Calculation Sheet'!AC6","v":"2023"},{"$f":"'Crop Calculation Sheet'!AD6","v":"2023"},{"$f":"'Crop Calculation Sheet'!AE6","v":"2023"}]
[null,null,"Month of the year",{"$f":"PROPER('Crop Calculation Sheet'!H7)","v":"May"},{"$f":"PROPER('Crop Calculation Sheet'!I7)","v":"June"},{"$f":"PROPER('Crop Calculation Sheet'!J7)","v":"July"},{"$f":"PROPER('Crop Calculation Sheet'!K7)","v":"August"},{"$f":"PROPER('Crop Calculation Sheet'!L7)","v":"September"},{"$f":"PROPER('Crop Calculation Sheet'!M7)","v":"October"},{"$f":"PROPER('Crop Calculation Sheet'!N7)","v":"November"},{"$f":"PROPER('Crop Calculation Sheet'!O7)","v":"December"},{"$f":"PROPER('Crop Calculation Sheet'!P7)","v":"January"},{"$f":"PROPER('Crop Calculation Sheet'!Q7)","v":"February"},{"$f":"PROPER('Crop Calculation Sheet'!R7)","v":"March"},{"$f":"PROPER('Crop Calculation Sheet'!S7)","v":"April"},{"$f":"PROPER('Crop Calculation Sheet'!T7)","v":"May"},{"$f":"PROPER('Crop Calculation Sheet'!U7)","v":"June"},{"$f":"PROPER('Crop Calculation Sheet'!V7)","v":"July"},{"$f":"PROPER('Crop Calculation Sheet'!W7)","v":"August"},{"$f":"PROPER('Crop Calculation Sheet'!X7)","v":"September"},{"$f":"PROPER('Crop Calculation Sheet'!Y7)","v":"October"},{"$f":"PROPER('Crop Calculation Sheet'!Z7)","v":"November"},{"$f":"PROPER('Crop Calculation Sheet'!AA7)","v":"December"},{"$f":"PROPER('Crop Calculation Sheet'!AB7)","v":"January"},{"$f":"PROPER('Crop Calculation Sheet'!AC7)","v":"February"},{"$f":"PROPER('Crop Calculation Sheet'!AD7)","v":"March"},{"$f":"PROPER('Crop Calculation Sheet'!AE7)","v":"April"}]
[null,null,"Days per month",{"$f":"'Crop Calculation Sheet'!H9","v":31},{"$f":"'Crop Calculation Sheet'!I9","v":30},{"$f":"'Crop Calculation Sheet'!J9","v":31},{"$f":"'Crop Calculation Sheet'!K9","v":31},{"$f":"'Crop Calculation Sheet'!L9","v":30},{"$f":"'Crop Calculation Sheet'!M9","v":31},{"$f":"'Crop Calculation Sheet'!N9","v":30},{"$f":"'Crop Calculation Sheet'!O9","v":31},{"$f":"'Crop Calculation Sheet'!P9","v":31},{"$f":"'Crop Calculation Sheet'!Q9","v":28},{"$f":"'Crop Calculation Sheet'!R9","v":31},{"$f":"'Crop Calculation Sheet'!S9","v":30},{"$f":"'Crop Calculation Sheet'!T9","v":31},{"$f":"'Crop Calculation Sheet'!U9","v":30},{"$f":"'Crop Calculation Sheet'!V9","v":31},{"$f":"'Crop Calculation Sheet'!W9","v":31},{"$f":"'Crop Calculation Sheet'!X9","v":30},{"$f":"'Crop Calculation Sheet'!Y9","v":31},{"$f":"'Crop Calculation Sheet'!Z9","v":30},{"$f":"'Crop Calculation Sheet'!AA9","v":31},{"$f":"'Crop Calculation Sheet'!AB9","v":31},{"$f":"'Crop Calculation Sheet'!AC9","v":28},{"$f":"'Crop Calculation Sheet'!AD9","v":31},{"$f":"'Crop Calculation Sheet'!AE9","v":30}]
[null,null,{"$f":"'General Calculation'!$C$115","v":"Reference Evapotranspiration"},{"$f":"'Crop Calculation Sheet'!H10","v":5.3183200000000008},{"$f":"'Crop Calculation Sheet'!I10","v":5.2668000000000008},{"$f":"'Crop Calculation Sheet'!J10","v":5.2023999999999999},{"$f":"'Crop Calculation Sheet'!K10","v":5.2023999999999999},{"$f":"'Crop Calculation Sheet'!L10","v":5.2796800000000008},{"$f":"'Crop Calculation Sheet'!M10","v":5.1283799999999999},{"$f":"'Crop Calculation Sheet'!N10","v":5.091120000000001},{"$f":"'Crop Calculation Sheet'!O10","v":5.1408000000000005},{"$f":"'Crop Calculation Sheet'!P10","v":5.3271000000000006},{"$f":"'Crop Calculation Sheet'!Q10","v":5.2650000000000006},{"$f":"'Crop Calculation Sheet'!R10","v":5.2153200000000011},{"$f":"'Crop Calculation Sheet'!S10","v":5.3054400000000008},{"$f":"'Crop Calculation Sheet'!T10","v":5.3183200000000008},{"$f":"'Crop Calculation Sheet'!U10","v":5.2668000000000008},{"$f":"'Crop Calculation Sheet'!V10","v":5.2023999999999999},{"$f":"'Crop Calculation Sheet'!W10","v":5.2023999999999999},{"$f":"'Crop Calculation Sheet'!X10","v":5.2796800000000008},{"$f":"'Crop Calculation Sheet'!Y10","v":5.1283799999999999},{"$f":"'Crop Calculation Sheet'!Z10","v":5.091120000000001},{"$f":"'Crop Calculation Sheet'!AA10","v":5.1408000000000005},{"$f":"'Crop Calculation Sheet'!AB10","v":5.3271000000000006},{"$f":"'Crop Calculation Sheet'!AC10","v":5.2650000000000006},{"$f":"'Crop Calculation Sheet'!AD10","v":5.2153200000000011},{"$f":"'Crop Calculation Sheet'!AE10","v":5.3054400000000008}]
[null,null,{"$f":"C116","v":"Mean daily temperature [°C]"},{"$f":"VLOOKUP($C$126,$C$114:$O$117,MATCH(D$123,$C$114:$O$114,0),FALSE)","v":23.9},{"$f":"VLOOKUP($C$126,$C$114:$O$117,MATCH(E$123,$C$114:$O$114,0),FALSE)","v":23.5},23,23,23.6,23.9,23.6,24,25.5,25,24.6,23.8,23.9,23.5,23,23,23.6,23.9,23.6,24,25.5,25,24.6,23.8]
[null,null,{"$f":"C117","v":"Rainfall [mm/month]"},{"$f":"VLOOKUP($C$127,$C$114:$O$117,MATCH(D$123,$C$114:$O$114,0),FALSE)","v":109.8},38.1,27,21.6,18.3,48.3,97.2,86.1,45,33,69.3,142.80000000000001,109.8,38.1,27,21.6,18.3,48.3,97.2,86.1,45,33,69.3,142.80000000000001]
[null,null,{"$f":"Translate!$C$170","v":"Effective rainfall [mm/month]"},{"$f":"IF(D127<=70,IF(0.6*D127-10>0,0.6*D127-10,0),IF(0.8*D127-24>0,0.8*D127-24,0))","v":63.84},{"$f":"IF(E127<=70,IF(0.6*E127-10>0,0.6*E127-10,0),IF(0.8*E127-24>0,0.8*E127-24,0))","v":12.86},6.1999999999999993,2.9600000000000009,0.98000000000000043,18.979999999999997,53.760000000000005,44.879999999999995,17,9.8000000000000007,31.58,{"$f":"IF(O127<=70,IF(0.6*O127-10>0,0.6*O127-10,0),IF(0.8*O127-24>0,0.8*O127-24,0))","v":90.240000000000009},{"$f":"IF(P127<=70,IF(0.6*P127-10>0,0.6*P127-10,0),IF(0.8*P127-24>0,0.8*P127-24,0))","v":63.84},12.86,6.1999999999999993,2.9600000000000009,0.98000000000000043,18.979999999999997,53.760000000000005,44.879999999999995,17,9.8000000000000007,31.58,90.240000000000009]
[]
[]
[null,"Crop Water Requirement [mm/month]"]
[null,{"$f":"'Crop Calculation Sheet'!E12","v":"Crop 1"},{"$f":"IF('Data Validation Sheet'!$F25=TRUE,'Crop Calculation Sheet'!$F$12,\"\")","v":"Carrots "},{"$f":"IF('Data Validation Sheet'!$F25=TRUE,'Crop Calculation Sheet'!H$12,0)","v":119.50265040000004},{"$f":"IF('Data Validation Sheet'!$F25=TRUE,'Crop Calculation Sheet'!I$12,0)","v":155.39693399999999},{"$f":"IF('Data Validation Sheet'!$F25=TRUE,'Crop Calculation Sheet'!J$12,0)","v":167.30918399999999},{"$f":"IF('Data Validation Sheet'!$F25=TRUE,'Crop Calculation Sheet'!K$12,0)","v":40.266575999999993},{"$f":"IF('Data Validation Sheet'!$F25=TRUE,'Crop Calculation Sheet'!L$12,0)","v":0},{"$f":"IF('Data Validation Sheet'!$F25=TRUE,'Crop Calculation Sheet'!M$12,0)","v":0},{"$f":"IF('Data Validation Sheet'!$F25=TRUE,'Crop Calculation Sheet'!N$12,0)","v":0},{"$f":"IF('Data Validation Sheet'!$F25=TRUE,'Crop Calculation Sheet'!O$12,0)","v":0},{"$f":"IF('Data Validation Sheet'!$F25=TRUE,'Crop Calculation Sheet'!P$12,0)","v":0},{"$f":"IF('Data Validation Sheet'!$F25=TRUE,'Crop Calculation Sheet'!Q$12,0)","v":0},{"$f":"IF('Data Validation Sheet'!$F25=TRUE,'Crop Calculation Sheet'!R$12,0)","v":0},{"$f":"IF('Data Validation Sheet'!$F25=TRUE,'Crop Calculation Sheet'!S$12,0)","v":0},{"$f":"IF('Data Validation Sheet'!$F25=TRUE,'Crop Calculation Sheet'!T$12,0)","v":0},{"$f":"IF('Data Validation Sheet'!$F25=TRUE,'Crop Calculation Sheet'!U$12,0)","v":0},{"$f":"IF('Data Validation Sheet'!$F25=TRUE,'Crop Calculation Sheet'!V$12,0)","v":0},{"$f":"IF('Data Validation Sheet'!$F25=TRUE,'Crop Calculation Sheet'!W$12,0)","v":0},{"$f":"IF('Data Validation Sheet'!$F25=TRUE,'Crop Calculation Sheet'!X$12,0)","v":0},{"$f":"IF('Data Validation Sheet'!$F25=TRUE,'Crop Calculation Sheet'!Y$12,0)","v":0},{"$f":"IF('Data Validation Sheet'!$F25=TRUE,'Crop Calculation Sheet'!Z$12,0)","v":0},{"$f":"IF('Data Validation Sheet'!$F25=TRUE,'Crop Calculation Sheet'!AA$12,0)","v":0},{"$f":"IF('Data Validation Sheet'!$F25=TRUE,'Crop Calculation Sheet'!AB$12,0)","v":0},{"$f":"IF('Data Validation Sheet'!$F25=TRUE,'Crop Calculation Sheet'!AC$12,0)","v":0},{"$f":"IF('Data Validation Sheet'!$F25=TRUE,'Crop Calculation Sheet'!AD$12,0)","v":0},{"$f":"IF('Data Validation Sheet'!$F25=TRUE,'Crop Calculation Sheet'!AE$12,0)","v":0},null,{"$f":"IF(C132=\"\",\"1 -\",\"1 - \"&Translate!$C$171&\" \"&C132&\" \"&Translate!$C$172)","v":"1 - CWR - Carrots  [mm/month]"}]
[null,{"$f":"'Crop Calculation Sheet'!E15","v":"Crop 2"},{"$f":"IF('Data Validation Sheet'!$F26=TRUE,'Crop Calculation Sheet'!$F$15,\"\")","v":"Carrots "},{"$f":"IF('Data Validation Sheet'!$F26=TRUE,'Crop Calculation Sheet'!H$15,0)","v":0},{"$f":"IF('Data Validation Sheet'!$F26=TRUE,'Crop Calculation Sheet'!I$15,0)","v":0},{"$f":"IF('Data Validation Sheet'!$F26=TRUE,'Crop Calculation Sheet'!J$15,0)","v":0},{"$f":"IF('Data Validation Sheet'!$F26=TRUE,'Crop Calculation Sheet'!K$15,0)","v":0},{"$f":"IF('Data Validation Sheet'!$F26=TRUE,'Crop Calculation Sheet'!L$15,0)","v":0},{"$f":"IF('Data Validation Sheet'!$F26=TRUE,'Crop Calculation Sheet'!M$15,0)","v":0},{"$f":"IF('Data Validation Sheet'!$F26=TRUE,'Crop Calculation Sheet'!N$15,0)","v":0},{"$f":"IF('Data Validation Sheet'!$F26=TRUE,'Crop Calculation Sheet'!O$15,0)","v":0},{"$f":"IF('Data Validation Sheet'!$F26=TRUE,'Crop Calculation Sheet'!P$15,0)","v":0},{"$f":"IF('Data Validation Sheet'!$F26=TRUE,'Crop Calculation Sheet'!Q$15,0)","v":0},{"$f":"IF('Data Validation Sheet'!$F26=TRUE,'Crop Calculation Sheet'!R$15,0)","v":0},{"$f":"IF('Data Validation Sheet'!$F26=TRUE,'Crop Calculation Sheet'!S$15,0)","v":0},{"$f":"IF('Data Validation Sheet'!$F26=TRUE,'Crop Calculation Sheet'!T$15,0)","v":0},{"$f":"IF('Data Validation Sheet'!$F26=TRUE,'Crop Calculation Sheet'!U$15,0)","v":0},{"$f":"IF('Data Validation Sheet'!$F26=TRUE,'Crop Calculation Sheet'!V$15,0)","v":116.89792799999998},{"$f":"IF('Data Validation Sheet'!$F26=TRUE,'Crop Calculation Sheet'!W$15,0)","v":158.95933200000005},{"$f":"IF('Data Validation Sheet'!$F26=TRUE,'Crop Calculation Sheet'!X$15,0)","v":164.25084480000007},{"$f":"IF('Data Validation Sheet'!$F26=TRUE,'Crop Calculation Sheet'!Y$15,0)","v":39.693661199999994},{"$f":"IF('Data Validation Sheet'!$F26=TRUE,'Crop Calculation Sheet'!Z$15,0)","v":0},{"$f":"IF('Data Validation Sheet'!$F26=TRUE,'Crop Calculation Sheet'!AA$15,0)","v":0},{"$f":"IF('Data Validation Sheet'!$F26=TRUE,'Crop Calculation Sheet'!AB$15,0)","v":0},{"$f":"IF('Data Validation Sheet'!$F26=TRUE,'Crop Calculation Sheet'!AC$15,0)","v":0},{"$f":"IF('Data Validation Sheet'!$F26=TRUE,'Crop Calculation Sheet'!AD$15,0)","v":0},{"$f":"IF('Data Validation Sheet'!$F26=TRUE,'Crop Calculation Sheet'!AE$15,0)","v":0},null,{"$f":"IF(C133=\"\",\"2 -\",\"2 - \"&Translate!$C$171&\" \"&C133&\" \"&Translate!$C$172)","v":"2 - CWR - Carrots  [mm/month]"}]
[null,{"$f":"'Crop Calculation Sheet'!E18","v":"Crop 3"},{"$f":"IF('Data Validation Sheet'!$F27=TRUE,'Crop Calculation Sheet'!$F$18,\"\")","v":""},{"$f":"IF('Data Validation Sheet'!$F27=TRUE,'Crop Calculation Sheet'!H$18,0)","v":0},{"$f":"IF('Data Validation Sheet'!$F27=TRUE,'Crop Calculation Sheet'!I$18,0)","v":0},{"$f":"IF('Data Validation Sheet'!$F27=TRUE,'Crop Calculation Sheet'!J$18,0)","v":0},{"$f":"IF('Data Validation Sheet'!$F27=TRUE,'Crop Calculation Sheet'!K$18,0)","v":0},{"$f":"IF('Data Validation Sheet'!$F27=TRUE,'Crop Calculation Sheet'!L$18,0)","v":0},{"$f":"IF('Data Validation Sheet'!$F27=TRUE,'Crop Calculation Sheet'!M$18,0)","v":0},{"$f":"IF('Data Validation Sheet'!$F27=TRUE,'Crop Calculation Sheet'!N$18,0)","v":0},{"$f":"IF('Data Validation Sheet'!$F27=TRUE,'Crop Calculation Sheet'!O$18,0)","v":0},{"$f":"IF('Data Validation Sheet'!$F27=TRUE,'Crop Calculation Sheet'!P$18,0)","v":0},{"$f":"IF('Data Validation Sheet'!$F27=TRUE,'Crop Calculation Sheet'!Q$18,0)","v":0},{"$f":"IF('Data Validation Sheet'!$F27=TRUE,'Crop Calculation Sheet'!R$18,0)","v":0},{"$f":"IF('Data Validation Sheet'!$F27=TRUE,'Crop Calculation Sheet'!S$18,0)","v":0},{"$f":"IF('Data Validation Sheet'!$F27=TRUE,'Crop Calculation Sheet'!T$18,0)","v":0},{"$f":"IF('Data Validation Sheet'!$F27=TRUE,'Crop Calculation Sheet'!U$18,0)","v":0},{"$f":"IF('Data Validation Sheet'!$F27=TRUE,'Crop Calculation Sheet'!V$18,0)","v":0},{"$f":"IF('Data Validation Sheet'!$F27=TRUE,'Crop Calculation Sheet'!W$18,0)","v":0},{"$f":"IF('Data Validation Sheet'!$F27=TRUE,'Crop Calculation Sheet'!X$18,0)","v":0},{"$f":"IF('Data Validation Sheet'!$F27=TRUE,'Crop Calculation Sheet'!Y$18,0)","v":0},{"$f":"IF('Data Validation Sheet'!$F27=TRUE,'Crop Calculation Sheet'!Z$18,0)","v":0},{"$f":"IF('Data Validation Sheet'!$F27=TRUE,'Crop Calculation Sheet'!AA$18,0)","v":0},{"$f":"IF('Data Validation Sheet'!$F27=TRUE,'Crop Calculation Sheet'!AB$18,0)","v":0},{"$f":"IF('Data Validation Sheet'!$F27=TRUE,'Crop Calculation Sheet'!AC$18,0)","v":0},{"$f":"IF('Data Validation Sheet'!$F27=TRUE,'Crop Calculation Sheet'!AD$18,0)","v":0},{"$f":"IF('Data Validation Sheet'!$F27=TRUE,'Crop Calculation Sheet'!AE$18,0)","v":0},null,{"$f":"IF(C134=\"\",\"3 -\",\"3 - \"&Translate!$C$171&\" \"&C134&\" \"&Translate!$C$172)","v":"3 -"}]
[null,{"$f":"'Crop Calculation Sheet'!E21","v":"Crop 4"},{"$f":"IF('Data Validation Sheet'!$F28=TRUE,'Crop Calculation Sheet'!$F$21,\"\")","v":""},{"$f":"IF('Data Validation Sheet'!$F28=TRUE,'Crop Calculation Sheet'!H$21,0)","v":0},{"$f":"IF('Data Validation Sheet'!$F28=TRUE,'Crop Calculation Sheet'!I$21,0)","v":0},{"$f":"IF('Data Validation Sheet'!$F28=TRUE,'Crop Calculation Sheet'!J$21,0)","v":0},{"$f":"IF('Data Validation Sheet'!$F28=TRUE,'Crop Calculation Sheet'!K$21,0)","v":0},{"$f":"IF('Data Validation Sheet'!$F28=TRUE,'Crop Calculation Sheet'!L$21,0)","v":0},{"$f":"IF('Data Validation Sheet'!$F28=TRUE,'Crop Calculation Sheet'!M$21,0)","v":0},{"$f":"IF('Data Validation Sheet'!$F28=TRUE,'Crop Calculation Sheet'!N$21,0)","v":0},{"$f":"IF('Data Validation Sheet'!$F28=TRUE,'Crop Calculation Sheet'!O$21,0)","v":0},{"$f":"IF('Data Validation Sheet'!$F28=TRUE,'Crop Calculation Sheet'!P$21,0)","v":0},{"$f":"IF('Data Validation Sheet'!$F28=TRUE,'Crop Calculation Sheet'!Q$21,0)","v":0},{"$f":"IF('Data Validation Sheet'!$F28=TRUE,'Crop Calculation Sheet'!R$21,0)","v":0},{"$f":"IF('Data Validation Sheet'!$F28=TRUE,'Crop Calculation Sheet'!S$21,0)","v":0},{"$f":"IF('Data Validation Sheet'!$F28=TRUE,'Crop Calculation Sheet'!T$21,0)","v":0},{"$f":"IF('Data Validation Sheet'!$F28=TRUE,'Crop Calculation Sheet'!U$21,0)","v":0},{"$f":"IF('Data Validation Sheet'!$F28=TRUE,'Crop Calculation Sheet'!V$21,0)","v":0},{"$f":"IF('Data Validation Sheet'!$F28=TRUE,'Crop Calculation Sheet'!W$21,0)","v":0},{"$f":"IF('Data Validation Sheet'!$F28=TRUE,'Crop Calculation Sheet'!X$21,0)","v":0},{"$f":"IF('Data Validation Sheet'!$F28=TRUE,'Crop Calculation Sheet'!Y$21,0)","v":0},{"$f":"IF('Data Validation Sheet'!$F28=TRUE,'Crop Calculation Sheet'!Z$21,0)","v":0},{"$f":"IF('Data Validation Sheet'!$F28=TRUE,'Crop Calculation Sheet'!AA$21,0)","v":0},{"$f":"IF('Data Validation Sheet'!$F28=TRUE,'Crop Calculation Sheet'!AB$21,0)","v":0},{"$f":"IF('Data Validation Sheet'!$F28=TRUE,'Crop Calculation Sheet'!AC$21,0)","v":0},{"$f":"IF('Data Validation Sheet'!$F28=TRUE,'Crop Calculation Sheet'!AD$21,0)","v":0},{"$f":"IF('Data Validation Sheet'!$F28=TRUE,'Crop Calculation Sheet'!AE$21,0)","v":0},null,{"$f":"IF(C135=\"\",\"4 -\",\"4 - \"&Translate!$C$171&\" \"&C135&\" \"&Translate!$C$172)","v":"4 -"}]
[null,{"$f":"'Crop Calculation Sheet'!E24","v":"Crop 5"},{"$f":"IF('Data Validation Sheet'!$F29=TRUE,'Crop Calculation Sheet'!$F$24,\"\")","v":""},{"$f":"IF('Data Validation Sheet'!$F29=TRUE,'Crop Calculation Sheet'!H$24,0)","v":0},{"$f":"IF('Data Validation Sheet'!$F29=TRUE,'Crop Calculation Sheet'!I$24,0)","v":0},{"$f":"IF('Data Validation Sheet'!$F29=TRUE,'Crop Calculation Sheet'!J$24,0)","v":0},{"$f":"IF('Data Validation Sheet'!$F29=TRUE,'Crop Calculation Sheet'!K$24,0)","v":0},{"$f":"IF('Data Validation Sheet'!$F29=TRUE,'Crop Calculation Sheet'!L$24,0)","v":0},{"$f":"IF('Data Validation Sheet'!$F29=TRUE,'Crop Calculation Sheet'!M$24,0)","v":0},{"$f":"IF('Data Validation Sheet'!$F29=TRUE,'Crop Calculation Sheet'!N$24,0)","v":0},{"$f":"IF('Data Validation Sheet'!$F29=TRUE,'Crop Calculation Sheet'!O$24,0)","v":0},{"$f":"IF('Data Validation Sheet'!$F29=TRUE,'Crop Calculation Sheet'!P$24,0)","v":0},{"$f":"IF('Data Validation Sheet'!$F29=TRUE,'Crop Calculation Sheet'!Q$24,0)","v":0},{"$f":"IF('Data Validation Sheet'!$F29=TRUE,'Crop Calculation Sheet'!R$24,0)","v":0},{"$f":"IF('Data Validation Sheet'!$F29=TRUE,'Crop Calculation Sheet'!S$24,0)","v":0},{"$f":"IF('Data Validation Sheet'!$F29=TRUE,'Crop Calculation Sheet'!T$24,0)","v":0},{"$f":"IF('Data Validation Sheet'!$F29=TRUE,'Crop Calculation Sheet'!U$24,0)","v":0},{"$f":"IF('Data Validation Sheet'!$F29=TRUE,'Crop Calculation Sheet'!V$24,0)","v":0},{"$f":"IF('Data Validation Sheet'!$F29=TRUE,'Crop Calculation Sheet'!W$24,0)","v":0},{"$f":"IF('Data Validation Sheet'!$F29=TRUE,'Crop Calculation Sheet'!X$24,0)","v":0},{"$f":"IF('Data Validation Sheet'!$F29=TRUE,'Crop Calculation Sheet'!Y$24,0)","v":0},{"$f":"IF('Data Validation Sheet'!$F29=TRUE,'Crop Calculation Sheet'!Z$24,0)","v":0},{"$f":"IF('Data Validation Sheet'!$F29=TRUE,'Crop Calculation Sheet'!AA$24,0)","v":0},{"$f":"IF('Data Validation Sheet'!$F29=TRUE,'Crop Calculation Sheet'!AB$24,0)","v":0},{"$f":"IF('Data Validation Sheet'!$F29=TRUE,'Crop Calculation Sheet'!AC$24,0)","v":0},{"$f":"IF('Data Validation Sheet'!$F29=TRUE,'Crop Calculation Sheet'!AD$24,0)","v":0},{"$f":"IF('Data Validation Sheet'!$F29=TRUE,'Crop Calculation Sheet'!AE$24,0)","v":0},null,{"$f":"IF(C136=\"\",\"5 -\",\"5 - \"&Translate!$C$171&\" \"&C136&\" \"&Translate!$C$172)","v":"5 -"}]
[]
[null,"Irrigation Method","Efficiency %"]
[]
[null,{"$f":"Translate!C144","v":"Surface: Graded furrow"},65]
[null,{"$f":"Translate!C145","v":"Surface: with tailwater reuse"},75]
[null,{"$f":"Translate!C146","v":"Surface: Graded border/basins"},65]
[null,{"$f":"Translate!C147","v":"Sprinkler: Periodic move"},75]
[null,{"$f":"Translate!C148","v":"Sprinkler: Side roll"},75]
[null,{"$f":"Translate!C149","v":"Sprinkler: Moving big gun"},65]
[null,{"$f":"Translate!C150","v":"Center pivot: Impact heads with end gun"},80]
[null,{"$f":"Translate!C151","v":"Center pivot: Spray heads without end gun"},90]
[null,{"$f":"Translate!C152","v":"Center pivot: LEPA without end gun"},95]
[null,{"$f":"Translate!C153","v":"Lateral move: Spray heads with hose feed"},90]
[null,{"$f":"Translate!C154","v":"Lateral move: Spray heads with canal feed"},85]
[null,{"$f":"Translate!C155","v":"Microirrigation: Drip irrigation"},90]
[null,{"$f":"Translate!C156","v":"Microirrigation: Subsurface drip"},90]
[null,{"$f":"Translate!C157","v":"Microirrigation: Microspray"},85]
[null,{"$f":"Translate!C158","v":"Garden hose"},70]
[]
[]
[]
[null,"Net Irrigation Requirement [mm/month]"]
[null,{"$f":"B132","v":"Crop 1"},"Carrots ",{"$f":"IF(D132-D$128<0,0,D132-D$128)","v":55.662650400000032},142.53693399999997,161.109184,37.306575999999993,0,0,0,0,0,0,0,0,0,0,0,0,0,0,0,0,0,0,0,0,null,null,null,"Crop Density"]
[null,"Crop 2","Carrots ",{"$f":"IF(D133-D$128<0,0,D133-D$128)","v":0},0,0,0,0,0,0,0,0,0,0,{"$f":"IF(O133-O$128<0,0,O133-O$128)","v":0},0,0,110.69792799999998,155.99933200000004,163.27084480000008,20.713661199999997,0,0,0,0,0,0,null,null,null,{"$f":"Translate!C159","v":"Normal spacing"}]
[null,"Crop 3","",{"$f":"IF(D134-D$128<0,0,D134-D$128)","v":0},0,0,0,0,0,0,0,0,0,0,0,0,0,0,0,0,0,0,0,0,0,0,0,null,null,null,{"$f":"Translate!C160","v":"Double spacing"}]
[null,"Crop 4","",{"$f":"IF(D135-D$128<0,0,D135-D$128)","v":0},0,0,0,0,0,0,0,0,0,0,0,0,0,0,0,0,0,0,0,0,0,0,0,null,null,null,{"$f":"Translate!C161","v":"Triple spacing"}]
[null,"Crop 5","",{"$f":"IF(D136-D$128<0,0,D136-D$128)","v":0},0,0,0,0,0,0,0,0,0,0,0,0,0,0,0,0,0,0,0,0,0,0,0]
[]
[null,"Gross Irrigation Requirement [mm/month]",null,null,null,null,null,null,null,null,null,null,null,null,null,null,null,null,null,null,null,null,null,null,null,null,null,{"$f":"\"Area in \"&'2 Crop Water Requirement'!C8","v":"Area in acre"},"Irrigation Method","Efficiency","Cropping Density","Actual Area in ha"]
[null,{"$f":"B159","v":"Crop 1"},"Carrots ",{"$f":"IFERROR(D159/$AD166,0)","v":61.847389333333368},{"$f":"IFERROR(E159/$AD166,0)","v":158.37437111111109},179.01020444444444,41.451751111111101,0,0,0,0,0,0,0,0,0,0,0,0,0,0,0,0,0,0,0,0,{"$f":"'2 Crop Water Requirement'!$D$22","v":2.5},{"$f":"'2 Crop Water Requirement'!$J$22","v":"Microirrigation: Drip irrigation"},{"$f":"IFERROR(VLOOKUP(AC166,$B$139:$C$156,2,FALSE)/100,\"\")","v":0.9},{"$f":"IF('2 Crop Water Requirement'!$P$22=$AE$160,1,IF('2 Crop Water Requirement'!$P$22=$AE$161,0.5,0.3))","v":1},{"$f":"AB166*AE166/'2 Crop Water Requirement'!$G$8","v":1.0117156674288259}]
[null,"Crop 2","Carrots ",{"$f":"IFERROR(D160/$AD167,0)","v":0},{"$f":"IFERROR(E160/$AD167,0)","v":0},0,0,0,0,0,0,0,0,0,0,0,0,122.99769777777774,173.33259111111116,181.41204977777787,23.015179111111106,0,0,0,0,0,0,{"$f":"'2 Crop Water Requirement'!$D$24","v":2.5},{"$f":"'2 Crop Water Requirement'!$J$24","v":"Microirrigation: Drip irrigation"},{"$f":"IFERROR(VLOOKUP(AC167,$B$139:$C$156,2,FALSE)/100,\"\")","v":0.9},{"$f":"IF('2 Crop Water Requirement'!$P$24=$AE$160,1,IF('2 Crop Water Requirement'!$P$24=$AE$161,0.5,0.3))","v":1},{"$f":"AB167*AE167/'2 Crop Water Requirement'!$G$8","v":1.0117156674288259}]
[null,"Crop 3","",{"$f":"IFERROR(D161/$AD168,0)","v":0},{"$f":"IFERROR(E161/$AD168,0)","v":0},0,0,0,0,0,0,0,0,0,0,0,0,0,0,0,0,0,0,0,0,0,0,{"$f":"'2 Crop Water Requirement'!$D$26","v":0},{"$f":"'2 Crop Water Requirement'!$J$26","v":0},{"$f":"IFERROR(VLOOKUP(AC168,$B$139:$C$156,2,FALSE)/100,\"\")","v":""},{"$f":"IF('2 Crop Water Requirement'!$P$26=$AE$160,1,IF('2 Crop Water Requirement'!$P$26=$AE$161,0.5,0.3))","v":1},{"$f":"AB168*AE168/'2 Crop Water Requirement'!$G$8","v":0}]
[null,"Crop 4","",{"$f":"IFERROR(D162/$AD169,0)","v":0},{"$f":"IFERROR(E162/$AD169,0)","v":0},0,0,0,0,0,0,0,0,0,0,0,0,0,0,0,0,0,0,0,0,0,0,{"$f":"'2 Crop Water Requirement'!$D$28","v":0},{"$f":"'2 Crop Water Requirement'!$J$28","v":0},{"$f":"IFERROR(VLOOKUP(AC169,$B$139:$C$156,2,FALSE)/100,\"\")","v":""},{"$f":"IF('2 Crop Water Requirement'!$P$28=$AE$160,1,IF('2 Crop Water Requirement'!$P$28=$AE$161,0.5,0.3))","v":1},{"$f":"AB169*AE169/'2 Crop Water Requirement'!$G$8","v":0}]
[null,"Crop 5","",{"$f":"IFERROR(D163/$AD170,0)","v":0},{"$f":"IFERROR(E163/$AD170,0)","v":0},0,0,0,{"$f":"IFERROR(I163/$AD170,0)","v":0},0,0,0,0,0,0,0,0,0,0,0,0,0,0,0,0,0,0,{"$f":"'2 Crop Water Requirement'!$D$30","v":0},{"$f":"'2 Crop Water Requirement'!$J$30","v":0},{"$f":"IFERROR(VLOOKUP(AC170,$B$139:$C$156,2,FALSE)/100,\"\")","v":""},{"$f":"IF('2 Crop Water Requirement'!$P$30=$AE$160,1,IF('2 Crop Water Requirement'!$P$30=$AE$161,0.5,0.3))","v":1},{"$f":"AB170*AE170/'2 Crop Water Requirement'!$G$8","v":0}]
[]
[null,"Gross Irrigation Requirement [m3/month]"]
[null,{"$f":"B166","v":"Crop 1"},"Carrots ",{"$f":"D166*$AF166*10","v":625.71972778103816},1602.298325722983,1811.0742846608168,419.37386041471342,0,0,0,0,0,0,0,0,0,0,0,0,0,0,0,0,0,0,0,0]
[null,"Crop 2","Carrots ",{"$f":"D167*$AF167*10","v":0},0,0,0,0,0,0,0,0,0,0,0,0,0,1244.3869789945343,1753.632981031456,1835.3741302055594,232.84817295391744,0,0,0,0,0,0]
[null,"Crop 3","",{"$f":"D168*$AF168*10","v":0},0,0,0,0,0,0,0,0,0,0,0,0,0,0,0,0,0,0,0,0,0,0,0]
[null,"Crop 4","",{"$f":"D169*$AF169*10","v":0},0,0,0,0,0,0,0,0,0,0,0,0,0,0,0,0,0,0,0,0,0,0,0]
[null,"Crop 5","",{"$f":"D170*$AF170*10","v":0},0,0,0,0,0,0,0,0,0,0,0,0,0,0,0,0,0,0,0,0,0,0,0]
[null,null,"Total",{"$f":"SUM(D173:D177)","v":625.71972778103816},{"$f":"SUM(E173:E177)","v":1602.298325722983},1811.0742846608168,419.37386041471342,0,0,0,0,0,0,0,0,0,0,1244.3869789945343,1753.632981031456,1835.3741302055594,232.84817295391744,0,0,0,0,0,0]
[]
[null,"Gross Irrigation Requirement [m3/day]"]
[null,{"$f":"B173","v":"Crop 1"},"Carrots ",{"$f":"IFERROR(D173/'Crop Calculation Sheet'!H13,0)","v":20.184507347775426},{"$f":"IFERROR(E173/'Crop Calculation Sheet'!I13,0)","v":53.409944190766097},{"$f":"IFERROR(F173/'Crop Calculation Sheet'!J13,0)","v":58.421751118090867},{"$f":"IFERROR(G173/'Crop Calculation Sheet'!K13,0)","v":52.421732551839177},{"$f":"IFERROR(H173/'Crop Calculation Sheet'!L13,0)","v":0},{"$f":"IFERROR(I173/'Crop Calculation Sheet'!M13,0)","v":0},{"$f":"IFERROR(J173/'Crop Calculation Sheet'!N13,0)","v":0},{"$f":"IFERROR(K173/'Crop Calculation Sheet'!O13,0)","v":0},{"$f":"IFERROR(L173/'Crop Calculation Sheet'!P13,0)","v":0},{"$f":"IFERROR(M173/'Crop Calculation Sheet'!Q13,0)","v":0},{"$f":"IFERROR(N173/'Crop Calculation Sheet'!R13,0)","v":0},{"$f":"IFERROR(O173/'Crop Calculation Sheet'!S13,0)","v":0},{"$f":"IFERROR(P173/'Crop Calculation Sheet'!T13,0)","v":0},{"$f":"IFERROR(Q173/'Crop Calculation Sheet'!U13,0)","v":0},{"$f":"IFERROR(R173/'Crop Calculation Sheet'!V13,0)","v":0},{"$f":"IFERROR(S173/'Crop Calculation Sheet'!W13,0)","v":0},{"$f":"IFERROR(T173/'Crop Calculation Sheet'!X13,0)","v":0},{"$f":"IFERROR(U173/'Crop Calculation Sheet'!Y13,0)","v":0},{"$f":"IFERROR(V173/'Crop Calculation Sheet'!Z13,0)","v":0},{"$f":"IFERROR(W173/'Crop Calculation Sheet'!AA13,0)","v":0},{"$f":"IFERROR(X173/'Crop Calculation Sheet'!AB13,0)","v":0},{"$f":"IFERROR(Y173/'Crop Calculation Sheet'!AC13,0)","v":0},{"$f":"IFERROR(Z173/'Crop Calculation Sheet'!AD13,0)","v":0},{"$f":"IFERROR(AA173/'Crop Calculation Sheet'!AE13,0)","v":0}]
[null,"Crop 2","Carrots ",{"$f":"IFERROR(D174/'Crop Calculation Sheet'!H16,0)","v":0},{"$f":"IFERROR(E174/'Crop Calculation Sheet'!I16,0)","v":0},{"$f":"IFERROR(F174/'Crop Calculation Sheet'!J16,0)","v":0},{"$f":"IFERROR(G174/'Crop Calculation Sheet'!K16,0)","v":0},{"$f":"IFERROR(H174/'Crop Calculation Sheet'!L16,0)","v":0},{"$f":"IFERROR(I174/'Crop Calculation Sheet'!M16,0)","v":0},{"$f":"IFERROR(J174/'Crop Calculation Sheet'!N16,0)","v":0},{"$f":"IFERROR(K174/'Crop Calculation Sheet'!O16,0)","v":0},{"$f":"IFERROR(L174/'Crop Calculation Sheet'!P16,0)","v":0},{"$f":"IFERROR(M174/'Crop Calculation Sheet'!Q16,0)","v":0},{"$f":"IFERROR(N174/'Crop Calculation Sheet'!R16,0)","v":0},{"$f":"IFERROR(O174/'Crop Calculation Sheet'!S16,0)","v":0},{"$f":"IFERROR(P174/'Crop Calculation Sheet'!T16,0)","v":0},{"$f":"IFERROR(Q174/'Crop Calculation Sheet'!U16,0)","v":0},{"$f":"IFERROR(R174/'Crop Calculation Sheet'!V16,0)","v":40.14151545143659},{"$f":"IFERROR(S174/'Crop Calculation Sheet'!W16,0)","v":56.568805839724384},{"$f":"IFERROR(T174/'Crop Calculation Sheet'!X16,0)","v":61.179137673518646},{"$f":"IFERROR(U174/'Crop Calculation Sheet'!Y16,0)","v":29.10602161923968},{"$f":"IFERROR(V174/'Crop Calculation Sheet'!Z16,0)","v":0},{"$f":"IFERROR(W174/'Crop Calculation Sheet'!AA16,0)","v":0},{"$f":"IFERROR(X174/'Crop Calculation Sheet'!AB16,0)","v":0},{"$f":"IFERROR(Y174/'Crop Calculation Sheet'!AC16,0)","v":0},{"$f":"IFERROR(Z174/'Crop Calculation Sheet'!AD16,0)","v":0},{"$f":"IFERROR(AA174/'Crop Calculation Sheet'!AE16,0)","v":0}]
[null,"Crop 3","",{"$f":"IFERROR(D175/'Crop Calculation Sheet'!H19,0)","v":0},{"$f":"IFERROR(E175/'Crop Calculation Sheet'!I19,0)","v":0},{"$f":"IFERROR(F175/'Crop Calculation Sheet'!J19,0)","v":0},{"$f":"IFERROR(G175/'Crop Calculation Sheet'!K19,0)","v":0},{"$f":"IFERROR(H175/'Crop Calculation Sheet'!L19,0)","v":0},{"$f":"IFERROR(I175/'Crop Calculation Sheet'!M19,0)","v":0},{"$f":"IFERROR(J175/'Crop Calculation Sheet'!N19,0)","v":0},{"$f":"IFERROR(K175/'Crop Calculation Sheet'!O19,0)","v":0},{"$f":"IFERROR(L175/'Crop Calculation Sheet'!P19,0)","v":0},{"$f":"IFERROR(M175/'Crop Calculation Sheet'!Q19,0)","v":0},{"$f":"IFERROR(N175/'Crop Calculation Sheet'!R19,0)","v":0},{"$f":"IFERROR(O175/'Crop Calculation Sheet'!S19,0)","v":0},{"$f":"IFERROR(P175/'Crop Calculation Sheet'!T19,0)","v":0},{"$f":"IFERROR(Q175/'Crop Calculation Sheet'!U19,0)","v":0},{"$f":"IFERROR(R175/'Crop Calculation Sheet'!V19,0)","v":0},{"$f":"IFERROR(S175/'Crop Calculation Sheet'!W19,0)","v":0},{"$f":"IFERROR(T175/'Crop Calculation Sheet'!X19,0)","v":0},{"$f":"IFERROR(U175/'Crop Calculation Sheet'!Y19,0)","v":0},{"$f":"IFERROR(V175/'Crop Calculation Sheet'!Z19,0)","v":0},{"$f":"IFERROR(W175/'Crop Calculation Sheet'!AA19,0)","v":0},{"$f":"IFERROR(X175/'Crop Calculation Sheet'!AB19,0)","v":0},{"$f":"IFERROR(Y175/'Crop Calculation Sheet'!AC19,0)","v":0},{"$f":"IFERROR(Z175/'Crop Calculation Sheet'!AD19,0)","v":0},{"$f":"IFERROR(AA175/'Crop Calculation Sheet'!AE19,0)","v":0}]
[null,"Crop 4","",{"$f":"IFERROR(D176/'Crop Calculation Sheet'!H22,0)","v":0},{"$f":"IFERROR(E176/'Crop Calculation Sheet'!I22,0)","v":0},{"$f":"IFERROR(F176/'Crop Calculation Sheet'!J22,0)","v":0},{"$f":"IFERROR(G176/'Crop Calculation Sheet'!K22,0)","v":0},{"$f":"IFERROR(H176/'Crop Calculation Sheet'!L22,0)","v":0},{"$f":"IFERROR(I176/'Crop Calculation Sheet'!M22,0)","v":0},{"$f":"IFERROR(J176/'Crop Calculation Sheet'!N22,0)","v":0},{"$f":"IFERROR(K176/'Crop Calculation Sheet'!O22,0)","v":0},{"$f":"IFERROR(L176/'Crop Calculation Sheet'!P22,0)","v":0},{"$f":"IFERROR(M176/'Crop Calculation Sheet'!Q22,0)","v":0},{"$f":"IFERROR(N176/'Crop Calculation Sheet'!R22,0)","v":0},{"$f":"IFERROR(O176/'Crop Calculation Sheet'!S22,0)","v":0},{"$f":"IFERROR(P176/'Crop Calculation Sheet'!T22,0)","v":0},{"$f":"IFERROR(Q176/'Crop Calculation Sheet'!U22,0)","v":0},{"$f":"IFERROR(R176/'Crop Calculation Sheet'!V22,0)","v":0},{"$f":"IFERROR(S176/'Crop Calculation Sheet'!W22,0)","v":0},{"$f":"IFERROR(T176/'Crop Calculation Sheet'!X22,0)","v":0},{"$f":"IFERROR(U176/'Crop Calculation Sheet'!Y22,0)","v":0},{"$f":"IFERROR(V176/'Crop Calculation Sheet'!Z22,0)","v":0},{"$f":"IFERROR(W176/'Crop Calculation Sheet'!AA22,0)","v":0},{"$f":"IFERROR(X176/'Crop Calculation Sheet'!AB22,0)","v":0},{"$f":"IFERROR(Y176/'Crop Calculation Sheet'!AC22,0)","v":0},{"$f":"IFERROR(Z176/'Crop Calculation Sheet'!AD22,0)","v":0},{"$f":"IFERROR(AA176/'Crop Calculation Sheet'!AE22,0)","v":0}]
[null,"Crop 5","",{"$f":"IFERROR(D177/'Crop Calculation Sheet'!H25,0)","v":0},{"$f":"IFERROR(E177/'Crop Calculation Sheet'!I25,0)","v":0},{"$f":"IFERROR(F177/'Crop Calculation Sheet'!J25,0)","v":0},{"$f":"IFERROR(G177/'Crop Calculation Sheet'!K25,0)","v":0},{"$f":"IFERROR(H177/'Crop Calculation Sheet'!L25,0)","v":0},{"$f":"IFERROR(I177/'Crop Calculation Sheet'!M25,0)","v":0},{"$f":"IFERROR(J177/'Crop Calculation Sheet'!N25,0)","v":0},{"$f":"IFERROR(K177/'Crop Calculation Sheet'!O25,0)","v":0},{"$f":"IFERROR(L177/'Crop Calculation Sheet'!P25,0)","v":0},{"$f":"IFERROR(M177/'Crop Calculation Sheet'!Q25,0)","v":0},{"$f":"IFERROR(N177/'Crop Calculation Sheet'!R25,0)","v":0},{"$f":"IFERROR(O177/'Crop Calculation Sheet'!S25,0)","v":0},{"$f":"IFERROR(P177/'Crop Calculation Sheet'!T25,0)","v":0},{"$f":"IFERROR(Q177/'Crop Calculation Sheet'!U25,0)","v":0},{"$f":"IFERROR(R177/'Crop Calculation Sheet'!V25,0)","v":0},{"$f":"IFERROR(S177/'Crop Calculation Sheet'!W25,0)","v":0},{"$f":"IFERROR(T177/'Crop Calculation Sheet'!X25,0)","v":0},{"$f":"IFERROR(U177/'Crop Calculation Sheet'!Y25,0)","v":0},{"$f":"IFERROR(V177/'Crop Calculation Sheet'!Z25,0)","v":0},{"$f":"IFERROR(W177/'Crop Calculation Sheet'!AA25,0)","v":0},{"$f":"IFERROR(X177/'Crop Calculation Sheet'!AB25,0)","v":0},{"$f":"IFERROR(Y177/'Crop Calculation Sheet'!AC25,0)","v":0},{"$f":"IFERROR(Z177/'Crop Calculation Sheet'!AD25,0)","v":0},{"$f":"IFERROR(AA177/'Crop Calculation Sheet'!AE25,0)","v":0}]
[null,null,{"$f":"Translate!$C$173","v":"Total irrigation water need [m3/day]"},{"$f":"SUM(D181:D185)","v":20.184507347775426},{"$f":"SUM(E181:E185)","v":53.409944190766097},{"$f":"SUM(F181:F185)","v":58.421751118090867},52.421732551839177,0,0,0,0,0,0,0,0,0,0,40.14151545143659,56.568805839724384,61.179137673518646,29.10602161923968,0,0,0,0,0,0]
[null,null,"Month",{"$f":"D123","v":"May"},{"$f":"E123","v":"June"},"July","August","September","October","November","December","January","February","March","April","May","June","July","August","September","October","November","December","January","February","March","April"]
[null,null,"Year",{"$f":"D122","v":"2021"},{"$f":"E122","v":"2021"},"2021","2021","2021","2021","2021","2021","2022","2022","2022","2022","2022","2022","2022","2022","2022","2022","2022","2022","2023","2023","2023","2023"]
[]
[null,null,"Yearly irrigation water need: ",{"$f":"SUM(D178:O178)","v":4458.4661985795519},"Year 1",null,null,{"$f":"SUM(P178:AA178)","v":5066.242263185467},"Year 2"]
[null,null,"Maximum daily irrigation water need: ",{"$f":"MAX(D186:O186)","v":58.421751118090867},{"$f":"IF(D191=0,\"\",INDEX(D187:O187,MATCH(D191,D186:O186,0)))","v":"July"},{"$f":"IF(D191=0,\"\",INDEX(D188:O188,MATCH(D191,D186:O186,0)))","v":"2021"},null,{"$f":"MAX(P186:AA186)","v":61.179137673518646},{"$f":"IF(H191=0,\"\",INDEX(P187:AA187,MATCH(H191,P186:AA186,0)))","v":"September"},{"$f":"IF(H191=0,\"\",INDEX(P188:AA188,MATCH(H191,P186:AA186,0)))","v":"2022"}]
[null,null,"Average daily irrigation water need",{"$f":"AVERAGE(D186:O186)","v":15.369827934039298},null,null,null,{"$f":"AVERAGE(P186:AA186)","v":15.582956715326608}]
[null,null,"Pump utilization rate",{"$f":"IFERROR(D192/D191,0)","v":0.26308399936474824},null,null,null,{"$f":"IFERROR(H192/H191,0)","v":0.25471030334694766}]
[]
[]
[]
["Calculation of livestock water requiremnet"]
[]
[null,"Livestock water Requirement [l/day]"]
[null,null,null,{"$f":"D187","v":"May"},{"$f":"E187","v":"June"},"July","August","September","October","November","December","January","February","March","April"]
[null,"Livestock 1",{"$f":"'3 Livestock Water Requirement'!$B$22","v":0},{"$f":"IFERROR(IF('3 Livestock Water Requirement'!E$23=\"\",0,'3 Livestock Water Requirement'!E$23),0)","v":0},{"$f":"IFERROR(IF('3 Livestock Water Requirement'!F$23=\"\",\"\",'3 Livestock Water Requirement'!F$23),0)","v":""},{"$f":"IFERROR(IF('3 Livestock Water Requirement'!G$23=\"\",\"\",'3 Livestock Water Requirement'!G$23),0)","v":""},{"$f":"IFERROR(IF('3 Livestock Water Requirement'!H$23=\"\",\"\",'3 Livestock Water Requirement'!H$23),0)","v":""},{"$f":"IFERROR(IF('3 Livestock Water Requirement'!I$23=\"\",\"\",'3 Livestock Water Requirement'!I$23),0)","v":""},{"$f":"IFERROR(IF('3 Livestock Water Requirement'!J$23=\"\",\"\",'3 Livestock Water Requirement'!J$23),0)","v":""},{"$f":"IFERROR(IF('3 Livestock Water Requirement'!K$23=\"\",\"\",'3 Livestock Water Requirement'!K$23),0)","v":""},{"$f":"IFERROR(IF('3 Livestock Water Requirement'!L$23=\"\",\"\",'3 Livestock Water Requirement'!L$23),0)","v":""},{"$f":"IFERROR(IF('3 Livestock Water Requirement'!M$23=\"\",\"\",'3 Livestock Water Requirement'!M$23),0)","v":""},{"$f":"IFERROR(IF('3 Livestock Water Requirement'!N$23=\"\",\"\",'3 Livestock Water Requirement'!N$23),0)","v":""},{"$f":"IFERROR(IF('3 Livestock Water Requirement'!O$23=\"\",\"\",'3 Livestock Water Requirement'!O$23),0)","v":""},{"$f":"IFERROR(IF('3 Livestock Water Requirement'!P$23=\"\",\"\",'3 Livestock Water Requirement'!P$23),0)","v":""}]
[null,"Livestock 2",{"$f":"'3 Livestock Water Requirement'!$B$25","v":0},{"$f":"IFERROR(IF('3 Livestock Water Requirement'!E$26=\"\",0,'3 Livestock Water Requirement'!E$26),0)","v":0},{"$f":"IFERROR(IF('3 Livestock Water Requirement'!F$26=\"\",0,'3 Livestock Water Requirement'!F$26),0)","v":0},{"$f":"IFERROR(IF('3 Livestock Water Requirement'!G$26=\"\",0,'3 Livestock Water Requirement'!G$26),0)","v":0},{"$f":"IFERROR(IF('3 Livestock Water Requirement'!H$26=\"\",0,'3 Livestock Water Requirement'!H$26),0)","v":0},{"$f":"IFERROR(IF('3 Livestock Water Requirement'!I$26=\"\",0,'3 Livestock Water Requirement'!I$26),0)","v":0},{"$f":"IFERROR(IF('3 Livestock Water Requirement'!J$26=\"\",0,'3 Livestock Water Requirement'!J$26),0)","v":0},{"$f":"IFERROR(IF('3 Livestock Water Requirement'!K$26=\"\",0,'3 Livestock Water Requirement'!K$26),0)","v":0},{"$f":"IFERROR(IF('3 Livestock Water Requirement'!L$26=\"\",0,'3 Livestock Water Requirement'!L$26),0)","v":0},{"$f":"IFERROR(IF('3 Livestock Water Requirement'!M$26=\"\",0,'3 Livestock Water Requirement'!M$26),0)","v":0},{"$f":"IFERROR(IF('3 Livestock Water Requirement'!N$26=\"\",0,'3 Livestock Water Requirement'!N$26),0)","v":0},{"$f":"IFERROR(IF('3 Livestock Water Requirement'!O$26=\"\",0,'3 Livestock Water Requirement'!O$26),0)","v":0},{"$f":"IFERROR(IF('3 Livestock Water Requirement'!P$26=\"\",0,'3 Livestock Water Requirement'!P$26),0)","v":0}]
[null,"Livestock 3",{"$f":"'3 Livestock Water Requirement'!$B$28","v":0},{"$f":"IFERROR(IF('3 Livestock Water Requirement'!E$29=\"\",0,'3 Livestock Water Requirement'!E$29),0)","v":0},{"$f":"IFERROR(IF('3 Livestock Water Requirement'!F$29=\"\",0,'3 Livestock Water Requirement'!F$29),0)","v":0},{"$f":"IFERROR(IF('3 Livestock Water Requirement'!G$29=\"\",0,'3 Livestock Water Requirement'!G$29),0)","v":0},{"$f":"IFERROR(IF('3 Livestock Water Requirement'!H$29=\"\",0,'3 Livestock Water Requirement'!H$29),0)","v":0},{"$f":"IFERROR(IF('3 Livestock Water Requirement'!I$29=\"\",0,'3 Livestock Water Requirement'!I$29),0)","v":0},{"$f":"IFERROR(IF('3 Livestock Water Requirement'!J$29=\"\",0,'3 Livestock Water Requirement'!J$29),0)","v":0},{"$f":"IFERROR(IF('3 Livestock Water Requirement'!K$29=\"\",0,'3 Livestock Water Requirement'!K$29),0)","v":0},{"$f":"IFERROR(IF('3 Livestock Water Requirement'!L$29=\"\",0,'3 Livestock Water Requirement'!L$29),0)","v":0},{"$f":"IFERROR(IF('3 Livestock Water Requirement'!M$29=\"\",0,'3 Livestock Water Requirement'!M$29),0)","v":0},{"$f":"IFERROR(IF('3 Livestock Water Requirement'!N$29=\"\",0,'3 Livestock Water Requirement'!N$29),0)","v":0},{"$f":"IFERROR(IF('3 Livestock Water Requirement'!O$29=\"\",0,'3 Livestock Water Requirement'!O$29),0)","v":0},{"$f":"IFERROR(IF('3 Livestock Water Requirement'!P$29=\"\",0,'3 Livestock Water Requirement'!P$29),0)","v":0}]
[null,"Livestock 4",{"$f":"'3 Livestock Water Requirement'!$B$31","v":0},{"$f":"IFERROR(IF('3 Livestock Water Requirement'!E$32=\"\",0,'3 Livestock Water Requirement'!E$32),0)","v":0},{"$f":"IFERROR(IF('3 Livestock Water Requirement'!F$32=\"\",0,'3 Livestock Water Requirement'!F$32),0)","v":0},{"$f":"IFERROR(IF('3 Livestock Water Requirement'!G$32=\"\",0,'3 Livestock Water Requirement'!G$32),0)","v":0},{"$f":"IFERROR(IF('3 Livestock Water Requirement'!H$32=\"\",0,'3 Livestock Water Requirement'!H$32),0)","v":0},{"$f":"IFERROR(IF('3 Livestock Water Requirement'!I$32=\"\",0,'3 Livestock Water Requirement'!I$32),0)","v":0},{"$f":"IFERROR(IF('3 Livestock Water Requirement'!J$32=\"\",0,'3 Livestock Water Requirement'!J$32),0)","v":0},{"$f":"IFERROR(IF('3 Livestock Water Requirement'!K$32=\"\",0,'3 Livestock Water Requirement'!K$32),0)","v":0},{"$f":"IFERROR(IF('3 Livestock Water Requirement'!L$32=\"\",0,'3 Livestock Water Requirement'!L$32),0)","v":0},{"$f":"IFERROR(IF('3 Livestock Water Requirement'!M$32=\"\",0,'3 Livestock Water Requirement'!M$32),0)","v":0},{"$f":"IFERROR(IF('3 Livestock Water Requirement'!N$32=\"\",0,'3 Livestock Water Requirement'!N$32),0)","v":0},{"$f":"IFERROR(IF('3 Livestock Water Requirement'!O$32=\"\",0,'3 Livestock Water Requirement'!O$32),0)","v":0},{"$f":"IFERROR(IF('3 Livestock Water Requirement'!P$32=\"\",0,'3 Livestock Water Requirement'!P$32),0)","v":0}]
[null,"Livestock 5",{"$f":"'3 Livestock Water Requirement'!$B$34","v":0},{"$f":"IFERROR(IF('3 Livestock Water Requirement'!E$35=\"\",0,'3 Livestock Water Requirement'!E$35),0)","v":0},{"$f":"IFERROR(IF('3 Livestock Water Requirement'!F$35=\"\",0,'3 Livestock Water Requirement'!F$35),0)","v":0},{"$f":"IFERROR(IF('3 Livestock Water Requirement'!G$35=\"\",0,'3 Livestock Water Requirement'!G$35),0)","v":0},{"$f":"IFERROR(IF('3 Livestock Water Requirement'!H$35=\"\",0,'3 Livestock Water Requirement'!H$35),0)","v":0},{"$f":"IFERROR(IF('3 Livestock Water Requirement'!I$35=\"\",0,'3 Livestock Water Requirement'!I$35),0)","v":0},{"$f":"IFERROR(IF('3 Livestock Water Requirement'!J$35=\"\",0,'3 Livestock Water Requirement'!J$35),0)","v":0},{"$f":"IFERROR(IF('3 Livestock Water Requirement'!K$35=\"\",0,'3 Livestock Water Requirement'!K$35),0)","v":0},{"$f":"IFERROR(IF('3 Livestock Water Requirement'!L$35=\"\",0,'3 Livestock Water Requirement'!L$35),0)","v":0},{"$f":"IFERROR(IF('3 Livestock Water Requirement'!M$35=\"\",0,'3 Livestock Water Requirement'!M$35),0)","v":0},{"$f":"IFERROR(IF('3 Livestock Water Requirement'!N$35=\"\",0,'3 Livestock Water Requirement'!N$35),0)","v":0},{"$f":"IFERROR(IF('3 Livestock Water Requirement'!O$35=\"\",0,'3 Livestock Water Requirement'!O$35),0)","v":0},{"$f":"IFERROR(IF('3 Livestock Water Requirement'!P$35=\"\",0,'3 Livestock Water Requirement'!P$35),0)","v":0}]
[]
[]
[null,"Livestock water Requirement [m3/day]"]
[null,"Livestock 1",{"$f":"C201","v":0},{"$f":"D201/1000","v":0},{"$f":"E201/1000","v":{"$error":"#VALUE!"}},{"$error":"#VALUE!"},{"$error":"#VALUE!"},{"$error":"#VALUE!"},{"$error":"#VALUE!"},{"$error":"#VALUE!"},{"$error":"#VALUE!"},{"$error":"#VALUE!"},{"$error":"#VALUE!"},{"$error":"#VALUE!"},{"$error":"#VALUE!"},{"$f":"D209","v":0},{"$f":"E209","v":{"$error":"#VALUE!"}},{"$error":"#VALUE!"},{"$error":"#VALUE!"},{"$error":"#VALUE!"},{"$error":"#VALUE!"},{"$error":"#VALUE!"},{"$error":"#VALUE!"},{"$error":"#VALUE!"},{"$error":"#VALUE!"},{"$error":"#VALUE!"},{"$error":"#VALUE!"}]
[null,"Livestock 2",{"$f":"C202","v":0},{"$f":"D202/1000","v":0},0,0,0,0,0,0,0,0,0,0,0,{"$f":"D210","v":0},0,0,0,0,0,0,0,0,0,0,0]
[null,"Livestock 3",{"$f":"C203","v":0},0,0,0,0,0,0,0,0,0,0,0,0,0,0,0,0,0,0,0,0,0,0,0,0]
[null,"Livestock 4",{"$f":"C204","v":0},0,0,0,0,0,0,0,0,0,0,0,0,0,0,0,0,0,0,0,0,0,0,0,0]
[null,"Livestock 5",{"$f":"C205","v":0},0,0,0,0,0,0,0,0,0,0,0,0,0,0,0,0,0,0,0,0,0,0,0,0]
[null,null,"Daily livestock water need [m3/day]",{"$f":"SUM(D209:D213)","v":0},{"$f":"SUM(E209:E213)","v":{"$error":"#VALUE!"}},{"$f":"SUM(F209:F213)","v":{"$error":"#VALUE!"}},{"$error":"#VALUE!"},{"$error":"#VALUE!"},{"$error":"#VALUE!"},{"$error":"#VALUE!"},{"$error":"#VALUE!"},{"$error":"#VALUE!"},{"$error":"#VALUE!"},{"$error":"#VALUE!"},{"$error":"#VALUE!"},0,{"$error":"#VALUE!"},{"$error":"#VALUE!"},{"$error":"#VALUE!"},{"$error":"#VALUE!"},{"$error":"#VALUE!"},{"$error":"#VALUE!"},{"$error":"#VALUE!"},{"$error":"#VALUE!"},{"$error":"#VALUE!"},{"$error":"#VALUE!"},{"$error":"#VALUE!"}]
[null,null,"Month",{"$f":"D187","v":"May"},"June","July","August","September","October","November","December","January","February","March","April","May","June","July","August","September","October","November","December","January","February","March","April"]
[null,null,"Year",{"$f":"D188","v":"2021"},"2021","2021","2021","2021","2021","2021","2021","2022","2022","2022","2022","2022","2022","2022","2022","2022","2022","2022","2022","2023","2023","2023","2023"]
[]
[null,null,"Monthly livestock water need [m3/month]",{"$f":"D$214*D$124","v":0},{"$error":"#VALUE!"},{"$error":"#VALUE!"},{"$error":"#VALUE!"},{"$error":"#VALUE!"},{"$error":"#VALUE!"},{"$error":"#VALUE!"},{"$error":"#VALUE!"},{"$error":"#VALUE!"},{"$error":"#VALUE!"},{"$error":"#VALUE!"},{"$error":"#VALUE!"},0,{"$error":"#VALUE!"},{"$error":"#VALUE!"},{"$error":"#VALUE!"},{"$error":"#VALUE!"},{"$error":"#VALUE!"},{"$error":"#VALUE!"},{"$error":"#VALUE!"},{"$error":"#VALUE!"},{"$error":"#VALUE!"},{"$error":"#VALUE!"},{"$error":"#VALUE!"}]
[]
[null,null,"Yearly livestock water need: ",{"$f":"SUM(D218:O218)","v":{"$error":"#VALUE!"}}]
[null,null,"Maximum daily irrigation water need: ",{"$f":"MAX(D214:O214)","v":{"$error":"#VALUE!"}},{"$f":"INDEX(D215:AA215,MATCH(D221,D214:AA214,0))","v":{"$error":"#VALUE!"}}]
[null,null,"Average daily irrigation water need",{"$f":"AVERAGE(D214:O214)","v":{"$error":"#VALUE!"}}]
[null,null,"Pump utilization rate",{"$f":"D222/D221","v":{"$error":"#VALUE!"}}]
[]
[]
[]
["Summary"]
[]
[null,null,"Year",{"$f":"D216","v":"2021"},{"$f":"E216","v":"2021"},"2021","2021","2021","2021","2021","2021","2022","2022","2022","2022","2022","2022","2022","2022","2022","2022","2022","2022","2023","2023","2023","2023"]
[null,null,"Month",{"$f":"D215","v":"May"},{"$f":"E215","v":"June"},"July","August","September","October","November","December","January","February","March","April","May","June","July","August","September","October","November","December","January","February","March","April"]
[null,null,"Daily irrigation water need [m3/day]",{"$f":"D186","v":20.184507347775426},53.409944190766097,58.421751118090867,52.421732551839177,0,0,0,0,0,0,0,0,0,0,40.14151545143659,56.568805839724384,61.179137673518646,29.10602161923968,0,0,0,0,0,0]
[null,null,"Daily livestock water need [m3/day]",{"$f":"D214","v":0},{"$f":"E214","v":{"$error":"#VALUE!"}},{"$error":"#VALUE!"},{"$error":"#VALUE!"},{"$error":"#VALUE!"},{"$error":"#VALUE!"},{"$error":"#VALUE!"},{"$error":"#VALUE!"},{"$error":"#VALUE!"},{"$error":"#VALUE!"},{"$error":"#VALUE!"},{"$error":"#VALUE!"},0,{"$error":"#VALUE!"},{"$error":"#VALUE!"},{"$error":"#VALUE!"},{"$error":"#VALUE!"},{"$error":"#VALUE!"},{"$error":"#VALUE!"},{"$error":"#VALUE!"},{"$error":"#VALUE!"},{"$error":"#VALUE!"},{"$error":"#VALUE!"},{"$error":"#VALUE!"}]
[null,null,"Total daily water need [m3/day]",{"$f":"D231+D232","v":20.184507347775426},{"$f":"E231+E232","v":{"$error":"#VALUE!"}},{"$error":"#VALUE!"},{"$error":"#VALUE!"},{"$error":"#VALUE!"},{"$error":"#VALUE!"},{"$error":"#VALUE!"},{"$error":"#VALUE!"},{"$error":"#VALUE!"},{"$error":"#VALUE!"},{"$error":"#VALUE!"},{"$error":"#VALUE!"},0,{"$error":"#VALUE!"},{"$error":"#VALUE!"},{"$error":"#VALUE!"},{"$error":"#VALUE!"},{"$error":"#VALUE!"},{"$error":"#VALUE!"},{"$error":"#VALUE!"},{"$error":"#VALUE!"},{"$error":"#VALUE!"},{"$error":"#VALUE!"},{"$error":"#VALUE!"}]
[null,null,"Total monthly water need [m3/month]",{"$f":"D178+D218","v":625.71972778103816},{"$error":"#VALUE!"},{"$error":"#VALUE!"},{"$error":"#VALUE!"},{"$error":"#VALUE!"},{"$error":"#VALUE!"},{"$error":"#VALUE!"},{"$error":"#VALUE!"},{"$error":"#VALUE!"},{"$error":"#VALUE!"},{"$error":"#VALUE!"},{"$error":"#VALUE!"},0,{"$error":"#VALUE!"},{"$error":"#VALUE!"},{"$error":"#VALUE!"},{"$error":"#VALUE!"},{"$error":"#VALUE!"},{"$error":"#VALUE!"},{"$error":"#VALUE!"},{"$error":"#VALUE!"},{"$error":"#VALUE!"},{"$error":"#VALUE!"},{"$error":"#VALUE!"}]
[]
[null,null,"Yearly water need: ",{"$f":"SUM(D234:O234)","v":{"$error":"#VALUE!"}}]
[null,null,"Maximum daily water need: ",{"$f":"MAX(D233:O233)","v":{"$error":"#VALUE!"}},{"$f":"INDEX($D$230:$O$230,MATCH($D$237,$D$233:$O$233,0))","v":{"$error":"#VALUE!"}}]
[null,null,"Average daily water need",{"$f":"AVERAGE(D233:O233)","v":{"$error":"#VALUE!"}}]
[null,null,"Pump utilization rate",{"$f":"D238/D237","v":{"$error":"#VALUE!"}}]

{"sheet":"Data Validation Sheet","index":10,"n_rows":211,"n_cols":41,"rows_kept":211,"cut":false,"hidden":true,"merged":[[18,8,18,9],[0,36,2,36],[0,12,2,12],[0,18,2,18],[0,24,2,24],[0,30,2,30]]}
["Area Conversion",{"$f":"Translate!$C$121","v":"ha"},1,null,null,null,null,null,null,null,null,null,"Crop 1 Data Validation",null,"Calendar",{"$f":"COUNTIF($Q$2:$Q$763,\"?*\")","v":1},null,null,"Crop 2 Data Validation",null,"Calendar",{"$f":"COUNTIF($W$2:$W$763,\"?*\")","v":1},null,null,"Crop 3 Data Validation",null,"Calendar",{"$f":"COUNTIF($AC$2:$AC$763,\"?*\")","v":1},null,null,"Crop 4  Data Validation",null,"Calendar",{"$f":"COUNTIF($AI$2:$AI$763,\"?*\")","v":1},null,null,"Crop 5  Data Validation",null,"Calendar",{"$f":"COUNTIF($AO$2:$AO$763,\"?*\")","v":1}]
[null,{"$f":"Translate!$C$122","v":"acre"},2.47105,null,null,null,null,null,null,null,null,null,null,{"$f":"IF(ISNUMBER(SEARCH('2 Crop Water Requirement'!$B$22,'Data Validation Sheet'!O2)),MAX($N$1:N1)+1,0)","v":0},{"$f":"'Crop Information'!B7","v":"none"},{"$f":"OFFSET($Q$2,,,COUNTIF($Q$2:$Q$763,\"?*\"))","v":"Carrots (Oct/Jan - Arid climate )"},{"$f":"IFERROR(VLOOKUP(ROWS($Q$2:Q2),$N$2:$O$763,2,FALSE),\"\")","v":"Carrots (Oct/Jan - Arid climate )"},null,null,{"$f":"IF(ISNUMBER(SEARCH('2 Crop Water Requirement'!$B$24,'Data Validation Sheet'!U2)),MAX($T$1:T1)+1,0)","v":0},{"$f":"'Crop Information'!B7","v":"none"},{"$f":"OFFSET($W$2,,,COUNTIF($W$2:$W$763,\"?*\"))","v":"Carrots (Oct/Jan - Arid climate )"},{"$f":"IFERROR(VLOOKUP(ROWS($W$2:W2),$T$2:$U$763,2,FALSE),\"\")","v":"Carrots (Oct/Jan - Arid climate )"},null,null,{"$f":"IF(ISNUMBER(SEARCH('2 Crop Water Requirement'!$B$26,'Data Validation Sheet'!AA2)),MAX($Z$1:Z1)+1,0)","v":1},{"$f":"'Crop Information'!B7","v":"none"},{"$f":"OFFSET($AC$2,,,COUNTIF($AC$2:$AC$763,\"?*\"))","v":"none"},{"$f":"IFERROR(VLOOKUP(ROWS($AC$2:AC2),$Z$2:$AA$763,2,FALSE),\"\")","v":"none"},null,null,{"$f":"IF(ISNUMBER(SEARCH('2 Crop Water Requirement'!B$28,'Data Validation Sheet'!AG2)),MAX($AF$1:AF1)+1,0)","v":1},{"$f":"'Crop Information'!B7","v":"none"},{"$f":"OFFSET($AI$2,,,COUNTIF($AI$2:$AI$763,\"?*\"))","v":"none"},{"$f":"IFERROR(VLOOKUP(ROWS($AI$2:AI2),$AF$2:$AG$763,2,FALSE),\"\")","v":"none"},null,null,{"$f":"IF(ISNUMBER(SEARCH('2 Crop Water Requirement'!$B$30,'Data Validation Sheet'!AM2)),MAX($AL$1:AL1)+1,0)","v":1},{"$f":"'Crop Information'!B7","v":"none"},{"$f":"OFFSET($AO$2,,,COUNTIF($AO$2:$AO$763,\"?*\"))","v":"none"},{"$f":"IFERROR(VLOOKUP(ROWS($AO$2:AO2),$AL$2:$AM$763,2,FALSE),\"\")","v":"none"}]
[null,{"$f":"Translate!$C$123","v":"Sq. km"},0.01,null,null,null,null,null,null,null,null,null,null,{"$f":"IF(ISNUMBER(SEARCH('2 Crop Water Requirement'!$B$22,'Data Validation Sheet'!O3)),MAX($N$1:N2)+1,0)","v":0},{"$f":"'Crop Information'!B8","v":"Alfalfa (1st cutting cycle - Jan/Apr - USA)"},null,{"$f":"IFERROR(VLOOKUP(ROWS($Q$2:Q3),$N$2:$O$763,2,FALSE),\"\")","v":""},null,null,{"$f":"IF(ISNUMBER(SEARCH('2 Crop Water Requirement'!$B$24,'Data Validation Sheet'!U3)),MAX($T$1:T2)+1,0)","v":0},{"$f":"'Crop Information'!B8","v":"Alfalfa (1st cutting cycle - Jan/Apr - USA)"},null,{"$f":"IFERROR(VLOOKUP(ROWS($W$2:W3),$T$2:$U$763,2,FALSE),\"\")","v":""},null,null,{"$f":"IF(ISNUMBER(SEARCH('2 Crop Water Requirement'!$B$26,'Data Validation Sheet'!AA3)),MAX($Z$1:Z2)+1,0)","v":0},{"$f":"'Crop Information'!B8","v":"Alfalfa (1st cutting cycle - Jan/Apr - USA)"},null,{"$f":"IFERROR(VLOOKUP(ROWS($AC$2:AC3),$Z$2:$AA$763,2,FALSE),\"\")","v":""},null,null,{"$f":"IF(ISNUMBER(SEARCH('2 Crop Water Requirement'!B$28,'Data Validation Sheet'!AG3)),MAX($AF$1:AF2)+1,0)","v":0},{"$f":"'Crop Information'!B8","v":"Alfalfa (1st cutting cycle - Jan/Apr - USA)"},null,{"$f":"IFERROR(VLOOKUP(ROWS($AI$2:AI3),$AF$2:$AG$763,2,FALSE),\"\")","v":""},null,null,{"$f":"IF(ISNUMBER(SEARCH('2 Crop Water Requirement'!$B$30,'Data Validation Sheet'!AM3)),MAX($AL$1:AL2)+1,0)","v":0},{"$f":"'Crop Information'!B8","v":"Alfalfa (1st cutting cycle - Jan/Apr - USA)"},null,{"$f":"IFERROR(VLOOKUP(ROWS($AO$2:AO3),$AL$2:$AM$763,2,FALSE),\"\")","v":""}]
[null,{"$f":"Translate!$C$124","v":"Sq. m"},10000,null,null,null,null,null,null,null,null,null,null,{"$f":"IF(ISNUMBER(SEARCH('2 Crop Water Requirement'!$B$22,'Data Validation Sheet'!O4)),MAX($N$1:N3)+1,0)","v":0},{"$f":"'Crop Information'!B9","v":"Alfalfa (other cutting cycle - Mar/Jun - USA)"},null,{"$f":"IFERROR(VLOOKUP(ROWS($Q$2:Q4),$N$2:$O$763,2,FALSE),\"\")","v":""},null,null,{"$f":"IF(ISNUMBER(SEARCH('2 Crop Water Requirement'!$B$24,'Data Validation Sheet'!U4)),MAX($T$1:T3)+1,0)","v":0},{"$f":"'Crop Information'!B9","v":"Alfalfa (other cutting cycle - Mar/Jun - USA)"},null,{"$f":"IFERROR(VLOOKUP(ROWS($W$2:W4),$T$2:$U$763,2,FALSE),\"\")","v":""},null,null,{"$f":"IF(ISNUMBER(SEARCH('2 Crop Water Requirement'!$B$26,'Data Validation Sheet'!AA4)),MAX($Z$1:Z3)+1,0)","v":0},{"$f":"'Crop Information'!B9","v":"Alfalfa (other cutting cycle - Mar/Jun - USA)"},null,{"$f":"IFERROR(VLOOKUP(ROWS($AC$2:AC4),$Z$2:$AA$763,2,FALSE),\"\")","v":""},null,null,{"$f":"IF(ISNUMBER(SEARCH('2 Crop Water Requirement'!B$28,'Data Validation Sheet'!AG4)),MAX($AF$1:AF3)+1,0)","v":0},{"$f":"'Crop Information'!B9","v":"Alfalfa (other cutting cycle - Mar/Jun - USA)"},null,{"$f":"IFERROR(VLOOKUP(ROWS($AI$2:AI4),$AF$2:$AG$763,2,FALSE),\"\")","v":""},null,null,{"$f":"IF(ISNUMBER(SEARCH('2 Crop Water Requirement'!$B$30,'Data Validation Sheet'!AM4)),MAX($AL$1:AL3)+1,0)","v":0},{"$f":"'Crop Information'!B9","v":"Alfalfa (other cutting cycle - Mar/Jun - USA)"},null,{"$f":"IFERROR(VLOOKUP(ROWS($AO$2:AO4),$AL$2:$AM$763,2,FALSE),\"\")","v":""}]
[null,{"$f":"Translate!$C$125","v":"Sq. yard"},11959.9,null,null,null,null,null,null,null,null,null,null,{"$f":"IF(ISNUMBER(SEARCH('2 Crop Water Requirement'!$B$22,'Data Validation Sheet'!O5)),MAX($N$1:N4)+1,0)","v":0},{"$f":"'Crop Information'!B10","v":"Alfalfa (seeds - Mar/Jun - USA)"},null,{"$f":"IFERROR(VLOOKUP(ROWS($Q$2:Q5),$N$2:$O$763,2,FALSE),\"\")","v":""},null,null,{"$f":"IF(ISNUMBER(SEARCH('2 Crop Water Requirement'!$B$24,'Data Validation Sheet'!U5)),MAX($T$1:T4)+1,0)","v":0},{"$f":"'Crop Information'!B10","v":"Alfalfa (seeds - Mar/Jun - USA)"},null,{"$f":"IFERROR(VLOOKUP(ROWS($W$2:W5),$T$2:$U$763,2,FALSE),\"\")","v":""},null,null,{"$f":"IF(ISNUMBER(SEARCH('2 Crop Water Requirement'!$B$26,'Data Validation Sheet'!AA5)),MAX($Z$1:Z4)+1,0)","v":0},{"$f":"'Crop Information'!B10","v":"Alfalfa (seeds - Mar/Jun - USA)"},null,{"$f":"IFERROR(VLOOKUP(ROWS($AC$2:AC5),$Z$2:$AA$763,2,FALSE),\"\")","v":""},null,null,{"$f":"IF(ISNUMBER(SEARCH('2 Crop Water Requirement'!B$28,'Data Validation Sheet'!AG5)),MAX($AF$1:AF4)+1,0)","v":0},{"$f":"'Crop Information'!B10","v":"Alfalfa (seeds - Mar/Jun - USA)"},null,{"$f":"IFERROR(VLOOKUP(ROWS($AI$2:AI5),$AF$2:$AG$763,2,FALSE),\"\")","v":""},null,null,{"$f":"IF(ISNUMBER(SEARCH('2 Crop Water Requirement'!$B$30,'Data Validation Sheet'!AM5)),MAX($AL$1:AL4)+1,0)","v":0},{"$f":"'Crop Information'!B10","v":"Alfalfa (seeds - Mar/Jun - USA)"},null,{"$f":"IFERROR(VLOOKUP(ROWS($AO$2:AO5),$AL$2:$AM$763,2,FALSE),\"\")","v":""}]
[null,{"$f":"Translate!$C$126","v":"Sq. ft"},107639,null,null,null,null,null,null,null,null,null,null,{"$f":"IF(ISNUMBER(SEARCH('2 Crop Water Requirement'!$B$22,'Data Validation Sheet'!O6)),MAX($N$1:N5)+1,0)","v":0},{"$f":"'Crop Information'!B11","v":"Almond (no ground cover - Apr - USA)"},null,{"$f":"IFERROR(VLOOKUP(ROWS($Q$2:Q6),$N$2:$O$763,2,FALSE),\"\")","v":""},null,null,{"$f":"IF(ISNUMBER(SEARCH('2 Crop Water Requirement'!$B$24,'Data Validation Sheet'!U6)),MAX($T$1:T5)+1,0)","v":0},{"$f":"'Crop Information'!B11","v":"Almond (no ground cover - Apr - USA)"},null,{"$f":"IFERROR(VLOOKUP(ROWS($W$2:W6),$T$2:$U$763,2,FALSE),\"\")","v":""},null,null,{"$f":"IF(ISNUMBER(SEARCH('2 Crop Water Requirement'!$B$26,'Data Validation Sheet'!AA6)),MAX($Z$1:Z5)+1,0)","v":0},{"$f":"'Crop Information'!B11","v":"Almond (no ground cover - Apr - USA)"},null,{"$f":"IFERROR(VLOOKUP(ROWS($AC$2:AC6),$Z$2:$AA$763,2,FALSE),\"\")","v":""},null,null,{"$f":"IF(ISNUMBER(SEARCH('2 Crop Water Requirement'!B$28,'Data Validation Sheet'!AG6)),MAX($AF$1:AF5)+1,0)","v":0},{"$f":"'Crop Information'!B11","v":"Almond (no ground cover - Apr - USA)"},null,{"$f":"IFERROR(VLOOKUP(ROWS($AI$2:AI6),$AF$2:$AG$763,2,FALSE),\"\")","v":""},null,null,{"$f":"IF(ISNUMBER(SEARCH('2 Crop Water Requirement'!$B$30,'Data Validation Sheet'!AM6)),MAX($AL$1:AL5)+1,0)","v":0},{"$f":"'Crop Information'!B11","v":"Almond (no ground cover - Apr - USA)"},null,{"$f":"IFERROR(VLOOKUP(ROWS($AO$2:AO6),$AL$2:$AM$763,2,FALSE),\"\")","v":""}]
[null,null,null,null,null,null,null,null,null,null,null,null,null,{"$f":"IF(ISNUMBER(SEARCH('2 Crop Water Requirement'!$B$22,'Data Validation Sheet'!O7)),MAX($N$1:N6)+1,0)","v":0},{"$f":"'Crop Information'!B12","v":"Artichoke (1st year - Apr - California) "},null,{"$f":"IFERROR(VLOOKUP(ROWS($Q$2:Q7),$N$2:$O$763,2,FALSE),\"\")","v":""},null,null,{"$f":"IF(ISNUMBER(SEARCH('2 Crop Water Requirement'!$B$24,'Data Validation Sheet'!U7)),MAX($T$1:T6)+1,0)","v":0},{"$f":"'Crop Information'!B12","v":"Artichoke (1st year - Apr - California) "},null,{"$f":"IFERROR(VLOOKUP(ROWS($W$2:W7),$T$2:$U$763,2,FALSE),\"\")","v":""},null,null,{"$f":"IF(ISNUMBER(SEARCH('2 Crop Water Requirement'!$B$26,'Data Validation Sheet'!AA7)),MAX($Z$1:Z6)+1,0)","v":0},{"$f":"'Crop Information'!B12","v":"Artichoke (1st year - Apr - California) "},null,{"$f":"IFERROR(VLOOKUP(ROWS($AC$2:AC7),$Z$2:$AA$763,2,FALSE),\"\")","v":""},null,null,{"$f":"IF(ISNUMBER(SEARCH('2 Crop Water Requirement'!B$28,'Data Validation Sheet'!AG7)),MAX($AF$1:AF6)+1,0)","v":0},{"$f":"'Crop Information'!B12","v":"Artichoke (1st year - Apr - California) "},null,{"$f":"IFERROR(VLOOKUP(ROWS($AI$2:AI7),$AF$2:$AG$763,2,FALSE),\"\")","v":""},null,null,{"$f":"IF(ISNUMBER(SEARCH('2 Crop Water Requirement'!$B$30,'Data Validation Sheet'!AM7)),MAX($AL$1:AL6)+1,0)","v":0},{"$f":"'Crop Information'!B12","v":"Artichoke (1st year - Apr - California) "},null,{"$f":"IFERROR(VLOOKUP(ROWS($AO$2:AO7),$AL$2:$AM$763,2,FALSE),\"\")","v":""}]
[null,null,null,null,null,null,null,null,null,null,null,null,null,{"$f":"IF(ISNUMBER(SEARCH('2 Crop Water Requirement'!$B$22,'Data Validation Sheet'!O8)),MAX($N$1:N7)+1,0)","v":0},{"$f":"'Crop Information'!B13","v":"Artichoke (2nd year - May - cut in May) "},null,{"$f":"IFERROR(VLOOKUP(ROWS($Q$2:Q8),$N$2:$O$763,2,FALSE),\"\")","v":""},null,null,{"$f":"IF(ISNUMBER(SEARCH('2 Crop Water Requirement'!$B$24,'Data Validation Sheet'!U8)),MAX($T$1:T7)+1,0)","v":0},{"$f":"'Crop Information'!B13","v":"Artichoke (2nd year - May - cut in May) "},null,{"$f":"IFERROR(VLOOKUP(ROWS($W$2:W8),$T$2:$U$763,2,FALSE),\"\")","v":""},null,null,{"$f":"IF(ISNUMBER(SEARCH('2 Crop Water Requirement'!$B$26,'Data Validation Sheet'!AA8)),MAX($Z$1:Z7)+1,0)","v":0},{"$f":"'Crop Information'!B13","v":"Artichoke (2nd year - May - cut in May) "},null,{"$f":"IFERROR(VLOOKUP(ROWS($AC$2:AC8),$Z$2:$AA$763,2,FALSE),\"\")","v":""},null,null,{"$f":"IF(ISNUMBER(SEARCH('2 Crop Water Requirement'!B$28,'Data Validation Sheet'!AG8)),MAX($AF$1:AF7)+1,0)","v":0},{"$f":"'Crop Information'!B13","v":"Artichoke (2nd year - May - cut in May) "},null,{"$f":"IFERROR(VLOOKUP(ROWS($AI$2:AI8),$AF$2:$AG$763,2,FALSE),\"\")","v":""},null,null,{"$f":"IF(ISNUMBER(SEARCH('2 Crop Water Requirement'!$B$30,'Data Validation Sheet'!AM8)),MAX($AL$1:AL7)+1,0)","v":0},{"$f":"'Crop Information'!B13","v":"Artichoke (2nd year - May - cut in May) "},null,{"$f":"IFERROR(VLOOKUP(ROWS($AO$2:AO8),$AL$2:$AM$763,2,FALSE),\"\")","v":""}]
[null,null,null,null,null,null,null,null,null,null,null,null,null,{"$f":"IF(ISNUMBER(SEARCH('2 Crop Water Requirement'!$B$22,'Data Validation Sheet'!O9)),MAX($N$1:N8)+1,0)","v":0},{"$f":"'Crop Information'!B14","v":"Asparagus (Feb - warm winter)"},null,{"$f":"IFERROR(VLOOKUP(ROWS($Q$2:Q9),$N$2:$O$763,2,FALSE),\"\")","v":""},null,null,{"$f":"IF(ISNUMBER(SEARCH('2 Crop Water Requirement'!$B$24,'Data Validation Sheet'!U9)),MAX($T$1:T8)+1,0)","v":0},{"$f":"'Crop Information'!B14","v":"Asparagus (Feb - warm winter)"},null,{"$f":"IFERROR(VLOOKUP(ROWS($W$2:W9),$T$2:$U$763,2,FALSE),\"\")","v":""},null,null,{"$f":"IF(ISNUMBER(SEARCH('2 Crop Water Requirement'!$B$26,'Data Validation Sheet'!AA9)),MAX($Z$1:Z8)+1,0)","v":0},{"$f":"'Crop Information'!B14","v":"Asparagus (Feb - warm winter)"},null,{"$f":"IFERROR(VLOOKUP(ROWS($AC$2:AC9),$Z$2:$AA$763,2,FALSE),\"\")","v":""},null,null,{"$f":"IF(ISNUMBER(SEARCH('2 Crop Water Requirement'!B$28,'Data Validation Sheet'!AG9)),MAX($AF$1:AF8)+1,0)","v":0},{"$f":"'Crop Information'!B14","v":"Asparagus (Feb - warm winter)"},null,{"$f":"IFERROR(VLOOKUP(ROWS($AI$2:AI9),$AF$2:$AG$763,2,FALSE),\"\")","v":""},null,null,{"$f":"IF(ISNUMBER(SEARCH('2 Crop Water Requirement'!$B$30,'Data Validation Sheet'!AM9)),MAX($AL$1:AL8)+1,0)","v":0},{"$f":"'Crop Information'!B14","v":"Asparagus (Feb - warm winter)"},null,{"$f":"IFERROR(VLOOKUP(ROWS($AO$2:AO9),$AL$2:$AM$763,2,FALSE),\"\")","v":""}]
[null,null,null,null,null,null,null,null,null,null,null,null,null,{"$f":"IF(ISNUMBER(SEARCH('2 Crop Water Requirement'!$B$22,'Data Validation Sheet'!O10)),MAX($N$1:N9)+1,0)","v":0},{"$f":"'Crop Information'!B15","v":"Asparagus (Feb - Mediterranean)"},null,{"$f":"IFERROR(VLOOKUP(ROWS($Q$2:Q10),$N$2:$O$763,2,FALSE),\"\")","v":""},null,null,{"$f":"IF(ISNUMBER(SEARCH('2 Crop Water Requirement'!$B$24,'Data Validation Sheet'!U10)),MAX($T$1:T9)+1,0)","v":0},{"$f":"'Crop Information'!B15","v":"Asparagus (Feb - Mediterranean)"},null,{"$f":"IFERROR(VLOOKUP(ROWS($W$2:W10),$T$2:$U$763,2,FALSE),\"\")","v":""},null,null,{"$f":"IF(ISNUMBER(SEARCH('2 Crop Water Requirement'!$B$26,'Data Validation Sheet'!AA10)),MAX($Z$1:Z9)+1,0)","v":0},{"$f":"'Crop Information'!B15","v":"Asparagus (Feb - Mediterranean)"},null,{"$f":"IFERROR(VLOOKUP(ROWS($AC$2:AC10),$Z$2:$AA$763,2,FALSE),\"\")","v":""},null,null,{"$f":"IF(ISNUMBER(SEARCH('2 Crop Water Requirement'!B$28,'Data Validation Sheet'!AG10)),MAX($AF$1:AF9)+1,0)","v":0},{"$f":"'Crop Information'!B15","v":"Asparagus (Feb - Mediterranean)"},null,{"$f":"IFERROR(VLOOKUP(ROWS($AI$2:AI10),$AF$2:$AG$763,2,FALSE),\"\")","v":""},null,null,{"$f":"IF(ISNUMBER(SEARCH('2 Crop Water Requirement'!$B$30,'Data Validation Sheet'!AM10)),MAX($AL$1:AL9)+1,0)","v":0},{"$f":"'Crop Information'!B15","v":"Asparagus (Feb - Mediterranean)"},null,{"$f":"IFERROR(VLOOKUP(ROWS($AO$2:AO10),$AL$2:$AM$763,2,FALSE),\"\")","v":""}]
[null,null,null,null,null,null,null,null,null,null,null,null,null,{"$f":"IF(ISNUMBER(SEARCH('2 Crop Water Requirement'!$B$22,'Data Validation Sheet'!O11)),MAX($N$1:N10)+1,0)","v":0},{"$f":"'Crop Information'!B16","v":"Avocado (Jan - Florida, USA)"},null,{"$f":"IFERROR(VLOOKUP(ROWS($Q$2:Q11),$N$2:$O$763,2,FALSE),\"\")","v":""},null,null,{"$f":"IF(ISNUMBER(SEARCH('2 Crop Water Requirement'!$B$24,'Data Validation Sheet'!U11)),MAX($T$1:T10)+1,0)","v":0},{"$f":"'Crop Information'!B16","v":"Avocado (Jan - Florida, USA)"},null,{"$f":"IFERROR(VLOOKUP(ROWS($W$2:W11),$T$2:$U$763,2,FALSE),\"\")","v":""},null,null,{"$f":"IF(ISNUMBER(SEARCH('2 Crop Water Requirement'!$B$26,'Data Validation Sheet'!AA11)),MAX($Z$1:Z10)+1,0)","v":0},{"$f":"'Crop Information'!B16","v":"Avocado (Jan - Florida, USA)"},null,{"$f":"IFERROR(VLOOKUP(ROWS($AC$2:AC11),$Z$2:$AA$763,2,FALSE),\"\")","v":""},null,null,{"$f":"IF(ISNUMBER(SEARCH('2 Crop Water Requirement'!B$28,'Data Validation Sheet'!AG11)),MAX($AF$1:AF10)+1,0)","v":0},{"$f":"'Crop Information'!B16","v":"Avocado (Jan - Florida, USA)"},null,{"$f":"IFERROR(VLOOKUP(ROWS($AI$2:AI11),$AF$2:$AG$763,2,FALSE),\"\")","v":""},null,null,{"$f":"IF(ISNUMBER(SEARCH('2 Crop Water Requirement'!$B$30,'Data Validation Sheet'!AM11)),MAX($AL$1:AL10)+1,0)","v":0},{"$f":"'Crop Information'!B16","v":"Avocado (Jan - Florida, USA)"},null,{"$f":"IFERROR(VLOOKUP(ROWS($AO$2:AO11),$AL$2:$AM$763,2,FALSE),\"\")","v":""}]
["Total Cultivated Area",{"$f":"'2 Crop Water Requirement'!$D$18","v":5},null,null,null,null,null,null,null,null,null,null,null,{"$f":"IF(ISNUMBER(SEARCH('2 Crop Water Requirement'!$B$22,'Data Validation Sheet'!O12)),MAX($N$1:N11)+1,0)","v":0},{"$f":"'Crop Information'!B17","v":"Banana (1st year - Mar - Mediterranean)"},null,{"$f":"IFERROR(VLOOKUP(ROWS($Q$2:Q12),$N$2:$O$763,2,FALSE),\"\")","v":""},null,null,{"$f":"IF(ISNUMBER(SEARCH('2 Crop Water Requirement'!$B$24,'Data Validation Sheet'!U12)),MAX($T$1:T11)+1,0)","v":0},{"$f":"'Crop Information'!B17","v":"Banana (1st year - Mar - Mediterranean)"},null,{"$f":"IFERROR(VLOOKUP(ROWS($W$2:W12),$T$2:$U$763,2,FALSE),\"\")","v":""},null,null,{"$f":"IF(ISNUMBER(SEARCH('2 Crop Water Requirement'!$B$26,'Data Validation Sheet'!AA12)),MAX($Z$1:Z11)+1,0)","v":0},{"$f":"'Crop Information'!B17","v":"Banana (1st year - Mar - Mediterranean)"},null,{"$f":"IFERROR(VLOOKUP(ROWS($AC$2:AC12),$Z$2:$AA$763,2,FALSE),\"\")","v":""},null,null,{"$f":"IF(ISNUMBER(SEARCH('2 Crop Water Requirement'!B$28,'Data Validation Sheet'!AG12)),MAX($AF$1:AF11)+1,0)","v":0},{"$f":"'Crop Information'!B17","v":"Banana (1st year - Mar - Mediterranean)"},null,{"$f":"IFERROR(VLOOKUP(ROWS($AI$2:AI12),$AF$2:$AG$763,2,FALSE),\"\")","v":""},null,null,{"$f":"IF(ISNUMBER(SEARCH('2 Crop Water Requirement'!$B$30,'Data Validation Sheet'!AM12)),MAX($AL$1:AL11)+1,0)","v":0},{"$f":"'Crop Information'!B17","v":"Banana (1st year - Mar - Mediterranean)"},null,{"$f":"IFERROR(VLOOKUP(ROWS($AO$2:AO12),$AL$2:$AM$763,2,FALSE),\"\")","v":""}]
[null,null,"Crop","Season","Area",null,null,null,null,null,null,null,null,{"$f":"IF(ISNUMBER(SEARCH('2 Crop Water Requirement'!$B$22,'Data Validation Sheet'!O13)),MAX($N$1:N12)+1,0)","v":0},{"$f":"'Crop Information'!B18","v":"Banana (1st year - Mar - subtropical/humid/light to moderate wind)"},null,{"$f":"IFERROR(VLOOKUP(ROWS($Q$2:Q13),$N$2:$O$763,2,FALSE),\"\")","v":""},null,null,{"$f":"IF(ISNUMBER(SEARCH('2 Crop Water Requirement'!$B$24,'Data Validation Sheet'!U13)),MAX($T$1:T12)+1,0)","v":0},{"$f":"'Crop Information'!B18","v":"Banana (1st year - Mar - subtropical/humid/light to moderate wind)"},null,{"$f":"IFERROR(VLOOKUP(ROWS($W$2:W13),$T$2:$U$763,2,FALSE),\"\")","v":""},null,null,{"$f":"IF(ISNUMBER(SEARCH('2 Crop Water Requirement'!$B$26,'Data Validation Sheet'!AA13)),MAX($Z$1:Z12)+1,0)","v":0},{"$f":"'Crop Information'!B18","v":"Banana (1st year - Mar - subtropical/humid/light to moderate wind)"},null,{"$f":"IFERROR(VLOOKUP(ROWS($AC$2:AC13),$Z$2:$AA$763,2,FALSE),\"\")","v":""},null,null,{"$f":"IF(ISNUMBER(SEARCH('2 Crop Water Requirement'!B$28,'Data Validation Sheet'!AG13)),MAX($AF$1:AF12)+1,0)","v":0},{"$f":"'Crop Information'!B18","v":"Banana (1st year - Mar - subtropical/humid/light to moderate wind)"},null,{"$f":"IFERROR(VLOOKUP(ROWS($AI$2:AI13),$AF$2:$AG$763,2,FALSE),\"\")","v":""},null,null,{"$f":"IF(ISNUMBER(SEARCH('2 Crop Water Requirement'!$B$30,'Data Validation Sheet'!AM13)),MAX($AL$1:AL12)+1,0)","v":0},{"$f":"'Crop Information'!B18","v":"Banana (1st year - Mar - subtropical/humid/light to moderate wind)"},null,{"$f":"IFERROR(VLOOKUP(ROWS($AO$2:AO13),$AL$2:$AM$763,2,FALSE),\"\")","v":""}]
[null,null,"Crop 1",{"$f":"'2 Crop Water Requirement'!$F$22","v":"Season 1"},{"$f":"'2 Crop Water Requirement'!$D$22","v":2.5},{"$f":"IF(OR('2 Crop Water Requirement'!$B$22=\"none\",'2 Crop Water Requirement'!$H$22=\"\"),0,'2 Crop Water Requirement'!$H$22)","v":"2021-05-01"},null,null,null,null,null,null,null,{"$f":"IF(ISNUMBER(SEARCH('2 Crop Water Requirement'!$B$22,'Data Validation Sheet'!O14)),MAX($N$1:N13)+1,0)","v":0},{"$f":"'Crop Information'!B19","v":"Banana (1st year - Mar - subtropical/tropical)"},null,{"$f":"IFERROR(VLOOKUP(ROWS($Q$2:Q14),$N$2:$O$763,2,FALSE),\"\")","v":""},null,null,{"$f":"IF(ISNUMBER(SEARCH('2 Crop Water Requirement'!$B$24,'Data Validation Sheet'!U14)),MAX($T$1:T13)+1,0)","v":0},{"$f":"'Crop Information'!B19","v":"Banana (1st year - Mar - subtropical/tropical)"},null,{"$f":"IFERROR(VLOOKUP(ROWS($W$2:W14),$T$2:$U$763,2,FALSE),\"\")","v":""},null,null,{"$f":"IF(ISNUMBER(SEARCH('2 Crop Water Requirement'!$B$26,'Data Validation Sheet'!AA14)),MAX($Z$1:Z13)+1,0)","v":0},{"$f":"'Crop Information'!B19","v":"Banana (1st year - Mar - subtropical/tropical)"},null,{"$f":"IFERROR(VLOOKUP(ROWS($AC$2:AC14),$Z$2:$AA$763,2,FALSE),\"\")","v":""},null,null,{"$f":"IF(ISNUMBER(SEARCH('2 Crop Water Requirement'!B$28,'Data Validation Sheet'!AG14)),MAX($AF$1:AF13)+1,0)","v":0},{"$f":"'Crop Information'!B19","v":"Banana (1st year - Mar - subtropical/tropical)"},null,{"$f":"IFERROR(VLOOKUP(ROWS($AI$2:AI14),$AF$2:$AG$763,2,FALSE),\"\")","v":""},null,null,{"$f":"IF(ISNUMBER(SEARCH('2 Crop Water Requirement'!$B$30,'Data Validation Sheet'!AM14)),MAX($AL$1:AL13)+1,0)","v":0},{"$f":"'Crop Information'!B19","v":"Banana (1st year - Mar - subtropical/tropical)"},null,{"$f":"IFERROR(VLOOKUP(ROWS($AO$2:AO14),$AL$2:$AM$763,2,FALSE),\"\")","v":""}]
[null,null,"Crop 2",{"$f":"'2 Crop Water Requirement'!$F$24","v":"Season 2"},{"$f":"'2 Crop Water Requirement'!$D$24","v":2.5},{"$f":"IF(OR('2 Crop Water Requirement'!$B$24=\"none\",'2 Crop Water Requirement'!$H$24=\"\"),0,'2 Crop Water Requirement'!$H$24)","v":"2022-07-01"},{"$f":"IF(AND(F15=0,F14=0),0,IF(F15=0,F14,IF(F14=0,F15,IF(F15-F14<=0,F15,F14))))","v":"2021-05-01"},null,null,null,null,null,null,{"$f":"IF(ISNUMBER(SEARCH('2 Crop Water Requirement'!$B$22,'Data Validation Sheet'!O15)),MAX($N$1:N14)+1,0)","v":0},{"$f":"'Crop Information'!B20","v":"Banana (2nd year - Mar - Mediterranean)"},null,{"$f":"IFERROR(VLOOKUP(ROWS($Q$2:Q15),$N$2:$O$763,2,FALSE),\"\")","v":""},null,null,{"$f":"IF(ISNUMBER(SEARCH('2 Crop Water Requirement'!$B$24,'Data Validation Sheet'!U15)),MAX($T$1:T14)+1,0)","v":0},{"$f":"'Crop Information'!B20","v":"Banana (2nd year - Mar - Mediterranean)"},null,{"$f":"IFERROR(VLOOKUP(ROWS($W$2:W15),$T$2:$U$763,2,FALSE),\"\")","v":""},null,null,{"$f":"IF(ISNUMBER(SEARCH('2 Crop Water Requirement'!$B$26,'Data Validation Sheet'!AA15)),MAX($Z$1:Z14)+1,0)","v":0},{"$f":"'Crop Information'!B20","v":"Banana (2nd year - Mar - Mediterranean)"},null,{"$f":"IFERROR(VLOOKUP(ROWS($AC$2:AC15),$Z$2:$AA$763,2,FALSE),\"\")","v":""},null,null,{"$f":"IF(ISNUMBER(SEARCH('2 Crop Water Requirement'!B$28,'Data Validation Sheet'!AG15)),MAX($AF$1:AF14)+1,0)","v":0},{"$f":"'Crop Information'!B20","v":"Banana (2nd year - Mar - Mediterranean)"},null,{"$f":"IFERROR(VLOOKUP(ROWS($AI$2:AI15),$AF$2:$AG$763,2,FALSE),\"\")","v":""},null,null,{"$f":"IF(ISNUMBER(SEARCH('2 Crop Water Requirement'!$B$30,'Data Validation Sheet'!AM15)),MAX($AL$1:AL14)+1,0)","v":0},{"$f":"'Crop Information'!B20","v":"Banana (2nd year - Mar - Mediterranean)"},null,{"$f":"IFERROR(VLOOKUP(ROWS($AO$2:AO15),$AL$2:$AM$763,2,FALSE),\"\")","v":""}]
[null,null,"Crop 3",{"$f":"'2 Crop Water Requirement'!$F$26","v":"Season 1"},{"$f":"'2 Crop Water Requirement'!$D$26","v":0},{"$f":"IF(OR('2 Crop Water Requirement'!$B$26=\"none\",'2 Crop Water Requirement'!$H$26=\"\"),0,'2 Crop Water Requirement'!$H$26)","v":"00:00:00"},{"$f":"F16","v":"00:00:00"},{"$f":"IF(AND(G16=0,G15=0),0,IF(G16=0,G15,IF(G15=0,G16,IF(G16-G15<=0,G16,G15))))","v":"2021-05-01"},null,null,null,null,null,{"$f":"IF(ISNUMBER(SEARCH('2 Crop Water Requirement'!$B$22,'Data Validation Sheet'!O16)),MAX($N$1:N15)+1,0)","v":0},{"$f":"'Crop Information'!B21","v":"Banana (2nd year - Feb - subtropical/tropical)"},null,{"$f":"IFERROR(VLOOKUP(ROWS($Q$2:Q16),$N$2:$O$763,2,FALSE),\"\")","v":""},null,null,{"$f":"IF(ISNUMBER(SEARCH('2 Crop Water Requirement'!$B$24,'Data Validation Sheet'!U16)),MAX($T$1:T15)+1,0)","v":0},{"$f":"'Crop Information'!B21","v":"Banana (2nd year - Feb - subtropical/tropical)"},null,{"$f":"IFERROR(VLOOKUP(ROWS($W$2:W16),$T$2:$U$763,2,FALSE),\"\")","v":""},null,null,{"$f":"IF(ISNUMBER(SEARCH('2 Crop Water Requirement'!$B$26,'Data Validation Sheet'!AA16)),MAX($Z$1:Z15)+1,0)","v":0},{"$f":"'Crop Information'!B21","v":"Banana (2nd year - Feb - subtropical/tropical)"},null,{"$f":"IFERROR(VLOOKUP(ROWS($AC$2:AC16),$Z$2:$AA$763,2,FALSE),\"\")","v":""},null,null,{"$f":"IF(ISNUMBER(SEARCH('2 Crop Water Requirement'!B$28,'Data Validation Sheet'!AG16)),MAX($AF$1:AF15)+1,0)","v":0},{"$f":"'Crop Information'!B21","v":"Banana (2nd year - Feb - subtropical/tropical)"},null,{"$f":"IFERROR(VLOOKUP(ROWS($AI$2:AI16),$AF$2:$AG$763,2,FALSE),\"\")","v":""},null,null,{"$f":"IF(ISNUMBER(SEARCH('2 Crop Water Requirement'!$B$30,'Data Validation Sheet'!AM16)),MAX($AL$1:AL15)+1,0)","v":0},{"$f":"'Crop Information'!B21","v":"Banana (2nd year - Feb - subtropical/tropical)"},null,{"$f":"IFERROR(VLOOKUP(ROWS($AO$2:AO16),$AL$2:$AM$763,2,FALSE),\"\")","v":""}]
[null,null,"Crop 4",{"$f":"'2 Crop Water Requirement'!$F$28","v":"Season 1"},{"$f":"'2 Crop Water Requirement'!$D$28","v":0},{"$f":"IF(OR('2 Crop Water Requirement'!$B$28=\"none\",'2 Crop Water Requirement'!$H$28=\"\"),0,'2 Crop Water Requirement'!$H$28)","v":"00:00:00"},{"$f":"F17","v":"00:00:00"},{"$f":"G17","v":"00:00:00"},{"$f":"IF(AND(H17=0,H16=0),0,IF(H17=0,H16,IF(H16=0,H17,IF(H17-H16<=0,H17,H16))))","v":"2021-05-01"},null,null,null,null,{"$f":"IF(ISNUMBER(SEARCH('2 Crop Water Requirement'!$B$22,'Data Validation Sheet'!O17)),MAX($N$1:N16)+1,0)","v":0},{"$f":"'Crop Information'!B22","v":"Barley/Oats/Wheat (Nov - central India)"},null,{"$f":"IFERROR(VLOOKUP(ROWS($Q$2:Q17),$N$2:$O$763,2,FALSE),\"\")","v":""},null,null,{"$f":"IF(ISNUMBER(SEARCH('2 Crop Water Requirement'!$B$24,'Data Validation Sheet'!U17)),MAX($T$1:T16)+1,0)","v":0},{"$f":"'Crop Information'!B22","v":"Barley/Oats/Wheat (Nov - central India)"},null,{"$f":"IFERROR(VLOOKUP(ROWS($W$2:W17),$T$2:$U$763,2,FALSE),\"\")","v":""},null,null,{"$f":"IF(ISNUMBER(SEARCH('2 Crop Water Requirement'!$B$26,'Data Validation Sheet'!AA17)),MAX($Z$1:Z16)+1,0)","v":0},{"$f":"'Crop Information'!B22","v":"Barley/Oats/Wheat (Nov - central India)"},null,{"$f":"IFERROR(VLOOKUP(ROWS($AC$2:AC17),$Z$2:$AA$763,2,FALSE),\"\")","v":""},null,null,{"$f":"IF(ISNUMBER(SEARCH('2 Crop Water Requirement'!B$28,'Data Validation Sheet'!AG17)),MAX($AF$1:AF16)+1,0)","v":0},{"$f":"'Crop Information'!B22","v":"Barley/Oats/Wheat (Nov - central India)"},null,{"$f":"IFERROR(VLOOKUP(ROWS($AI$2:AI17),$AF$2:$AG$763,2,FALSE),\"\")","v":""},null,null,{"$f":"IF(ISNUMBER(SEARCH('2 Crop Water Requirement'!$B$30,'Data Validation Sheet'!AM17)),MAX($AL$1:AL16)+1,0)","v":0},{"$f":"'Crop Information'!B22","v":"Barley/Oats/Wheat (Nov - central India)"},null,{"$f":"IFERROR(VLOOKUP(ROWS($AO$2:AO17),$AL$2:$AM$763,2,FALSE),\"\")","v":""}]
[null,null,"Crop 5",{"$f":"'2 Crop Water Requirement'!$F$30","v":"Season 1"},{"$f":"'2 Crop Water Requirement'!$D$30","v":0},{"$f":"IF(OR('2 Crop Water Requirement'!$B$30=\"none\",'2 Crop Water Requirement'!$H$30=\"\"),0,'2 Crop Water Requirement'!$H$30)","v":"00:00:00"},{"$f":"F18","v":"00:00:00"},{"$f":"G18","v":"00:00:00"},{"$f":"H18","v":"00:00:00"},{"$f":"IF(AND(I18=0,I17=0),0,IF(I18=0,I17,IF(I17=0,I18,IF(I18-I17<=0,I18,I17))))","v":"2021-05-01"},null,null,null,{"$f":"IF(ISNUMBER(SEARCH('2 Crop Water Requirement'!$B$22,'Data Validation Sheet'!O18)),MAX($N$1:N17)+1,0)","v":0},{"$f":"'Crop Information'!B23","v":"Barley/Oats/Wheat (Mar/Apr - 35/45 °L))"},null,{"$f":"IFERROR(VLOOKUP(ROWS($Q$2:Q18),$N$2:$O$763,2,FALSE),\"\")","v":""},null,null,{"$f":"IF(ISNUMBER(SEARCH('2 Crop Water Requirement'!$B$24,'Data Validation Sheet'!U18)),MAX($T$1:T17)+1,0)","v":0},{"$f":"'Crop Information'!B23","v":"Barley/Oats/Wheat (Mar/Apr - 35/45 °L))"},null,{"$f":"IFERROR(VLOOKUP(ROWS($W$2:W18),$T$2:$U$763,2,FALSE),\"\")","v":""},null,null,{"$f":"IF(ISNUMBER(SEARCH('2 Crop Water Requirement'!$B$26,'Data Validation Sheet'!AA18)),MAX($Z$1:Z17)+1,0)","v":0},{"$f":"'Crop Information'!B23","v":"Barley/Oats/Wheat (Mar/Apr - 35/45 °L))"},null,{"$f":"IFERROR(VLOOKUP(ROWS($AC$2:AC18),$Z$2:$AA$763,2,FALSE),\"\")","v":""},null,null,{"$f":"IF(ISNUMBER(SEARCH('2 Crop Water Requirement'!B$28,'Data Validation Sheet'!AG18)),MAX($AF$1:AF17)+1,0)","v":0},{"$f":"'Crop Information'!B23","v":"Barley/Oats/Wheat (Mar/Apr - 35/45 °L))"},null,{"$f":"IFERROR(VLOOKUP(ROWS($AI$2:AI18),$AF$2:$AG$763,2,FALSE),\"\")","v":""},null,null,{"$f":"IF(ISNUMBER(SEARCH('2 Crop Water Requirement'!$B$30,'Data Validation Sheet'!AM18)),MAX($AL$1:AL17)+1,0)","v":0},{"$f":"'Crop Information'!B23","v":"Barley/Oats/Wheat (Mar/Apr - 35/45 °L))"},null,{"$f":"IFERROR(VLOOKUP(ROWS($AO$2:AO18),$AL$2:$AM$763,2,FALSE),\"\")","v":""}]
[null,{"$f":"$E$19<=$B$12","v":true},{"$f":"Translate!$C$142","v":"Season 1"},"Total area",{"$f":"SUMIF($D$14:D18, $C$19,$E$14:$E$18)","v":2.5},null,null,null,"Earliest planting date",null,null,null,null,{"$f":"IF(ISNUMBER(SEARCH('2 Crop Water Requirement'!$B$22,'Data Validation Sheet'!O19)),MAX($N$1:N18)+1,0)","v":0},{"$f":"'Crop Information'!B24","v":"Barley/Oats/Wheat (Jul - East Africa)"},null,{"$f":"IFERROR(VLOOKUP(ROWS($Q$2:Q19),$N$2:$O$763,2,FALSE),\"\")","v":""},null,null,{"$f":"IF(ISNUMBER(SEARCH('2 Crop Water Requirement'!$B$24,'Data Validation Sheet'!U19)),MAX($T$1:T18)+1,0)","v":0},{"$f":"'Crop Information'!B24","v":"Barley/Oats/Wheat (Jul - East Africa)"},null,{"$f":"IFERROR(VLOOKUP(ROWS($W$2:W19),$T$2:$U$763,2,FALSE),\"\")","v":""},null,null,{"$f":"IF(ISNUMBER(SEARCH('2 Crop Water Requirement'!$B$26,'Data Validation Sheet'!AA19)),MAX($Z$1:Z18)+1,0)","v":0},{"$f":"'Crop Information'!B24","v":"Barley/Oats/Wheat (Jul - East Africa)"},null,{"$f":"IFERROR(VLOOKUP(ROWS($AC$2:AC19),$Z$2:$AA$763,2,FALSE),\"\")","v":""},null,null,{"$f":"IF(ISNUMBER(SEARCH('2 Crop Water Requirement'!B$28,'Data Validation Sheet'!AG19)),MAX($AF$1:AF18)+1,0)","v":0},{"$f":"'Crop Information'!B24","v":"Barley/Oats/Wheat (Jul - East Africa)"},null,{"$f":"IFERROR(VLOOKUP(ROWS($AI$2:AI19),$AF$2:$AG$763,2,FALSE),\"\")","v":""},null,null,{"$f":"IF(ISNUMBER(SEARCH('2 Crop Water Requirement'!$B$30,'Data Validation Sheet'!AM19)),MAX($AL$1:AL18)+1,0)","v":0},{"$f":"'Crop Information'!B24","v":"Barley/Oats/Wheat (Jul - East Africa)"},null,{"$f":"IFERROR(VLOOKUP(ROWS($AO$2:AO19),$AL$2:$AM$763,2,FALSE),\"\")","v":""}]
[null,{"$f":"$E$20<=$B$12","v":true},{"$f":"Translate!$C$143","v":"Season 2"},"Total area",{"$f":"SUMIF($D$14:D18, $C$20,$E$14:$E$18)","v":2.5},null,null,null,null,null,null,null,null,{"$f":"IF(ISNUMBER(SEARCH('2 Crop Water Requirement'!$B$22,'Data Validation Sheet'!O20)),MAX($N$1:N19)+1,0)","v":0},{"$f":"'Crop Information'!B25","v":"Barley/Oats/Wheat (Nov)"},null,{"$f":"IFERROR(VLOOKUP(ROWS($Q$2:Q20),$N$2:$O$763,2,FALSE),\"\")","v":""},null,null,{"$f":"IF(ISNUMBER(SEARCH('2 Crop Water Requirement'!$B$24,'Data Validation Sheet'!U20)),MAX($T$1:T19)+1,0)","v":0},{"$f":"'Crop Information'!B25","v":"Barley/Oats/Wheat (Nov)"},null,{"$f":"IFERROR(VLOOKUP(ROWS($W$2:W20),$T$2:$U$763,2,FALSE),\"\")","v":""},null,null,{"$f":"IF(ISNUMBER(SEARCH('2 Crop Water Requirement'!$B$26,'Data Validation Sheet'!AA20)),MAX($Z$1:Z19)+1,0)","v":0},{"$f":"'Crop Information'!B25","v":"Barley/Oats/Wheat (Nov)"},null,{"$f":"IFERROR(VLOOKUP(ROWS($AC$2:AC20),$Z$2:$AA$763,2,FALSE),\"\")","v":""},null,null,{"$f":"IF(ISNUMBER(SEARCH('2 Crop Water Requirement'!B$28,'Data Validation Sheet'!AG20)),MAX($AF$1:AF19)+1,0)","v":0},{"$f":"'Crop Information'!B25","v":"Barley/Oats/Wheat (Nov)"},null,{"$f":"IFERROR(VLOOKUP(ROWS($AI$2:AI20),$AF$2:$AG$763,2,FALSE),\"\")","v":""},null,null,{"$f":"IF(ISNUMBER(SEARCH('2 Crop Water Requirement'!$B$30,'Data Validation Sheet'!AM20)),MAX($AL$1:AL19)+1,0)","v":0},{"$f":"'Crop Information'!B25","v":"Barley/Oats/Wheat (Nov)"},null,{"$f":"IFERROR(VLOOKUP(ROWS($AO$2:AO20),$AL$2:$AM$763,2,FALSE),\"\")","v":""}]
[null,null,null,null,null,null,null,null,null,null,null,null,null,{"$f":"IF(ISNUMBER(SEARCH('2 Crop Water Requirement'!$B$22,'Data Validation Sheet'!O21)),MAX($N$1:N20)+1,0)","v":0},{"$f":"'Crop Information'!B26","v":"Barley/Oats/Wheat (Dec - California desert)"},null,{"$f":"IFERROR(VLOOKUP(ROWS($Q$2:Q21),$N$2:$O$763,2,FALSE),\"\")","v":""},null,null,{"$f":"IF(ISNUMBER(SEARCH('2 Crop Water Requirement'!$B$24,'Data Validation Sheet'!U21)),MAX($T$1:T20)+1,0)","v":0},{"$f":"'Crop Information'!B26","v":"Barley/Oats/Wheat (Dec - California desert)"},null,{"$f":"IFERROR(VLOOKUP(ROWS($W$2:W21),$T$2:$U$763,2,FALSE),\"\")","v":""},null,null,{"$f":"IF(ISNUMBER(SEARCH('2 Crop Water Requirement'!$B$26,'Data Validation Sheet'!AA21)),MAX($Z$1:Z20)+1,0)","v":0},{"$f":"'Crop Information'!B26","v":"Barley/Oats/Wheat (Dec - California desert)"},null,{"$f":"IFERROR(VLOOKUP(ROWS($AC$2:AC21),$Z$2:$AA$763,2,FALSE),\"\")","v":""},null,null,{"$f":"IF(ISNUMBER(SEARCH('2 Crop Water Requirement'!B$28,'Data Validation Sheet'!AG21)),MAX($AF$1:AF20)+1,0)","v":0},{"$f":"'Crop Information'!B26","v":"Barley/Oats/Wheat (Dec - California desert)"},null,{"$f":"IFERROR(VLOOKUP(ROWS($AI$2:AI21),$AF$2:$AG$763,2,FALSE),\"\")","v":""},null,null,{"$f":"IF(ISNUMBER(SEARCH('2 Crop Water Requirement'!$B$30,'Data Validation Sheet'!AM21)),MAX($AL$1:AL20)+1,0)","v":0},{"$f":"'Crop Information'!B26","v":"Barley/Oats/Wheat (Dec - California desert)"},null,{"$f":"IFERROR(VLOOKUP(ROWS($AO$2:AO21),$AL$2:$AM$763,2,FALSE),\"\")","v":""}]
[null,null,null,null,null,null,null,null,null,null,null,null,null,{"$f":"IF(ISNUMBER(SEARCH('2 Crop Water Requirement'!$B$22,'Data Validation Sheet'!O22)),MAX($N$1:N21)+1,0)","v":0},{"$f":"'Crop Information'!B27","v":"Beans (dry - May/Jun - central climates)"},null,{"$f":"IFERROR(VLOOKUP(ROWS($Q$2:Q22),$N$2:$O$763,2,FALSE),\"\")","v":""},null,null,{"$f":"IF(ISNUMBER(SEARCH('2 Crop Water Requirement'!$B$24,'Data Validation Sheet'!U22)),MAX($T$1:T21)+1,0)","v":0},{"$f":"'Crop Information'!B27","v":"Beans (dry - May/Jun - central climates)"},null,{"$f":"IFERROR(VLOOKUP(ROWS($W$2:W22),$T$2:$U$763,2,FALSE),\"\")","v":""},null,null,{"$f":"IF(ISNUMBER(SEARCH('2 Crop Water Requirement'!$B$26,'Data Validation Sheet'!AA22)),MAX($Z$1:Z21)+1,0)","v":0},{"$f":"'Crop Information'!B27","v":"Beans (dry - May/Jun - central climates)"},null,{"$f":"IFERROR(VLOOKUP(ROWS($AC$2:AC22),$Z$2:$AA$763,2,FALSE),\"\")","v":""},null,null,{"$f":"IF(ISNUMBER(SEARCH('2 Crop Water Requirement'!B$28,'Data Validation Sheet'!AG22)),MAX($AF$1:AF21)+1,0)","v":0},{"$f":"'Crop Information'!B27","v":"Beans (dry - May/Jun - central climates)"},null,{"$f":"IFERROR(VLOOKUP(ROWS($AI$2:AI22),$AF$2:$AG$763,2,FALSE),\"\")","v":""},null,null,{"$f":"IF(ISNUMBER(SEARCH('2 Crop Water Requirement'!$B$30,'Data Validation Sheet'!AM22)),MAX($AL$1:AL21)+1,0)","v":0},{"$f":"'Crop Information'!B27","v":"Beans (dry - May/Jun - central climates)"},null,{"$f":"IFERROR(VLOOKUP(ROWS($AO$2:AO22),$AL$2:$AM$763,2,FALSE),\"\")","v":""}]
[null,null,null,null,null,null,null,null,null,null,null,null,null,{"$f":"IF(ISNUMBER(SEARCH('2 Crop Water Requirement'!$B$22,'Data Validation Sheet'!O23)),MAX($N$1:N22)+1,0)","v":0},{"$f":"'Crop Information'!B28","v":"Beans (dry - Jun - Pakistan/California)"},null,{"$f":"IFERROR(VLOOKUP(ROWS($Q$2:Q23),$N$2:$O$763,2,FALSE),\"\")","v":""},null,null,{"$f":"IF(ISNUMBER(SEARCH('2 Crop Water Requirement'!$B$24,'Data Validation Sheet'!U23)),MAX($T$1:T22)+1,0)","v":0},{"$f":"'Crop Information'!B28","v":"Beans (dry - Jun - Pakistan/California)"},null,{"$f":"IFERROR(VLOOKUP(ROWS($W$2:W23),$T$2:$U$763,2,FALSE),\"\")","v":""},null,null,{"$f":"IF(ISNUMBER(SEARCH('2 Crop Water Requirement'!$B$26,'Data Validation Sheet'!AA23)),MAX($Z$1:Z22)+1,0)","v":0},{"$f":"'Crop Information'!B28","v":"Beans (dry - Jun - Pakistan/California)"},null,{"$f":"IFERROR(VLOOKUP(ROWS($AC$2:AC23),$Z$2:$AA$763,2,FALSE),\"\")","v":""},null,null,{"$f":"IF(ISNUMBER(SEARCH('2 Crop Water Requirement'!B$28,'Data Validation Sheet'!AG23)),MAX($AF$1:AF22)+1,0)","v":0},{"$f":"'Crop Information'!B28","v":"Beans (dry - Jun - Pakistan/California)"},null,{"$f":"IFERROR(VLOOKUP(ROWS($AI$2:AI23),$AF$2:$AG$763,2,FALSE),\"\")","v":""},null,null,{"$f":"IF(ISNUMBER(SEARCH('2 Crop Water Requirement'!$B$30,'Data Validation Sheet'!AM23)),MAX($AL$1:AL22)+1,0)","v":0},{"$f":"'Crop Information'!B28","v":"Beans (dry - Jun - Pakistan/California)"},null,{"$f":"IFERROR(VLOOKUP(ROWS($AO$2:AO23),$AL$2:$AM$763,2,FALSE),\"\")","v":""}]
["Crop Validation",{"$f":"'2 Crop Water Requirement'!$B$20","v":"Crop to be irrigated "},{"$f":"'2 Crop Water Requirement'!$D$20","v":"Area"},{"$f":"'2 Crop Water Requirement'!$G$20","v":"Planting Date"},{"$f":"'2 Crop Water Requirement'!$J$20","v":"Irrigation method"},"Available Crop",null,null,null,null,null,null,null,{"$f":"IF(ISNUMBER(SEARCH('2 Crop Water Requirement'!$B$22,'Data Validation Sheet'!O24)),MAX($N$1:N23)+1,0)","v":0},{"$f":"'Crop Information'!B29","v":"Beans (dry - Jun - Idaho)"},null,{"$f":"IFERROR(VLOOKUP(ROWS($Q$2:Q24),$N$2:$O$763,2,FALSE),\"\")","v":""},null,null,{"$f":"IF(ISNUMBER(SEARCH('2 Crop Water Requirement'!$B$24,'Data Validation Sheet'!U24)),MAX($T$1:T23)+1,0)","v":0},{"$f":"'Crop Information'!B29","v":"Beans (dry - Jun - Idaho)"},null,{"$f":"IFERROR(VLOOKUP(ROWS($W$2:W24),$T$2:$U$763,2,FALSE),\"\")","v":""},null,null,{"$f":"IF(ISNUMBER(SEARCH('2 Crop Water Requirement'!$B$26,'Data Validation Sheet'!AA24)),MAX($Z$1:Z23)+1,0)","v":0},{"$f":"'Crop Information'!B29","v":"Beans (dry - Jun - Idaho)"},null,{"$f":"IFERROR(VLOOKUP(ROWS($AC$2:AC24),$Z$2:$AA$763,2,FALSE),\"\")","v":""},null,null,{"$f":"IF(ISNUMBER(SEARCH('2 Crop Water Requirement'!B$28,'Data Validation Sheet'!AG24)),MAX($AF$1:AF23)+1,0)","v":0},{"$f":"'Crop Information'!B29","v":"Beans (dry - Jun - Idaho)"},null,{"$f":"IFERROR(VLOOKUP(ROWS($AI$2:AI24),$AF$2:$AG$763,2,FALSE),\"\")","v":""},null,null,{"$f":"IF(ISNUMBER(SEARCH('2 Crop Water Requirement'!$B$30,'Data Validation Sheet'!AM24)),MAX($AL$1:AL23)+1,0)","v":0},{"$f":"'Crop Information'!B29","v":"Beans (dry - Jun - Idaho)"},null,{"$f":"IFERROR(VLOOKUP(ROWS($AO$2:AO24),$AL$2:$AM$763,2,FALSE),\"\")","v":""}]
["Crop 1",{"$f":"AND('2 Crop Water Requirement'!$B$22<>\"none\",'2 Crop Water Requirement'!$B$22<>\"\")","v":true},{"$f":"AND('2 Crop Water Requirement'!$D$22<>0,'2 Crop Water Requirement'!$D$22<>\"\")","v":true},{"$f":"IFERROR(AND('2 Crop Water Requirement'!$H$22<>0,'2 Crop Water Requirement'!$H$22<>\"\"),FALSE)","v":true},{"$f":"'2 Crop Water Requirement'!$J$22<>\"\"","v":true},{"$f":"AND(B25,C25,D25,E25)","v":true},null,null,null,null,null,null,null,{"$f":"IF(ISNUMBER(SEARCH('2 Crop Water Requirement'!$B$22,'Data Validation Sheet'!O25)),MAX($N$1:N24)+1,0)","v":0},{"$f":"'Crop Information'!B30","v":"Beans (green - Feb/Mar - California/Mediterranean)"},null,{"$f":"IFERROR(VLOOKUP(ROWS($Q$2:Q25),$N$2:$O$763,2,FALSE),\"\")","v":""},null,null,{"$f":"IF(ISNUMBER(SEARCH('2 Crop Water Requirement'!$B$24,'Data Validation Sheet'!U25)),MAX($T$1:T24)+1,0)","v":0},{"$f":"'Crop Information'!B30","v":"Beans (green - Feb/Mar - California/Mediterranean)"},null,{"$f":"IFERROR(VLOOKUP(ROWS($W$2:W25),$T$2:$U$763,2,FALSE),\"\")","v":""},null,null,{"$f":"IF(ISNUMBER(SEARCH('2 Crop Water Requirement'!$B$26,'Data Validation Sheet'!AA25)),MAX($Z$1:Z24)+1,0)","v":0},{"$f":"'Crop Information'!B30","v":"Beans (green - Feb/Mar - California/Mediterranean)"},null,{"$f":"IFERROR(VLOOKUP(ROWS($AC$2:AC25),$Z$2:$AA$763,2,FALSE),\"\")","v":""},null,null,{"$f":"IF(ISNUMBER(SEARCH('2 Crop Water Requirement'!B$28,'Data Validation Sheet'!AG25)),MAX($AF$1:AF24)+1,0)","v":0},{"$f":"'Crop Information'!B30","v":"Beans (green - Feb/Mar - California/Mediterranean)"},null,{"$f":"IFERROR(VLOOKUP(ROWS($AI$2:AI25),$AF$2:$AG$763,2,FALSE),\"\")","v":""},null,null,{"$f":"IF(ISNUMBER(SEARCH('2 Crop Water Requirement'!$B$30,'Data Validation Sheet'!AM25)),MAX($AL$1:AL24)+1,0)","v":0},{"$f":"'Crop Information'!B30","v":"Beans (green - Feb/Mar - California/Mediterranean)"},null,{"$f":"IFERROR(VLOOKUP(ROWS($AO$2:AO25),$AL$2:$AM$763,2,FALSE),\"\")","v":""}]
["Crop 2",{"$f":"AND('2 Crop Water Requirement'!$B$24<>\"none\",'2 Crop Water Requirement'!$B$24<>\"\")","v":true},{"$f":"AND('2 Crop Water Requirement'!$D$24<>0,'2 Crop Water Requirement'!$D$24<>\"\")","v":true},{"$f":"IFERROR(AND('2 Crop Water Requirement'!$H$24<>0,'2 Crop Water Requirement'!$H$24<>\"\"),FALSE)","v":true},{"$f":"'2 Crop Water Requirement'!$J$24<>\"\"","v":true},{"$f":"AND(B26,C26,D26,E26)","v":true},null,null,null,null,null,null,null,{"$f":"IF(ISNUMBER(SEARCH('2 Crop Water Requirement'!$B$22,'Data Validation Sheet'!O26)),MAX($N$1:N25)+1,0)","v":0},{"$f":"'Crop Information'!B31","v":"Beans (green - Aug/Sep - California/Egypt/Lebanon)"},null,{"$f":"IFERROR(VLOOKUP(ROWS($Q$2:Q26),$N$2:$O$763,2,FALSE),\"\")","v":""},null,null,{"$f":"IF(ISNUMBER(SEARCH('2 Crop Water Requirement'!$B$24,'Data Validation Sheet'!U26)),MAX($T$1:T25)+1,0)","v":0},{"$f":"'Crop Information'!B31","v":"Beans (green - Aug/Sep - California/Egypt/Lebanon)"},null,{"$f":"IFERROR(VLOOKUP(ROWS($W$2:W26),$T$2:$U$763,2,FALSE),\"\")","v":""},null,null,{"$f":"IF(ISNUMBER(SEARCH('2 Crop Water Requirement'!$B$26,'Data Validation Sheet'!AA26)),MAX($Z$1:Z25)+1,0)","v":0},{"$f":"'Crop Information'!B31","v":"Beans (green - Aug/Sep - California/Egypt/Lebanon)"},null,{"$f":"IFERROR(VLOOKUP(ROWS($AC$2:AC26),$Z$2:$AA$763,2,FALSE),\"\")","v":""},null,null,{"$f":"IF(ISNUMBER(SEARCH('2 Crop Water Requirement'!B$28,'Data Validation Sheet'!AG26)),MAX($AF$1:AF25)+1,0)","v":0},{"$f":"'Crop Information'!B31","v":"Beans (green - Aug/Sep - California/Egypt/Lebanon)"},null,{"$f":"IFERROR(VLOOKUP(ROWS($AI$2:AI26),$AF$2:$AG$763,2,FALSE),\"\")","v":""},null,null,{"$f":"IF(ISNUMBER(SEARCH('2 Crop Water Requirement'!$B$30,'Data Validation Sheet'!AM26)),MAX($AL$1:AL25)+1,0)","v":0},{"$f":"'Crop Information'!B31","v":"Beans (green - Aug/Sep - California/Egypt/Lebanon)"},null,{"$f":"IFERROR(VLOOKUP(ROWS($AO$2:AO26),$AL$2:$AM$763,2,FALSE),\"\")","v":""}]
["Crop 3",{"$f":"AND('2 Crop Water Requirement'!$B$26<>\"none\",'2 Crop Water Requirement'!$B$26<>\"\")","v":false},{"$f":"AND('2 Crop Water Requirement'!$D$26<>0,'2 Crop Water Requirement'!$D$26<>\"\")","v":false},{"$f":"IFERROR(AND('2 Crop Water Requirement'!$H$26<>0,'2 Crop Water Requirement'!$H$26<>\"\"),FALSE)","v":false},{"$f":"'2 Crop Water Requirement'!$J$26<>\"\"","v":false},{"$f":"AND(B27,C27,D27,E27)","v":false},null,null,null,null,null,null,null,{"$f":"IF(ISNUMBER(SEARCH('2 Crop Water Requirement'!$B$22,'Data Validation Sheet'!O27)),MAX($N$1:N26)+1,0)","v":0},{"$f":"'Crop Information'!B32","v":"Beets (table - Apr/May - Mediterranean)"},null,{"$f":"IFERROR(VLOOKUP(ROWS($Q$2:Q27),$N$2:$O$763,2,FALSE),\"\")","v":""},null,null,{"$f":"IF(ISNUMBER(SEARCH('2 Crop Water Requirement'!$B$24,'Data Validation Sheet'!U27)),MAX($T$1:T26)+1,0)","v":0},{"$f":"'Crop Information'!B32","v":"Beets (table - Apr/May - Mediterranean)"},null,{"$f":"IFERROR(VLOOKUP(ROWS($W$2:W27),$T$2:$U$763,2,FALSE),\"\")","v":""},null,null,{"$f":"IF(ISNUMBER(SEARCH('2 Crop Water Requirement'!$B$26,'Data Validation Sheet'!AA27)),MAX($Z$1:Z26)+1,0)","v":0},{"$f":"'Crop Information'!B32","v":"Beets (table - Apr/May - Mediterranean)"},null,{"$f":"IFERROR(VLOOKUP(ROWS($AC$2:AC27),$Z$2:$AA$763,2,FALSE),\"\")","v":""},null,null,{"$f":"IF(ISNUMBER(SEARCH('2 Crop Water Requirement'!B$28,'Data Validation Sheet'!AG27)),MAX($AF$1:AF26)+1,0)","v":0},{"$f":"'Crop Information'!B32","v":"Beets (table - Apr/May - Mediterranean)"},null,{"$f":"IFERROR(VLOOKUP(ROWS($AI$2:AI27),$AF$2:$AG$763,2,FALSE),\"\")","v":""},null,null,{"$f":"IF(ISNUMBER(SEARCH('2 Crop Water Requirement'!$B$30,'Data Validation Sheet'!AM27)),MAX($AL$1:AL26)+1,0)","v":0},{"$f":"'Crop Information'!B32","v":"Beets (table - Apr/May - Mediterranean)"},null,{"$f":"IFERROR(VLOOKUP(ROWS($AO$2:AO27),$AL$2:$AM$763,2,FALSE),\"\")","v":""}]
["Crop 4",{"$f":"AND('2 Crop Water Requirement'!$B$28<>\"none\",'2 Crop Water Requirement'!$B$28<>\"\")","v":false},{"$f":"AND('2 Crop Water Requirement'!$D$28<>0,'2 Crop Water Requirement'!$D$28<>\"\")","v":false},{"$f":"IFERROR(AND('2 Crop Water Requirement'!$H$28<>0,'2 Crop Water Requirement'!$H$28<>\"\"),FALSE)","v":false},{"$f":"'2 Crop Water Requirement'!$J$28<>\"\"","v":false},{"$f":"AND(B28,C28,D28,E28)","v":false},null,null,null,null,null,null,null,{"$f":"IF(ISNUMBER(SEARCH('2 Crop Water Requirement'!$B$22,'Data Validation Sheet'!O28)),MAX($N$1:N27)+1,0)","v":0},{"$f":"'Crop Information'!B33","v":"Beets (table - Feb/Mar - Mediterranean/Arid)"},null,{"$f":"IFERROR(VLOOKUP(ROWS($Q$2:Q28),$N$2:$O$763,2,FALSE),\"\")","v":""},null,null,{"$f":"IF(ISNUMBER(SEARCH('2 Crop Water Requirement'!$B$24,'Data Validation Sheet'!U28)),MAX($T$1:T27)+1,0)","v":0},{"$f":"'Crop Information'!B33","v":"Beets (table - Feb/Mar - Mediterranean/Arid)"},null,{"$f":"IFERROR(VLOOKUP(ROWS($W$2:W28),$T$2:$U$763,2,FALSE),\"\")","v":""},null,null,{"$f":"IF(ISNUMBER(SEARCH('2 Crop Water Requirement'!$B$26,'Data Validation Sheet'!AA28)),MAX($Z$1:Z27)+1,0)","v":0},{"$f":"'Crop Information'!B33","v":"Beets (table - Feb/Mar - Mediterranean/Arid)"},null,{"$f":"IFERROR(VLOOKUP(ROWS($AC$2:AC28),$Z$2:$AA$763,2,FALSE),\"\")","v":""},null,null,{"$f":"IF(ISNUMBER(SEARCH('2 Crop Water Requirement'!B$28,'Data Validation Sheet'!AG28)),MAX($AF$1:AF27)+1,0)","v":0},{"$f":"'Crop Information'!B33","v":"Beets (table - Feb/Mar - Mediterranean/Arid)"},null,{"$f":"IFERROR(VLOOKUP(ROWS($AI$2:AI28),$AF$2:$AG$763,2,FALSE),\"\")","v":""},null,null,{"$f":"IF(ISNUMBER(SEARCH('2 Crop Water Requirement'!$B$30,'Data Validation Sheet'!AM28)),MAX($AL$1:AL27)+1,0)","v":0},{"$f":"'Crop Information'!B33","v":"Beets (table - Feb/Mar - Mediterranean/Arid)"},null,{"$f":"IFERROR(VLOOKUP(ROWS($AO$2:AO28),$AL$2:$AM$763,2,FALSE),\"\")","v":""}]
["Crop 5",{"$f":"AND('2 Crop Water Requirement'!$B$30<>\"none\",'2 Crop Water Requirement'!$B$30<>\"\")","v":false},{"$f":"AND('2 Crop Water Requirement'!$D$30<>0,'2 Crop Water Requirement'!$D$30<>\"\")","v":false},{"$f":"IFERROR(AND('2 Crop Water Requirement'!$H$30<>0,'2 Crop Water Requirement'!$H$30<>\"\"),FALSE)","v":false},{"$f":"'2 Crop Water Requirement'!$J$30<>\"\"","v":false},{"$f":"AND(B29,C29,D29,E29)","v":false},null,null,null,null,null,null,null,{"$f":"IF(ISNUMBER(SEARCH('2 Crop Water Requirement'!$B$22,'Data Validation Sheet'!O29)),MAX($N$1:N28)+1,0)","v":0},{"$f":"'Crop Information'!B34","v":"Broccoli  (Sept - California desert)"},null,{"$f":"IFERROR(VLOOKUP(ROWS($Q$2:Q29),$N$2:$O$763,2,FALSE),\"\")","v":""},null,null,{"$f":"IF(ISNUMBER(SEARCH('2 Crop Water Requirement'!$B$24,'Data Validation Sheet'!U29)),MAX($T$1:T28)+1,0)","v":0},{"$f":"'Crop Information'!B34","v":"Broccoli  (Sept - California desert)"},null,{"$f":"IFERROR(VLOOKUP(ROWS($W$2:W29),$T$2:$U$763,2,FALSE),\"\")","v":""},null,null,{"$f":"IF(ISNUMBER(SEARCH('2 Crop Water Requirement'!$B$26,'Data Validation Sheet'!AA29)),MAX($Z$1:Z28)+1,0)","v":0},{"$f":"'Crop Information'!B34","v":"Broccoli  (Sept - California desert)"},null,{"$f":"IFERROR(VLOOKUP(ROWS($AC$2:AC29),$Z$2:$AA$763,2,FALSE),\"\")","v":""},null,null,{"$f":"IF(ISNUMBER(SEARCH('2 Crop Water Requirement'!B$28,'Data Validation Sheet'!AG29)),MAX($AF$1:AF28)+1,0)","v":0},{"$f":"'Crop Information'!B34","v":"Broccoli  (Sept - California desert)"},null,{"$f":"IFERROR(VLOOKUP(ROWS($AI$2:AI29),$AF$2:$AG$763,2,FALSE),\"\")","v":""},null,null,{"$f":"IF(ISNUMBER(SEARCH('2 Crop Water Requirement'!$B$30,'Data Validation Sheet'!AM29)),MAX($AL$1:AL28)+1,0)","v":0},{"$f":"'Crop Information'!B34","v":"Broccoli  (Sept - California desert)"},null,{"$f":"IFERROR(VLOOKUP(ROWS($AO$2:AO29),$AL$2:$AM$763,2,FALSE),\"\")","v":""}]
[null,null,null,null,null,null,null,null,null,null,null,null,null,{"$f":"IF(ISNUMBER(SEARCH('2 Crop Water Requirement'!$B$22,'Data Validation Sheet'!O30)),MAX($N$1:N29)+1,0)","v":0},{"$f":"'Crop Information'!B35","v":"Cabbage (Sept - California desert)"},null,{"$f":"IFERROR(VLOOKUP(ROWS($Q$2:Q30),$N$2:$O$763,2,FALSE),\"\")","v":""},null,null,{"$f":"IF(ISNUMBER(SEARCH('2 Crop Water Requirement'!$B$24,'Data Validation Sheet'!U30)),MAX($T$1:T29)+1,0)","v":0},{"$f":"'Crop Information'!B35","v":"Cabbage (Sept - California desert)"},null,{"$f":"IFERROR(VLOOKUP(ROWS($W$2:W30),$T$2:$U$763,2,FALSE),\"\")","v":""},null,null,{"$f":"IF(ISNUMBER(SEARCH('2 Crop Water Requirement'!$B$26,'Data Validation Sheet'!AA30)),MAX($Z$1:Z29)+1,0)","v":0},{"$f":"'Crop Information'!B35","v":"Cabbage (Sept - California desert)"},null,{"$f":"IFERROR(VLOOKUP(ROWS($AC$2:AC30),$Z$2:$AA$763,2,FALSE),\"\")","v":""},null,null,{"$f":"IF(ISNUMBER(SEARCH('2 Crop Water Requirement'!B$28,'Data Validation Sheet'!AG30)),MAX($AF$1:AF29)+1,0)","v":0},{"$f":"'Crop Information'!B35","v":"Cabbage (Sept - California desert)"},null,{"$f":"IFERROR(VLOOKUP(ROWS($AI$2:AI30),$AF$2:$AG$763,2,FALSE),\"\")","v":""},null,null,{"$f":"IF(ISNUMBER(SEARCH('2 Crop Water Requirement'!$B$30,'Data Validation Sheet'!AM30)),MAX($AL$1:AL29)+1,0)","v":0},{"$f":"'Crop Information'!B35","v":"Cabbage (Sept - California desert)"},null,{"$f":"IFERROR(VLOOKUP(ROWS($AO$2:AO30),$AL$2:$AM$763,2,FALSE),\"\")","v":""}]
[null,null,null,null,null,null,null,null,null,null,null,null,null,{"$f":"IF(ISNUMBER(SEARCH('2 Crop Water Requirement'!$B$22,'Data Validation Sheet'!O31)),MAX($N$1:N30)+1,0)","v":0},{"$f":"'Crop Information'!B36","v":"Cantaloupe (Jan - California )"},null,{"$f":"IFERROR(VLOOKUP(ROWS($Q$2:Q31),$N$2:$O$763,2,FALSE),\"\")","v":""},null,null,{"$f":"IF(ISNUMBER(SEARCH('2 Crop Water Requirement'!$B$24,'Data Validation Sheet'!U31)),MAX($T$1:T30)+1,0)","v":0},{"$f":"'Crop Information'!B36","v":"Cantaloupe (Jan - California )"},null,{"$f":"IFERROR(VLOOKUP(ROWS($W$2:W31),$T$2:$U$763,2,FALSE),\"\")","v":""},null,null,{"$f":"IF(ISNUMBER(SEARCH('2 Crop Water Requirement'!$B$26,'Data Validation Sheet'!AA31)),MAX($Z$1:Z30)+1,0)","v":0},{"$f":"'Crop Information'!B36","v":"Cantaloupe (Jan - California )"},null,{"$f":"IFERROR(VLOOKUP(ROWS($AC$2:AC31),$Z$2:$AA$763,2,FALSE),\"\")","v":""},null,null,{"$f":"IF(ISNUMBER(SEARCH('2 Crop Water Requirement'!B$28,'Data Validation Sheet'!AG31)),MAX($AF$1:AF30)+1,0)","v":0},{"$f":"'Crop Information'!B36","v":"Cantaloupe (Jan - California )"},null,{"$f":"IFERROR(VLOOKUP(ROWS($AI$2:AI31),$AF$2:$AG$763,2,FALSE),\"\")","v":""},null,null,{"$f":"IF(ISNUMBER(SEARCH('2 Crop Water Requirement'!$B$30,'Data Validation Sheet'!AM31)),MAX($AL$1:AL30)+1,0)","v":0},{"$f":"'Crop Information'!B36","v":"Cantaloupe (Jan - California )"},null,{"$f":"IFERROR(VLOOKUP(ROWS($AO$2:AO31),$AL$2:$AM$763,2,FALSE),\"\")","v":""}]
[null,null,null,null,null,null,null,null,null,null,null,null,null,{"$f":"IF(ISNUMBER(SEARCH('2 Crop Water Requirement'!$B$22,'Data Validation Sheet'!O32)),MAX($N$1:N31)+1,0)","v":0},{"$f":"'Crop Information'!B37","v":"Cantaloupe (Aug - California )"},null,{"$f":"IFERROR(VLOOKUP(ROWS($Q$2:Q32),$N$2:$O$763,2,FALSE),\"\")","v":""},null,null,{"$f":"IF(ISNUMBER(SEARCH('2 Crop Water Requirement'!$B$24,'Data Validation Sheet'!U32)),MAX($T$1:T31)+1,0)","v":0},{"$f":"'Crop Information'!B37","v":"Cantaloupe (Aug - California )"},null,{"$f":"IFERROR(VLOOKUP(ROWS($W$2:W32),$T$2:$U$763,2,FALSE),\"\")","v":""},null,null,{"$f":"IF(ISNUMBER(SEARCH('2 Crop Water Requirement'!$B$26,'Data Validation Sheet'!AA32)),MAX($Z$1:Z31)+1,0)","v":0},{"$f":"'Crop Information'!B37","v":"Cantaloupe (Aug - California )"},null,{"$f":"IFERROR(VLOOKUP(ROWS($AC$2:AC32),$Z$2:$AA$763,2,FALSE),\"\")","v":""},null,null,{"$f":"IF(ISNUMBER(SEARCH('2 Crop Water Requirement'!B$28,'Data Validation Sheet'!AG32)),MAX($AF$1:AF31)+1,0)","v":0},{"$f":"'Crop Information'!B37","v":"Cantaloupe (Aug - California )"},null,{"$f":"IFERROR(VLOOKUP(ROWS($AI$2:AI32),$AF$2:$AG$763,2,FALSE),\"\")","v":""},null,null,{"$f":"IF(ISNUMBER(SEARCH('2 Crop Water Requirement'!$B$30,'Data Validation Sheet'!AM32)),MAX($AL$1:AL31)+1,0)","v":0},{"$f":"'Crop Information'!B37","v":"Cantaloupe (Aug - California )"},null,{"$f":"IFERROR(VLOOKUP(ROWS($AO$2:AO32),$AL$2:$AM$763,2,FALSE),\"\")","v":""}]
[null,null,null,null,null,null,null,null,null,null,null,null,null,{"$f":"IF(ISNUMBER(SEARCH('2 Crop Water Requirement'!$B$22,'Data Validation Sheet'!O33)),MAX($N$1:N32)+1,0)","v":1},{"$f":"'Crop Information'!B38","v":"Carrots (Oct/Jan - Arid climate )"},null,{"$f":"IFERROR(VLOOKUP(ROWS($Q$2:Q33),$N$2:$O$763,2,FALSE),\"\")","v":""},null,null,{"$f":"IF(ISNUMBER(SEARCH('2 Crop Water Requirement'!$B$24,'Data Validation Sheet'!U33)),MAX($T$1:T32)+1,0)","v":1},{"$f":"'Crop Information'!B38","v":"Carrots (Oct/Jan - Arid climate )"},null,{"$f":"IFERROR(VLOOKUP(ROWS($W$2:W33),$T$2:$U$763,2,FALSE),\"\")","v":""},null,null,{"$f":"IF(ISNUMBER(SEARCH('2 Crop Water Requirement'!$B$26,'Data Validation Sheet'!AA33)),MAX($Z$1:Z32)+1,0)","v":0},{"$f":"'Crop Information'!B38","v":"Carrots (Oct/Jan - Arid climate )"},null,{"$f":"IFERROR(VLOOKUP(ROWS($AC$2:AC33),$Z$2:$AA$763,2,FALSE),\"\")","v":""},null,null,{"$f":"IF(ISNUMBER(SEARCH('2 Crop Water Requirement'!B$28,'Data Validation Sheet'!AG33)),MAX($AF$1:AF32)+1,0)","v":0},{"$f":"'Crop Information'!B38","v":"Carrots (Oct/Jan - Arid climate )"},null,{"$f":"IFERROR(VLOOKUP(ROWS($AI$2:AI33),$AF$2:$AG$763,2,FALSE),\"\")","v":""},null,null,{"$f":"IF(ISNUMBER(SEARCH('2 Crop Water Requirement'!$B$30,'Data Validation Sheet'!AM33)),MAX($AL$1:AL32)+1,0)","v":0},{"$f":"'Crop Information'!B38","v":"Carrots (Oct/Jan - Arid climate )"},null,{"$f":"IFERROR(VLOOKUP(ROWS($AO$2:AO33),$AL$2:$AM$763,2,FALSE),\"\")","v":""}]
[null,null,null,null,null,null,null,null,null,null,null,null,null,{"$f":"IF(ISNUMBER(SEARCH('2 Crop Water Requirement'!$B$22,'Data Validation Sheet'!O34)),MAX($N$1:N33)+1,0)","v":0},{"$f":"'Crop Information'!B39","v":"Carrots (Feb/Mar - Mediterranean )"},null,{"$f":"IFERROR(VLOOKUP(ROWS($Q$2:Q34),$N$2:$O$763,2,FALSE),\"\")","v":""},null,null,{"$f":"IF(ISNUMBER(SEARCH('2 Crop Water Requirement'!$B$24,'Data Validation Sheet'!U34)),MAX($T$1:T33)+1,0)","v":0},{"$f":"'Crop Information'!B39","v":"Carrots (Feb/Mar - Mediterranean )"},null,{"$f":"IFERROR(VLOOKUP(ROWS($W$2:W34),$T$2:$U$763,2,FALSE),\"\")","v":""},null,null,{"$f":"IF(ISNUMBER(SEARCH('2 Crop Water Requirement'!$B$26,'Data Validation Sheet'!AA34)),MAX($Z$1:Z33)+1,0)","v":0},{"$f":"'Crop Information'!B39","v":"Carrots (Feb/Mar - Mediterranean )"},null,{"$f":"IFERROR(VLOOKUP(ROWS($AC$2:AC34),$Z$2:$AA$763,2,FALSE),\"\")","v":""},null,null,{"$f":"IF(ISNUMBER(SEARCH('2 Crop Water Requirement'!B$28,'Data Validation Sheet'!AG34)),MAX($AF$1:AF33)+1,0)","v":0},{"$f":"'Crop Information'!B39","v":"Carrots (Feb/Mar - Mediterranean )"},null,{"$f":"IFERROR(VLOOKUP(ROWS($AI$2:AI34),$AF$2:$AG$763,2,FALSE),\"\")","v":""},null,null,{"$f":"IF(ISNUMBER(SEARCH('2 Crop Water Requirement'!$B$30,'Data Validation Sheet'!AM34)),MAX($AL$1:AL33)+1,0)","v":0},{"$f":"'Crop Information'!B39","v":"Carrots (Feb/Mar - Mediterranean )"},null,{"$f":"IFERROR(VLOOKUP(ROWS($AO$2:AO34),$AL$2:$AM$763,2,FALSE),\"\")","v":""}]
[null,null,null,null,null,null,null,null,null,null,null,null,null,{"$f":"IF(ISNUMBER(SEARCH('2 Crop Water Requirement'!$B$22,'Data Validation Sheet'!O35)),MAX($N$1:N34)+1,0)","v":0},{"$f":"'Crop Information'!B40","v":"Carrots (Oct -  California desert)"},null,{"$f":"IFERROR(VLOOKUP(ROWS($Q$2:Q35),$N$2:$O$763,2,FALSE),\"\")","v":""},null,null,{"$f":"IF(ISNUMBER(SEARCH('2 Crop Water Requirement'!$B$24,'Data Validation Sheet'!U35)),MAX($T$1:T34)+1,0)","v":0},{"$f":"'Crop Information'!B40","v":"Carrots (Oct -  California desert)"},null,{"$f":"IFERROR(VLOOKUP(ROWS($W$2:W35),$T$2:$U$763,2,FALSE),\"\")","v":""},null,null,{"$f":"IF(ISNUMBER(SEARCH('2 Crop Water Requirement'!$B$26,'Data Validation Sheet'!AA35)),MAX($Z$1:Z34)+1,0)","v":0},{"$f":"'Crop Information'!B40","v":"Carrots (Oct -  California desert)"},null,{"$f":"IFERROR(VLOOKUP(ROWS($AC$2:AC35),$Z$2:$AA$763,2,FALSE),\"\")","v":""},null,null,{"$f":"IF(ISNUMBER(SEARCH('2 Crop Water Requirement'!B$28,'Data Validation Sheet'!AG35)),MAX($AF$1:AF34)+1,0)","v":0},{"$f":"'Crop Information'!B40","v":"Carrots (Oct -  California desert)"},null,{"$f":"IFERROR(VLOOKUP(ROWS($AI$2:AI35),$AF$2:$AG$763,2,FALSE),\"\")","v":""},null,null,{"$f":"IF(ISNUMBER(SEARCH('2 Crop Water Requirement'!$B$30,'Data Validation Sheet'!AM35)),MAX($AL$1:AL34)+1,0)","v":0},{"$f":"'Crop Information'!B40","v":"Carrots (Oct -  California desert)"},null,{"$f":"IFERROR(VLOOKUP(ROWS($AO$2:AO35),$AL$2:$AM$763,2,FALSE),\"\")","v":""}]
[null,null,null,null,null,null,null,null,null,null,null,null,null,{"$f":"IF(ISNUMBER(SEARCH('2 Crop Water Requirement'!$B$22,'Data Validation Sheet'!O36)),MAX($N$1:N35)+1,0)","v":0},{"$f":"'Crop Information'!B41","v":"Cassava ( 1st year - rainy season - Tropical regions)"},null,{"$f":"IFERROR(VLOOKUP(ROWS($Q$2:Q36),$N$2:$O$763,2,FALSE),\"\")","v":""},null,null,{"$f":"IF(ISNUMBER(SEARCH('2 Crop Water Requirement'!$B$24,'Data Validation Sheet'!U36)),MAX($T$1:T35)+1,0)","v":0},{"$f":"'Crop Information'!B41","v":"Cassava ( 1st year - rainy season - Tropical regions)"},null,{"$f":"IFERROR(VLOOKUP(ROWS($W$2:W36),$T$2:$U$763,2,FALSE),\"\")","v":""},null,null,{"$f":"IF(ISNUMBER(SEARCH('2 Crop Water Requirement'!$B$26,'Data Validation Sheet'!AA36)),MAX($Z$1:Z35)+1,0)","v":0},{"$f":"'Crop Information'!B41","v":"Cassava ( 1st year - rainy season - Tropical regions)"},null,{"$f":"IFERROR(VLOOKUP(ROWS($AC$2:AC36),$Z$2:$AA$763,2,FALSE),\"\")","v":""},null,null,{"$f":"IF(ISNUMBER(SEARCH('2 Crop Water Requirement'!B$28,'Data Validation Sheet'!AG36)),MAX($AF$1:AF35)+1,0)","v":0},{"$f":"'Crop Information'!B41","v":"Cassava ( 1st year - rainy season - Tropical regions)"},null,{"$f":"IFERROR(VLOOKUP(ROWS($AI$2:AI36),$AF$2:$AG$763,2,FALSE),\"\")","v":""},null,null,{"$f":"IF(ISNUMBER(SEARCH('2 Crop Water Requirement'!$B$30,'Data Validation Sheet'!AM36)),MAX($AL$1:AL35)+1,0)","v":0},{"$f":"'Crop Information'!B41","v":"Cassava ( 1st year - rainy season - Tropical regions)"},null,{"$f":"IFERROR(VLOOKUP(ROWS($AO$2:AO36),$AL$2:$AM$763,2,FALSE),\"\")","v":""}]
[null,null,null,null,null,null,null,null,null,null,null,null,null,{"$f":"IF(ISNUMBER(SEARCH('2 Crop Water Requirement'!$B$22,'Data Validation Sheet'!O37)),MAX($N$1:N36)+1,0)","v":0},{"$f":"'Crop Information'!B42","v":"Cassava ( 2nd year - season - Tropical regions)"},null,{"$f":"IFERROR(VLOOKUP(ROWS($Q$2:Q37),$N$2:$O$763,2,FALSE),\"\")","v":""},null,null,{"$f":"IF(ISNUMBER(SEARCH('2 Crop Water Requirement'!$B$24,'Data Validation Sheet'!U37)),MAX($T$1:T36)+1,0)","v":0},{"$f":"'Crop Information'!B42","v":"Cassava ( 2nd year - season - Tropical regions)"},null,{"$f":"IFERROR(VLOOKUP(ROWS($W$2:W37),$T$2:$U$763,2,FALSE),\"\")","v":""},null,null,{"$f":"IF(ISNUMBER(SEARCH('2 Crop Water Requirement'!$B$26,'Data Validation Sheet'!AA37)),MAX($Z$1:Z36)+1,0)","v":0},{"$f":"'Crop Information'!B42","v":"Cassava ( 2nd year - season - Tropical regions)"},null,{"$f":"IFERROR(VLOOKUP(ROWS($AC$2:AC37),$Z$2:$AA$763,2,FALSE),\"\")","v":""},null,null,{"$f":"IF(ISNUMBER(SEARCH('2 Crop Water Requirement'!B$28,'Data Validation Sheet'!AG37)),MAX($AF$1:AF36)+1,0)","v":0},{"$f":"'Crop Information'!B42","v":"Cassava ( 2nd year - season - Tropical regions)"},null,{"$f":"IFERROR(VLOOKUP(ROWS($AI$2:AI37),$AF$2:$AG$763,2,FALSE),\"\")","v":""},null,null,{"$f":"IF(ISNUMBER(SEARCH('2 Crop Water Requirement'!$B$30,'Data Validation Sheet'!AM37)),MAX($AL$1:AL36)+1,0)","v":0},{"$f":"'Crop Information'!B42","v":"Cassava ( 2nd year - season - Tropical regions)"},null,{"$f":"IFERROR(VLOOKUP(ROWS($AO$2:AO37),$AL$2:$AM$763,2,FALSE),\"\")","v":""}]
[null,null,null,null,null,null,null,null,null,null,null,null,null,{"$f":"IF(ISNUMBER(SEARCH('2 Crop Water Requirement'!$B$22,'Data Validation Sheet'!O38)),MAX($N$1:N37)+1,0)","v":0},{"$f":"'Crop Information'!B43","v":"Castor beans (Mar - semiarid climates )"},null,{"$f":"IFERROR(VLOOKUP(ROWS($Q$2:Q38),$N$2:$O$763,2,FALSE),\"\")","v":""},null,null,{"$f":"IF(ISNUMBER(SEARCH('2 Crop Water Requirement'!$B$24,'Data Validation Sheet'!U38)),MAX($T$1:T37)+1,0)","v":0},{"$f":"'Crop Information'!B43","v":"Castor beans (Mar - semiarid climates )"},null,{"$f":"IFERROR(VLOOKUP(ROWS($W$2:W38),$T$2:$U$763,2,FALSE),\"\")","v":""},null,null,{"$f":"IF(ISNUMBER(SEARCH('2 Crop Water Requirement'!$B$26,'Data Validation Sheet'!AA38)),MAX($Z$1:Z37)+1,0)","v":0},{"$f":"'Crop Information'!B43","v":"Castor beans (Mar - semiarid climates )"},null,{"$f":"IFERROR(VLOOKUP(ROWS($AC$2:AC38),$Z$2:$AA$763,2,FALSE),\"\")","v":""},null,null,{"$f":"IF(ISNUMBER(SEARCH('2 Crop Water Requirement'!B$28,'Data Validation Sheet'!AG38)),MAX($AF$1:AF37)+1,0)","v":0},{"$f":"'Crop Information'!B43","v":"Castor beans (Mar - semiarid climates )"},null,{"$f":"IFERROR(VLOOKUP(ROWS($AI$2:AI38),$AF$2:$AG$763,2,FALSE),\"\")","v":""},null,null,{"$f":"IF(ISNUMBER(SEARCH('2 Crop Water Requirement'!$B$30,'Data Validation Sheet'!AM38)),MAX($AL$1:AL37)+1,0)","v":0},{"$f":"'Crop Information'!B43","v":"Castor beans (Mar - semiarid climates )"},null,{"$f":"IFERROR(VLOOKUP(ROWS($AO$2:AO38),$AL$2:$AM$763,2,FALSE),\"\")","v":""}]
[null,null,null,null,null,null,null,null,null,null,null,null,null,{"$f":"IF(ISNUMBER(SEARCH('2 Crop Water Requirement'!$B$22,'Data Validation Sheet'!O39)),MAX($N$1:N38)+1,0)","v":0},{"$f":"'Crop Information'!B44","v":"Castor beans (Nov - Indonesia )"},null,{"$f":"IFERROR(VLOOKUP(ROWS($Q$2:Q39),$N$2:$O$763,2,FALSE),\"\")","v":""},null,null,{"$f":"IF(ISNUMBER(SEARCH('2 Crop Water Requirement'!$B$24,'Data Validation Sheet'!U39)),MAX($T$1:T38)+1,0)","v":0},{"$f":"'Crop Information'!B44","v":"Castor beans (Nov - Indonesia )"},null,{"$f":"IFERROR(VLOOKUP(ROWS($W$2:W39),$T$2:$U$763,2,FALSE),\"\")","v":""},null,null,{"$f":"IF(ISNUMBER(SEARCH('2 Crop Water Requirement'!$B$26,'Data Validation Sheet'!AA39)),MAX($Z$1:Z38)+1,0)","v":0},{"$f":"'Crop Information'!B44","v":"Castor beans (Nov - Indonesia )"},null,{"$f":"IFERROR(VLOOKUP(ROWS($AC$2:AC39),$Z$2:$AA$763,2,FALSE),\"\")","v":""},null,null,{"$f":"IF(ISNUMBER(SEARCH('2 Crop Water Requirement'!B$28,'Data Validation Sheet'!AG39)),MAX($AF$1:AF38)+1,0)","v":0},{"$f":"'Crop Information'!B44","v":"Castor beans (Nov - Indonesia )"},null,{"$f":"IFERROR(VLOOKUP(ROWS($AI$2:AI39),$AF$2:$AG$763,2,FALSE),\"\")","v":""},null,null,{"$f":"IF(ISNUMBER(SEARCH('2 Crop Water Requirement'!$B$30,'Data Validation Sheet'!AM39)),MAX($AL$1:AL38)+1,0)","v":0},{"$f":"'Crop Information'!B44","v":"Castor beans (Nov - Indonesia )"},null,{"$f":"IFERROR(VLOOKUP(ROWS($AO$2:AO39),$AL$2:$AM$763,2,FALSE),\"\")","v":""}]
[null,null,null,null,null,null,null,null,null,null,null,null,null,{"$f":"IF(ISNUMBER(SEARCH('2 Crop Water Requirement'!$B$22,'Data Validation Sheet'!O40)),MAX($N$1:N39)+1,0)","v":0},{"$f":"'Crop Information'!B45","v":"Cauliflower (Sept - California desert)"},null,{"$f":"IFERROR(VLOOKUP(ROWS($Q$2:Q40),$N$2:$O$763,2,FALSE),\"\")","v":""},null,null,{"$f":"IF(ISNUMBER(SEARCH('2 Crop Water Requirement'!$B$24,'Data Validation Sheet'!U40)),MAX($T$1:T39)+1,0)","v":0},{"$f":"'Crop Information'!B45","v":"Cauliflower (Sept - California desert)"},null,{"$f":"IFERROR(VLOOKUP(ROWS($W$2:W40),$T$2:$U$763,2,FALSE),\"\")","v":""},null,null,{"$f":"IF(ISNUMBER(SEARCH('2 Crop Water Requirement'!$B$26,'Data Validation Sheet'!AA40)),MAX($Z$1:Z39)+1,0)","v":0},{"$f":"'Crop Information'!B45","v":"Cauliflower (Sept - California desert)"},null,{"$f":"IFERROR(VLOOKUP(ROWS($AC$2:AC40),$Z$2:$AA$763,2,FALSE),\"\")","v":""},null,null,{"$f":"IF(ISNUMBER(SEARCH('2 Crop Water Requirement'!B$28,'Data Validation Sheet'!AG40)),MAX($AF$1:AF39)+1,0)","v":0},{"$f":"'Crop Information'!B45","v":"Cauliflower (Sept - California desert)"},null,{"$f":"IFERROR(VLOOKUP(ROWS($AI$2:AI40),$AF$2:$AG$763,2,FALSE),\"\")","v":""},null,null,{"$f":"IF(ISNUMBER(SEARCH('2 Crop Water Requirement'!$B$30,'Data Validation Sheet'!AM40)),MAX($AL$1:AL39)+1,0)","v":0},{"$f":"'Crop Information'!B45","v":"Cauliflower (Sept - California desert)"},null,{"$f":"IFERROR(VLOOKUP(ROWS($AO$2:AO40),$AL$2:$AM$763,2,FALSE),\"\")","v":""}]
[null,null,null,null,null,null,null,null,null,null,null,null,null,{"$f":"IF(ISNUMBER(SEARCH('2 Crop Water Requirement'!$B$22,'Data Validation Sheet'!O41)),MAX($N$1:N40)+1,0)","v":0},{"$f":"'Crop Information'!B46","v":"Celery (Oct- semiarid)"},null,{"$f":"IFERROR(VLOOKUP(ROWS($Q$2:Q41),$N$2:$O$763,2,FALSE),\"\")","v":""},null,null,{"$f":"IF(ISNUMBER(SEARCH('2 Crop Water Requirement'!$B$24,'Data Validation Sheet'!U41)),MAX($T$1:T40)+1,0)","v":0},{"$f":"'Crop Information'!B46","v":"Celery (Oct- semiarid)"},null,{"$f":"IFERROR(VLOOKUP(ROWS($W$2:W41),$T$2:$U$763,2,FALSE),\"\")","v":""},null,null,{"$f":"IF(ISNUMBER(SEARCH('2 Crop Water Requirement'!$B$26,'Data Validation Sheet'!AA41)),MAX($Z$1:Z40)+1,0)","v":0},{"$f":"'Crop Information'!B46","v":"Celery (Oct- semiarid)"},null,{"$f":"IFERROR(VLOOKUP(ROWS($AC$2:AC41),$Z$2:$AA$763,2,FALSE),\"\")","v":""},null,null,{"$f":"IF(ISNUMBER(SEARCH('2 Crop Water Requirement'!B$28,'Data Validation Sheet'!AG41)),MAX($AF$1:AF40)+1,0)","v":0},{"$f":"'Crop Information'!B46","v":"Celery (Oct- semiarid)"},null,{"$f":"IFERROR(VLOOKUP(ROWS($AI$2:AI41),$AF$2:$AG$763,2,FALSE),\"\")","v":""},null,null,{"$f":"IF(ISNUMBER(SEARCH('2 Crop Water Requirement'!$B$30,'Data Validation Sheet'!AM41)),MAX($AL$1:AL40)+1,0)","v":0},{"$f":"'Crop Information'!B46","v":"Celery (Oct- semiarid)"},null,{"$f":"IFERROR(VLOOKUP(ROWS($AO$2:AO41),$AL$2:$AM$763,2,FALSE),\"\")","v":""}]
[null,null,null,null,null,null,null,null,null,null,null,null,null,{"$f":"IF(ISNUMBER(SEARCH('2 Crop Water Requirement'!$B$22,'Data Validation Sheet'!O42)),MAX($N$1:N41)+1,0)","v":0},{"$f":"'Crop Information'!B47","v":"Celery (Apr - Mediterranean)"},null,{"$f":"IFERROR(VLOOKUP(ROWS($Q$2:Q42),$N$2:$O$763,2,FALSE),\"\")","v":""},null,null,{"$f":"IF(ISNUMBER(SEARCH('2 Crop Water Requirement'!$B$24,'Data Validation Sheet'!U42)),MAX($T$1:T41)+1,0)","v":0},{"$f":"'Crop Information'!B47","v":"Celery (Apr - Mediterranean)"},null,{"$f":"IFERROR(VLOOKUP(ROWS($W$2:W42),$T$2:$U$763,2,FALSE),\"\")","v":""},null,null,{"$f":"IF(ISNUMBER(SEARCH('2 Crop Water Requirement'!$B$26,'Data Validation Sheet'!AA42)),MAX($Z$1:Z41)+1,0)","v":0},{"$f":"'Crop Information'!B47","v":"Celery (Apr - Mediterranean)"},null,{"$f":"IFERROR(VLOOKUP(ROWS($AC$2:AC42),$Z$2:$AA$763,2,FALSE),\"\")","v":""},null,null,{"$f":"IF(ISNUMBER(SEARCH('2 Crop Water Requirement'!B$28,'Data Validation Sheet'!AG42)),MAX($AF$1:AF41)+1,0)","v":0},{"$f":"'Crop Information'!B47","v":"Celery (Apr - Mediterranean)"},null,{"$f":"IFERROR(VLOOKUP(ROWS($AI$2:AI42),$AF$2:$AG$763,2,FALSE),\"\")","v":""},null,null,{"$f":"IF(ISNUMBER(SEARCH('2 Crop Water Requirement'!$B$30,'Data Validation Sheet'!AM42)),MAX($AL$1:AL41)+1,0)","v":0},{"$f":"'Crop Information'!B47","v":"Celery (Apr - Mediterranean)"},null,{"$f":"IFERROR(VLOOKUP(ROWS($AO$2:AO42),$AL$2:$AM$763,2,FALSE),\"\")","v":""}]
[null,null,null,null,null,null,null,null,null,null,null,null,null,{"$f":"IF(ISNUMBER(SEARCH('2 Crop Water Requirement'!$B$22,'Data Validation Sheet'!O43)),MAX($N$1:N42)+1,0)","v":0},{"$f":"'Crop Information'!B48","v":"Celery (Jan - semiarid)"},null,{"$f":"IFERROR(VLOOKUP(ROWS($Q$2:Q43),$N$2:$O$763,2,FALSE),\"\")","v":""},null,null,{"$f":"IF(ISNUMBER(SEARCH('2 Crop Water Requirement'!$B$24,'Data Validation Sheet'!U43)),MAX($T$1:T42)+1,0)","v":0},{"$f":"'Crop Information'!B48","v":"Celery (Jan - semiarid)"},null,{"$f":"IFERROR(VLOOKUP(ROWS($W$2:W43),$T$2:$U$763,2,FALSE),\"\")","v":""},null,null,{"$f":"IF(ISNUMBER(SEARCH('2 Crop Water Requirement'!$B$26,'Data Validation Sheet'!AA43)),MAX($Z$1:Z42)+1,0)","v":0},{"$f":"'Crop Information'!B48","v":"Celery (Jan - semiarid)"},null,{"$f":"IFERROR(VLOOKUP(ROWS($AC$2:AC43),$Z$2:$AA$763,2,FALSE),\"\")","v":""},null,null,{"$f":"IF(ISNUMBER(SEARCH('2 Crop Water Requirement'!B$28,'Data Validation Sheet'!AG43)),MAX($AF$1:AF42)+1,0)","v":0},{"$f":"'Crop Information'!B48","v":"Celery (Jan - semiarid)"},null,{"$f":"IFERROR(VLOOKUP(ROWS($AI$2:AI43),$AF$2:$AG$763,2,FALSE),\"\")","v":""},null,null,{"$f":"IF(ISNUMBER(SEARCH('2 Crop Water Requirement'!$B$30,'Data Validation Sheet'!AM43)),MAX($AL$1:AL42)+1,0)","v":0},{"$f":"'Crop Information'!B48","v":"Celery (Jan - semiarid)"},null,{"$f":"IFERROR(VLOOKUP(ROWS($AO$2:AO43),$AL$2:$AM$763,2,FALSE),\"\")","v":""}]
[null,null,null,null,null,null,null,null,null,null,null,null,null,{"$f":"IF(ISNUMBER(SEARCH('2 Crop Water Requirement'!$B$22,'Data Validation Sheet'!O44)),MAX($N$1:N43)+1,0)","v":0},{"$f":"'Crop Information'!B49","v":"Chilli pepper (Brazil/Tropical)"},null,{"$f":"IFERROR(VLOOKUP(ROWS($Q$2:Q44),$N$2:$O$763,2,FALSE),\"\")","v":""},null,null,{"$f":"IF(ISNUMBER(SEARCH('2 Crop Water Requirement'!$B$24,'Data Validation Sheet'!U44)),MAX($T$1:T43)+1,0)","v":0},{"$f":"'Crop Information'!B49","v":"Chilli pepper (Brazil/Tropical)"},null,{"$f":"IFERROR(VLOOKUP(ROWS($W$2:W44),$T$2:$U$763,2,FALSE),\"\")","v":""},null,null,{"$f":"IF(ISNUMBER(SEARCH('2 Crop Water Requirement'!$B$26,'Data Validation Sheet'!AA44)),MAX($Z$1:Z43)+1,0)","v":0},{"$f":"'Crop Information'!B49","v":"Chilli pepper (Brazil/Tropical)"},null,{"$f":"IFERROR(VLOOKUP(ROWS($AC$2:AC44),$Z$2:$AA$763,2,FALSE),\"\")","v":""},null,null,{"$f":"IF(ISNUMBER(SEARCH('2 Crop Water Requirement'!B$28,'Data Validation Sheet'!AG44)),MAX($AF$1:AF43)+1,0)","v":0},{"$f":"'Crop Information'!B49","v":"Chilli pepper (Brazil/Tropical)"},null,{"$f":"IFERROR(VLOOKUP(ROWS($AI$2:AI44),$AF$2:$AG$763,2,FALSE),\"\")","v":""},null,null,{"$f":"IF(ISNUMBER(SEARCH('2 Crop Water Requirement'!$B$30,'Data Validation Sheet'!AM44)),MAX($AL$1:AL43)+1,0)","v":0},{"$f":"'Crop Information'!B49","v":"Chilli pepper (Brazil/Tropical)"},null,{"$f":"IFERROR(VLOOKUP(ROWS($AO$2:AO44),$AL$2:$AM$763,2,FALSE),\"\")","v":""}]
[null,null,null,null,null,null,null,null,null,null,null,null,null,{"$f":"IF(ISNUMBER(SEARCH('2 Crop Water Requirement'!$B$22,'Data Validation Sheet'!O45)),MAX($N$1:N44)+1,0)","v":0},{"$f":"'Crop Information'!B50","v":"Citrus (no ground cover/70% canopy - Jan - Mediterranean)"},null,{"$f":"IFERROR(VLOOKUP(ROWS($Q$2:Q45),$N$2:$O$763,2,FALSE),\"\")","v":""},null,null,{"$f":"IF(ISNUMBER(SEARCH('2 Crop Water Requirement'!$B$24,'Data Validation Sheet'!U45)),MAX($T$1:T44)+1,0)","v":0},{"$f":"'Crop Information'!B50","v":"Citrus (no ground cover/70% canopy - Jan - Mediterranean)"},null,{"$f":"IFERROR(VLOOKUP(ROWS($W$2:W45),$T$2:$U$763,2,FALSE),\"\")","v":""},null,null,{"$f":"IF(ISNUMBER(SEARCH('2 Crop Water Requirement'!$B$26,'Data Validation Sheet'!AA45)),MAX($Z$1:Z44)+1,0)","v":0},{"$f":"'Crop Information'!B50","v":"Citrus (no ground cover/70% canopy - Jan - Mediterranean)"},null,{"$f":"IFERROR(VLOOKUP(ROWS($AC$2:AC45),$Z$2:$AA$763,2,FALSE),\"\")","v":""},null,null,{"$f":"IF(ISNUMBER(SEARCH('2 Crop Water Requirement'!B$28,'Data Validation Sheet'!AG45)),MAX($AF$1:AF44)+1,0)","v":0},{"$f":"'Crop Information'!B50","v":"Citrus (no ground cover/70% canopy - Jan - Mediterranean)"},null,{"$f":"IFERROR(VLOOKUP(ROWS($AI$2:AI45),$AF$2:$AG$763,2,FALSE),\"\")","v":""},null,null,{"$f":"IF(ISNUMBER(SEARCH('2 Crop Water Requirement'!$B$30,'Data Validation Sheet'!AM45)),MAX($AL$1:AL44)+1,0)","v":0},{"$f":"'Crop Information'!B50","v":"Citrus (no ground cover/70% canopy - Jan - Mediterranean)"},null,{"$f":"IFERROR(VLOOKUP(ROWS($AO$2:AO45),$AL$2:$AM$763,2,FALSE),\"\")","v":""}]
[null,null,null,null,null,null,null,null,null,null,null,null,null,{"$f":"IF(ISNUMBER(SEARCH('2 Crop Water Requirement'!$B$22,'Data Validation Sheet'!O46)),MAX($N$1:N45)+1,0)","v":0},{"$f":"'Crop Information'!B51","v":"Citrus (no ground cover/50% canopy - Jan - Mediterranean)"},null,{"$f":"IFERROR(VLOOKUP(ROWS($Q$2:Q46),$N$2:$O$763,2,FALSE),\"\")","v":""},null,null,{"$f":"IF(ISNUMBER(SEARCH('2 Crop Water Requirement'!$B$24,'Data Validation Sheet'!U46)),MAX($T$1:T45)+1,0)","v":0},{"$f":"'Crop Information'!B51","v":"Citrus (no ground cover/50% canopy - Jan - Mediterranean)"},null,{"$f":"IFERROR(VLOOKUP(ROWS($W$2:W46),$T$2:$U$763,2,FALSE),\"\")","v":""},null,null,{"$f":"IF(ISNUMBER(SEARCH('2 Crop Water Requirement'!$B$26,'Data Validation Sheet'!AA46)),MAX($Z$1:Z45)+1,0)","v":0},{"$f":"'Crop Information'!B51","v":"Citrus (no ground cover/50% canopy - Jan - Mediterranean)"},null,{"$f":"IFERROR(VLOOKUP(ROWS($AC$2:AC46),$Z$2:$AA$763,2,FALSE),\"\")","v":""},null,null,{"$f":"IF(ISNUMBER(SEARCH('2 Crop Water Requirement'!B$28,'Data Validation Sheet'!AG46)),MAX($AF$1:AF45)+1,0)","v":0},{"$f":"'Crop Information'!B51","v":"Citrus (no ground cover/50% canopy - Jan - Mediterranean)"},null,{"$f":"IFERROR(VLOOKUP(ROWS($AI$2:AI46),$AF$2:$AG$763,2,FALSE),\"\")","v":""},null,null,{"$f":"IF(ISNUMBER(SEARCH('2 Crop Water Requirement'!$B$30,'Data Validation Sheet'!AM46)),MAX($AL$1:AL45)+1,0)","v":0},{"$f":"'Crop Information'!B51","v":"Citrus (no ground cover/50% canopy - Jan - Mediterranean)"},null,{"$f":"IFERROR(VLOOKUP(ROWS($AO$2:AO46),$AL$2:$AM$763,2,FALSE),\"\")","v":""}]
[null,null,null,null,null,null,null,null,null,null,null,null,null,{"$f":"IF(ISNUMBER(SEARCH('2 Crop Water Requirement'!$B$22,'Data Validation Sheet'!O47)),MAX($N$1:N46)+1,0)","v":0},{"$f":"'Crop Information'!B52","v":"Citrus (no ground cover/20% canopy - Jan - Mediterranean)"},null,{"$f":"IFERROR(VLOOKUP(ROWS($Q$2:Q47),$N$2:$O$763,2,FALSE),\"\")","v":""},null,null,{"$f":"IF(ISNUMBER(SEARCH('2 Crop Water Requirement'!$B$24,'Data Validation Sheet'!U47)),MAX($T$1:T46)+1,0)","v":0},{"$f":"'Crop Information'!B52","v":"Citrus (no ground cover/20% canopy - Jan - Mediterranean)"},null,{"$f":"IFERROR(VLOOKUP(ROWS($W$2:W47),$T$2:$U$763,2,FALSE),\"\")","v":""},null,null,{"$f":"IF(ISNUMBER(SEARCH('2 Crop Water Requirement'!$B$26,'Data Validation Sheet'!AA47)),MAX($Z$1:Z46)+1,0)","v":0},{"$f":"'Crop Information'!B52","v":"Citrus (no ground cover/20% canopy - Jan - Mediterranean)"},null,{"$f":"IFERROR(VLOOKUP(ROWS($AC$2:AC47),$Z$2:$AA$763,2,FALSE),\"\")","v":""},null,null,{"$f":"IF(ISNUMBER(SEARCH('2 Crop Water Requirement'!B$28,'Data Validation Sheet'!AG47)),MAX($AF$1:AF46)+1,0)","v":0},{"$f":"'Crop Information'!B52","v":"Citrus (no ground cover/20% canopy - Jan - Mediterranean)"},null,{"$f":"IFERROR(VLOOKUP(ROWS($AI$2:AI47),$AF$2:$AG$763,2,FALSE),\"\")","v":""},null,null,{"$f":"IF(ISNUMBER(SEARCH('2 Crop Water Requirement'!$B$30,'Data Validation Sheet'!AM47)),MAX($AL$1:AL46)+1,0)","v":0},{"$f":"'Crop Information'!B52","v":"Citrus (no ground cover/20% canopy - Jan - Mediterranean)"},null,{"$f":"IFERROR(VLOOKUP(ROWS($AO$2:AO47),$AL$2:$AM$763,2,FALSE),\"\")","v":""}]
[null,null,null,null,null,null,null,null,null,null,null,null,null,{"$f":"IF(ISNUMBER(SEARCH('2 Crop Water Requirement'!$B$22,'Data Validation Sheet'!O48)),MAX($N$1:N47)+1,0)","v":0},{"$f":"'Crop Information'!B53","v":"Citrus (with active ground cover or weeds/70% canopy - Jan - Mediterranean)"},null,{"$f":"IFERROR(VLOOKUP(ROWS($Q$2:Q48),$N$2:$O$763,2,FALSE),\"\")","v":""},null,null,{"$f":"IF(ISNUMBER(SEARCH('2 Crop Water Requirement'!$B$24,'Data Validation Sheet'!U48)),MAX($T$1:T47)+1,0)","v":0},{"$f":"'Crop Information'!B53","v":"Citrus (with active ground cover or weeds/70% canopy - Jan - Mediterranean)"},null,{"$f":"IFERROR(VLOOKUP(ROWS($W$2:W48),$T$2:$U$763,2,FALSE),\"\")","v":""},null,null,{"$f":"IF(ISNUMBER(SEARCH('2 Crop Water Requirement'!$B$26,'Data Validation Sheet'!AA48)),MAX($Z$1:Z47)+1,0)","v":0},{"$f":"'Crop Information'!B53","v":"Citrus (with active ground cover or weeds/70% canopy - Jan - Mediterranean)"},null,{"$f":"IFERROR(VLOOKUP(ROWS($AC$2:AC48),$Z$2:$AA$763,2,FALSE),\"\")","v":""},null,null,{"$f":"IF(ISNUMBER(SEARCH('2 Crop Water Requirement'!B$28,'Data Validation Sheet'!AG48)),MAX($AF$1:AF47)+1,0)","v":0},{"$f":"'Crop Information'!B53","v":"Citrus (with active ground cover or weeds/70% canopy - Jan - Mediterranean)"},null,{"$f":"IFERROR(VLOOKUP(ROWS($AI$2:AI48),$AF$2:$AG$763,2,FALSE),\"\")","v":""},null,null,{"$f":"IF(ISNUMBER(SEARCH('2 Crop Water Requirement'!$B$30,'Data Validation Sheet'!AM48)),MAX($AL$1:AL47)+1,0)","v":0},{"$f":"'Crop Information'!B53","v":"Citrus (with active ground cover or weeds/70% canopy - Jan - Mediterranean)"},null,{"$f":"IFERROR(VLOOKUP(ROWS($AO$2:AO48),$AL$2:$AM$763,2,FALSE),\"\")","v":""}]
[null,null,null,null,null,null,null,null,null,null,null,null,null,{"$f":"IF(ISNUMBER(SEARCH('2 Crop Water Requirement'!$B$22,'Data Validation Sheet'!O49)),MAX($N$1:N48)+1,0)","v":0},{"$f":"'Crop Information'!B54","v":"Citrus (with active ground cover or weeds/50% canopy - Jan - Mediterranean)"},null,{"$f":"IFERROR(VLOOKUP(ROWS($Q$2:Q49),$N$2:$O$763,2,FALSE),\"\")","v":""},null,null,{"$f":"IF(ISNUMBER(SEARCH('2 Crop Water Requirement'!$B$24,'Data Validation Sheet'!U49)),MAX($T$1:T48)+1,0)","v":0},{"$f":"'Crop Information'!B54","v":"Citrus (with active ground cover or weeds/50% canopy - Jan - Mediterranean)"},null,{"$f":"IFERROR(VLOOKUP(ROWS($W$2:W49),$T$2:$U$763,2,FALSE),\"\")","v":""},null,null,{"$f":"IF(ISNUMBER(SEARCH('2 Crop Water Requirement'!$B$26,'Data Validation Sheet'!AA49)),MAX($Z$1:Z48)+1,0)","v":0},{"$f":"'Crop Information'!B54","v":"Citrus (with active ground cover or weeds/50% canopy - Jan - Mediterranean)"},null,{"$f":"IFERROR(VLOOKUP(ROWS($AC$2:AC49),$Z$2:$AA$763,2,FALSE),\"\")","v":""},null,null,{"$f":"IF(ISNUMBER(SEARCH('2 Crop Water Requirement'!B$28,'Data Validation Sheet'!AG49)),MAX($AF$1:AF48)+1,0)","v":0},{"$f":"'Crop Information'!B54","v":"Citrus (with active ground cover or weeds/50% canopy - Jan - Mediterranean)"},null,{"$f":"IFERROR(VLOOKUP(ROWS($AI$2:AI49),$AF$2:$AG$763,2,FALSE),\"\")","v":""},null,null,{"$f":"IF(ISNUMBER(SEARCH('2 Crop Water Requirement'!$B$30,'Data Validation Sheet'!AM49)),MAX($AL$1:AL48)+1,0)","v":0},{"$f":"'Crop Information'!B54","v":"Citrus (with active ground cover or weeds/50% canopy - Jan - Mediterranean)"},null,{"$f":"IFERROR(VLOOKUP(ROWS($AO$2:AO49),$AL$2:$AM$763,2,FALSE),\"\")","v":""}]
[null,null,null,null,null,null,null,null,null,null,null,null,null,{"$f":"IF(ISNUMBER(SEARCH('2 Crop Water Requirement'!$B$22,'Data Validation Sheet'!O50)),MAX($N$1:N49)+1,0)","v":0},{"$f":"'Crop Information'!B55","v":"Citrus (with active ground cover or weeds/20% canopy - Jan - Mediterranean)"},null,{"$f":"IFERROR(VLOOKUP(ROWS($Q$2:Q50),$N$2:$O$763,2,FALSE),\"\")","v":""},null,null,{"$f":"IF(ISNUMBER(SEARCH('2 Crop Water Requirement'!$B$24,'Data Validation Sheet'!U50)),MAX($T$1:T49)+1,0)","v":0},{"$f":"'Crop Information'!B55","v":"Citrus (with active ground cover or weeds/20% canopy - Jan - Mediterranean)"},null,{"$f":"IFERROR(VLOOKUP(ROWS($W$2:W50),$T$2:$U$763,2,FALSE),\"\")","v":""},null,null,{"$f":"IF(ISNUMBER(SEARCH('2 Crop Water Requirement'!$B$26,'Data Validation Sheet'!AA50)),MAX($Z$1:Z49)+1,0)","v":0},{"$f":"'Crop Information'!B55","v":"Citrus (with active ground cover or weeds/20% canopy - Jan - Mediterranean)"},null,{"$f":"IFERROR(VLOOKUP(ROWS($AC$2:AC50),$Z$2:$AA$763,2,FALSE),\"\")","v":""},null,null,{"$f":"IF(ISNUMBER(SEARCH('2 Crop Water Requirement'!B$28,'Data Validation Sheet'!AG50)),MAX($AF$1:AF49)+1,0)","v":0},{"$f":"'Crop Information'!B55","v":"Citrus (with active ground cover or weeds/20% canopy - Jan - Mediterranean)"},null,{"$f":"IFERROR(VLOOKUP(ROWS($AI$2:AI50),$AF$2:$AG$763,2,FALSE),\"\")","v":""},null,null,{"$f":"IF(ISNUMBER(SEARCH('2 Crop Water Requirement'!$B$30,'Data Validation Sheet'!AM50)),MAX($AL$1:AL49)+1,0)","v":0},{"$f":"'Crop Information'!B55","v":"Citrus (with active ground cover or weeds/20% canopy - Jan - Mediterranean)"},null,{"$f":"IFERROR(VLOOKUP(ROWS($AO$2:AO50),$AL$2:$AM$763,2,FALSE),\"\")","v":""}]
[null,null,null,null,null,null,null,null,null,null,null,null,null,{"$f":"IF(ISNUMBER(SEARCH('2 Crop Water Requirement'!$B$22,'Data Validation Sheet'!O51)),MAX($N$1:N50)+1,0)","v":0},{"$f":"'Crop Information'!B56","v":"Cotton (Mar/May - Egypt/Pakistan/California)"},null,{"$f":"IFERROR(VLOOKUP(ROWS($Q$2:Q51),$N$2:$O$763,2,FALSE),\"\")","v":""},null,null,{"$f":"IF(ISNUMBER(SEARCH('2 Crop Water Requirement'!$B$24,'Data Validation Sheet'!U51)),MAX($T$1:T50)+1,0)","v":0},{"$f":"'Crop Information'!B56","v":"Cotton (Mar/May - Egypt/Pakistan/California)"},null,{"$f":"IFERROR(VLOOKUP(ROWS($W$2:W51),$T$2:$U$763,2,FALSE),\"\")","v":""},null,null,{"$f":"IF(ISNUMBER(SEARCH('2 Crop Water Requirement'!$B$26,'Data Validation Sheet'!AA51)),MAX($Z$1:Z50)+1,0)","v":0},{"$f":"'Crop Information'!B56","v":"Cotton (Mar/May - Egypt/Pakistan/California)"},null,{"$f":"IFERROR(VLOOKUP(ROWS($AC$2:AC51),$Z$2:$AA$763,2,FALSE),\"\")","v":""},null,null,{"$f":"IF(ISNUMBER(SEARCH('2 Crop Water Requirement'!B$28,'Data Validation Sheet'!AG51)),MAX($AF$1:AF50)+1,0)","v":0},{"$f":"'Crop Information'!B56","v":"Cotton (Mar/May - Egypt/Pakistan/California)"},null,{"$f":"IFERROR(VLOOKUP(ROWS($AI$2:AI51),$AF$2:$AG$763,2,FALSE),\"\")","v":""},null,null,{"$f":"IF(ISNUMBER(SEARCH('2 Crop Water Requirement'!$B$30,'Data Validation Sheet'!AM51)),MAX($AL$1:AL50)+1,0)","v":0},{"$f":"'Crop Information'!B56","v":"Cotton (Mar/May - Egypt/Pakistan/California)"},null,{"$f":"IFERROR(VLOOKUP(ROWS($AO$2:AO51),$AL$2:$AM$763,2,FALSE),\"\")","v":""}]
[null,null,null,null,null,null,null,null,null,null,null,null,null,{"$f":"IF(ISNUMBER(SEARCH('2 Crop Water Requirement'!$B$22,'Data Validation Sheet'!O52)),MAX($N$1:N51)+1,0)","v":0},{"$f":"'Crop Information'!B57","v":"Cotton (Mar - California desert)"},null,{"$f":"IFERROR(VLOOKUP(ROWS($Q$2:Q52),$N$2:$O$763,2,FALSE),\"\")","v":""},null,null,{"$f":"IF(ISNUMBER(SEARCH('2 Crop Water Requirement'!$B$24,'Data Validation Sheet'!U52)),MAX($T$1:T51)+1,0)","v":0},{"$f":"'Crop Information'!B57","v":"Cotton (Mar - California desert)"},null,{"$f":"IFERROR(VLOOKUP(ROWS($W$2:W52),$T$2:$U$763,2,FALSE),\"\")","v":""},null,null,{"$f":"IF(ISNUMBER(SEARCH('2 Crop Water Requirement'!$B$26,'Data Validation Sheet'!AA52)),MAX($Z$1:Z51)+1,0)","v":0},{"$f":"'Crop Information'!B57","v":"Cotton (Mar - California desert)"},null,{"$f":"IFERROR(VLOOKUP(ROWS($AC$2:AC52),$Z$2:$AA$763,2,FALSE),\"\")","v":""},null,null,{"$f":"IF(ISNUMBER(SEARCH('2 Crop Water Requirement'!B$28,'Data Validation Sheet'!AG52)),MAX($AF$1:AF51)+1,0)","v":0},{"$f":"'Crop Information'!B57","v":"Cotton (Mar - California desert)"},null,{"$f":"IFERROR(VLOOKUP(ROWS($AI$2:AI52),$AF$2:$AG$763,2,FALSE),\"\")","v":""},null,null,{"$f":"IF(ISNUMBER(SEARCH('2 Crop Water Requirement'!$B$30,'Data Validation Sheet'!AM52)),MAX($AL$1:AL51)+1,0)","v":0},{"$f":"'Crop Information'!B57","v":"Cotton (Mar - California desert)"},null,{"$f":"IFERROR(VLOOKUP(ROWS($AO$2:AO52),$AL$2:$AM$763,2,FALSE),\"\")","v":""}]
[null,null,null,null,null,null,null,null,null,null,null,null,null,{"$f":"IF(ISNUMBER(SEARCH('2 Crop Water Requirement'!$B$22,'Data Validation Sheet'!O53)),MAX($N$1:N52)+1,0)","v":0},{"$f":"'Crop Information'!B58","v":"Cotton (Sept - Yemen )"},null,{"$f":"IFERROR(VLOOKUP(ROWS($Q$2:Q53),$N$2:$O$763,2,FALSE),\"\")","v":""},null,null,{"$f":"IF(ISNUMBER(SEARCH('2 Crop Water Requirement'!$B$24,'Data Validation Sheet'!U53)),MAX($T$1:T52)+1,0)","v":0},{"$f":"'Crop Information'!B58","v":"Cotton (Sept - Yemen )"},null,{"$f":"IFERROR(VLOOKUP(ROWS($W$2:W53),$T$2:$U$763,2,FALSE),\"\")","v":""},null,null,{"$f":"IF(ISNUMBER(SEARCH('2 Crop Water Requirement'!$B$26,'Data Validation Sheet'!AA53)),MAX($Z$1:Z52)+1,0)","v":0},{"$f":"'Crop Information'!B58","v":"Cotton (Sept - Yemen )"},null,{"$f":"IFERROR(VLOOKUP(ROWS($AC$2:AC53),$Z$2:$AA$763,2,FALSE),\"\")","v":""},null,null,{"$f":"IF(ISNUMBER(SEARCH('2 Crop Water Requirement'!B$28,'Data Validation Sheet'!AG53)),MAX($AF$1:AF52)+1,0)","v":0},{"$f":"'Crop Information'!B58","v":"Cotton (Sept - Yemen )"},null,{"$f":"IFERROR(VLOOKUP(ROWS($AI$2:AI53),$AF$2:$AG$763,2,FALSE),\"\")","v":""},null,null,{"$f":"IF(ISNUMBER(SEARCH('2 Crop Water Requirement'!$B$30,'Data Validation Sheet'!AM53)),MAX($AL$1:AL52)+1,0)","v":0},{"$f":"'Crop Information'!B58","v":"Cotton (Sept - Yemen )"},null,{"$f":"IFERROR(VLOOKUP(ROWS($AO$2:AO53),$AL$2:$AM$763,2,FALSE),\"\")","v":""}]
[null,null,null,null,null,null,null,null,null,null,null,null,null,{"$f":"IF(ISNUMBER(SEARCH('2 Crop Water Requirement'!$B$22,'Data Validation Sheet'!O54)),MAX($N$1:N53)+1,0)","v":0},{"$f":"'Crop Information'!B59","v":"Cotton (Apr - Texas )"},null,{"$f":"IFERROR(VLOOKUP(ROWS($Q$2:Q54),$N$2:$O$763,2,FALSE),\"\")","v":""},null,null,{"$f":"IF(ISNUMBER(SEARCH('2 Crop Water Requirement'!$B$24,'Data Validation Sheet'!U54)),MAX($T$1:T53)+1,0)","v":0},{"$f":"'Crop Information'!B59","v":"Cotton (Apr - Texas )"},null,{"$f":"IFERROR(VLOOKUP(ROWS($W$2:W54),$T$2:$U$763,2,FALSE),\"\")","v":""},null,null,{"$f":"IF(ISNUMBER(SEARCH('2 Crop Water Requirement'!$B$26,'Data Validation Sheet'!AA54)),MAX($Z$1:Z53)+1,0)","v":0},{"$f":"'Crop Information'!B59","v":"Cotton (Apr - Texas )"},null,{"$f":"IFERROR(VLOOKUP(ROWS($AC$2:AC54),$Z$2:$AA$763,2,FALSE),\"\")","v":""},null,null,{"$f":"IF(ISNUMBER(SEARCH('2 Crop Water Requirement'!B$28,'Data Validation Sheet'!AG54)),MAX($AF$1:AF53)+1,0)","v":0},{"$f":"'Crop Information'!B59","v":"Cotton (Apr - Texas )"},null,{"$f":"IFERROR(VLOOKUP(ROWS($AI$2:AI54),$AF$2:$AG$763,2,FALSE),\"\")","v":""},null,null,{"$f":"IF(ISNUMBER(SEARCH('2 Crop Water Requirement'!$B$30,'Data Validation Sheet'!AM54)),MAX($AL$1:AL53)+1,0)","v":0},{"$f":"'Crop Information'!B59","v":"Cotton (Apr - Texas )"},null,{"$f":"IFERROR(VLOOKUP(ROWS($AO$2:AO54),$AL$2:$AM$763,2,FALSE),\"\")","v":""}]
[null,null,null,null,null,null,null,null,null,null,null,null,null,{"$f":"IF(ISNUMBER(SEARCH('2 Crop Water Requirement'!$B$22,'Data Validation Sheet'!O55)),MAX($N$1:N54)+1,0)","v":0},{"$f":"'Crop Information'!B60","v":"Cucumber (Jun/Aug - arid region )"},null,{"$f":"IFERROR(VLOOKUP(ROWS($Q$2:Q55),$N$2:$O$763,2,FALSE),\"\")","v":""},null,null,{"$f":"IF(ISNUMBER(SEARCH('2 Crop Water Requirement'!$B$24,'Data Validation Sheet'!U55)),MAX($T$1:T54)+1,0)","v":0},{"$f":"'Crop Information'!B60","v":"Cucumber (Jun/Aug - arid region )"},null,{"$f":"IFERROR(VLOOKUP(ROWS($W$2:W55),$T$2:$U$763,2,FALSE),\"\")","v":""},null,null,{"$f":"IF(ISNUMBER(SEARCH('2 Crop Water Requirement'!$B$26,'Data Validation Sheet'!AA55)),MAX($Z$1:Z54)+1,0)","v":0},{"$f":"'Crop Information'!B60","v":"Cucumber (Jun/Aug - arid region )"},null,{"$f":"IFERROR(VLOOKUP(ROWS($AC$2:AC55),$Z$2:$AA$763,2,FALSE),\"\")","v":""},null,null,{"$f":"IF(ISNUMBER(SEARCH('2 Crop Water Requirement'!B$28,'Data Validation Sheet'!AG55)),MAX($AF$1:AF54)+1,0)","v":0},{"$f":"'Crop Information'!B60","v":"Cucumber (Jun/Aug - arid region )"},null,{"$f":"IFERROR(VLOOKUP(ROWS($AI$2:AI55),$AF$2:$AG$763,2,FALSE),\"\")","v":""},null,null,{"$f":"IF(ISNUMBER(SEARCH('2 Crop Water Requirement'!$B$30,'Data Validation Sheet'!AM55)),MAX($AL$1:AL54)+1,0)","v":0},{"$f":"'Crop Information'!B60","v":"Cucumber (Jun/Aug - arid region )"},null,{"$f":"IFERROR(VLOOKUP(ROWS($AO$2:AO55),$AL$2:$AM$763,2,FALSE),\"\")","v":""}]
[null,null,null,null,null,null,null,null,null,null,null,null,null,{"$f":"IF(ISNUMBER(SEARCH('2 Crop Water Requirement'!$B$22,'Data Validation Sheet'!O56)),MAX($N$1:N55)+1,0)","v":0},{"$f":"'Crop Information'!B61","v":"Cucumber (Nov/Feb - arid region )"},null,{"$f":"IFERROR(VLOOKUP(ROWS($Q$2:Q56),$N$2:$O$763,2,FALSE),\"\")","v":""},null,null,{"$f":"IF(ISNUMBER(SEARCH('2 Crop Water Requirement'!$B$24,'Data Validation Sheet'!U56)),MAX($T$1:T55)+1,0)","v":0},{"$f":"'Crop Information'!B61","v":"Cucumber (Nov/Feb - arid region )"},null,{"$f":"IFERROR(VLOOKUP(ROWS($W$2:W56),$T$2:$U$763,2,FALSE),\"\")","v":""},null,null,{"$f":"IF(ISNUMBER(SEARCH('2 Crop Water Requirement'!$B$26,'Data Validation Sheet'!AA56)),MAX($Z$1:Z55)+1,0)","v":0},{"$f":"'Crop Information'!B61","v":"Cucumber (Nov/Feb - arid region )"},null,{"$f":"IFERROR(VLOOKUP(ROWS($AC$2:AC56),$Z$2:$AA$763,2,FALSE),\"\")","v":""},null,null,{"$f":"IF(ISNUMBER(SEARCH('2 Crop Water Requirement'!B$28,'Data Validation Sheet'!AG56)),MAX($AF$1:AF55)+1,0)","v":0},{"$f":"'Crop Information'!B61","v":"Cucumber (Nov/Feb - arid region )"},null,{"$f":"IFERROR(VLOOKUP(ROWS($AI$2:AI56),$AF$2:$AG$763,2,FALSE),\"\")","v":""},null,null,{"$f":"IF(ISNUMBER(SEARCH('2 Crop Water Requirement'!$B$30,'Data Validation Sheet'!AM56)),MAX($AL$1:AL55)+1,0)","v":0},{"$f":"'Crop Information'!B61","v":"Cucumber (Nov/Feb - arid region )"},null,{"$f":"IFERROR(VLOOKUP(ROWS($AO$2:AO56),$AL$2:$AM$763,2,FALSE),\"\")","v":""}]
[null,null,null,null,null,null,null,null,null,null,null,null,null,{"$f":"IF(ISNUMBER(SEARCH('2 Crop Water Requirement'!$B$22,'Data Validation Sheet'!O57)),MAX($N$1:N56)+1,0)","v":0},{"$f":"'Crop Information'!B62","v":"Deciduous Orchard (no ground cover/killing frost - Mar - high latitudes)"},null,{"$f":"IFERROR(VLOOKUP(ROWS($Q$2:Q57),$N$2:$O$763,2,FALSE),\"\")","v":""},null,null,{"$f":"IF(ISNUMBER(SEARCH('2 Crop Water Requirement'!$B$24,'Data Validation Sheet'!U57)),MAX($T$1:T56)+1,0)","v":0},{"$f":"'Crop Information'!B62","v":"Deciduous Orchard (no ground cover/killing frost - Mar - high latitudes)"},null,{"$f":"IFERROR(VLOOKUP(ROWS($W$2:W57),$T$2:$U$763,2,FALSE),\"\")","v":""},null,null,{"$f":"IF(ISNUMBER(SEARCH('2 Crop Water Requirement'!$B$26,'Data Validation Sheet'!AA57)),MAX($Z$1:Z56)+1,0)","v":0},{"$f":"'Crop Information'!B62","v":"Deciduous Orchard (no ground cover/killing frost - Mar - high latitudes)"},null,{"$f":"IFERROR(VLOOKUP(ROWS($AC$2:AC57),$Z$2:$AA$763,2,FALSE),\"\")","v":""},null,null,{"$f":"IF(ISNUMBER(SEARCH('2 Crop Water Requirement'!B$28,'Data Validation Sheet'!AG57)),MAX($AF$1:AF56)+1,0)","v":0},{"$f":"'Crop Information'!B62","v":"Deciduous Orchard (no ground cover/killing frost - Mar - high latitudes)"},null,{"$f":"IFERROR(VLOOKUP(ROWS($AI$2:AI57),$AF$2:$AG$763,2,FALSE),\"\")","v":""},null,null,{"$f":"IF(ISNUMBER(SEARCH('2 Crop Water Requirement'!$B$30,'Data Validation Sheet'!AM57)),MAX($AL$1:AL56)+1,0)","v":0},{"$f":"'Crop Information'!B62","v":"Deciduous Orchard (no ground cover/killing frost - Mar - high latitudes)"},null,{"$f":"IFERROR(VLOOKUP(ROWS($AO$2:AO57),$AL$2:$AM$763,2,FALSE),\"\")","v":""}]
[null,null,null,null,null,null,null,null,null,null,null,null,null,{"$f":"IF(ISNUMBER(SEARCH('2 Crop Water Requirement'!$B$22,'Data Validation Sheet'!O58)),MAX($N$1:N57)+1,0)","v":0},{"$f":"'Crop Information'!B63","v":"Deciduous Orchard (no ground cover/no frosts - Mar - high latitudes)"},null,{"$f":"IFERROR(VLOOKUP(ROWS($Q$2:Q58),$N$2:$O$763,2,FALSE),\"\")","v":""},null,null,{"$f":"IF(ISNUMBER(SEARCH('2 Crop Water Requirement'!$B$24,'Data Validation Sheet'!U58)),MAX($T$1:T57)+1,0)","v":0},{"$f":"'Crop Information'!B63","v":"Deciduous Orchard (no ground cover/no frosts - Mar - high latitudes)"},null,{"$f":"IFERROR(VLOOKUP(ROWS($W$2:W58),$T$2:$U$763,2,FALSE),\"\")","v":""},null,null,{"$f":"IF(ISNUMBER(SEARCH('2 Crop Water Requirement'!$B$26,'Data Validation Sheet'!AA58)),MAX($Z$1:Z57)+1,0)","v":0},{"$f":"'Crop Information'!B63","v":"Deciduous Orchard (no ground cover/no frosts - Mar - high latitudes)"},null,{"$f":"IFERROR(VLOOKUP(ROWS($AC$2:AC58),$Z$2:$AA$763,2,FALSE),\"\")","v":""},null,null,{"$f":"IF(ISNUMBER(SEARCH('2 Crop Water Requirement'!B$28,'Data Validation Sheet'!AG58)),MAX($AF$1:AF57)+1,0)","v":0},{"$f":"'Crop Information'!B63","v":"Deciduous Orchard (no ground cover/no frosts - Mar - high latitudes)"},null,{"$f":"IFERROR(VLOOKUP(ROWS($AI$2:AI58),$AF$2:$AG$763,2,FALSE),\"\")","v":""},null,null,{"$f":"IF(ISNUMBER(SEARCH('2 Crop Water Requirement'!$B$30,'Data Validation Sheet'!AM58)),MAX($AL$1:AL57)+1,0)","v":0},{"$f":"'Crop Information'!B63","v":"Deciduous Orchard (no ground cover/no frosts - Mar - high latitudes)"},null,{"$f":"IFERROR(VLOOKUP(ROWS($AO$2:AO58),$AL$2:$AM$763,2,FALSE),\"\")","v":""}]
[null,null,null,null,null,null,null,null,null,null,null,null,null,{"$f":"IF(ISNUMBER(SEARCH('2 Crop Water Requirement'!$B$22,'Data Validation Sheet'!O59)),MAX($N$1:N58)+1,0)","v":0},{"$f":"'Crop Information'!B64","v":"Deciduous Orchard (active ground cover/killing frost - Mar - high latitudes)"},null,{"$f":"IFERROR(VLOOKUP(ROWS($Q$2:Q59),$N$2:$O$763,2,FALSE),\"\")","v":""},null,null,{"$f":"IF(ISNUMBER(SEARCH('2 Crop Water Requirement'!$B$24,'Data Validation Sheet'!U59)),MAX($T$1:T58)+1,0)","v":0},{"$f":"'Crop Information'!B64","v":"Deciduous Orchard (active ground cover/killing frost - Mar - high latitudes)"},null,{"$f":"IFERROR(VLOOKUP(ROWS($W$2:W59),$T$2:$U$763,2,FALSE),\"\")","v":""},null,null,{"$f":"IF(ISNUMBER(SEARCH('2 Crop Water Requirement'!$B$26,'Data Validation Sheet'!AA59)),MAX($Z$1:Z58)+1,0)","v":0},{"$f":"'Crop Information'!B64","v":"Deciduous Orchard (active ground cover/killing frost - Mar - high latitudes)"},null,{"$f":"IFERROR(VLOOKUP(ROWS($AC$2:AC59),$Z$2:$AA$763,2,FALSE),\"\")","v":""},null,null,{"$f":"IF(ISNUMBER(SEARCH('2 Crop Water Requirement'!B$28,'Data Validation Sheet'!AG59)),MAX($AF$1:AF58)+1,0)","v":0},{"$f":"'Crop Information'!B64","v":"Deciduous Orchard (active ground cover/killing frost - Mar - high latitudes)"},null,{"$f":"IFERROR(VLOOKUP(ROWS($AI$2:AI59),$AF$2:$AG$763,2,FALSE),\"\")","v":""},null,null,{"$f":"IF(ISNUMBER(SEARCH('2 Crop Water Requirement'!$B$30,'Data Validation Sheet'!AM59)),MAX($AL$1:AL58)+1,0)","v":0},{"$f":"'Crop Information'!B64","v":"Deciduous Orchard (active ground cover/killing frost - Mar - high latitudes)"},null,{"$f":"IFERROR(VLOOKUP(ROWS($AO$2:AO59),$AL$2:$AM$763,2,FALSE),\"\")","v":""}]
[null,null,null,null,null,null,null,null,null,null,null,null,null,{"$f":"IF(ISNUMBER(SEARCH('2 Crop Water Requirement'!$B$22,'Data Validation Sheet'!O60)),MAX($N$1:N59)+1,0)","v":0},{"$f":"'Crop Information'!B65","v":"Deciduous Orchard (active ground cover/no frosts - Mar - high latitudes)"},null,{"$f":"IFERROR(VLOOKUP(ROWS($Q$2:Q60),$N$2:$O$763,2,FALSE),\"\")","v":""},null,null,{"$f":"IF(ISNUMBER(SEARCH('2 Crop Water Requirement'!$B$24,'Data Validation Sheet'!U60)),MAX($T$1:T59)+1,0)","v":0},{"$f":"'Crop Information'!B65","v":"Deciduous Orchard (active ground cover/no frosts - Mar - high latitudes)"},null,{"$f":"IFERROR(VLOOKUP(ROWS($W$2:W60),$T$2:$U$763,2,FALSE),\"\")","v":""},null,null,{"$f":"IF(ISNUMBER(SEARCH('2 Crop Water Requirement'!$B$26,'Data Validation Sheet'!AA60)),MAX($Z$1:Z59)+1,0)","v":0},{"$f":"'Crop Information'!B65","v":"Deciduous Orchard (active ground cover/no frosts - Mar - high latitudes)"},null,{"$f":"IFERROR(VLOOKUP(ROWS($AC$2:AC60),$Z$2:$AA$763,2,FALSE),\"\")","v":""},null,null,{"$f":"IF(ISNUMBER(SEARCH('2 Crop Water Requirement'!B$28,'Data Validation Sheet'!AG60)),MAX($AF$1:AF59)+1,0)","v":0},{"$f":"'Crop Information'!B65","v":"Deciduous Orchard (active ground cover/no frosts - Mar - high latitudes)"},null,{"$f":"IFERROR(VLOOKUP(ROWS($AI$2:AI60),$AF$2:$AG$763,2,FALSE),\"\")","v":""},null,null,{"$f":"IF(ISNUMBER(SEARCH('2 Crop Water Requirement'!$B$30,'Data Validation Sheet'!AM60)),MAX($AL$1:AL59)+1,0)","v":0},{"$f":"'Crop Information'!B65","v":"Deciduous Orchard (active ground cover/no frosts - Mar - high latitudes)"},null,{"$f":"IFERROR(VLOOKUP(ROWS($AO$2:AO60),$AL$2:$AM$763,2,FALSE),\"\")","v":""}]
[null,null,null,null,null,null,null,null,null,null,null,null,null,{"$f":"IF(ISNUMBER(SEARCH('2 Crop Water Requirement'!$B$22,'Data Validation Sheet'!O61)),MAX($N$1:N60)+1,0)","v":0},{"$f":"'Crop Information'!B66","v":"Deciduous Orchard (no ground cover/killing frost - Mar - low latitudes)"},null,{"$f":"IFERROR(VLOOKUP(ROWS($Q$2:Q61),$N$2:$O$763,2,FALSE),\"\")","v":""},null,null,{"$f":"IF(ISNUMBER(SEARCH('2 Crop Water Requirement'!$B$24,'Data Validation Sheet'!U61)),MAX($T$1:T60)+1,0)","v":0},{"$f":"'Crop Information'!B66","v":"Deciduous Orchard (no ground cover/killing frost - Mar - low latitudes)"},null,{"$f":"IFERROR(VLOOKUP(ROWS($W$2:W61),$T$2:$U$763,2,FALSE),\"\")","v":""},null,null,{"$f":"IF(ISNUMBER(SEARCH('2 Crop Water Requirement'!$B$26,'Data Validation Sheet'!AA61)),MAX($Z$1:Z60)+1,0)","v":0},{"$f":"'Crop Information'!B66","v":"Deciduous Orchard (no ground cover/killing frost - Mar - low latitudes)"},null,{"$f":"IFERROR(VLOOKUP(ROWS($AC$2:AC61),$Z$2:$AA$763,2,FALSE),\"\")","v":""},null,null,{"$f":"IF(ISNUMBER(SEARCH('2 Crop Water Requirement'!B$28,'Data Validation Sheet'!AG61)),MAX($AF$1:AF60)+1,0)","v":0},{"$f":"'Crop Information'!B66","v":"Deciduous Orchard (no ground cover/killing frost - Mar - low latitudes)"},null,{"$f":"IFERROR(VLOOKUP(ROWS($AI$2:AI61),$AF$2:$AG$763,2,FALSE),\"\")","v":""},null,null,{"$f":"IF(ISNUMBER(SEARCH('2 Crop Water Requirement'!$B$30,'Data Validation Sheet'!AM61)),MAX($AL$1:AL60)+1,0)","v":0},{"$f":"'Crop Information'!B66","v":"Deciduous Orchard (no ground cover/killing frost - Mar - low latitudes)"},null,{"$f":"IFERROR(VLOOKUP(ROWS($AO$2:AO61),$AL$2:$AM$763,2,FALSE),\"\")","v":""}]
[null,null,null,null,null,null,null,null,null,null,null,null,null,{"$f":"IF(ISNUMBER(SEARCH('2 Crop Water Requirement'!$B$22,'Data Validation Sheet'!O62)),MAX($N$1:N61)+1,0)","v":0},{"$f":"'Crop Information'!B67","v":"Deciduous Orchard (no ground cover/no frosts - Mar - low latitudes)"},null,{"$f":"IFERROR(VLOOKUP(ROWS($Q$2:Q62),$N$2:$O$763,2,FALSE),\"\")","v":""},null,null,{"$f":"IF(ISNUMBER(SEARCH('2 Crop Water Requirement'!$B$24,'Data Validation Sheet'!U62)),MAX($T$1:T61)+1,0)","v":0},{"$f":"'Crop Information'!B67","v":"Deciduous Orchard (no ground cover/no frosts - Mar - low latitudes)"},null,{"$f":"IFERROR(VLOOKUP(ROWS($W$2:W62),$T$2:$U$763,2,FALSE),\"\")","v":""},null,null,{"$f":"IF(ISNUMBER(SEARCH('2 Crop Water Requirement'!$B$26,'Data Validation Sheet'!AA62)),MAX($Z$1:Z61)+1,0)","v":0},{"$f":"'Crop Information'!B67","v":"Deciduous Orchard (no ground cover/no frosts - Mar - low latitudes)"},null,{"$f":"IFERROR(VLOOKUP(ROWS($AC$2:AC62),$Z$2:$AA$763,2,FALSE),\"\")","v":""},null,null,{"$f":"IF(ISNUMBER(SEARCH('2 Crop Water Requirement'!B$28,'Data Validation Sheet'!AG62)),MAX($AF$1:AF61)+1,0)","v":0},{"$f":"'Crop Information'!B67","v":"Deciduous Orchard (no ground cover/no frosts - Mar - low latitudes)"},null,{"$f":"IFERROR(VLOOKUP(ROWS($AI$2:AI62),$AF$2:$AG$763,2,FALSE),\"\")","v":""},null,null,{"$f":"IF(ISNUMBER(SEARCH('2 Crop Water Requirement'!$B$30,'Data Validation Sheet'!AM62)),MAX($AL$1:AL61)+1,0)","v":0},{"$f":"'Crop Information'!B67","v":"Deciduous Orchard (no ground cover/no frosts - Mar - low latitudes)"},null,{"$f":"IFERROR(VLOOKUP(ROWS($AO$2:AO62),$AL$2:$AM$763,2,FALSE),\"\")","v":""}]
[null,null,null,null,null,null,null,null,null,null,null,null,null,{"$f":"IF(ISNUMBER(SEARCH('2 Crop Water Requirement'!$B$22,'Data Validation Sheet'!O63)),MAX($N$1:N62)+1,0)","v":0},{"$f":"'Crop Information'!B68","v":"Deciduous Orchard (active ground cover/killing frost - Mar - low latitudes)"},null,{"$f":"IFERROR(VLOOKUP(ROWS($Q$2:Q63),$N$2:$O$763,2,FALSE),\"\")","v":""},null,null,{"$f":"IF(ISNUMBER(SEARCH('2 Crop Water Requirement'!$B$24,'Data Validation Sheet'!U63)),MAX($T$1:T62)+1,0)","v":0},{"$f":"'Crop Information'!B68","v":"Deciduous Orchard (active ground cover/killing frost - Mar - low latitudes)"},null,{"$f":"IFERROR(VLOOKUP(ROWS($W$2:W63),$T$2:$U$763,2,FALSE),\"\")","v":""},null,null,{"$f":"IF(ISNUMBER(SEARCH('2 Crop Water Requirement'!$B$26,'Data Validation Sheet'!AA63)),MAX($Z$1:Z62)+1,0)","v":0},{"$f":"'Crop Information'!B68","v":"Deciduous Orchard (active ground cover/killing frost - Mar - low latitudes)"},null,{"$f":"IFERROR(VLOOKUP(ROWS($AC$2:AC63),$Z$2:$AA$763,2,FALSE),\"\")","v":""},null,null,{"$f":"IF(ISNUMBER(SEARCH('2 Crop Water Requirement'!B$28,'Data Validation Sheet'!AG63)),MAX($AF$1:AF62)+1,0)","v":0},{"$f":"'Crop Information'!B68","v":"Deciduous Orchard (active ground cover/killing frost - Mar - low latitudes)"},null,{"$f":"IFERROR(VLOOKUP(ROWS($AI$2:AI63),$AF$2:$AG$763,2,FALSE),\"\")","v":""},null,null,{"$f":"IF(ISNUMBER(SEARCH('2 Crop Water Requirement'!$B$30,'Data Validation Sheet'!AM63)),MAX($AL$1:AL62)+1,0)","v":0},{"$f":"'Crop Information'!B68","v":"Deciduous Orchard (active ground cover/killing frost - Mar - low latitudes)"},null,{"$f":"IFERROR(VLOOKUP(ROWS($AO$2:AO63),$AL$2:$AM$763,2,FALSE),\"\")","v":""}]
[null,null,null,null,null,null,null,null,null,null,null,null,null,{"$f":"IF(ISNUMBER(SEARCH('2 Crop Water Requirement'!$B$22,'Data Validation Sheet'!O64)),MAX($N$1:N63)+1,0)","v":0},{"$f":"'Crop Information'!B69","v":"Deciduous Orchard (active ground cover/no frosts - Mar - low latitudes)"},null,{"$f":"IFERROR(VLOOKUP(ROWS($Q$2:Q64),$N$2:$O$763,2,FALSE),\"\")","v":""},null,null,{"$f":"IF(ISNUMBER(SEARCH('2 Crop Water Requirement'!$B$24,'Data Validation Sheet'!U64)),MAX($T$1:T63)+1,0)","v":0},{"$f":"'Crop Information'!B69","v":"Deciduous Orchard (active ground cover/no frosts - Mar - low latitudes)"},null,{"$f":"IFERROR(VLOOKUP(ROWS($W$2:W64),$T$2:$U$763,2,FALSE),\"\")","v":""},null,null,{"$f":"IF(ISNUMBER(SEARCH('2 Crop Water Requirement'!$B$26,'Data Validation Sheet'!AA64)),MAX($Z$1:Z63)+1,0)","v":0},{"$f":"'Crop Information'!B69","v":"Deciduous Orchard (active ground cover/no frosts - Mar - low latitudes)"},null,{"$f":"IFERROR(VLOOKUP(ROWS($AC$2:AC64),$Z$2:$AA$763,2,FALSE),\"\")","v":""},null,null,{"$f":"IF(ISNUMBER(SEARCH('2 Crop Water Requirement'!B$28,'Data Validation Sheet'!AG64)),MAX($AF$1:AF63)+1,0)","v":0},{"$f":"'Crop Information'!B69","v":"Deciduous Orchard (active ground cover/no frosts - Mar - low latitudes)"},null,{"$f":"IFERROR(VLOOKUP(ROWS($AI$2:AI64),$AF$2:$AG$763,2,FALSE),\"\")","v":""},null,null,{"$f":"IF(ISNUMBER(SEARCH('2 Crop Water Requirement'!$B$30,'Data Validation Sheet'!AM64)),MAX($AL$1:AL63)+1,0)","v":0},{"$f":"'Crop Information'!B69","v":"Deciduous Orchard (active ground cover/no frosts - Mar - low latitudes)"},null,{"$f":"IFERROR(VLOOKUP(ROWS($AO$2:AO64),$AL$2:$AM$763,2,FALSE),\"\")","v":""}]
[null,null,null,null,null,null,null,null,null,null,null,null,null,{"$f":"IF(ISNUMBER(SEARCH('2 Crop Water Requirement'!$B$22,'Data Validation Sheet'!O65)),MAX($N$1:N64)+1,0)","v":0},{"$f":"'Crop Information'!B70","v":"Deciduous Orchard (no ground cover/killing frost - Mar - California)"},null,{"$f":"IFERROR(VLOOKUP(ROWS($Q$2:Q65),$N$2:$O$763,2,FALSE),\"\")","v":""},null,null,{"$f":"IF(ISNUMBER(SEARCH('2 Crop Water Requirement'!$B$24,'Data Validation Sheet'!U65)),MAX($T$1:T64)+1,0)","v":0},{"$f":"'Crop Information'!B70","v":"Deciduous Orchard (no ground cover/killing frost - Mar - California)"},null,{"$f":"IFERROR(VLOOKUP(ROWS($W$2:W65),$T$2:$U$763,2,FALSE),\"\")","v":""},null,null,{"$f":"IF(ISNUMBER(SEARCH('2 Crop Water Requirement'!$B$26,'Data Validation Sheet'!AA65)),MAX($Z$1:Z64)+1,0)","v":0},{"$f":"'Crop Information'!B70","v":"Deciduous Orchard (no ground cover/killing frost - Mar - California)"},null,{"$f":"IFERROR(VLOOKUP(ROWS($AC$2:AC65),$Z$2:$AA$763,2,FALSE),\"\")","v":""},null,null,{"$f":"IF(ISNUMBER(SEARCH('2 Crop Water Requirement'!B$28,'Data Validation Sheet'!AG65)),MAX($AF$1:AF64)+1,0)","v":0},{"$f":"'Crop Information'!B70","v":"Deciduous Orchard (no ground cover/killing frost - Mar - California)"},null,{"$f":"IFERROR(VLOOKUP(ROWS($AI$2:AI65),$AF$2:$AG$763,2,FALSE),\"\")","v":""},null,null,{"$f":"IF(ISNUMBER(SEARCH('2 Crop Water Requirement'!$B$30,'Data Validation Sheet'!AM65)),MAX($AL$1:AL64)+1,0)","v":0},{"$f":"'Crop Information'!B70","v":"Deciduous Orchard (no ground cover/killing frost - Mar - California)"},null,{"$f":"IFERROR(VLOOKUP(ROWS($AO$2:AO65),$AL$2:$AM$763,2,FALSE),\"\")","v":""}]
[null,null,null,null,null,null,null,null,null,null,null,null,null,{"$f":"IF(ISNUMBER(SEARCH('2 Crop Water Requirement'!$B$22,'Data Validation Sheet'!O66)),MAX($N$1:N65)+1,0)","v":0},{"$f":"'Crop Information'!B71","v":"Deciduous Orchard (no ground cover/no frosts - Mar - California)"},null,{"$f":"IFERROR(VLOOKUP(ROWS($Q$2:Q66),$N$2:$O$763,2,FALSE),\"\")","v":""},null,null,{"$f":"IF(ISNUMBER(SEARCH('2 Crop Water Requirement'!$B$24,'Data Validation Sheet'!U66)),MAX($T$1:T65)+1,0)","v":0},{"$f":"'Crop Information'!B71","v":"Deciduous Orchard (no ground cover/no frosts - Mar - California)"},null,{"$f":"IFERROR(VLOOKUP(ROWS($W$2:W66),$T$2:$U$763,2,FALSE),\"\")","v":""},null,null,{"$f":"IF(ISNUMBER(SEARCH('2 Crop Water Requirement'!$B$26,'Data Validation Sheet'!AA66)),MAX($Z$1:Z65)+1,0)","v":0},{"$f":"'Crop Information'!B71","v":"Deciduous Orchard (no ground cover/no frosts - Mar - California)"},null,{"$f":"IFERROR(VLOOKUP(ROWS($AC$2:AC66),$Z$2:$AA$763,2,FALSE),\"\")","v":""},null,null,{"$f":"IF(ISNUMBER(SEARCH('2 Crop Water Requirement'!B$28,'Data Validation Sheet'!AG66)),MAX($AF$1:AF65)+1,0)","v":0},{"$f":"'Crop Information'!B71","v":"Deciduous Orchard (no ground cover/no frosts - Mar - California)"},null,{"$f":"IFERROR(VLOOKUP(ROWS($AI$2:AI66),$AF$2:$AG$763,2,FALSE),\"\")","v":""},null,null,{"$f":"IF(ISNUMBER(SEARCH('2 Crop Water Requirement'!$B$30,'Data Validation Sheet'!AM66)),MAX($AL$1:AL65)+1,0)","v":0},{"$f":"'Crop Information'!B71","v":"Deciduous Orchard (no ground cover/no frosts - Mar - California)"},null,{"$f":"IFERROR(VLOOKUP(ROWS($AO$2:AO66),$AL$2:$AM$763,2,FALSE),\"\")","v":""}]
[null,null,null,null,null,null,null,null,null,null,null,null,null,{"$f":"IF(ISNUMBER(SEARCH('2 Crop Water Requirement'!$B$22,'Data Validation Sheet'!O67)),MAX($N$1:N66)+1,0)","v":0},{"$f":"'Crop Information'!B72","v":"Deciduous Orchard (active ground cover/killing frost - California)"},null,{"$f":"IFERROR(VLOOKUP(ROWS($Q$2:Q67),$N$2:$O$763,2,FALSE),\"\")","v":""},null,null,{"$f":"IF(ISNUMBER(SEARCH('2 Crop Water Requirement'!$B$24,'Data Validation Sheet'!U67)),MAX($T$1:T66)+1,0)","v":0},{"$f":"'Crop Information'!B72","v":"Deciduous Orchard (active ground cover/killing frost - California)"},null,{"$f":"IFERROR(VLOOKUP(ROWS($W$2:W67),$T$2:$U$763,2,FALSE),\"\")","v":""},null,null,{"$f":"IF(ISNUMBER(SEARCH('2 Crop Water Requirement'!$B$26,'Data Validation Sheet'!AA67)),MAX($Z$1:Z66)+1,0)","v":0},{"$f":"'Crop Information'!B72","v":"Deciduous Orchard (active ground cover/killing frost - California)"},null,{"$f":"IFERROR(VLOOKUP(ROWS($AC$2:AC67),$Z$2:$AA$763,2,FALSE),\"\")","v":""},null,null,{"$f":"IF(ISNUMBER(SEARCH('2 Crop Water Requirement'!B$28,'Data Validation Sheet'!AG67)),MAX($AF$1:AF66)+1,0)","v":0},{"$f":"'Crop Information'!B72","v":"Deciduous Orchard (active ground cover/killing frost - California)"},null,{"$f":"IFERROR(VLOOKUP(ROWS($AI$2:AI67),$AF$2:$AG$763,2,FALSE),\"\")","v":""},null,null,{"$f":"IF(ISNUMBER(SEARCH('2 Crop Water Requirement'!$B$30,'Data Validation Sheet'!AM67)),MAX($AL$1:AL66)+1,0)","v":0},{"$f":"'Crop Information'!B72","v":"Deciduous Orchard (active ground cover/killing frost - California)"},null,{"$f":"IFERROR(VLOOKUP(ROWS($AO$2:AO67),$AL$2:$AM$763,2,FALSE),\"\")","v":""}]
[null,null,null,null,null,null,null,null,null,null,null,null,null,{"$f":"IF(ISNUMBER(SEARCH('2 Crop Water Requirement'!$B$22,'Data Validation Sheet'!O68)),MAX($N$1:N67)+1,0)","v":0},{"$f":"'Crop Information'!B73","v":"Deciduous Orchard (active ground cover/no frosts - Mar - California)"},null,{"$f":"IFERROR(VLOOKUP(ROWS($Q$2:Q68),$N$2:$O$763,2,FALSE),\"\")","v":""},null,null,{"$f":"IF(ISNUMBER(SEARCH('2 Crop Water Requirement'!$B$24,'Data Validation Sheet'!U68)),MAX($T$1:T67)+1,0)","v":0},{"$f":"'Crop Information'!B73","v":"Deciduous Orchard (active ground cover/no frosts - Mar - California)"},null,{"$f":"IFERROR(VLOOKUP(ROWS($W$2:W68),$T$2:$U$763,2,FALSE),\"\")","v":""},null,null,{"$f":"IF(ISNUMBER(SEARCH('2 Crop Water Requirement'!$B$26,'Data Validation Sheet'!AA68)),MAX($Z$1:Z67)+1,0)","v":0},{"$f":"'Crop Information'!B73","v":"Deciduous Orchard (active ground cover/no frosts - Mar - California)"},null,{"$f":"IFERROR(VLOOKUP(ROWS($AC$2:AC68),$Z$2:$AA$763,2,FALSE),\"\")","v":""},null,null,{"$f":"IF(ISNUMBER(SEARCH('2 Crop Water Requirement'!B$28,'Data Validation Sheet'!AG68)),MAX($AF$1:AF67)+1,0)","v":0},{"$f":"'Crop Information'!B73","v":"Deciduous Orchard (active ground cover/no frosts - Mar - California)"},null,{"$f":"IFERROR(VLOOKUP(ROWS($AI$2:AI68),$AF$2:$AG$763,2,FALSE),\"\")","v":""},null,null,{"$f":"IF(ISNUMBER(SEARCH('2 Crop Water Requirement'!$B$30,'Data Validation Sheet'!AM68)),MAX($AL$1:AL67)+1,0)","v":0},{"$f":"'Crop Information'!B73","v":"Deciduous Orchard (active ground cover/no frosts - Mar - California)"},null,{"$f":"IFERROR(VLOOKUP(ROWS($AO$2:AO68),$AL$2:$AM$763,2,FALSE),\"\")","v":""}]
[null,null,null,null,null,null,null,null,null,null,null,null,null,{"$f":"IF(ISNUMBER(SEARCH('2 Crop Water Requirement'!$B$22,'Data Validation Sheet'!O69)),MAX($N$1:N68)+1,0)","v":0},{"$f":"'Crop Information'!B74","v":"Eggplant (Oct - arid region)"},null,{"$f":"IFERROR(VLOOKUP(ROWS($Q$2:Q69),$N$2:$O$763,2,FALSE),\"\")","v":""},null,null,{"$f":"IF(ISNUMBER(SEARCH('2 Crop Water Requirement'!$B$24,'Data Validation Sheet'!U69)),MAX($T$1:T68)+1,0)","v":0},{"$f":"'Crop Information'!B74","v":"Eggplant (Oct - arid region)"},null,{"$f":"IFERROR(VLOOKUP(ROWS($W$2:W69),$T$2:$U$763,2,FALSE),\"\")","v":""},null,null,{"$f":"IF(ISNUMBER(SEARCH('2 Crop Water Requirement'!$B$26,'Data Validation Sheet'!AA69)),MAX($Z$1:Z68)+1,0)","v":0},{"$f":"'Crop Information'!B74","v":"Eggplant (Oct - arid region)"},null,{"$f":"IFERROR(VLOOKUP(ROWS($AC$2:AC69),$Z$2:$AA$763,2,FALSE),\"\")","v":""},null,null,{"$f":"IF(ISNUMBER(SEARCH('2 Crop Water Requirement'!B$28,'Data Validation Sheet'!AG69)),MAX($AF$1:AF68)+1,0)","v":0},{"$f":"'Crop Information'!B74","v":"Eggplant (Oct - arid region)"},null,{"$f":"IFERROR(VLOOKUP(ROWS($AI$2:AI69),$AF$2:$AG$763,2,FALSE),\"\")","v":""},null,null,{"$f":"IF(ISNUMBER(SEARCH('2 Crop Water Requirement'!$B$30,'Data Validation Sheet'!AM69)),MAX($AL$1:AL68)+1,0)","v":0},{"$f":"'Crop Information'!B74","v":"Eggplant (Oct - arid region)"},null,{"$f":"IFERROR(VLOOKUP(ROWS($AO$2:AO69),$AL$2:$AM$763,2,FALSE),\"\")","v":""}]
[null,null,null,null,null,null,null,null,null,null,null,null,null,{"$f":"IF(ISNUMBER(SEARCH('2 Crop Water Requirement'!$B$22,'Data Validation Sheet'!O70)),MAX($N$1:N69)+1,0)","v":0},{"$f":"'Crop Information'!B75","v":"Eggplant (May/Jun - Mediterranean)"},null,{"$f":"IFERROR(VLOOKUP(ROWS($Q$2:Q70),$N$2:$O$763,2,FALSE),\"\")","v":""},null,null,{"$f":"IF(ISNUMBER(SEARCH('2 Crop Water Requirement'!$B$24,'Data Validation Sheet'!U70)),MAX($T$1:T69)+1,0)","v":0},{"$f":"'Crop Information'!B75","v":"Eggplant (May/Jun - Mediterranean)"},null,{"$f":"IFERROR(VLOOKUP(ROWS($W$2:W70),$T$2:$U$763,2,FALSE),\"\")","v":""},null,null,{"$f":"IF(ISNUMBER(SEARCH('2 Crop Water Requirement'!$B$26,'Data Validation Sheet'!AA70)),MAX($Z$1:Z69)+1,0)","v":0},{"$f":"'Crop Information'!B75","v":"Eggplant (May/Jun - Mediterranean)"},null,{"$f":"IFERROR(VLOOKUP(ROWS($AC$2:AC70),$Z$2:$AA$763,2,FALSE),\"\")","v":""},null,null,{"$f":"IF(ISNUMBER(SEARCH('2 Crop Water Requirement'!B$28,'Data Validation Sheet'!AG70)),MAX($AF$1:AF69)+1,0)","v":0},{"$f":"'Crop Information'!B75","v":"Eggplant (May/Jun - Mediterranean)"},null,{"$f":"IFERROR(VLOOKUP(ROWS($AI$2:AI70),$AF$2:$AG$763,2,FALSE),\"\")","v":""},null,null,{"$f":"IF(ISNUMBER(SEARCH('2 Crop Water Requirement'!$B$30,'Data Validation Sheet'!AM70)),MAX($AL$1:AL69)+1,0)","v":0},{"$f":"'Crop Information'!B75","v":"Eggplant (May/Jun - Mediterranean)"},null,{"$f":"IFERROR(VLOOKUP(ROWS($AO$2:AO70),$AL$2:$AM$763,2,FALSE),\"\")","v":""}]
[null,null,null,null,null,null,null,null,null,null,null,null,null,{"$f":"IF(ISNUMBER(SEARCH('2 Crop Water Requirement'!$B$22,'Data Validation Sheet'!O71)),MAX($N$1:N70)+1,0)","v":0},{"$f":"'Crop Information'!B76","v":"Faba bean, broad bean (May - Europe)"},null,{"$f":"IFERROR(VLOOKUP(ROWS($Q$2:Q71),$N$2:$O$763,2,FALSE),\"\")","v":""},null,null,{"$f":"IF(ISNUMBER(SEARCH('2 Crop Water Requirement'!$B$24,'Data Validation Sheet'!U71)),MAX($T$1:T70)+1,0)","v":0},{"$f":"'Crop Information'!B76","v":"Faba bean, broad bean (May - Europe)"},null,{"$f":"IFERROR(VLOOKUP(ROWS($W$2:W71),$T$2:$U$763,2,FALSE),\"\")","v":""},null,null,{"$f":"IF(ISNUMBER(SEARCH('2 Crop Water Requirement'!$B$26,'Data Validation Sheet'!AA71)),MAX($Z$1:Z70)+1,0)","v":0},{"$f":"'Crop Information'!B76","v":"Faba bean, broad bean (May - Europe)"},null,{"$f":"IFERROR(VLOOKUP(ROWS($AC$2:AC71),$Z$2:$AA$763,2,FALSE),\"\")","v":""},null,null,{"$f":"IF(ISNUMBER(SEARCH('2 Crop Water Requirement'!B$28,'Data Validation Sheet'!AG71)),MAX($AF$1:AF70)+1,0)","v":0},{"$f":"'Crop Information'!B76","v":"Faba bean, broad bean (May - Europe)"},null,{"$f":"IFERROR(VLOOKUP(ROWS($AI$2:AI71),$AF$2:$AG$763,2,FALSE),\"\")","v":""},null,null,{"$f":"IF(ISNUMBER(SEARCH('2 Crop Water Requirement'!$B$30,'Data Validation Sheet'!AM71)),MAX($AL$1:AL70)+1,0)","v":0},{"$f":"'Crop Information'!B76","v":"Faba bean, broad bean (May - Europe)"},null,{"$f":"IFERROR(VLOOKUP(ROWS($AO$2:AO71),$AL$2:$AM$763,2,FALSE),\"\")","v":""}]
[null,null,null,null,null,null,null,null,null,null,null,null,null,{"$f":"IF(ISNUMBER(SEARCH('2 Crop Water Requirement'!$B$22,'Data Validation Sheet'!O72)),MAX($N$1:N71)+1,0)","v":0},{"$f":"'Crop Information'!B77","v":"Faba bean, broad bean (Mar/Apr - Mediterranean)"},null,{"$f":"IFERROR(VLOOKUP(ROWS($Q$2:Q72),$N$2:$O$763,2,FALSE),\"\")","v":""},null,null,{"$f":"IF(ISNUMBER(SEARCH('2 Crop Water Requirement'!$B$24,'Data Validation Sheet'!U72)),MAX($T$1:T71)+1,0)","v":0},{"$f":"'Crop Information'!B77","v":"Faba bean, broad bean (Mar/Apr - Mediterranean)"},null,{"$f":"IFERROR(VLOOKUP(ROWS($W$2:W72),$T$2:$U$763,2,FALSE),\"\")","v":""},null,null,{"$f":"IF(ISNUMBER(SEARCH('2 Crop Water Requirement'!$B$26,'Data Validation Sheet'!AA72)),MAX($Z$1:Z71)+1,0)","v":0},{"$f":"'Crop Information'!B77","v":"Faba bean, broad bean (Mar/Apr - Mediterranean)"},null,{"$f":"IFERROR(VLOOKUP(ROWS($AC$2:AC72),$Z$2:$AA$763,2,FALSE),\"\")","v":""},null,null,{"$f":"IF(ISNUMBER(SEARCH('2 Crop Water Requirement'!B$28,'Data Validation Sheet'!AG72)),MAX($AF$1:AF71)+1,0)","v":0},{"$f":"'Crop Information'!B77","v":"Faba bean, broad bean (Mar/Apr - Mediterranean)"},null,{"$f":"IFERROR(VLOOKUP(ROWS($AI$2:AI72),$AF$2:$AG$763,2,FALSE),\"\")","v":""},null,null,{"$f":"IF(ISNUMBER(SEARCH('2 Crop Water Requirement'!$B$30,'Data Validation Sheet'!AM72)),MAX($AL$1:AL71)+1,0)","v":0},{"$f":"'Crop Information'!B77","v":"Faba bean, broad bean (Mar/Apr - Mediterranean)"},null,{"$f":"IFERROR(VLOOKUP(ROWS($AO$2:AO72),$AL$2:$AM$763,2,FALSE),\"\")","v":""}]
[null,null,null,null,null,null,null,null,null,null,null,null,null,{"$f":"IF(ISNUMBER(SEARCH('2 Crop Water Requirement'!$B$22,'Data Validation Sheet'!O73)),MAX($N$1:N72)+1,0)","v":0},{"$f":"'Crop Information'!B78","v":"Faba bean, broad bean (dry - Nov - Europe)"},null,{"$f":"IFERROR(VLOOKUP(ROWS($Q$2:Q73),$N$2:$O$763,2,FALSE),\"\")","v":""},null,null,{"$f":"IF(ISNUMBER(SEARCH('2 Crop Water Requirement'!$B$24,'Data Validation Sheet'!U73)),MAX($T$1:T72)+1,0)","v":0},{"$f":"'Crop Information'!B78","v":"Faba bean, broad bean (dry - Nov - Europe)"},null,{"$f":"IFERROR(VLOOKUP(ROWS($W$2:W73),$T$2:$U$763,2,FALSE),\"\")","v":""},null,null,{"$f":"IF(ISNUMBER(SEARCH('2 Crop Water Requirement'!$B$26,'Data Validation Sheet'!AA73)),MAX($Z$1:Z72)+1,0)","v":0},{"$f":"'Crop Information'!B78","v":"Faba bean, broad bean (dry - Nov - Europe)"},null,{"$f":"IFERROR(VLOOKUP(ROWS($AC$2:AC73),$Z$2:$AA$763,2,FALSE),\"\")","v":""},null,null,{"$f":"IF(ISNUMBER(SEARCH('2 Crop Water Requirement'!B$28,'Data Validation Sheet'!AG73)),MAX($AF$1:AF72)+1,0)","v":0},{"$f":"'Crop Information'!B78","v":"Faba bean, broad bean (dry - Nov - Europe)"},null,{"$f":"IFERROR(VLOOKUP(ROWS($AI$2:AI73),$AF$2:$AG$763,2,FALSE),\"\")","v":""},null,null,{"$f":"IF(ISNUMBER(SEARCH('2 Crop Water Requirement'!$B$30,'Data Validation Sheet'!AM73)),MAX($AL$1:AL72)+1,0)","v":0},{"$f":"'Crop Information'!B78","v":"Faba bean, broad bean (dry - Nov - Europe)"},null,{"$f":"IFERROR(VLOOKUP(ROWS($AO$2:AO73),$AL$2:$AM$763,2,FALSE),\"\")","v":""}]
[null,null,null,null,null,null,null,null,null,null,null,null,null,{"$f":"IF(ISNUMBER(SEARCH('2 Crop Water Requirement'!$B$22,'Data Validation Sheet'!O74)),MAX($N$1:N73)+1,0)","v":0},{"$f":"'Crop Information'!B79","v":"Faba bean, broad bean (green - Nov - Europe)"},null,{"$f":"IFERROR(VLOOKUP(ROWS($Q$2:Q74),$N$2:$O$763,2,FALSE),\"\")","v":""},null,null,{"$f":"IF(ISNUMBER(SEARCH('2 Crop Water Requirement'!$B$24,'Data Validation Sheet'!U74)),MAX($T$1:T73)+1,0)","v":0},{"$f":"'Crop Information'!B79","v":"Faba bean, broad bean (green - Nov - Europe)"},null,{"$f":"IFERROR(VLOOKUP(ROWS($W$2:W74),$T$2:$U$763,2,FALSE),\"\")","v":""},null,null,{"$f":"IF(ISNUMBER(SEARCH('2 Crop Water Requirement'!$B$26,'Data Validation Sheet'!AA74)),MAX($Z$1:Z73)+1,0)","v":0},{"$f":"'Crop Information'!B79","v":"Faba bean, broad bean (green - Nov - Europe)"},null,{"$f":"IFERROR(VLOOKUP(ROWS($AC$2:AC74),$Z$2:$AA$763,2,FALSE),\"\")","v":""},null,null,{"$f":"IF(ISNUMBER(SEARCH('2 Crop Water Requirement'!B$28,'Data Validation Sheet'!AG74)),MAX($AF$1:AF73)+1,0)","v":0},{"$f":"'Crop Information'!B79","v":"Faba bean, broad bean (green - Nov - Europe)"},null,{"$f":"IFERROR(VLOOKUP(ROWS($AI$2:AI74),$AF$2:$AG$763,2,FALSE),\"\")","v":""},null,null,{"$f":"IF(ISNUMBER(SEARCH('2 Crop Water Requirement'!$B$30,'Data Validation Sheet'!AM74)),MAX($AL$1:AL73)+1,0)","v":0},{"$f":"'Crop Information'!B79","v":"Faba bean, broad bean (green - Nov - Europe)"},null,{"$f":"IFERROR(VLOOKUP(ROWS($AO$2:AO74),$AL$2:$AM$763,2,FALSE),\"\")","v":""}]
[null,null,null,null,null,null,null,null,null,null,null,null,null,{"$f":"IF(ISNUMBER(SEARCH('2 Crop Water Requirement'!$B$22,'Data Validation Sheet'!O75)),MAX($N$1:N74)+1,0)","v":0},{"$f":"'Crop Information'!B80","v":"Flax (Apr - Europe)"},null,{"$f":"IFERROR(VLOOKUP(ROWS($Q$2:Q75),$N$2:$O$763,2,FALSE),\"\")","v":""},null,null,{"$f":"IF(ISNUMBER(SEARCH('2 Crop Water Requirement'!$B$24,'Data Validation Sheet'!U75)),MAX($T$1:T74)+1,0)","v":0},{"$f":"'Crop Information'!B80","v":"Flax (Apr - Europe)"},null,{"$f":"IFERROR(VLOOKUP(ROWS($W$2:W75),$T$2:$U$763,2,FALSE),\"\")","v":""},null,null,{"$f":"IF(ISNUMBER(SEARCH('2 Crop Water Requirement'!$B$26,'Data Validation Sheet'!AA75)),MAX($Z$1:Z74)+1,0)","v":0},{"$f":"'Crop Information'!B80","v":"Flax (Apr - Europe)"},null,{"$f":"IFERROR(VLOOKUP(ROWS($AC$2:AC75),$Z$2:$AA$763,2,FALSE),\"\")","v":""},null,null,{"$f":"IF(ISNUMBER(SEARCH('2 Crop Water Requirement'!B$28,'Data Validation Sheet'!AG75)),MAX($AF$1:AF74)+1,0)","v":0},{"$f":"'Crop Information'!B80","v":"Flax (Apr - Europe)"},null,{"$f":"IFERROR(VLOOKUP(ROWS($AI$2:AI75),$AF$2:$AG$763,2,FALSE),\"\")","v":""},null,null,{"$f":"IF(ISNUMBER(SEARCH('2 Crop Water Requirement'!$B$30,'Data Validation Sheet'!AM75)),MAX($AL$1:AL74)+1,0)","v":0},{"$f":"'Crop Information'!B80","v":"Flax (Apr - Europe)"},null,{"$f":"IFERROR(VLOOKUP(ROWS($AO$2:AO75),$AL$2:$AM$763,2,FALSE),\"\")","v":""}]
[null,null,null,null,null,null,null,null,null,null,null,null,null,{"$f":"IF(ISNUMBER(SEARCH('2 Crop Water Requirement'!$B$22,'Data Validation Sheet'!O76)),MAX($N$1:N75)+1,0)","v":0},{"$f":"'Crop Information'!B81","v":"Flax (Oct - Arizona)"},null,{"$f":"IFERROR(VLOOKUP(ROWS($Q$2:Q76),$N$2:$O$763,2,FALSE),\"\")","v":""},null,null,{"$f":"IF(ISNUMBER(SEARCH('2 Crop Water Requirement'!$B$24,'Data Validation Sheet'!U76)),MAX($T$1:T75)+1,0)","v":0},{"$f":"'Crop Information'!B81","v":"Flax (Oct - Arizona)"},null,{"$f":"IFERROR(VLOOKUP(ROWS($W$2:W76),$T$2:$U$763,2,FALSE),\"\")","v":""},null,null,{"$f":"IF(ISNUMBER(SEARCH('2 Crop Water Requirement'!$B$26,'Data Validation Sheet'!AA76)),MAX($Z$1:Z75)+1,0)","v":0},{"$f":"'Crop Information'!B81","v":"Flax (Oct - Arizona)"},null,{"$f":"IFERROR(VLOOKUP(ROWS($AC$2:AC76),$Z$2:$AA$763,2,FALSE),\"\")","v":""},null,null,{"$f":"IF(ISNUMBER(SEARCH('2 Crop Water Requirement'!B$28,'Data Validation Sheet'!AG76)),MAX($AF$1:AF75)+1,0)","v":0},{"$f":"'Crop Information'!B81","v":"Flax (Oct - Arizona)"},null,{"$f":"IFERROR(VLOOKUP(ROWS($AI$2:AI76),$AF$2:$AG$763,2,FALSE),\"\")","v":""},null,null,{"$f":"IF(ISNUMBER(SEARCH('2 Crop Water Requirement'!$B$30,'Data Validation Sheet'!AM76)),MAX($AL$1:AL75)+1,0)","v":0},{"$f":"'Crop Information'!B81","v":"Flax (Oct - Arizona)"},null,{"$f":"IFERROR(VLOOKUP(ROWS($AO$2:AO76),$AL$2:$AM$763,2,FALSE),\"\")","v":""}]
[null,null,null,null,null,null,null,null,null,null,null,null,null,{"$f":"IF(ISNUMBER(SEARCH('2 Crop Water Requirement'!$B$22,'Data Validation Sheet'!O77)),MAX($N$1:N76)+1,0)","v":0},{"$f":"'Crop Information'!B82","v":"Grapes (Apr - low latitudes)"},null,{"$f":"IFERROR(VLOOKUP(ROWS($Q$2:Q77),$N$2:$O$763,2,FALSE),\"\")","v":""},null,null,{"$f":"IF(ISNUMBER(SEARCH('2 Crop Water Requirement'!$B$24,'Data Validation Sheet'!U77)),MAX($T$1:T76)+1,0)","v":0},{"$f":"'Crop Information'!B82","v":"Grapes (Apr - low latitudes)"},null,{"$f":"IFERROR(VLOOKUP(ROWS($W$2:W77),$T$2:$U$763,2,FALSE),\"\")","v":""},null,null,{"$f":"IF(ISNUMBER(SEARCH('2 Crop Water Requirement'!$B$26,'Data Validation Sheet'!AA77)),MAX($Z$1:Z76)+1,0)","v":0},{"$f":"'Crop Information'!B82","v":"Grapes (Apr - low latitudes)"},null,{"$f":"IFERROR(VLOOKUP(ROWS($AC$2:AC77),$Z$2:$AA$763,2,FALSE),\"\")","v":""},null,null,{"$f":"IF(ISNUMBER(SEARCH('2 Crop Water Requirement'!B$28,'Data Validation Sheet'!AG77)),MAX($AF$1:AF76)+1,0)","v":0},{"$f":"'Crop Information'!B82","v":"Grapes (Apr - low latitudes)"},null,{"$f":"IFERROR(VLOOKUP(ROWS($AI$2:AI77),$AF$2:$AG$763,2,FALSE),\"\")","v":""},null,null,{"$f":"IF(ISNUMBER(SEARCH('2 Crop Water Requirement'!$B$30,'Data Validation Sheet'!AM77)),MAX($AL$1:AL76)+1,0)","v":0},{"$f":"'Crop Information'!B82","v":"Grapes (Apr - low latitudes)"},null,{"$f":"IFERROR(VLOOKUP(ROWS($AO$2:AO77),$AL$2:$AM$763,2,FALSE),\"\")","v":""}]
[null,null,null,null,null,null,null,null,null,null,null,null,null,{"$f":"IF(ISNUMBER(SEARCH('2 Crop Water Requirement'!$B$22,'Data Validation Sheet'!O78)),MAX($N$1:N77)+1,0)","v":0},{"$f":"'Crop Information'!B83","v":"Grapes (Mar - California)"},null,{"$f":"IFERROR(VLOOKUP(ROWS($Q$2:Q78),$N$2:$O$763,2,FALSE),\"\")","v":""},null,null,{"$f":"IF(ISNUMBER(SEARCH('2 Crop Water Requirement'!$B$24,'Data Validation Sheet'!U78)),MAX($T$1:T77)+1,0)","v":0},{"$f":"'Crop Information'!B83","v":"Grapes (Mar - California)"},null,{"$f":"IFERROR(VLOOKUP(ROWS($W$2:W78),$T$2:$U$763,2,FALSE),\"\")","v":""},null,null,{"$f":"IF(ISNUMBER(SEARCH('2 Crop Water Requirement'!$B$26,'Data Validation Sheet'!AA78)),MAX($Z$1:Z77)+1,0)","v":0},{"$f":"'Crop Information'!B83","v":"Grapes (Mar - California)"},null,{"$f":"IFERROR(VLOOKUP(ROWS($AC$2:AC78),$Z$2:$AA$763,2,FALSE),\"\")","v":""},null,null,{"$f":"IF(ISNUMBER(SEARCH('2 Crop Water Requirement'!B$28,'Data Validation Sheet'!AG78)),MAX($AF$1:AF77)+1,0)","v":0},{"$f":"'Crop Information'!B83","v":"Grapes (Mar - California)"},null,{"$f":"IFERROR(VLOOKUP(ROWS($AI$2:AI78),$AF$2:$AG$763,2,FALSE),\"\")","v":""},null,null,{"$f":"IF(ISNUMBER(SEARCH('2 Crop Water Requirement'!$B$30,'Data Validation Sheet'!AM78)),MAX($AL$1:AL77)+1,0)","v":0},{"$f":"'Crop Information'!B83","v":"Grapes (Mar - California)"},null,{"$f":"IFERROR(VLOOKUP(ROWS($AO$2:AO78),$AL$2:$AM$763,2,FALSE),\"\")","v":""}]
[null,null,null,null,null,null,null,null,null,null,null,null,null,{"$f":"IF(ISNUMBER(SEARCH('2 Crop Water Requirement'!$B$22,'Data Validation Sheet'!O79)),MAX($N$1:N78)+1,0)","v":0},{"$f":"'Crop Information'!B84","v":"Grapes (May - high latitudes )"},null,{"$f":"IFERROR(VLOOKUP(ROWS($Q$2:Q79),$N$2:$O$763,2,FALSE),\"\")","v":""},null,null,{"$f":"IF(ISNUMBER(SEARCH('2 Crop Water Requirement'!$B$24,'Data Validation Sheet'!U79)),MAX($T$1:T78)+1,0)","v":0},{"$f":"'Crop Information'!B84","v":"Grapes (May - high latitudes )"},null,{"$f":"IFERROR(VLOOKUP(ROWS($W$2:W79),$T$2:$U$763,2,FALSE),\"\")","v":""},null,null,{"$f":"IF(ISNUMBER(SEARCH('2 Crop Water Requirement'!$B$26,'Data Validation Sheet'!AA79)),MAX($Z$1:Z78)+1,0)","v":0},{"$f":"'Crop Information'!B84","v":"Grapes (May - high latitudes )"},null,{"$f":"IFERROR(VLOOKUP(ROWS($AC$2:AC79),$Z$2:$AA$763,2,FALSE),\"\")","v":""},null,null,{"$f":"IF(ISNUMBER(SEARCH('2 Crop Water Requirement'!B$28,'Data Validation Sheet'!AG79)),MAX($AF$1:AF78)+1,0)","v":0},{"$f":"'Crop Information'!B84","v":"Grapes (May - high latitudes )"},null,{"$f":"IFERROR(VLOOKUP(ROWS($AI$2:AI79),$AF$2:$AG$763,2,FALSE),\"\")","v":""},null,null,{"$f":"IF(ISNUMBER(SEARCH('2 Crop Water Requirement'!$B$30,'Data Validation Sheet'!AM79)),MAX($AL$1:AL78)+1,0)","v":0},{"$f":"'Crop Information'!B84","v":"Grapes (May - high latitudes )"},null,{"$f":"IFERROR(VLOOKUP(ROWS($AO$2:AO79),$AL$2:$AM$763,2,FALSE),\"\")","v":""}]
[null,null,null,null,null,null,null,null,null,null,null,null,null,{"$f":"IF(ISNUMBER(SEARCH('2 Crop Water Requirement'!$B$22,'Data Validation Sheet'!O80)),MAX($N$1:N79)+1,0)","v":0},{"$f":"'Crop Information'!B85","v":"Grapes (wine - Apr - mid latitudes)"},null,{"$f":"IFERROR(VLOOKUP(ROWS($Q$2:Q80),$N$2:$O$763,2,FALSE),\"\")","v":""},null,null,{"$f":"IF(ISNUMBER(SEARCH('2 Crop Water Requirement'!$B$24,'Data Validation Sheet'!U80)),MAX($T$1:T79)+1,0)","v":0},{"$f":"'Crop Information'!B85","v":"Grapes (wine - Apr - mid latitudes)"},null,{"$f":"IFERROR(VLOOKUP(ROWS($W$2:W80),$T$2:$U$763,2,FALSE),\"\")","v":""},null,null,{"$f":"IF(ISNUMBER(SEARCH('2 Crop Water Requirement'!$B$26,'Data Validation Sheet'!AA80)),MAX($Z$1:Z79)+1,0)","v":0},{"$f":"'Crop Information'!B85","v":"Grapes (wine - Apr - mid latitudes)"},null,{"$f":"IFERROR(VLOOKUP(ROWS($AC$2:AC80),$Z$2:$AA$763,2,FALSE),\"\")","v":""},null,null,{"$f":"IF(ISNUMBER(SEARCH('2 Crop Water Requirement'!B$28,'Data Validation Sheet'!AG80)),MAX($AF$1:AF79)+1,0)","v":0},{"$f":"'Crop Information'!B85","v":"Grapes (wine - Apr - mid latitudes)"},null,{"$f":"IFERROR(VLOOKUP(ROWS($AI$2:AI80),$AF$2:$AG$763,2,FALSE),\"\")","v":""},null,null,{"$f":"IF(ISNUMBER(SEARCH('2 Crop Water Requirement'!$B$30,'Data Validation Sheet'!AM80)),MAX($AL$1:AL79)+1,0)","v":0},{"$f":"'Crop Information'!B85","v":"Grapes (wine - Apr - mid latitudes)"},null,{"$f":"IFERROR(VLOOKUP(ROWS($AO$2:AO80),$AL$2:$AM$763,2,FALSE),\"\")","v":""}]
[null,null,null,null,null,null,null,null,null,null,null,null,null,{"$f":"IF(ISNUMBER(SEARCH('2 Crop Water Requirement'!$B$22,'Data Validation Sheet'!O81)),MAX($N$1:N80)+1,0)","v":0},{"$f":"'Crop Information'!B86","v":"Green gram, cowpeas (harvest fresh - Mar -Mediterranean)"},null,{"$f":"IFERROR(VLOOKUP(ROWS($Q$2:Q81),$N$2:$O$763,2,FALSE),\"\")","v":""},null,null,{"$f":"IF(ISNUMBER(SEARCH('2 Crop Water Requirement'!$B$24,'Data Validation Sheet'!U81)),MAX($T$1:T80)+1,0)","v":0},{"$f":"'Crop Information'!B86","v":"Green gram, cowpeas (harvest fresh - Mar -Mediterranean)"},null,{"$f":"IFERROR(VLOOKUP(ROWS($W$2:W81),$T$2:$U$763,2,FALSE),\"\")","v":""},null,null,{"$f":"IF(ISNUMBER(SEARCH('2 Crop Water Requirement'!$B$26,'Data Validation Sheet'!AA81)),MAX($Z$1:Z80)+1,0)","v":0},{"$f":"'Crop Information'!B86","v":"Green gram, cowpeas (harvest fresh - Mar -Mediterranean)"},null,{"$f":"IFERROR(VLOOKUP(ROWS($AC$2:AC81),$Z$2:$AA$763,2,FALSE),\"\")","v":""},null,null,{"$f":"IF(ISNUMBER(SEARCH('2 Crop Water Requirement'!B$28,'Data Validation Sheet'!AG81)),MAX($AF$1:AF80)+1,0)","v":0},{"$f":"'Crop Information'!B86","v":"Green gram, cowpeas (harvest fresh - Mar -Mediterranean)"},null,{"$f":"IFERROR(VLOOKUP(ROWS($AI$2:AI81),$AF$2:$AG$763,2,FALSE),\"\")","v":""},null,null,{"$f":"IF(ISNUMBER(SEARCH('2 Crop Water Requirement'!$B$30,'Data Validation Sheet'!AM81)),MAX($AL$1:AL80)+1,0)","v":0},{"$f":"'Crop Information'!B86","v":"Green gram, cowpeas (harvest fresh - Mar -Mediterranean)"},null,{"$f":"IFERROR(VLOOKUP(ROWS($AO$2:AO81),$AL$2:$AM$763,2,FALSE),\"\")","v":""}]
[null,null,null,null,null,null,null,null,null,null,null,null,null,{"$f":"IF(ISNUMBER(SEARCH('2 Crop Water Requirement'!$B$22,'Data Validation Sheet'!O82)),MAX($N$1:N81)+1,0)","v":0},{"$f":"'Crop Information'!B87","v":"Green gram, cowpeas (harvest dry - Mar -Mediterranean)"},null,{"$f":"IFERROR(VLOOKUP(ROWS($Q$2:Q82),$N$2:$O$763,2,FALSE),\"\")","v":""},null,null,{"$f":"IF(ISNUMBER(SEARCH('2 Crop Water Requirement'!$B$24,'Data Validation Sheet'!U82)),MAX($T$1:T81)+1,0)","v":0},{"$f":"'Crop Information'!B87","v":"Green gram, cowpeas (harvest dry - Mar -Mediterranean)"},null,{"$f":"IFERROR(VLOOKUP(ROWS($W$2:W82),$T$2:$U$763,2,FALSE),\"\")","v":""},null,null,{"$f":"IF(ISNUMBER(SEARCH('2 Crop Water Requirement'!$B$26,'Data Validation Sheet'!AA82)),MAX($Z$1:Z81)+1,0)","v":0},{"$f":"'Crop Information'!B87","v":"Green gram, cowpeas (harvest dry - Mar -Mediterranean)"},null,{"$f":"IFERROR(VLOOKUP(ROWS($AC$2:AC82),$Z$2:$AA$763,2,FALSE),\"\")","v":""},null,null,{"$f":"IF(ISNUMBER(SEARCH('2 Crop Water Requirement'!B$28,'Data Validation Sheet'!AG82)),MAX($AF$1:AF81)+1,0)","v":0},{"$f":"'Crop Information'!B87","v":"Green gram, cowpeas (harvest dry - Mar -Mediterranean)"},null,{"$f":"IFERROR(VLOOKUP(ROWS($AI$2:AI82),$AF$2:$AG$763,2,FALSE),\"\")","v":""},null,null,{"$f":"IF(ISNUMBER(SEARCH('2 Crop Water Requirement'!$B$30,'Data Validation Sheet'!AM82)),MAX($AL$1:AL81)+1,0)","v":0},{"$f":"'Crop Information'!B87","v":"Green gram, cowpeas (harvest dry - Mar -Mediterranean)"},null,{"$f":"IFERROR(VLOOKUP(ROWS($AO$2:AO82),$AL$2:$AM$763,2,FALSE),\"\")","v":""}]
[null,null,null,null,null,null,null,null,null,null,null,null,null,{"$f":"IF(ISNUMBER(SEARCH('2 Crop Water Requirement'!$B$22,'Data Validation Sheet'!O83)),MAX($N$1:N82)+1,0)","v":0},{"$f":"'Crop Information'!B88","v":"Groundnut (Dry - West Africa )"},null,{"$f":"IFERROR(VLOOKUP(ROWS($Q$2:Q83),$N$2:$O$763,2,FALSE),\"\")","v":""},null,null,{"$f":"IF(ISNUMBER(SEARCH('2 Crop Water Requirement'!$B$24,'Data Validation Sheet'!U83)),MAX($T$1:T82)+1,0)","v":0},{"$f":"'Crop Information'!B88","v":"Groundnut (Dry - West Africa )"},null,{"$f":"IFERROR(VLOOKUP(ROWS($W$2:W83),$T$2:$U$763,2,FALSE),\"\")","v":""},null,null,{"$f":"IF(ISNUMBER(SEARCH('2 Crop Water Requirement'!$B$26,'Data Validation Sheet'!AA83)),MAX($Z$1:Z82)+1,0)","v":0},{"$f":"'Crop Information'!B88","v":"Groundnut (Dry - West Africa )"},null,{"$f":"IFERROR(VLOOKUP(ROWS($AC$2:AC83),$Z$2:$AA$763,2,FALSE),\"\")","v":""},null,null,{"$f":"IF(ISNUMBER(SEARCH('2 Crop Water Requirement'!B$28,'Data Validation Sheet'!AG83)),MAX($AF$1:AF82)+1,0)","v":0},{"$f":"'Crop Information'!B88","v":"Groundnut (Dry - West Africa )"},null,{"$f":"IFERROR(VLOOKUP(ROWS($AI$2:AI83),$AF$2:$AG$763,2,FALSE),\"\")","v":""},null,null,{"$f":"IF(ISNUMBER(SEARCH('2 Crop Water Requirement'!$B$30,'Data Validation Sheet'!AM83)),MAX($AL$1:AL82)+1,0)","v":0},{"$f":"'Crop Information'!B88","v":"Groundnut (Dry - West Africa )"},null,{"$f":"IFERROR(VLOOKUP(ROWS($AO$2:AO83),$AL$2:$AM$763,2,FALSE),\"\")","v":""}]
[null,null,null,null,null,null,null,null,null,null,null,null,null,{"$f":"IF(ISNUMBER(SEARCH('2 Crop Water Requirement'!$B$22,'Data Validation Sheet'!O84)),MAX($N$1:N83)+1,0)","v":0},{"$f":"'Crop Information'!B89","v":"Groundnut (season - high latitudes)"},null,{"$f":"IFERROR(VLOOKUP(ROWS($Q$2:Q84),$N$2:$O$763,2,FALSE),\"\")","v":""},null,null,{"$f":"IF(ISNUMBER(SEARCH('2 Crop Water Requirement'!$B$24,'Data Validation Sheet'!U84)),MAX($T$1:T83)+1,0)","v":0},{"$f":"'Crop Information'!B89","v":"Groundnut (season - high latitudes)"},null,{"$f":"IFERROR(VLOOKUP(ROWS($W$2:W84),$T$2:$U$763,2,FALSE),\"\")","v":""},null,null,{"$f":"IF(ISNUMBER(SEARCH('2 Crop Water Requirement'!$B$26,'Data Validation Sheet'!AA84)),MAX($Z$1:Z83)+1,0)","v":0},{"$f":"'Crop Information'!B89","v":"Groundnut (season - high latitudes)"},null,{"$f":"IFERROR(VLOOKUP(ROWS($AC$2:AC84),$Z$2:$AA$763,2,FALSE),\"\")","v":""},null,null,{"$f":"IF(ISNUMBER(SEARCH('2 Crop Water Requirement'!B$28,'Data Validation Sheet'!AG84)),MAX($AF$1:AF83)+1,0)","v":0},{"$f":"'Crop Information'!B89","v":"Groundnut (season - high latitudes)"},null,{"$f":"IFERROR(VLOOKUP(ROWS($AI$2:AI84),$AF$2:$AG$763,2,FALSE),\"\")","v":""},null,null,{"$f":"IF(ISNUMBER(SEARCH('2 Crop Water Requirement'!$B$30,'Data Validation Sheet'!AM84)),MAX($AL$1:AL83)+1,0)","v":0},{"$f":"'Crop Information'!B89","v":"Groundnut (season - high latitudes)"},null,{"$f":"IFERROR(VLOOKUP(ROWS($AO$2:AO84),$AL$2:$AM$763,2,FALSE),\"\")","v":""}]
[null,null,null,null,null,null,null,null,null,null,null,null,null,{"$f":"IF(ISNUMBER(SEARCH('2 Crop Water Requirement'!$B$22,'Data Validation Sheet'!O85)),MAX($N$1:N84)+1,0)","v":0},{"$f":"'Crop Information'!B90","v":"Groundnut (May/Jun - Mediterranean)"},null,{"$f":"IFERROR(VLOOKUP(ROWS($Q$2:Q85),$N$2:$O$763,2,FALSE),\"\")","v":""},null,null,{"$f":"IF(ISNUMBER(SEARCH('2 Crop Water Requirement'!$B$24,'Data Validation Sheet'!U85)),MAX($T$1:T84)+1,0)","v":0},{"$f":"'Crop Information'!B90","v":"Groundnut (May/Jun - Mediterranean)"},null,{"$f":"IFERROR(VLOOKUP(ROWS($W$2:W85),$T$2:$U$763,2,FALSE),\"\")","v":""},null,null,{"$f":"IF(ISNUMBER(SEARCH('2 Crop Water Requirement'!$B$26,'Data Validation Sheet'!AA85)),MAX($Z$1:Z84)+1,0)","v":0},{"$f":"'Crop Information'!B90","v":"Groundnut (May/Jun - Mediterranean)"},null,{"$f":"IFERROR(VLOOKUP(ROWS($AC$2:AC85),$Z$2:$AA$763,2,FALSE),\"\")","v":""},null,null,{"$f":"IF(ISNUMBER(SEARCH('2 Crop Water Requirement'!B$28,'Data Validation Sheet'!AG85)),MAX($AF$1:AF84)+1,0)","v":0},{"$f":"'Crop Information'!B90","v":"Groundnut (May/Jun - Mediterranean)"},null,{"$f":"IFERROR(VLOOKUP(ROWS($AI$2:AI85),$AF$2:$AG$763,2,FALSE),\"\")","v":""},null,null,{"$f":"IF(ISNUMBER(SEARCH('2 Crop Water Requirement'!$B$30,'Data Validation Sheet'!AM85)),MAX($AL$1:AL84)+1,0)","v":0},{"$f":"'Crop Information'!B90","v":"Groundnut (May/Jun - Mediterranean)"},null,{"$f":"IFERROR(VLOOKUP(ROWS($AO$2:AO85),$AL$2:$AM$763,2,FALSE),\"\")","v":""}]
[null,null,null,null,null,null,null,null,null,null,null,null,null,{"$f":"IF(ISNUMBER(SEARCH('2 Crop Water Requirement'!$B$22,'Data Validation Sheet'!O86)),MAX($N$1:N85)+1,0)","v":0},{"$f":"'Crop Information'!B91","v":"Hops (Apr - Idaho)"},null,{"$f":"IFERROR(VLOOKUP(ROWS($Q$2:Q86),$N$2:$O$763,2,FALSE),\"\")","v":""},null,null,{"$f":"IF(ISNUMBER(SEARCH('2 Crop Water Requirement'!$B$24,'Data Validation Sheet'!U86)),MAX($T$1:T85)+1,0)","v":0},{"$f":"'Crop Information'!B91","v":"Hops (Apr - Idaho)"},null,{"$f":"IFERROR(VLOOKUP(ROWS($W$2:W86),$T$2:$U$763,2,FALSE),\"\")","v":""},null,null,{"$f":"IF(ISNUMBER(SEARCH('2 Crop Water Requirement'!$B$26,'Data Validation Sheet'!AA86)),MAX($Z$1:Z85)+1,0)","v":0},{"$f":"'Crop Information'!B91","v":"Hops (Apr - Idaho)"},null,{"$f":"IFERROR(VLOOKUP(ROWS($AC$2:AC86),$Z$2:$AA$763,2,FALSE),\"\")","v":""},null,null,{"$f":"IF(ISNUMBER(SEARCH('2 Crop Water Requirement'!B$28,'Data Validation Sheet'!AG86)),MAX($AF$1:AF85)+1,0)","v":0},{"$f":"'Crop Information'!B91","v":"Hops (Apr - Idaho)"},null,{"$f":"IFERROR(VLOOKUP(ROWS($AI$2:AI86),$AF$2:$AG$763,2,FALSE),\"\")","v":""},null,null,{"$f":"IF(ISNUMBER(SEARCH('2 Crop Water Requirement'!$B$30,'Data Validation Sheet'!AM86)),MAX($AL$1:AL85)+1,0)","v":0},{"$f":"'Crop Information'!B91","v":"Hops (Apr - Idaho)"},null,{"$f":"IFERROR(VLOOKUP(ROWS($AO$2:AO86),$AL$2:$AM$763,2,FALSE),\"\")","v":""}]
[null,null,null,null,null,null,null,null,null,null,null,null,null,{"$f":"IF(ISNUMBER(SEARCH('2 Crop Water Requirement'!$B$22,'Data Validation Sheet'!O87)),MAX($N$1:N86)+1,0)","v":0},{"$f":"'Crop Information'!B92","v":"Kale, Rape "},null,{"$f":"IFERROR(VLOOKUP(ROWS($Q$2:Q87),$N$2:$O$763,2,FALSE),\"\")","v":""},null,null,{"$f":"IF(ISNUMBER(SEARCH('2 Crop Water Requirement'!$B$24,'Data Validation Sheet'!U87)),MAX($T$1:T86)+1,0)","v":0},{"$f":"'Crop Information'!B92","v":"Kale, Rape "},null,{"$f":"IFERROR(VLOOKUP(ROWS($W$2:W87),$T$2:$U$763,2,FALSE),\"\")","v":""},null,null,{"$f":"IF(ISNUMBER(SEARCH('2 Crop Water Requirement'!$B$26,'Data Validation Sheet'!AA87)),MAX($Z$1:Z86)+1,0)","v":0},{"$f":"'Crop Information'!B92","v":"Kale, Rape "},null,{"$f":"IFERROR(VLOOKUP(ROWS($AC$2:AC87),$Z$2:$AA$763,2,FALSE),\"\")","v":""},null,null,{"$f":"IF(ISNUMBER(SEARCH('2 Crop Water Requirement'!B$28,'Data Validation Sheet'!AG87)),MAX($AF$1:AF86)+1,0)","v":0},{"$f":"'Crop Information'!B92","v":"Kale, Rape "},null,{"$f":"IFERROR(VLOOKUP(ROWS($AI$2:AI87),$AF$2:$AG$763,2,FALSE),\"\")","v":""},null,null,{"$f":"IF(ISNUMBER(SEARCH('2 Crop Water Requirement'!$B$30,'Data Validation Sheet'!AM87)),MAX($AL$1:AL86)+1,0)","v":0},{"$f":"'Crop Information'!B92","v":"Kale, Rape "},null,{"$f":"IFERROR(VLOOKUP(ROWS($AO$2:AO87),$AL$2:$AM$763,2,FALSE),\"\")","v":""}]
[null,null,null,null,null,null,null,null,null,null,null,null,null,{"$f":"IF(ISNUMBER(SEARCH('2 Crop Water Requirement'!$B$22,'Data Validation Sheet'!O88)),MAX($N$1:N87)+1,0)","v":0},{"$f":"'Crop Information'!B93","v":"Lentil (Apr - Europe)"},null,{"$f":"IFERROR(VLOOKUP(ROWS($Q$2:Q88),$N$2:$O$763,2,FALSE),\"\")","v":""},null,null,{"$f":"IF(ISNUMBER(SEARCH('2 Crop Water Requirement'!$B$24,'Data Validation Sheet'!U88)),MAX($T$1:T87)+1,0)","v":0},{"$f":"'Crop Information'!B93","v":"Lentil (Apr - Europe)"},null,{"$f":"IFERROR(VLOOKUP(ROWS($W$2:W88),$T$2:$U$763,2,FALSE),\"\")","v":""},null,null,{"$f":"IF(ISNUMBER(SEARCH('2 Crop Water Requirement'!$B$26,'Data Validation Sheet'!AA88)),MAX($Z$1:Z87)+1,0)","v":0},{"$f":"'Crop Information'!B93","v":"Lentil (Apr - Europe)"},null,{"$f":"IFERROR(VLOOKUP(ROWS($AC$2:AC88),$Z$2:$AA$763,2,FALSE),\"\")","v":""},null,null,{"$f":"IF(ISNUMBER(SEARCH('2 Crop Water Requirement'!B$28,'Data Validation Sheet'!AG88)),MAX($AF$1:AF87)+1,0)","v":0},{"$f":"'Crop Information'!B93","v":"Lentil (Apr - Europe)"},null,{"$f":"IFERROR(VLOOKUP(ROWS($AI$2:AI88),$AF$2:$AG$763,2,FALSE),\"\")","v":""},null,null,{"$f":"IF(ISNUMBER(SEARCH('2 Crop Water Requirement'!$B$30,'Data Validation Sheet'!AM88)),MAX($AL$1:AL87)+1,0)","v":0},{"$f":"'Crop Information'!B93","v":"Lentil (Apr - Europe)"},null,{"$f":"IFERROR(VLOOKUP(ROWS($AO$2:AO88),$AL$2:$AM$763,2,FALSE),\"\")","v":""}]
[null,null,null,null,null,null,null,null,null,null,null,null,null,{"$f":"IF(ISNUMBER(SEARCH('2 Crop Water Requirement'!$B$22,'Data Validation Sheet'!O89)),MAX($N$1:N88)+1,0)","v":0},{"$f":"'Crop Information'!B94","v":"Lentil (Oct/Nov -arid region)"},null,{"$f":"IFERROR(VLOOKUP(ROWS($Q$2:Q89),$N$2:$O$763,2,FALSE),\"\")","v":""},null,null,{"$f":"IF(ISNUMBER(SEARCH('2 Crop Water Requirement'!$B$24,'Data Validation Sheet'!U89)),MAX($T$1:T88)+1,0)","v":0},{"$f":"'Crop Information'!B94","v":"Lentil (Oct/Nov -arid region)"},null,{"$f":"IFERROR(VLOOKUP(ROWS($W$2:W89),$T$2:$U$763,2,FALSE),\"\")","v":""},null,null,{"$f":"IF(ISNUMBER(SEARCH('2 Crop Water Requirement'!$B$26,'Data Validation Sheet'!AA89)),MAX($Z$1:Z88)+1,0)","v":0},{"$f":"'Crop Information'!B94","v":"Lentil (Oct/Nov -arid region)"},null,{"$f":"IFERROR(VLOOKUP(ROWS($AC$2:AC89),$Z$2:$AA$763,2,FALSE),\"\")","v":""},null,null,{"$f":"IF(ISNUMBER(SEARCH('2 Crop Water Requirement'!B$28,'Data Validation Sheet'!AG89)),MAX($AF$1:AF88)+1,0)","v":0},{"$f":"'Crop Information'!B94","v":"Lentil (Oct/Nov -arid region)"},null,{"$f":"IFERROR(VLOOKUP(ROWS($AI$2:AI89),$AF$2:$AG$763,2,FALSE),\"\")","v":""},null,null,{"$f":"IF(ISNUMBER(SEARCH('2 Crop Water Requirement'!$B$30,'Data Validation Sheet'!AM89)),MAX($AL$1:AL88)+1,0)","v":0},{"$f":"'Crop Information'!B94","v":"Lentil (Oct/Nov -arid region)"},null,{"$f":"IFERROR(VLOOKUP(ROWS($AO$2:AO89),$AL$2:$AM$763,2,FALSE),\"\")","v":""}]
[null,null,null,null,null,null,null,null,null,null,null,null,null,{"$f":"IF(ISNUMBER(SEARCH('2 Crop Water Requirement'!$B$22,'Data Validation Sheet'!O90)),MAX($N$1:N89)+1,0)","v":0},{"$f":"'Crop Information'!B95","v":"Lettuce (Apr - Mediterranean)"},null,{"$f":"IFERROR(VLOOKUP(ROWS($Q$2:Q90),$N$2:$O$763,2,FALSE),\"\")","v":""},null,null,{"$f":"IF(ISNUMBER(SEARCH('2 Crop Water Requirement'!$B$24,'Data Validation Sheet'!U90)),MAX($T$1:T89)+1,0)","v":0},{"$f":"'Crop Information'!B95","v":"Lettuce (Apr - Mediterranean)"},null,{"$f":"IFERROR(VLOOKUP(ROWS($W$2:W90),$T$2:$U$763,2,FALSE),\"\")","v":""},null,null,{"$f":"IF(ISNUMBER(SEARCH('2 Crop Water Requirement'!$B$26,'Data Validation Sheet'!AA90)),MAX($Z$1:Z89)+1,0)","v":0},{"$f":"'Crop Information'!B95","v":"Lettuce (Apr - Mediterranean)"},null,{"$f":"IFERROR(VLOOKUP(ROWS($AC$2:AC90),$Z$2:$AA$763,2,FALSE),\"\")","v":""},null,null,{"$f":"IF(ISNUMBER(SEARCH('2 Crop Water Requirement'!B$28,'Data Validation Sheet'!AG90)),MAX($AF$1:AF89)+1,0)","v":0},{"$f":"'Crop Information'!B95","v":"Lettuce (Apr - Mediterranean)"},null,{"$f":"IFERROR(VLOOKUP(ROWS($AI$2:AI90),$AF$2:$AG$763,2,FALSE),\"\")","v":""},null,null,{"$f":"IF(ISNUMBER(SEARCH('2 Crop Water Requirement'!$B$30,'Data Validation Sheet'!AM90)),MAX($AL$1:AL89)+1,0)","v":0},{"$f":"'Crop Information'!B95","v":"Lettuce (Apr - Mediterranean)"},null,{"$f":"IFERROR(VLOOKUP(ROWS($AO$2:AO90),$AL$2:$AM$763,2,FALSE),\"\")","v":""}]
[null,null,null,null,null,null,null,null,null,null,null,null,null,{"$f":"IF(ISNUMBER(SEARCH('2 Crop Water Requirement'!$B$22,'Data Validation Sheet'!O91)),MAX($N$1:N90)+1,0)","v":0},{"$f":"'Crop Information'!B96","v":"Lettuce (Nov/Jan - Mediterranean)"},null,{"$f":"IFERROR(VLOOKUP(ROWS($Q$2:Q91),$N$2:$O$763,2,FALSE),\"\")","v":""},null,null,{"$f":"IF(ISNUMBER(SEARCH('2 Crop Water Requirement'!$B$24,'Data Validation Sheet'!U91)),MAX($T$1:T90)+1,0)","v":0},{"$f":"'Crop Information'!B96","v":"Lettuce (Nov/Jan - Mediterranean)"},null,{"$f":"IFERROR(VLOOKUP(ROWS($W$2:W91),$T$2:$U$763,2,FALSE),\"\")","v":""},null,null,{"$f":"IF(ISNUMBER(SEARCH('2 Crop Water Requirement'!$B$26,'Data Validation Sheet'!AA91)),MAX($Z$1:Z90)+1,0)","v":0},{"$f":"'Crop Information'!B96","v":"Lettuce (Nov/Jan - Mediterranean)"},null,{"$f":"IFERROR(VLOOKUP(ROWS($AC$2:AC91),$Z$2:$AA$763,2,FALSE),\"\")","v":""},null,null,{"$f":"IF(ISNUMBER(SEARCH('2 Crop Water Requirement'!B$28,'Data Validation Sheet'!AG91)),MAX($AF$1:AF90)+1,0)","v":0},{"$f":"'Crop Information'!B96","v":"Lettuce (Nov/Jan - Mediterranean)"},null,{"$f":"IFERROR(VLOOKUP(ROWS($AI$2:AI91),$AF$2:$AG$763,2,FALSE),\"\")","v":""},null,null,{"$f":"IF(ISNUMBER(SEARCH('2 Crop Water Requirement'!$B$30,'Data Validation Sheet'!AM91)),MAX($AL$1:AL90)+1,0)","v":0},{"$f":"'Crop Information'!B96","v":"Lettuce (Nov/Jan - Mediterranean)"},null,{"$f":"IFERROR(VLOOKUP(ROWS($AO$2:AO91),$AL$2:$AM$763,2,FALSE),\"\")","v":""}]
[null,null,null,null,null,null,null,null,null,null,null,null,null,{"$f":"IF(ISNUMBER(SEARCH('2 Crop Water Requirement'!$B$22,'Data Validation Sheet'!O92)),MAX($N$1:N91)+1,0)","v":0},{"$f":"'Crop Information'!B97","v":"Lettuce (Oct/Nov - arid region)"},null,{"$f":"IFERROR(VLOOKUP(ROWS($Q$2:Q92),$N$2:$O$763,2,FALSE),\"\")","v":""},null,null,{"$f":"IF(ISNUMBER(SEARCH('2 Crop Water Requirement'!$B$24,'Data Validation Sheet'!U92)),MAX($T$1:T91)+1,0)","v":0},{"$f":"'Crop Information'!B97","v":"Lettuce (Oct/Nov - arid region)"},null,{"$f":"IFERROR(VLOOKUP(ROWS($W$2:W92),$T$2:$U$763,2,FALSE),\"\")","v":""},null,null,{"$f":"IF(ISNUMBER(SEARCH('2 Crop Water Requirement'!$B$26,'Data Validation Sheet'!AA92)),MAX($Z$1:Z91)+1,0)","v":0},{"$f":"'Crop Information'!B97","v":"Lettuce (Oct/Nov - arid region)"},null,{"$f":"IFERROR(VLOOKUP(ROWS($AC$2:AC92),$Z$2:$AA$763,2,FALSE),\"\")","v":""},null,null,{"$f":"IF(ISNUMBER(SEARCH('2 Crop Water Requirement'!B$28,'Data Validation Sheet'!AG92)),MAX($AF$1:AF91)+1,0)","v":0},{"$f":"'Crop Information'!B97","v":"Lettuce (Oct/Nov - arid region)"},null,{"$f":"IFERROR(VLOOKUP(ROWS($AI$2:AI92),$AF$2:$AG$763,2,FALSE),\"\")","v":""},null,null,{"$f":"IF(ISNUMBER(SEARCH('2 Crop Water Requirement'!$B$30,'Data Validation Sheet'!AM92)),MAX($AL$1:AL91)+1,0)","v":0},{"$f":"'Crop Information'!B97","v":"Lettuce (Oct/Nov - arid region)"},null,{"$f":"IFERROR(VLOOKUP(ROWS($AO$2:AO92),$AL$2:$AM$763,2,FALSE),\"\")","v":""}]
[null,null,null,null,null,null,null,null,null,null,null,null,null,{"$f":"IF(ISNUMBER(SEARCH('2 Crop Water Requirement'!$B$22,'Data Validation Sheet'!O93)),MAX($N$1:N92)+1,0)","v":0},{"$f":"'Crop Information'!B98","v":"Lettuce (Feb - Mediterranean)"},null,{"$f":"IFERROR(VLOOKUP(ROWS($Q$2:Q93),$N$2:$O$763,2,FALSE),\"\")","v":""},null,null,{"$f":"IF(ISNUMBER(SEARCH('2 Crop Water Requirement'!$B$24,'Data Validation Sheet'!U93)),MAX($T$1:T92)+1,0)","v":0},{"$f":"'Crop Information'!B98","v":"Lettuce (Feb - Mediterranean)"},null,{"$f":"IFERROR(VLOOKUP(ROWS($W$2:W93),$T$2:$U$763,2,FALSE),\"\")","v":""},null,null,{"$f":"IF(ISNUMBER(SEARCH('2 Crop Water Requirement'!$B$26,'Data Validation Sheet'!AA93)),MAX($Z$1:Z92)+1,0)","v":0},{"$f":"'Crop Information'!B98","v":"Lettuce (Feb - Mediterranean)"},null,{"$f":"IFERROR(VLOOKUP(ROWS($AC$2:AC93),$Z$2:$AA$763,2,FALSE),\"\")","v":""},null,null,{"$f":"IF(ISNUMBER(SEARCH('2 Crop Water Requirement'!B$28,'Data Validation Sheet'!AG93)),MAX($AF$1:AF92)+1,0)","v":0},{"$f":"'Crop Information'!B98","v":"Lettuce (Feb - Mediterranean)"},null,{"$f":"IFERROR(VLOOKUP(ROWS($AI$2:AI93),$AF$2:$AG$763,2,FALSE),\"\")","v":""},null,null,{"$f":"IF(ISNUMBER(SEARCH('2 Crop Water Requirement'!$B$30,'Data Validation Sheet'!AM93)),MAX($AL$1:AL92)+1,0)","v":0},{"$f":"'Crop Information'!B98","v":"Lettuce (Feb - Mediterranean)"},null,{"$f":"IFERROR(VLOOKUP(ROWS($AO$2:AO93),$AL$2:$AM$763,2,FALSE),\"\")","v":""}]
[null,null,null,null,null,null,null,null,null,null,null,null,null,{"$f":"IF(ISNUMBER(SEARCH('2 Crop Water Requirement'!$B$22,'Data Validation Sheet'!O94)),MAX($N$1:N93)+1,0)","v":0},{"$f":"'Crop Information'!B99","v":"Maize (grain - Apr - East Africa (alt.))"},null,{"$f":"IFERROR(VLOOKUP(ROWS($Q$2:Q94),$N$2:$O$763,2,FALSE),\"\")","v":""},null,null,{"$f":"IF(ISNUMBER(SEARCH('2 Crop Water Requirement'!$B$24,'Data Validation Sheet'!U94)),MAX($T$1:T93)+1,0)","v":0},{"$f":"'Crop Information'!B99","v":"Maize (grain - Apr - East Africa (alt.))"},null,{"$f":"IFERROR(VLOOKUP(ROWS($W$2:W94),$T$2:$U$763,2,FALSE),\"\")","v":""},null,null,{"$f":"IF(ISNUMBER(SEARCH('2 Crop Water Requirement'!$B$26,'Data Validation Sheet'!AA94)),MAX($Z$1:Z93)+1,0)","v":0},{"$f":"'Crop Information'!B99","v":"Maize (grain - Apr - East Africa (alt.))"},null,{"$f":"IFERROR(VLOOKUP(ROWS($AC$2:AC94),$Z$2:$AA$763,2,FALSE),\"\")","v":""},null,null,{"$f":"IF(ISNUMBER(SEARCH('2 Crop Water Requirement'!B$28,'Data Validation Sheet'!AG94)),MAX($AF$1:AF93)+1,0)","v":0},{"$f":"'Crop Information'!B99","v":"Maize (grain - Apr - East Africa (alt.))"},null,{"$f":"IFERROR(VLOOKUP(ROWS($AI$2:AI94),$AF$2:$AG$763,2,FALSE),\"\")","v":""},null,null,{"$f":"IF(ISNUMBER(SEARCH('2 Crop Water Requirement'!$B$30,'Data Validation Sheet'!AM94)),MAX($AL$1:AL93)+1,0)","v":0},{"$f":"'Crop Information'!B99","v":"Maize (grain - Apr - East Africa (alt.))"},null,{"$f":"IFERROR(VLOOKUP(ROWS($AO$2:AO94),$AL$2:$AM$763,2,FALSE),\"\")","v":""}]
[null,null,null,null,null,null,null,null,null,null,null,null,null,{"$f":"IF(ISNUMBER(SEARCH('2 Crop Water Requirement'!$B$22,'Data Validation Sheet'!O95)),MAX($N$1:N94)+1,0)","v":0},{"$f":"'Crop Information'!B100","v":"Maize (grain - Dec/Jan - arid climate)"},null,{"$f":"IFERROR(VLOOKUP(ROWS($Q$2:Q95),$N$2:$O$763,2,FALSE),\"\")","v":""},null,null,{"$f":"IF(ISNUMBER(SEARCH('2 Crop Water Requirement'!$B$24,'Data Validation Sheet'!U95)),MAX($T$1:T94)+1,0)","v":0},{"$f":"'Crop Information'!B100","v":"Maize (grain - Dec/Jan - arid climate)"},null,{"$f":"IFERROR(VLOOKUP(ROWS($W$2:W95),$T$2:$U$763,2,FALSE),\"\")","v":""},null,null,{"$f":"IF(ISNUMBER(SEARCH('2 Crop Water Requirement'!$B$26,'Data Validation Sheet'!AA95)),MAX($Z$1:Z94)+1,0)","v":0},{"$f":"'Crop Information'!B100","v":"Maize (grain - Dec/Jan - arid climate)"},null,{"$f":"IFERROR(VLOOKUP(ROWS($AC$2:AC95),$Z$2:$AA$763,2,FALSE),\"\")","v":""},null,null,{"$f":"IF(ISNUMBER(SEARCH('2 Crop Water Requirement'!B$28,'Data Validation Sheet'!AG95)),MAX($AF$1:AF94)+1,0)","v":0},{"$f":"'Crop Information'!B100","v":"Maize (grain - Dec/Jan - arid climate)"},null,{"$f":"IFERROR(VLOOKUP(ROWS($AI$2:AI95),$AF$2:$AG$763,2,FALSE),\"\")","v":""},null,null,{"$f":"IF(ISNUMBER(SEARCH('2 Crop Water Requirement'!$B$30,'Data Validation Sheet'!AM95)),MAX($AL$1:AL94)+1,0)","v":0},{"$f":"'Crop Information'!B100","v":"Maize (grain - Dec/Jan - arid climate)"},null,{"$f":"IFERROR(VLOOKUP(ROWS($AO$2:AO95),$AL$2:$AM$763,2,FALSE),\"\")","v":""}]
[null,null,null,null,null,null,null,null,null,null,null,null,null,{"$f":"IF(ISNUMBER(SEARCH('2 Crop Water Requirement'!$B$22,'Data Validation Sheet'!O96)),MAX($N$1:N95)+1,0)","v":0},{"$f":"'Crop Information'!B101","v":"Maize (grain - Jun - Nigeria (humid))"},null,{"$f":"IFERROR(VLOOKUP(ROWS($Q$2:Q96),$N$2:$O$763,2,FALSE),\"\")","v":""},null,null,{"$f":"IF(ISNUMBER(SEARCH('2 Crop Water Requirement'!$B$24,'Data Validation Sheet'!U96)),MAX($T$1:T95)+1,0)","v":0},{"$f":"'Crop Information'!B101","v":"Maize (grain - Jun - Nigeria (humid))"},null,{"$f":"IFERROR(VLOOKUP(ROWS($W$2:W96),$T$2:$U$763,2,FALSE),\"\")","v":""},null,null,{"$f":"IF(ISNUMBER(SEARCH('2 Crop Water Requirement'!$B$26,'Data Validation Sheet'!AA96)),MAX($Z$1:Z95)+1,0)","v":0},{"$f":"'Crop Information'!B101","v":"Maize (grain - Jun - Nigeria (humid))"},null,{"$f":"IFERROR(VLOOKUP(ROWS($AC$2:AC96),$Z$2:$AA$763,2,FALSE),\"\")","v":""},null,null,{"$f":"IF(ISNUMBER(SEARCH('2 Crop Water Requirement'!B$28,'Data Validation Sheet'!AG96)),MAX($AF$1:AF95)+1,0)","v":0},{"$f":"'Crop Information'!B101","v":"Maize (grain - Jun - Nigeria (humid))"},null,{"$f":"IFERROR(VLOOKUP(ROWS($AI$2:AI96),$AF$2:$AG$763,2,FALSE),\"\")","v":""},null,null,{"$f":"IF(ISNUMBER(SEARCH('2 Crop Water Requirement'!$B$30,'Data Validation Sheet'!AM96)),MAX($AL$1:AL95)+1,0)","v":0},{"$f":"'Crop Information'!B101","v":"Maize (grain - Jun - Nigeria (humid))"},null,{"$f":"IFERROR(VLOOKUP(ROWS($AO$2:AO96),$AL$2:$AM$763,2,FALSE),\"\")","v":""}]
[null,null,null,null,null,null,null,null,null,null,null,null,null,{"$f":"IF(ISNUMBER(SEARCH('2 Crop Water Requirement'!$B$22,'Data Validation Sheet'!O97)),MAX($N$1:N96)+1,0)","v":0},{"$f":"'Crop Information'!B102","v":"Maize (grain - Oct - India (dry, cool))"},null,{"$f":"IFERROR(VLOOKUP(ROWS($Q$2:Q97),$N$2:$O$763,2,FALSE),\"\")","v":""},null,null,{"$f":"IF(ISNUMBER(SEARCH('2 Crop Water Requirement'!$B$24,'Data Validation Sheet'!U97)),MAX($T$1:T96)+1,0)","v":0},{"$f":"'Crop Information'!B102","v":"Maize (grain - Oct - India (dry, cool))"},null,{"$f":"IFERROR(VLOOKUP(ROWS($W$2:W97),$T$2:$U$763,2,FALSE),\"\")","v":""},null,null,{"$f":"IF(ISNUMBER(SEARCH('2 Crop Water Requirement'!$B$26,'Data Validation Sheet'!AA97)),MAX($Z$1:Z96)+1,0)","v":0},{"$f":"'Crop Information'!B102","v":"Maize (grain - Oct - India (dry, cool))"},null,{"$f":"IFERROR(VLOOKUP(ROWS($AC$2:AC97),$Z$2:$AA$763,2,FALSE),\"\")","v":""},null,null,{"$f":"IF(ISNUMBER(SEARCH('2 Crop Water Requirement'!B$28,'Data Validation Sheet'!AG97)),MAX($AF$1:AF96)+1,0)","v":0},{"$f":"'Crop Information'!B102","v":"Maize (grain - Oct - India (dry, cool))"},null,{"$f":"IFERROR(VLOOKUP(ROWS($AI$2:AI97),$AF$2:$AG$763,2,FALSE),\"\")","v":""},null,null,{"$f":"IF(ISNUMBER(SEARCH('2 Crop Water Requirement'!$B$30,'Data Validation Sheet'!AM97)),MAX($AL$1:AL96)+1,0)","v":0},{"$f":"'Crop Information'!B102","v":"Maize (grain - Oct - India (dry, cool))"},null,{"$f":"IFERROR(VLOOKUP(ROWS($AO$2:AO97),$AL$2:$AM$763,2,FALSE),\"\")","v":""}]
[null,null,null,null,null,null,null,null,null,null,null,null,null,{"$f":"IF(ISNUMBER(SEARCH('2 Crop Water Requirement'!$B$22,'Data Validation Sheet'!O98)),MAX($N$1:N97)+1,0)","v":0},{"$f":"'Crop Information'!B103","v":"Maize (grain - Apr - Spain (spring, summer)/California)"},null,{"$f":"IFERROR(VLOOKUP(ROWS($Q$2:Q98),$N$2:$O$763,2,FALSE),\"\")","v":""},null,null,{"$f":"IF(ISNUMBER(SEARCH('2 Crop Water Requirement'!$B$24,'Data Validation Sheet'!U98)),MAX($T$1:T97)+1,0)","v":0},{"$f":"'Crop Information'!B103","v":"Maize (grain - Apr - Spain (spring, summer)/California)"},null,{"$f":"IFERROR(VLOOKUP(ROWS($W$2:W98),$T$2:$U$763,2,FALSE),\"\")","v":""},null,null,{"$f":"IF(ISNUMBER(SEARCH('2 Crop Water Requirement'!$B$26,'Data Validation Sheet'!AA98)),MAX($Z$1:Z97)+1,0)","v":0},{"$f":"'Crop Information'!B103","v":"Maize (grain - Apr - Spain (spring, summer)/California)"},null,{"$f":"IFERROR(VLOOKUP(ROWS($AC$2:AC98),$Z$2:$AA$763,2,FALSE),\"\")","v":""},null,null,{"$f":"IF(ISNUMBER(SEARCH('2 Crop Water Requirement'!B$28,'Data Validation Sheet'!AG98)),MAX($AF$1:AF97)+1,0)","v":0},{"$f":"'Crop Information'!B103","v":"Maize (grain - Apr - Spain (spring, summer)/California)"},null,{"$f":"IFERROR(VLOOKUP(ROWS($AI$2:AI98),$AF$2:$AG$763,2,FALSE),\"\")","v":""},null,null,{"$f":"IF(ISNUMBER(SEARCH('2 Crop Water Requirement'!$B$30,'Data Validation Sheet'!AM98)),MAX($AL$1:AL97)+1,0)","v":0},{"$f":"'Crop Information'!B103","v":"Maize (grain - Apr - Spain (spring, summer)/California)"},null,{"$f":"IFERROR(VLOOKUP(ROWS($AO$2:AO98),$AL$2:$AM$763,2,FALSE),\"\")","v":""}]
[null,null,null,null,null,null,null,null,null,null,null,null,null,{"$f":"IF(ISNUMBER(SEARCH('2 Crop Water Requirement'!$B$22,'Data Validation Sheet'!O99)),MAX($N$1:N98)+1,0)","v":0},{"$f":"'Crop Information'!B104","v":"Maize (grain - Apr - Idaho)"},null,{"$f":"IFERROR(VLOOKUP(ROWS($Q$2:Q99),$N$2:$O$763,2,FALSE),\"\")","v":""},null,null,{"$f":"IF(ISNUMBER(SEARCH('2 Crop Water Requirement'!$B$24,'Data Validation Sheet'!U99)),MAX($T$1:T98)+1,0)","v":0},{"$f":"'Crop Information'!B104","v":"Maize (grain - Apr - Idaho)"},null,{"$f":"IFERROR(VLOOKUP(ROWS($W$2:W99),$T$2:$U$763,2,FALSE),\"\")","v":""},null,null,{"$f":"IF(ISNUMBER(SEARCH('2 Crop Water Requirement'!$B$26,'Data Validation Sheet'!AA99)),MAX($Z$1:Z98)+1,0)","v":0},{"$f":"'Crop Information'!B104","v":"Maize (grain - Apr - Idaho)"},null,{"$f":"IFERROR(VLOOKUP(ROWS($AC$2:AC99),$Z$2:$AA$763,2,FALSE),\"\")","v":""},null,null,{"$f":"IF(ISNUMBER(SEARCH('2 Crop Water Requirement'!B$28,'Data Validation Sheet'!AG99)),MAX($AF$1:AF98)+1,0)","v":0},{"$f":"'Crop Information'!B104","v":"Maize (grain - Apr - Idaho)"},null,{"$f":"IFERROR(VLOOKUP(ROWS($AI$2:AI99),$AF$2:$AG$763,2,FALSE),\"\")","v":""},null,null,{"$f":"IF(ISNUMBER(SEARCH('2 Crop Water Requirement'!$B$30,'Data Validation Sheet'!AM99)),MAX($AL$1:AL98)+1,0)","v":0},{"$f":"'Crop Information'!B104","v":"Maize (grain - Apr - Idaho)"},null,{"$f":"IFERROR(VLOOKUP(ROWS($AO$2:AO99),$AL$2:$AM$763,2,FALSE),\"\")","v":""}]
[null,null,null,null,null,null,null,null,null,null,null,null,null,{"$f":"IF(ISNUMBER(SEARCH('2 Crop Water Requirement'!$B$22,'Data Validation Sheet'!O100)),MAX($N$1:N99)+1,0)","v":0},{"$f":"'Crop Information'!B105","v":"Maize (sweet - Mar - Philippines)"},null,{"$f":"IFERROR(VLOOKUP(ROWS($Q$2:Q100),$N$2:$O$763,2,FALSE),\"\")","v":""},null,null,{"$f":"IF(ISNUMBER(SEARCH('2 Crop Water Requirement'!$B$24,'Data Validation Sheet'!U100)),MAX($T$1:T99)+1,0)","v":0},{"$f":"'Crop Information'!B105","v":"Maize (sweet - Mar - Philippines)"},null,{"$f":"IFERROR(VLOOKUP(ROWS($W$2:W100),$T$2:$U$763,2,FALSE),\"\")","v":""},null,null,{"$f":"IF(ISNUMBER(SEARCH('2 Crop Water Requirement'!$B$26,'Data Validation Sheet'!AA100)),MAX($Z$1:Z99)+1,0)","v":0},{"$f":"'Crop Information'!B105","v":"Maize (sweet - Mar - Philippines)"},null,{"$f":"IFERROR(VLOOKUP(ROWS($AC$2:AC100),$Z$2:$AA$763,2,FALSE),\"\")","v":""},null,null,{"$f":"IF(ISNUMBER(SEARCH('2 Crop Water Requirement'!B$28,'Data Validation Sheet'!AG100)),MAX($AF$1:AF99)+1,0)","v":0},{"$f":"'Crop Information'!B105","v":"Maize (sweet - Mar - Philippines)"},null,{"$f":"IFERROR(VLOOKUP(ROWS($AI$2:AI100),$AF$2:$AG$763,2,FALSE),\"\")","v":""},null,null,{"$f":"IF(ISNUMBER(SEARCH('2 Crop Water Requirement'!$B$30,'Data Validation Sheet'!AM100)),MAX($AL$1:AL99)+1,0)","v":0},{"$f":"'Crop Information'!B105","v":"Maize (sweet - Mar - Philippines)"},null,{"$f":"IFERROR(VLOOKUP(ROWS($AO$2:AO100),$AL$2:$AM$763,2,FALSE),\"\")","v":""}]
[null,null,null,null,null,null,null,null,null,null,null,null,null,{"$f":"IF(ISNUMBER(SEARCH('2 Crop Water Requirement'!$B$22,'Data Validation Sheet'!O101)),MAX($N$1:N100)+1,0)","v":0},{"$f":"'Crop Information'!B106","v":"Maize (sweet - May/Jun - Mediterranean)"},null,{"$f":"IFERROR(VLOOKUP(ROWS($Q$2:Q101),$N$2:$O$763,2,FALSE),\"\")","v":""},null,null,{"$f":"IF(ISNUMBER(SEARCH('2 Crop Water Requirement'!$B$24,'Data Validation Sheet'!U101)),MAX($T$1:T100)+1,0)","v":0},{"$f":"'Crop Information'!B106","v":"Maize (sweet - May/Jun - Mediterranean)"},null,{"$f":"IFERROR(VLOOKUP(ROWS($W$2:W101),$T$2:$U$763,2,FALSE),\"\")","v":""},null,null,{"$f":"IF(ISNUMBER(SEARCH('2 Crop Water Requirement'!$B$26,'Data Validation Sheet'!AA101)),MAX($Z$1:Z100)+1,0)","v":0},{"$f":"'Crop Information'!B106","v":"Maize (sweet - May/Jun - Mediterranean)"},null,{"$f":"IFERROR(VLOOKUP(ROWS($AC$2:AC101),$Z$2:$AA$763,2,FALSE),\"\")","v":""},null,null,{"$f":"IF(ISNUMBER(SEARCH('2 Crop Water Requirement'!B$28,'Data Validation Sheet'!AG101)),MAX($AF$1:AF100)+1,0)","v":0},{"$f":"'Crop Information'!B106","v":"Maize (sweet - May/Jun - Mediterranean)"},null,{"$f":"IFERROR(VLOOKUP(ROWS($AI$2:AI101),$AF$2:$AG$763,2,FALSE),\"\")","v":""},null,null,{"$f":"IF(ISNUMBER(SEARCH('2 Crop Water Requirement'!$B$30,'Data Validation Sheet'!AM101)),MAX($AL$1:AL100)+1,0)","v":0},{"$f":"'Crop Information'!B106","v":"Maize (sweet - May/Jun - Mediterranean)"},null,{"$f":"IFERROR(VLOOKUP(ROWS($AO$2:AO101),$AL$2:$AM$763,2,FALSE),\"\")","v":""}]
[null,null,null,null,null,null,null,null,null,null,null,null,null,{"$f":"IF(ISNUMBER(SEARCH('2 Crop Water Requirement'!$B$22,'Data Validation Sheet'!O102)),MAX($N$1:N101)+1,0)","v":0},{"$f":"'Crop Information'!B107","v":"Maize (sweet - Oct/Dec - arid climate)"},null,{"$f":"IFERROR(VLOOKUP(ROWS($Q$2:Q102),$N$2:$O$763,2,FALSE),\"\")","v":""},null,null,{"$f":"IF(ISNUMBER(SEARCH('2 Crop Water Requirement'!$B$24,'Data Validation Sheet'!U102)),MAX($T$1:T101)+1,0)","v":0},{"$f":"'Crop Information'!B107","v":"Maize (sweet - Oct/Dec - arid climate)"},null,{"$f":"IFERROR(VLOOKUP(ROWS($W$2:W102),$T$2:$U$763,2,FALSE),\"\")","v":""},null,null,{"$f":"IF(ISNUMBER(SEARCH('2 Crop Water Requirement'!$B$26,'Data Validation Sheet'!AA102)),MAX($Z$1:Z101)+1,0)","v":0},{"$f":"'Crop Information'!B107","v":"Maize (sweet - Oct/Dec - arid climate)"},null,{"$f":"IFERROR(VLOOKUP(ROWS($AC$2:AC102),$Z$2:$AA$763,2,FALSE),\"\")","v":""},null,null,{"$f":"IF(ISNUMBER(SEARCH('2 Crop Water Requirement'!B$28,'Data Validation Sheet'!AG102)),MAX($AF$1:AF101)+1,0)","v":0},{"$f":"'Crop Information'!B107","v":"Maize (sweet - Oct/Dec - arid climate)"},null,{"$f":"IFERROR(VLOOKUP(ROWS($AI$2:AI102),$AF$2:$AG$763,2,FALSE),\"\")","v":""},null,null,{"$f":"IF(ISNUMBER(SEARCH('2 Crop Water Requirement'!$B$30,'Data Validation Sheet'!AM102)),MAX($AL$1:AL101)+1,0)","v":0},{"$f":"'Crop Information'!B107","v":"Maize (sweet - Oct/Dec - arid climate)"},null,{"$f":"IFERROR(VLOOKUP(ROWS($AO$2:AO102),$AL$2:$AM$763,2,FALSE),\"\")","v":""}]
[null,null,null,null,null,null,null,null,null,null,null,null,null,{"$f":"IF(ISNUMBER(SEARCH('2 Crop Water Requirement'!$B$22,'Data Validation Sheet'!O103)),MAX($N$1:N102)+1,0)","v":0},{"$f":"'Crop Information'!B108","v":"Maize (sweet - Apr - Idaho)"},null,{"$f":"IFERROR(VLOOKUP(ROWS($Q$2:Q103),$N$2:$O$763,2,FALSE),\"\")","v":""},null,null,{"$f":"IF(ISNUMBER(SEARCH('2 Crop Water Requirement'!$B$24,'Data Validation Sheet'!U103)),MAX($T$1:T102)+1,0)","v":0},{"$f":"'Crop Information'!B108","v":"Maize (sweet - Apr - Idaho)"},null,{"$f":"IFERROR(VLOOKUP(ROWS($W$2:W103),$T$2:$U$763,2,FALSE),\"\")","v":""},null,null,{"$f":"IF(ISNUMBER(SEARCH('2 Crop Water Requirement'!$B$26,'Data Validation Sheet'!AA103)),MAX($Z$1:Z102)+1,0)","v":0},{"$f":"'Crop Information'!B108","v":"Maize (sweet - Apr - Idaho)"},null,{"$f":"IFERROR(VLOOKUP(ROWS($AC$2:AC103),$Z$2:$AA$763,2,FALSE),\"\")","v":""},null,null,{"$f":"IF(ISNUMBER(SEARCH('2 Crop Water Requirement'!B$28,'Data Validation Sheet'!AG103)),MAX($AF$1:AF102)+1,0)","v":0},{"$f":"'Crop Information'!B108","v":"Maize (sweet - Apr - Idaho)"},null,{"$f":"IFERROR(VLOOKUP(ROWS($AI$2:AI103),$AF$2:$AG$763,2,FALSE),\"\")","v":""},null,null,{"$f":"IF(ISNUMBER(SEARCH('2 Crop Water Requirement'!$B$30,'Data Validation Sheet'!AM103)),MAX($AL$1:AL102)+1,0)","v":0},{"$f":"'Crop Information'!B108","v":"Maize (sweet - Apr - Idaho)"},null,{"$f":"IFERROR(VLOOKUP(ROWS($AO$2:AO103),$AL$2:$AM$763,2,FALSE),\"\")","v":""}]
[null,null,null,null,null,null,null,null,null,null,null,null,null,{"$f":"IF(ISNUMBER(SEARCH('2 Crop Water Requirement'!$B$22,'Data Validation Sheet'!O104)),MAX($N$1:N103)+1,0)","v":0},{"$f":"'Crop Information'!B109","v":"Maize (sweet - Jan - California desert)"},null,{"$f":"IFERROR(VLOOKUP(ROWS($Q$2:Q104),$N$2:$O$763,2,FALSE),\"\")","v":""},null,null,{"$f":"IF(ISNUMBER(SEARCH('2 Crop Water Requirement'!$B$24,'Data Validation Sheet'!U104)),MAX($T$1:T103)+1,0)","v":0},{"$f":"'Crop Information'!B109","v":"Maize (sweet - Jan - California desert)"},null,{"$f":"IFERROR(VLOOKUP(ROWS($W$2:W104),$T$2:$U$763,2,FALSE),\"\")","v":""},null,null,{"$f":"IF(ISNUMBER(SEARCH('2 Crop Water Requirement'!$B$26,'Data Validation Sheet'!AA104)),MAX($Z$1:Z103)+1,0)","v":0},{"$f":"'Crop Information'!B109","v":"Maize (sweet - Jan - California desert)"},null,{"$f":"IFERROR(VLOOKUP(ROWS($AC$2:AC104),$Z$2:$AA$763,2,FALSE),\"\")","v":""},null,null,{"$f":"IF(ISNUMBER(SEARCH('2 Crop Water Requirement'!B$28,'Data Validation Sheet'!AG104)),MAX($AF$1:AF103)+1,0)","v":0},{"$f":"'Crop Information'!B109","v":"Maize (sweet - Jan - California desert)"},null,{"$f":"IFERROR(VLOOKUP(ROWS($AI$2:AI104),$AF$2:$AG$763,2,FALSE),\"\")","v":""},null,null,{"$f":"IF(ISNUMBER(SEARCH('2 Crop Water Requirement'!$B$30,'Data Validation Sheet'!AM104)),MAX($AL$1:AL103)+1,0)","v":0},{"$f":"'Crop Information'!B109","v":"Maize (sweet - Jan - California desert)"},null,{"$f":"IFERROR(VLOOKUP(ROWS($AO$2:AO104),$AL$2:$AM$763,2,FALSE),\"\")","v":""}]
[null,null,null,null,null,null,null,null,null,null,null,null,null,{"$f":"IF(ISNUMBER(SEARCH('2 Crop Water Requirement'!$B$22,'Data Validation Sheet'!O105)),MAX($N$1:N104)+1,0)","v":0},{"$f":"'Crop Information'!B110","v":"Mango (Jun)"},null,{"$f":"IFERROR(VLOOKUP(ROWS($Q$2:Q105),$N$2:$O$763,2,FALSE),\"\")","v":""},null,null,{"$f":"IF(ISNUMBER(SEARCH('2 Crop Water Requirement'!$B$24,'Data Validation Sheet'!U105)),MAX($T$1:T104)+1,0)","v":0},{"$f":"'Crop Information'!B110","v":"Mango (Jun)"},null,{"$f":"IFERROR(VLOOKUP(ROWS($W$2:W105),$T$2:$U$763,2,FALSE),\"\")","v":""},null,null,{"$f":"IF(ISNUMBER(SEARCH('2 Crop Water Requirement'!$B$26,'Data Validation Sheet'!AA105)),MAX($Z$1:Z104)+1,0)","v":0},{"$f":"'Crop Information'!B110","v":"Mango (Jun)"},null,{"$f":"IFERROR(VLOOKUP(ROWS($AC$2:AC105),$Z$2:$AA$763,2,FALSE),\"\")","v":""},null,null,{"$f":"IF(ISNUMBER(SEARCH('2 Crop Water Requirement'!B$28,'Data Validation Sheet'!AG105)),MAX($AF$1:AF104)+1,0)","v":0},{"$f":"'Crop Information'!B110","v":"Mango (Jun)"},null,{"$f":"IFERROR(VLOOKUP(ROWS($AI$2:AI105),$AF$2:$AG$763,2,FALSE),\"\")","v":""},null,null,{"$f":"IF(ISNUMBER(SEARCH('2 Crop Water Requirement'!$B$30,'Data Validation Sheet'!AM105)),MAX($AL$1:AL104)+1,0)","v":0},{"$f":"'Crop Information'!B110","v":"Mango (Jun)"},null,{"$f":"IFERROR(VLOOKUP(ROWS($AO$2:AO105),$AL$2:$AM$763,2,FALSE),\"\")","v":""}]
[null,null,null,null,null,null,null,null,null,null,null,null,null,{"$f":"IF(ISNUMBER(SEARCH('2 Crop Water Requirement'!$B$22,'Data Validation Sheet'!O106)),MAX($N$1:N105)+1,0)","v":0},{"$f":"'Crop Information'!B111","v":"Millet (Jun - Pakistan)"},null,{"$f":"IFERROR(VLOOKUP(ROWS($Q$2:Q106),$N$2:$O$763,2,FALSE),\"\")","v":""},null,null,{"$f":"IF(ISNUMBER(SEARCH('2 Crop Water Requirement'!$B$24,'Data Validation Sheet'!U106)),MAX($T$1:T105)+1,0)","v":0},{"$f":"'Crop Information'!B111","v":"Millet (Jun - Pakistan)"},null,{"$f":"IFERROR(VLOOKUP(ROWS($W$2:W106),$T$2:$U$763,2,FALSE),\"\")","v":""},null,null,{"$f":"IF(ISNUMBER(SEARCH('2 Crop Water Requirement'!$B$26,'Data Validation Sheet'!AA106)),MAX($Z$1:Z105)+1,0)","v":0},{"$f":"'Crop Information'!B111","v":"Millet (Jun - Pakistan)"},null,{"$f":"IFERROR(VLOOKUP(ROWS($AC$2:AC106),$Z$2:$AA$763,2,FALSE),\"\")","v":""},null,null,{"$f":"IF(ISNUMBER(SEARCH('2 Crop Water Requirement'!B$28,'Data Validation Sheet'!AG106)),MAX($AF$1:AF105)+1,0)","v":0},{"$f":"'Crop Information'!B111","v":"Millet (Jun - Pakistan)"},null,{"$f":"IFERROR(VLOOKUP(ROWS($AI$2:AI106),$AF$2:$AG$763,2,FALSE),\"\")","v":""},null,null,{"$f":"IF(ISNUMBER(SEARCH('2 Crop Water Requirement'!$B$30,'Data Validation Sheet'!AM106)),MAX($AL$1:AL105)+1,0)","v":0},{"$f":"'Crop Information'!B111","v":"Millet (Jun - Pakistan)"},null,{"$f":"IFERROR(VLOOKUP(ROWS($AO$2:AO106),$AL$2:$AM$763,2,FALSE),\"\")","v":""}]
[null,null,null,null,null,null,null,null,null,null,null,null,null,{"$f":"IF(ISNUMBER(SEARCH('2 Crop Water Requirement'!$B$22,'Data Validation Sheet'!O107)),MAX($N$1:N106)+1,0)","v":0},{"$f":"'Crop Information'!B112","v":"Millet (Apr - Central USA)"},null,{"$f":"IFERROR(VLOOKUP(ROWS($Q$2:Q107),$N$2:$O$763,2,FALSE),\"\")","v":""},null,null,{"$f":"IF(ISNUMBER(SEARCH('2 Crop Water Requirement'!$B$24,'Data Validation Sheet'!U107)),MAX($T$1:T106)+1,0)","v":0},{"$f":"'Crop Information'!B112","v":"Millet (Apr - Central USA)"},null,{"$f":"IFERROR(VLOOKUP(ROWS($W$2:W107),$T$2:$U$763,2,FALSE),\"\")","v":""},null,null,{"$f":"IF(ISNUMBER(SEARCH('2 Crop Water Requirement'!$B$26,'Data Validation Sheet'!AA107)),MAX($Z$1:Z106)+1,0)","v":0},{"$f":"'Crop Information'!B112","v":"Millet (Apr - Central USA)"},null,{"$f":"IFERROR(VLOOKUP(ROWS($AC$2:AC107),$Z$2:$AA$763,2,FALSE),\"\")","v":""},null,null,{"$f":"IF(ISNUMBER(SEARCH('2 Crop Water Requirement'!B$28,'Data Validation Sheet'!AG107)),MAX($AF$1:AF106)+1,0)","v":0},{"$f":"'Crop Information'!B112","v":"Millet (Apr - Central USA)"},null,{"$f":"IFERROR(VLOOKUP(ROWS($AI$2:AI107),$AF$2:$AG$763,2,FALSE),\"\")","v":""},null,null,{"$f":"IF(ISNUMBER(SEARCH('2 Crop Water Requirement'!$B$30,'Data Validation Sheet'!AM107)),MAX($AL$1:AL106)+1,0)","v":0},{"$f":"'Crop Information'!B112","v":"Millet (Apr - Central USA)"},null,{"$f":"IFERROR(VLOOKUP(ROWS($AO$2:AO107),$AL$2:$AM$763,2,FALSE),\"\")","v":""}]
[null,null,null,null,null,null,null,null,null,null,null,null,null,{"$f":"IF(ISNUMBER(SEARCH('2 Crop Water Requirement'!$B$22,'Data Validation Sheet'!O108)),MAX($N$1:N107)+1,0)","v":0},{"$f":"'Crop Information'!B113","v":"Okra (sub humid)"},null,{"$f":"IFERROR(VLOOKUP(ROWS($Q$2:Q108),$N$2:$O$763,2,FALSE),\"\")","v":""},null,null,{"$f":"IF(ISNUMBER(SEARCH('2 Crop Water Requirement'!$B$24,'Data Validation Sheet'!U108)),MAX($T$1:T107)+1,0)","v":0},{"$f":"'Crop Information'!B113","v":"Okra (sub humid)"},null,{"$f":"IFERROR(VLOOKUP(ROWS($W$2:W108),$T$2:$U$763,2,FALSE),\"\")","v":""},null,null,{"$f":"IF(ISNUMBER(SEARCH('2 Crop Water Requirement'!$B$26,'Data Validation Sheet'!AA108)),MAX($Z$1:Z107)+1,0)","v":0},{"$f":"'Crop Information'!B113","v":"Okra (sub humid)"},null,{"$f":"IFERROR(VLOOKUP(ROWS($AC$2:AC108),$Z$2:$AA$763,2,FALSE),\"\")","v":""},null,null,{"$f":"IF(ISNUMBER(SEARCH('2 Crop Water Requirement'!B$28,'Data Validation Sheet'!AG108)),MAX($AF$1:AF107)+1,0)","v":0},{"$f":"'Crop Information'!B113","v":"Okra (sub humid)"},null,{"$f":"IFERROR(VLOOKUP(ROWS($AI$2:AI108),$AF$2:$AG$763,2,FALSE),\"\")","v":""},null,null,{"$f":"IF(ISNUMBER(SEARCH('2 Crop Water Requirement'!$B$30,'Data Validation Sheet'!AM108)),MAX($AL$1:AL107)+1,0)","v":0},{"$f":"'Crop Information'!B113","v":"Okra (sub humid)"},null,{"$f":"IFERROR(VLOOKUP(ROWS($AO$2:AO108),$AL$2:$AM$763,2,FALSE),\"\")","v":""}]
[null,null,null,null,null,null,null,null,null,null,null,null,null,{"$f":"IF(ISNUMBER(SEARCH('2 Crop Water Requirement'!$B$22,'Data Validation Sheet'!O109)),MAX($N$1:N108)+1,0)","v":0},{"$f":"'Crop Information'!B114","v":"Olives (Mar - Mediterranean)"},null,{"$f":"IFERROR(VLOOKUP(ROWS($Q$2:Q109),$N$2:$O$763,2,FALSE),\"\")","v":""},null,null,{"$f":"IF(ISNUMBER(SEARCH('2 Crop Water Requirement'!$B$24,'Data Validation Sheet'!U109)),MAX($T$1:T108)+1,0)","v":0},{"$f":"'Crop Information'!B114","v":"Olives (Mar - Mediterranean)"},null,{"$f":"IFERROR(VLOOKUP(ROWS($W$2:W109),$T$2:$U$763,2,FALSE),\"\")","v":""},null,null,{"$f":"IF(ISNUMBER(SEARCH('2 Crop Water Requirement'!$B$26,'Data Validation Sheet'!AA109)),MAX($Z$1:Z108)+1,0)","v":0},{"$f":"'Crop Information'!B114","v":"Olives (Mar - Mediterranean)"},null,{"$f":"IFERROR(VLOOKUP(ROWS($AC$2:AC109),$Z$2:$AA$763,2,FALSE),\"\")","v":""},null,null,{"$f":"IF(ISNUMBER(SEARCH('2 Crop Water Requirement'!B$28,'Data Validation Sheet'!AG109)),MAX($AF$1:AF108)+1,0)","v":0},{"$f":"'Crop Information'!B114","v":"Olives (Mar - Mediterranean)"},null,{"$f":"IFERROR(VLOOKUP(ROWS($AI$2:AI109),$AF$2:$AG$763,2,FALSE),\"\")","v":""},null,null,{"$f":"IF(ISNUMBER(SEARCH('2 Crop Water Requirement'!$B$30,'Data Validation Sheet'!AM109)),MAX($AL$1:AL108)+1,0)","v":0},{"$f":"'Crop Information'!B114","v":"Olives (Mar - Mediterranean)"},null,{"$f":"IFERROR(VLOOKUP(ROWS($AO$2:AO109),$AL$2:$AM$763,2,FALSE),\"\")","v":""}]
[null,null,null,null,null,null,null,null,null,null,null,null,null,{"$f":"IF(ISNUMBER(SEARCH('2 Crop Water Requirement'!$B$22,'Data Validation Sheet'!O110)),MAX($N$1:N109)+1,0)","v":0},{"$f":"'Crop Information'!B115","v":"Onion (dry - Apr - Mediterranean)"},null,{"$f":"IFERROR(VLOOKUP(ROWS($Q$2:Q110),$N$2:$O$763,2,FALSE),\"\")","v":""},null,null,{"$f":"IF(ISNUMBER(SEARCH('2 Crop Water Requirement'!$B$24,'Data Validation Sheet'!U110)),MAX($T$1:T109)+1,0)","v":0},{"$f":"'Crop Information'!B115","v":"Onion (dry - Apr - Mediterranean)"},null,{"$f":"IFERROR(VLOOKUP(ROWS($W$2:W110),$T$2:$U$763,2,FALSE),\"\")","v":""},null,null,{"$f":"IF(ISNUMBER(SEARCH('2 Crop Water Requirement'!$B$26,'Data Validation Sheet'!AA110)),MAX($Z$1:Z109)+1,0)","v":0},{"$f":"'Crop Information'!B115","v":"Onion (dry - Apr - Mediterranean)"},null,{"$f":"IFERROR(VLOOKUP(ROWS($AC$2:AC110),$Z$2:$AA$763,2,FALSE),\"\")","v":""},null,null,{"$f":"IF(ISNUMBER(SEARCH('2 Crop Water Requirement'!B$28,'Data Validation Sheet'!AG110)),MAX($AF$1:AF109)+1,0)","v":0},{"$f":"'Crop Information'!B115","v":"Onion (dry - Apr - Mediterranean)"},null,{"$f":"IFERROR(VLOOKUP(ROWS($AI$2:AI110),$AF$2:$AG$763,2,FALSE),\"\")","v":""},null,null,{"$f":"IF(ISNUMBER(SEARCH('2 Crop Water Requirement'!$B$30,'Data Validation Sheet'!AM110)),MAX($AL$1:AL109)+1,0)","v":0},{"$f":"'Crop Information'!B115","v":"Onion (dry - Apr - Mediterranean)"},null,{"$f":"IFERROR(VLOOKUP(ROWS($AO$2:AO110),$AL$2:$AM$763,2,FALSE),\"\")","v":""}]
[null,null,null,null,null,null,null,null,null,null,null,null,null,{"$f":"IF(ISNUMBER(SEARCH('2 Crop Water Requirement'!$B$22,'Data Validation Sheet'!O111)),MAX($N$1:N110)+1,0)","v":0},{"$f":"'Crop Information'!B116","v":"Onion (dry - Oct/Jan - arid region/California)"},null,{"$f":"IFERROR(VLOOKUP(ROWS($Q$2:Q111),$N$2:$O$763,2,FALSE),\"\")","v":""},null,null,{"$f":"IF(ISNUMBER(SEARCH('2 Crop Water Requirement'!$B$24,'Data Validation Sheet'!U111)),MAX($T$1:T110)+1,0)","v":0},{"$f":"'Crop Information'!B116","v":"Onion (dry - Oct/Jan - arid region/California)"},null,{"$f":"IFERROR(VLOOKUP(ROWS($W$2:W111),$T$2:$U$763,2,FALSE),\"\")","v":""},null,null,{"$f":"IF(ISNUMBER(SEARCH('2 Crop Water Requirement'!$B$26,'Data Validation Sheet'!AA111)),MAX($Z$1:Z110)+1,0)","v":0},{"$f":"'Crop Information'!B116","v":"Onion (dry - Oct/Jan - arid region/California)"},null,{"$f":"IFERROR(VLOOKUP(ROWS($AC$2:AC111),$Z$2:$AA$763,2,FALSE),\"\")","v":""},null,null,{"$f":"IF(ISNUMBER(SEARCH('2 Crop Water Requirement'!B$28,'Data Validation Sheet'!AG111)),MAX($AF$1:AF110)+1,0)","v":0},{"$f":"'Crop Information'!B116","v":"Onion (dry - Oct/Jan - arid region/California)"},null,{"$f":"IFERROR(VLOOKUP(ROWS($AI$2:AI111),$AF$2:$AG$763,2,FALSE),\"\")","v":""},null,null,{"$f":"IF(ISNUMBER(SEARCH('2 Crop Water Requirement'!$B$30,'Data Validation Sheet'!AM111)),MAX($AL$1:AL110)+1,0)","v":0},{"$f":"'Crop Information'!B116","v":"Onion (dry - Oct/Jan - arid region/California)"},null,{"$f":"IFERROR(VLOOKUP(ROWS($AO$2:AO111),$AL$2:$AM$763,2,FALSE),\"\")","v":""}]
[null,null,null,null,null,null,null,null,null,null,null,null,null,{"$f":"IF(ISNUMBER(SEARCH('2 Crop Water Requirement'!$B$22,'Data Validation Sheet'!O112)),MAX($N$1:N111)+1,0)","v":0},{"$f":"'Crop Information'!B117","v":"Onion (green - Apr/May - Mediterranean)"},null,{"$f":"IFERROR(VLOOKUP(ROWS($Q$2:Q112),$N$2:$O$763,2,FALSE),\"\")","v":""},null,null,{"$f":"IF(ISNUMBER(SEARCH('2 Crop Water Requirement'!$B$24,'Data Validation Sheet'!U112)),MAX($T$1:T111)+1,0)","v":0},{"$f":"'Crop Information'!B117","v":"Onion (green - Apr/May - Mediterranean)"},null,{"$f":"IFERROR(VLOOKUP(ROWS($W$2:W112),$T$2:$U$763,2,FALSE),\"\")","v":""},null,null,{"$f":"IF(ISNUMBER(SEARCH('2 Crop Water Requirement'!$B$26,'Data Validation Sheet'!AA112)),MAX($Z$1:Z111)+1,0)","v":0},{"$f":"'Crop Information'!B117","v":"Onion (green - Apr/May - Mediterranean)"},null,{"$f":"IFERROR(VLOOKUP(ROWS($AC$2:AC112),$Z$2:$AA$763,2,FALSE),\"\")","v":""},null,null,{"$f":"IF(ISNUMBER(SEARCH('2 Crop Water Requirement'!B$28,'Data Validation Sheet'!AG112)),MAX($AF$1:AF111)+1,0)","v":0},{"$f":"'Crop Information'!B117","v":"Onion (green - Apr/May - Mediterranean)"},null,{"$f":"IFERROR(VLOOKUP(ROWS($AI$2:AI112),$AF$2:$AG$763,2,FALSE),\"\")","v":""},null,null,{"$f":"IF(ISNUMBER(SEARCH('2 Crop Water Requirement'!$B$30,'Data Validation Sheet'!AM112)),MAX($AL$1:AL111)+1,0)","v":0},{"$f":"'Crop Information'!B117","v":"Onion (green - Apr/May - Mediterranean)"},null,{"$f":"IFERROR(VLOOKUP(ROWS($AO$2:AO112),$AL$2:$AM$763,2,FALSE),\"\")","v":""}]
[null,null,null,null,null,null,null,null,null,null,null,null,null,{"$f":"IF(ISNUMBER(SEARCH('2 Crop Water Requirement'!$B$22,'Data Validation Sheet'!O113)),MAX($N$1:N112)+1,0)","v":0},{"$f":"'Crop Information'!B118","v":"Onion (green - Oct - arid region)"},null,{"$f":"IFERROR(VLOOKUP(ROWS($Q$2:Q113),$N$2:$O$763,2,FALSE),\"\")","v":""},null,null,{"$f":"IF(ISNUMBER(SEARCH('2 Crop Water Requirement'!$B$24,'Data Validation Sheet'!U113)),MAX($T$1:T112)+1,0)","v":0},{"$f":"'Crop Information'!B118","v":"Onion (green - Oct - arid region)"},null,{"$f":"IFERROR(VLOOKUP(ROWS($W$2:W113),$T$2:$U$763,2,FALSE),\"\")","v":""},null,null,{"$f":"IF(ISNUMBER(SEARCH('2 Crop Water Requirement'!$B$26,'Data Validation Sheet'!AA113)),MAX($Z$1:Z112)+1,0)","v":0},{"$f":"'Crop Information'!B118","v":"Onion (green - Oct - arid region)"},null,{"$f":"IFERROR(VLOOKUP(ROWS($AC$2:AC113),$Z$2:$AA$763,2,FALSE),\"\")","v":""},null,null,{"$f":"IF(ISNUMBER(SEARCH('2 Crop Water Requirement'!B$28,'Data Validation Sheet'!AG113)),MAX($AF$1:AF112)+1,0)","v":0},{"$f":"'Crop Information'!B118","v":"Onion (green - Oct - arid region)"},null,{"$f":"IFERROR(VLOOKUP(ROWS($AI$2:AI113),$AF$2:$AG$763,2,FALSE),\"\")","v":""},null,null,{"$f":"IF(ISNUMBER(SEARCH('2 Crop Water Requirement'!$B$30,'Data Validation Sheet'!AM113)),MAX($AL$1:AL112)+1,0)","v":0},{"$f":"'Crop Information'!B118","v":"Onion (green - Oct - arid region)"},null,{"$f":"IFERROR(VLOOKUP(ROWS($AO$2:AO113),$AL$2:$AM$763,2,FALSE),\"\")","v":""}]
[null,null,null,null,null,null,null,null,null,null,null,null,null,{"$f":"IF(ISNUMBER(SEARCH('2 Crop Water Requirement'!$B$22,'Data Validation Sheet'!O114)),MAX($N$1:N113)+1,0)","v":0},{"$f":"'Crop Information'!B119","v":"Onion (green - Mar - California)"},null,{"$f":"IFERROR(VLOOKUP(ROWS($Q$2:Q114),$N$2:$O$763,2,FALSE),\"\")","v":""},null,null,{"$f":"IF(ISNUMBER(SEARCH('2 Crop Water Requirement'!$B$24,'Data Validation Sheet'!U114)),MAX($T$1:T113)+1,0)","v":0},{"$f":"'Crop Information'!B119","v":"Onion (green - Mar - California)"},null,{"$f":"IFERROR(VLOOKUP(ROWS($W$2:W114),$T$2:$U$763,2,FALSE),\"\")","v":""},null,null,{"$f":"IF(ISNUMBER(SEARCH('2 Crop Water Requirement'!$B$26,'Data Validation Sheet'!AA114)),MAX($Z$1:Z113)+1,0)","v":0},{"$f":"'Crop Information'!B119","v":"Onion (green - Mar - California)"},null,{"$f":"IFERROR(VLOOKUP(ROWS($AC$2:AC114),$Z$2:$AA$763,2,FALSE),\"\")","v":""},null,null,{"$f":"IF(ISNUMBER(SEARCH('2 Crop Water Requirement'!B$28,'Data Validation Sheet'!AG114)),MAX($AF$1:AF113)+1,0)","v":0},{"$f":"'Crop Information'!B119","v":"Onion (green - Mar - California)"},null,{"$f":"IFERROR(VLOOKUP(ROWS($AI$2:AI114),$AF$2:$AG$763,2,FALSE),\"\")","v":""},null,null,{"$f":"IF(ISNUMBER(SEARCH('2 Crop Water Requirement'!$B$30,'Data Validation Sheet'!AM114)),MAX($AL$1:AL113)+1,0)","v":0},{"$f":"'Crop Information'!B119","v":"Onion (green - Mar - California)"},null,{"$f":"IFERROR(VLOOKUP(ROWS($AO$2:AO114),$AL$2:$AM$763,2,FALSE),\"\")","v":""}]
[null,null,null,null,null,null,null,null,null,null,null,null,null,{"$f":"IF(ISNUMBER(SEARCH('2 Crop Water Requirement'!$B$22,'Data Validation Sheet'!O115)),MAX($N$1:N114)+1,0)","v":0},{"$f":"'Crop Information'!B120","v":"Onion (seed - Sept - California desert)"},null,{"$f":"IFERROR(VLOOKUP(ROWS($Q$2:Q115),$N$2:$O$763,2,FALSE),\"\")","v":""},null,null,{"$f":"IF(ISNUMBER(SEARCH('2 Crop Water Requirement'!$B$24,'Data Validation Sheet'!U115)),MAX($T$1:T114)+1,0)","v":0},{"$f":"'Crop Information'!B120","v":"Onion (seed - Sept - California desert)"},null,{"$f":"IFERROR(VLOOKUP(ROWS($W$2:W115),$T$2:$U$763,2,FALSE),\"\")","v":""},null,null,{"$f":"IF(ISNUMBER(SEARCH('2 Crop Water Requirement'!$B$26,'Data Validation Sheet'!AA115)),MAX($Z$1:Z114)+1,0)","v":0},{"$f":"'Crop Information'!B120","v":"Onion (seed - Sept - California desert)"},null,{"$f":"IFERROR(VLOOKUP(ROWS($AC$2:AC115),$Z$2:$AA$763,2,FALSE),\"\")","v":""},null,null,{"$f":"IF(ISNUMBER(SEARCH('2 Crop Water Requirement'!B$28,'Data Validation Sheet'!AG115)),MAX($AF$1:AF114)+1,0)","v":0},{"$f":"'Crop Information'!B120","v":"Onion (seed - Sept - California desert)"},null,{"$f":"IFERROR(VLOOKUP(ROWS($AI$2:AI115),$AF$2:$AG$763,2,FALSE),\"\")","v":""},null,null,{"$f":"IF(ISNUMBER(SEARCH('2 Crop Water Requirement'!$B$30,'Data Validation Sheet'!AM115)),MAX($AL$1:AL114)+1,0)","v":0},{"$f":"'Crop Information'!B120","v":"Onion (seed - Sept - California desert)"},null,{"$f":"IFERROR(VLOOKUP(ROWS($AO$2:AO115),$AL$2:$AM$763,2,FALSE),\"\")","v":""}]
[null,null,null,null,null,null,null,null,null,null,null,null,null,{"$f":"IF(ISNUMBER(SEARCH('2 Crop Water Requirement'!$B$22,'Data Validation Sheet'!O116)),MAX($N$1:N115)+1,0)","v":0},{"$f":"'Crop Information'!B121","v":"Peas (fresh - May - Europe)"},null,{"$f":"IFERROR(VLOOKUP(ROWS($Q$2:Q116),$N$2:$O$763,2,FALSE),\"\")","v":""},null,null,{"$f":"IF(ISNUMBER(SEARCH('2 Crop Water Requirement'!$B$24,'Data Validation Sheet'!U116)),MAX($T$1:T115)+1,0)","v":0},{"$f":"'Crop Information'!B121","v":"Peas (fresh - May - Europe)"},null,{"$f":"IFERROR(VLOOKUP(ROWS($W$2:W116),$T$2:$U$763,2,FALSE),\"\")","v":""},null,null,{"$f":"IF(ISNUMBER(SEARCH('2 Crop Water Requirement'!$B$26,'Data Validation Sheet'!AA116)),MAX($Z$1:Z115)+1,0)","v":0},{"$f":"'Crop Information'!B121","v":"Peas (fresh - May - Europe)"},null,{"$f":"IFERROR(VLOOKUP(ROWS($AC$2:AC116),$Z$2:$AA$763,2,FALSE),\"\")","v":""},null,null,{"$f":"IF(ISNUMBER(SEARCH('2 Crop Water Requirement'!B$28,'Data Validation Sheet'!AG116)),MAX($AF$1:AF115)+1,0)","v":0},{"$f":"'Crop Information'!B121","v":"Peas (fresh - May - Europe)"},null,{"$f":"IFERROR(VLOOKUP(ROWS($AI$2:AI116),$AF$2:$AG$763,2,FALSE),\"\")","v":""},null,null,{"$f":"IF(ISNUMBER(SEARCH('2 Crop Water Requirement'!$B$30,'Data Validation Sheet'!AM116)),MAX($AL$1:AL115)+1,0)","v":0},{"$f":"'Crop Information'!B121","v":"Peas (fresh - May - Europe)"},null,{"$f":"IFERROR(VLOOKUP(ROWS($AO$2:AO116),$AL$2:$AM$763,2,FALSE),\"\")","v":""}]
[null,null,null,null,null,null,null,null,null,null,null,null,null,{"$f":"IF(ISNUMBER(SEARCH('2 Crop Water Requirement'!$B$22,'Data Validation Sheet'!O117)),MAX($N$1:N116)+1,0)","v":0},{"$f":"'Crop Information'!B122","v":"Peas (fresh - Mar/Apr - Mediterranean)"},null,{"$f":"IFERROR(VLOOKUP(ROWS($Q$2:Q117),$N$2:$O$763,2,FALSE),\"\")","v":""},null,null,{"$f":"IF(ISNUMBER(SEARCH('2 Crop Water Requirement'!$B$24,'Data Validation Sheet'!U117)),MAX($T$1:T116)+1,0)","v":0},{"$f":"'Crop Information'!B122","v":"Peas (fresh - Mar/Apr - Mediterranean)"},null,{"$f":"IFERROR(VLOOKUP(ROWS($W$2:W117),$T$2:$U$763,2,FALSE),\"\")","v":""},null,null,{"$f":"IF(ISNUMBER(SEARCH('2 Crop Water Requirement'!$B$26,'Data Validation Sheet'!AA117)),MAX($Z$1:Z116)+1,0)","v":0},{"$f":"'Crop Information'!B122","v":"Peas (fresh - Mar/Apr - Mediterranean)"},null,{"$f":"IFERROR(VLOOKUP(ROWS($AC$2:AC117),$Z$2:$AA$763,2,FALSE),\"\")","v":""},null,null,{"$f":"IF(ISNUMBER(SEARCH('2 Crop Water Requirement'!B$28,'Data Validation Sheet'!AG117)),MAX($AF$1:AF116)+1,0)","v":0},{"$f":"'Crop Information'!B122","v":"Peas (fresh - Mar/Apr - Mediterranean)"},null,{"$f":"IFERROR(VLOOKUP(ROWS($AI$2:AI117),$AF$2:$AG$763,2,FALSE),\"\")","v":""},null,null,{"$f":"IF(ISNUMBER(SEARCH('2 Crop Water Requirement'!$B$30,'Data Validation Sheet'!AM117)),MAX($AL$1:AL116)+1,0)","v":0},{"$f":"'Crop Information'!B122","v":"Peas (fresh - Mar/Apr - Mediterranean)"},null,{"$f":"IFERROR(VLOOKUP(ROWS($AO$2:AO117),$AL$2:$AM$763,2,FALSE),\"\")","v":""}]
[null,null,null,null,null,null,null,null,null,null,null,null,null,{"$f":"IF(ISNUMBER(SEARCH('2 Crop Water Requirement'!$B$22,'Data Validation Sheet'!O118)),MAX($N$1:N117)+1,0)","v":0},{"$f":"'Crop Information'!B123","v":"Peas (fresh - Apr - Idaho)"},null,{"$f":"IFERROR(VLOOKUP(ROWS($Q$2:Q118),$N$2:$O$763,2,FALSE),\"\")","v":""},null,null,{"$f":"IF(ISNUMBER(SEARCH('2 Crop Water Requirement'!$B$24,'Data Validation Sheet'!U118)),MAX($T$1:T117)+1,0)","v":0},{"$f":"'Crop Information'!B123","v":"Peas (fresh - Apr - Idaho)"},null,{"$f":"IFERROR(VLOOKUP(ROWS($W$2:W118),$T$2:$U$763,2,FALSE),\"\")","v":""},null,null,{"$f":"IF(ISNUMBER(SEARCH('2 Crop Water Requirement'!$B$26,'Data Validation Sheet'!AA118)),MAX($Z$1:Z117)+1,0)","v":0},{"$f":"'Crop Information'!B123","v":"Peas (fresh - Apr - Idaho)"},null,{"$f":"IFERROR(VLOOKUP(ROWS($AC$2:AC118),$Z$2:$AA$763,2,FALSE),\"\")","v":""},null,null,{"$f":"IF(ISNUMBER(SEARCH('2 Crop Water Requirement'!B$28,'Data Validation Sheet'!AG118)),MAX($AF$1:AF117)+1,0)","v":0},{"$f":"'Crop Information'!B123","v":"Peas (fresh - Apr - Idaho)"},null,{"$f":"IFERROR(VLOOKUP(ROWS($AI$2:AI118),$AF$2:$AG$763,2,FALSE),\"\")","v":""},null,null,{"$f":"IF(ISNUMBER(SEARCH('2 Crop Water Requirement'!$B$30,'Data Validation Sheet'!AM118)),MAX($AL$1:AL117)+1,0)","v":0},{"$f":"'Crop Information'!B123","v":"Peas (fresh - Apr - Idaho)"},null,{"$f":"IFERROR(VLOOKUP(ROWS($AO$2:AO118),$AL$2:$AM$763,2,FALSE),\"\")","v":""}]
[null,null,null,null,null,null,null,null,null,null,null,null,null,{"$f":"IF(ISNUMBER(SEARCH('2 Crop Water Requirement'!$B$22,'Data Validation Sheet'!O119)),MAX($N$1:N118)+1,0)","v":0},{"$f":"'Crop Information'!B124","v":"Peas (dry - May - Europe)"},null,{"$f":"IFERROR(VLOOKUP(ROWS($Q$2:Q119),$N$2:$O$763,2,FALSE),\"\")","v":""},null,null,{"$f":"IF(ISNUMBER(SEARCH('2 Crop Water Requirement'!$B$24,'Data Validation Sheet'!U119)),MAX($T$1:T118)+1,0)","v":0},{"$f":"'Crop Information'!B124","v":"Peas (dry - May - Europe)"},null,{"$f":"IFERROR(VLOOKUP(ROWS($W$2:W119),$T$2:$U$763,2,FALSE),\"\")","v":""},null,null,{"$f":"IF(ISNUMBER(SEARCH('2 Crop Water Requirement'!$B$26,'Data Validation Sheet'!AA119)),MAX($Z$1:Z118)+1,0)","v":0},{"$f":"'Crop Information'!B124","v":"Peas (dry - May - Europe)"},null,{"$f":"IFERROR(VLOOKUP(ROWS($AC$2:AC119),$Z$2:$AA$763,2,FALSE),\"\")","v":""},null,null,{"$f":"IF(ISNUMBER(SEARCH('2 Crop Water Requirement'!B$28,'Data Validation Sheet'!AG119)),MAX($AF$1:AF118)+1,0)","v":0},{"$f":"'Crop Information'!B124","v":"Peas (dry - May - Europe)"},null,{"$f":"IFERROR(VLOOKUP(ROWS($AI$2:AI119),$AF$2:$AG$763,2,FALSE),\"\")","v":""},null,null,{"$f":"IF(ISNUMBER(SEARCH('2 Crop Water Requirement'!$B$30,'Data Validation Sheet'!AM119)),MAX($AL$1:AL118)+1,0)","v":0},{"$f":"'Crop Information'!B124","v":"Peas (dry - May - Europe)"},null,{"$f":"IFERROR(VLOOKUP(ROWS($AO$2:AO119),$AL$2:$AM$763,2,FALSE),\"\")","v":""}]
[null,null,null,null,null,null,null,null,null,null,null,null,null,{"$f":"IF(ISNUMBER(SEARCH('2 Crop Water Requirement'!$B$22,'Data Validation Sheet'!O120)),MAX($N$1:N119)+1,0)","v":0},{"$f":"'Crop Information'!B125","v":"Peas (dry - Mar/Apr - Mediterranean)"},null,{"$f":"IFERROR(VLOOKUP(ROWS($Q$2:Q120),$N$2:$O$763,2,FALSE),\"\")","v":""},null,null,{"$f":"IF(ISNUMBER(SEARCH('2 Crop Water Requirement'!$B$24,'Data Validation Sheet'!U120)),MAX($T$1:T119)+1,0)","v":0},{"$f":"'Crop Information'!B125","v":"Peas (dry - Mar/Apr - Mediterranean)"},null,{"$f":"IFERROR(VLOOKUP(ROWS($W$2:W120),$T$2:$U$763,2,FALSE),\"\")","v":""},null,null,{"$f":"IF(ISNUMBER(SEARCH('2 Crop Water Requirement'!$B$26,'Data Validation Sheet'!AA120)),MAX($Z$1:Z119)+1,0)","v":0},{"$f":"'Crop Information'!B125","v":"Peas (dry - Mar/Apr - Mediterranean)"},null,{"$f":"IFERROR(VLOOKUP(ROWS($AC$2:AC120),$Z$2:$AA$763,2,FALSE),\"\")","v":""},null,null,{"$f":"IF(ISNUMBER(SEARCH('2 Crop Water Requirement'!B$28,'Data Validation Sheet'!AG120)),MAX($AF$1:AF119)+1,0)","v":0},{"$f":"'Crop Information'!B125","v":"Peas (dry - Mar/Apr - Mediterranean)"},null,{"$f":"IFERROR(VLOOKUP(ROWS($AI$2:AI120),$AF$2:$AG$763,2,FALSE),\"\")","v":""},null,null,{"$f":"IF(ISNUMBER(SEARCH('2 Crop Water Requirement'!$B$30,'Data Validation Sheet'!AM120)),MAX($AL$1:AL119)+1,0)","v":0},{"$f":"'Crop Information'!B125","v":"Peas (dry - Mar/Apr - Mediterranean)"},null,{"$f":"IFERROR(VLOOKUP(ROWS($AO$2:AO120),$AL$2:$AM$763,2,FALSE),\"\")","v":""}]
[null,null,null,null,null,null,null,null,null,null,null,null,null,{"$f":"IF(ISNUMBER(SEARCH('2 Crop Water Requirement'!$B$22,'Data Validation Sheet'!O121)),MAX($N$1:N120)+1,0)","v":0},{"$f":"'Crop Information'!B126","v":"Peas (dry - Apr - Idaho)"},null,{"$f":"IFERROR(VLOOKUP(ROWS($Q$2:Q121),$N$2:$O$763,2,FALSE),\"\")","v":""},null,null,{"$f":"IF(ISNUMBER(SEARCH('2 Crop Water Requirement'!$B$24,'Data Validation Sheet'!U121)),MAX($T$1:T120)+1,0)","v":0},{"$f":"'Crop Information'!B126","v":"Peas (dry - Apr - Idaho)"},null,{"$f":"IFERROR(VLOOKUP(ROWS($W$2:W121),$T$2:$U$763,2,FALSE),\"\")","v":""},null,null,{"$f":"IF(ISNUMBER(SEARCH('2 Crop Water Requirement'!$B$26,'Data Validation Sheet'!AA121)),MAX($Z$1:Z120)+1,0)","v":0},{"$f":"'Crop Information'!B126","v":"Peas (dry - Apr - Idaho)"},null,{"$f":"IFERROR(VLOOKUP(ROWS($AC$2:AC121),$Z$2:$AA$763,2,FALSE),\"\")","v":""},null,null,{"$f":"IF(ISNUMBER(SEARCH('2 Crop Water Requirement'!B$28,'Data Validation Sheet'!AG121)),MAX($AF$1:AF120)+1,0)","v":0},{"$f":"'Crop Information'!B126","v":"Peas (dry - Apr - Idaho)"},null,{"$f":"IFERROR(VLOOKUP(ROWS($AI$2:AI121),$AF$2:$AG$763,2,FALSE),\"\")","v":""},null,null,{"$f":"IF(ISNUMBER(SEARCH('2 Crop Water Requirement'!$B$30,'Data Validation Sheet'!AM121)),MAX($AL$1:AL120)+1,0)","v":0},{"$f":"'Crop Information'!B126","v":"Peas (dry - Apr - Idaho)"},null,{"$f":"IFERROR(VLOOKUP(ROWS($AO$2:AO121),$AL$2:$AM$763,2,FALSE),\"\")","v":""}]
[null,null,null,null,null,null,null,null,null,null,null,null,null,{"$f":"IF(ISNUMBER(SEARCH('2 Crop Water Requirement'!$B$22,'Data Validation Sheet'!O122)),MAX($N$1:N121)+1,0)","v":0},{"$f":"'Crop Information'!B127","v":"Pigeon peas"},null,{"$f":"IFERROR(VLOOKUP(ROWS($Q$2:Q122),$N$2:$O$763,2,FALSE),\"\")","v":""},null,null,{"$f":"IF(ISNUMBER(SEARCH('2 Crop Water Requirement'!$B$24,'Data Validation Sheet'!U122)),MAX($T$1:T121)+1,0)","v":0},{"$f":"'Crop Information'!B127","v":"Pigeon peas"},null,{"$f":"IFERROR(VLOOKUP(ROWS($W$2:W122),$T$2:$U$763,2,FALSE),\"\")","v":""},null,null,{"$f":"IF(ISNUMBER(SEARCH('2 Crop Water Requirement'!$B$26,'Data Validation Sheet'!AA122)),MAX($Z$1:Z121)+1,0)","v":0},{"$f":"'Crop Information'!B127","v":"Pigeon peas"},null,{"$f":"IFERROR(VLOOKUP(ROWS($AC$2:AC122),$Z$2:$AA$763,2,FALSE),\"\")","v":""},null,null,{"$f":"IF(ISNUMBER(SEARCH('2 Crop Water Requirement'!B$28,'Data Validation Sheet'!AG122)),MAX($AF$1:AF121)+1,0)","v":0},{"$f":"'Crop Information'!B127","v":"Pigeon peas"},null,{"$f":"IFERROR(VLOOKUP(ROWS($AI$2:AI122),$AF$2:$AG$763,2,FALSE),\"\")","v":""},null,null,{"$f":"IF(ISNUMBER(SEARCH('2 Crop Water Requirement'!$B$30,'Data Validation Sheet'!AM122)),MAX($AL$1:AL121)+1,0)","v":0},{"$f":"'Crop Information'!B127","v":"Pigeon peas"},null,{"$f":"IFERROR(VLOOKUP(ROWS($AO$2:AO122),$AL$2:$AM$763,2,FALSE),\"\")","v":""}]
[null,null,null,null,null,null,null,null,null,null,null,null,null,{"$f":"IF(ISNUMBER(SEARCH('2 Crop Water Requirement'!$B$22,'Data Validation Sheet'!O123)),MAX($N$1:N122)+1,0)","v":0},{"$f":"'Crop Information'!B128","v":"Pineapple (bare soil - Hawaii)"},null,{"$f":"IFERROR(VLOOKUP(ROWS($Q$2:Q123),$N$2:$O$763,2,FALSE),\"\")","v":""},null,null,{"$f":"IF(ISNUMBER(SEARCH('2 Crop Water Requirement'!$B$24,'Data Validation Sheet'!U123)),MAX($T$1:T122)+1,0)","v":0},{"$f":"'Crop Information'!B128","v":"Pineapple (bare soil - Hawaii)"},null,{"$f":"IFERROR(VLOOKUP(ROWS($W$2:W123),$T$2:$U$763,2,FALSE),\"\")","v":""},null,null,{"$f":"IF(ISNUMBER(SEARCH('2 Crop Water Requirement'!$B$26,'Data Validation Sheet'!AA123)),MAX($Z$1:Z122)+1,0)","v":0},{"$f":"'Crop Information'!B128","v":"Pineapple (bare soil - Hawaii)"},null,{"$f":"IFERROR(VLOOKUP(ROWS($AC$2:AC123),$Z$2:$AA$763,2,FALSE),\"\")","v":""},null,null,{"$f":"IF(ISNUMBER(SEARCH('2 Crop Water Requirement'!B$28,'Data Validation Sheet'!AG123)),MAX($AF$1:AF122)+1,0)","v":0},{"$f":"'Crop Information'!B128","v":"Pineapple (bare soil - Hawaii)"},null,{"$f":"IFERROR(VLOOKUP(ROWS($AI$2:AI123),$AF$2:$AG$763,2,FALSE),\"\")","v":""},null,null,{"$f":"IF(ISNUMBER(SEARCH('2 Crop Water Requirement'!$B$30,'Data Validation Sheet'!AM123)),MAX($AL$1:AL122)+1,0)","v":0},{"$f":"'Crop Information'!B128","v":"Pineapple (bare soil - Hawaii)"},null,{"$f":"IFERROR(VLOOKUP(ROWS($AO$2:AO123),$AL$2:$AM$763,2,FALSE),\"\")","v":""}]
[null,null,null,null,null,null,null,null,null,null,null,null,null,{"$f":"IF(ISNUMBER(SEARCH('2 Crop Water Requirement'!$B$22,'Data Validation Sheet'!O124)),MAX($N$1:N123)+1,0)","v":0},{"$f":"'Crop Information'!B129","v":"Pineapple (with grass cover - Hawaii)"},null,{"$f":"IFERROR(VLOOKUP(ROWS($Q$2:Q124),$N$2:$O$763,2,FALSE),\"\")","v":""},null,null,{"$f":"IF(ISNUMBER(SEARCH('2 Crop Water Requirement'!$B$24,'Data Validation Sheet'!U124)),MAX($T$1:T123)+1,0)","v":0},{"$f":"'Crop Information'!B129","v":"Pineapple (with grass cover - Hawaii)"},null,{"$f":"IFERROR(VLOOKUP(ROWS($W$2:W124),$T$2:$U$763,2,FALSE),\"\")","v":""},null,null,{"$f":"IF(ISNUMBER(SEARCH('2 Crop Water Requirement'!$B$26,'Data Validation Sheet'!AA124)),MAX($Z$1:Z123)+1,0)","v":0},{"$f":"'Crop Information'!B129","v":"Pineapple (with grass cover - Hawaii)"},null,{"$f":"IFERROR(VLOOKUP(ROWS($AC$2:AC124),$Z$2:$AA$763,2,FALSE),\"\")","v":""},null,null,{"$f":"IF(ISNUMBER(SEARCH('2 Crop Water Requirement'!B$28,'Data Validation Sheet'!AG124)),MAX($AF$1:AF123)+1,0)","v":0},{"$f":"'Crop Information'!B129","v":"Pineapple (with grass cover - Hawaii)"},null,{"$f":"IFERROR(VLOOKUP(ROWS($AI$2:AI124),$AF$2:$AG$763,2,FALSE),\"\")","v":""},null,null,{"$f":"IF(ISNUMBER(SEARCH('2 Crop Water Requirement'!$B$30,'Data Validation Sheet'!AM124)),MAX($AL$1:AL123)+1,0)","v":0},{"$f":"'Crop Information'!B129","v":"Pineapple (with grass cover - Hawaii)"},null,{"$f":"IFERROR(VLOOKUP(ROWS($AO$2:AO124),$AL$2:$AM$763,2,FALSE),\"\")","v":""}]
[null,null,null,null,null,null,null,null,null,null,null,null,null,{"$f":"IF(ISNUMBER(SEARCH('2 Crop Water Requirement'!$B$22,'Data Validation Sheet'!O125)),MAX($N$1:N124)+1,0)","v":0},{"$f":"'Crop Information'!B130","v":"Pistachios (no ground cover - Feb - Mediterranean)"},null,{"$f":"IFERROR(VLOOKUP(ROWS($Q$2:Q125),$N$2:$O$763,2,FALSE),\"\")","v":""},null,null,{"$f":"IF(ISNUMBER(SEARCH('2 Crop Water Requirement'!$B$24,'Data Validation Sheet'!U125)),MAX($T$1:T124)+1,0)","v":0},{"$f":"'Crop Information'!B130","v":"Pistachios (no ground cover - Feb - Mediterranean)"},null,{"$f":"IFERROR(VLOOKUP(ROWS($W$2:W125),$T$2:$U$763,2,FALSE),\"\")","v":""},null,null,{"$f":"IF(ISNUMBER(SEARCH('2 Crop Water Requirement'!$B$26,'Data Validation Sheet'!AA125)),MAX($Z$1:Z124)+1,0)","v":0},{"$f":"'Crop Information'!B130","v":"Pistachios (no ground cover - Feb - Mediterranean)"},null,{"$f":"IFERROR(VLOOKUP(ROWS($AC$2:AC125),$Z$2:$AA$763,2,FALSE),\"\")","v":""},null,null,{"$f":"IF(ISNUMBER(SEARCH('2 Crop Water Requirement'!B$28,'Data Validation Sheet'!AG125)),MAX($AF$1:AF124)+1,0)","v":0},{"$f":"'Crop Information'!B130","v":"Pistachios (no ground cover - Feb - Mediterranean)"},null,{"$f":"IFERROR(VLOOKUP(ROWS($AI$2:AI125),$AF$2:$AG$763,2,FALSE),\"\")","v":""},null,null,{"$f":"IF(ISNUMBER(SEARCH('2 Crop Water Requirement'!$B$30,'Data Validation Sheet'!AM125)),MAX($AL$1:AL124)+1,0)","v":0},{"$f":"'Crop Information'!B130","v":"Pistachios (no ground cover - Feb - Mediterranean)"},null,{"$f":"IFERROR(VLOOKUP(ROWS($AO$2:AO125),$AL$2:$AM$763,2,FALSE),\"\")","v":""}]
[null,null,null,null,null,null,null,null,null,null,null,null,null,{"$f":"IF(ISNUMBER(SEARCH('2 Crop Water Requirement'!$B$22,'Data Validation Sheet'!O126)),MAX($N$1:N125)+1,0)","v":0},{"$f":"'Crop Information'!B131","v":"Potato (Jan/Nov - semiarid climate)"},null,{"$f":"IFERROR(VLOOKUP(ROWS($Q$2:Q126),$N$2:$O$763,2,FALSE),\"\")","v":""},null,null,{"$f":"IF(ISNUMBER(SEARCH('2 Crop Water Requirement'!$B$24,'Data Validation Sheet'!U126)),MAX($T$1:T125)+1,0)","v":0},{"$f":"'Crop Information'!B131","v":"Potato (Jan/Nov - semiarid climate)"},null,{"$f":"IFERROR(VLOOKUP(ROWS($W$2:W126),$T$2:$U$763,2,FALSE),\"\")","v":""},null,null,{"$f":"IF(ISNUMBER(SEARCH('2 Crop Water Requirement'!$B$26,'Data Validation Sheet'!AA126)),MAX($Z$1:Z125)+1,0)","v":0},{"$f":"'Crop Information'!B131","v":"Potato (Jan/Nov - semiarid climate)"},null,{"$f":"IFERROR(VLOOKUP(ROWS($AC$2:AC126),$Z$2:$AA$763,2,FALSE),\"\")","v":""},null,null,{"$f":"IF(ISNUMBER(SEARCH('2 Crop Water Requirement'!B$28,'Data Validation Sheet'!AG126)),MAX($AF$1:AF125)+1,0)","v":0},{"$f":"'Crop Information'!B131","v":"Potato (Jan/Nov - semiarid climate)"},null,{"$f":"IFERROR(VLOOKUP(ROWS($AI$2:AI126),$AF$2:$AG$763,2,FALSE),\"\")","v":""},null,null,{"$f":"IF(ISNUMBER(SEARCH('2 Crop Water Requirement'!$B$30,'Data Validation Sheet'!AM126)),MAX($AL$1:AL125)+1,0)","v":0},{"$f":"'Crop Information'!B131","v":"Potato (Jan/Nov - semiarid climate)"},null,{"$f":"IFERROR(VLOOKUP(ROWS($AO$2:AO126),$AL$2:$AM$763,2,FALSE),\"\")","v":""}]
[null,null,null,null,null,null,null,null,null,null,null,null,null,{"$f":"IF(ISNUMBER(SEARCH('2 Crop Water Requirement'!$B$22,'Data Validation Sheet'!O127)),MAX($N$1:N126)+1,0)","v":0},{"$f":"'Crop Information'!B132","v":"Potato (May - Continental Climate )"},null,{"$f":"IFERROR(VLOOKUP(ROWS($Q$2:Q127),$N$2:$O$763,2,FALSE),\"\")","v":""},null,null,{"$f":"IF(ISNUMBER(SEARCH('2 Crop Water Requirement'!$B$24,'Data Validation Sheet'!U127)),MAX($T$1:T126)+1,0)","v":0},{"$f":"'Crop Information'!B132","v":"Potato (May - Continental Climate )"},null,{"$f":"IFERROR(VLOOKUP(ROWS($W$2:W127),$T$2:$U$763,2,FALSE),\"\")","v":""},null,null,{"$f":"IF(ISNUMBER(SEARCH('2 Crop Water Requirement'!$B$26,'Data Validation Sheet'!AA127)),MAX($Z$1:Z126)+1,0)","v":0},{"$f":"'Crop Information'!B132","v":"Potato (May - Continental Climate )"},null,{"$f":"IFERROR(VLOOKUP(ROWS($AC$2:AC127),$Z$2:$AA$763,2,FALSE),\"\")","v":""},null,null,{"$f":"IF(ISNUMBER(SEARCH('2 Crop Water Requirement'!B$28,'Data Validation Sheet'!AG127)),MAX($AF$1:AF126)+1,0)","v":0},{"$f":"'Crop Information'!B132","v":"Potato (May - Continental Climate )"},null,{"$f":"IFERROR(VLOOKUP(ROWS($AI$2:AI127),$AF$2:$AG$763,2,FALSE),\"\")","v":""},null,null,{"$f":"IF(ISNUMBER(SEARCH('2 Crop Water Requirement'!$B$30,'Data Validation Sheet'!AM127)),MAX($AL$1:AL126)+1,0)","v":0},{"$f":"'Crop Information'!B132","v":"Potato (May - Continental Climate )"},null,{"$f":"IFERROR(VLOOKUP(ROWS($AO$2:AO127),$AL$2:$AM$763,2,FALSE),\"\")","v":""}]
[null,null,null,null,null,null,null,null,null,null,null,null,null,{"$f":"IF(ISNUMBER(SEARCH('2 Crop Water Requirement'!$B$22,'Data Validation Sheet'!O128)),MAX($N$1:N127)+1,0)","v":0},{"$f":"'Crop Information'!B133","v":"Potato (Apr - Europe)"},null,{"$f":"IFERROR(VLOOKUP(ROWS($Q$2:Q128),$N$2:$O$763,2,FALSE),\"\")","v":""},null,null,{"$f":"IF(ISNUMBER(SEARCH('2 Crop Water Requirement'!$B$24,'Data Validation Sheet'!U128)),MAX($T$1:T127)+1,0)","v":0},{"$f":"'Crop Information'!B133","v":"Potato (Apr - Europe)"},null,{"$f":"IFERROR(VLOOKUP(ROWS($W$2:W128),$T$2:$U$763,2,FALSE),\"\")","v":""},null,null,{"$f":"IF(ISNUMBER(SEARCH('2 Crop Water Requirement'!$B$26,'Data Validation Sheet'!AA128)),MAX($Z$1:Z127)+1,0)","v":0},{"$f":"'Crop Information'!B133","v":"Potato (Apr - Europe)"},null,{"$f":"IFERROR(VLOOKUP(ROWS($AC$2:AC128),$Z$2:$AA$763,2,FALSE),\"\")","v":""},null,null,{"$f":"IF(ISNUMBER(SEARCH('2 Crop Water Requirement'!B$28,'Data Validation Sheet'!AG128)),MAX($AF$1:AF127)+1,0)","v":0},{"$f":"'Crop Information'!B133","v":"Potato (Apr - Europe)"},null,{"$f":"IFERROR(VLOOKUP(ROWS($AI$2:AI128),$AF$2:$AG$763,2,FALSE),\"\")","v":""},null,null,{"$f":"IF(ISNUMBER(SEARCH('2 Crop Water Requirement'!$B$30,'Data Validation Sheet'!AM128)),MAX($AL$1:AL127)+1,0)","v":0},{"$f":"'Crop Information'!B133","v":"Potato (Apr - Europe)"},null,{"$f":"IFERROR(VLOOKUP(ROWS($AO$2:AO128),$AL$2:$AM$763,2,FALSE),\"\")","v":""}]
[null,null,null,null,null,null,null,null,null,null,null,null,null,{"$f":"IF(ISNUMBER(SEARCH('2 Crop Water Requirement'!$B$22,'Data Validation Sheet'!O129)),MAX($N$1:N128)+1,0)","v":0},{"$f":"'Crop Information'!B134","v":"Potato (Apr/May - Idaho, USA )"},null,{"$f":"IFERROR(VLOOKUP(ROWS($Q$2:Q129),$N$2:$O$763,2,FALSE),\"\")","v":""},null,null,{"$f":"IF(ISNUMBER(SEARCH('2 Crop Water Requirement'!$B$24,'Data Validation Sheet'!U129)),MAX($T$1:T128)+1,0)","v":0},{"$f":"'Crop Information'!B134","v":"Potato (Apr/May - Idaho, USA )"},null,{"$f":"IFERROR(VLOOKUP(ROWS($W$2:W129),$T$2:$U$763,2,FALSE),\"\")","v":""},null,null,{"$f":"IF(ISNUMBER(SEARCH('2 Crop Water Requirement'!$B$26,'Data Validation Sheet'!AA129)),MAX($Z$1:Z128)+1,0)","v":0},{"$f":"'Crop Information'!B134","v":"Potato (Apr/May - Idaho, USA )"},null,{"$f":"IFERROR(VLOOKUP(ROWS($AC$2:AC129),$Z$2:$AA$763,2,FALSE),\"\")","v":""},null,null,{"$f":"IF(ISNUMBER(SEARCH('2 Crop Water Requirement'!B$28,'Data Validation Sheet'!AG129)),MAX($AF$1:AF128)+1,0)","v":0},{"$f":"'Crop Information'!B134","v":"Potato (Apr/May - Idaho, USA )"},null,{"$f":"IFERROR(VLOOKUP(ROWS($AI$2:AI129),$AF$2:$AG$763,2,FALSE),\"\")","v":""},null,null,{"$f":"IF(ISNUMBER(SEARCH('2 Crop Water Requirement'!$B$30,'Data Validation Sheet'!AM129)),MAX($AL$1:AL128)+1,0)","v":0},{"$f":"'Crop Information'!B134","v":"Potato (Apr/May - Idaho, USA )"},null,{"$f":"IFERROR(VLOOKUP(ROWS($AO$2:AO129),$AL$2:$AM$763,2,FALSE),\"\")","v":""}]
[null,null,null,null,null,null,null,null,null,null,null,null,null,{"$f":"IF(ISNUMBER(SEARCH('2 Crop Water Requirement'!$B$22,'Data Validation Sheet'!O130)),MAX($N$1:N129)+1,0)","v":0},{"$f":"'Crop Information'!B135","v":"Potato (Dec - California desert)"},null,{"$f":"IFERROR(VLOOKUP(ROWS($Q$2:Q130),$N$2:$O$763,2,FALSE),\"\")","v":""},null,null,{"$f":"IF(ISNUMBER(SEARCH('2 Crop Water Requirement'!$B$24,'Data Validation Sheet'!U130)),MAX($T$1:T129)+1,0)","v":0},{"$f":"'Crop Information'!B135","v":"Potato (Dec - California desert)"},null,{"$f":"IFERROR(VLOOKUP(ROWS($W$2:W130),$T$2:$U$763,2,FALSE),\"\")","v":""},null,null,{"$f":"IF(ISNUMBER(SEARCH('2 Crop Water Requirement'!$B$26,'Data Validation Sheet'!AA130)),MAX($Z$1:Z129)+1,0)","v":0},{"$f":"'Crop Information'!B135","v":"Potato (Dec - California desert)"},null,{"$f":"IFERROR(VLOOKUP(ROWS($AC$2:AC130),$Z$2:$AA$763,2,FALSE),\"\")","v":""},null,null,{"$f":"IF(ISNUMBER(SEARCH('2 Crop Water Requirement'!B$28,'Data Validation Sheet'!AG130)),MAX($AF$1:AF129)+1,0)","v":0},{"$f":"'Crop Information'!B135","v":"Potato (Dec - California desert)"},null,{"$f":"IFERROR(VLOOKUP(ROWS($AI$2:AI130),$AF$2:$AG$763,2,FALSE),\"\")","v":""},null,null,{"$f":"IF(ISNUMBER(SEARCH('2 Crop Water Requirement'!$B$30,'Data Validation Sheet'!AM130)),MAX($AL$1:AL129)+1,0)","v":0},{"$f":"'Crop Information'!B135","v":"Potato (Dec - California desert)"},null,{"$f":"IFERROR(VLOOKUP(ROWS($AO$2:AO130),$AL$2:$AM$763,2,FALSE),\"\")","v":""}]
[null,null,null,null,null,null,null,null,null,null,null,null,null,{"$f":"IF(ISNUMBER(SEARCH('2 Crop Water Requirement'!$B$22,'Data Validation Sheet'!O131)),MAX($N$1:N130)+1,0)","v":0},{"$f":"'Crop Information'!B136","v":"Pumpkin, Winter squash (Mar/Aug - Mediterranean)"},null,{"$f":"IFERROR(VLOOKUP(ROWS($Q$2:Q131),$N$2:$O$763,2,FALSE),\"\")","v":""},null,null,{"$f":"IF(ISNUMBER(SEARCH('2 Crop Water Requirement'!$B$24,'Data Validation Sheet'!U131)),MAX($T$1:T130)+1,0)","v":0},{"$f":"'Crop Information'!B136","v":"Pumpkin, Winter squash (Mar/Aug - Mediterranean)"},null,{"$f":"IFERROR(VLOOKUP(ROWS($W$2:W131),$T$2:$U$763,2,FALSE),\"\")","v":""},null,null,{"$f":"IF(ISNUMBER(SEARCH('2 Crop Water Requirement'!$B$26,'Data Validation Sheet'!AA131)),MAX($Z$1:Z130)+1,0)","v":0},{"$f":"'Crop Information'!B136","v":"Pumpkin, Winter squash (Mar/Aug - Mediterranean)"},null,{"$f":"IFERROR(VLOOKUP(ROWS($AC$2:AC131),$Z$2:$AA$763,2,FALSE),\"\")","v":""},null,null,{"$f":"IF(ISNUMBER(SEARCH('2 Crop Water Requirement'!B$28,'Data Validation Sheet'!AG131)),MAX($AF$1:AF130)+1,0)","v":0},{"$f":"'Crop Information'!B136","v":"Pumpkin, Winter squash (Mar/Aug - Mediterranean)"},null,{"$f":"IFERROR(VLOOKUP(ROWS($AI$2:AI131),$AF$2:$AG$763,2,FALSE),\"\")","v":""},null,null,{"$f":"IF(ISNUMBER(SEARCH('2 Crop Water Requirement'!$B$30,'Data Validation Sheet'!AM131)),MAX($AL$1:AL130)+1,0)","v":0},{"$f":"'Crop Information'!B136","v":"Pumpkin, Winter squash (Mar/Aug - Mediterranean)"},null,{"$f":"IFERROR(VLOOKUP(ROWS($AO$2:AO131),$AL$2:$AM$763,2,FALSE),\"\")","v":""}]
[null,null,null,null,null,null,null,null,null,null,null,null,null,{"$f":"IF(ISNUMBER(SEARCH('2 Crop Water Requirement'!$B$22,'Data Validation Sheet'!O132)),MAX($N$1:N131)+1,0)","v":0},{"$f":"'Crop Information'!B137","v":"Pumpkin, Winter squash (Jun - Europe)"},null,{"$f":"IFERROR(VLOOKUP(ROWS($Q$2:Q132),$N$2:$O$763,2,FALSE),\"\")","v":""},null,null,{"$f":"IF(ISNUMBER(SEARCH('2 Crop Water Requirement'!$B$24,'Data Validation Sheet'!U132)),MAX($T$1:T131)+1,0)","v":0},{"$f":"'Crop Information'!B137","v":"Pumpkin, Winter squash (Jun - Europe)"},null,{"$f":"IFERROR(VLOOKUP(ROWS($W$2:W132),$T$2:$U$763,2,FALSE),\"\")","v":""},null,null,{"$f":"IF(ISNUMBER(SEARCH('2 Crop Water Requirement'!$B$26,'Data Validation Sheet'!AA132)),MAX($Z$1:Z131)+1,0)","v":0},{"$f":"'Crop Information'!B137","v":"Pumpkin, Winter squash (Jun - Europe)"},null,{"$f":"IFERROR(VLOOKUP(ROWS($AC$2:AC132),$Z$2:$AA$763,2,FALSE),\"\")","v":""},null,null,{"$f":"IF(ISNUMBER(SEARCH('2 Crop Water Requirement'!B$28,'Data Validation Sheet'!AG132)),MAX($AF$1:AF131)+1,0)","v":0},{"$f":"'Crop Information'!B137","v":"Pumpkin, Winter squash (Jun - Europe)"},null,{"$f":"IFERROR(VLOOKUP(ROWS($AI$2:AI132),$AF$2:$AG$763,2,FALSE),\"\")","v":""},null,null,{"$f":"IF(ISNUMBER(SEARCH('2 Crop Water Requirement'!$B$30,'Data Validation Sheet'!AM132)),MAX($AL$1:AL131)+1,0)","v":0},{"$f":"'Crop Information'!B137","v":"Pumpkin, Winter squash (Jun - Europe)"},null,{"$f":"IFERROR(VLOOKUP(ROWS($AO$2:AO132),$AL$2:$AM$763,2,FALSE),\"\")","v":""}]
[null,null,null,null,null,null,null,null,null,null,null,null,null,{"$f":"IF(ISNUMBER(SEARCH('2 Crop Water Requirement'!$B$22,'Data Validation Sheet'!O133)),MAX($N$1:N132)+1,0)","v":0},{"$f":"'Crop Information'!B138","v":"Radish (Mar/Apr - Mediterranean/Europe)"},null,{"$f":"IFERROR(VLOOKUP(ROWS($Q$2:Q133),$N$2:$O$763,2,FALSE),\"\")","v":""},null,null,{"$f":"IF(ISNUMBER(SEARCH('2 Crop Water Requirement'!$B$24,'Data Validation Sheet'!U133)),MAX($T$1:T132)+1,0)","v":0},{"$f":"'Crop Information'!B138","v":"Radish (Mar/Apr - Mediterranean/Europe)"},null,{"$f":"IFERROR(VLOOKUP(ROWS($W$2:W133),$T$2:$U$763,2,FALSE),\"\")","v":""},null,null,{"$f":"IF(ISNUMBER(SEARCH('2 Crop Water Requirement'!$B$26,'Data Validation Sheet'!AA133)),MAX($Z$1:Z132)+1,0)","v":0},{"$f":"'Crop Information'!B138","v":"Radish (Mar/Apr - Mediterranean/Europe)"},null,{"$f":"IFERROR(VLOOKUP(ROWS($AC$2:AC133),$Z$2:$AA$763,2,FALSE),\"\")","v":""},null,null,{"$f":"IF(ISNUMBER(SEARCH('2 Crop Water Requirement'!B$28,'Data Validation Sheet'!AG133)),MAX($AF$1:AF132)+1,0)","v":0},{"$f":"'Crop Information'!B138","v":"Radish (Mar/Apr - Mediterranean/Europe)"},null,{"$f":"IFERROR(VLOOKUP(ROWS($AI$2:AI133),$AF$2:$AG$763,2,FALSE),\"\")","v":""},null,null,{"$f":"IF(ISNUMBER(SEARCH('2 Crop Water Requirement'!$B$30,'Data Validation Sheet'!AM133)),MAX($AL$1:AL132)+1,0)","v":0},{"$f":"'Crop Information'!B138","v":"Radish (Mar/Apr - Mediterranean/Europe)"},null,{"$f":"IFERROR(VLOOKUP(ROWS($AO$2:AO133),$AL$2:$AM$763,2,FALSE),\"\")","v":""}]
[null,null,null,null,null,null,null,null,null,null,null,null,null,{"$f":"IF(ISNUMBER(SEARCH('2 Crop Water Requirement'!$B$22,'Data Validation Sheet'!O134)),MAX($N$1:N133)+1,0)","v":0},{"$f":"'Crop Information'!B139","v":"Radish (Winter - arid region)"},null,{"$f":"IFERROR(VLOOKUP(ROWS($Q$2:Q134),$N$2:$O$763,2,FALSE),\"\")","v":""},null,null,{"$f":"IF(ISNUMBER(SEARCH('2 Crop Water Requirement'!$B$24,'Data Validation Sheet'!U134)),MAX($T$1:T133)+1,0)","v":0},{"$f":"'Crop Information'!B139","v":"Radish (Winter - arid region)"},null,{"$f":"IFERROR(VLOOKUP(ROWS($W$2:W134),$T$2:$U$763,2,FALSE),\"\")","v":""},null,null,{"$f":"IF(ISNUMBER(SEARCH('2 Crop Water Requirement'!$B$26,'Data Validation Sheet'!AA134)),MAX($Z$1:Z133)+1,0)","v":0},{"$f":"'Crop Information'!B139","v":"Radish (Winter - arid region)"},null,{"$f":"IFERROR(VLOOKUP(ROWS($AC$2:AC134),$Z$2:$AA$763,2,FALSE),\"\")","v":""},null,null,{"$f":"IF(ISNUMBER(SEARCH('2 Crop Water Requirement'!B$28,'Data Validation Sheet'!AG134)),MAX($AF$1:AF133)+1,0)","v":0},{"$f":"'Crop Information'!B139","v":"Radish (Winter - arid region)"},null,{"$f":"IFERROR(VLOOKUP(ROWS($AI$2:AI134),$AF$2:$AG$763,2,FALSE),\"\")","v":""},null,null,{"$f":"IF(ISNUMBER(SEARCH('2 Crop Water Requirement'!$B$30,'Data Validation Sheet'!AM134)),MAX($AL$1:AL133)+1,0)","v":0},{"$f":"'Crop Information'!B139","v":"Radish (Winter - arid region)"},null,{"$f":"IFERROR(VLOOKUP(ROWS($AO$2:AO134),$AL$2:$AM$763,2,FALSE),\"\")","v":""}]
[null,null,null,null,null,null,null,null,null,null,null,null,null,{"$f":"IF(ISNUMBER(SEARCH('2 Crop Water Requirement'!$B$22,'Data Validation Sheet'!O135)),MAX($N$1:N134)+1,0)","v":0},{"$f":"'Crop Information'!B140","v":"Rice (Dec/May - Tropics/Mediterranean)"},null,{"$f":"IFERROR(VLOOKUP(ROWS($Q$2:Q135),$N$2:$O$763,2,FALSE),\"\")","v":""},null,null,{"$f":"IF(ISNUMBER(SEARCH('2 Crop Water Requirement'!$B$24,'Data Validation Sheet'!U135)),MAX($T$1:T134)+1,0)","v":0},{"$f":"'Crop Information'!B140","v":"Rice (Dec/May - Tropics/Mediterranean)"},null,{"$f":"IFERROR(VLOOKUP(ROWS($W$2:W135),$T$2:$U$763,2,FALSE),\"\")","v":""},null,null,{"$f":"IF(ISNUMBER(SEARCH('2 Crop Water Requirement'!$B$26,'Data Validation Sheet'!AA135)),MAX($Z$1:Z134)+1,0)","v":0},{"$f":"'Crop Information'!B140","v":"Rice (Dec/May - Tropics/Mediterranean)"},null,{"$f":"IFERROR(VLOOKUP(ROWS($AC$2:AC135),$Z$2:$AA$763,2,FALSE),\"\")","v":""},null,null,{"$f":"IF(ISNUMBER(SEARCH('2 Crop Water Requirement'!B$28,'Data Validation Sheet'!AG135)),MAX($AF$1:AF134)+1,0)","v":0},{"$f":"'Crop Information'!B140","v":"Rice (Dec/May - Tropics/Mediterranean)"},null,{"$f":"IFERROR(VLOOKUP(ROWS($AI$2:AI135),$AF$2:$AG$763,2,FALSE),\"\")","v":""},null,null,{"$f":"IF(ISNUMBER(SEARCH('2 Crop Water Requirement'!$B$30,'Data Validation Sheet'!AM135)),MAX($AL$1:AL134)+1,0)","v":0},{"$f":"'Crop Information'!B140","v":"Rice (Dec/May - Tropics/Mediterranean)"},null,{"$f":"IFERROR(VLOOKUP(ROWS($AO$2:AO135),$AL$2:$AM$763,2,FALSE),\"\")","v":""}]
[null,null,null,null,null,null,null,null,null,null,null,null,null,{"$f":"IF(ISNUMBER(SEARCH('2 Crop Water Requirement'!$B$22,'Data Validation Sheet'!O136)),MAX($N$1:N135)+1,0)","v":0},{"$f":"'Crop Information'!B141","v":"Safflower (Apr - California)"},null,{"$f":"IFERROR(VLOOKUP(ROWS($Q$2:Q136),$N$2:$O$763,2,FALSE),\"\")","v":""},null,null,{"$f":"IF(ISNUMBER(SEARCH('2 Crop Water Requirement'!$B$24,'Data Validation Sheet'!U136)),MAX($T$1:T135)+1,0)","v":0},{"$f":"'Crop Information'!B141","v":"Safflower (Apr - California)"},null,{"$f":"IFERROR(VLOOKUP(ROWS($W$2:W136),$T$2:$U$763,2,FALSE),\"\")","v":""},null,null,{"$f":"IF(ISNUMBER(SEARCH('2 Crop Water Requirement'!$B$26,'Data Validation Sheet'!AA136)),MAX($Z$1:Z135)+1,0)","v":0},{"$f":"'Crop Information'!B141","v":"Safflower (Apr - California)"},null,{"$f":"IFERROR(VLOOKUP(ROWS($AC$2:AC136),$Z$2:$AA$763,2,FALSE),\"\")","v":""},null,null,{"$f":"IF(ISNUMBER(SEARCH('2 Crop Water Requirement'!B$28,'Data Validation Sheet'!AG136)),MAX($AF$1:AF135)+1,0)","v":0},{"$f":"'Crop Information'!B141","v":"Safflower (Apr - California)"},null,{"$f":"IFERROR(VLOOKUP(ROWS($AI$2:AI136),$AF$2:$AG$763,2,FALSE),\"\")","v":""},null,null,{"$f":"IF(ISNUMBER(SEARCH('2 Crop Water Requirement'!$B$30,'Data Validation Sheet'!AM136)),MAX($AL$1:AL135)+1,0)","v":0},{"$f":"'Crop Information'!B141","v":"Safflower (Apr - California)"},null,{"$f":"IFERROR(VLOOKUP(ROWS($AO$2:AO136),$AL$2:$AM$763,2,FALSE),\"\")","v":""}]
[null,null,null,null,null,null,null,null,null,null,null,null,null,{"$f":"IF(ISNUMBER(SEARCH('2 Crop Water Requirement'!$B$22,'Data Validation Sheet'!O137)),MAX($N$1:N136)+1,0)","v":0},{"$f":"'Crop Information'!B142","v":"Safflower (Mar - high latitudes)"},null,{"$f":"IFERROR(VLOOKUP(ROWS($Q$2:Q137),$N$2:$O$763,2,FALSE),\"\")","v":""},null,null,{"$f":"IF(ISNUMBER(SEARCH('2 Crop Water Requirement'!$B$24,'Data Validation Sheet'!U137)),MAX($T$1:T136)+1,0)","v":0},{"$f":"'Crop Information'!B142","v":"Safflower (Mar - high latitudes)"},null,{"$f":"IFERROR(VLOOKUP(ROWS($W$2:W137),$T$2:$U$763,2,FALSE),\"\")","v":""},null,null,{"$f":"IF(ISNUMBER(SEARCH('2 Crop Water Requirement'!$B$26,'Data Validation Sheet'!AA137)),MAX($Z$1:Z136)+1,0)","v":0},{"$f":"'Crop Information'!B142","v":"Safflower (Mar - high latitudes)"},null,{"$f":"IFERROR(VLOOKUP(ROWS($AC$2:AC137),$Z$2:$AA$763,2,FALSE),\"\")","v":""},null,null,{"$f":"IF(ISNUMBER(SEARCH('2 Crop Water Requirement'!B$28,'Data Validation Sheet'!AG137)),MAX($AF$1:AF136)+1,0)","v":0},{"$f":"'Crop Information'!B142","v":"Safflower (Mar - high latitudes)"},null,{"$f":"IFERROR(VLOOKUP(ROWS($AI$2:AI137),$AF$2:$AG$763,2,FALSE),\"\")","v":""},null,null,{"$f":"IF(ISNUMBER(SEARCH('2 Crop Water Requirement'!$B$30,'Data Validation Sheet'!AM137)),MAX($AL$1:AL136)+1,0)","v":0},{"$f":"'Crop Information'!B142","v":"Safflower (Mar - high latitudes)"},null,{"$f":"IFERROR(VLOOKUP(ROWS($AO$2:AO137),$AL$2:$AM$763,2,FALSE),\"\")","v":""}]
[null,null,null,null,null,null,null,null,null,null,null,null,null,{"$f":"IF(ISNUMBER(SEARCH('2 Crop Water Requirement'!$B$22,'Data Validation Sheet'!O138)),MAX($N$1:N137)+1,0)","v":0},{"$f":"'Crop Information'!B143","v":"Safflower (Oct/Nov - arid region)"},null,{"$f":"IFERROR(VLOOKUP(ROWS($Q$2:Q138),$N$2:$O$763,2,FALSE),\"\")","v":""},null,null,{"$f":"IF(ISNUMBER(SEARCH('2 Crop Water Requirement'!$B$24,'Data Validation Sheet'!U138)),MAX($T$1:T137)+1,0)","v":0},{"$f":"'Crop Information'!B143","v":"Safflower (Oct/Nov - arid region)"},null,{"$f":"IFERROR(VLOOKUP(ROWS($W$2:W138),$T$2:$U$763,2,FALSE),\"\")","v":""},null,null,{"$f":"IF(ISNUMBER(SEARCH('2 Crop Water Requirement'!$B$26,'Data Validation Sheet'!AA138)),MAX($Z$1:Z137)+1,0)","v":0},{"$f":"'Crop Information'!B143","v":"Safflower (Oct/Nov - arid region)"},null,{"$f":"IFERROR(VLOOKUP(ROWS($AC$2:AC138),$Z$2:$AA$763,2,FALSE),\"\")","v":""},null,null,{"$f":"IF(ISNUMBER(SEARCH('2 Crop Water Requirement'!B$28,'Data Validation Sheet'!AG138)),MAX($AF$1:AF137)+1,0)","v":0},{"$f":"'Crop Information'!B143","v":"Safflower (Oct/Nov - arid region)"},null,{"$f":"IFERROR(VLOOKUP(ROWS($AI$2:AI138),$AF$2:$AG$763,2,FALSE),\"\")","v":""},null,null,{"$f":"IF(ISNUMBER(SEARCH('2 Crop Water Requirement'!$B$30,'Data Validation Sheet'!AM138)),MAX($AL$1:AL137)+1,0)","v":0},{"$f":"'Crop Information'!B143","v":"Safflower (Oct/Nov - arid region)"},null,{"$f":"IFERROR(VLOOKUP(ROWS($AO$2:AO138),$AL$2:$AM$763,2,FALSE),\"\")","v":""}]
[null,null,null,null,null,null,null,null,null,null,null,null,null,{"$f":"IF(ISNUMBER(SEARCH('2 Crop Water Requirement'!$B$22,'Data Validation Sheet'!O139)),MAX($N$1:N138)+1,0)","v":0},{"$f":"'Crop Information'!B144","v":"Sesame (Jun - China)"},null,{"$f":"IFERROR(VLOOKUP(ROWS($Q$2:Q139),$N$2:$O$763,2,FALSE),\"\")","v":""},null,null,{"$f":"IF(ISNUMBER(SEARCH('2 Crop Water Requirement'!$B$24,'Data Validation Sheet'!U139)),MAX($T$1:T138)+1,0)","v":0},{"$f":"'Crop Information'!B144","v":"Sesame (Jun - China)"},null,{"$f":"IFERROR(VLOOKUP(ROWS($W$2:W139),$T$2:$U$763,2,FALSE),\"\")","v":""},null,null,{"$f":"IF(ISNUMBER(SEARCH('2 Crop Water Requirement'!$B$26,'Data Validation Sheet'!AA139)),MAX($Z$1:Z138)+1,0)","v":0},{"$f":"'Crop Information'!B144","v":"Sesame (Jun - China)"},null,{"$f":"IFERROR(VLOOKUP(ROWS($AC$2:AC139),$Z$2:$AA$763,2,FALSE),\"\")","v":""},null,null,{"$f":"IF(ISNUMBER(SEARCH('2 Crop Water Requirement'!B$28,'Data Validation Sheet'!AG139)),MAX($AF$1:AF138)+1,0)","v":0},{"$f":"'Crop Information'!B144","v":"Sesame (Jun - China)"},null,{"$f":"IFERROR(VLOOKUP(ROWS($AI$2:AI139),$AF$2:$AG$763,2,FALSE),\"\")","v":""},null,null,{"$f":"IF(ISNUMBER(SEARCH('2 Crop Water Requirement'!$B$30,'Data Validation Sheet'!AM139)),MAX($AL$1:AL138)+1,0)","v":0},{"$f":"'Crop Information'!B144","v":"Sesame (Jun - China)"},null,{"$f":"IFERROR(VLOOKUP(ROWS($AO$2:AO139),$AL$2:$AM$763,2,FALSE),\"\")","v":""}]
[null,null,null,null,null,null,null,null,null,null,null,null,null,{"$f":"IF(ISNUMBER(SEARCH('2 Crop Water Requirement'!$B$22,'Data Validation Sheet'!O140)),MAX($N$1:N139)+1,0)","v":0},{"$f":"'Crop Information'!B145","v":"Sorghum (grain - May/Jun - USA/Pakistan/Mediterranean)"},null,{"$f":"IFERROR(VLOOKUP(ROWS($Q$2:Q140),$N$2:$O$763,2,FALSE),\"\")","v":""},null,null,{"$f":"IF(ISNUMBER(SEARCH('2 Crop Water Requirement'!$B$24,'Data Validation Sheet'!U140)),MAX($T$1:T139)+1,0)","v":0},{"$f":"'Crop Information'!B145","v":"Sorghum (grain - May/Jun - USA/Pakistan/Mediterranean)"},null,{"$f":"IFERROR(VLOOKUP(ROWS($W$2:W140),$T$2:$U$763,2,FALSE),\"\")","v":""},null,null,{"$f":"IF(ISNUMBER(SEARCH('2 Crop Water Requirement'!$B$26,'Data Validation Sheet'!AA140)),MAX($Z$1:Z139)+1,0)","v":0},{"$f":"'Crop Information'!B145","v":"Sorghum (grain - May/Jun - USA/Pakistan/Mediterranean)"},null,{"$f":"IFERROR(VLOOKUP(ROWS($AC$2:AC140),$Z$2:$AA$763,2,FALSE),\"\")","v":""},null,null,{"$f":"IF(ISNUMBER(SEARCH('2 Crop Water Requirement'!B$28,'Data Validation Sheet'!AG140)),MAX($AF$1:AF139)+1,0)","v":0},{"$f":"'Crop Information'!B145","v":"Sorghum (grain - May/Jun - USA/Pakistan/Mediterranean)"},null,{"$f":"IFERROR(VLOOKUP(ROWS($AI$2:AI140),$AF$2:$AG$763,2,FALSE),\"\")","v":""},null,null,{"$f":"IF(ISNUMBER(SEARCH('2 Crop Water Requirement'!$B$30,'Data Validation Sheet'!AM140)),MAX($AL$1:AL139)+1,0)","v":0},{"$f":"'Crop Information'!B145","v":"Sorghum (grain - May/Jun - USA/Pakistan/Mediterranean)"},null,{"$f":"IFERROR(VLOOKUP(ROWS($AO$2:AO140),$AL$2:$AM$763,2,FALSE),\"\")","v":""}]
[null,null,null,null,null,null,null,null,null,null,null,null,null,{"$f":"IF(ISNUMBER(SEARCH('2 Crop Water Requirement'!$B$22,'Data Validation Sheet'!O141)),MAX($N$1:N140)+1,0)","v":0},{"$f":"'Crop Information'!B146","v":"Sorghum (grain - Mar/Apr - arid region)"},null,{"$f":"IFERROR(VLOOKUP(ROWS($Q$2:Q141),$N$2:$O$763,2,FALSE),\"\")","v":""},null,null,{"$f":"IF(ISNUMBER(SEARCH('2 Crop Water Requirement'!$B$24,'Data Validation Sheet'!U141)),MAX($T$1:T140)+1,0)","v":0},{"$f":"'Crop Information'!B146","v":"Sorghum (grain - Mar/Apr - arid region)"},null,{"$f":"IFERROR(VLOOKUP(ROWS($W$2:W141),$T$2:$U$763,2,FALSE),\"\")","v":""},null,null,{"$f":"IF(ISNUMBER(SEARCH('2 Crop Water Requirement'!$B$26,'Data Validation Sheet'!AA141)),MAX($Z$1:Z140)+1,0)","v":0},{"$f":"'Crop Information'!B146","v":"Sorghum (grain - Mar/Apr - arid region)"},null,{"$f":"IFERROR(VLOOKUP(ROWS($AC$2:AC141),$Z$2:$AA$763,2,FALSE),\"\")","v":""},null,null,{"$f":"IF(ISNUMBER(SEARCH('2 Crop Water Requirement'!B$28,'Data Validation Sheet'!AG141)),MAX($AF$1:AF140)+1,0)","v":0},{"$f":"'Crop Information'!B146","v":"Sorghum (grain - Mar/Apr - arid region)"},null,{"$f":"IFERROR(VLOOKUP(ROWS($AI$2:AI141),$AF$2:$AG$763,2,FALSE),\"\")","v":""},null,null,{"$f":"IF(ISNUMBER(SEARCH('2 Crop Water Requirement'!$B$30,'Data Validation Sheet'!AM141)),MAX($AL$1:AL140)+1,0)","v":0},{"$f":"'Crop Information'!B146","v":"Sorghum (grain - Mar/Apr - arid region)"},null,{"$f":"IFERROR(VLOOKUP(ROWS($AO$2:AO141),$AL$2:$AM$763,2,FALSE),\"\")","v":""}]
[null,null,null,null,null,null,null,null,null,null,null,null,null,{"$f":"IF(ISNUMBER(SEARCH('2 Crop Water Requirement'!$B$22,'Data Validation Sheet'!O142)),MAX($N$1:N141)+1,0)","v":0},{"$f":"'Crop Information'!B147","v":"Sorghum (sweet - May/Jun - USA/Pakistan/Mediterranean)"},null,{"$f":"IFERROR(VLOOKUP(ROWS($Q$2:Q142),$N$2:$O$763,2,FALSE),\"\")","v":""},null,null,{"$f":"IF(ISNUMBER(SEARCH('2 Crop Water Requirement'!$B$24,'Data Validation Sheet'!U142)),MAX($T$1:T141)+1,0)","v":0},{"$f":"'Crop Information'!B147","v":"Sorghum (sweet - May/Jun - USA/Pakistan/Mediterranean)"},null,{"$f":"IFERROR(VLOOKUP(ROWS($W$2:W142),$T$2:$U$763,2,FALSE),\"\")","v":""},null,null,{"$f":"IF(ISNUMBER(SEARCH('2 Crop Water Requirement'!$B$26,'Data Validation Sheet'!AA142)),MAX($Z$1:Z141)+1,0)","v":0},{"$f":"'Crop Information'!B147","v":"Sorghum (sweet - May/Jun - USA/Pakistan/Mediterranean)"},null,{"$f":"IFERROR(VLOOKUP(ROWS($AC$2:AC142),$Z$2:$AA$763,2,FALSE),\"\")","v":""},null,null,{"$f":"IF(ISNUMBER(SEARCH('2 Crop Water Requirement'!B$28,'Data Validation Sheet'!AG142)),MAX($AF$1:AF141)+1,0)","v":0},{"$f":"'Crop Information'!B147","v":"Sorghum (sweet - May/Jun - USA/Pakistan/Mediterranean)"},null,{"$f":"IFERROR(VLOOKUP(ROWS($AI$2:AI142),$AF$2:$AG$763,2,FALSE),\"\")","v":""},null,null,{"$f":"IF(ISNUMBER(SEARCH('2 Crop Water Requirement'!$B$30,'Data Validation Sheet'!AM142)),MAX($AL$1:AL141)+1,0)","v":0},{"$f":"'Crop Information'!B147","v":"Sorghum (sweet - May/Jun - USA/Pakistan/Mediterranean)"},null,{"$f":"IFERROR(VLOOKUP(ROWS($AO$2:AO142),$AL$2:$AM$763,2,FALSE),\"\")","v":""}]
[null,null,null,null,null,null,null,null,null,null,null,null,null,{"$f":"IF(ISNUMBER(SEARCH('2 Crop Water Requirement'!$B$22,'Data Validation Sheet'!O143)),MAX($N$1:N142)+1,0)","v":0},{"$f":"'Crop Information'!B148","v":"Sorghum (sweet - Mar/Apr - arid region)"},null,{"$f":"IFERROR(VLOOKUP(ROWS($Q$2:Q143),$N$2:$O$763,2,FALSE),\"\")","v":""},null,null,{"$f":"IF(ISNUMBER(SEARCH('2 Crop Water Requirement'!$B$24,'Data Validation Sheet'!U143)),MAX($T$1:T142)+1,0)","v":0},{"$f":"'Crop Information'!B148","v":"Sorghum (sweet - Mar/Apr - arid region)"},null,{"$f":"IFERROR(VLOOKUP(ROWS($W$2:W143),$T$2:$U$763,2,FALSE),\"\")","v":""},null,null,{"$f":"IF(ISNUMBER(SEARCH('2 Crop Water Requirement'!$B$26,'Data Validation Sheet'!AA143)),MAX($Z$1:Z142)+1,0)","v":0},{"$f":"'Crop Information'!B148","v":"Sorghum (sweet - Mar/Apr - arid region)"},null,{"$f":"IFERROR(VLOOKUP(ROWS($AC$2:AC143),$Z$2:$AA$763,2,FALSE),\"\")","v":""},null,null,{"$f":"IF(ISNUMBER(SEARCH('2 Crop Water Requirement'!B$28,'Data Validation Sheet'!AG143)),MAX($AF$1:AF142)+1,0)","v":0},{"$f":"'Crop Information'!B148","v":"Sorghum (sweet - Mar/Apr - arid region)"},null,{"$f":"IFERROR(VLOOKUP(ROWS($AI$2:AI143),$AF$2:$AG$763,2,FALSE),\"\")","v":""},null,null,{"$f":"IF(ISNUMBER(SEARCH('2 Crop Water Requirement'!$B$30,'Data Validation Sheet'!AM143)),MAX($AL$1:AL142)+1,0)","v":0},{"$f":"'Crop Information'!B148","v":"Sorghum (sweet - Mar/Apr - arid region)"},null,{"$f":"IFERROR(VLOOKUP(ROWS($AO$2:AO143),$AL$2:$AM$763,2,FALSE),\"\")","v":""}]
[null,null,null,null,null,null,null,null,null,null,null,null,null,{"$f":"IF(ISNUMBER(SEARCH('2 Crop Water Requirement'!$B$22,'Data Validation Sheet'!O144)),MAX($N$1:N143)+1,0)","v":0},{"$f":"'Crop Information'!B149","v":"Soybeans (Dec - Tropics)"},null,{"$f":"IFERROR(VLOOKUP(ROWS($Q$2:Q144),$N$2:$O$763,2,FALSE),\"\")","v":""},null,null,{"$f":"IF(ISNUMBER(SEARCH('2 Crop Water Requirement'!$B$24,'Data Validation Sheet'!U144)),MAX($T$1:T143)+1,0)","v":0},{"$f":"'Crop Information'!B149","v":"Soybeans (Dec - Tropics)"},null,{"$f":"IFERROR(VLOOKUP(ROWS($W$2:W144),$T$2:$U$763,2,FALSE),\"\")","v":""},null,null,{"$f":"IF(ISNUMBER(SEARCH('2 Crop Water Requirement'!$B$26,'Data Validation Sheet'!AA144)),MAX($Z$1:Z143)+1,0)","v":0},{"$f":"'Crop Information'!B149","v":"Soybeans (Dec - Tropics)"},null,{"$f":"IFERROR(VLOOKUP(ROWS($AC$2:AC144),$Z$2:$AA$763,2,FALSE),\"\")","v":""},null,null,{"$f":"IF(ISNUMBER(SEARCH('2 Crop Water Requirement'!B$28,'Data Validation Sheet'!AG144)),MAX($AF$1:AF143)+1,0)","v":0},{"$f":"'Crop Information'!B149","v":"Soybeans (Dec - Tropics)"},null,{"$f":"IFERROR(VLOOKUP(ROWS($AI$2:AI144),$AF$2:$AG$763,2,FALSE),\"\")","v":""},null,null,{"$f":"IF(ISNUMBER(SEARCH('2 Crop Water Requirement'!$B$30,'Data Validation Sheet'!AM144)),MAX($AL$1:AL143)+1,0)","v":0},{"$f":"'Crop Information'!B149","v":"Soybeans (Dec - Tropics)"},null,{"$f":"IFERROR(VLOOKUP(ROWS($AO$2:AO144),$AL$2:$AM$763,2,FALSE),\"\")","v":""}]
[null,null,null,null,null,null,null,null,null,null,null,null,null,{"$f":"IF(ISNUMBER(SEARCH('2 Crop Water Requirement'!$B$22,'Data Validation Sheet'!O145)),MAX($N$1:N144)+1,0)","v":0},{"$f":"'Crop Information'!B150","v":"Soybeans (May - Central USA)"},null,{"$f":"IFERROR(VLOOKUP(ROWS($Q$2:Q145),$N$2:$O$763,2,FALSE),\"\")","v":""},null,null,{"$f":"IF(ISNUMBER(SEARCH('2 Crop Water Requirement'!$B$24,'Data Validation Sheet'!U145)),MAX($T$1:T144)+1,0)","v":0},{"$f":"'Crop Information'!B150","v":"Soybeans (May - Central USA)"},null,{"$f":"IFERROR(VLOOKUP(ROWS($W$2:W145),$T$2:$U$763,2,FALSE),\"\")","v":""},null,null,{"$f":"IF(ISNUMBER(SEARCH('2 Crop Water Requirement'!$B$26,'Data Validation Sheet'!AA145)),MAX($Z$1:Z144)+1,0)","v":0},{"$f":"'Crop Information'!B150","v":"Soybeans (May - Central USA)"},null,{"$f":"IFERROR(VLOOKUP(ROWS($AC$2:AC145),$Z$2:$AA$763,2,FALSE),\"\")","v":""},null,null,{"$f":"IF(ISNUMBER(SEARCH('2 Crop Water Requirement'!B$28,'Data Validation Sheet'!AG145)),MAX($AF$1:AF144)+1,0)","v":0},{"$f":"'Crop Information'!B150","v":"Soybeans (May - Central USA)"},null,{"$f":"IFERROR(VLOOKUP(ROWS($AI$2:AI145),$AF$2:$AG$763,2,FALSE),\"\")","v":""},null,null,{"$f":"IF(ISNUMBER(SEARCH('2 Crop Water Requirement'!$B$30,'Data Validation Sheet'!AM145)),MAX($AL$1:AL144)+1,0)","v":0},{"$f":"'Crop Information'!B150","v":"Soybeans (May - Central USA)"},null,{"$f":"IFERROR(VLOOKUP(ROWS($AO$2:AO145),$AL$2:$AM$763,2,FALSE),\"\")","v":""}]
[null,null,null,null,null,null,null,null,null,null,null,null,null,{"$f":"IF(ISNUMBER(SEARCH('2 Crop Water Requirement'!$B$22,'Data Validation Sheet'!O146)),MAX($N$1:N145)+1,0)","v":0},{"$f":"'Crop Information'!B151","v":"Soybeans (Jun - Japan )"},null,{"$f":"IFERROR(VLOOKUP(ROWS($Q$2:Q146),$N$2:$O$763,2,FALSE),\"\")","v":""},null,null,{"$f":"IF(ISNUMBER(SEARCH('2 Crop Water Requirement'!$B$24,'Data Validation Sheet'!U146)),MAX($T$1:T145)+1,0)","v":0},{"$f":"'Crop Information'!B151","v":"Soybeans (Jun - Japan )"},null,{"$f":"IFERROR(VLOOKUP(ROWS($W$2:W146),$T$2:$U$763,2,FALSE),\"\")","v":""},null,null,{"$f":"IF(ISNUMBER(SEARCH('2 Crop Water Requirement'!$B$26,'Data Validation Sheet'!AA146)),MAX($Z$1:Z145)+1,0)","v":0},{"$f":"'Crop Information'!B151","v":"Soybeans (Jun - Japan )"},null,{"$f":"IFERROR(VLOOKUP(ROWS($AC$2:AC146),$Z$2:$AA$763,2,FALSE),\"\")","v":""},null,null,{"$f":"IF(ISNUMBER(SEARCH('2 Crop Water Requirement'!B$28,'Data Validation Sheet'!AG146)),MAX($AF$1:AF145)+1,0)","v":0},{"$f":"'Crop Information'!B151","v":"Soybeans (Jun - Japan )"},null,{"$f":"IFERROR(VLOOKUP(ROWS($AI$2:AI146),$AF$2:$AG$763,2,FALSE),\"\")","v":""},null,null,{"$f":"IF(ISNUMBER(SEARCH('2 Crop Water Requirement'!$B$30,'Data Validation Sheet'!AM146)),MAX($AL$1:AL145)+1,0)","v":0},{"$f":"'Crop Information'!B151","v":"Soybeans (Jun - Japan )"},null,{"$f":"IFERROR(VLOOKUP(ROWS($AO$2:AO146),$AL$2:$AM$763,2,FALSE),\"\")","v":""}]
[null,null,null,null,null,null,null,null,null,null,null,null,null,{"$f":"IF(ISNUMBER(SEARCH('2 Crop Water Requirement'!$B$22,'Data Validation Sheet'!O147)),MAX($N$1:N146)+1,0)","v":0},{"$f":"'Crop Information'!B152","v":"Spinach (Apr/Sep/Oct - Mediterranean)"},null,{"$f":"IFERROR(VLOOKUP(ROWS($Q$2:Q147),$N$2:$O$763,2,FALSE),\"\")","v":""},null,null,{"$f":"IF(ISNUMBER(SEARCH('2 Crop Water Requirement'!$B$24,'Data Validation Sheet'!U147)),MAX($T$1:T146)+1,0)","v":0},{"$f":"'Crop Information'!B152","v":"Spinach (Apr/Sep/Oct - Mediterranean)"},null,{"$f":"IFERROR(VLOOKUP(ROWS($W$2:W147),$T$2:$U$763,2,FALSE),\"\")","v":""},null,null,{"$f":"IF(ISNUMBER(SEARCH('2 Crop Water Requirement'!$B$26,'Data Validation Sheet'!AA147)),MAX($Z$1:Z146)+1,0)","v":0},{"$f":"'Crop Information'!B152","v":"Spinach (Apr/Sep/Oct - Mediterranean)"},null,{"$f":"IFERROR(VLOOKUP(ROWS($AC$2:AC147),$Z$2:$AA$763,2,FALSE),\"\")","v":""},null,null,{"$f":"IF(ISNUMBER(SEARCH('2 Crop Water Requirement'!B$28,'Data Validation Sheet'!AG147)),MAX($AF$1:AF146)+1,0)","v":0},{"$f":"'Crop Information'!B152","v":"Spinach (Apr/Sep/Oct - Mediterranean)"},null,{"$f":"IFERROR(VLOOKUP(ROWS($AI$2:AI147),$AF$2:$AG$763,2,FALSE),\"\")","v":""},null,null,{"$f":"IF(ISNUMBER(SEARCH('2 Crop Water Requirement'!$B$30,'Data Validation Sheet'!AM147)),MAX($AL$1:AL146)+1,0)","v":0},{"$f":"'Crop Information'!B152","v":"Spinach (Apr/Sep/Oct - Mediterranean)"},null,{"$f":"IFERROR(VLOOKUP(ROWS($AO$2:AO147),$AL$2:$AM$763,2,FALSE),\"\")","v":""}]
[null,null,null,null,null,null,null,null,null,null,null,null,null,{"$f":"IF(ISNUMBER(SEARCH('2 Crop Water Requirement'!$B$22,'Data Validation Sheet'!O148)),MAX($N$1:N147)+1,0)","v":0},{"$f":"'Crop Information'!B153","v":"Spinach (Nov - arid region)"},null,{"$f":"IFERROR(VLOOKUP(ROWS($Q$2:Q148),$N$2:$O$763,2,FALSE),\"\")","v":""},null,null,{"$f":"IF(ISNUMBER(SEARCH('2 Crop Water Requirement'!$B$24,'Data Validation Sheet'!U148)),MAX($T$1:T147)+1,0)","v":0},{"$f":"'Crop Information'!B153","v":"Spinach (Nov - arid region)"},null,{"$f":"IFERROR(VLOOKUP(ROWS($W$2:W148),$T$2:$U$763,2,FALSE),\"\")","v":""},null,null,{"$f":"IF(ISNUMBER(SEARCH('2 Crop Water Requirement'!$B$26,'Data Validation Sheet'!AA148)),MAX($Z$1:Z147)+1,0)","v":0},{"$f":"'Crop Information'!B153","v":"Spinach (Nov - arid region)"},null,{"$f":"IFERROR(VLOOKUP(ROWS($AC$2:AC148),$Z$2:$AA$763,2,FALSE),\"\")","v":""},null,null,{"$f":"IF(ISNUMBER(SEARCH('2 Crop Water Requirement'!B$28,'Data Validation Sheet'!AG148)),MAX($AF$1:AF147)+1,0)","v":0},{"$f":"'Crop Information'!B153","v":"Spinach (Nov - arid region)"},null,{"$f":"IFERROR(VLOOKUP(ROWS($AI$2:AI148),$AF$2:$AG$763,2,FALSE),\"\")","v":""},null,null,{"$f":"IF(ISNUMBER(SEARCH('2 Crop Water Requirement'!$B$30,'Data Validation Sheet'!AM148)),MAX($AL$1:AL147)+1,0)","v":0},{"$f":"'Crop Information'!B153","v":"Spinach (Nov - arid region)"},null,{"$f":"IFERROR(VLOOKUP(ROWS($AO$2:AO148),$AL$2:$AM$763,2,FALSE),\"\")","v":""}]
[null,null,null,null,null,null,null,null,null,null,null,null,null,{"$f":"IF(ISNUMBER(SEARCH('2 Crop Water Requirement'!$B$22,'Data Validation Sheet'!O149)),MAX($N$1:N148)+1,0)","v":0},{"$f":"'Crop Information'!B154","v":"Squash, Zucchini (Apr/Dec - Mediterranean/arid region)"},null,{"$f":"IFERROR(VLOOKUP(ROWS($Q$2:Q149),$N$2:$O$763,2,FALSE),\"\")","v":""},null,null,{"$f":"IF(ISNUMBER(SEARCH('2 Crop Water Requirement'!$B$24,'Data Validation Sheet'!U149)),MAX($T$1:T148)+1,0)","v":0},{"$f":"'Crop Information'!B154","v":"Squash, Zucchini (Apr/Dec - Mediterranean/arid region)"},null,{"$f":"IFERROR(VLOOKUP(ROWS($W$2:W149),$T$2:$U$763,2,FALSE),\"\")","v":""},null,null,{"$f":"IF(ISNUMBER(SEARCH('2 Crop Water Requirement'!$B$26,'Data Validation Sheet'!AA149)),MAX($Z$1:Z148)+1,0)","v":0},{"$f":"'Crop Information'!B154","v":"Squash, Zucchini (Apr/Dec - Mediterranean/arid region)"},null,{"$f":"IFERROR(VLOOKUP(ROWS($AC$2:AC149),$Z$2:$AA$763,2,FALSE),\"\")","v":""},null,null,{"$f":"IF(ISNUMBER(SEARCH('2 Crop Water Requirement'!B$28,'Data Validation Sheet'!AG149)),MAX($AF$1:AF148)+1,0)","v":0},{"$f":"'Crop Information'!B154","v":"Squash, Zucchini (Apr/Dec - Mediterranean/arid region)"},null,{"$f":"IFERROR(VLOOKUP(ROWS($AI$2:AI149),$AF$2:$AG$763,2,FALSE),\"\")","v":""},null,null,{"$f":"IF(ISNUMBER(SEARCH('2 Crop Water Requirement'!$B$30,'Data Validation Sheet'!AM149)),MAX($AL$1:AL148)+1,0)","v":0},{"$f":"'Crop Information'!B154","v":"Squash, Zucchini (Apr/Dec - Mediterranean/arid region)"},null,{"$f":"IFERROR(VLOOKUP(ROWS($AO$2:AO149),$AL$2:$AM$763,2,FALSE),\"\")","v":""}]
[null,null,null,null,null,null,null,null,null,null,null,null,null,{"$f":"IF(ISNUMBER(SEARCH('2 Crop Water Requirement'!$B$22,'Data Validation Sheet'!O150)),MAX($N$1:N149)+1,0)","v":0},{"$f":"'Crop Information'!B155","v":"Squash, Zucchini (May/Jun - Mediterranean/Europe)"},null,{"$f":"IFERROR(VLOOKUP(ROWS($Q$2:Q150),$N$2:$O$763,2,FALSE),\"\")","v":""},null,null,{"$f":"IF(ISNUMBER(SEARCH('2 Crop Water Requirement'!$B$24,'Data Validation Sheet'!U150)),MAX($T$1:T149)+1,0)","v":0},{"$f":"'Crop Information'!B155","v":"Squash, Zucchini (May/Jun - Mediterranean/Europe)"},null,{"$f":"IFERROR(VLOOKUP(ROWS($W$2:W150),$T$2:$U$763,2,FALSE),\"\")","v":""},null,null,{"$f":"IF(ISNUMBER(SEARCH('2 Crop Water Requirement'!$B$26,'Data Validation Sheet'!AA150)),MAX($Z$1:Z149)+1,0)","v":0},{"$f":"'Crop Information'!B155","v":"Squash, Zucchini (May/Jun - Mediterranean/Europe)"},null,{"$f":"IFERROR(VLOOKUP(ROWS($AC$2:AC150),$Z$2:$AA$763,2,FALSE),\"\")","v":""},null,null,{"$f":"IF(ISNUMBER(SEARCH('2 Crop Water Requirement'!B$28,'Data Validation Sheet'!AG150)),MAX($AF$1:AF149)+1,0)","v":0},{"$f":"'Crop Information'!B155","v":"Squash, Zucchini (May/Jun - Mediterranean/Europe)"},null,{"$f":"IFERROR(VLOOKUP(ROWS($AI$2:AI150),$AF$2:$AG$763,2,FALSE),\"\")","v":""},null,null,{"$f":"IF(ISNUMBER(SEARCH('2 Crop Water Requirement'!$B$30,'Data Validation Sheet'!AM150)),MAX($AL$1:AL149)+1,0)","v":0},{"$f":"'Crop Information'!B155","v":"Squash, Zucchini (May/Jun - Mediterranean/Europe)"},null,{"$f":"IFERROR(VLOOKUP(ROWS($AO$2:AO150),$AL$2:$AM$763,2,FALSE),\"\")","v":""}]
[null,null,null,null,null,null,null,null,null,null,null,null,null,{"$f":"IF(ISNUMBER(SEARCH('2 Crop Water Requirement'!$B$22,'Data Validation Sheet'!O151)),MAX($N$1:N150)+1,0)","v":0},{"$f":"'Crop Information'!B156","v":"Sudan (1st cutting cycle - Apr - California desert)"},null,{"$f":"IFERROR(VLOOKUP(ROWS($Q$2:Q151),$N$2:$O$763,2,FALSE),\"\")","v":""},null,null,{"$f":"IF(ISNUMBER(SEARCH('2 Crop Water Requirement'!$B$24,'Data Validation Sheet'!U151)),MAX($T$1:T150)+1,0)","v":0},{"$f":"'Crop Information'!B156","v":"Sudan (1st cutting cycle - Apr - California desert)"},null,{"$f":"IFERROR(VLOOKUP(ROWS($W$2:W151),$T$2:$U$763,2,FALSE),\"\")","v":""},null,null,{"$f":"IF(ISNUMBER(SEARCH('2 Crop Water Requirement'!$B$26,'Data Validation Sheet'!AA151)),MAX($Z$1:Z150)+1,0)","v":0},{"$f":"'Crop Information'!B156","v":"Sudan (1st cutting cycle - Apr - California desert)"},null,{"$f":"IFERROR(VLOOKUP(ROWS($AC$2:AC151),$Z$2:$AA$763,2,FALSE),\"\")","v":""},null,null,{"$f":"IF(ISNUMBER(SEARCH('2 Crop Water Requirement'!B$28,'Data Validation Sheet'!AG151)),MAX($AF$1:AF150)+1,0)","v":0},{"$f":"'Crop Information'!B156","v":"Sudan (1st cutting cycle - Apr - California desert)"},null,{"$f":"IFERROR(VLOOKUP(ROWS($AI$2:AI151),$AF$2:$AG$763,2,FALSE),\"\")","v":""},null,null,{"$f":"IF(ISNUMBER(SEARCH('2 Crop Water Requirement'!$B$30,'Data Validation Sheet'!AM151)),MAX($AL$1:AL150)+1,0)","v":0},{"$f":"'Crop Information'!B156","v":"Sudan (1st cutting cycle - Apr - California desert)"},null,{"$f":"IFERROR(VLOOKUP(ROWS($AO$2:AO151),$AL$2:$AM$763,2,FALSE),\"\")","v":""}]
[null,null,null,null,null,null,null,null,null,null,null,null,null,{"$f":"IF(ISNUMBER(SEARCH('2 Crop Water Requirement'!$B$22,'Data Validation Sheet'!O152)),MAX($N$1:N151)+1,0)","v":0},{"$f":"'Crop Information'!B157","v":"Sudan (other cutting cycles - Jun -California desert)"},null,{"$f":"IFERROR(VLOOKUP(ROWS($Q$2:Q152),$N$2:$O$763,2,FALSE),\"\")","v":""},null,null,{"$f":"IF(ISNUMBER(SEARCH('2 Crop Water Requirement'!$B$24,'Data Validation Sheet'!U152)),MAX($T$1:T151)+1,0)","v":0},{"$f":"'Crop Information'!B157","v":"Sudan (other cutting cycles - Jun -California desert)"},null,{"$f":"IFERROR(VLOOKUP(ROWS($W$2:W152),$T$2:$U$763,2,FALSE),\"\")","v":""},null,null,{"$f":"IF(ISNUMBER(SEARCH('2 Crop Water Requirement'!$B$26,'Data Validation Sheet'!AA152)),MAX($Z$1:Z151)+1,0)","v":0},{"$f":"'Crop Information'!B157","v":"Sudan (other cutting cycles - Jun -California desert)"},null,{"$f":"IFERROR(VLOOKUP(ROWS($AC$2:AC152),$Z$2:$AA$763,2,FALSE),\"\")","v":""},null,null,{"$f":"IF(ISNUMBER(SEARCH('2 Crop Water Requirement'!B$28,'Data Validation Sheet'!AG152)),MAX($AF$1:AF151)+1,0)","v":0},{"$f":"'Crop Information'!B157","v":"Sudan (other cutting cycles - Jun -California desert)"},null,{"$f":"IFERROR(VLOOKUP(ROWS($AI$2:AI152),$AF$2:$AG$763,2,FALSE),\"\")","v":""},null,null,{"$f":"IF(ISNUMBER(SEARCH('2 Crop Water Requirement'!$B$30,'Data Validation Sheet'!AM152)),MAX($AL$1:AL151)+1,0)","v":0},{"$f":"'Crop Information'!B157","v":"Sudan (other cutting cycles - Jun -California desert)"},null,{"$f":"IFERROR(VLOOKUP(ROWS($AO$2:AO152),$AL$2:$AM$763,2,FALSE),\"\")","v":""}]
[null,null,null,null,null,null,null,null,null,null,null,null,null,{"$f":"IF(ISNUMBER(SEARCH('2 Crop Water Requirement'!$B$22,'Data Validation Sheet'!O153)),MAX($N$1:N152)+1,0)","v":0},{"$f":"'Crop Information'!B158","v":"Sugarbeet (Mar - California)"},null,{"$f":"IFERROR(VLOOKUP(ROWS($Q$2:Q153),$N$2:$O$763,2,FALSE),\"\")","v":""},null,null,{"$f":"IF(ISNUMBER(SEARCH('2 Crop Water Requirement'!$B$24,'Data Validation Sheet'!U153)),MAX($T$1:T152)+1,0)","v":0},{"$f":"'Crop Information'!B158","v":"Sugarbeet (Mar - California)"},null,{"$f":"IFERROR(VLOOKUP(ROWS($W$2:W153),$T$2:$U$763,2,FALSE),\"\")","v":""},null,null,{"$f":"IF(ISNUMBER(SEARCH('2 Crop Water Requirement'!$B$26,'Data Validation Sheet'!AA153)),MAX($Z$1:Z152)+1,0)","v":0},{"$f":"'Crop Information'!B158","v":"Sugarbeet (Mar - California)"},null,{"$f":"IFERROR(VLOOKUP(ROWS($AC$2:AC153),$Z$2:$AA$763,2,FALSE),\"\")","v":""},null,null,{"$f":"IF(ISNUMBER(SEARCH('2 Crop Water Requirement'!B$28,'Data Validation Sheet'!AG153)),MAX($AF$1:AF152)+1,0)","v":0},{"$f":"'Crop Information'!B158","v":"Sugarbeet (Mar - California)"},null,{"$f":"IFERROR(VLOOKUP(ROWS($AI$2:AI153),$AF$2:$AG$763,2,FALSE),\"\")","v":""},null,null,{"$f":"IF(ISNUMBER(SEARCH('2 Crop Water Requirement'!$B$30,'Data Validation Sheet'!AM153)),MAX($AL$1:AL152)+1,0)","v":0},{"$f":"'Crop Information'!B158","v":"Sugarbeet (Mar - California)"},null,{"$f":"IFERROR(VLOOKUP(ROWS($AO$2:AO153),$AL$2:$AM$763,2,FALSE),\"\")","v":""}]
[null,null,null,null,null,null,null,null,null,null,null,null,null,{"$f":"IF(ISNUMBER(SEARCH('2 Crop Water Requirement'!$B$22,'Data Validation Sheet'!O154)),MAX($N$1:N153)+1,0)","v":0},{"$f":"'Crop Information'!B159","v":"Sugarbeet (Jun - California)"},null,{"$f":"IFERROR(VLOOKUP(ROWS($Q$2:Q154),$N$2:$O$763,2,FALSE),\"\")","v":""},null,null,{"$f":"IF(ISNUMBER(SEARCH('2 Crop Water Requirement'!$B$24,'Data Validation Sheet'!U154)),MAX($T$1:T153)+1,0)","v":0},{"$f":"'Crop Information'!B159","v":"Sugarbeet (Jun - California)"},null,{"$f":"IFERROR(VLOOKUP(ROWS($W$2:W154),$T$2:$U$763,2,FALSE),\"\")","v":""},null,null,{"$f":"IF(ISNUMBER(SEARCH('2 Crop Water Requirement'!$B$26,'Data Validation Sheet'!AA154)),MAX($Z$1:Z153)+1,0)","v":0},{"$f":"'Crop Information'!B159","v":"Sugarbeet (Jun - California)"},null,{"$f":"IFERROR(VLOOKUP(ROWS($AC$2:AC154),$Z$2:$AA$763,2,FALSE),\"\")","v":""},null,null,{"$f":"IF(ISNUMBER(SEARCH('2 Crop Water Requirement'!B$28,'Data Validation Sheet'!AG154)),MAX($AF$1:AF153)+1,0)","v":0},{"$f":"'Crop Information'!B159","v":"Sugarbeet (Jun - California)"},null,{"$f":"IFERROR(VLOOKUP(ROWS($AI$2:AI154),$AF$2:$AG$763,2,FALSE),\"\")","v":""},null,null,{"$f":"IF(ISNUMBER(SEARCH('2 Crop Water Requirement'!$B$30,'Data Validation Sheet'!AM154)),MAX($AL$1:AL153)+1,0)","v":0},{"$f":"'Crop Information'!B159","v":"Sugarbeet (Jun - California)"},null,{"$f":"IFERROR(VLOOKUP(ROWS($AO$2:AO154),$AL$2:$AM$763,2,FALSE),\"\")","v":""}]
[null,null,null,null,null,null,null,null,null,null,null,null,null,{"$f":"IF(ISNUMBER(SEARCH('2 Crop Water Requirement'!$B$22,'Data Validation Sheet'!O155)),MAX($N$1:N154)+1,0)","v":0},{"$f":"'Crop Information'!B160","v":"Sugarbeet (Sep - California desert)"},null,{"$f":"IFERROR(VLOOKUP(ROWS($Q$2:Q155),$N$2:$O$763,2,FALSE),\"\")","v":""},null,null,{"$f":"IF(ISNUMBER(SEARCH('2 Crop Water Requirement'!$B$24,'Data Validation Sheet'!U155)),MAX($T$1:T154)+1,0)","v":0},{"$f":"'Crop Information'!B160","v":"Sugarbeet (Sep - California desert)"},null,{"$f":"IFERROR(VLOOKUP(ROWS($W$2:W155),$T$2:$U$763,2,FALSE),\"\")","v":""},null,null,{"$f":"IF(ISNUMBER(SEARCH('2 Crop Water Requirement'!$B$26,'Data Validation Sheet'!AA155)),MAX($Z$1:Z154)+1,0)","v":0},{"$f":"'Crop Information'!B160","v":"Sugarbeet (Sep - California desert)"},null,{"$f":"IFERROR(VLOOKUP(ROWS($AC$2:AC155),$Z$2:$AA$763,2,FALSE),\"\")","v":""},null,null,{"$f":"IF(ISNUMBER(SEARCH('2 Crop Water Requirement'!B$28,'Data Validation Sheet'!AG155)),MAX($AF$1:AF154)+1,0)","v":0},{"$f":"'Crop Information'!B160","v":"Sugarbeet (Sep - California desert)"},null,{"$f":"IFERROR(VLOOKUP(ROWS($AI$2:AI155),$AF$2:$AG$763,2,FALSE),\"\")","v":""},null,null,{"$f":"IF(ISNUMBER(SEARCH('2 Crop Water Requirement'!$B$30,'Data Validation Sheet'!AM155)),MAX($AL$1:AL154)+1,0)","v":0},{"$f":"'Crop Information'!B160","v":"Sugarbeet (Sep - California desert)"},null,{"$f":"IFERROR(VLOOKUP(ROWS($AO$2:AO155),$AL$2:$AM$763,2,FALSE),\"\")","v":""}]
[null,null,null,null,null,null,null,null,null,null,null,null,null,{"$f":"IF(ISNUMBER(SEARCH('2 Crop Water Requirement'!$B$22,'Data Validation Sheet'!O156)),MAX($N$1:N155)+1,0)","v":0},{"$f":"'Crop Information'!B161","v":"Sugarbeet (Apr - Idaho)"},null,{"$f":"IFERROR(VLOOKUP(ROWS($Q$2:Q156),$N$2:$O$763,2,FALSE),\"\")","v":""},null,null,{"$f":"IF(ISNUMBER(SEARCH('2 Crop Water Requirement'!$B$24,'Data Validation Sheet'!U156)),MAX($T$1:T155)+1,0)","v":0},{"$f":"'Crop Information'!B161","v":"Sugarbeet (Apr - Idaho)"},null,{"$f":"IFERROR(VLOOKUP(ROWS($W$2:W156),$T$2:$U$763,2,FALSE),\"\")","v":""},null,null,{"$f":"IF(ISNUMBER(SEARCH('2 Crop Water Requirement'!$B$26,'Data Validation Sheet'!AA156)),MAX($Z$1:Z155)+1,0)","v":0},{"$f":"'Crop Information'!B161","v":"Sugarbeet (Apr - Idaho)"},null,{"$f":"IFERROR(VLOOKUP(ROWS($AC$2:AC156),$Z$2:$AA$763,2,FALSE),\"\")","v":""},null,null,{"$f":"IF(ISNUMBER(SEARCH('2 Crop Water Requirement'!B$28,'Data Validation Sheet'!AG156)),MAX($AF$1:AF155)+1,0)","v":0},{"$f":"'Crop Information'!B161","v":"Sugarbeet (Apr - Idaho)"},null,{"$f":"IFERROR(VLOOKUP(ROWS($AI$2:AI156),$AF$2:$AG$763,2,FALSE),\"\")","v":""},null,null,{"$f":"IF(ISNUMBER(SEARCH('2 Crop Water Requirement'!$B$30,'Data Validation Sheet'!AM156)),MAX($AL$1:AL155)+1,0)","v":0},{"$f":"'Crop Information'!B161","v":"Sugarbeet (Apr - Idaho)"},null,{"$f":"IFERROR(VLOOKUP(ROWS($AO$2:AO156),$AL$2:$AM$763,2,FALSE),\"\")","v":""}]
[null,null,null,null,null,null,null,null,null,null,null,null,null,{"$f":"IF(ISNUMBER(SEARCH('2 Crop Water Requirement'!$B$22,'Data Validation Sheet'!O157)),MAX($N$1:N156)+1,0)","v":0},{"$f":"'Crop Information'!B162","v":"Sugarbeet (May - Mediterranean)"},null,{"$f":"IFERROR(VLOOKUP(ROWS($Q$2:Q157),$N$2:$O$763,2,FALSE),\"\")","v":""},null,null,{"$f":"IF(ISNUMBER(SEARCH('2 Crop Water Requirement'!$B$24,'Data Validation Sheet'!U157)),MAX($T$1:T156)+1,0)","v":0},{"$f":"'Crop Information'!B162","v":"Sugarbeet (May - Mediterranean)"},null,{"$f":"IFERROR(VLOOKUP(ROWS($W$2:W157),$T$2:$U$763,2,FALSE),\"\")","v":""},null,null,{"$f":"IF(ISNUMBER(SEARCH('2 Crop Water Requirement'!$B$26,'Data Validation Sheet'!AA157)),MAX($Z$1:Z156)+1,0)","v":0},{"$f":"'Crop Information'!B162","v":"Sugarbeet (May - Mediterranean)"},null,{"$f":"IFERROR(VLOOKUP(ROWS($AC$2:AC157),$Z$2:$AA$763,2,FALSE),\"\")","v":""},null,null,{"$f":"IF(ISNUMBER(SEARCH('2 Crop Water Requirement'!B$28,'Data Validation Sheet'!AG157)),MAX($AF$1:AF156)+1,0)","v":0},{"$f":"'Crop Information'!B162","v":"Sugarbeet (May - Mediterranean)"},null,{"$f":"IFERROR(VLOOKUP(ROWS($AI$2:AI157),$AF$2:$AG$763,2,FALSE),\"\")","v":""},null,null,{"$f":"IF(ISNUMBER(SEARCH('2 Crop Water Requirement'!$B$30,'Data Validation Sheet'!AM157)),MAX($AL$1:AL156)+1,0)","v":0},{"$f":"'Crop Information'!B162","v":"Sugarbeet (May - Mediterranean)"},null,{"$f":"IFERROR(VLOOKUP(ROWS($AO$2:AO157),$AL$2:$AM$763,2,FALSE),\"\")","v":""}]
[null,null,null,null,null,null,null,null,null,null,null,null,null,{"$f":"IF(ISNUMBER(SEARCH('2 Crop Water Requirement'!$B$22,'Data Validation Sheet'!O158)),MAX($N$1:N157)+1,0)","v":0},{"$f":"'Crop Information'!B163","v":"Sugarbeet (Nov - Mediterranean)"},null,{"$f":"IFERROR(VLOOKUP(ROWS($Q$2:Q158),$N$2:$O$763,2,FALSE),\"\")","v":""},null,null,{"$f":"IF(ISNUMBER(SEARCH('2 Crop Water Requirement'!$B$24,'Data Validation Sheet'!U158)),MAX($T$1:T157)+1,0)","v":0},{"$f":"'Crop Information'!B163","v":"Sugarbeet (Nov - Mediterranean)"},null,{"$f":"IFERROR(VLOOKUP(ROWS($W$2:W158),$T$2:$U$763,2,FALSE),\"\")","v":""},null,null,{"$f":"IF(ISNUMBER(SEARCH('2 Crop Water Requirement'!$B$26,'Data Validation Sheet'!AA158)),MAX($Z$1:Z157)+1,0)","v":0},{"$f":"'Crop Information'!B163","v":"Sugarbeet (Nov - Mediterranean)"},null,{"$f":"IFERROR(VLOOKUP(ROWS($AC$2:AC158),$Z$2:$AA$763,2,FALSE),\"\")","v":""},null,null,{"$f":"IF(ISNUMBER(SEARCH('2 Crop Water Requirement'!B$28,'Data Validation Sheet'!AG158)),MAX($AF$1:AF157)+1,0)","v":0},{"$f":"'Crop Information'!B163","v":"Sugarbeet (Nov - Mediterranean)"},null,{"$f":"IFERROR(VLOOKUP(ROWS($AI$2:AI158),$AF$2:$AG$763,2,FALSE),\"\")","v":""},null,null,{"$f":"IF(ISNUMBER(SEARCH('2 Crop Water Requirement'!$B$30,'Data Validation Sheet'!AM158)),MAX($AL$1:AL157)+1,0)","v":0},{"$f":"'Crop Information'!B163","v":"Sugarbeet (Nov - Mediterranean)"},null,{"$f":"IFERROR(VLOOKUP(ROWS($AO$2:AO158),$AL$2:$AM$763,2,FALSE),\"\")","v":""}]
[null,null,null,null,null,null,null,null,null,null,null,null,null,{"$f":"IF(ISNUMBER(SEARCH('2 Crop Water Requirement'!$B$22,'Data Validation Sheet'!O159)),MAX($N$1:N158)+1,0)","v":0},{"$f":"'Crop Information'!B164","v":"Sugarbeet (Nov - arid regions)"},null,{"$f":"IFERROR(VLOOKUP(ROWS($Q$2:Q159),$N$2:$O$763,2,FALSE),\"\")","v":""},null,null,{"$f":"IF(ISNUMBER(SEARCH('2 Crop Water Requirement'!$B$24,'Data Validation Sheet'!U159)),MAX($T$1:T158)+1,0)","v":0},{"$f":"'Crop Information'!B164","v":"Sugarbeet (Nov - arid regions)"},null,{"$f":"IFERROR(VLOOKUP(ROWS($W$2:W159),$T$2:$U$763,2,FALSE),\"\")","v":""},null,null,{"$f":"IF(ISNUMBER(SEARCH('2 Crop Water Requirement'!$B$26,'Data Validation Sheet'!AA159)),MAX($Z$1:Z158)+1,0)","v":0},{"$f":"'Crop Information'!B164","v":"Sugarbeet (Nov - arid regions)"},null,{"$f":"IFERROR(VLOOKUP(ROWS($AC$2:AC159),$Z$2:$AA$763,2,FALSE),\"\")","v":""},null,null,{"$f":"IF(ISNUMBER(SEARCH('2 Crop Water Requirement'!B$28,'Data Validation Sheet'!AG159)),MAX($AF$1:AF158)+1,0)","v":0},{"$f":"'Crop Information'!B164","v":"Sugarbeet (Nov - arid regions)"},null,{"$f":"IFERROR(VLOOKUP(ROWS($AI$2:AI159),$AF$2:$AG$763,2,FALSE),\"\")","v":""},null,null,{"$f":"IF(ISNUMBER(SEARCH('2 Crop Water Requirement'!$B$30,'Data Validation Sheet'!AM159)),MAX($AL$1:AL158)+1,0)","v":0},{"$f":"'Crop Information'!B164","v":"Sugarbeet (Nov - arid regions)"},null,{"$f":"IFERROR(VLOOKUP(ROWS($AO$2:AO159),$AL$2:$AM$763,2,FALSE),\"\")","v":""}]
[null,null,null,null,null,null,null,null,null,null,null,null,null,{"$f":"IF(ISNUMBER(SEARCH('2 Crop Water Requirement'!$B$22,'Data Validation Sheet'!O160)),MAX($N$1:N159)+1,0)","v":0},{"$f":"'Crop Information'!B165","v":"Sugarcane (ratoon - low latitudes)"},null,{"$f":"IFERROR(VLOOKUP(ROWS($Q$2:Q160),$N$2:$O$763,2,FALSE),\"\")","v":""},null,null,{"$f":"IF(ISNUMBER(SEARCH('2 Crop Water Requirement'!$B$24,'Data Validation Sheet'!U160)),MAX($T$1:T159)+1,0)","v":0},{"$f":"'Crop Information'!B165","v":"Sugarcane (ratoon - low latitudes)"},null,{"$f":"IFERROR(VLOOKUP(ROWS($W$2:W160),$T$2:$U$763,2,FALSE),\"\")","v":""},null,null,{"$f":"IF(ISNUMBER(SEARCH('2 Crop Water Requirement'!$B$26,'Data Validation Sheet'!AA160)),MAX($Z$1:Z159)+1,0)","v":0},{"$f":"'Crop Information'!B165","v":"Sugarcane (ratoon - low latitudes)"},null,{"$f":"IFERROR(VLOOKUP(ROWS($AC$2:AC160),$Z$2:$AA$763,2,FALSE),\"\")","v":""},null,null,{"$f":"IF(ISNUMBER(SEARCH('2 Crop Water Requirement'!B$28,'Data Validation Sheet'!AG160)),MAX($AF$1:AF159)+1,0)","v":0},{"$f":"'Crop Information'!B165","v":"Sugarcane (ratoon - low latitudes)"},null,{"$f":"IFERROR(VLOOKUP(ROWS($AI$2:AI160),$AF$2:$AG$763,2,FALSE),\"\")","v":""},null,null,{"$f":"IF(ISNUMBER(SEARCH('2 Crop Water Requirement'!$B$30,'Data Validation Sheet'!AM160)),MAX($AL$1:AL159)+1,0)","v":0},{"$f":"'Crop Information'!B165","v":"Sugarcane (ratoon - low latitudes)"},null,{"$f":"IFERROR(VLOOKUP(ROWS($AO$2:AO160),$AL$2:$AM$763,2,FALSE),\"\")","v":""}]
[null,null,null,null,null,null,null,null,null,null,null,null,null,{"$f":"IF(ISNUMBER(SEARCH('2 Crop Water Requirement'!$B$22,'Data Validation Sheet'!O161)),MAX($N$1:N160)+1,0)","v":0},{"$f":"'Crop Information'!B166","v":"Sugarcane (ratoon - Tropics)"},null,{"$f":"IFERROR(VLOOKUP(ROWS($Q$2:Q161),$N$2:$O$763,2,FALSE),\"\")","v":""},null,null,{"$f":"IF(ISNUMBER(SEARCH('2 Crop Water Requirement'!$B$24,'Data Validation Sheet'!U161)),MAX($T$1:T160)+1,0)","v":0},{"$f":"'Crop Information'!B166","v":"Sugarcane (ratoon - Tropics)"},null,{"$f":"IFERROR(VLOOKUP(ROWS($W$2:W161),$T$2:$U$763,2,FALSE),\"\")","v":""},null,null,{"$f":"IF(ISNUMBER(SEARCH('2 Crop Water Requirement'!$B$26,'Data Validation Sheet'!AA161)),MAX($Z$1:Z160)+1,0)","v":0},{"$f":"'Crop Information'!B166","v":"Sugarcane (ratoon - Tropics)"},null,{"$f":"IFERROR(VLOOKUP(ROWS($AC$2:AC161),$Z$2:$AA$763,2,FALSE),\"\")","v":""},null,null,{"$f":"IF(ISNUMBER(SEARCH('2 Crop Water Requirement'!B$28,'Data Validation Sheet'!AG161)),MAX($AF$1:AF160)+1,0)","v":0},{"$f":"'Crop Information'!B166","v":"Sugarcane (ratoon - Tropics)"},null,{"$f":"IFERROR(VLOOKUP(ROWS($AI$2:AI161),$AF$2:$AG$763,2,FALSE),\"\")","v":""},null,null,{"$f":"IF(ISNUMBER(SEARCH('2 Crop Water Requirement'!$B$30,'Data Validation Sheet'!AM161)),MAX($AL$1:AL160)+1,0)","v":0},{"$f":"'Crop Information'!B166","v":"Sugarcane (ratoon - Tropics)"},null,{"$f":"IFERROR(VLOOKUP(ROWS($AO$2:AO161),$AL$2:$AM$763,2,FALSE),\"\")","v":""}]
[null,null,null,null,null,null,null,null,null,null,null,null,null,{"$f":"IF(ISNUMBER(SEARCH('2 Crop Water Requirement'!$B$22,'Data Validation Sheet'!O162)),MAX($N$1:N161)+1,0)","v":0},{"$f":"'Crop Information'!B167","v":"Sugarcane (ratoon - Hawaii)"},null,{"$f":"IFERROR(VLOOKUP(ROWS($Q$2:Q162),$N$2:$O$763,2,FALSE),\"\")","v":""},null,null,{"$f":"IF(ISNUMBER(SEARCH('2 Crop Water Requirement'!$B$24,'Data Validation Sheet'!U162)),MAX($T$1:T161)+1,0)","v":0},{"$f":"'Crop Information'!B167","v":"Sugarcane (ratoon - Hawaii)"},null,{"$f":"IFERROR(VLOOKUP(ROWS($W$2:W162),$T$2:$U$763,2,FALSE),\"\")","v":""},null,null,{"$f":"IF(ISNUMBER(SEARCH('2 Crop Water Requirement'!$B$26,'Data Validation Sheet'!AA162)),MAX($Z$1:Z161)+1,0)","v":0},{"$f":"'Crop Information'!B167","v":"Sugarcane (ratoon - Hawaii)"},null,{"$f":"IFERROR(VLOOKUP(ROWS($AC$2:AC162),$Z$2:$AA$763,2,FALSE),\"\")","v":""},null,null,{"$f":"IF(ISNUMBER(SEARCH('2 Crop Water Requirement'!B$28,'Data Validation Sheet'!AG162)),MAX($AF$1:AF161)+1,0)","v":0},{"$f":"'Crop Information'!B167","v":"Sugarcane (ratoon - Hawaii)"},null,{"$f":"IFERROR(VLOOKUP(ROWS($AI$2:AI162),$AF$2:$AG$763,2,FALSE),\"\")","v":""},null,null,{"$f":"IF(ISNUMBER(SEARCH('2 Crop Water Requirement'!$B$30,'Data Validation Sheet'!AM162)),MAX($AL$1:AL161)+1,0)","v":0},{"$f":"'Crop Information'!B167","v":"Sugarcane (ratoon - Hawaii)"},null,{"$f":"IFERROR(VLOOKUP(ROWS($AO$2:AO162),$AL$2:$AM$763,2,FALSE),\"\")","v":""}]
[null,null,null,null,null,null,null,null,null,null,null,null,null,{"$f":"IF(ISNUMBER(SEARCH('2 Crop Water Requirement'!$B$22,'Data Validation Sheet'!O163)),MAX($N$1:N162)+1,0)","v":0},{"$f":"'Crop Information'!B168","v":"Sugarcane (virgin - low latitudes)"},null,{"$f":"IFERROR(VLOOKUP(ROWS($Q$2:Q163),$N$2:$O$763,2,FALSE),\"\")","v":""},null,null,{"$f":"IF(ISNUMBER(SEARCH('2 Crop Water Requirement'!$B$24,'Data Validation Sheet'!U163)),MAX($T$1:T162)+1,0)","v":0},{"$f":"'Crop Information'!B168","v":"Sugarcane (virgin - low latitudes)"},null,{"$f":"IFERROR(VLOOKUP(ROWS($W$2:W163),$T$2:$U$763,2,FALSE),\"\")","v":""},null,null,{"$f":"IF(ISNUMBER(SEARCH('2 Crop Water Requirement'!$B$26,'Data Validation Sheet'!AA163)),MAX($Z$1:Z162)+1,0)","v":0},{"$f":"'Crop Information'!B168","v":"Sugarcane (virgin - low latitudes)"},null,{"$f":"IFERROR(VLOOKUP(ROWS($AC$2:AC163),$Z$2:$AA$763,2,FALSE),\"\")","v":""},null,null,{"$f":"IF(ISNUMBER(SEARCH('2 Crop Water Requirement'!B$28,'Data Validation Sheet'!AG163)),MAX($AF$1:AF162)+1,0)","v":0},{"$f":"'Crop Information'!B168","v":"Sugarcane (virgin - low latitudes)"},null,{"$f":"IFERROR(VLOOKUP(ROWS($AI$2:AI163),$AF$2:$AG$763,2,FALSE),\"\")","v":""},null,null,{"$f":"IF(ISNUMBER(SEARCH('2 Crop Water Requirement'!$B$30,'Data Validation Sheet'!AM163)),MAX($AL$1:AL162)+1,0)","v":0},{"$f":"'Crop Information'!B168","v":"Sugarcane (virgin - low latitudes)"},null,{"$f":"IFERROR(VLOOKUP(ROWS($AO$2:AO163),$AL$2:$AM$763,2,FALSE),\"\")","v":""}]
[null,null,null,null,null,null,null,null,null,null,null,null,null,{"$f":"IF(ISNUMBER(SEARCH('2 Crop Water Requirement'!$B$22,'Data Validation Sheet'!O164)),MAX($N$1:N163)+1,0)","v":0},{"$f":"'Crop Information'!B169","v":"Sugarcane (virgin - Tropics)"},null,{"$f":"IFERROR(VLOOKUP(ROWS($Q$2:Q164),$N$2:$O$763,2,FALSE),\"\")","v":""},null,null,{"$f":"IF(ISNUMBER(SEARCH('2 Crop Water Requirement'!$B$24,'Data Validation Sheet'!U164)),MAX($T$1:T163)+1,0)","v":0},{"$f":"'Crop Information'!B169","v":"Sugarcane (virgin - Tropics)"},null,{"$f":"IFERROR(VLOOKUP(ROWS($W$2:W164),$T$2:$U$763,2,FALSE),\"\")","v":""},null,null,{"$f":"IF(ISNUMBER(SEARCH('2 Crop Water Requirement'!$B$26,'Data Validation Sheet'!AA164)),MAX($Z$1:Z163)+1,0)","v":0},{"$f":"'Crop Information'!B169","v":"Sugarcane (virgin - Tropics)"},null,{"$f":"IFERROR(VLOOKUP(ROWS($AC$2:AC164),$Z$2:$AA$763,2,FALSE),\"\")","v":""},null,null,{"$f":"IF(ISNUMBER(SEARCH('2 Crop Water Requirement'!B$28,'Data Validation Sheet'!AG164)),MAX($AF$1:AF163)+1,0)","v":0},{"$f":"'Crop Information'!B169","v":"Sugarcane (virgin - Tropics)"},null,{"$f":"IFERROR(VLOOKUP(ROWS($AI$2:AI164),$AF$2:$AG$763,2,FALSE),\"\")","v":""},null,null,{"$f":"IF(ISNUMBER(SEARCH('2 Crop Water Requirement'!$B$30,'Data Validation Sheet'!AM164)),MAX($AL$1:AL163)+1,0)","v":0},{"$f":"'Crop Information'!B169","v":"Sugarcane (virgin - Tropics)"},null,{"$f":"IFERROR(VLOOKUP(ROWS($AO$2:AO164),$AL$2:$AM$763,2,FALSE),\"\")","v":""}]
[null,null,null,null,null,null,null,null,null,null,null,null,null,{"$f":"IF(ISNUMBER(SEARCH('2 Crop Water Requirement'!$B$22,'Data Validation Sheet'!O165)),MAX($N$1:N164)+1,0)","v":0},{"$f":"'Crop Information'!B170","v":"Sugarcane (virgin - Hawaii)"},null,{"$f":"IFERROR(VLOOKUP(ROWS($Q$2:Q165),$N$2:$O$763,2,FALSE),\"\")","v":""},null,null,{"$f":"IF(ISNUMBER(SEARCH('2 Crop Water Requirement'!$B$24,'Data Validation Sheet'!U165)),MAX($T$1:T164)+1,0)","v":0},{"$f":"'Crop Information'!B170","v":"Sugarcane (virgin - Hawaii)"},null,{"$f":"IFERROR(VLOOKUP(ROWS($W$2:W165),$T$2:$U$763,2,FALSE),\"\")","v":""},null,null,{"$f":"IF(ISNUMBER(SEARCH('2 Crop Water Requirement'!$B$26,'Data Validation Sheet'!AA165)),MAX($Z$1:Z164)+1,0)","v":0},{"$f":"'Crop Information'!B170","v":"Sugarcane (virgin - Hawaii)"},null,{"$f":"IFERROR(VLOOKUP(ROWS($AC$2:AC165),$Z$2:$AA$763,2,FALSE),\"\")","v":""},null,null,{"$f":"IF(ISNUMBER(SEARCH('2 Crop Water Requirement'!B$28,'Data Validation Sheet'!AG165)),MAX($AF$1:AF164)+1,0)","v":0},{"$f":"'Crop Information'!B170","v":"Sugarcane (virgin - Hawaii)"},null,{"$f":"IFERROR(VLOOKUP(ROWS($AI$2:AI165),$AF$2:$AG$763,2,FALSE),\"\")","v":""},null,null,{"$f":"IF(ISNUMBER(SEARCH('2 Crop Water Requirement'!$B$30,'Data Validation Sheet'!AM165)),MAX($AL$1:AL164)+1,0)","v":0},{"$f":"'Crop Information'!B170","v":"Sugarcane (virgin - Hawaii)"},null,{"$f":"IFERROR(VLOOKUP(ROWS($AO$2:AO165),$AL$2:$AM$763,2,FALSE),\"\")","v":""}]
[null,null,null,null,null,null,null,null,null,null,null,null,null,{"$f":"IF(ISNUMBER(SEARCH('2 Crop Water Requirement'!$B$22,'Data Validation Sheet'!O166)),MAX($N$1:N165)+1,0)","v":0},{"$f":"'Crop Information'!B171","v":"Sunflower (Apr/May - Mediterranean/California)"},null,{"$f":"IFERROR(VLOOKUP(ROWS($Q$2:Q166),$N$2:$O$763,2,FALSE),\"\")","v":""},null,null,{"$f":"IF(ISNUMBER(SEARCH('2 Crop Water Requirement'!$B$24,'Data Validation Sheet'!U166)),MAX($T$1:T165)+1,0)","v":0},{"$f":"'Crop Information'!B171","v":"Sunflower (Apr/May - Mediterranean/California)"},null,{"$f":"IFERROR(VLOOKUP(ROWS($W$2:W166),$T$2:$U$763,2,FALSE),\"\")","v":""},null,null,{"$f":"IF(ISNUMBER(SEARCH('2 Crop Water Requirement'!$B$26,'Data Validation Sheet'!AA166)),MAX($Z$1:Z165)+1,0)","v":0},{"$f":"'Crop Information'!B171","v":"Sunflower (Apr/May - Mediterranean/California)"},null,{"$f":"IFERROR(VLOOKUP(ROWS($AC$2:AC166),$Z$2:$AA$763,2,FALSE),\"\")","v":""},null,null,{"$f":"IF(ISNUMBER(SEARCH('2 Crop Water Requirement'!B$28,'Data Validation Sheet'!AG166)),MAX($AF$1:AF165)+1,0)","v":0},{"$f":"'Crop Information'!B171","v":"Sunflower (Apr/May - Mediterranean/California)"},null,{"$f":"IFERROR(VLOOKUP(ROWS($AI$2:AI166),$AF$2:$AG$763,2,FALSE),\"\")","v":""},null,null,{"$f":"IF(ISNUMBER(SEARCH('2 Crop Water Requirement'!$B$30,'Data Validation Sheet'!AM166)),MAX($AL$1:AL165)+1,0)","v":0},{"$f":"'Crop Information'!B171","v":"Sunflower (Apr/May - Mediterranean/California)"},null,{"$f":"IFERROR(VLOOKUP(ROWS($AO$2:AO166),$AL$2:$AM$763,2,FALSE),\"\")","v":""}]
[null,null,null,null,null,null,null,null,null,null,null,null,null,{"$f":"IF(ISNUMBER(SEARCH('2 Crop Water Requirement'!$B$22,'Data Validation Sheet'!O167)),MAX($N$1:N166)+1,0)","v":0},{"$f":"'Crop Information'!B172","v":"Sweet melons (May - Mediterranean)"},null,{"$f":"IFERROR(VLOOKUP(ROWS($Q$2:Q167),$N$2:$O$763,2,FALSE),\"\")","v":""},null,null,{"$f":"IF(ISNUMBER(SEARCH('2 Crop Water Requirement'!$B$24,'Data Validation Sheet'!U167)),MAX($T$1:T166)+1,0)","v":0},{"$f":"'Crop Information'!B172","v":"Sweet melons (May - Mediterranean)"},null,{"$f":"IFERROR(VLOOKUP(ROWS($W$2:W167),$T$2:$U$763,2,FALSE),\"\")","v":""},null,null,{"$f":"IF(ISNUMBER(SEARCH('2 Crop Water Requirement'!$B$26,'Data Validation Sheet'!AA167)),MAX($Z$1:Z166)+1,0)","v":0},{"$f":"'Crop Information'!B172","v":"Sweet melons (May - Mediterranean)"},null,{"$f":"IFERROR(VLOOKUP(ROWS($AC$2:AC167),$Z$2:$AA$763,2,FALSE),\"\")","v":""},null,null,{"$f":"IF(ISNUMBER(SEARCH('2 Crop Water Requirement'!B$28,'Data Validation Sheet'!AG167)),MAX($AF$1:AF166)+1,0)","v":0},{"$f":"'Crop Information'!B172","v":"Sweet melons (May - Mediterranean)"},null,{"$f":"IFERROR(VLOOKUP(ROWS($AI$2:AI167),$AF$2:$AG$763,2,FALSE),\"\")","v":""},null,null,{"$f":"IF(ISNUMBER(SEARCH('2 Crop Water Requirement'!$B$30,'Data Validation Sheet'!AM167)),MAX($AL$1:AL166)+1,0)","v":0},{"$f":"'Crop Information'!B172","v":"Sweet melons (May - Mediterranean)"},null,{"$f":"IFERROR(VLOOKUP(ROWS($AO$2:AO167),$AL$2:$AM$763,2,FALSE),\"\")","v":""}]
[null,null,null,null,null,null,null,null,null,null,null,null,null,{"$f":"IF(ISNUMBER(SEARCH('2 Crop Water Requirement'!$B$22,'Data Validation Sheet'!O168)),MAX($N$1:N167)+1,0)","v":0},{"$f":"'Crop Information'!B173","v":"Sweet melons (Mar - California)"},null,{"$f":"IFERROR(VLOOKUP(ROWS($Q$2:Q168),$N$2:$O$763,2,FALSE),\"\")","v":""},null,null,{"$f":"IF(ISNUMBER(SEARCH('2 Crop Water Requirement'!$B$24,'Data Validation Sheet'!U168)),MAX($T$1:T167)+1,0)","v":0},{"$f":"'Crop Information'!B173","v":"Sweet melons (Mar - California)"},null,{"$f":"IFERROR(VLOOKUP(ROWS($W$2:W168),$T$2:$U$763,2,FALSE),\"\")","v":""},null,null,{"$f":"IF(ISNUMBER(SEARCH('2 Crop Water Requirement'!$B$26,'Data Validation Sheet'!AA168)),MAX($Z$1:Z167)+1,0)","v":0},{"$f":"'Crop Information'!B173","v":"Sweet melons (Mar - California)"},null,{"$f":"IFERROR(VLOOKUP(ROWS($AC$2:AC168),$Z$2:$AA$763,2,FALSE),\"\")","v":""},null,null,{"$f":"IF(ISNUMBER(SEARCH('2 Crop Water Requirement'!B$28,'Data Validation Sheet'!AG168)),MAX($AF$1:AF167)+1,0)","v":0},{"$f":"'Crop Information'!B173","v":"Sweet melons (Mar - California)"},null,{"$f":"IFERROR(VLOOKUP(ROWS($AI$2:AI168),$AF$2:$AG$763,2,FALSE),\"\")","v":""},null,null,{"$f":"IF(ISNUMBER(SEARCH('2 Crop Water Requirement'!$B$30,'Data Validation Sheet'!AM168)),MAX($AL$1:AL167)+1,0)","v":0},{"$f":"'Crop Information'!B173","v":"Sweet melons (Mar - California)"},null,{"$f":"IFERROR(VLOOKUP(ROWS($AO$2:AO168),$AL$2:$AM$763,2,FALSE),\"\")","v":""}]
[null,null,null,null,null,null,null,null,null,null,null,null,null,{"$f":"IF(ISNUMBER(SEARCH('2 Crop Water Requirement'!$B$22,'Data Validation Sheet'!O169)),MAX($N$1:N168)+1,0)","v":0},{"$f":"'Crop Information'!B174","v":"Sweet melons (Aug - California desert)"},null,{"$f":"IFERROR(VLOOKUP(ROWS($Q$2:Q169),$N$2:$O$763,2,FALSE),\"\")","v":""},null,null,{"$f":"IF(ISNUMBER(SEARCH('2 Crop Water Requirement'!$B$24,'Data Validation Sheet'!U169)),MAX($T$1:T168)+1,0)","v":0},{"$f":"'Crop Information'!B174","v":"Sweet melons (Aug - California desert)"},null,{"$f":"IFERROR(VLOOKUP(ROWS($W$2:W169),$T$2:$U$763,2,FALSE),\"\")","v":""},null,null,{"$f":"IF(ISNUMBER(SEARCH('2 Crop Water Requirement'!$B$26,'Data Validation Sheet'!AA169)),MAX($Z$1:Z168)+1,0)","v":0},{"$f":"'Crop Information'!B174","v":"Sweet melons (Aug - California desert)"},null,{"$f":"IFERROR(VLOOKUP(ROWS($AC$2:AC169),$Z$2:$AA$763,2,FALSE),\"\")","v":""},null,null,{"$f":"IF(ISNUMBER(SEARCH('2 Crop Water Requirement'!B$28,'Data Validation Sheet'!AG169)),MAX($AF$1:AF168)+1,0)","v":0},{"$f":"'Crop Information'!B174","v":"Sweet melons (Aug - California desert)"},null,{"$f":"IFERROR(VLOOKUP(ROWS($AI$2:AI169),$AF$2:$AG$763,2,FALSE),\"\")","v":""},null,null,{"$f":"IF(ISNUMBER(SEARCH('2 Crop Water Requirement'!$B$30,'Data Validation Sheet'!AM169)),MAX($AL$1:AL168)+1,0)","v":0},{"$f":"'Crop Information'!B174","v":"Sweet melons (Aug - California desert)"},null,{"$f":"IFERROR(VLOOKUP(ROWS($AO$2:AO169),$AL$2:$AM$763,2,FALSE),\"\")","v":""}]
[null,null,null,null,null,null,null,null,null,null,null,null,null,{"$f":"IF(ISNUMBER(SEARCH('2 Crop Water Requirement'!$B$22,'Data Validation Sheet'!O170)),MAX($N$1:N169)+1,0)","v":0},{"$f":"'Crop Information'!B175","v":"Sweet melons (Dec/Jan - arid region)"},null,{"$f":"IFERROR(VLOOKUP(ROWS($Q$2:Q170),$N$2:$O$763,2,FALSE),\"\")","v":""},null,null,{"$f":"IF(ISNUMBER(SEARCH('2 Crop Water Requirement'!$B$24,'Data Validation Sheet'!U170)),MAX($T$1:T169)+1,0)","v":0},{"$f":"'Crop Information'!B175","v":"Sweet melons (Dec/Jan - arid region)"},null,{"$f":"IFERROR(VLOOKUP(ROWS($W$2:W170),$T$2:$U$763,2,FALSE),\"\")","v":""},null,null,{"$f":"IF(ISNUMBER(SEARCH('2 Crop Water Requirement'!$B$26,'Data Validation Sheet'!AA170)),MAX($Z$1:Z169)+1,0)","v":0},{"$f":"'Crop Information'!B175","v":"Sweet melons (Dec/Jan - arid region)"},null,{"$f":"IFERROR(VLOOKUP(ROWS($AC$2:AC170),$Z$2:$AA$763,2,FALSE),\"\")","v":""},null,null,{"$f":"IF(ISNUMBER(SEARCH('2 Crop Water Requirement'!B$28,'Data Validation Sheet'!AG170)),MAX($AF$1:AF169)+1,0)","v":0},{"$f":"'Crop Information'!B175","v":"Sweet melons (Dec/Jan - arid region)"},null,{"$f":"IFERROR(VLOOKUP(ROWS($AI$2:AI170),$AF$2:$AG$763,2,FALSE),\"\")","v":""},null,null,{"$f":"IF(ISNUMBER(SEARCH('2 Crop Water Requirement'!$B$30,'Data Validation Sheet'!AM170)),MAX($AL$1:AL169)+1,0)","v":0},{"$f":"'Crop Information'!B175","v":"Sweet melons (Dec/Jan - arid region)"},null,{"$f":"IFERROR(VLOOKUP(ROWS($AO$2:AO170),$AL$2:$AM$763,2,FALSE),\"\")","v":""}]
[null,null,null,null,null,null,null,null,null,null,null,null,null,{"$f":"IF(ISNUMBER(SEARCH('2 Crop Water Requirement'!$B$22,'Data Validation Sheet'!O171)),MAX($N$1:N170)+1,0)","v":0},{"$f":"'Crop Information'!B176","v":"Sweet peppers (Apr/Jun - Europe/Mediterranean)"},null,{"$f":"IFERROR(VLOOKUP(ROWS($Q$2:Q171),$N$2:$O$763,2,FALSE),\"\")","v":""},null,null,{"$f":"IF(ISNUMBER(SEARCH('2 Crop Water Requirement'!$B$24,'Data Validation Sheet'!U171)),MAX($T$1:T170)+1,0)","v":0},{"$f":"'Crop Information'!B176","v":"Sweet peppers (Apr/Jun - Europe/Mediterranean)"},null,{"$f":"IFERROR(VLOOKUP(ROWS($W$2:W171),$T$2:$U$763,2,FALSE),\"\")","v":""},null,null,{"$f":"IF(ISNUMBER(SEARCH('2 Crop Water Requirement'!$B$26,'Data Validation Sheet'!AA171)),MAX($Z$1:Z170)+1,0)","v":0},{"$f":"'Crop Information'!B176","v":"Sweet peppers (Apr/Jun - Europe/Mediterranean)"},null,{"$f":"IFERROR(VLOOKUP(ROWS($AC$2:AC171),$Z$2:$AA$763,2,FALSE),\"\")","v":""},null,null,{"$f":"IF(ISNUMBER(SEARCH('2 Crop Water Requirement'!B$28,'Data Validation Sheet'!AG171)),MAX($AF$1:AF170)+1,0)","v":0},{"$f":"'Crop Information'!B176","v":"Sweet peppers (Apr/Jun - Europe/Mediterranean)"},null,{"$f":"IFERROR(VLOOKUP(ROWS($AI$2:AI171),$AF$2:$AG$763,2,FALSE),\"\")","v":""},null,null,{"$f":"IF(ISNUMBER(SEARCH('2 Crop Water Requirement'!$B$30,'Data Validation Sheet'!AM171)),MAX($AL$1:AL170)+1,0)","v":0},{"$f":"'Crop Information'!B176","v":"Sweet peppers (Apr/Jun - Europe/Mediterranean)"},null,{"$f":"IFERROR(VLOOKUP(ROWS($AO$2:AO171),$AL$2:$AM$763,2,FALSE),\"\")","v":""}]
[null,null,null,null,null,null,null,null,null,null,null,null,null,{"$f":"IF(ISNUMBER(SEARCH('2 Crop Water Requirement'!$B$22,'Data Validation Sheet'!O172)),MAX($N$1:N171)+1,0)","v":0},{"$f":"'Crop Information'!B177","v":"Sweet peppers (Oct - arid region)"},null,{"$f":"IFERROR(VLOOKUP(ROWS($Q$2:Q172),$N$2:$O$763,2,FALSE),\"\")","v":""},null,null,{"$f":"IF(ISNUMBER(SEARCH('2 Crop Water Requirement'!$B$24,'Data Validation Sheet'!U172)),MAX($T$1:T171)+1,0)","v":0},{"$f":"'Crop Information'!B177","v":"Sweet peppers (Oct - arid region)"},null,{"$f":"IFERROR(VLOOKUP(ROWS($W$2:W172),$T$2:$U$763,2,FALSE),\"\")","v":""},null,null,{"$f":"IF(ISNUMBER(SEARCH('2 Crop Water Requirement'!$B$26,'Data Validation Sheet'!AA172)),MAX($Z$1:Z171)+1,0)","v":0},{"$f":"'Crop Information'!B177","v":"Sweet peppers (Oct - arid region)"},null,{"$f":"IFERROR(VLOOKUP(ROWS($AC$2:AC172),$Z$2:$AA$763,2,FALSE),\"\")","v":""},null,null,{"$f":"IF(ISNUMBER(SEARCH('2 Crop Water Requirement'!B$28,'Data Validation Sheet'!AG172)),MAX($AF$1:AF171)+1,0)","v":0},{"$f":"'Crop Information'!B177","v":"Sweet peppers (Oct - arid region)"},null,{"$f":"IFERROR(VLOOKUP(ROWS($AI$2:AI172),$AF$2:$AG$763,2,FALSE),\"\")","v":""},null,null,{"$f":"IF(ISNUMBER(SEARCH('2 Crop Water Requirement'!$B$30,'Data Validation Sheet'!AM172)),MAX($AL$1:AL171)+1,0)","v":0},{"$f":"'Crop Information'!B177","v":"Sweet peppers (Oct - arid region)"},null,{"$f":"IFERROR(VLOOKUP(ROWS($AO$2:AO172),$AL$2:$AM$763,2,FALSE),\"\")","v":""}]
[null,null,null,null,null,null,null,null,null,null,null,null,null,{"$f":"IF(ISNUMBER(SEARCH('2 Crop Water Requirement'!$B$22,'Data Validation Sheet'!O173)),MAX($N$1:N172)+1,0)","v":0},{"$f":"'Crop Information'!B178","v":"Sweet potato (Apr - Mediterranean)"},null,{"$f":"IFERROR(VLOOKUP(ROWS($Q$2:Q173),$N$2:$O$763,2,FALSE),\"\")","v":""},null,null,{"$f":"IF(ISNUMBER(SEARCH('2 Crop Water Requirement'!$B$24,'Data Validation Sheet'!U173)),MAX($T$1:T172)+1,0)","v":0},{"$f":"'Crop Information'!B178","v":"Sweet potato (Apr - Mediterranean)"},null,{"$f":"IFERROR(VLOOKUP(ROWS($W$2:W173),$T$2:$U$763,2,FALSE),\"\")","v":""},null,null,{"$f":"IF(ISNUMBER(SEARCH('2 Crop Water Requirement'!$B$26,'Data Validation Sheet'!AA173)),MAX($Z$1:Z172)+1,0)","v":0},{"$f":"'Crop Information'!B178","v":"Sweet potato (Apr - Mediterranean)"},null,{"$f":"IFERROR(VLOOKUP(ROWS($AC$2:AC173),$Z$2:$AA$763,2,FALSE),\"\")","v":""},null,null,{"$f":"IF(ISNUMBER(SEARCH('2 Crop Water Requirement'!B$28,'Data Validation Sheet'!AG173)),MAX($AF$1:AF172)+1,0)","v":0},{"$f":"'Crop Information'!B178","v":"Sweet potato (Apr - Mediterranean)"},null,{"$f":"IFERROR(VLOOKUP(ROWS($AI$2:AI173),$AF$2:$AG$763,2,FALSE),\"\")","v":""},null,null,{"$f":"IF(ISNUMBER(SEARCH('2 Crop Water Requirement'!$B$30,'Data Validation Sheet'!AM173)),MAX($AL$1:AL172)+1,0)","v":0},{"$f":"'Crop Information'!B178","v":"Sweet potato (Apr - Mediterranean)"},null,{"$f":"IFERROR(VLOOKUP(ROWS($AO$2:AO173),$AL$2:$AM$763,2,FALSE),\"\")","v":""}]
[null,null,null,null,null,null,null,null,null,null,null,null,null,{"$f":"IF(ISNUMBER(SEARCH('2 Crop Water Requirement'!$B$22,'Data Validation Sheet'!O174)),MAX($N$1:N173)+1,0)","v":0},{"$f":"'Crop Information'!B179","v":"Sweet potato (rainy season - Tropical regions)"},null,{"$f":"IFERROR(VLOOKUP(ROWS($Q$2:Q174),$N$2:$O$763,2,FALSE),\"\")","v":""},null,null,{"$f":"IF(ISNUMBER(SEARCH('2 Crop Water Requirement'!$B$24,'Data Validation Sheet'!U174)),MAX($T$1:T173)+1,0)","v":0},{"$f":"'Crop Information'!B179","v":"Sweet potato (rainy season - Tropical regions)"},null,{"$f":"IFERROR(VLOOKUP(ROWS($W$2:W174),$T$2:$U$763,2,FALSE),\"\")","v":""},null,null,{"$f":"IF(ISNUMBER(SEARCH('2 Crop Water Requirement'!$B$26,'Data Validation Sheet'!AA174)),MAX($Z$1:Z173)+1,0)","v":0},{"$f":"'Crop Information'!B179","v":"Sweet potato (rainy season - Tropical regions)"},null,{"$f":"IFERROR(VLOOKUP(ROWS($AC$2:AC174),$Z$2:$AA$763,2,FALSE),\"\")","v":""},null,null,{"$f":"IF(ISNUMBER(SEARCH('2 Crop Water Requirement'!B$28,'Data Validation Sheet'!AG174)),MAX($AF$1:AF173)+1,0)","v":0},{"$f":"'Crop Information'!B179","v":"Sweet potato (rainy season - Tropical regions)"},null,{"$f":"IFERROR(VLOOKUP(ROWS($AI$2:AI174),$AF$2:$AG$763,2,FALSE),\"\")","v":""},null,null,{"$f":"IF(ISNUMBER(SEARCH('2 Crop Water Requirement'!$B$30,'Data Validation Sheet'!AM174)),MAX($AL$1:AL173)+1,0)","v":0},{"$f":"'Crop Information'!B179","v":"Sweet potato (rainy season - Tropical regions)"},null,{"$f":"IFERROR(VLOOKUP(ROWS($AO$2:AO174),$AL$2:$AM$763,2,FALSE),\"\")","v":""}]
[null,null,null,null,null,null,null,null,null,null,null,null,null,{"$f":"IF(ISNUMBER(SEARCH('2 Crop Water Requirement'!$B$22,'Data Validation Sheet'!O175)),MAX($N$1:N174)+1,0)","v":0},{"$f":"'Crop Information'!B180","v":"Tomato (Jan - arid region)"},null,{"$f":"IFERROR(VLOOKUP(ROWS($Q$2:Q175),$N$2:$O$763,2,FALSE),\"\")","v":""},null,null,{"$f":"IF(ISNUMBER(SEARCH('2 Crop Water Requirement'!$B$24,'Data Validation Sheet'!U175)),MAX($T$1:T174)+1,0)","v":0},{"$f":"'Crop Information'!B180","v":"Tomato (Jan - arid region)"},null,{"$f":"IFERROR(VLOOKUP(ROWS($W$2:W175),$T$2:$U$763,2,FALSE),\"\")","v":""},null,null,{"$f":"IF(ISNUMBER(SEARCH('2 Crop Water Requirement'!$B$26,'Data Validation Sheet'!AA175)),MAX($Z$1:Z174)+1,0)","v":0},{"$f":"'Crop Information'!B180","v":"Tomato (Jan - arid region)"},null,{"$f":"IFERROR(VLOOKUP(ROWS($AC$2:AC175),$Z$2:$AA$763,2,FALSE),\"\")","v":""},null,null,{"$f":"IF(ISNUMBER(SEARCH('2 Crop Water Requirement'!B$28,'Data Validation Sheet'!AG175)),MAX($AF$1:AF174)+1,0)","v":0},{"$f":"'Crop Information'!B180","v":"Tomato (Jan - arid region)"},null,{"$f":"IFERROR(VLOOKUP(ROWS($AI$2:AI175),$AF$2:$AG$763,2,FALSE),\"\")","v":""},null,null,{"$f":"IF(ISNUMBER(SEARCH('2 Crop Water Requirement'!$B$30,'Data Validation Sheet'!AM175)),MAX($AL$1:AL174)+1,0)","v":0},{"$f":"'Crop Information'!B180","v":"Tomato (Jan - arid region)"},null,{"$f":"IFERROR(VLOOKUP(ROWS($AO$2:AO175),$AL$2:$AM$763,2,FALSE),\"\")","v":""}]
[null,null,null,null,null,null,null,null,null,null,null,null,null,{"$f":"IF(ISNUMBER(SEARCH('2 Crop Water Requirement'!$B$22,'Data Validation Sheet'!O176)),MAX($N$1:N175)+1,0)","v":0},{"$f":"'Crop Information'!B181","v":"Tomato (Apr/May - California)"},null,{"$f":"IFERROR(VLOOKUP(ROWS($Q$2:Q176),$N$2:$O$763,2,FALSE),\"\")","v":""},null,null,{"$f":"IF(ISNUMBER(SEARCH('2 Crop Water Requirement'!$B$24,'Data Validation Sheet'!U176)),MAX($T$1:T175)+1,0)","v":0},{"$f":"'Crop Information'!B181","v":"Tomato (Apr/May - California)"},null,{"$f":"IFERROR(VLOOKUP(ROWS($W$2:W176),$T$2:$U$763,2,FALSE),\"\")","v":""},null,null,{"$f":"IF(ISNUMBER(SEARCH('2 Crop Water Requirement'!$B$26,'Data Validation Sheet'!AA176)),MAX($Z$1:Z175)+1,0)","v":0},{"$f":"'Crop Information'!B181","v":"Tomato (Apr/May - California)"},null,{"$f":"IFERROR(VLOOKUP(ROWS($AC$2:AC176),$Z$2:$AA$763,2,FALSE),\"\")","v":""},null,null,{"$f":"IF(ISNUMBER(SEARCH('2 Crop Water Requirement'!B$28,'Data Validation Sheet'!AG176)),MAX($AF$1:AF175)+1,0)","v":0},{"$f":"'Crop Information'!B181","v":"Tomato (Apr/May - California)"},null,{"$f":"IFERROR(VLOOKUP(ROWS($AI$2:AI176),$AF$2:$AG$763,2,FALSE),\"\")","v":""},null,null,{"$f":"IF(ISNUMBER(SEARCH('2 Crop Water Requirement'!$B$30,'Data Validation Sheet'!AM176)),MAX($AL$1:AL175)+1,0)","v":0},{"$f":"'Crop Information'!B181","v":"Tomato (Apr/May - California)"},null,{"$f":"IFERROR(VLOOKUP(ROWS($AO$2:AO176),$AL$2:$AM$763,2,FALSE),\"\")","v":""}]
[null,null,null,null,null,null,null,null,null,null,null,null,null,{"$f":"IF(ISNUMBER(SEARCH('2 Crop Water Requirement'!$B$22,'Data Validation Sheet'!O177)),MAX($N$1:N176)+1,0)","v":0},{"$f":"'Crop Information'!B182","v":"Tomato (Jan - California desert)"},null,{"$f":"IFERROR(VLOOKUP(ROWS($Q$2:Q177),$N$2:$O$763,2,FALSE),\"\")","v":""},null,null,{"$f":"IF(ISNUMBER(SEARCH('2 Crop Water Requirement'!$B$24,'Data Validation Sheet'!U177)),MAX($T$1:T176)+1,0)","v":0},{"$f":"'Crop Information'!B182","v":"Tomato (Jan - California desert)"},null,{"$f":"IFERROR(VLOOKUP(ROWS($W$2:W177),$T$2:$U$763,2,FALSE),\"\")","v":""},null,null,{"$f":"IF(ISNUMBER(SEARCH('2 Crop Water Requirement'!$B$26,'Data Validation Sheet'!AA177)),MAX($Z$1:Z176)+1,0)","v":0},{"$f":"'Crop Information'!B182","v":"Tomato (Jan - California desert)"},null,{"$f":"IFERROR(VLOOKUP(ROWS($AC$2:AC177),$Z$2:$AA$763,2,FALSE),\"\")","v":""},null,null,{"$f":"IF(ISNUMBER(SEARCH('2 Crop Water Requirement'!B$28,'Data Validation Sheet'!AG177)),MAX($AF$1:AF176)+1,0)","v":0},{"$f":"'Crop Information'!B182","v":"Tomato (Jan - California desert)"},null,{"$f":"IFERROR(VLOOKUP(ROWS($AI$2:AI177),$AF$2:$AG$763,2,FALSE),\"\")","v":""},null,null,{"$f":"IF(ISNUMBER(SEARCH('2 Crop Water Requirement'!$B$30,'Data Validation Sheet'!AM177)),MAX($AL$1:AL176)+1,0)","v":0},{"$f":"'Crop Information'!B182","v":"Tomato (Jan - California desert)"},null,{"$f":"IFERROR(VLOOKUP(ROWS($AO$2:AO177),$AL$2:$AM$763,2,FALSE),\"\")","v":""}]
[null,null,null,null,null,null,null,null,null,null,null,null,null,{"$f":"IF(ISNUMBER(SEARCH('2 Crop Water Requirement'!$B$22,'Data Validation Sheet'!O178)),MAX($N$1:N177)+1,0)","v":0},{"$f":"'Crop Information'!B183","v":"Tomato (Oct/Nov - arid region)"},null,{"$f":"IFERROR(VLOOKUP(ROWS($Q$2:Q178),$N$2:$O$763,2,FALSE),\"\")","v":""},null,null,{"$f":"IF(ISNUMBER(SEARCH('2 Crop Water Requirement'!$B$24,'Data Validation Sheet'!U178)),MAX($T$1:T177)+1,0)","v":0},{"$f":"'Crop Information'!B183","v":"Tomato (Oct/Nov - arid region)"},null,{"$f":"IFERROR(VLOOKUP(ROWS($W$2:W178),$T$2:$U$763,2,FALSE),\"\")","v":""},null,null,{"$f":"IF(ISNUMBER(SEARCH('2 Crop Water Requirement'!$B$26,'Data Validation Sheet'!AA178)),MAX($Z$1:Z177)+1,0)","v":0},{"$f":"'Crop Information'!B183","v":"Tomato (Oct/Nov - arid region)"},null,{"$f":"IFERROR(VLOOKUP(ROWS($AC$2:AC178),$Z$2:$AA$763,2,FALSE),\"\")","v":""},null,null,{"$f":"IF(ISNUMBER(SEARCH('2 Crop Water Requirement'!B$28,'Data Validation Sheet'!AG178)),MAX($AF$1:AF177)+1,0)","v":0},{"$f":"'Crop Information'!B183","v":"Tomato (Oct/Nov - arid region)"},null,{"$f":"IFERROR(VLOOKUP(ROWS($AI$2:AI178),$AF$2:$AG$763,2,FALSE),\"\")","v":""},null,null,{"$f":"IF(ISNUMBER(SEARCH('2 Crop Water Requirement'!$B$30,'Data Validation Sheet'!AM178)),MAX($AL$1:AL177)+1,0)","v":0},{"$f":"'Crop Information'!B183","v":"Tomato (Oct/Nov - arid region)"},null,{"$f":"IFERROR(VLOOKUP(ROWS($AO$2:AO178),$AL$2:$AM$763,2,FALSE),\"\")","v":""}]
[null,null,null,null,null,null,null,null,null,null,null,null,null,{"$f":"IF(ISNUMBER(SEARCH('2 Crop Water Requirement'!$B$22,'Data Validation Sheet'!O179)),MAX($N$1:N178)+1,0)","v":0},{"$f":"'Crop Information'!B184","v":"Tomato (Apr/May - Mediterranean)"},null,{"$f":"IFERROR(VLOOKUP(ROWS($Q$2:Q179),$N$2:$O$763,2,FALSE),\"\")","v":""},null,null,{"$f":"IF(ISNUMBER(SEARCH('2 Crop Water Requirement'!$B$24,'Data Validation Sheet'!U179)),MAX($T$1:T178)+1,0)","v":0},{"$f":"'Crop Information'!B184","v":"Tomato (Apr/May - Mediterranean)"},null,{"$f":"IFERROR(VLOOKUP(ROWS($W$2:W179),$T$2:$U$763,2,FALSE),\"\")","v":""},null,null,{"$f":"IF(ISNUMBER(SEARCH('2 Crop Water Requirement'!$B$26,'Data Validation Sheet'!AA179)),MAX($Z$1:Z178)+1,0)","v":0},{"$f":"'Crop Information'!B184","v":"Tomato (Apr/May - Mediterranean)"},null,{"$f":"IFERROR(VLOOKUP(ROWS($AC$2:AC179),$Z$2:$AA$763,2,FALSE),\"\")","v":""},null,null,{"$f":"IF(ISNUMBER(SEARCH('2 Crop Water Requirement'!B$28,'Data Validation Sheet'!AG179)),MAX($AF$1:AF178)+1,0)","v":0},{"$f":"'Crop Information'!B184","v":"Tomato (Apr/May - Mediterranean)"},null,{"$f":"IFERROR(VLOOKUP(ROWS($AI$2:AI179),$AF$2:$AG$763,2,FALSE),\"\")","v":""},null,null,{"$f":"IF(ISNUMBER(SEARCH('2 Crop Water Requirement'!$B$30,'Data Validation Sheet'!AM179)),MAX($AL$1:AL178)+1,0)","v":0},{"$f":"'Crop Information'!B184","v":"Tomato (Apr/May - Mediterranean)"},null,{"$f":"IFERROR(VLOOKUP(ROWS($AO$2:AO179),$AL$2:$AM$763,2,FALSE),\"\")","v":""}]
[null,null,null,null,null,null,null,null,null,null,null,null,null,{"$f":"IF(ISNUMBER(SEARCH('2 Crop Water Requirement'!$B$22,'Data Validation Sheet'!O180)),MAX($N$1:N179)+1,0)","v":0},{"$f":"'Crop Information'!B185","v":"Walnuts (Apr - Utah)"},null,{"$f":"IFERROR(VLOOKUP(ROWS($Q$2:Q180),$N$2:$O$763,2,FALSE),\"\")","v":""},null,null,{"$f":"IF(ISNUMBER(SEARCH('2 Crop Water Requirement'!$B$24,'Data Validation Sheet'!U180)),MAX($T$1:T179)+1,0)","v":0},{"$f":"'Crop Information'!B185","v":"Walnuts (Apr - Utah)"},null,{"$f":"IFERROR(VLOOKUP(ROWS($W$2:W180),$T$2:$U$763,2,FALSE),\"\")","v":""},null,null,{"$f":"IF(ISNUMBER(SEARCH('2 Crop Water Requirement'!$B$26,'Data Validation Sheet'!AA180)),MAX($Z$1:Z179)+1,0)","v":0},{"$f":"'Crop Information'!B185","v":"Walnuts (Apr - Utah)"},null,{"$f":"IFERROR(VLOOKUP(ROWS($AC$2:AC180),$Z$2:$AA$763,2,FALSE),\"\")","v":""},null,null,{"$f":"IF(ISNUMBER(SEARCH('2 Crop Water Requirement'!B$28,'Data Validation Sheet'!AG180)),MAX($AF$1:AF179)+1,0)","v":0},{"$f":"'Crop Information'!B185","v":"Walnuts (Apr - Utah)"},null,{"$f":"IFERROR(VLOOKUP(ROWS($AI$2:AI180),$AF$2:$AG$763,2,FALSE),\"\")","v":""},null,null,{"$f":"IF(ISNUMBER(SEARCH('2 Crop Water Requirement'!$B$30,'Data Validation Sheet'!AM180)),MAX($AL$1:AL179)+1,0)","v":0},{"$f":"'Crop Information'!B185","v":"Walnuts (Apr - Utah)"},null,{"$f":"IFERROR(VLOOKUP(ROWS($AO$2:AO180),$AL$2:$AM$763,2,FALSE),\"\")","v":""}]
[null,null,null,null,null,null,null,null,null,null,null,null,null,{"$f":"IF(ISNUMBER(SEARCH('2 Crop Water Requirement'!$B$22,'Data Validation Sheet'!O181)),MAX($N$1:N180)+1,0)","v":0},{"$f":"'Crop Information'!B186","v":"Water melons (Apr - Italy)"},null,{"$f":"IFERROR(VLOOKUP(ROWS($Q$2:Q181),$N$2:$O$763,2,FALSE),\"\")","v":""},null,null,{"$f":"IF(ISNUMBER(SEARCH('2 Crop Water Requirement'!$B$24,'Data Validation Sheet'!U181)),MAX($T$1:T180)+1,0)","v":0},{"$f":"'Crop Information'!B186","v":"Water melons (Apr - Italy)"},null,{"$f":"IFERROR(VLOOKUP(ROWS($W$2:W181),$T$2:$U$763,2,FALSE),\"\")","v":""},null,null,{"$f":"IF(ISNUMBER(SEARCH('2 Crop Water Requirement'!$B$26,'Data Validation Sheet'!AA181)),MAX($Z$1:Z180)+1,0)","v":0},{"$f":"'Crop Information'!B186","v":"Water melons (Apr - Italy)"},null,{"$f":"IFERROR(VLOOKUP(ROWS($AC$2:AC181),$Z$2:$AA$763,2,FALSE),\"\")","v":""},null,null,{"$f":"IF(ISNUMBER(SEARCH('2 Crop Water Requirement'!B$28,'Data Validation Sheet'!AG181)),MAX($AF$1:AF180)+1,0)","v":0},{"$f":"'Crop Information'!B186","v":"Water melons (Apr - Italy)"},null,{"$f":"IFERROR(VLOOKUP(ROWS($AI$2:AI181),$AF$2:$AG$763,2,FALSE),\"\")","v":""},null,null,{"$f":"IF(ISNUMBER(SEARCH('2 Crop Water Requirement'!$B$30,'Data Validation Sheet'!AM181)),MAX($AL$1:AL180)+1,0)","v":0},{"$f":"'Crop Information'!B186","v":"Water melons (Apr - Italy)"},null,{"$f":"IFERROR(VLOOKUP(ROWS($AO$2:AO181),$AL$2:$AM$763,2,FALSE),\"\")","v":""}]
[null,null,null,null,null,null,null,null,null,null,null,null,null,{"$f":"IF(ISNUMBER(SEARCH('2 Crop Water Requirement'!$B$22,'Data Validation Sheet'!O182)),MAX($N$1:N181)+1,0)","v":0},{"$f":"'Crop Information'!B187","v":"Water melons (Mat/Aug - Near East (desert))"},null,{"$f":"IFERROR(VLOOKUP(ROWS($Q$2:Q182),$N$2:$O$763,2,FALSE),\"\")","v":""},null,null,{"$f":"IF(ISNUMBER(SEARCH('2 Crop Water Requirement'!$B$24,'Data Validation Sheet'!U182)),MAX($T$1:T181)+1,0)","v":0},{"$f":"'Crop Information'!B187","v":"Water melons (Mat/Aug - Near East (desert))"},null,{"$f":"IFERROR(VLOOKUP(ROWS($W$2:W182),$T$2:$U$763,2,FALSE),\"\")","v":""},null,null,{"$f":"IF(ISNUMBER(SEARCH('2 Crop Water Requirement'!$B$26,'Data Validation Sheet'!AA182)),MAX($Z$1:Z181)+1,0)","v":0},{"$f":"'Crop Information'!B187","v":"Water melons (Mat/Aug - Near East (desert))"},null,{"$f":"IFERROR(VLOOKUP(ROWS($AC$2:AC182),$Z$2:$AA$763,2,FALSE),\"\")","v":""},null,null,{"$f":"IF(ISNUMBER(SEARCH('2 Crop Water Requirement'!B$28,'Data Validation Sheet'!AG182)),MAX($AF$1:AF181)+1,0)","v":0},{"$f":"'Crop Information'!B187","v":"Water melons (Mat/Aug - Near East (desert))"},null,{"$f":"IFERROR(VLOOKUP(ROWS($AI$2:AI182),$AF$2:$AG$763,2,FALSE),\"\")","v":""},null,null,{"$f":"IF(ISNUMBER(SEARCH('2 Crop Water Requirement'!$B$30,'Data Validation Sheet'!AM182)),MAX($AL$1:AL181)+1,0)","v":0},{"$f":"'Crop Information'!B187","v":"Water melons (Mat/Aug - Near East (desert))"},null,{"$f":"IFERROR(VLOOKUP(ROWS($AO$2:AO182),$AL$2:$AM$763,2,FALSE),\"\")","v":""}]
[null,null,null,null,null,null,null,null,null,null,null,null,null,{"$f":"IF(ISNUMBER(SEARCH('2 Crop Water Requirement'!$B$22,'Data Validation Sheet'!O183)),MAX($N$1:N182)+1,0)","v":0},{"$f":"'Crop Information'!B188","v":"Winter Wheat (Dec - California)"},null,{"$f":"IFERROR(VLOOKUP(ROWS($Q$2:Q183),$N$2:$O$763,2,FALSE),\"\")","v":""},null,null,{"$f":"IF(ISNUMBER(SEARCH('2 Crop Water Requirement'!$B$24,'Data Validation Sheet'!U183)),MAX($T$1:T182)+1,0)","v":0},{"$f":"'Crop Information'!B188","v":"Winter Wheat (Dec - California)"},null,{"$f":"IFERROR(VLOOKUP(ROWS($W$2:W183),$T$2:$U$763,2,FALSE),\"\")","v":""},null,null,{"$f":"IF(ISNUMBER(SEARCH('2 Crop Water Requirement'!$B$26,'Data Validation Sheet'!AA183)),MAX($Z$1:Z182)+1,0)","v":0},{"$f":"'Crop Information'!B188","v":"Winter Wheat (Dec - California)"},null,{"$f":"IFERROR(VLOOKUP(ROWS($AC$2:AC183),$Z$2:$AA$763,2,FALSE),\"\")","v":""},null,null,{"$f":"IF(ISNUMBER(SEARCH('2 Crop Water Requirement'!B$28,'Data Validation Sheet'!AG183)),MAX($AF$1:AF182)+1,0)","v":0},{"$f":"'Crop Information'!B188","v":"Winter Wheat (Dec - California)"},null,{"$f":"IFERROR(VLOOKUP(ROWS($AI$2:AI183),$AF$2:$AG$763,2,FALSE),\"\")","v":""},null,null,{"$f":"IF(ISNUMBER(SEARCH('2 Crop Water Requirement'!$B$30,'Data Validation Sheet'!AM183)),MAX($AL$1:AL182)+1,0)","v":0},{"$f":"'Crop Information'!B188","v":"Winter Wheat (Dec - California)"},null,{"$f":"IFERROR(VLOOKUP(ROWS($AO$2:AO183),$AL$2:$AM$763,2,FALSE),\"\")","v":""}]
[null,null,null,null,null,null,null,null,null,null,null,null,null,{"$f":"IF(ISNUMBER(SEARCH('2 Crop Water Requirement'!$B$22,'Data Validation Sheet'!O184)),MAX($N$1:N183)+1,0)","v":0},{"$f":"'Crop Information'!B189","v":"Winter Wheat (Nov - Mediterranean)"},null,{"$f":"IFERROR(VLOOKUP(ROWS($Q$2:Q184),$N$2:$O$763,2,FALSE),\"\")","v":""},null,null,{"$f":"IF(ISNUMBER(SEARCH('2 Crop Water Requirement'!$B$24,'Data Validation Sheet'!U184)),MAX($T$1:T183)+1,0)","v":0},{"$f":"'Crop Information'!B189","v":"Winter Wheat (Nov - Mediterranean)"},null,{"$f":"IFERROR(VLOOKUP(ROWS($W$2:W184),$T$2:$U$763,2,FALSE),\"\")","v":""},null,null,{"$f":"IF(ISNUMBER(SEARCH('2 Crop Water Requirement'!$B$26,'Data Validation Sheet'!AA184)),MAX($Z$1:Z183)+1,0)","v":0},{"$f":"'Crop Information'!B189","v":"Winter Wheat (Nov - Mediterranean)"},null,{"$f":"IFERROR(VLOOKUP(ROWS($AC$2:AC184),$Z$2:$AA$763,2,FALSE),\"\")","v":""},null,null,{"$f":"IF(ISNUMBER(SEARCH('2 Crop Water Requirement'!B$28,'Data Validation Sheet'!AG184)),MAX($AF$1:AF183)+1,0)","v":0},{"$f":"'Crop Information'!B189","v":"Winter Wheat (Nov - Mediterranean)"},null,{"$f":"IFERROR(VLOOKUP(ROWS($AI$2:AI184),$AF$2:$AG$763,2,FALSE),\"\")","v":""},null,null,{"$f":"IF(ISNUMBER(SEARCH('2 Crop Water Requirement'!$B$30,'Data Validation Sheet'!AM184)),MAX($AL$1:AL183)+1,0)","v":0},{"$f":"'Crop Information'!B189","v":"Winter Wheat (Nov - Mediterranean)"},null,{"$f":"IFERROR(VLOOKUP(ROWS($AO$2:AO184),$AL$2:$AM$763,2,FALSE),\"\")","v":""}]
[null,null,null,null,null,null,null,null,null,null,null,null,null,{"$f":"IF(ISNUMBER(SEARCH('2 Crop Water Requirement'!$B$22,'Data Validation Sheet'!O185)),MAX($N$1:N184)+1,0)","v":0},{"$f":"'Crop Information'!B190","v":"Winter Wheat (Oct - Idaho)"},null,{"$f":"IFERROR(VLOOKUP(ROWS($Q$2:Q185),$N$2:$O$763,2,FALSE),\"\")","v":""},null,null,{"$f":"IF(ISNUMBER(SEARCH('2 Crop Water Requirement'!$B$24,'Data Validation Sheet'!U185)),MAX($T$1:T184)+1,0)","v":0},{"$f":"'Crop Information'!B190","v":"Winter Wheat (Oct - Idaho)"},null,{"$f":"IFERROR(VLOOKUP(ROWS($W$2:W185),$T$2:$U$763,2,FALSE),\"\")","v":""},null,null,{"$f":"IF(ISNUMBER(SEARCH('2 Crop Water Requirement'!$B$26,'Data Validation Sheet'!AA185)),MAX($Z$1:Z184)+1,0)","v":0},{"$f":"'Crop Information'!B190","v":"Winter Wheat (Oct - Idaho)"},null,{"$f":"IFERROR(VLOOKUP(ROWS($AC$2:AC185),$Z$2:$AA$763,2,FALSE),\"\")","v":""},null,null,{"$f":"IF(ISNUMBER(SEARCH('2 Crop Water Requirement'!B$28,'Data Validation Sheet'!AG185)),MAX($AF$1:AF184)+1,0)","v":0},{"$f":"'Crop Information'!B190","v":"Winter Wheat (Oct - Idaho)"},null,{"$f":"IFERROR(VLOOKUP(ROWS($AI$2:AI185),$AF$2:$AG$763,2,FALSE),\"\")","v":""},null,null,{"$f":"IF(ISNUMBER(SEARCH('2 Crop Water Requirement'!$B$30,'Data Validation Sheet'!AM185)),MAX($AL$1:AL184)+1,0)","v":0},{"$f":"'Crop Information'!B190","v":"Winter Wheat (Oct - Idaho)"},null,{"$f":"IFERROR(VLOOKUP(ROWS($AO$2:AO185),$AL$2:$AM$763,2,FALSE),\"\")","v":""}]
[null,null,null,null,null,null,null,null,null,null,null,null,null,{"$f":"IF(ISNUMBER(SEARCH('2 Crop Water Requirement'!$B$22,'Data Validation Sheet'!O186)),MAX($N$1:N185)+1,0)","v":0},{"$f":"'Crop Information'!B191","v":"New crop"},null,{"$f":"IFERROR(VLOOKUP(ROWS($Q$2:Q186),$N$2:$O$763,2,FALSE),\"\")","v":""},null,null,{"$f":"IF(ISNUMBER(SEARCH('2 Crop Water Requirement'!$B$24,'Data Validation Sheet'!U186)),MAX($T$1:T185)+1,0)","v":0},{"$f":"'Crop Information'!B191","v":"New crop"},null,{"$f":"IFERROR(VLOOKUP(ROWS($W$2:W186),$T$2:$U$763,2,FALSE),\"\")","v":""},null,null,{"$f":"IF(ISNUMBER(SEARCH('2 Crop Water Requirement'!$B$26,'Data Validation Sheet'!AA186)),MAX($Z$1:Z185)+1,0)","v":0},{"$f":"'Crop Information'!B191","v":"New crop"},null,{"$f":"IFERROR(VLOOKUP(ROWS($AC$2:AC186),$Z$2:$AA$763,2,FALSE),\"\")","v":""},null,null,{"$f":"IF(ISNUMBER(SEARCH('2 Crop Water Requirement'!B$28,'Data Validation Sheet'!AG186)),MAX($AF$1:AF185)+1,0)","v":0},{"$f":"'Crop Information'!B191","v":"New crop"},null,{"$f":"IFERROR(VLOOKUP(ROWS($AI$2:AI186),$AF$2:$AG$763,2,FALSE),\"\")","v":""},null,null,{"$f":"IF(ISNUMBER(SEARCH('2 Crop Water Requirement'!$B$30,'Data Validation Sheet'!AM186)),MAX($AL$1:AL185)+1,0)","v":0},{"$f":"'Crop Information'!B191","v":"New crop"},null,{"$f":"IFERROR(VLOOKUP(ROWS($AO$2:AO186),$AL$2:$AM$763,2,FALSE),\"\")","v":""}]
[null,null,null,null,null,null,null,null,null,null,null,null,null,{"$f":"IF(ISNUMBER(SEARCH('2 Crop Water Requirement'!$B$22,'Data Validation Sheet'!O187)),MAX($N$1:N186)+1,0)","v":0},{"$f":"'Crop Information'!B192","v":"New crop"},null,{"$f":"IFERROR(VLOOKUP(ROWS($Q$2:Q187),$N$2:$O$763,2,FALSE),\"\")","v":""},null,null,{"$f":"IF(ISNUMBER(SEARCH('2 Crop Water Requirement'!$B$24,'Data Validation Sheet'!U187)),MAX($T$1:T186)+1,0)","v":0},{"$f":"'Crop Information'!B192","v":"New crop"},null,{"$f":"IFERROR(VLOOKUP(ROWS($W$2:W187),$T$2:$U$763,2,FALSE),\"\")","v":""},null,null,{"$f":"IF(ISNUMBER(SEARCH('2 Crop Water Requirement'!$B$26,'Data Validation Sheet'!AA187)),MAX($Z$1:Z186)+1,0)","v":0},{"$f":"'Crop Information'!B192","v":"New crop"},null,{"$f":"IFERROR(VLOOKUP(ROWS($AC$2:AC187),$Z$2:$AA$763,2,FALSE),\"\")","v":""},null,null,{"$f":"IF(ISNUMBER(SEARCH('2 Crop Water Requirement'!B$28,'Data Validation Sheet'!AG187)),MAX($AF$1:AF186)+1,0)","v":0},{"$f":"'Crop Information'!B192","v":"New crop"},null,{"$f":"IFERROR(VLOOKUP(ROWS($AI$2:AI187),$AF$2:$AG$763,2,FALSE),\"\")","v":""},null,null,{"$f":"IF(ISNUMBER(SEARCH('2 Crop Water Requirement'!$B$30,'Data Validation Sheet'!AM187)),MAX($AL$1:AL186)+1,0)","v":0},{"$f":"'Crop Information'!B192","v":"New crop"},null,{"$f":"IFERROR(VLOOKUP(ROWS($AO$2:AO187),$AL$2:$AM$763,2,FALSE),\"\")","v":""}]
[null,null,null,null,null,null,null,null,null,null,null,null,null,{"$f":"IF(ISNUMBER(SEARCH('2 Crop Water Requirement'!$B$22,'Data Validation Sheet'!O188)),MAX($N$1:N187)+1,0)","v":0},{"$f":"'Crop Information'!B193","v":"New crop"},null,{"$f":"IFERROR(VLOOKUP(ROWS($Q$2:Q188),$N$2:$O$763,2,FALSE),\"\")","v":""},null,null,{"$f":"IF(ISNUMBER(SEARCH('2 Crop Water Requirement'!$B$24,'Data Validation Sheet'!U188)),MAX($T$1:T187)+1,0)","v":0},{"$f":"'Crop Information'!B193","v":"New crop"},null,{"$f":"IFERROR(VLOOKUP(ROWS($W$2:W188),$T$2:$U$763,2,FALSE),\"\")","v":""},null,null,{"$f":"IF(ISNUMBER(SEARCH('2 Crop Water Requirement'!$B$26,'Data Validation Sheet'!AA188)),MAX($Z$1:Z187)+1,0)","v":0},{"$f":"'Crop Information'!B193","v":"New crop"},null,{"$f":"IFERROR(VLOOKUP(ROWS($AC$2:AC188),$Z$2:$AA$763,2,FALSE),\"\")","v":""},null,null,{"$f":"IF(ISNUMBER(SEARCH('2 Crop Water Requirement'!B$28,'Data Validation Sheet'!AG188)),MAX($AF$1:AF187)+1,0)","v":0},{"$f":"'Crop Information'!B193","v":"New crop"},null,{"$f":"IFERROR(VLOOKUP(ROWS($AI$2:AI188),$AF$2:$AG$763,2,FALSE),\"\")","v":""},null,null,{"$f":"IF(ISNUMBER(SEARCH('2 Crop Water Requirement'!$B$30,'Data Validation Sheet'!AM188)),MAX($AL$1:AL187)+1,0)","v":0},{"$f":"'Crop Information'!B193","v":"New crop"},null,{"$f":"IFERROR(VLOOKUP(ROWS($AO$2:AO188),$AL$2:$AM$763,2,FALSE),\"\")","v":""}]
[null,null,null,null,null,null,null,null,null,null,null,null,null,{"$f":"IF(ISNUMBER(SEARCH('2 Crop Water Requirement'!$B$22,'Data Validation Sheet'!O189)),MAX($N$1:N188)+1,0)","v":0},{"$f":"'Crop Information'!B194","v":"New crop"},null,{"$f":"IFERROR(VLOOKUP(ROWS($Q$2:Q189),$N$2:$O$763,2,FALSE),\"\")","v":""},null,null,{"$f":"IF(ISNUMBER(SEARCH('2 Crop Water Requirement'!$B$24,'Data Validation Sheet'!U189)),MAX($T$1:T188)+1,0)","v":0},{"$f":"'Crop Information'!B194","v":"New crop"},null,{"$f":"IFERROR(VLOOKUP(ROWS($W$2:W189),$T$2:$U$763,2,FALSE),\"\")","v":""},null,null,{"$f":"IF(ISNUMBER(SEARCH('2 Crop Water Requirement'!$B$26,'Data Validation Sheet'!AA189)),MAX($Z$1:Z188)+1,0)","v":0},{"$f":"'Crop Information'!B194","v":"New crop"},null,{"$f":"IFERROR(VLOOKUP(ROWS($AC$2:AC189),$Z$2:$AA$763,2,FALSE),\"\")","v":""},null,null,{"$f":"IF(ISNUMBER(SEARCH('2 Crop Water Requirement'!B$28,'Data Validation Sheet'!AG189)),MAX($AF$1:AF188)+1,0)","v":0},{"$f":"'Crop Information'!B194","v":"New crop"},null,{"$f":"IFERROR(VLOOKUP(ROWS($AI$2:AI189),$AF$2:$AG$763,2,FALSE),\"\")","v":""},null,null,{"$f":"IF(ISNUMBER(SEARCH('2 Crop Water Requirement'!$B$30,'Data Validation Sheet'!AM189)),MAX($AL$1:AL188)+1,0)","v":0},{"$f":"'Crop Information'!B194","v":"New crop"},null,{"$f":"IFERROR(VLOOKUP(ROWS($AO$2:AO189),$AL$2:$AM$763,2,FALSE),\"\")","v":""}]
[null,null,null,null,null,null,null,null,null,null,null,null,null,{"$f":"IF(ISNUMBER(SEARCH('2 Crop Water Requirement'!$B$22,'Data Validation Sheet'!O190)),MAX($N$1:N189)+1,0)","v":0},{"$f":"'Crop Information'!B195","v":"New crop"},null,{"$f":"IFERROR(VLOOKUP(ROWS($Q$2:Q190),$N$2:$O$763,2,FALSE),\"\")","v":""},null,null,{"$f":"IF(ISNUMBER(SEARCH('2 Crop Water Requirement'!$B$24,'Data Validation Sheet'!U190)),MAX($T$1:T189)+1,0)","v":0},{"$f":"'Crop Information'!B195","v":"New crop"},null,{"$f":"IFERROR(VLOOKUP(ROWS($W$2:W190),$T$2:$U$763,2,FALSE),\"\")","v":""},null,null,{"$f":"IF(ISNUMBER(SEARCH('2 Crop Water Requirement'!$B$26,'Data Validation Sheet'!AA190)),MAX($Z$1:Z189)+1,0)","v":0},{"$f":"'Crop Information'!B195","v":"New crop"},null,{"$f":"IFERROR(VLOOKUP(ROWS($AC$2:AC190),$Z$2:$AA$763,2,FALSE),\"\")","v":""},null,null,{"$f":"IF(ISNUMBER(SEARCH('2 Crop Water Requirement'!B$28,'Data Validation Sheet'!AG190)),MAX($AF$1:AF189)+1,0)","v":0},{"$f":"'Crop Information'!B195","v":"New crop"},null,{"$f":"IFERROR(VLOOKUP(ROWS($AI$2:AI190),$AF$2:$AG$763,2,FALSE),\"\")","v":""},null,null,{"$f":"IF(ISNUMBER(SEARCH('2 Crop Water Requirement'!$B$30,'Data Validation Sheet'!AM190)),MAX($AL$1:AL189)+1,0)","v":0},{"$f":"'Crop Information'!B195","v":"New crop"},null,{"$f":"IFERROR(VLOOKUP(ROWS($AO$2:AO190),$AL$2:$AM$763,2,FALSE),\"\")","v":""}]
[null,null,null,null,null,null,null,null,null,null,null,null,null,{"$f":"IF(ISNUMBER(SEARCH('2 Crop Water Requirement'!$B$22,'Data Validation Sheet'!O191)),MAX($N$1:N190)+1,0)","v":0},{"$f":"'Crop Information'!B196","v":"New crop"},null,{"$f":"IFERROR(VLOOKUP(ROWS($Q$2:Q191),$N$2:$O$763,2,FALSE),\"\")","v":""},null,null,{"$f":"IF(ISNUMBER(SEARCH('2 Crop Water Requirement'!$B$24,'Data Validation Sheet'!U191)),MAX($T$1:T190)+1,0)","v":0},{"$f":"'Crop Information'!B196","v":"New crop"},null,{"$f":"IFERROR(VLOOKUP(ROWS($W$2:W191),$T$2:$U$763,2,FALSE),\"\")","v":""},null,null,{"$f":"IF(ISNUMBER(SEARCH('2 Crop Water Requirement'!$B$26,'Data Validation Sheet'!AA191)),MAX($Z$1:Z190)+1,0)","v":0},{"$f":"'Crop Information'!B196","v":"New crop"},null,{"$f":"IFERROR(VLOOKUP(ROWS($AC$2:AC191),$Z$2:$AA$763,2,FALSE),\"\")","v":""},null,null,{"$f":"IF(ISNUMBER(SEARCH('2 Crop Water Requirement'!B$28,'Data Validation Sheet'!AG191)),MAX($AF$1:AF190)+1,0)","v":0},{"$f":"'Crop Information'!B196","v":"New crop"},null,{"$f":"IFERROR(VLOOKUP(ROWS($AI$2:AI191),$AF$2:$AG$763,2,FALSE),\"\")","v":""},null,null,{"$f":"IF(ISNUMBER(SEARCH('2 Crop Water Requirement'!$B$30,'Data Validation Sheet'!AM191)),MAX($AL$1:AL190)+1,0)","v":0},{"$f":"'Crop Information'!B196","v":"New crop"},null,{"$f":"IFERROR(VLOOKUP(ROWS($AO$2:AO191),$AL$2:$AM$763,2,FALSE),\"\")","v":""}]
[null,null,null,null,null,null,null,null,null,null,null,null,null,{"$f":"IF(ISNUMBER(SEARCH('2 Crop Water Requirement'!$B$22,'Data Validation Sheet'!O192)),MAX($N$1:N191)+1,0)","v":0},{"$f":"'Crop Information'!B197","v":"New crop"},null,{"$f":"IFERROR(VLOOKUP(ROWS($Q$2:Q192),$N$2:$O$763,2,FALSE),\"\")","v":""},null,null,{"$f":"IF(ISNUMBER(SEARCH('2 Crop Water Requirement'!$B$24,'Data Validation Sheet'!U192)),MAX($T$1:T191)+1,0)","v":0},{"$f":"'Crop Information'!B197","v":"New crop"},null,{"$f":"IFERROR(VLOOKUP(ROWS($W$2:W192),$T$2:$U$763,2,FALSE),\"\")","v":""},null,null,{"$f":"IF(ISNUMBER(SEARCH('2 Crop Water Requirement'!$B$26,'Data Validation Sheet'!AA192)),MAX($Z$1:Z191)+1,0)","v":0},{"$f":"'Crop Information'!B197","v":"New crop"},null,{"$f":"IFERROR(VLOOKUP(ROWS($AC$2:AC192),$Z$2:$AA$763,2,FALSE),\"\")","v":""},null,null,{"$f":"IF(ISNUMBER(SEARCH('2 Crop Water Requirement'!B$28,'Data Validation Sheet'!AG192)),MAX($AF$1:AF191)+1,0)","v":0},{"$f":"'Crop Information'!B197","v":"New crop"},null,{"$f":"IFERROR(VLOOKUP(ROWS($AI$2:AI192),$AF$2:$AG$763,2,FALSE),\"\")","v":""},null,null,{"$f":"IF(ISNUMBER(SEARCH('2 Crop Water Requirement'!$B$30,'Data Validation Sheet'!AM192)),MAX($AL$1:AL191)+1,0)","v":0},{"$f":"'Crop Information'!B197","v":"New crop"},null,{"$f":"IFERROR(VLOOKUP(ROWS($AO$2:AO192),$AL$2:$AM$763,2,FALSE),\"\")","v":""}]
[null,null,null,null,null,null,null,null,null,null,null,null,null,{"$f":"IF(ISNUMBER(SEARCH('2 Crop Water Requirement'!$B$22,'Data Validation Sheet'!O193)),MAX($N$1:N192)+1,0)","v":0},{"$f":"'Crop Information'!B198","v":"New crop"},null,{"$f":"IFERROR(VLOOKUP(ROWS($Q$2:Q193),$N$2:$O$763,2,FALSE),\"\")","v":""},null,null,{"$f":"IF(ISNUMBER(SEARCH('2 Crop Water Requirement'!$B$24,'Data Validation Sheet'!U193)),MAX($T$1:T192)+1,0)","v":0},{"$f":"'Crop Information'!B198","v":"New crop"},null,{"$f":"IFERROR(VLOOKUP(ROWS($W$2:W193),$T$2:$U$763,2,FALSE),\"\")","v":""},null,null,{"$f":"IF(ISNUMBER(SEARCH('2 Crop Water Requirement'!$B$26,'Data Validation Sheet'!AA193)),MAX($Z$1:Z192)+1,0)","v":0},{"$f":"'Crop Information'!B198","v":"New crop"},null,{"$f":"IFERROR(VLOOKUP(ROWS($AC$2:AC193),$Z$2:$AA$763,2,FALSE),\"\")","v":""},null,null,{"$f":"IF(ISNUMBER(SEARCH('2 Crop Water Requirement'!B$28,'Data Validation Sheet'!AG193)),MAX($AF$1:AF192)+1,0)","v":0},{"$f":"'Crop Information'!B198","v":"New crop"},null,{"$f":"IFERROR(VLOOKUP(ROWS($AI$2:AI193),$AF$2:$AG$763,2,FALSE),\"\")","v":""},null,null,{"$f":"IF(ISNUMBER(SEARCH('2 Crop Water Requirement'!$B$30,'Data Validation Sheet'!AM193)),MAX($AL$1:AL192)+1,0)","v":0},{"$f":"'Crop Information'!B198","v":"New crop"},null,{"$f":"IFERROR(VLOOKUP(ROWS($AO$2:AO193),$AL$2:$AM$763,2,FALSE),\"\")","v":""}]
[null,null,null,null,null,null,null,null,null,null,null,null,null,{"$f":"IF(ISNUMBER(SEARCH('2 Crop Water Requirement'!$B$22,'Data Validation Sheet'!O194)),MAX($N$1:N193)+1,0)","v":0},{"$f":"'Crop Information'!B199","v":"New crop"},null,{"$f":"IFERROR(VLOOKUP(ROWS($Q$2:Q194),$N$2:$O$763,2,FALSE),\"\")","v":""},null,null,{"$f":"IF(ISNUMBER(SEARCH('2 Crop Water Requirement'!$B$24,'Data Validation Sheet'!U194)),MAX($T$1:T193)+1,0)","v":0},{"$f":"'Crop Information'!B199","v":"New crop"},null,{"$f":"IFERROR(VLOOKUP(ROWS($W$2:W194),$T$2:$U$763,2,FALSE),\"\")","v":""},null,null,{"$f":"IF(ISNUMBER(SEARCH('2 Crop Water Requirement'!$B$26,'Data Validation Sheet'!AA194)),MAX($Z$1:Z193)+1,0)","v":0},{"$f":"'Crop Information'!B199","v":"New crop"},null,{"$f":"IFERROR(VLOOKUP(ROWS($AC$2:AC194),$Z$2:$AA$763,2,FALSE),\"\")","v":""},null,null,{"$f":"IF(ISNUMBER(SEARCH('2 Crop Water Requirement'!B$28,'Data Validation Sheet'!AG194)),MAX($AF$1:AF193)+1,0)","v":0},{"$f":"'Crop Information'!B199","v":"New crop"},null,{"$f":"IFERROR(VLOOKUP(ROWS($AI$2:AI194),$AF$2:$AG$763,2,FALSE),\"\")","v":""},null,null,{"$f":"IF(ISNUMBER(SEARCH('2 Crop Water Requirement'!$B$30,'Data Validation Sheet'!AM194)),MAX($AL$1:AL193)+1,0)","v":0},{"$f":"'Crop Information'!B199","v":"New crop"},null,{"$f":"IFERROR(VLOOKUP(ROWS($AO$2:AO194),$AL$2:$AM$763,2,FALSE),\"\")","v":""}]
[null,null,null,null,null,null,null,null,null,null,null,null,null,{"$f":"IF(ISNUMBER(SEARCH('2 Crop Water Requirement'!$B$22,'Data Validation Sheet'!O195)),MAX($N$1:N194)+1,0)","v":0},{"$f":"'Crop Information'!B200","v":"New crop"},null,{"$f":"IFERROR(VLOOKUP(ROWS($Q$2:Q195),$N$2:$O$763,2,FALSE),\"\")","v":""},null,null,{"$f":"IF(ISNUMBER(SEARCH('2 Crop Water Requirement'!$B$24,'Data Validation Sheet'!U195)),MAX($T$1:T194)+1,0)","v":0},{"$f":"'Crop Information'!B200","v":"New crop"},null,{"$f":"IFERROR(VLOOKUP(ROWS($W$2:W195),$T$2:$U$763,2,FALSE),\"\")","v":""},null,null,{"$f":"IF(ISNUMBER(SEARCH('2 Crop Water Requirement'!$B$26,'Data Validation Sheet'!AA195)),MAX($Z$1:Z194)+1,0)","v":0},{"$f":"'Crop Information'!B200","v":"New crop"},null,{"$f":"IFERROR(VLOOKUP(ROWS($AC$2:AC195),$Z$2:$AA$763,2,FALSE),\"\")","v":""},null,null,{"$f":"IF(ISNUMBER(SEARCH('2 Crop Water Requirement'!B$28,'Data Validation Sheet'!AG195)),MAX($AF$1:AF194)+1,0)","v":0},{"$f":"'Crop Information'!B200","v":"New crop"},null,{"$f":"IFERROR(VLOOKUP(ROWS($AI$2:AI195),$AF$2:$AG$763,2,FALSE),\"\")","v":""},null,null,{"$f":"IF(ISNUMBER(SEARCH('2 Crop Water Requirement'!$B$30,'Data Validation Sheet'!AM195)),MAX($AL$1:AL194)+1,0)","v":0},{"$f":"'Crop Information'!B200","v":"New crop"},null,{"$f":"IFERROR(VLOOKUP(ROWS($AO$2:AO195),$AL$2:$AM$763,2,FALSE),\"\")","v":""}]
[null,null,null,null,null,null,null,null,null,null,null,null,null,{"$f":"IF(ISNUMBER(SEARCH('2 Crop Water Requirement'!$B$22,'Data Validation Sheet'!O196)),MAX($N$1:N195)+1,0)","v":0},{"$f":"'Crop Information'!B201","v":"New crop"},null,{"$f":"IFERROR(VLOOKUP(ROWS($Q$2:Q196),$N$2:$O$763,2,FALSE),\"\")","v":""},null,null,{"$f":"IF(ISNUMBER(SEARCH('2 Crop Water Requirement'!$B$24,'Data Validation Sheet'!U196)),MAX($T$1:T195)+1,0)","v":0},{"$f":"'Crop Information'!B201","v":"New crop"},null,{"$f":"IFERROR(VLOOKUP(ROWS($W$2:W196),$T$2:$U$763,2,FALSE),\"\")","v":""},null,null,{"$f":"IF(ISNUMBER(SEARCH('2 Crop Water Requirement'!$B$26,'Data Validation Sheet'!AA196)),MAX($Z$1:Z195)+1,0)","v":0},{"$f":"'Crop Information'!B201","v":"New crop"},null,{"$f":"IFERROR(VLOOKUP(ROWS($AC$2:AC196),$Z$2:$AA$763,2,FALSE),\"\")","v":""},null,null,{"$f":"IF(ISNUMBER(SEARCH('2 Crop Water Requirement'!B$28,'Data Validation Sheet'!AG196)),MAX($AF$1:AF195)+1,0)","v":0},{"$f":"'Crop Information'!B201","v":"New crop"},null,{"$f":"IFERROR(VLOOKUP(ROWS($AI$2:AI196),$AF$2:$AG$763,2,FALSE),\"\")","v":""},null,null,{"$f":"IF(ISNUMBER(SEARCH('2 Crop Water Requirement'!$B$30,'Data Validation Sheet'!AM196)),MAX($AL$1:AL195)+1,0)","v":0},{"$f":"'Crop Information'!B201","v":"New crop"},null,{"$f":"IFERROR(VLOOKUP(ROWS($AO$2:AO196),$AL$2:$AM$763,2,FALSE),\"\")","v":""}]
[null,null,null,null,null,null,null,null,null,null,null,null,null,{"$f":"IF(ISNUMBER(SEARCH('2 Crop Water Requirement'!$B$22,'Data Validation Sheet'!O197)),MAX($N$1:N196)+1,0)","v":0},{"$f":"'Crop Information'!B202","v":"New crop"},null,{"$f":"IFERROR(VLOOKUP(ROWS($Q$2:Q197),$N$2:$O$763,2,FALSE),\"\")","v":""},null,null,{"$f":"IF(ISNUMBER(SEARCH('2 Crop Water Requirement'!$B$24,'Data Validation Sheet'!U197)),MAX($T$1:T196)+1,0)","v":0},{"$f":"'Crop Information'!B202","v":"New crop"},null,{"$f":"IFERROR(VLOOKUP(ROWS($W$2:W197),$T$2:$U$763,2,FALSE),\"\")","v":""},null,null,{"$f":"IF(ISNUMBER(SEARCH('2 Crop Water Requirement'!$B$26,'Data Validation Sheet'!AA197)),MAX($Z$1:Z196)+1,0)","v":0},{"$f":"'Crop Information'!B202","v":"New crop"},null,{"$f":"IFERROR(VLOOKUP(ROWS($AC$2:AC197),$Z$2:$AA$763,2,FALSE),\"\")","v":""},null,null,{"$f":"IF(ISNUMBER(SEARCH('2 Crop Water Requirement'!B$28,'Data Validation Sheet'!AG197)),MAX($AF$1:AF196)+1,0)","v":0},{"$f":"'Crop Information'!B202","v":"New crop"},null,{"$f":"IFERROR(VLOOKUP(ROWS($AI$2:AI197),$AF$2:$AG$763,2,FALSE),\"\")","v":""},null,null,{"$f":"IF(ISNUMBER(SEARCH('2 Crop Water Requirement'!$B$30,'Data Validation Sheet'!AM197)),MAX($AL$1:AL196)+1,0)","v":0},{"$f":"'Crop Information'!B202","v":"New crop"},null,{"$f":"IFERROR(VLOOKUP(ROWS($AO$2:AO197),$AL$2:$AM$763,2,FALSE),\"\")","v":""}]
[null,null,null,null,null,null,null,null,null,null,null,null,null,{"$f":"IF(ISNUMBER(SEARCH('2 Crop Water Requirement'!$B$22,'Data Validation Sheet'!O198)),MAX($N$1:N197)+1,0)","v":0},{"$f":"'Crop Information'!B203","v":"New crop"},null,{"$f":"IFERROR(VLOOKUP(ROWS($Q$2:Q198),$N$2:$O$763,2,FALSE),\"\")","v":""},null,null,{"$f":"IF(ISNUMBER(SEARCH('2 Crop Water Requirement'!$B$24,'Data Validation Sheet'!U198)),MAX($T$1:T197)+1,0)","v":0},{"$f":"'Crop Information'!B203","v":"New crop"},null,{"$f":"IFERROR(VLOOKUP(ROWS($W$2:W198),$T$2:$U$763,2,FALSE),\"\")","v":""},null,null,{"$f":"IF(ISNUMBER(SEARCH('2 Crop Water Requirement'!$B$26,'Data Validation Sheet'!AA198)),MAX($Z$1:Z197)+1,0)","v":0},{"$f":"'Crop Information'!B203","v":"New crop"},null,{"$f":"IFERROR(VLOOKUP(ROWS($AC$2:AC198),$Z$2:$AA$763,2,FALSE),\"\")","v":""},null,null,{"$f":"IF(ISNUMBER(SEARCH('2 Crop Water Requirement'!B$28,'Data Validation Sheet'!AG198)),MAX($AF$1:AF197)+1,0)","v":0},{"$f":"'Crop Information'!B203","v":"New crop"},null,{"$f":"IFERROR(VLOOKUP(ROWS($AI$2:AI198),$AF$2:$AG$763,2,FALSE),\"\")","v":""},null,null,{"$f":"IF(ISNUMBER(SEARCH('2 Crop Water Requirement'!$B$30,'Data Validation Sheet'!AM198)),MAX($AL$1:AL197)+1,0)","v":0},{"$f":"'Crop Information'!B203","v":"New crop"},null,{"$f":"IFERROR(VLOOKUP(ROWS($AO$2:AO198),$AL$2:$AM$763,2,FALSE),\"\")","v":""}]
[null,null,null,null,null,null,null,null,null,null,null,null,null,{"$f":"IF(ISNUMBER(SEARCH('2 Crop Water Requirement'!$B$22,'Data Validation Sheet'!O199)),MAX($N$1:N198)+1,0)","v":0},{"$f":"'Crop Information'!B204","v":"New crop"},null,{"$f":"IFERROR(VLOOKUP(ROWS($Q$2:Q199),$N$2:$O$763,2,FALSE),\"\")","v":""},null,null,{"$f":"IF(ISNUMBER(SEARCH('2 Crop Water Requirement'!$B$24,'Data Validation Sheet'!U199)),MAX($T$1:T198)+1,0)","v":0},{"$f":"'Crop Information'!B204","v":"New crop"},null,{"$f":"IFERROR(VLOOKUP(ROWS($W$2:W199),$T$2:$U$763,2,FALSE),\"\")","v":""},null,null,{"$f":"IF(ISNUMBER(SEARCH('2 Crop Water Requirement'!$B$26,'Data Validation Sheet'!AA199)),MAX($Z$1:Z198)+1,0)","v":0},{"$f":"'Crop Information'!B204","v":"New crop"},null,{"$f":"IFERROR(VLOOKUP(ROWS($AC$2:AC199),$Z$2:$AA$763,2,FALSE),\"\")","v":""},null,null,{"$f":"IF(ISNUMBER(SEARCH('2 Crop Water Requirement'!B$28,'Data Validation Sheet'!AG199)),MAX($AF$1:AF198)+1,0)","v":0},{"$f":"'Crop Information'!B204","v":"New crop"},null,{"$f":"IFERROR(VLOOKUP(ROWS($AI$2:AI199),$AF$2:$AG$763,2,FALSE),\"\")","v":""},null,null,{"$f":"IF(ISNUMBER(SEARCH('2 Crop Water Requirement'!$B$30,'Data Validation Sheet'!AM199)),MAX($AL$1:AL198)+1,0)","v":0},{"$f":"'Crop Information'!B204","v":"New crop"},null,{"$f":"IFERROR(VLOOKUP(ROWS($AO$2:AO199),$AL$2:$AM$763,2,FALSE),\"\")","v":""}]
[null,null,null,null,null,null,null,null,null,null,null,null,null,{"$f":"IF(ISNUMBER(SEARCH('2 Crop Water Requirement'!$B$22,'Data Validation Sheet'!O200)),MAX($N$1:N199)+1,0)","v":0},{"$f":"'Crop Information'!B205","v":"New crop"},null,{"$f":"IFERROR(VLOOKUP(ROWS($Q$2:Q200),$N$2:$O$763,2,FALSE),\"\")","v":""},null,null,{"$f":"IF(ISNUMBER(SEARCH('2 Crop Water Requirement'!$B$24,'Data Validation Sheet'!U200)),MAX($T$1:T199)+1,0)","v":0},{"$f":"'Crop Information'!B205","v":"New crop"},null,{"$f":"IFERROR(VLOOKUP(ROWS($W$2:W200),$T$2:$U$763,2,FALSE),\"\")","v":""},null,null,{"$f":"IF(ISNUMBER(SEARCH('2 Crop Water Requirement'!$B$26,'Data Validation Sheet'!AA200)),MAX($Z$1:Z199)+1,0)","v":0},{"$f":"'Crop Information'!B205","v":"New crop"},null,{"$f":"IFERROR(VLOOKUP(ROWS($AC$2:AC200),$Z$2:$AA$763,2,FALSE),\"\")","v":""},null,null,{"$f":"IF(ISNUMBER(SEARCH('2 Crop Water Requirement'!B$28,'Data Validation Sheet'!AG200)),MAX($AF$1:AF199)+1,0)","v":0},{"$f":"'Crop Information'!B205","v":"New crop"},null,{"$f":"IFERROR(VLOOKUP(ROWS($AI$2:AI200),$AF$2:$AG$763,2,FALSE),\"\")","v":""},null,null,{"$f":"IF(ISNUMBER(SEARCH('2 Crop Water Requirement'!$B$30,'Data Validation Sheet'!AM200)),MAX($AL$1:AL199)+1,0)","v":0},{"$f":"'Crop Information'!B205","v":"New crop"},null,{"$f":"IFERROR(VLOOKUP(ROWS($AO$2:AO200),$AL$2:$AM$763,2,FALSE),\"\")","v":""}]
[null,null,null,null,null,null,null,null,null,null,null,null,null,{"$f":"IF(ISNUMBER(SEARCH('2 Crop Water Requirement'!$B$22,'Data Validation Sheet'!O201)),MAX($N$1:N200)+1,0)","v":0},{"$f":"'Crop Information'!B206","v":"New crop"},null,{"$f":"IFERROR(VLOOKUP(ROWS($Q$2:Q201),$N$2:$O$763,2,FALSE),\"\")","v":""},null,null,{"$f":"IF(ISNUMBER(SEARCH('2 Crop Water Requirement'!$B$24,'Data Validation Sheet'!U201)),MAX($T$1:T200)+1,0)","v":0},{"$f":"'Crop Information'!B206","v":"New crop"},null,{"$f":"IFERROR(VLOOKUP(ROWS($W$2:W201),$T$2:$U$763,2,FALSE),\"\")","v":""},null,null,{"$f":"IF(ISNUMBER(SEARCH('2 Crop Water Requirement'!$B$26,'Data Validation Sheet'!AA201)),MAX($Z$1:Z200)+1,0)","v":0},{"$f":"'Crop Information'!B206","v":"New crop"},null,{"$f":"IFERROR(VLOOKUP(ROWS($AC$2:AC201),$Z$2:$AA$763,2,FALSE),\"\")","v":""},null,null,{"$f":"IF(ISNUMBER(SEARCH('2 Crop Water Requirement'!B$28,'Data Validation Sheet'!AG201)),MAX($AF$1:AF200)+1,0)","v":0},{"$f":"'Crop Information'!B206","v":"New crop"},null,{"$f":"IFERROR(VLOOKUP(ROWS($AI$2:AI201),$AF$2:$AG$763,2,FALSE),\"\")","v":""},null,null,{"$f":"IF(ISNUMBER(SEARCH('2 Crop Water Requirement'!$B$30,'Data Validation Sheet'!AM201)),MAX($AL$1:AL200)+1,0)","v":0},{"$f":"'Crop Information'!B206","v":"New crop"},null,{"$f":"IFERROR(VLOOKUP(ROWS($AO$2:AO201),$AL$2:$AM$763,2,FALSE),\"\")","v":""}]
[null,null,null,null,null,null,null,null,null,null,null,null,null,{"$f":"IF(ISNUMBER(SEARCH('2 Crop Water Requirement'!$B$22,'Data Validation Sheet'!O202)),MAX($N$1:N201)+1,0)","v":0},{"$f":"'Crop Information'!B207","v":"New crop"},null,{"$f":"IFERROR(VLOOKUP(ROWS($Q$2:Q202),$N$2:$O$763,2,FALSE),\"\")","v":""},null,null,{"$f":"IF(ISNUMBER(SEARCH('2 Crop Water Requirement'!$B$24,'Data Validation Sheet'!U202)),MAX($T$1:T201)+1,0)","v":0},{"$f":"'Crop Information'!B207","v":"New crop"},null,{"$f":"IFERROR(VLOOKUP(ROWS($W$2:W202),$T$2:$U$763,2,FALSE),\"\")","v":""},null,null,{"$f":"IF(ISNUMBER(SEARCH('2 Crop Water Requirement'!$B$26,'Data Validation Sheet'!AA202)),MAX($Z$1:Z201)+1,0)","v":0},{"$f":"'Crop Information'!B207","v":"New crop"},null,{"$f":"IFERROR(VLOOKUP(ROWS($AC$2:AC202),$Z$2:$AA$763,2,FALSE),\"\")","v":""},null,null,{"$f":"IF(ISNUMBER(SEARCH('2 Crop Water Requirement'!B$28,'Data Validation Sheet'!AG202)),MAX($AF$1:AF201)+1,0)","v":0},{"$f":"'Crop Information'!B207","v":"New crop"},null,{"$f":"IFERROR(VLOOKUP(ROWS($AI$2:AI202),$AF$2:$AG$763,2,FALSE),\"\")","v":""},null,null,{"$f":"IF(ISNUMBER(SEARCH('2 Crop Water Requirement'!$B$30,'Data Validation Sheet'!AM202)),MAX($AL$1:AL201)+1,0)","v":0},{"$f":"'Crop Information'!B207","v":"New crop"},null,{"$f":"IFERROR(VLOOKUP(ROWS($AO$2:AO202),$AL$2:$AM$763,2,FALSE),\"\")","v":""}]
[null,null,null,null,null,null,null,null,null,null,null,null,null,{"$f":"IF(ISNUMBER(SEARCH('2 Crop Water Requirement'!$B$22,'Data Validation Sheet'!O203)),MAX($N$1:N202)+1,0)","v":0},{"$f":"'Crop Information'!B208","v":"New crop"},null,{"$f":"IFERROR(VLOOKUP(ROWS($Q$2:Q203),$N$2:$O$763,2,FALSE),\"\")","v":""},null,null,{"$f":"IF(ISNUMBER(SEARCH('2 Crop Water Requirement'!$B$24,'Data Validation Sheet'!U203)),MAX($T$1:T202)+1,0)","v":0},{"$f":"'Crop Information'!B208","v":"New crop"},null,{"$f":"IFERROR(VLOOKUP(ROWS($W$2:W203),$T$2:$U$763,2,FALSE),\"\")","v":""},null,null,{"$f":"IF(ISNUMBER(SEARCH('2 Crop Water Requirement'!$B$26,'Data Validation Sheet'!AA203)),MAX($Z$1:Z202)+1,0)","v":0},{"$f":"'Crop Information'!B208","v":"New crop"},null,{"$f":"IFERROR(VLOOKUP(ROWS($AC$2:AC203),$Z$2:$AA$763,2,FALSE),\"\")","v":""},null,null,{"$f":"IF(ISNUMBER(SEARCH('2 Crop Water Requirement'!B$28,'Data Validation Sheet'!AG203)),MAX($AF$1:AF202)+1,0)","v":0},{"$f":"'Crop Information'!B208","v":"New crop"},null,{"$f":"IFERROR(VLOOKUP(ROWS($AI$2:AI203),$AF$2:$AG$763,2,FALSE),\"\")","v":""},null,null,{"$f":"IF(ISNUMBER(SEARCH('2 Crop Water Requirement'!$B$30,'Data Validation Sheet'!AM203)),MAX($AL$1:AL202)+1,0)","v":0},{"$f":"'Crop Information'!B208","v":"New crop"},null,{"$f":"IFERROR(VLOOKUP(ROWS($AO$2:AO203),$AL$2:$AM$763,2,FALSE),\"\")","v":""}]
[null,null,null,null,null,null,null,null,null,null,null,null,null,{"$f":"IF(ISNUMBER(SEARCH('2 Crop Water Requirement'!$B$22,'Data Validation Sheet'!O204)),MAX($N$1:N203)+1,0)","v":0},{"$f":"'Crop Information'!B209","v":"New crop"},null,{"$f":"IFERROR(VLOOKUP(ROWS($Q$2:Q204),$N$2:$O$763,2,FALSE),\"\")","v":""},null,null,{"$f":"IF(ISNUMBER(SEARCH('2 Crop Water Requirement'!$B$24,'Data Validation Sheet'!U204)),MAX($T$1:T203)+1,0)","v":0},{"$f":"'Crop Information'!B209","v":"New crop"},null,{"$f":"IFERROR(VLOOKUP(ROWS($W$2:W204),$T$2:$U$763,2,FALSE),\"\")","v":""},null,null,{"$f":"IF(ISNUMBER(SEARCH('2 Crop Water Requirement'!$B$26,'Data Validation Sheet'!AA204)),MAX($Z$1:Z203)+1,0)","v":0},{"$f":"'Crop Information'!B209","v":"New crop"},null,{"$f":"IFERROR(VLOOKUP(ROWS($AC$2:AC204),$Z$2:$AA$763,2,FALSE),\"\")","v":""},null,null,{"$f":"IF(ISNUMBER(SEARCH('2 Crop Water Requirement'!B$28,'Data Validation Sheet'!AG204)),MAX($AF$1:AF203)+1,0)","v":0},{"$f":"'Crop Information'!B209","v":"New crop"},null,{"$f":"IFERROR(VLOOKUP(ROWS($AI$2:AI204),$AF$2:$AG$763,2,FALSE),\"\")","v":""},null,null,{"$f":"IF(ISNUMBER(SEARCH('2 Crop Water Requirement'!$B$30,'Data Validation Sheet'!AM204)),MAX($AL$1:AL203)+1,0)","v":0},{"$f":"'Crop Information'!B209","v":"New crop"},null,{"$f":"IFERROR(VLOOKUP(ROWS($AO$2:AO204),$AL$2:$AM$763,2,FALSE),\"\")","v":""}]
[null,null,null,null,null,null,null,null,null,null,null,null,null,{"$f":"IF(ISNUMBER(SEARCH('2 Crop Water Requirement'!$B$22,'Data Validation Sheet'!O205)),MAX($N$1:N204)+1,0)","v":0},{"$f":"'Crop Information'!B210","v":"New crop"},null,{"$f":"IFERROR(VLOOKUP(ROWS($Q$2:Q205),$N$2:$O$763,2,FALSE),\"\")","v":""},null,null,{"$f":"IF(ISNUMBER(SEARCH('2 Crop Water Requirement'!$B$24,'Data Validation Sheet'!U205)),MAX($T$1:T204)+1,0)","v":0},{"$f":"'Crop Information'!B210","v":"New crop"},null,{"$f":"IFERROR(VLOOKUP(ROWS($W$2:W205),$T$2:$U$763,2,FALSE),\"\")","v":""},null,null,{"$f":"IF(ISNUMBER(SEARCH('2 Crop Water Requirement'!$B$26,'Data Validation Sheet'!AA205)),MAX($Z$1:Z204)+1,0)","v":0},{"$f":"'Crop Information'!B210","v":"New crop"},null,{"$f":"IFERROR(VLOOKUP(ROWS($AC$2:AC205),$Z$2:$AA$763,2,FALSE),\"\")","v":""},null,null,{"$f":"IF(ISNUMBER(SEARCH('2 Crop Water Requirement'!B$28,'Data Validation Sheet'!AG205)),MAX($AF$1:AF204)+1,0)","v":0},{"$f":"'Crop Information'!B210","v":"New crop"},null,{"$f":"IFERROR(VLOOKUP(ROWS($AI$2:AI205),$AF$2:$AG$763,2,FALSE),\"\")","v":""},null,null,{"$f":"IF(ISNUMBER(SEARCH('2 Crop Water Requirement'!$B$30,'Data Validation Sheet'!AM205)),MAX($AL$1:AL204)+1,0)","v":0},{"$f":"'Crop Information'!B210","v":"New crop"},null,{"$f":"IFERROR(VLOOKUP(ROWS($AO$2:AO205),$AL$2:$AM$763,2,FALSE),\"\")","v":""}]
[null,null,null,null,null,null,null,null,null,null,null,null,null,{"$f":"IF(ISNUMBER(SEARCH('2 Crop Water Requirement'!$B$22,'Data Validation Sheet'!O206)),MAX($N$1:N205)+1,0)","v":0},{"$f":"'Crop Information'!B211","v":"New crop"},null,{"$f":"IFERROR(VLOOKUP(ROWS($Q$2:Q206),$N$2:$O$763,2,FALSE),\"\")","v":""},null,null,{"$f":"IF(ISNUMBER(SEARCH('2 Crop Water Requirement'!$B$24,'Data Validation Sheet'!U206)),MAX($T$1:T205)+1,0)","v":0},{"$f":"'Crop Information'!B211","v":"New crop"},null,{"$f":"IFERROR(VLOOKUP(ROWS($W$2:W206),$T$2:$U$763,2,FALSE),\"\")","v":""},null,null,{"$f":"IF(ISNUMBER(SEARCH('2 Crop Water Requirement'!$B$26,'Data Validation Sheet'!AA206)),MAX($Z$1:Z205)+1,0)","v":0},{"$f":"'Crop Information'!B211","v":"New crop"},null,{"$f":"IFERROR(VLOOKUP(ROWS($AC$2:AC206),$Z$2:$AA$763,2,FALSE),\"\")","v":""},null,null,{"$f":"IF(ISNUMBER(SEARCH('2 Crop Water Requirement'!B$28,'Data Validation Sheet'!AG206)),MAX($AF$1:AF205)+1,0)","v":0},{"$f":"'Crop Information'!B211","v":"New crop"},null,{"$f":"IFERROR(VLOOKUP(ROWS($AI$2:AI206),$AF$2:$AG$763,2,FALSE),\"\")","v":""},null,null,{"$f":"IF(ISNUMBER(SEARCH('2 Crop Water Requirement'!$B$30,'Data Validation Sheet'!AM206)),MAX($AL$1:AL205)+1,0)","v":0},{"$f":"'Crop Information'!B211","v":"New crop"},null,{"$f":"IFERROR(VLOOKUP(ROWS($AO$2:AO206),$AL$2:$AM$763,2,FALSE),\"\")","v":""}]
[null,null,null,null,null,null,null,null,null,null,null,null,null,{"$f":"IF(ISNUMBER(SEARCH('2 Crop Water Requirement'!$B$22,'Data Validation Sheet'!O207)),MAX($N$1:N206)+1,0)","v":0},{"$f":"'Crop Information'!B212","v":"New crop"},null,{"$f":"IFERROR(VLOOKUP(ROWS($Q$2:Q207),$N$2:$O$763,2,FALSE),\"\")","v":""},null,null,{"$f":"IF(ISNUMBER(SEARCH('2 Crop Water Requirement'!$B$24,'Data Validation Sheet'!U207)),MAX($T$1:T206)+1,0)","v":0},{"$f":"'Crop Information'!B212","v":"New crop"},null,{"$f":"IFERROR(VLOOKUP(ROWS($W$2:W207),$T$2:$U$763,2,FALSE),\"\")","v":""},null,null,{"$f":"IF(ISNUMBER(SEARCH('2 Crop Water Requirement'!$B$26,'Data Validation Sheet'!AA207)),MAX($Z$1:Z206)+1,0)","v":0},{"$f":"'Crop Information'!B212","v":"New crop"},null,{"$f":"IFERROR(VLOOKUP(ROWS($AC$2:AC207),$Z$2:$AA$763,2,FALSE),\"\")","v":""},null,null,{"$f":"IF(ISNUMBER(SEARCH('2 Crop Water Requirement'!B$28,'Data Validation Sheet'!AG207)),MAX($AF$1:AF206)+1,0)","v":0},{"$f":"'Crop Information'!B212","v":"New crop"},null,{"$f":"IFERROR(VLOOKUP(ROWS($AI$2:AI207),$AF$2:$AG$763,2,FALSE),\"\")","v":""},null,null,{"$f":"IF(ISNUMBER(SEARCH('2 Crop Water Requirement'!$B$30,'Data Validation Sheet'!AM207)),MAX($AL$1:AL206)+1,0)","v":0},{"$f":"'Crop Information'!B212","v":"New crop"},null,{"$f":"IFERROR(VLOOKUP(ROWS($AO$2:AO207),$AL$2:$AM$763,2,FALSE),\"\")","v":""}]
[null,null,null,null,null,null,null,null,null,null,null,null,null,{"$f":"IF(ISNUMBER(SEARCH('2 Crop Water Requirement'!$B$22,'Data Validation Sheet'!O208)),MAX($N$1:N207)+1,0)","v":0},{"$f":"'Crop Information'!B213","v":"New crop"},null,{"$f":"IFERROR(VLOOKUP(ROWS($Q$2:Q208),$N$2:$O$763,2,FALSE),\"\")","v":""},null,null,{"$f":"IF(ISNUMBER(SEARCH('2 Crop Water Requirement'!$B$24,'Data Validation Sheet'!U208)),MAX($T$1:T207)+1,0)","v":0},{"$f":"'Crop Information'!B213","v":"New crop"},null,{"$f":"IFERROR(VLOOKUP(ROWS($W$2:W208),$T$2:$U$763,2,FALSE),\"\")","v":""},null,null,{"$f":"IF(ISNUMBER(SEARCH('2 Crop Water Requirement'!$B$26,'Data Validation Sheet'!AA208)),MAX($Z$1:Z207)+1,0)","v":0},{"$f":"'Crop Information'!B213","v":"New crop"},null,{"$f":"IFERROR(VLOOKUP(ROWS($AC$2:AC208),$Z$2:$AA$763,2,FALSE),\"\")","v":""},null,null,{"$f":"IF(ISNUMBER(SEARCH('2 Crop Water Requirement'!B$28,'Data Validation Sheet'!AG208)),MAX($AF$1:AF207)+1,0)","v":0},{"$f":"'Crop Information'!B213","v":"New crop"},null,{"$f":"IFERROR(VLOOKUP(ROWS($AI$2:AI208),$AF$2:$AG$763,2,FALSE),\"\")","v":""},null,null,{"$f":"IF(ISNUMBER(SEARCH('2 Crop Water Requirement'!$B$30,'Data Validation Sheet'!AM208)),MAX($AL$1:AL207)+1,0)","v":0},{"$f":"'Crop Information'!B213","v":"New crop"},null,{"$f":"IFERROR(VLOOKUP(ROWS($AO$2:AO208),$AL$2:$AM$763,2,FALSE),\"\")","v":""}]
[null,null,null,null,null,null,null,null,null,null,null,null,null,{"$f":"IF(ISNUMBER(SEARCH('2 Crop Water Requirement'!$B$22,'Data Validation Sheet'!O209)),MAX($N$1:N208)+1,0)","v":0},{"$f":"'Crop Information'!B214","v":"New crop"},null,{"$f":"IFERROR(VLOOKUP(ROWS($Q$2:Q209),$N$2:$O$763,2,FALSE),\"\")","v":""},null,null,{"$f":"IF(ISNUMBER(SEARCH('2 Crop Water Requirement'!$B$24,'Data Validation Sheet'!U209)),MAX($T$1:T208)+1,0)","v":0},{"$f":"'Crop Information'!B214","v":"New crop"},null,{"$f":"IFERROR(VLOOKUP(ROWS($W$2:W209),$T$2:$U$763,2,FALSE),\"\")","v":""},null,null,{"$f":"IF(ISNUMBER(SEARCH('2 Crop Water Requirement'!$B$26,'Data Validation Sheet'!AA209)),MAX($Z$1:Z208)+1,0)","v":0},{"$f":"'Crop Information'!B214","v":"New crop"},null,{"$f":"IFERROR(VLOOKUP(ROWS($AC$2:AC209),$Z$2:$AA$763,2,FALSE),\"\")","v":""},null,null,{"$f":"IF(ISNUMBER(SEARCH('2 Crop Water Requirement'!B$28,'Data Validation Sheet'!AG209)),MAX($AF$1:AF208)+1,0)","v":0},{"$f":"'Crop Information'!B214","v":"New crop"},null,{"$f":"IFERROR(VLOOKUP(ROWS($AI$2:AI209),$AF$2:$AG$763,2,FALSE),\"\")","v":""},null,null,{"$f":"IF(ISNUMBER(SEARCH('2 Crop Water Requirement'!$B$30,'Data Validation Sheet'!AM209)),MAX($AL$1:AL208)+1,0)","v":0},{"$f":"'Crop Information'!B214","v":"New crop"},null,{"$f":"IFERROR(VLOOKUP(ROWS($AO$2:AO209),$AL$2:$AM$763,2,FALSE),\"\")","v":""}]
[null,null,null,null,null,null,null,null,null,null,null,null,null,{"$f":"IF(ISNUMBER(SEARCH('2 Crop Water Requirement'!$B$22,'Data Validation Sheet'!O210)),MAX($N$1:N209)+1,0)","v":0},{"$f":"'Crop Information'!B215","v":"New crop"},null,{"$f":"IFERROR(VLOOKUP(ROWS($Q$2:Q210),$N$2:$O$763,2,FALSE),\"\")","v":""},null,null,{"$f":"IF(ISNUMBER(SEARCH('2 Crop Water Requirement'!$B$24,'Data Validation Sheet'!U210)),MAX($T$1:T209)+1,0)","v":0},{"$f":"'Crop Information'!B215","v":"New crop"},null,{"$f":"IFERROR(VLOOKUP(ROWS($W$2:W210),$T$2:$U$763,2,FALSE),\"\")","v":""},null,null,{"$f":"IF(ISNUMBER(SEARCH('2 Crop Water Requirement'!$B$26,'Data Validation Sheet'!AA210)),MAX($Z$1:Z209)+1,0)","v":0},{"$f":"'Crop Information'!B215","v":"New crop"},null,{"$f":"IFERROR(VLOOKUP(ROWS($AC$2:AC210),$Z$2:$AA$763,2,FALSE),\"\")","v":""},null,null,{"$f":"IF(ISNUMBER(SEARCH('2 Crop Water Requirement'!B$28,'Data Validation Sheet'!AG210)),MAX($AF$1:AF209)+1,0)","v":0},{"$f":"'Crop Information'!B215","v":"New crop"},null,{"$f":"IFERROR(VLOOKUP(ROWS($AI$2:AI210),$AF$2:$AG$763,2,FALSE),\"\")","v":""},null,null,{"$f":"IF(ISNUMBER(SEARCH('2 Crop Water Requirement'!$B$30,'Data Validation Sheet'!AM210)),MAX($AL$1:AL209)+1,0)","v":0},{"$f":"'Crop Information'!B215","v":"New crop"},null,{"$f":"IFERROR(VLOOKUP(ROWS($AO$2:AO210),$AL$2:$AM$763,2,FALSE),\"\")","v":""}]
[null,null,null,null,null,null,null,null,null,null,null,null,null,{"$f":"IF(ISNUMBER(SEARCH('2 Crop Water Requirement'!$B$22,'Data Validation Sheet'!O211)),MAX($N$1:N210)+1,0)","v":0},{"$f":"'Crop Information'!B216","v":"New crop"},null,{"$f":"IFERROR(VLOOKUP(ROWS($Q$2:Q211),$N$2:$O$763,2,FALSE),\"\")","v":""},null,null,{"$f":"IF(ISNUMBER(SEARCH('2 Crop Water Requirement'!$B$24,'Data Validation Sheet'!U211)),MAX($T$1:T210)+1,0)","v":0},{"$f":"'Crop Information'!B216","v":"New crop"},null,{"$f":"IFERROR(VLOOKUP(ROWS($W$2:W211),$T$2:$U$763,2,FALSE),\"\")","v":""},null,null,{"$f":"IF(ISNUMBER(SEARCH('2 Crop Water Requirement'!$B$26,'Data Validation Sheet'!AA211)),MAX($Z$1:Z210)+1,0)","v":0},{"$f":"'Crop Information'!B216","v":"New crop"},null,{"$f":"IFERROR(VLOOKUP(ROWS($AC$2:AC211),$Z$2:$AA$763,2,FALSE),\"\")","v":""},null,null,{"$f":"IF(ISNUMBER(SEARCH('2 Crop Water Requirement'!B$28,'Data Validation Sheet'!AG211)),MAX($AF$1:AF210)+1,0)","v":0},{"$f":"'Crop Information'!B216","v":"New crop"},null,{"$f":"IFERROR(VLOOKUP(ROWS($AI$2:AI211),$AF$2:$AG$763,2,FALSE),\"\")","v":""},null,null,{"$f":"IF(ISNUMBER(SEARCH('2 Crop Water Requirement'!$B$30,'Data Validation Sheet'!AM211)),MAX($AL$1:AL210)+1,0)","v":0},{"$f":"'Crop Information'!B216","v":"New crop"},null,{"$f":"IFERROR(VLOOKUP(ROWS($AO$2:AO211),$AL$2:$AM$763,2,FALSE),\"\")","v":""}]